Workbook

Sheet TH_CN
A1: BẢNG TỔNG HỢP CÔNG NỢ NĂM 2026
B2: TỔNG CÔNG NỢ | C2: =SUM(C$5:C$201) -> 7495788 | D2: =SUM(D$5:D$201) -> 5417991 | E2: =SUM(E$5:E$201) -> 11698530 | F2: =SUM(F$5:F$201) -> 11113798 | G2: =SUM(G$5:G$201) -> 27734010 | H2: =SUM(H$5:H$201) -> 51671761 | I2: =SUM(I$5:I$201) -> 79969868 | J2: =SUM(J$5:J$201) -> 99829184 | ... N2: =SUM(N$5:N$201) -> 22543027
A4: NHÓM KHÁCH HÀNG | B4: TÊN NHÓM KHÁCH HÀNG | C4: 46053 | D4: =EOMONTH(C4,1) -> 46081 | E4: =EOMONTH(D4,1) -> 46112 | F4: =EOMONTH(E4,1) -> 46142 | G4: =EOMONTH(F4,1) -> 46173 | H4: =EOMONTH(G4,1) -> 46203 | I4: =EOMONTH(H4,1) -> 46234 | J4: =EOMONTH(I4,1) -> 46265 | K4: =EOMONTH(J4,1) -> 46295 | ... N4: =EOMONTH(M4,1) -> 46387
C5: =SUMIFS('Báo cáo'!$O:$O,'Báo cáo'!$AD:$AD,$A5,'Báo cáo'!$Z:$Z,"<="&C$4)+SUMIFS('Báo cáo'!$P:$P,'Báo cáo'!$AD:$AD,$A5,'Báo cáo'!$Z:$Z,"<="&C$4)-SUMIFS('Báo cáo'!$Q:$Q,'Báo cáo'!$AD:$AD,$A5,'Báo cáo'!$AA:$AA,"<="&C$4) -> 0 | D5: =SUMIFS('Báo cáo'!$O:$O,'Báo cáo'!$AD:$AD,$A5,'Báo cáo'!$Z:$Z,"<="&D$4)+SUMIFS('Báo cáo'!$P:$P,'Báo cáo'!$AD:$AD,$A5,'Báo cáo'!$Z:$Z,"<="&D$4)-SUMIFS('Báo cáo'!$Q:$Q,'Báo cáo'!$AD:$AD,$A5,'Báo cáo'!$AA:$AA,"<="&D$4) -> 0 | E5: =SUMIFS('Báo cáo'!$O:$O,'Báo cáo'!$AD:$AD,$A5,'Báo cáo'!$Z:$Z,"<="&E$4)+SUMIFS('Báo cáo'!$P:$P,'Báo cáo'!$AD:$AD,$A5,'Báo cáo'!$Z:$Z,"<="&E$4)-SUMIFS('Báo cáo'!$Q:$Q,'Báo cáo'!$AD:$AD,$A5,'Báo cáo'!$AA:$AA,"<="&E$4) -> 0 | F5: =SUMIFS('Báo cáo'!$O:$O,'Báo cáo'!$AD:$AD,$A5,'Báo cáo'!$Z:$Z,"<="&F$4)+SUMIFS('Báo cáo'!$P:$P,'Báo cáo'!$AD:$AD,$A5,'Báo cáo'!$Z:$Z,"<="&F$4)-SUMIFS('Báo cáo'!$Q:$Q,'Báo cáo'!$AD:$AD,$A5,'Báo cáo'!$AA:$AA,"<="&F$4) -> 0 | G5: =SUMIFS('Báo cáo'!$O:$O,'Báo cáo'!$AD:$AD,$A5,'Báo cáo'!$Z:$Z,"<="&G$4)+SUMIFS('Báo cáo'!$P:$P,'Báo cáo'!$AD:$AD,$A5,'Báo cáo'!$Z:$Z,"<="&G$4)-SUMIFS('Báo cáo'!$Q:$Q,'Báo cáo'!$AD:$AD,$A5,'Báo cáo'!$AA:$AA,"<="&G$4) -> 0 | H5: =SUMIFS('Báo cáo'!$O:$O,'Báo cáo'!$AD:$AD,$A5,'Báo cáo'!$Z:$Z,"<="&H$4)+SUMIFS('Báo cáo'!$P:$P,'Báo cáo'!$AD:$AD,$A5,'Báo cáo'!$Z:$Z,"<="&H$4)-SUMIFS('Báo cáo'!$Q:$Q,'Báo cáo'!$AD:$AD,$A5,'Báo cáo'!$AA:$AA,"<="&H$4) -> 0 | I5: =SUMIFS('Báo cáo'!$O:$O,'Báo cáo'!$AD:$AD,$A5,'Báo cáo'!$Z:$Z,"<="&I$4)+SUMIFS('Báo cáo'!$P:$P,'Báo cáo'!$AD:$AD,$A5,'Báo cáo'!$Z:$Z,"<="&I$4)-SUMIFS('Báo cáo'!$Q:$Q,'Báo cáo'!$AD:$AD,$A5,'Báo cáo'!$AA:$AA,"<="&I$4) -> 0 | J5: =SUMIFS('Báo cáo'!$O:$O,'Báo cáo'!$AD:$AD,$A5,'Báo cáo'!$Z:$Z,"<="&J$4)+SUMIFS('Báo cáo'!$P:$P,'Báo cáo'!$AD:$AD,$A5,'Báo cáo'!$Z:$Z,"<="&J$4)-SUMIFS('Báo cáo'!$Q:$Q,'Báo cáo'!$AD:$AD,$A5,'Báo cáo'!$AA:$AA,"<="&J$4) -> 0 | ... N5: =SUMIFS('Báo cáo'!$O:$O,'Báo cáo'!$AD:$AD,$A5,'Báo cáo'!$Z:$Z,"<="&N$4)+SUMIFS('Báo cáo'!$P:$P,'Báo cáo'!$AD:$AD,$A5,'Báo cáo'!$Z:$Z,"<="&N$4)-SUMIFS('Báo cáo'!$Q:$Q,'Báo cáo'!$AD:$AD,$A5,'Báo cáo'!$AA:$AA,"<="&N$4) -> 0
A6: SIBA MIỀN BẮC | B6: CHI NHÁNH CÔNG TY CỔ PHẦN SIBA FOOD VIỆT NAM TẠI HÀ NỘI | C6: =SUMIFS('Báo cáo'!$O:$O,'Báo cáo'!$AD:$AD,$A6,'Báo cáo'!$Z:$Z,"<="&C$4)+SUMIFS('Báo cáo'!$P:$P,'Báo cáo'!$AD:$AD,$A6,'Báo cáo'!$Z:$Z,"<="&C$4)-SUMIFS('Báo cáo'!$Q:$Q,'Báo cáo'!$AD:$AD,$A6,'Báo cáo'!$AA:$AA,"<="&C$4) -> 7495788 | D6: =SUMIFS('Báo cáo'!$O:$O,'Báo cáo'!$AD:$AD,$A6,'Báo cáo'!$Z:$Z,"<="&D$4)+SUMIFS('Báo cáo'!$P:$P,'Báo cáo'!$AD:$AD,$A6,'Báo cáo'!$Z:$Z,"<="&D$4)-SUMIFS('Báo cáo'!$Q:$Q,'Báo cáo'!$AD:$AD,$A6,'Báo cáo'!$AA:$AA,"<="&D$4) -> 5417991 | E6: =SUMIFS('Báo cáo'!$O:$O,'Báo cáo'!$AD:$AD,$A6,'Báo cáo'!$Z:$Z,"<="&E$4)+SUMIFS('Báo cáo'!$P:$P,'Báo cáo'!$AD:$AD,$A6,'Báo cáo'!$Z:$Z,"<="&E$4)-SUMIFS('Báo cáo'!$Q:$Q,'Báo cáo'!$AD:$AD,$A6,'Báo cáo'!$AA:$AA,"<="&E$4) -> 11698530 | F6: =SUMIFS('Báo cáo'!$O:$O,'Báo cáo'!$AD:$AD,$A6,'Báo cáo'!$Z:$Z,"<="&F$4)+SUMIFS('Báo cáo'!$P:$P,'Báo cáo'!$AD:$AD,$A6,'Báo cáo'!$Z:$Z,"<="&F$4)-SUMIFS('Báo cáo'!$Q:$Q,'Báo cáo'!$AD:$AD,$A6,'Báo cáo'!$AA:$AA,"<="&F$4) -> 11113798 | G6: =SUMIFS('Báo cáo'!$O:$O,'Báo cáo'!$AD:$AD,$A6,'Báo cáo'!$Z:$Z,"<="&G$4)+SUMIFS('Báo cáo'!$P:$P,'Báo cáo'!$AD:$AD,$A6,'Báo cáo'!$Z:$Z,"<="&G$4)-SUMIFS('Báo cáo'!$Q:$Q,'Báo cáo'!$AD:$AD,$A6,'Báo cáo'!$AA:$AA,"<="&G$4) -> 16384136 | H6: =SUMIFS('Báo cáo'!$O:$O,'Báo cáo'!$AD:$AD,$A6,'Báo cáo'!$Z:$Z,"<="&H$4)+SUMIFS('Báo cáo'!$P:$P,'Báo cáo'!$AD:$AD,$A6,'Báo cáo'!$Z:$Z,"<="&H$4)-SUMIFS('Báo cáo'!$Q:$Q,'Báo cáo'!$AD:$AD,$A6,'Báo cáo'!$AA:$AA,"<="&H$4) -> 33489791 | I6: =SUMIFS('Báo cáo'!$O:$O,'Báo cáo'!$AD:$AD,$A6,'Báo cáo'!$Z:$Z,"<="&I$4)+SUMIFS('Báo cáo'!$P:$P,'Báo cáo'!$AD:$AD,$A6,'Báo cáo'!$Z:$Z,"<="&I$4)-SUMIFS('Báo cáo'!$Q:$Q,'Báo cáo'!$AD:$AD,$A6,'Báo cáo'!$AA:$AA,"<="&I$4) -> 50561613 | J6: =SUMIFS('Báo cáo'!$O:$O,'Báo cáo'!$AD:$AD,$A6,'Báo cáo'!$Z:$Z,"<="&J$4)+SUMIFS('Báo cáo'!$P:$P,'Báo cáo'!$AD:$AD,$A6,'Báo cáo'!$Z:$Z,"<="&J$4)-SUMIFS('Báo cáo'!$Q:$Q,'Báo cáo'!$AD:$AD,$A6,'Báo cáo'!$AA:$AA,"<="&J$4) -> 60817187 | ... N6: =SUMIFS('Báo cáo'!$O:$O,'Báo cáo'!$AD:$AD,$A6,'Báo cáo'!$Z:$Z,"<="&N$4)+SUMIFS('Báo cáo'!$P:$P,'Báo cáo'!$AD:$AD,$A6,'Báo cáo'!$Z:$Z,"<="&N$4)-SUMIFS('Báo cáo'!$Q:$Q,'Báo cáo'!$AD:$AD,$A6,'Báo cáo'!$AA:$AA,"<="&N$4) -> 12939285
A7: SIBA MIỀN NAM | B7: CÔNG TY CỔ PHẦN SIBA FOOD VIỆT NAM | C7: =SUMIFS('Báo cáo'!$O:$O,'Báo cáo'!$AD:$AD,$A7,'Báo cáo'!$Z:$Z,"<="&C$4)+SUMIFS('Báo cáo'!$P:$P,'Báo cáo'!$AD:$AD,$A7,'Báo cáo'!$Z:$Z,"<="&C$4)-SUMIFS('Báo cáo'!$Q:$Q,'Báo cáo'!$AD:$AD,$A7,'Báo cáo'!$AA:$AA,"<="&C$4) -> 0 | D7: =SUMIFS('Báo cáo'!$O:$O,'Báo cáo'!$AD:$AD,$A7,'Báo cáo'!$Z:$Z,"<="&D$4)+SUMIFS('Báo cáo'!$P:$P,'Báo cáo'!$AD:$AD,$A7,'Báo cáo'!$Z:$Z,"<="&D$4)-SUMIFS('Báo cáo'!$Q:$Q,'Báo cáo'!$AD:$AD,$A7,'Báo cáo'!$AA:$AA,"<="&D$4) -> 0 | E7: =SUMIFS('Báo cáo'!$O:$O,'Báo cáo'!$AD:$AD,$A7,'Báo cáo'!$Z:$Z,"<="&E$4)+SUMIFS('Báo cáo'!$P:$P,'Báo cáo'!$AD:$AD,$A7,'Báo cáo'!$Z:$Z,"<="&E$4)-SUMIFS('Báo cáo'!$Q:$Q,'Báo cáo'!$AD:$AD,$A7,'Báo cáo'!$AA:$AA,"<="&E$4) -> 0 | F7: =SUMIFS('Báo cáo'!$O:$O,'Báo cáo'!$AD:$AD,$A7,'Báo cáo'!$Z:$Z,"<="&F$4)+SUMIFS('Báo cáo'!$P:$P,'Báo cáo'!$AD:$AD,$A7,'Báo cáo'!$Z:$Z,"<="&F$4)-SUMIFS('Báo cáo'!$Q:$Q,'Báo cáo'!$AD:$AD,$A7,'Báo cáo'!$AA:$AA,"<="&F$4) -> 0 | G7: =SUMIFS('Báo cáo'!$O:$O,'Báo cáo'!$AD:$AD,$A7,'Báo cáo'!$Z:$Z,"<="&G$4)+SUMIFS('Báo cáo'!$P:$P,'Báo cáo'!$AD:$AD,$A7,'Báo cáo'!$Z:$Z,"<="&G$4)-SUMIFS('Báo cáo'!$Q:$Q,'Báo cáo'!$AD:$AD,$A7,'Báo cáo'!$AA:$AA,"<="&G$4) -> 11349874 | H7: =SUMIFS('Báo cáo'!$O:$O,'Báo cáo'!$AD:$AD,$A7,'Báo cáo'!$Z:$Z,"<="&H$4)+SUMIFS('Báo cáo'!$P:$P,'Báo cáo'!$AD:$AD,$A7,'Báo cáo'!$Z:$Z,"<="&H$4)-SUMIFS('Báo cáo'!$Q:$Q,'Báo cáo'!$AD:$AD,$A7,'Báo cáo'!$AA:$AA,"<="&H$4) -> 18181970 | I7: =SUMIFS('Báo cáo'!$O:$O,'Báo cáo'!$AD:$AD,$A7,'Báo cáo'!$Z:$Z,"<="&I$4)+SUMIFS('Báo cáo'!$P:$P,'Báo cáo'!$AD:$AD,$A7,'Báo cáo'!$Z:$Z,"<="&I$4)-SUMIFS('Báo cáo'!$Q:$Q,'Báo cáo'!$AD:$AD,$A7,'Báo cáo'!$AA:$AA,"<="&I$4) -> 29408255 | J7: =SUMIFS('Báo cáo'!$O:$O,'Báo cáo'!$AD:$AD,$A7,'Báo cáo'!$Z:$Z,"<="&J$4)+SUMIFS('Báo cáo'!$P:$P,'Báo cáo'!$AD:$AD,$A7,'Báo cáo'!$Z:$Z,"<="&J$4)-SUMIFS('Báo cáo'!$Q:$Q,'Báo cáo'!$AD:$AD,$A7,'Báo cáo'!$AA:$AA,"<="&J$4) -> 39011997 | ... N7: =SUMIFS('Báo cáo'!$O:$O,'Báo cáo'!$AD:$AD,$A7,'Báo cáo'!$Z:$Z,"<="&N$4)+SUMIFS('Báo cáo'!$P:$P,'Báo cáo'!$AD:$AD,$A7,'Báo cáo'!$Z:$Z,"<="&N$4)-SUMIFS('Báo cáo'!$Q:$Q,'Báo cáo'!$AD:$AD,$A7,'Báo cáo'!$AA:$AA,"<="&N$4) -> 9603742
C8: =SUMIFS('Báo cáo'!$O:$O,'Báo cáo'!$AD:$AD,$A8,'Báo cáo'!$Z:$Z,"<="&C$4)+SUMIFS('Báo cáo'!$P:$P,'Báo cáo'!$AD:$AD,$A8,'Báo cáo'!$Z:$Z,"<="&C$4)-SUMIFS('Báo cáo'!$Q:$Q,'Báo cáo'!$AD:$AD,$A8,'Báo cáo'!$AA:$AA,"<="&C$4) -> 0 | D8: =SUMIFS('Báo cáo'!$O:$O,'Báo cáo'!$AD:$AD,$A8,'Báo cáo'!$Z:$Z,"<="&D$4)+SUMIFS('Báo cáo'!$P:$P,'Báo cáo'!$AD:$AD,$A8,'Báo cáo'!$Z:$Z,"<="&D$4)-SUMIFS('Báo cáo'!$Q:$Q,'Báo cáo'!$AD:$AD,$A8,'Báo cáo'!$AA:$AA,"<="&D$4) -> 0 | E8: =SUMIFS('Báo cáo'!$O:$O,'Báo cáo'!$AD:$AD,$A8,'Báo cáo'!$Z:$Z,"<="&E$4)+SUMIFS('Báo cáo'!$P:$P,'Báo cáo'!$AD:$AD,$A8,'Báo cáo'!$Z:$Z,"<="&E$4)-SUMIFS('Báo cáo'!$Q:$Q,'Báo cáo'!$AD:$AD,$A8,'Báo cáo'!$AA:$AA,"<="&E$4) -> 0 | F8: =SUMIFS('Báo cáo'!$O:$O,'Báo cáo'!$AD:$AD,$A8,'Báo cáo'!$Z:$Z,"<="&F$4)+SUMIFS('Báo cáo'!$P:$P,'Báo cáo'!$AD:$AD,$A8,'Báo cáo'!$Z:$Z,"<="&F$4)-SUMIFS('Báo cáo'!$Q:$Q,'Báo cáo'!$AD:$AD,$A8,'Báo cáo'!$AA:$AA,"<="&F$4) -> 0 | G8: =SUMIFS('Báo cáo'!$O:$O,'Báo cáo'!$AD:$AD,$A8,'Báo cáo'!$Z:$Z,"<="&G$4)+SUMIFS('Báo cáo'!$P:$P,'Báo cáo'!$AD:$AD,$A8,'Báo cáo'!$Z:$Z,"<="&G$4)-SUMIFS('Báo cáo'!$Q:$Q,'Báo cáo'!$AD:$AD,$A8,'Báo cáo'!$AA:$AA,"<="&G$4) -> 0 | H8: =SUMIFS('Báo cáo'!$O:$O,'Báo cáo'!$AD:$AD,$A8,'Báo cáo'!$Z:$Z,"<="&H$4)+SUMIFS('Báo cáo'!$P:$P,'Báo cáo'!$AD:$AD,$A8,'Báo cáo'!$Z:$Z,"<="&H$4)-SUMIFS('Báo cáo'!$Q:$Q,'Báo cáo'!$AD:$AD,$A8,'Báo cáo'!$AA:$AA,"<="&H$4) -> 0 | I8: =SUMIFS('Báo cáo'!$O:$O,'Báo cáo'!$AD:$AD,$A8,'Báo cáo'!$Z:$Z,"<="&I$4)+SUMIFS('Báo cáo'!$P:$P,'Báo cáo'!$AD:$AD,$A8,'Báo cáo'!$Z:$Z,"<="&I$4)-SUMIFS('Báo cáo'!$Q:$Q,'Báo cáo'!$AD:$AD,$A8,'Báo cáo'!$AA:$AA,"<="&I$4) -> 0 | J8: =SUMIFS('Báo cáo'!$O:$O,'Báo cáo'!$AD:$AD,$A8,'Báo cáo'!$Z:$Z,"<="&J$4)+SUMIFS('Báo cáo'!$P:$P,'Báo cáo'!$AD:$AD,$A8,'Báo cáo'!$Z:$Z,"<="&J$4)-SUMIFS('Báo cáo'!$Q:$Q,'Báo cáo'!$AD:$AD,$A8,'Báo cáo'!$AA:$AA,"<="&J$4) -> 0 | ... N8: =SUMIFS('Báo cáo'!$O:$O,'Báo cáo'!$AD:$AD,$A8,'Báo cáo'!$Z:$Z,"<="&N$4)+SUMIFS('Báo cáo'!$P:$P,'Báo cáo'!$AD:$AD,$A8,'Báo cáo'!$Z:$Z,"<="&N$4)-SUMIFS('Báo cáo'!$Q:$Q,'Báo cáo'!$AD:$AD,$A8,'Báo cáo'!$AA:$AA,"<="&N$4) -> 0
C9: =SUMIFS('Báo cáo'!$O:$O,'Báo cáo'!$AD:$AD,$A9,'Báo cáo'!$Z:$Z,"<="&C$4)+SUMIFS('Báo cáo'!$P:$P,'Báo cáo'!$AD:$AD,$A9,'Báo cáo'!$Z:$Z,"<="&C$4)-SUMIFS('Báo cáo'!$Q:$Q,'Báo cáo'!$AD:$AD,$A9,'Báo cáo'!$AA:$AA,"<="&C$4) -> 0 | D9: =SUMIFS('Báo cáo'!$O:$O,'Báo cáo'!$AD:$AD,$A9,'Báo cáo'!$Z:$Z,"<="&D$4)+SUMIFS('Báo cáo'!$P:$P,'Báo cáo'!$AD:$AD,$A9,'Báo cáo'!$Z:$Z,"<="&D$4)-SUMIFS('Báo cáo'!$Q:$Q,'Báo cáo'!$AD:$AD,$A9,'Báo cáo'!$AA:$AA,"<="&D$4) -> 0 | E9: =SUMIFS('Báo cáo'!$O:$O,'Báo cáo'!$AD:$AD,$A9,'Báo cáo'!$Z:$Z,"<="&E$4)+SUMIFS('Báo cáo'!$P:$P,'Báo cáo'!$AD:$AD,$A9,'Báo cáo'!$Z:$Z,"<="&E$4)-SUMIFS('Báo cáo'!$Q:$Q,'Báo cáo'!$AD:$AD,$A9,'Báo cáo'!$AA:$AA,"<="&E$4) -> 0 | F9: =SUMIFS('Báo cáo'!$O:$O,'Báo cáo'!$AD:$AD,$A9,'Báo cáo'!$Z:$Z,"<="&F$4)+SUMIFS('Báo cáo'!$P:$P,'Báo cáo'!$AD:$AD,$A9,'Báo cáo'!$Z:$Z,"<="&F$4)-SUMIFS('Báo cáo'!$Q:$Q,'Báo cáo'!$AD:$AD,$A9,'Báo cáo'!$AA:$AA,"<="&F$4) -> 0 | G9: =SUMIFS('Báo cáo'!$O:$O,'Báo cáo'!$AD:$AD,$A9,'Báo cáo'!$Z:$Z,"<="&G$4)+SUMIFS('Báo cáo'!$P:$P,'Báo cáo'!$AD:$AD,$A9,'Báo cáo'!$Z:$Z,"<="&G$4)-SUMIFS('Báo cáo'!$Q:$Q,'Báo cáo'!$AD:$AD,$A9,'Báo cáo'!$AA:$AA,"<="&G$4) -> 0 | H9: =SUMIFS('Báo cáo'!$O:$O,'Báo cáo'!$AD:$AD,$A9,'Báo cáo'!$Z:$Z,"<="&H$4)+SUMIFS('Báo cáo'!$P:$P,'Báo cáo'!$AD:$AD,$A9,'Báo cáo'!$Z:$Z,"<="&H$4)-SUMIFS('Báo cáo'!$Q:$Q,'Báo cáo'!$AD:$AD,$A9,'Báo cáo'!$AA:$AA,"<="&H$4) -> 0 | I9: =SUMIFS('Báo cáo'!$O:$O,'Báo cáo'!$AD:$AD,$A9,'Báo cáo'!$Z:$Z,"<="&I$4)+SUMIFS('Báo cáo'!$P:$P,'Báo cáo'!$AD:$AD,$A9,'Báo cáo'!$Z:$Z,"<="&I$4)-SUMIFS('Báo cáo'!$Q:$Q,'Báo cáo'!$AD:$AD,$A9,'Báo cáo'!$AA:$AA,"<="&I$4) -> 0 | J9: =SUMIFS('Báo cáo'!$O:$O,'Báo cáo'!$AD:$AD,$A9,'Báo cáo'!$Z:$Z,"<="&J$4)+SUMIFS('Báo cáo'!$P:$P,'Báo cáo'!$AD:$AD,$A9,'Báo cáo'!$Z:$Z,"<="&J$4)-SUMIFS('Báo cáo'!$Q:$Q,'Báo cáo'!$AD:$AD,$A9,'Báo cáo'!$AA:$AA,"<="&J$4) -> 0 | ... N9: =SUMIFS('Báo cáo'!$O:$O,'Báo cáo'!$AD:$AD,$A9,'Báo cáo'!$Z:$Z,"<="&N$4)+SUMIFS('Báo cáo'!$P:$P,'Báo cáo'!$AD:$AD,$A9,'Báo cáo'!$Z:$Z,"<="&N$4)-SUMIFS('Báo cáo'!$Q:$Q,'Báo cáo'!$AD:$AD,$A9,'Báo cáo'!$AA:$AA,"<="&N$4) -> 0
C10: =SUMIFS('Báo cáo'!$O:$O,'Báo cáo'!$AD:$AD,$A10,'Báo cáo'!$Z:$Z,"<="&C$4)+SUMIFS('Báo cáo'!$P:$P,'Báo cáo'!$AD:$AD,$A10,'Báo cáo'!$Z:$Z,"<="&C$4)-SUMIFS('Báo cáo'!$Q:$Q,'Báo cáo'!$AD:$AD,$A10,'Báo cáo'!$AA:$AA,"<="&C$4) -> 0 | D10: =SUMIFS('Báo cáo'!$O:$O,'Báo cáo'!$AD:$AD,$A10,'Báo cáo'!$Z:$Z,"<="&D$4)+SUMIFS('Báo cáo'!$P:$P,'Báo cáo'!$AD:$AD,$A10,'Báo cáo'!$Z:$Z,"<="&D$4)-SUMIFS('Báo cáo'!$Q:$Q,'Báo cáo'!$AD:$AD,$A10,'Báo cáo'!$AA:$AA,"<="&D$4) -> 0 | E10: =SUMIFS('Báo cáo'!$O:$O,'Báo cáo'!$AD:$AD,$A10,'Báo cáo'!$Z:$Z,"<="&E$4)+SUMIFS('Báo cáo'!$P:$P,'Báo cáo'!$AD:$AD,$A10,'Báo cáo'!$Z:$Z,"<="&E$4)-SUMIFS('Báo cáo'!$Q:$Q,'Báo cáo'!$AD:$AD,$A10,'Báo cáo'!$AA:$AA,"<="&E$4) -> 0 | F10: =SUMIFS('Báo cáo'!$O:$O,'Báo cáo'!$AD:$AD,$A10,'Báo cáo'!$Z:$Z,"<="&F$4)+SUMIFS('Báo cáo'!$P:$P,'Báo cáo'!$AD:$AD,$A10,'Báo cáo'!$Z:$Z,"<="&F$4)-SUMIFS('Báo cáo'!$Q:$Q,'Báo cáo'!$AD:$AD,$A10,'Báo cáo'!$AA:$AA,"<="&F$4) -> 0 | G10: =SUMIFS('Báo cáo'!$O:$O,'Báo cáo'!$AD:$AD,$A10,'Báo cáo'!$Z:$Z,"<="&G$4)+SUMIFS('Báo cáo'!$P:$P,'Báo cáo'!$AD:$AD,$A10,'Báo cáo'!$Z:$Z,"<="&G$4)-SUMIFS('Báo cáo'!$Q:$Q,'Báo cáo'!$AD:$AD,$A10,'Báo cáo'!$AA:$AA,"<="&G$4) -> 0 | H10: =SUMIFS('Báo cáo'!$O:$O,'Báo cáo'!$AD:$AD,$A10,'Báo cáo'!$Z:$Z,"<="&H$4)+SUMIFS('Báo cáo'!$P:$P,'Báo cáo'!$AD:$AD,$A10,'Báo cáo'!$Z:$Z,"<="&H$4)-SUMIFS('Báo cáo'!$Q:$Q,'Báo cáo'!$AD:$AD,$A10,'Báo cáo'!$AA:$AA,"<="&H$4) -> 0 | I10: =SUMIFS('Báo cáo'!$O:$O,'Báo cáo'!$AD:$AD,$A10,'Báo cáo'!$Z:$Z,"<="&I$4)+SUMIFS('Báo cáo'!$P:$P,'Báo cáo'!$AD:$AD,$A10,'Báo cáo'!$Z:$Z,"<="&I$4)-SUMIFS('Báo cáo'!$Q:$Q,'Báo cáo'!$AD:$AD,$A10,'Báo cáo'!$AA:$AA,"<="&I$4) -> 0 | J10: =SUMIFS('Báo cáo'!$O:$O,'Báo cáo'!$AD:$AD,$A10,'Báo cáo'!$Z:$Z,"<="&J$4)+SUMIFS('Báo cáo'!$P:$P,'Báo cáo'!$AD:$AD,$A10,'Báo cáo'!$Z:$Z,"<="&J$4)-SUMIFS('Báo cáo'!$Q:$Q,'Báo cáo'!$AD:$AD,$A10,'Báo cáo'!$AA:$AA,"<="&J$4) -> 0 | ... N10: =SUMIFS('Báo cáo'!$O:$O,'Báo cáo'!$AD:$AD,$A10,'Báo cáo'!$Z:$Z,"<="&N$4)+SUMIFS('Báo cáo'!$P:$P,'Báo cáo'!$AD:$AD,$A10,'Báo cáo'!$Z:$Z,"<="&N$4)-SUMIFS('Báo cáo'!$Q:$Q,'Báo cáo'!$AD:$AD,$A10,'Báo cáo'!$AA:$AA,"<="&N$4) -> 0
C11: =SUMIFS('Báo cáo'!$O:$O,'Báo cáo'!$AD:$AD,$A11,'Báo cáo'!$Z:$Z,"<="&C$4)+SUMIFS('Báo cáo'!$P:$P,'Báo cáo'!$AD:$AD,$A11,'Báo cáo'!$Z:$Z,"<="&C$4)-SUMIFS('Báo cáo'!$Q:$Q,'Báo cáo'!$AD:$AD,$A11,'Báo cáo'!$AA:$AA,"<="&C$4) -> 0 | D11: =SUMIFS('Báo cáo'!$O:$O,'Báo cáo'!$AD:$AD,$A11,'Báo cáo'!$Z:$Z,"<="&D$4)+SUMIFS('Báo cáo'!$P:$P,'Báo cáo'!$AD:$AD,$A11,'Báo cáo'!$Z:$Z,"<="&D$4)-SUMIFS('Báo cáo'!$Q:$Q,'Báo cáo'!$AD:$AD,$A11,'Báo cáo'!$AA:$AA,"<="&D$4) -> 0 | E11: =SUMIFS('Báo cáo'!$O:$O,'Báo cáo'!$AD:$AD,$A11,'Báo cáo'!$Z:$Z,"<="&E$4)+SUMIFS('Báo cáo'!$P:$P,'Báo cáo'!$AD:$AD,$A11,'Báo cáo'!$Z:$Z,"<="&E$4)-SUMIFS('Báo cáo'!$Q:$Q,'Báo cáo'!$AD:$AD,$A11,'Báo cáo'!$AA:$AA,"<="&E$4) -> 0 | F11: =SUMIFS('Báo cáo'!$O:$O,'Báo cáo'!$AD:$AD,$A11,'Báo cáo'!$Z:$Z,"<="&F$4)+SUMIFS('Báo cáo'!$P:$P,'Báo cáo'!$AD:$AD,$A11,'Báo cáo'!$Z:$Z,"<="&F$4)-SUMIFS('Báo cáo'!$Q:$Q,'Báo cáo'!$AD:$AD,$A11,'Báo cáo'!$AA:$AA,"<="&F$4) -> 0 | G11: =SUMIFS('Báo cáo'!$O:$O,'Báo cáo'!$AD:$AD,$A11,'Báo cáo'!$Z:$Z,"<="&G$4)+SUMIFS('Báo cáo'!$P:$P,'Báo cáo'!$AD:$AD,$A11,'Báo cáo'!$Z:$Z,"<="&G$4)-SUMIFS('Báo cáo'!$Q:$Q,'Báo cáo'!$AD:$AD,$A11,'Báo cáo'!$AA:$AA,"<="&G$4) -> 0 | H11: =SUMIFS('Báo cáo'!$O:$O,'Báo cáo'!$AD:$AD,$A11,'Báo cáo'!$Z:$Z,"<="&H$4)+SUMIFS('Báo cáo'!$P:$P,'Báo cáo'!$AD:$AD,$A11,'Báo cáo'!$Z:$Z,"<="&H$4)-SUMIFS('Báo cáo'!$Q:$Q,'Báo cáo'!$AD:$AD,$A11,'Báo cáo'!$AA:$AA,"<="&H$4) -> 0 | I11: =SUMIFS('Báo cáo'!$O:$O,'Báo cáo'!$AD:$AD,$A11,'Báo cáo'!$Z:$Z,"<="&I$4)+SUMIFS('Báo cáo'!$P:$P,'Báo cáo'!$AD:$AD,$A11,'Báo cáo'!$Z:$Z,"<="&I$4)-SUMIFS('Báo cáo'!$Q:$Q,'Báo cáo'!$AD:$AD,$A11,'Báo cáo'!$AA:$AA,"<="&I$4) -> 0 | J11: =SUMIFS('Báo cáo'!$O:$O,'Báo cáo'!$AD:$AD,$A11,'Báo cáo'!$Z:$Z,"<="&J$4)+SUMIFS('Báo cáo'!$P:$P,'Báo cáo'!$AD:$AD,$A11,'Báo cáo'!$Z:$Z,"<="&J$4)-SUMIFS('Báo cáo'!$Q:$Q,'Báo cáo'!$AD:$AD,$A11,'Báo cáo'!$AA:$AA,"<="&J$4) -> 0 | ... N11: =SUMIFS('Báo cáo'!$O:$O,'Báo cáo'!$AD:$AD,$A11,'Báo cáo'!$Z:$Z,"<="&N$4)+SUMIFS('Báo cáo'!$P:$P,'Báo cáo'!$AD:$AD,$A11,'Báo cáo'!$Z:$Z,"<="&N$4)-SUMIFS('Báo cáo'!$Q:$Q,'Báo cáo'!$AD:$AD,$A11,'Báo cáo'!$AA:$AA,"<="&N$4) -> 0
C12: =SUMIFS('Báo cáo'!$O:$O,'Báo cáo'!$AD:$AD,$A12,'Báo cáo'!$Z:$Z,"<="&C$4)+SUMIFS('Báo cáo'!$P:$P,'Báo cáo'!$AD:$AD,$A12,'Báo cáo'!$Z:$Z,"<="&C$4)-SUMIFS('Báo cáo'!$Q:$Q,'Báo cáo'!$AD:$AD,$A12,'Báo cáo'!$AA:$AA,"<="&C$4) -> 0 | D12: =SUMIFS('Báo cáo'!$O:$O,'Báo cáo'!$AD:$AD,$A12,'Báo cáo'!$Z:$Z,"<="&D$4)+SUMIFS('Báo cáo'!$P:$P,'Báo cáo'!$AD:$AD,$A12,'Báo cáo'!$Z:$Z,"<="&D$4)-SUMIFS('Báo cáo'!$Q:$Q,'Báo cáo'!$AD:$AD,$A12,'Báo cáo'!$AA:$AA,"<="&D$4) -> 0 | E12: =SUMIFS('Báo cáo'!$O:$O,'Báo cáo'!$AD:$AD,$A12,'Báo cáo'!$Z:$Z,"<="&E$4)+SUMIFS('Báo cáo'!$P:$P,'Báo cáo'!$AD:$AD,$A12,'Báo cáo'!$Z:$Z,"<="&E$4)-SUMIFS('Báo cáo'!$Q:$Q,'Báo cáo'!$AD:$AD,$A12,'Báo cáo'!$AA:$AA,"<="&E$4) -> 0 | F12: =SUMIFS('Báo cáo'!$O:$O,'Báo cáo'!$AD:$AD,$A12,'Báo cáo'!$Z:$Z,"<="&F$4)+SUMIFS('Báo cáo'!$P:$P,'Báo cáo'!$AD:$AD,$A12,'Báo cáo'!$Z:$Z,"<="&F$4)-SUMIFS('Báo cáo'!$Q:$Q,'Báo cáo'!$AD:$AD,$A12,'Báo cáo'!$AA:$AA,"<="&F$4) -> 0 | G12: =SUMIFS('Báo cáo'!$O:$O,'Báo cáo'!$AD:$AD,$A12,'Báo cáo'!$Z:$Z,"<="&G$4)+SUMIFS('Báo cáo'!$P:$P,'Báo cáo'!$AD:$AD,$A12,'Báo cáo'!$Z:$Z,"<="&G$4)-SUMIFS('Báo cáo'!$Q:$Q,'Báo cáo'!$AD:$AD,$A12,'Báo cáo'!$AA:$AA,"<="&G$4) -> 0 | H12: =SUMIFS('Báo cáo'!$O:$O,'Báo cáo'!$AD:$AD,$A12,'Báo cáo'!$Z:$Z,"<="&H$4)+SUMIFS('Báo cáo'!$P:$P,'Báo cáo'!$AD:$AD,$A12,'Báo cáo'!$Z:$Z,"<="&H$4)-SUMIFS('Báo cáo'!$Q:$Q,'Báo cáo'!$AD:$AD,$A12,'Báo cáo'!$AA:$AA,"<="&H$4) -> 0 | I12: =SUMIFS('Báo cáo'!$O:$O,'Báo cáo'!$AD:$AD,$A12,'Báo cáo'!$Z:$Z,"<="&I$4)+SUMIFS('Báo cáo'!$P:$P,'Báo cáo'!$AD:$AD,$A12,'Báo cáo'!$Z:$Z,"<="&I$4)-SUMIFS('Báo cáo'!$Q:$Q,'Báo cáo'!$AD:$AD,$A12,'Báo cáo'!$AA:$AA,"<="&I$4) -> 0 | J12: =SUMIFS('Báo cáo'!$O:$O,'Báo cáo'!$AD:$AD,$A12,'Báo cáo'!$Z:$Z,"<="&J$4)+SUMIFS('Báo cáo'!$P:$P,'Báo cáo'!$AD:$AD,$A12,'Báo cáo'!$Z:$Z,"<="&J$4)-SUMIFS('Báo cáo'!$Q:$Q,'Báo cáo'!$AD:$AD,$A12,'Báo cáo'!$AA:$AA,"<="&J$4) -> 0 | ... N12: =SUMIFS('Báo cáo'!$O:$O,'Báo cáo'!$AD:$AD,$A12,'Báo cáo'!$Z:$Z,"<="&N$4)+SUMIFS('Báo cáo'!$P:$P,'Báo cáo'!$AD:$AD,$A12,'Báo cáo'!$Z:$Z,"<="&N$4)-SUMIFS('Báo cáo'!$Q:$Q,'Báo cáo'!$AD:$AD,$A12,'Báo cáo'!$AA:$AA,"<="&N$4) -> 0
C13: =SUMIFS('Báo cáo'!$O:$O,'Báo cáo'!$AD:$AD,$A13,'Báo cáo'!$Z:$Z,"<="&C$4)+SUMIFS('Báo cáo'!$P:$P,'Báo cáo'!$AD:$AD,$A13,'Báo cáo'!$Z:$Z,"<="&C$4)-SUMIFS('Báo cáo'!$Q:$Q,'Báo cáo'!$AD:$AD,$A13,'Báo cáo'!$AA:$AA,"<="&C$4) -> 0 | D13: =SUMIFS('Báo cáo'!$O:$O,'Báo cáo'!$AD:$AD,$A13,'Báo cáo'!$Z:$Z,"<="&D$4)+SUMIFS('Báo cáo'!$P:$P,'Báo cáo'!$AD:$AD,$A13,'Báo cáo'!$Z:$Z,"<="&D$4)-SUMIFS('Báo cáo'!$Q:$Q,'Báo cáo'!$AD:$AD,$A13,'Báo cáo'!$AA:$AA,"<="&D$4) -> 0 | E13: =SUMIFS('Báo cáo'!$O:$O,'Báo cáo'!$AD:$AD,$A13,'Báo cáo'!$Z:$Z,"<="&E$4)+SUMIFS('Báo cáo'!$P:$P,'Báo cáo'!$AD:$AD,$A13,'Báo cáo'!$Z:$Z,"<="&E$4)-SUMIFS('Báo cáo'!$Q:$Q,'Báo cáo'!$AD:$AD,$A13,'Báo cáo'!$AA:$AA,"<="&E$4) -> 0 | F13: =SUMIFS('Báo cáo'!$O:$O,'Báo cáo'!$AD:$AD,$A13,'Báo cáo'!$Z:$Z,"<="&F$4)+SUMIFS('Báo cáo'!$P:$P,'Báo cáo'!$AD:$AD,$A13,'Báo cáo'!$Z:$Z,"<="&F$4)-SUMIFS('Báo cáo'!$Q:$Q,'Báo cáo'!$AD:$AD,$A13,'Báo cáo'!$AA:$AA,"<="&F$4) -> 0 | G13: =SUMIFS('Báo cáo'!$O:$O,'Báo cáo'!$AD:$AD,$A13,'Báo cáo'!$Z:$Z,"<="&G$4)+SUMIFS('Báo cáo'!$P:$P,'Báo cáo'!$AD:$AD,$A13,'Báo cáo'!$Z:$Z,"<="&G$4)-SUMIFS('Báo cáo'!$Q:$Q,'Báo cáo'!$AD:$AD,$A13,'Báo cáo'!$AA:$AA,"<="&G$4) -> 0 | H13: =SUMIFS('Báo cáo'!$O:$O,'Báo cáo'!$AD:$AD,$A13,'Báo cáo'!$Z:$Z,"<="&H$4)+SUMIFS('Báo cáo'!$P:$P,'Báo cáo'!$AD:$AD,$A13,'Báo cáo'!$Z:$Z,"<="&H$4)-SUMIFS('Báo cáo'!$Q:$Q,'Báo cáo'!$AD:$AD,$A13,'Báo cáo'!$AA:$AA,"<="&H$4) -> 0 | I13: =SUMIFS('Báo cáo'!$O:$O,'Báo cáo'!$AD:$AD,$A13,'Báo cáo'!$Z:$Z,"<="&I$4)+SUMIFS('Báo cáo'!$P:$P,'Báo cáo'!$AD:$AD,$A13,'Báo cáo'!$Z:$Z,"<="&I$4)-SUMIFS('Báo cáo'!$Q:$Q,'Báo cáo'!$AD:$AD,$A13,'Báo cáo'!$AA:$AA,"<="&I$4) -> 0 | J13: =SUMIFS('Báo cáo'!$O:$O,'Báo cáo'!$AD:$AD,$A13,'Báo cáo'!$Z:$Z,"<="&J$4)+SUMIFS('Báo cáo'!$P:$P,'Báo cáo'!$AD:$AD,$A13,'Báo cáo'!$Z:$Z,"<="&J$4)-SUMIFS('Báo cáo'!$Q:$Q,'Báo cáo'!$AD:$AD,$A13,'Báo cáo'!$AA:$AA,"<="&J$4) -> 0 | ... N13: =SUMIFS('Báo cáo'!$O:$O,'Báo cáo'!$AD:$AD,$A13,'Báo cáo'!$Z:$Z,"<="&N$4)+SUMIFS('Báo cáo'!$P:$P,'Báo cáo'!$AD:$AD,$A13,'Báo cáo'!$Z:$Z,"<="&N$4)-SUMIFS('Báo cáo'!$Q:$Q,'Báo cáo'!$AD:$AD,$A13,'Báo cáo'!$AA:$AA,"<="&N$4) -> 0
C14: =SUMIFS('Báo cáo'!$O:$O,'Báo cáo'!$AD:$AD,$A14,'Báo cáo'!$Z:$Z,"<="&C$4)+SUMIFS('Báo cáo'!$P:$P,'Báo cáo'!$AD:$AD,$A14,'Báo cáo'!$Z:$Z,"<="&C$4)-SUMIFS('Báo cáo'!$Q:$Q,'Báo cáo'!$AD:$AD,$A14,'Báo cáo'!$AA:$AA,"<="&C$4) -> 0 | D14: =SUMIFS('Báo cáo'!$O:$O,'Báo cáo'!$AD:$AD,$A14,'Báo cáo'!$Z:$Z,"<="&D$4)+SUMIFS('Báo cáo'!$P:$P,'Báo cáo'!$AD:$AD,$A14,'Báo cáo'!$Z:$Z,"<="&D$4)-SUMIFS('Báo cáo'!$Q:$Q,'Báo cáo'!$AD:$AD,$A14,'Báo cáo'!$AA:$AA,"<="&D$4) -> 0 | E14: =SUMIFS('Báo cáo'!$O:$O,'Báo cáo'!$AD:$AD,$A14,'Báo cáo'!$Z:$Z,"<="&E$4)+SUMIFS('Báo cáo'!$P:$P,'Báo cáo'!$AD:$AD,$A14,'Báo cáo'!$Z:$Z,"<="&E$4)-SUMIFS('Báo cáo'!$Q:$Q,'Báo cáo'!$AD:$AD,$A14,'Báo cáo'!$AA:$AA,"<="&E$4) -> 0 | F14: =SUMIFS('Báo cáo'!$O:$O,'Báo cáo'!$AD:$AD,$A14,'Báo cáo'!$Z:$Z,"<="&F$4)+SUMIFS('Báo cáo'!$P:$P,'Báo cáo'!$AD:$AD,$A14,'Báo cáo'!$Z:$Z,"<="&F$4)-SUMIFS('Báo cáo'!$Q:$Q,'Báo cáo'!$AD:$AD,$A14,'Báo cáo'!$AA:$AA,"<="&F$4) -> 0 | G14: =SUMIFS('Báo cáo'!$O:$O,'Báo cáo'!$AD:$AD,$A14,'Báo cáo'!$Z:$Z,"<="&G$4)+SUMIFS('Báo cáo'!$P:$P,'Báo cáo'!$AD:$AD,$A14,'Báo cáo'!$Z:$Z,"<="&G$4)-SUMIFS('Báo cáo'!$Q:$Q,'Báo cáo'!$AD:$AD,$A14,'Báo cáo'!$AA:$AA,"<="&G$4) -> 0 | H14: =SUMIFS('Báo cáo'!$O:$O,'Báo cáo'!$AD:$AD,$A14,'Báo cáo'!$Z:$Z,"<="&H$4)+SUMIFS('Báo cáo'!$P:$P,'Báo cáo'!$AD:$AD,$A14,'Báo cáo'!$Z:$Z,"<="&H$4)-SUMIFS('Báo cáo'!$Q:$Q,'Báo cáo'!$AD:$AD,$A14,'Báo cáo'!$AA:$AA,"<="&H$4) -> 0 | I14: =SUMIFS('Báo cáo'!$O:$O,'Báo cáo'!$AD:$AD,$A14,'Báo cáo'!$Z:$Z,"<="&I$4)+SUMIFS('Báo cáo'!$P:$P,'Báo cáo'!$AD:$AD,$A14,'Báo cáo'!$Z:$Z,"<="&I$4)-SUMIFS('Báo cáo'!$Q:$Q,'Báo cáo'!$AD:$AD,$A14,'Báo cáo'!$AA:$AA,"<="&I$4) -> 0 | J14: =SUMIFS('Báo cáo'!$O:$O,'Báo cáo'!$AD:$AD,$A14,'Báo cáo'!$Z:$Z,"<="&J$4)+SUMIFS('Báo cáo'!$P:$P,'Báo cáo'!$AD:$AD,$A14,'Báo cáo'!$Z:$Z,"<="&J$4)-SUMIFS('Báo cáo'!$Q:$Q,'Báo cáo'!$AD:$AD,$A14,'Báo cáo'!$AA:$AA,"<="&J$4) -> 0 | ... N14: =SUMIFS('Báo cáo'!$O:$O,'Báo cáo'!$AD:$AD,$A14,'Báo cáo'!$Z:$Z,"<="&N$4)+SUMIFS('Báo cáo'!$P:$P,'Báo cáo'!$AD:$AD,$A14,'Báo cáo'!$Z:$Z,"<="&N$4)-SUMIFS('Báo cáo'!$Q:$Q,'Báo cáo'!$AD:$AD,$A14,'Báo cáo'!$AA:$AA,"<="&N$4) -> 0
C15: =SUMIFS('Báo cáo'!$O:$O,'Báo cáo'!$AD:$AD,$A15,'Báo cáo'!$Z:$Z,"<="&C$4)+SUMIFS('Báo cáo'!$P:$P,'Báo cáo'!$AD:$AD,$A15,'Báo cáo'!$Z:$Z,"<="&C$4)-SUMIFS('Báo cáo'!$Q:$Q,'Báo cáo'!$AD:$AD,$A15,'Báo cáo'!$AA:$AA,"<="&C$4) -> 0 | D15: =SUMIFS('Báo cáo'!$O:$O,'Báo cáo'!$AD:$AD,$A15,'Báo cáo'!$Z:$Z,"<="&D$4)+SUMIFS('Báo cáo'!$P:$P,'Báo cáo'!$AD:$AD,$A15,'Báo cáo'!$Z:$Z,"<="&D$4)-SUMIFS('Báo cáo'!$Q:$Q,'Báo cáo'!$AD:$AD,$A15,'Báo cáo'!$AA:$AA,"<="&D$4) -> 0 | E15: =SUMIFS('Báo cáo'!$O:$O,'Báo cáo'!$AD:$AD,$A15,'Báo cáo'!$Z:$Z,"<="&E$4)+SUMIFS('Báo cáo'!$P:$P,'Báo cáo'!$AD:$AD,$A15,'Báo cáo'!$Z:$Z,"<="&E$4)-SUMIFS('Báo cáo'!$Q:$Q,'Báo cáo'!$AD:$AD,$A15,'Báo cáo'!$AA:$AA,"<="&E$4) -> 0 | F15: =SUMIFS('Báo cáo'!$O:$O,'Báo cáo'!$AD:$AD,$A15,'Báo cáo'!$Z:$Z,"<="&F$4)+SUMIFS('Báo cáo'!$P:$P,'Báo cáo'!$AD:$AD,$A15,'Báo cáo'!$Z:$Z,"<="&F$4)-SUMIFS('Báo cáo'!$Q:$Q,'Báo cáo'!$AD:$AD,$A15,'Báo cáo'!$AA:$AA,"<="&F$4) -> 0 | G15: =SUMIFS('Báo cáo'!$O:$O,'Báo cáo'!$AD:$AD,$A15,'Báo cáo'!$Z:$Z,"<="&G$4)+SUMIFS('Báo cáo'!$P:$P,'Báo cáo'!$AD:$AD,$A15,'Báo cáo'!$Z:$Z,"<="&G$4)-SUMIFS('Báo cáo'!$Q:$Q,'Báo cáo'!$AD:$AD,$A15,'Báo cáo'!$AA:$AA,"<="&G$4) -> 0 | H15: =SUMIFS('Báo cáo'!$O:$O,'Báo cáo'!$AD:$AD,$A15,'Báo cáo'!$Z:$Z,"<="&H$4)+SUMIFS('Báo cáo'!$P:$P,'Báo cáo'!$AD:$AD,$A15,'Báo cáo'!$Z:$Z,"<="&H$4)-SUMIFS('Báo cáo'!$Q:$Q,'Báo cáo'!$AD:$AD,$A15,'Báo cáo'!$AA:$AA,"<="&H$4) -> 0 | I15: =SUMIFS('Báo cáo'!$O:$O,'Báo cáo'!$AD:$AD,$A15,'Báo cáo'!$Z:$Z,"<="&I$4)+SUMIFS('Báo cáo'!$P:$P,'Báo cáo'!$AD:$AD,$A15,'Báo cáo'!$Z:$Z,"<="&I$4)-SUMIFS('Báo cáo'!$Q:$Q,'Báo cáo'!$AD:$AD,$A15,'Báo cáo'!$AA:$AA,"<="&I$4) -> 0 | J15: =SUMIFS('Báo cáo'!$O:$O,'Báo cáo'!$AD:$AD,$A15,'Báo cáo'!$Z:$Z,"<="&J$4)+SUMIFS('Báo cáo'!$P:$P,'Báo cáo'!$AD:$AD,$A15,'Báo cáo'!$Z:$Z,"<="&J$4)-SUMIFS('Báo cáo'!$Q:$Q,'Báo cáo'!$AD:$AD,$A15,'Báo cáo'!$AA:$AA,"<="&J$4) -> 0 | ... N15: =SUMIFS('Báo cáo'!$O:$O,'Báo cáo'!$AD:$AD,$A15,'Báo cáo'!$Z:$Z,"<="&N$4)+SUMIFS('Báo cáo'!$P:$P,'Báo cáo'!$AD:$AD,$A15,'Báo cáo'!$Z:$Z,"<="&N$4)-SUMIFS('Báo cáo'!$Q:$Q,'Báo cáo'!$AD:$AD,$A15,'Báo cáo'!$AA:$AA,"<="&N$4) -> 0
C16: =SUMIFS('Báo cáo'!$O:$O,'Báo cáo'!$AD:$AD,$A16,'Báo cáo'!$Z:$Z,"<="&C$4)+SUMIFS('Báo cáo'!$P:$P,'Báo cáo'!$AD:$AD,$A16,'Báo cáo'!$Z:$Z,"<="&C$4)-SUMIFS('Báo cáo'!$Q:$Q,'Báo cáo'!$AD:$AD,$A16,'Báo cáo'!$AA:$AA,"<="&C$4) -> 0 | D16: =SUMIFS('Báo cáo'!$O:$O,'Báo cáo'!$AD:$AD,$A16,'Báo cáo'!$Z:$Z,"<="&D$4)+SUMIFS('Báo cáo'!$P:$P,'Báo cáo'!$AD:$AD,$A16,'Báo cáo'!$Z:$Z,"<="&D$4)-SUMIFS('Báo cáo'!$Q:$Q,'Báo cáo'!$AD:$AD,$A16,'Báo cáo'!$AA:$AA,"<="&D$4) -> 0 | E16: =SUMIFS('Báo cáo'!$O:$O,'Báo cáo'!$AD:$AD,$A16,'Báo cáo'!$Z:$Z,"<="&E$4)+SUMIFS('Báo cáo'!$P:$P,'Báo cáo'!$AD:$AD,$A16,'Báo cáo'!$Z:$Z,"<="&E$4)-SUMIFS('Báo cáo'!$Q:$Q,'Báo cáo'!$AD:$AD,$A16,'Báo cáo'!$AA:$AA,"<="&E$4) -> 0 | F16: =SUMIFS('Báo cáo'!$O:$O,'Báo cáo'!$AD:$AD,$A16,'Báo cáo'!$Z:$Z,"<="&F$4)+SUMIFS('Báo cáo'!$P:$P,'Báo cáo'!$AD:$AD,$A16,'Báo cáo'!$Z:$Z,"<="&F$4)-SUMIFS('Báo cáo'!$Q:$Q,'Báo cáo'!$AD:$AD,$A16,'Báo cáo'!$AA:$AA,"<="&F$4) -> 0 | G16: =SUMIFS('Báo cáo'!$O:$O,'Báo cáo'!$AD:$AD,$A16,'Báo cáo'!$Z:$Z,"<="&G$4)+SUMIFS('Báo cáo'!$P:$P,'Báo cáo'!$AD:$AD,$A16,'Báo cáo'!$Z:$Z,"<="&G$4)-SUMIFS('Báo cáo'!$Q:$Q,'Báo cáo'!$AD:$AD,$A16,'Báo cáo'!$AA:$AA,"<="&G$4) -> 0 | H16: =SUMIFS('Báo cáo'!$O:$O,'Báo cáo'!$AD:$AD,$A16,'Báo cáo'!$Z:$Z,"<="&H$4)+SUMIFS('Báo cáo'!$P:$P,'Báo cáo'!$AD:$AD,$A16,'Báo cáo'!$Z:$Z,"<="&H$4)-SUMIFS('Báo cáo'!$Q:$Q,'Báo cáo'!$AD:$AD,$A16,'Báo cáo'!$AA:$AA,"<="&H$4) -> 0 | I16: =SUMIFS('Báo cáo'!$O:$O,'Báo cáo'!$AD:$AD,$A16,'Báo cáo'!$Z:$Z,"<="&I$4)+SUMIFS('Báo cáo'!$P:$P,'Báo cáo'!$AD:$AD,$A16,'Báo cáo'!$Z:$Z,"<="&I$4)-SUMIFS('Báo cáo'!$Q:$Q,'Báo cáo'!$AD:$AD,$A16,'Báo cáo'!$AA:$AA,"<="&I$4) -> 0 | J16: =SUMIFS('Báo cáo'!$O:$O,'Báo cáo'!$AD:$AD,$A16,'Báo cáo'!$Z:$Z,"<="&J$4)+SUMIFS('Báo cáo'!$P:$P,'Báo cáo'!$AD:$AD,$A16,'Báo cáo'!$Z:$Z,"<="&J$4)-SUMIFS('Báo cáo'!$Q:$Q,'Báo cáo'!$AD:$AD,$A16,'Báo cáo'!$AA:$AA,"<="&J$4) -> 0 | ... N16: =SUMIFS('Báo cáo'!$O:$O,'Báo cáo'!$AD:$AD,$A16,'Báo cáo'!$Z:$Z,"<="&N$4)+SUMIFS('Báo cáo'!$P:$P,'Báo cáo'!$AD:$AD,$A16,'Báo cáo'!$Z:$Z,"<="&N$4)-SUMIFS('Báo cáo'!$Q:$Q,'Báo cáo'!$AD:$AD,$A16,'Báo cáo'!$AA:$AA,"<="&N$4) -> 0
C17: =SUMIFS('Báo cáo'!$O:$O,'Báo cáo'!$AD:$AD,$A17,'Báo cáo'!$Z:$Z,"<="&C$4)+SUMIFS('Báo cáo'!$P:$P,'Báo cáo'!$AD:$AD,$A17,'Báo cáo'!$Z:$Z,"<="&C$4)-SUMIFS('Báo cáo'!$Q:$Q,'Báo cáo'!$AD:$AD,$A17,'Báo cáo'!$AA:$AA,"<="&C$4) -> 0 | D17: =SUMIFS('Báo cáo'!$O:$O,'Báo cáo'!$AD:$AD,$A17,'Báo cáo'!$Z:$Z,"<="&D$4)+SUMIFS('Báo cáo'!$P:$P,'Báo cáo'!$AD:$AD,$A17,'Báo cáo'!$Z:$Z,"<="&D$4)-SUMIFS('Báo cáo'!$Q:$Q,'Báo cáo'!$AD:$AD,$A17,'Báo cáo'!$AA:$AA,"<="&D$4) -> 0 | E17: =SUMIFS('Báo cáo'!$O:$O,'Báo cáo'!$AD:$AD,$A17,'Báo cáo'!$Z:$Z,"<="&E$4)+SUMIFS('Báo cáo'!$P:$P,'Báo cáo'!$AD:$AD,$A17,'Báo cáo'!$Z:$Z,"<="&E$4)-SUMIFS('Báo cáo'!$Q:$Q,'Báo cáo'!$AD:$AD,$A17,'Báo cáo'!$AA:$AA,"<="&E$4) -> 0 | F17: =SUMIFS('Báo cáo'!$O:$O,'Báo cáo'!$AD:$AD,$A17,'Báo cáo'!$Z:$Z,"<="&F$4)+SUMIFS('Báo cáo'!$P:$P,'Báo cáo'!$AD:$AD,$A17,'Báo cáo'!$Z:$Z,"<="&F$4)-SUMIFS('Báo cáo'!$Q:$Q,'Báo cáo'!$AD:$AD,$A17,'Báo cáo'!$AA:$AA,"<="&F$4) -> 0 | G17: =SUMIFS('Báo cáo'!$O:$O,'Báo cáo'!$AD:$AD,$A17,'Báo cáo'!$Z:$Z,"<="&G$4)+SUMIFS('Báo cáo'!$P:$P,'Báo cáo'!$AD:$AD,$A17,'Báo cáo'!$Z:$Z,"<="&G$4)-SUMIFS('Báo cáo'!$Q:$Q,'Báo cáo'!$AD:$AD,$A17,'Báo cáo'!$AA:$AA,"<="&G$4) -> 0 | H17: =SUMIFS('Báo cáo'!$O:$O,'Báo cáo'!$AD:$AD,$A17,'Báo cáo'!$Z:$Z,"<="&H$4)+SUMIFS('Báo cáo'!$P:$P,'Báo cáo'!$AD:$AD,$A17,'Báo cáo'!$Z:$Z,"<="&H$4)-SUMIFS('Báo cáo'!$Q:$Q,'Báo cáo'!$AD:$AD,$A17,'Báo cáo'!$AA:$AA,"<="&H$4) -> 0 | I17: =SUMIFS('Báo cáo'!$O:$O,'Báo cáo'!$AD:$AD,$A17,'Báo cáo'!$Z:$Z,"<="&I$4)+SUMIFS('Báo cáo'!$P:$P,'Báo cáo'!$AD:$AD,$A17,'Báo cáo'!$Z:$Z,"<="&I$4)-SUMIFS('Báo cáo'!$Q:$Q,'Báo cáo'!$AD:$AD,$A17,'Báo cáo'!$AA:$AA,"<="&I$4) -> 0 | J17: =SUMIFS('Báo cáo'!$O:$O,'Báo cáo'!$AD:$AD,$A17,'Báo cáo'!$Z:$Z,"<="&J$4)+SUMIFS('Báo cáo'!$P:$P,'Báo cáo'!$AD:$AD,$A17,'Báo cáo'!$Z:$Z,"<="&J$4)-SUMIFS('Báo cáo'!$Q:$Q,'Báo cáo'!$AD:$AD,$A17,'Báo cáo'!$AA:$AA,"<="&J$4) -> 0 | ... N17: =SUMIFS('Báo cáo'!$O:$O,'Báo cáo'!$AD:$AD,$A17,'Báo cáo'!$Z:$Z,"<="&N$4)+SUMIFS('Báo cáo'!$P:$P,'Báo cáo'!$AD:$AD,$A17,'Báo cáo'!$Z:$Z,"<="&N$4)-SUMIFS('Báo cáo'!$Q:$Q,'Báo cáo'!$AD:$AD,$A17,'Báo cáo'!$AA:$AA,"<="&N$4) -> 0
C18: =SUMIFS('Báo cáo'!$O:$O,'Báo cáo'!$AD:$AD,$A18,'Báo cáo'!$Z:$Z,"<="&C$4)+SUMIFS('Báo cáo'!$P:$P,'Báo cáo'!$AD:$AD,$A18,'Báo cáo'!$Z:$Z,"<="&C$4)-SUMIFS('Báo cáo'!$Q:$Q,'Báo cáo'!$AD:$AD,$A18,'Báo cáo'!$AA:$AA,"<="&C$4) -> 0 | D18: =SUMIFS('Báo cáo'!$O:$O,'Báo cáo'!$AD:$AD,$A18,'Báo cáo'!$Z:$Z,"<="&D$4)+SUMIFS('Báo cáo'!$P:$P,'Báo cáo'!$AD:$AD,$A18,'Báo cáo'!$Z:$Z,"<="&D$4)-SUMIFS('Báo cáo'!$Q:$Q,'Báo cáo'!$AD:$AD,$A18,'Báo cáo'!$AA:$AA,"<="&D$4) -> 0 | E18: =SUMIFS('Báo cáo'!$O:$O,'Báo cáo'!$AD:$AD,$A18,'Báo cáo'!$Z:$Z,"<="&E$4)+SUMIFS('Báo cáo'!$P:$P,'Báo cáo'!$AD:$AD,$A18,'Báo cáo'!$Z:$Z,"<="&E$4)-SUMIFS('Báo cáo'!$Q:$Q,'Báo cáo'!$AD:$AD,$A18,'Báo cáo'!$AA:$AA,"<="&E$4) -> 0 | F18: =SUMIFS('Báo cáo'!$O:$O,'Báo cáo'!$AD:$AD,$A18,'Báo cáo'!$Z:$Z,"<="&F$4)+SUMIFS('Báo cáo'!$P:$P,'Báo cáo'!$AD:$AD,$A18,'Báo cáo'!$Z:$Z,"<="&F$4)-SUMIFS('Báo cáo'!$Q:$Q,'Báo cáo'!$AD:$AD,$A18,'Báo cáo'!$AA:$AA,"<="&F$4) -> 0 | G18: =SUMIFS('Báo cáo'!$O:$O,'Báo cáo'!$AD:$AD,$A18,'Báo cáo'!$Z:$Z,"<="&G$4)+SUMIFS('Báo cáo'!$P:$P,'Báo cáo'!$AD:$AD,$A18,'Báo cáo'!$Z:$Z,"<="&G$4)-SUMIFS('Báo cáo'!$Q:$Q,'Báo cáo'!$AD:$AD,$A18,'Báo cáo'!$AA:$AA,"<="&G$4) -> 0 | H18: =SUMIFS('Báo cáo'!$O:$O,'Báo cáo'!$AD:$AD,$A18,'Báo cáo'!$Z:$Z,"<="&H$4)+SUMIFS('Báo cáo'!$P:$P,'Báo cáo'!$AD:$AD,$A18,'Báo cáo'!$Z:$Z,"<="&H$4)-SUMIFS('Báo cáo'!$Q:$Q,'Báo cáo'!$AD:$AD,$A18,'Báo cáo'!$AA:$AA,"<="&H$4) -> 0 | I18: =SUMIFS('Báo cáo'!$O:$O,'Báo cáo'!$AD:$AD,$A18,'Báo cáo'!$Z:$Z,"<="&I$4)+SUMIFS('Báo cáo'!$P:$P,'Báo cáo'!$AD:$AD,$A18,'Báo cáo'!$Z:$Z,"<="&I$4)-SUMIFS('Báo cáo'!$Q:$Q,'Báo cáo'!$AD:$AD,$A18,'Báo cáo'!$AA:$AA,"<="&I$4) -> 0 | J18: =SUMIFS('Báo cáo'!$O:$O,'Báo cáo'!$AD:$AD,$A18,'Báo cáo'!$Z:$Z,"<="&J$4)+SUMIFS('Báo cáo'!$P:$P,'Báo cáo'!$AD:$AD,$A18,'Báo cáo'!$Z:$Z,"<="&J$4)-SUMIFS('Báo cáo'!$Q:$Q,'Báo cáo'!$AD:$AD,$A18,'Báo cáo'!$AA:$AA,"<="&J$4) -> 0 | ... N18: =SUMIFS('Báo cáo'!$O:$O,'Báo cáo'!$AD:$AD,$A18,'Báo cáo'!$Z:$Z,"<="&N$4)+SUMIFS('Báo cáo'!$P:$P,'Báo cáo'!$AD:$AD,$A18,'Báo cáo'!$Z:$Z,"<="&N$4)-SUMIFS('Báo cáo'!$Q:$Q,'Báo cáo'!$AD:$AD,$A18,'Báo cáo'!$AA:$AA,"<="&N$4) -> 0
C19: =SUMIFS('Báo cáo'!$O:$O,'Báo cáo'!$AD:$AD,$A19,'Báo cáo'!$Z:$Z,"<="&C$4)+SUMIFS('Báo cáo'!$P:$P,'Báo cáo'!$AD:$AD,$A19,'Báo cáo'!$Z:$Z,"<="&C$4)-SUMIFS('Báo cáo'!$Q:$Q,'Báo cáo'!$AD:$AD,$A19,'Báo cáo'!$AA:$AA,"<="&C$4) -> 0 | D19: =SUMIFS('Báo cáo'!$O:$O,'Báo cáo'!$AD:$AD,$A19,'Báo cáo'!$Z:$Z,"<="&D$4)+SUMIFS('Báo cáo'!$P:$P,'Báo cáo'!$AD:$AD,$A19,'Báo cáo'!$Z:$Z,"<="&D$4)-SUMIFS('Báo cáo'!$Q:$Q,'Báo cáo'!$AD:$AD,$A19,'Báo cáo'!$AA:$AA,"<="&D$4) -> 0 | E19: =SUMIFS('Báo cáo'!$O:$O,'Báo cáo'!$AD:$AD,$A19,'Báo cáo'!$Z:$Z,"<="&E$4)+SUMIFS('Báo cáo'!$P:$P,'Báo cáo'!$AD:$AD,$A19,'Báo cáo'!$Z:$Z,"<="&E$4)-SUMIFS('Báo cáo'!$Q:$Q,'Báo cáo'!$AD:$AD,$A19,'Báo cáo'!$AA:$AA,"<="&E$4) -> 0 | F19: =SUMIFS('Báo cáo'!$O:$O,'Báo cáo'!$AD:$AD,$A19,'Báo cáo'!$Z:$Z,"<="&F$4)+SUMIFS('Báo cáo'!$P:$P,'Báo cáo'!$AD:$AD,$A19,'Báo cáo'!$Z:$Z,"<="&F$4)-SUMIFS('Báo cáo'!$Q:$Q,'Báo cáo'!$AD:$AD,$A19,'Báo cáo'!$AA:$AA,"<="&F$4) -> 0 | G19: =SUMIFS('Báo cáo'!$O:$O,'Báo cáo'!$AD:$AD,$A19,'Báo cáo'!$Z:$Z,"<="&G$4)+SUMIFS('Báo cáo'!$P:$P,'Báo cáo'!$AD:$AD,$A19,'Báo cáo'!$Z:$Z,"<="&G$4)-SUMIFS('Báo cáo'!$Q:$Q,'Báo cáo'!$AD:$AD,$A19,'Báo cáo'!$AA:$AA,"<="&G$4) -> 0 | H19: =SUMIFS('Báo cáo'!$O:$O,'Báo cáo'!$AD:$AD,$A19,'Báo cáo'!$Z:$Z,"<="&H$4)+SUMIFS('Báo cáo'!$P:$P,'Báo cáo'!$AD:$AD,$A19,'Báo cáo'!$Z:$Z,"<="&H$4)-SUMIFS('Báo cáo'!$Q:$Q,'Báo cáo'!$AD:$AD,$A19,'Báo cáo'!$AA:$AA,"<="&H$4) -> 0 | I19: =SUMIFS('Báo cáo'!$O:$O,'Báo cáo'!$AD:$AD,$A19,'Báo cáo'!$Z:$Z,"<="&I$4)+SUMIFS('Báo cáo'!$P:$P,'Báo cáo'!$AD:$AD,$A19,'Báo cáo'!$Z:$Z,"<="&I$4)-SUMIFS('Báo cáo'!$Q:$Q,'Báo cáo'!$AD:$AD,$A19,'Báo cáo'!$AA:$AA,"<="&I$4) -> 0 | J19: =SUMIFS('Báo cáo'!$O:$O,'Báo cáo'!$AD:$AD,$A19,'Báo cáo'!$Z:$Z,"<="&J$4)+SUMIFS('Báo cáo'!$P:$P,'Báo cáo'!$AD:$AD,$A19,'Báo cáo'!$Z:$Z,"<="&J$4)-SUMIFS('Báo cáo'!$Q:$Q,'Báo cáo'!$AD:$AD,$A19,'Báo cáo'!$AA:$AA,"<="&J$4) -> 0 | ... N19: =SUMIFS('Báo cáo'!$O:$O,'Báo cáo'!$AD:$AD,$A19,'Báo cáo'!$Z:$Z,"<="&N$4)+SUMIFS('Báo cáo'!$P:$P,'Báo cáo'!$AD:$AD,$A19,'Báo cáo'!$Z:$Z,"<="&N$4)-SUMIFS('Báo cáo'!$Q:$Q,'Báo cáo'!$AD:$AD,$A19,'Báo cáo'!$AA:$AA,"<="&N$4) -> 0
... C154: =SUMIFS('Báo cáo'!$O:$O,'Báo cáo'!$AD:$AD,$A154,'Báo cáo'!$Z:$Z,"<="&C$4)+SUMIFS('Báo cáo'!$P:$P,'Báo cáo'!$AD:$AD,$A154,'Báo cáo'!$Z:$Z,"<="&C$4)-SUMIFS('Báo cáo'!$Q:$Q,'Báo cáo'!$AD:$AD,$A154,'Báo cáo'!$AA:$AA,"<="&C$4) -> 0 | D154: =SUMIFS('Báo cáo'!$O:$O,'Báo cáo'!$AD:$AD,$A154,'Báo cáo'!$Z:$Z,"<="&D$4)+SUMIFS('Báo cáo'!$P:$P,'Báo cáo'!$AD:$AD,$A154,'Báo cáo'!$Z:$Z,"<="&D$4)-SUMIFS('Báo cáo'!$Q:$Q,'Báo cáo'!$AD:$AD,$A154,'Báo cáo'!$AA:$AA,"<="&D$4) -> 0 | E154: =SUMIFS('Báo cáo'!$O:$O,'Báo cáo'!$AD:$AD,$A154,'Báo cáo'!$Z:$Z,"<="&E$4)+SUMIFS('Báo cáo'!$P:$P,'Báo cáo'!$AD:$AD,$A154,'Báo cáo'!$Z:$Z,"<="&E$4)-SUMIFS('Báo cáo'!$Q:$Q,'Báo cáo'!$AD:$AD,$A154,'Báo cáo'!$AA:$AA,"<="&E$4) -> 0 | F154: =SUMIFS('Báo cáo'!$O:$O,'Báo cáo'!$AD:$AD,$A154,'Báo cáo'!$Z:$Z,"<="&F$4)+SUMIFS('Báo cáo'!$P:$P,'Báo cáo'!$AD:$AD,$A154,'Báo cáo'!$Z:$Z,"<="&F$4)-SUMIFS('Báo cáo'!$Q:$Q,'Báo cáo'!$AD:$AD,$A154,'Báo cáo'!$AA:$AA,"<="&F$4) -> 0 | G154: =SUMIFS('Báo cáo'!$O:$O,'Báo cáo'!$AD:$AD,$A154,'Báo cáo'!$Z:$Z,"<="&G$4)+SUMIFS('Báo cáo'!$P:$P,'Báo cáo'!$AD:$AD,$A154,'Báo cáo'!$Z:$Z,"<="&G$4)-SUMIFS('Báo cáo'!$Q:$Q,'Báo cáo'!$AD:$AD,$A154,'Báo cáo'!$AA:$AA,"<="&G$4) -> 0 | H154: =SUMIFS('Báo cáo'!$O:$O,'Báo cáo'!$AD:$AD,$A154,'Báo cáo'!$Z:$Z,"<="&H$4)+SUMIFS('Báo cáo'!$P:$P,'Báo cáo'!$AD:$AD,$A154,'Báo cáo'!$Z:$Z,"<="&H$4)-SUMIFS('Báo cáo'!$Q:$Q,'Báo cáo'!$AD:$AD,$A154,'Báo cáo'!$AA:$AA,"<="&H$4) -> 0 | I154: =SUMIFS('Báo cáo'!$O:$O,'Báo cáo'!$AD:$AD,$A154,'Báo cáo'!$Z:$Z,"<="&I$4)+SUMIFS('Báo cáo'!$P:$P,'Báo cáo'!$AD:$AD,$A154,'Báo cáo'!$Z:$Z,"<="&I$4)-SUMIFS('Báo cáo'!$Q:$Q,'Báo cáo'!$AD:$AD,$A154,'Báo cáo'!$AA:$AA,"<="&I$4) -> 0 | J154: =SUMIFS('Báo cáo'!$O:$O,'Báo cáo'!$AD:$AD,$A154,'Báo cáo'!$Z:$Z,"<="&J$4)+SUMIFS('Báo cáo'!$P:$P,'Báo cáo'!$AD:$AD,$A154,'Báo cáo'!$Z:$Z,"<="&J$4)-SUMIFS('Báo cáo'!$Q:$Q,'Báo cáo'!$AD:$AD,$A154,'Báo cáo'!$AA:$AA,"<="&J$4) -> 0 | ... N154: =SUMIFS('Báo cáo'!$O:$O,'Báo cáo'!$AD:$AD,$A154,'Báo cáo'!$Z:$Z,"<="&N$4)+SUMIFS('Báo cáo'!$P:$P,'Báo cáo'!$AD:$AD,$A154,'Báo cáo'!$Z:$Z,"<="&N$4)-SUMIFS('Báo cáo'!$Q:$Q,'Báo cáo'!$AD:$AD,$A154,'Báo cáo'!$AA:$AA,"<="&N$4) -> 0

Sheet Báo cáo
A1: CHI TIẾT CÔNG NỢ PHẢI THU THEO HÓA ĐƠN | P1: =SUBTOTAL(109,P4:P995877) -> 1.172642e+08 | Q1: =SUBTOTAL(109,Q4:Q995877) -> 97608581 | AB1: mt56
A2: Tài khoản: 131; Tháng 9 năm 2025
A3: Mã khách hàng | B3: Tên Khách hàng | C3: Ngày hạch toán | D3: Số chứng từ | E3: Ngày hóa đơn | F3: Số hóa đơn | G3: Diễn giải | H3: Tiền hàng | I3: Tiền chiết khấu | J3: Tiền VAT | K3: Tổng giá trị | L3: Phân loại | M3: Ngày Thanh toán | N3: Chứng từ Thanh toán | O3: Số còn phải thu ĐK | P3: Giá Trị HD sau CK | Q3: Số tiền đã thu | R3: Số còn phải thu | S3: Ngày tính CN | T3: Số ngày được nợ | U3: Hạn thanh toán | V3: Số ngày nợ còn lại | W3: Nhóm nợ trước hạn | X3: Số ngày quá hạn | Y3: Nhóm nợ quá hạn | Z3: Tháng HĐ | AA3: Tháng Thanh toán | AB3: Ghi chú | AC3: Trạng Thái ghi sổ | AD3: NHÓM KHÁCH HÀNG | AE3: TÊN NHÓM KHÁCH HÀNG | AF3: Nhân viên sale | AG3: TINH/TP
A4: SIBA-HNI-TXN-25505-001 | B4: CHI NHÁNH CÔNG TY CỔ PHẦN SIBA FOOD VIỆT NAM TẠI HÀ NỘI | C4: 45992 | E4: 45992 | F4: 00080134 | G4: Sibafood S007 - Tòa Mulberry | H4: 636844 | I4: 0 | J4: 50948 | K4: 687792 | L4: Tồn đầu kỳ | M4: 46042 | O4: =IF(Table1[[#This Row],[Phân loại]]="Tồn đầu kỳ",Table1[[#This Row],[Tổng giá trị]],0) -> 687792 | P4: =IF(Table1[[#This Row],[Số còn phải thu ĐK]]<>0,0,Table1[[#This Row],[Tổng giá trị]]) -> 0 | Q4: =IF(M4<>"",IF(O4<>0,O4,P4),0) -> 687792 | R4: =Table1[[#This Row],[Số còn phải thu ĐK]]+Table1[[#This Row],[Giá Trị HD sau CK]]-Table1[[#This Row],[Số tiền đã thu]] -> 0 | S4: =IF(Table1[[#This Row],[Ngày hóa đơn]]<>"",Table1[[#This Row],[Ngày hóa đơn]],Table1[[#This Row],[Ngày hạch toán]]) -> 45992 | U4: =IF(Table1[[#This Row],[Ngày tính CN]]="","",S4+T4) -> 45992 | V4: =IF(Table1[[#This Row],[Hạn thanh toán]]="","",IF((U4-NOW())<0,0,(U4-NOW()))) -> 0 | X4: =IF(OR($U4="",$R4=0),"",IF(($U4-NOW())<0,-($U4-NOW()),0)) | Y4: =IF(R4=0,"Đã thanh toán",IF(X4="","",IF(X4<=0,"Chưa đến hạn thanh toán",IF(X4<=30,"Nợ quá hạn 30 ngày",IF(X4<=60,"Nợ quá hạn từ 30 ngày đến 60 ngày",IF(X4<=90,"Nợ quá hạn từ 60 ngày đến 90 ngày",IF(X4<=120,"Nợ quá hạn từ 90 ngày đến 120 ngày","Nợ quá hạn hơn 120 ngày có khả năng mất thanh toán"))))))) -> Đã thanh toán | Z4: =IF(OR(Table1[[#This Row],[Ngày hạch toán]]<>"",Table1[[#This Row],[Ngày tính CN]]<>""),IF(Table1[[#This Row],[Ngày hóa đơn]]<>"",Table1[[#This Row],[Ngày hóa đơn]],IF(Table1[[#This Row],[Ngày hạch toán]]<>"",Table1[[#This Row],[Ngày hạch toán]],"")),"") -> 45992 | AA4: =Table1[[#This Row],[Ngày Thanh toán]] -> 46042 | AD4: =IF(Table1[[#This Row],[Mã khách hàng]]="","",VLOOKUP($A4,Ma_KH!$A:$Q,Ma_KH!O$1,0)) -> SIBA MIỀN BẮC | AE4: =IF(Table1[[#This Row],[Mã khách hàng]]="","",VLOOKUP($A4,Ma_KH!$A:$Q,Ma_KH!P$1,0)) -> CHI NHÁNH CÔNG TY CỔ PHẦN SIBA FOOD VIỆT NAM TẠI HÀ NỘI | AF4: =VLOOKUP(A4,Ma_KH!A:Q,Ma_KH!J$1,0) -> Đỗ Minh Quang | AG4: =VLOOKUP(Table1[[#This Row],[Mã khách hàng]],Ma_KH!A:L,12,0) -> Hà Nội
A5: SIBA-HNI-TXN-25505-001 | B5: CHI NHÁNH CÔNG TY CỔ PHẦN SIBA FOOD VIỆT NAM TẠI HÀ NỘI | C5: 46000 | E5: 46000 | F5: 00082356 | G5: Sibafood Vinhomes Green Bay, Mễ Trì | H5: 847594 | I5: 0 | J5: 67808 | K5: 915402 | L5: Tồn đầu kỳ | M5: 46042 | O5: =IF(Table1[[#This Row],[Phân loại]]="Tồn đầu kỳ",Table1[[#This Row],[Tổng giá trị]],0) -> 915402 | P5: =IF(Table1[[#This Row],[Số còn phải thu ĐK]]<>0,0,Table1[[#This Row],[Tổng giá trị]]) -> 0 | Q5: =IF(M5<>"",IF(O5<>0,O5,P5),0) -> 915402 | R5: =Table1[[#This Row],[Số còn phải thu ĐK]]+Table1[[#This Row],[Giá Trị HD sau CK]]-Table1[[#This Row],[Số tiền đã thu]] -> 0 | S5: =IF(Table1[[#This Row],[Ngày hóa đơn]]<>"",Table1[[#This Row],[Ngày hóa đơn]],Table1[[#This Row],[Ngày hạch toán]]) -> 46000 | U5: =IF(Table1[[#This Row],[Ngày tính CN]]="","",S5+T5) -> 46000 | V5: =IF(Table1[[#This Row],[Hạn thanh toán]]="","",IF((U5-NOW())<0,0,(U5-NOW()))) -> 0 | X5: =IF(OR($U5="",$R5=0),"",IF(($U5-NOW())<0,-($U5-NOW()),0)) | Y5: =IF(R5=0,"Đã thanh toán",IF(X5="","",IF(X5<=0,"Chưa đến hạn thanh toán",IF(X5<=30,"Nợ quá hạn 30 ngày",IF(X5<=60,"Nợ quá hạn từ 30 ngày đến 60 ngày",IF(X5<=90,"Nợ quá hạn từ 60 ngày đến 90 ngày",IF(X5<=120,"Nợ quá hạn từ 90 ngày đến 120 ngày","Nợ quá hạn hơn 120 ngày có khả năng mất thanh toán"))))))) -> Đã thanh toán | Z5: =IF(OR(Table1[[#This Row],[Ngày hạch toán]]<>"",Table1[[#This Row],[Ngày tính CN]]<>""),IF(Table1[[#This Row],[Ngày hóa đơn]]<>"",Table1[[#This Row],[Ngày hóa đơn]],IF(Table1[[#This Row],[Ngày hạch toán]]<>"",Table1[[#This Row],[Ngày hạch toán]],"")),"") -> 46000 | AA5: =Table1[[#This Row],[Ngày Thanh toán]] -> 46042 | AD5: =IF(Table1[[#This Row],[Mã khách hàng]]="","",VLOOKUP($A5,Ma_KH!$A:$Q,Ma_KH!O$1,0)) -> SIBA MIỀN BẮC | AE5: =IF(Table1[[#This Row],[Mã khách hàng]]="","",VLOOKUP($A5,Ma_KH!$A:$Q,Ma_KH!P$1,0)) -> CHI NHÁNH CÔNG TY CỔ PHẦN SIBA FOOD VIỆT NAM TẠI HÀ NỘI | AF5: =VLOOKUP(A5,Ma_KH!A:Q,Ma_KH!J$1,0) -> Đỗ Minh Quang | AG5: =VLOOKUP(Table1[[#This Row],[Mã khách hàng]],Ma_KH!A:L,12,0) -> Hà Nội
A6: SIBA-HNI-TXN-25505-001 | B6: CHI NHÁNH CÔNG TY CỔ PHẦN SIBA FOOD VIỆT NAM TẠI HÀ NỘI | C6: 46009 | E6: 46009 | F6: 00084590 | G6: Sibafood Hope Residences | H6: 1396468 | I6: 0 | J6: 111717 | K6: 1508185 | L6: Tồn đầu kỳ | M6: 46042 | O6: =IF(Table1[[#This Row],[Phân loại]]="Tồn đầu kỳ",Table1[[#This Row],[Tổng giá trị]],0) -> 1508185 | P6: =IF(Table1[[#This Row],[Số còn phải thu ĐK]]<>0,0,Table1[[#This Row],[Tổng giá trị]]) -> 0 | Q6: =IF(M6<>"",IF(O6<>0,O6,P6),0) -> 1508185 | R6: =Table1[[#This Row],[Số còn phải thu ĐK]]+Table1[[#This Row],[Giá Trị HD sau CK]]-Table1[[#This Row],[Số tiền đã thu]] -> 0 | S6: =IF(Table1[[#This Row],[Ngày hóa đơn]]<>"",Table1[[#This Row],[Ngày hóa đơn]],Table1[[#This Row],[Ngày hạch toán]]) -> 46009 | U6: =IF(Table1[[#This Row],[Ngày tính CN]]="","",S6+T6) -> 46009 | V6: =IF(Table1[[#This Row],[Hạn thanh toán]]="","",IF((U6-NOW())<0,0,(U6-NOW()))) -> 0 | X6: =IF(OR($U6="",$R6=0),"",IF(($U6-NOW())<0,-($U6-NOW()),0)) | Y6: =IF(R6=0,"Đã thanh toán",IF(X6="","",IF(X6<=0,"Chưa đến hạn thanh toán",IF(X6<=30,"Nợ quá hạn 30 ngày",IF(X6<=60,"Nợ quá hạn từ 30 ngày đến 60 ngày",IF(X6<=90,"Nợ quá hạn từ 60 ngày đến 90 ngày",IF(X6<=120,"Nợ quá hạn từ 90 ngày đến 120 ngày","Nợ quá hạn hơn 120 ngày có khả năng mất thanh toán"))))))) -> Đã thanh toán | Z6: =IF(OR(Table1[[#This Row],[Ngày hạch toán]]<>"",Table1[[#This Row],[Ngày tính CN]]<>""),IF(Table1[[#This Row],[Ngày hóa đơn]]<>"",Table1[[#This Row],[Ngày hóa đơn]],IF(Table1[[#This Row],[Ngày hạch toán]]<>"",Table1[[#This Row],[Ngày hạch toán]],"")),"") -> 46009 | AA6: =Table1[[#This Row],[Ngày Thanh toán]] -> 46042 | AD6: =IF(Table1[[#This Row],[Mã khách hàng]]="","",VLOOKUP($A6,Ma_KH!$A:$Q,Ma_KH!O$1,0)) -> SIBA MIỀN BẮC | AE6: =IF(Table1[[#This Row],[Mã khách hàng]]="","",VLOOKUP($A6,Ma_KH!$A:$Q,Ma_KH!P$1,0)) -> CHI NHÁNH CÔNG TY CỔ PHẦN SIBA FOOD VIỆT NAM TẠI HÀ NỘI | AF6: =VLOOKUP(A6,Ma_KH!A:Q,Ma_KH!J$1,0) -> Đỗ Minh Quang | AG6: =VLOOKUP(Table1[[#This Row],[Mã khách hàng]],Ma_KH!A:L,12,0) -> Hà Nội
A7: SIBA-HNI-TXN-25505-001 | B7: CHI NHÁNH CÔNG TY CỔ PHẦN SIBA FOOD VIỆT NAM TẠI HÀ NỘI | C7: 46017 | E7: 46017 | F7: 00087387 | G7: Sibafood S007 - Tòa Mulberry | H7: 414150 | I7: 0 | J7: 33132 | K7: 447282 | L7: Tồn đầu kỳ | M7: 46042 | O7: =IF(Table1[[#This Row],[Phân loại]]="Tồn đầu kỳ",Table1[[#This Row],[Tổng giá trị]],0) -> 447282 | P7: =IF(Table1[[#This Row],[Số còn phải thu ĐK]]<>0,0,Table1[[#This Row],[Tổng giá trị]]) -> 0 | Q7: =IF(M7<>"",IF(O7<>0,O7,P7),0) -> 447282 | R7: =Table1[[#This Row],[Số còn phải thu ĐK]]+Table1[[#This Row],[Giá Trị HD sau CK]]-Table1[[#This Row],[Số tiền đã thu]] -> 0 | S7: =IF(Table1[[#This Row],[Ngày hóa đơn]]<>"",Table1[[#This Row],[Ngày hóa đơn]],Table1[[#This Row],[Ngày hạch toán]]) -> 46017 | U7: =IF(Table1[[#This Row],[Ngày tính CN]]="","",S7+T7) -> 46017 | V7: =IF(Table1[[#This Row],[Hạn thanh toán]]="","",IF((U7-NOW())<0,0,(U7-NOW()))) -> 0 | X7: =IF(OR($U7="",$R7=0),"",IF(($U7-NOW())<0,-($U7-NOW()),0)) | Y7: =IF(R7=0,"Đã thanh toán",IF(X7="","",IF(X7<=0,"Chưa đến hạn thanh toán",IF(X7<=30,"Nợ quá hạn 30 ngày",IF(X7<=60,"Nợ quá hạn từ 30 ngày đến 60 ngày",IF(X7<=90,"Nợ quá hạn từ 60 ngày đến 90 ngày",IF(X7<=120,"Nợ quá hạn từ 90 ngày đến 120 ngày","Nợ quá hạn hơn 120 ngày có khả năng mất thanh toán"))))))) -> Đã thanh toán | Z7: =IF(OR(Table1[[#This Row],[Ngày hạch toán]]<>"",Table1[[#This Row],[Ngày tính CN]]<>""),IF(Table1[[#This Row],[Ngày hóa đơn]]<>"",Table1[[#This Row],[Ngày hóa đơn]],IF(Table1[[#This Row],[Ngày hạch toán]]<>"",Table1[[#This Row],[Ngày hạch toán]],"")),"") -> 46017 | AA7: =Table1[[#This Row],[Ngày Thanh toán]] -> 46042 | AD7: =IF(Table1[[#This Row],[Mã khách hàng]]="","",VLOOKUP($A7,Ma_KH!$A:$Q,Ma_KH!O$1,0)) -> SIBA MIỀN BẮC | AE7: =IF(Table1[[#This Row],[Mã khách hàng]]="","",VLOOKUP($A7,Ma_KH!$A:$Q,Ma_KH!P$1,0)) -> CHI NHÁNH CÔNG TY CỔ PHẦN SIBA FOOD VIỆT NAM TẠI HÀ NỘI | AF7: =VLOOKUP(A7,Ma_KH!A:Q,Ma_KH!J$1,0) -> Đỗ Minh Quang | AG7: =VLOOKUP(Table1[[#This Row],[Mã khách hàng]],Ma_KH!A:L,12,0) -> Hà Nội
A8: SIBA-HNI-TXN-25505-001 | B8: CHI NHÁNH CÔNG TY CỔ PHẦN SIBA FOOD VIỆT NAM TẠI HÀ NỘI | C8: 46020 | E8: 46020 | F8: 00088275 | G8: Sibafood Thăng Long Capital | H8: 533813 | I8: 0 | J8: 42705 | K8: 576518 | L8: Tồn đầu kỳ | M8: 46042 | O8: =IF(Table1[[#This Row],[Phân loại]]="Tồn đầu kỳ",Table1[[#This Row],[Tổng giá trị]],0) -> 576518 | P8: =IF(Table1[[#This Row],[Số còn phải thu ĐK]]<>0,0,Table1[[#This Row],[Tổng giá trị]]) -> 0 | Q8: =IF(M8<>"",IF(O8<>0,O8,P8),0) -> 576518 | R8: =Table1[[#This Row],[Số còn phải thu ĐK]]+Table1[[#This Row],[Giá Trị HD sau CK]]-Table1[[#This Row],[Số tiền đã thu]] -> 0 | S8: =IF(Table1[[#This Row],[Ngày hóa đơn]]<>"",Table1[[#This Row],[Ngày hóa đơn]],Table1[[#This Row],[Ngày hạch toán]]) -> 46020 | U8: =IF(Table1[[#This Row],[Ngày tính CN]]="","",S8+T8) -> 46020 | V8: =IF(Table1[[#This Row],[Hạn thanh toán]]="","",IF((U8-NOW())<0,0,(U8-NOW()))) -> 0 | X8: =IF(OR($U8="",$R8=0),"",IF(($U8-NOW())<0,-($U8-NOW()),0)) | Y8: =IF(R8=0,"Đã thanh toán",IF(X8="","",IF(X8<=0,"Chưa đến hạn thanh toán",IF(X8<=30,"Nợ quá hạn 30 ngày",IF(X8<=60,"Nợ quá hạn từ 30 ngày đến 60 ngày",IF(X8<=90,"Nợ quá hạn từ 60 ngày đến 90 ngày",IF(X8<=120,"Nợ quá hạn từ 90 ngày đến 120 ngày","Nợ quá hạn hơn 120 ngày có khả năng mất thanh toán"))))))) -> Đã thanh toán | Z8: =IF(OR(Table1[[#This Row],[Ngày hạch toán]]<>"",Table1[[#This Row],[Ngày tính CN]]<>""),IF(Table1[[#This Row],[Ngày hóa đơn]]<>"",Table1[[#This Row],[Ngày hóa đơn]],IF(Table1[[#This Row],[Ngày hạch toán]]<>"",Table1[[#This Row],[Ngày hạch toán]],"")),"") -> 46020 | AA8: =Table1[[#This Row],[Ngày Thanh toán]] -> 46042 | AD8: =IF(Table1[[#This Row],[Mã khách hàng]]="","",VLOOKUP($A8,Ma_KH!$A:$Q,Ma_KH!O$1,0)) -> SIBA MIỀN BẮC | AE8: =IF(Table1[[#This Row],[Mã khách hàng]]="","",VLOOKUP($A8,Ma_KH!$A:$Q,Ma_KH!P$1,0)) -> CHI NHÁNH CÔNG TY CỔ PHẦN SIBA FOOD VIỆT NAM TẠI HÀ NỘI | AF8: =VLOOKUP(A8,Ma_KH!A:Q,Ma_KH!J$1,0) -> Đỗ Minh Quang | AG8: =VLOOKUP(Table1[[#This Row],[Mã khách hàng]],Ma_KH!A:L,12,0) -> Hà Nội
A9: SIBA-HNI-TXN-25505-001 | B9: CHI NHÁNH CÔNG TY CỔ PHẦN SIBA FOOD VIỆT NAM TẠI HÀ NỘI | C9: 46021 | E9: 46021 | F9: 00002181 | H9: -156777 | I9: 0 | J9: -12542 | K9: -169319 | L9: Tồn đầu kỳ | M9: 46042 | O9: =IF(Table1[[#This Row],[Phân loại]]="Tồn đầu kỳ",Table1[[#This Row],[Tổng giá trị]],0) -> -169319 | P9: =IF(Table1[[#This Row],[Số còn phải thu ĐK]]<>0,0,Table1[[#This Row],[Tổng giá trị]]) -> 0 | Q9: =IF(M9<>"",IF(O9<>0,O9,P9),0) -> -169319 | R9: =Table1[[#This Row],[Số còn phải thu ĐK]]+Table1[[#This Row],[Giá Trị HD sau CK]]-Table1[[#This Row],[Số tiền đã thu]] -> 0 | S9: =IF(Table1[[#This Row],[Ngày hóa đơn]]<>"",Table1[[#This Row],[Ngày hóa đơn]],Table1[[#This Row],[Ngày hạch toán]]) -> 46021 | U9: =IF(Table1[[#This Row],[Ngày tính CN]]="","",S9+T9) -> 46021 | V9: =IF(Table1[[#This Row],[Hạn thanh toán]]="","",IF((U9-NOW())<0,0,(U9-NOW()))) -> 0 | X9: =IF(OR($U9="",$R9=0),"",IF(($U9-NOW())<0,-($U9-NOW()),0)) | Y9: =IF(R9=0,"Đã thanh toán",IF(X9="","",IF(X9<=0,"Chưa đến hạn thanh toán",IF(X9<=30,"Nợ quá hạn 30 ngày",IF(X9<=60,"Nợ quá hạn từ 30 ngày đến 60 ngày",IF(X9<=90,"Nợ quá hạn từ 60 ngày đến 90 ngày",IF(X9<=120,"Nợ quá hạn từ 90 ngày đến 120 ngày","Nợ quá hạn hơn 120 ngày có khả năng mất thanh toán"))))))) -> Đã thanh toán | Z9: =IF(OR(Table1[[#This Row],[Ngày hạch toán]]<>"",Table1[[#This Row],[Ngày tính CN]]<>""),IF(Table1[[#This Row],[Ngày hóa đơn]]<>"",Table1[[#This Row],[Ngày hóa đơn]],IF(Table1[[#This Row],[Ngày hạch toán]]<>"",Table1[[#This Row],[Ngày hạch toán]],"")),"") -> 46021 | AA9: =Table1[[#This Row],[Ngày Thanh toán]] -> 46042 | AD9: =IF(Table1[[#This Row],[Mã khách hàng]]="","",VLOOKUP($A9,Ma_KH!$A:$Q,Ma_KH!O$1,0)) -> SIBA MIỀN BẮC | AE9: =IF(Table1[[#This Row],[Mã khách hàng]]="","",VLOOKUP($A9,Ma_KH!$A:$Q,Ma_KH!P$1,0)) -> CHI NHÁNH CÔNG TY CỔ PHẦN SIBA FOOD VIỆT NAM TẠI HÀ NỘI | AF9: =VLOOKUP(A9,Ma_KH!A:Q,Ma_KH!J$1,0) -> Đỗ Minh Quang | AG9: =VLOOKUP(Table1[[#This Row],[Mã khách hàng]],Ma_KH!A:L,12,0) -> Hà Nội
A10: SIBA-HNI-TXN-25505-001 | B10: CHI NHÁNH CÔNG TY CỔ PHẦN SIBA FOOD VIỆT NAM TẠI HÀ NỘI | C10: 46021 | E10: 46021 | F10: 00002182 | H10: -57387 | I10: 0 | J10: -4591 | K10: -61978 | L10: Tồn đầu kỳ | M10: 46042 | O10: =IF(Table1[[#This Row],[Phân loại]]="Tồn đầu kỳ",Table1[[#This Row],[Tổng giá trị]],0) -> -61978 | P10: =IF(Table1[[#This Row],[Số còn phải thu ĐK]]<>0,0,Table1[[#This Row],[Tổng giá trị]]) -> 0 | Q10: =IF(M10<>"",IF(O10<>0,O10,P10),0) -> -61978 | R10: =Table1[[#This Row],[Số còn phải thu ĐK]]+Table1[[#This Row],[Giá Trị HD sau CK]]-Table1[[#This Row],[Số tiền đã thu]] -> 0 | S10: =IF(Table1[[#This Row],[Ngày hóa đơn]]<>"",Table1[[#This Row],[Ngày hóa đơn]],Table1[[#This Row],[Ngày hạch toán]]) -> 46021 | U10: =IF(Table1[[#This Row],[Ngày tính CN]]="","",S10+T10) -> 46021 | V10: =IF(Table1[[#This Row],[Hạn thanh toán]]="","",IF((U10-NOW())<0,0,(U10-NOW()))) -> 0 | X10: =IF(OR($U10="",$R10=0),"",IF(($U10-NOW())<0,-($U10-NOW()),0)) | Y10: =IF(R10=0,"Đã thanh toán",IF(X10="","",IF(X10<=0,"Chưa đến hạn thanh toán",IF(X10<=30,"Nợ quá hạn 30 ngày",IF(X10<=60,"Nợ quá hạn từ 30 ngày đến 60 ngày",IF(X10<=90,"Nợ quá hạn từ 60 ngày đến 90 ngày",IF(X10<=120,"Nợ quá hạn từ 90 ngày đến 120 ngày","Nợ quá hạn hơn 120 ngày có khả năng mất thanh toán"))))))) -> Đã thanh toán | Z10: =IF(OR(Table1[[#This Row],[Ngày hạch toán]]<>"",Table1[[#This Row],[Ngày tính CN]]<>""),IF(Table1[[#This Row],[Ngày hóa đơn]]<>"",Table1[[#This Row],[Ngày hóa đơn]],IF(Table1[[#This Row],[Ngày hạch toán]]<>"",Table1[[#This Row],[Ngày hạch toán]],"")),"") -> 46021 | AA10: =Table1[[#This Row],[Ngày Thanh toán]] -> 46042 | AD10: =IF(Table1[[#This Row],[Mã khách hàng]]="","",VLOOKUP($A10,Ma_KH!$A:$Q,Ma_KH!O$1,0)) -> SIBA MIỀN BẮC | AE10: =IF(Table1[[#This Row],[Mã khách hàng]]="","",VLOOKUP($A10,Ma_KH!$A:$Q,Ma_KH!P$1,0)) -> CHI NHÁNH CÔNG TY CỔ PHẦN SIBA FOOD VIỆT NAM TẠI HÀ NỘI | AF10: =VLOOKUP(A10,Ma_KH!A:Q,Ma_KH!J$1,0) -> Đỗ Minh Quang | AG10: =VLOOKUP(Table1[[#This Row],[Mã khách hàng]],Ma_KH!A:L,12,0) -> Hà Nội
A11: SIBA-HNI-TXN-25505-001 | B11: CHI NHÁNH CÔNG TY CỔ PHẦN SIBA FOOD VIỆT NAM TẠI HÀ NỘI | C11: 46021 | E11: 46021 | F11: 00002183 | H11: -209820 | I11: 0 | J11: -16786 | K11: -226606 | L11: Tồn đầu kỳ | M11: 46042 | O11: =IF(Table1[[#This Row],[Phân loại]]="Tồn đầu kỳ",Table1[[#This Row],[Tổng giá trị]],0) -> -226606 | P11: =IF(Table1[[#This Row],[Số còn phải thu ĐK]]<>0,0,Table1[[#This Row],[Tổng giá trị]]) -> 0 | Q11: =IF(M11<>"",IF(O11<>0,O11,P11),0) -> -226606 | R11: =Table1[[#This Row],[Số còn phải thu ĐK]]+Table1[[#This Row],[Giá Trị HD sau CK]]-Table1[[#This Row],[Số tiền đã thu]] -> 0 | S11: =IF(Table1[[#This Row],[Ngày hóa đơn]]<>"",Table1[[#This Row],[Ngày hóa đơn]],Table1[[#This Row],[Ngày hạch toán]]) -> 46021 | U11: =IF(Table1[[#This Row],[Ngày tính CN]]="","",S11+T11) -> 46021 | V11: =IF(Table1[[#This Row],[Hạn thanh toán]]="","",IF((U11-NOW())<0,0,(U11-NOW()))) -> 0 | X11: =IF(OR($U11="",$R11=0),"",IF(($U11-NOW())<0,-($U11-NOW()),0)) | Y11: =IF(R11=0,"Đã thanh toán",IF(X11="","",IF(X11<=0,"Chưa đến hạn thanh toán",IF(X11<=30,"Nợ quá hạn 30 ngày",IF(X11<=60,"Nợ quá hạn từ 30 ngày đến 60 ngày",IF(X11<=90,"Nợ quá hạn từ 60 ngày đến 90 ngày",IF(X11<=120,"Nợ quá hạn từ 90 ngày đến 120 ngày","Nợ quá hạn hơn 120 ngày có khả năng mất thanh toán"))))))) -> Đã thanh toán | Z11: =IF(OR(Table1[[#This Row],[Ngày hạch toán]]<>"",Table1[[#This Row],[Ngày tính CN]]<>""),IF(Table1[[#This Row],[Ngày hóa đơn]]<>"",Table1[[#This Row],[Ngày hóa đơn]],IF(Table1[[#This Row],[Ngày hạch toán]]<>"",Table1[[#This Row],[Ngày hạch toán]],"")),"") -> 46021 | AA11: =Table1[[#This Row],[Ngày Thanh toán]] -> 46042 | AD11: =IF(Table1[[#This Row],[Mã khách hàng]]="","",VLOOKUP($A11,Ma_KH!$A:$Q,Ma_KH!O$1,0)) -> SIBA MIỀN BẮC | AE11: =IF(Table1[[#This Row],[Mã khách hàng]]="","",VLOOKUP($A11,Ma_KH!$A:$Q,Ma_KH!P$1,0)) -> CHI NHÁNH CÔNG TY CỔ PHẦN SIBA FOOD VIỆT NAM TẠI HÀ NỘI | AF11: =VLOOKUP(A11,Ma_KH!A:Q,Ma_KH!J$1,0) -> Đỗ Minh Quang | AG11: =VLOOKUP(Table1[[#This Row],[Mã khách hàng]],Ma_KH!A:L,12,0) -> Hà Nội
A12: SIBA-HNI-TXN-25505-001 | B12: CHI NHÁNH CÔNG TY CỔ PHẦN SIBA FOOD VIỆT NAM TẠI HÀ NỘI | C12: 46021 | E12: 46021 | F12: 00002184 | H12: -324138 | I12: 0 | J12: -25931 | K12: -350069 | L12: Tồn đầu kỳ | M12: 46042 | O12: =IF(Table1[[#This Row],[Phân loại]]="Tồn đầu kỳ",Table1[[#This Row],[Tổng giá trị]],0) -> -350069 | P12: =IF(Table1[[#This Row],[Số còn phải thu ĐK]]<>0,0,Table1[[#This Row],[Tổng giá trị]]) -> 0 | Q12: =IF(M12<>"",IF(O12<>0,O12,P12),0) -> -350069 | R12: =Table1[[#This Row],[Số còn phải thu ĐK]]+Table1[[#This Row],[Giá Trị HD sau CK]]-Table1[[#This Row],[Số tiền đã thu]] -> 0 | S12: =IF(Table1[[#This Row],[Ngày hóa đơn]]<>"",Table1[[#This Row],[Ngày hóa đơn]],Table1[[#This Row],[Ngày hạch toán]]) -> 46021 | U12: =IF(Table1[[#This Row],[Ngày tính CN]]="","",S12+T12) -> 46021 | V12: =IF(Table1[[#This Row],[Hạn thanh toán]]="","",IF((U12-NOW())<0,0,(U12-NOW()))) -> 0 | X12: =IF(OR($U12="",$R12=0),"",IF(($U12-NOW())<0,-($U12-NOW()),0)) | Y12: =IF(R12=0,"Đã thanh toán",IF(X12="","",IF(X12<=0,"Chưa đến hạn thanh toán",IF(X12<=30,"Nợ quá hạn 30 ngày",IF(X12<=60,"Nợ quá hạn từ 30 ngày đến 60 ngày",IF(X12<=90,"Nợ quá hạn từ 60 ngày đến 90 ngày",IF(X12<=120,"Nợ quá hạn từ 90 ngày đến 120 ngày","Nợ quá hạn hơn 120 ngày có khả năng mất thanh toán"))))))) -> Đã thanh toán | Z12: =IF(OR(Table1[[#This Row],[Ngày hạch toán]]<>"",Table1[[#This Row],[Ngày tính CN]]<>""),IF(Table1[[#This Row],[Ngày hóa đơn]]<>"",Table1[[#This Row],[Ngày hóa đơn]],IF(Table1[[#This Row],[Ngày hạch toán]]<>"",Table1[[#This Row],[Ngày hạch toán]],"")),"") -> 46021 | AA12: =Table1[[#This Row],[Ngày Thanh toán]] -> 46042 | AD12: =IF(Table1[[#This Row],[Mã khách hàng]]="","",VLOOKUP($A12,Ma_KH!$A:$Q,Ma_KH!O$1,0)) -> SIBA MIỀN BẮC | AE12: =IF(Table1[[#This Row],[Mã khách hàng]]="","",VLOOKUP($A12,Ma_KH!$A:$Q,Ma_KH!P$1,0)) -> CHI NHÁNH CÔNG TY CỔ PHẦN SIBA FOOD VIỆT NAM TẠI HÀ NỘI | AF12: =VLOOKUP(A12,Ma_KH!A:Q,Ma_KH!J$1,0) -> Đỗ Minh Quang | AG12: =VLOOKUP(Table1[[#This Row],[Mã khách hàng]],Ma_KH!A:L,12,0) -> Hà Nội
A13: SIBA-HNI-TXN-25505-001 | B13: CHI NHÁNH CÔNG TY CỔ PHẦN SIBA FOOD VIỆT NAM TẠI HÀ NỘI | C13: 46021 | E13: 46021 | F13: 00002185 | H13: -197400 | I13: 0 | J13: -15792 | K13: -213192 | L13: Tồn đầu kỳ | M13: 46042 | O13: =IF(Table1[[#This Row],[Phân loại]]="Tồn đầu kỳ",Table1[[#This Row],[Tổng giá trị]],0) -> -213192 | P13: =IF(Table1[[#This Row],[Số còn phải thu ĐK]]<>0,0,Table1[[#This Row],[Tổng giá trị]]) -> 0 | Q13: =IF(M13<>"",IF(O13<>0,O13,P13),0) -> -213192 | R13: =Table1[[#This Row],[Số còn phải thu ĐK]]+Table1[[#This Row],[Giá Trị HD sau CK]]-Table1[[#This Row],[Số tiền đã thu]] -> 0 | S13: =IF(Table1[[#This Row],[Ngày hóa đơn]]<>"",Table1[[#This Row],[Ngày hóa đơn]],Table1[[#This Row],[Ngày hạch toán]]) -> 46021 | U13: =IF(Table1[[#This Row],[Ngày tính CN]]="","",S13+T13) -> 46021 | V13: =IF(Table1[[#This Row],[Hạn thanh toán]]="","",IF((U13-NOW())<0,0,(U13-NOW()))) -> 0 | X13: =IF(OR($U13="",$R13=0),"",IF(($U13-NOW())<0,-($U13-NOW()),0)) | Y13: =IF(R13=0,"Đã thanh toán",IF(X13="","",IF(X13<=0,"Chưa đến hạn thanh toán",IF(X13<=30,"Nợ quá hạn 30 ngày",IF(X13<=60,"Nợ quá hạn từ 30 ngày đến 60 ngày",IF(X13<=90,"Nợ quá hạn từ 60 ngày đến 90 ngày",IF(X13<=120,"Nợ quá hạn từ 90 ngày đến 120 ngày","Nợ quá hạn hơn 120 ngày có khả năng mất thanh toán"))))))) -> Đã thanh toán | Z13: =IF(OR(Table1[[#This Row],[Ngày hạch toán]]<>"",Table1[[#This Row],[Ngày tính CN]]<>""),IF(Table1[[#This Row],[Ngày hóa đơn]]<>"",Table1[[#This Row],[Ngày hóa đơn]],IF(Table1[[#This Row],[Ngày hạch toán]]<>"",Table1[[#This Row],[Ngày hạch toán]],"")),"") -> 46021 | AA13: =Table1[[#This Row],[Ngày Thanh toán]] -> 46042 | AD13: =IF(Table1[[#This Row],[Mã khách hàng]]="","",VLOOKUP($A13,Ma_KH!$A:$Q,Ma_KH!O$1,0)) -> SIBA MIỀN BẮC | AE13: =IF(Table1[[#This Row],[Mã khách hàng]]="","",VLOOKUP($A13,Ma_KH!$A:$Q,Ma_KH!P$1,0)) -> CHI NHÁNH CÔNG TY CỔ PHẦN SIBA FOOD VIỆT NAM TẠI HÀ NỘI | AF13: =VLOOKUP(A13,Ma_KH!A:Q,Ma_KH!J$1,0) -> Đỗ Minh Quang | AG13: =VLOOKUP(Table1[[#This Row],[Mã khách hàng]],Ma_KH!A:L,12,0) -> Hà Nội
A14: SIBA-HNI-TXN-25505-001 | B14: CHI NHÁNH CÔNG TY CỔ PHẦN SIBA FOOD VIỆT NAM TẠI HÀ NỘI | C14: 46021 | E14: 46021 | F14: 00002186 | H14: -209820 | I14: 0 | J14: -16786 | K14: -226606 | L14: Tồn đầu kỳ | M14: 46042 | O14: =IF(Table1[[#This Row],[Phân loại]]="Tồn đầu kỳ",Table1[[#This Row],[Tổng giá trị]],0) -> -226606 | P14: =IF(Table1[[#This Row],[Số còn phải thu ĐK]]<>0,0,Table1[[#This Row],[Tổng giá trị]]) -> 0 | Q14: =IF(M14<>"",IF(O14<>0,O14,P14),0) -> -226606 | R14: =Table1[[#This Row],[Số còn phải thu ĐK]]+Table1[[#This Row],[Giá Trị HD sau CK]]-Table1[[#This Row],[Số tiền đã thu]] -> 0 | S14: =IF(Table1[[#This Row],[Ngày hóa đơn]]<>"",Table1[[#This Row],[Ngày hóa đơn]],Table1[[#This Row],[Ngày hạch toán]]) -> 46021 | U14: =IF(Table1[[#This Row],[Ngày tính CN]]="","",S14+T14) -> 46021 | V14: =IF(Table1[[#This Row],[Hạn thanh toán]]="","",IF((U14-NOW())<0,0,(U14-NOW()))) -> 0 | X14: =IF(OR($U14="",$R14=0),"",IF(($U14-NOW())<0,-($U14-NOW()),0)) | Y14: =IF(R14=0,"Đã thanh toán",IF(X14="","",IF(X14<=0,"Chưa đến hạn thanh toán",IF(X14<=30,"Nợ quá hạn 30 ngày",IF(X14<=60,"Nợ quá hạn từ 30 ngày đến 60 ngày",IF(X14<=90,"Nợ quá hạn từ 60 ngày đến 90 ngày",IF(X14<=120,"Nợ quá hạn từ 90 ngày đến 120 ngày","Nợ quá hạn hơn 120 ngày có khả năng mất thanh toán"))))))) -> Đã thanh toán | Z14: =IF(OR(Table1[[#This Row],[Ngày hạch toán]]<>"",Table1[[#This Row],[Ngày tính CN]]<>""),IF(Table1[[#This Row],[Ngày hóa đơn]]<>"",Table1[[#This Row],[Ngày hóa đơn]],IF(Table1[[#This Row],[Ngày hạch toán]]<>"",Table1[[#This Row],[Ngày hạch toán]],"")),"") -> 46021 | AA14: =Table1[[#This Row],[Ngày Thanh toán]] -> 46042 | AD14: =IF(Table1[[#This Row],[Mã khách hàng]]="","",VLOOKUP($A14,Ma_KH!$A:$Q,Ma_KH!O$1,0)) -> SIBA MIỀN BẮC | AE14: =IF(Table1[[#This Row],[Mã khách hàng]]="","",VLOOKUP($A14,Ma_KH!$A:$Q,Ma_KH!P$1,0)) -> CHI NHÁNH CÔNG TY CỔ PHẦN SIBA FOOD VIỆT NAM TẠI HÀ NỘI | AF14: =VLOOKUP(A14,Ma_KH!A:Q,Ma_KH!J$1,0) -> Đỗ Minh Quang | AG14: =VLOOKUP(Table1[[#This Row],[Mã khách hàng]],Ma_KH!A:L,12,0) -> Hà Nội
A15: SIBA-HNI-TXN-25505-001 | B15: CHI NHÁNH CÔNG TY CỔ PHẦN SIBA FOOD VIỆT NAM TẠI HÀ NỘI | C15: 46025 | D15: BH00049 | E15: 46025 | F15: 00000102 | G15: Sibafood Vinhomes Green Bay, Mễ Trì | H15: 915689 | I15: 0 | J15: 73255 | K15: 988944 | L15: Bán hàng | M15: 46063 | O15: =IF(Table1[[#This Row],[Phân loại]]="Tồn đầu kỳ",Table1[[#This Row],[Tổng giá trị]],0) -> 0 | P15: =IF(Table1[[#This Row],[Số còn phải thu ĐK]]<>0,0,Table1[[#This Row],[Tổng giá trị]]) -> 988944 | Q15: =IF(M15<>"",IF(O15<>0,O15,P15),0) -> 988944 | R15: =Table1[[#This Row],[Số còn phải thu ĐK]]+Table1[[#This Row],[Giá Trị HD sau CK]]-Table1[[#This Row],[Số tiền đã thu]] -> 0 | S15: =IF(Table1[[#This Row],[Ngày hóa đơn]]<>"",Table1[[#This Row],[Ngày hóa đơn]],Table1[[#This Row],[Ngày hạch toán]]) -> 46025 | U15: =IF(Table1[[#This Row],[Ngày tính CN]]="","",S15+T15) -> 46025 | V15: =IF(Table1[[#This Row],[Hạn thanh toán]]="","",IF((U15-NOW())<0,0,(U15-NOW()))) -> 0 | X15: =IF(OR($U15="",$R15=0),"",IF(($U15-NOW())<0,-($U15-NOW()),0)) | Y15: =IF(R15=0,"Đã thanh toán",IF(X15="","",IF(X15<=0,"Chưa đến hạn thanh toán",IF(X15<=30,"Nợ quá hạn 30 ngày",IF(X15<=60,"Nợ quá hạn từ 30 ngày đến 60 ngày",IF(X15<=90,"Nợ quá hạn từ 60 ngày đến 90 ngày",IF(X15<=120,"Nợ quá hạn từ 90 ngày đến 120 ngày","Nợ quá hạn hơn 120 ngày có khả năng mất thanh toán"))))))) -> Đã thanh toán | Z15: =IF(OR(Table1[[#This Row],[Ngày hạch toán]]<>"",Table1[[#This Row],[Ngày tính CN]]<>""),IF(Table1[[#This Row],[Ngày hóa đơn]]<>"",Table1[[#This Row],[Ngày hóa đơn]],IF(Table1[[#This Row],[Ngày hạch toán]]<>"",Table1[[#This Row],[Ngày hạch toán]],"")),"") -> 46025 | AA15: =Table1[[#This Row],[Ngày Thanh toán]] -> 46063 | AD15: =IF(Table1[[#This Row],[Mã khách hàng]]="","",VLOOKUP($A15,Ma_KH!$A:$Q,Ma_KH!O$1,0)) -> SIBA MIỀN BẮC | AE15: =IF(Table1[[#This Row],[Mã khách hàng]]="","",VLOOKUP($A15,Ma_KH!$A:$Q,Ma_KH!P$1,0)) -> CHI NHÁNH CÔNG TY CỔ PHẦN SIBA FOOD VIỆT NAM TẠI HÀ NỘI | AF15: =VLOOKUP(A15,Ma_KH!A:Q,Ma_KH!J$1,0) -> Đỗ Minh Quang | AG15: =VLOOKUP(Table1[[#This Row],[Mã khách hàng]],Ma_KH!A:L,12,0) -> Hà Nội
A16: SIBA-HNI-TXN-25505-001 | B16: CHI NHÁNH CÔNG TY CỔ PHẦN SIBA FOOD VIỆT NAM TẠI HÀ NỘI | C16: 46027 | D16: BH00064 | E16: 46027 | F16: 00000109 | G16: Sibafood Hope Residences | H16: 1271916 | I16: 0 | J16: 101753 | K16: 1373669 | L16: Bán hàng | M16: 46063 | O16: =IF(Table1[[#This Row],[Phân loại]]="Tồn đầu kỳ",Table1[[#This Row],[Tổng giá trị]],0) -> 0 | P16: =IF(Table1[[#This Row],[Số còn phải thu ĐK]]<>0,0,Table1[[#This Row],[Tổng giá trị]]) -> 1373669 | Q16: =IF(M16<>"",IF(O16<>0,O16,P16),0) -> 1373669 | R16: =Table1[[#This Row],[Số còn phải thu ĐK]]+Table1[[#This Row],[Giá Trị HD sau CK]]-Table1[[#This Row],[Số tiền đã thu]] -> 0 | S16: =IF(Table1[[#This Row],[Ngày hóa đơn]]<>"",Table1[[#This Row],[Ngày hóa đơn]],Table1[[#This Row],[Ngày hạch toán]]) -> 46027 | U16: =IF(Table1[[#This Row],[Ngày tính CN]]="","",S16+T16) -> 46027 | V16: =IF(Table1[[#This Row],[Hạn thanh toán]]="","",IF((U16-NOW())<0,0,(U16-NOW()))) -> 0 | X16: =IF(OR($U16="",$R16=0),"",IF(($U16-NOW())<0,-($U16-NOW()),0)) | Y16: =IF(R16=0,"Đã thanh toán",IF(X16="","",IF(X16<=0,"Chưa đến hạn thanh toán",IF(X16<=30,"Nợ quá hạn 30 ngày",IF(X16<=60,"Nợ quá hạn từ 30 ngày đến 60 ngày",IF(X16<=90,"Nợ quá hạn từ 60 ngày đến 90 ngày",IF(X16<=120,"Nợ quá hạn từ 90 ngày đến 120 ngày","Nợ quá hạn hơn 120 ngày có khả năng mất thanh toán"))))))) -> Đã thanh toán | Z16: =IF(OR(Table1[[#This Row],[Ngày hạch toán]]<>"",Table1[[#This Row],[Ngày tính CN]]<>""),IF(Table1[[#This Row],[Ngày hóa đơn]]<>"",Table1[[#This Row],[Ngày hóa đơn]],IF(Table1[[#This Row],[Ngày hạch toán]]<>"",Table1[[#This Row],[Ngày hạch toán]],"")),"") -> 46027 | AA16: =Table1[[#This Row],[Ngày Thanh toán]] -> 46063 | AD16: =IF(Table1[[#This Row],[Mã khách hàng]]="","",VLOOKUP($A16,Ma_KH!$A:$Q,Ma_KH!O$1,0)) -> SIBA MIỀN BẮC | AE16: =IF(Table1[[#This Row],[Mã khách hàng]]="","",VLOOKUP($A16,Ma_KH!$A:$Q,Ma_KH!P$1,0)) -> CHI NHÁNH CÔNG TY CỔ PHẦN SIBA FOOD VIỆT NAM TẠI HÀ NỘI | AF16: =VLOOKUP(A16,Ma_KH!A:Q,Ma_KH!J$1,0) -> Đỗ Minh Quang | AG16: =VLOOKUP(Table1[[#This Row],[Mã khách hàng]],Ma_KH!A:L,12,0) -> Hà Nội
A17: SIBA-HNI-TXN-25505-001 | B17: CHI NHÁNH CÔNG TY CỔ PHẦN SIBA FOOD VIỆT NAM TẠI HÀ NỘI | C17: 46029 | D17: BH00671 | E17: 46029 | F17: 00001317 | G17: Sibafood S007 - Tòa Mulberry | H17: 552200 | I17: 0 | J17: 44176 | K17: 596376 | L17: Bán hàng | M17: 46063 | O17: =IF(Table1[[#This Row],[Phân loại]]="Tồn đầu kỳ",Table1[[#This Row],[Tổng giá trị]],0) -> 0 | P17: =IF(Table1[[#This Row],[Số còn phải thu ĐK]]<>0,0,Table1[[#This Row],[Tổng giá trị]]) -> 596376 | Q17: =IF(M17<>"",IF(O17<>0,O17,P17),0) -> 596376 | R17: =Table1[[#This Row],[Số còn phải thu ĐK]]+Table1[[#This Row],[Giá Trị HD sau CK]]-Table1[[#This Row],[Số tiền đã thu]] -> 0 | S17: =IF(Table1[[#This Row],[Ngày hóa đơn]]<>"",Table1[[#This Row],[Ngày hóa đơn]],Table1[[#This Row],[Ngày hạch toán]]) -> 46029 | U17: =IF(Table1[[#This Row],[Ngày tính CN]]="","",S17+T17) -> 46029 | V17: =IF(Table1[[#This Row],[Hạn thanh toán]]="","",IF((U17-NOW())<0,0,(U17-NOW()))) -> 0 | X17: =IF(OR($U17="",$R17=0),"",IF(($U17-NOW())<0,-($U17-NOW()),0)) | Y17: =IF(R17=0,"Đã thanh toán",IF(X17="","",IF(X17<=0,"Chưa đến hạn thanh toán",IF(X17<=30,"Nợ quá hạn 30 ngày",IF(X17<=60,"Nợ quá hạn từ 30 ngày đến 60 ngày",IF(X17<=90,"Nợ quá hạn từ 60 ngày đến 90 ngày",IF(X17<=120,"Nợ quá hạn từ 90 ngày đến 120 ngày","Nợ quá hạn hơn 120 ngày có khả năng mất thanh toán"))))))) -> Đã thanh toán | Z17: =IF(OR(Table1[[#This Row],[Ngày hạch toán]]<>"",Table1[[#This Row],[Ngày tính CN]]<>""),IF(Table1[[#This Row],[Ngày hóa đơn]]<>"",Table1[[#This Row],[Ngày hóa đơn]],IF(Table1[[#This Row],[Ngày hạch toán]]<>"",Table1[[#This Row],[Ngày hạch toán]],"")),"") -> 46029 | AA17: =Table1[[#This Row],[Ngày Thanh toán]] -> 46063 | AD17: =IF(Table1[[#This Row],[Mã khách hàng]]="","",VLOOKUP($A17,Ma_KH!$A:$Q,Ma_KH!O$1,0)) -> SIBA MIỀN BẮC | AE17: =IF(Table1[[#This Row],[Mã khách hàng]]="","",VLOOKUP($A17,Ma_KH!$A:$Q,Ma_KH!P$1,0)) -> CHI NHÁNH CÔNG TY CỔ PHẦN SIBA FOOD VIỆT NAM TẠI HÀ NỘI | AF17: =VLOOKUP(A17,Ma_KH!A:Q,Ma_KH!J$1,0) -> Đỗ Minh Quang | AG17: =VLOOKUP(Table1[[#This Row],[Mã khách hàng]],Ma_KH!A:L,12,0) -> Hà Nội
A18: SIBA-HNI-TXN-25505-001 | B18: CHI NHÁNH CÔNG TY CỔ PHẦN SIBA FOOD VIỆT NAM TẠI HÀ NỘI | C18: 46036 | D18: BH01756 | E18: 46036 | F18: 00002915 | G18: Sibafood Thăng Long Capital | H18: 2312925 | I18: 0 | J18: 185034 | K18: 2497959 | L18: Bán hàng | M18: 46063 | O18: =IF(Table1[[#This Row],[Phân loại]]="Tồn đầu kỳ",Table1[[#This Row],[Tổng giá trị]],0) -> 0 | P18: =IF(Table1[[#This Row],[Số còn phải thu ĐK]]<>0,0,Table1[[#This Row],[Tổng giá trị]]) -> 2497959 | Q18: =IF(M18<>"",IF(O18<>0,O18,P18),0) -> 2497959 | R18: =Table1[[#This Row],[Số còn phải thu ĐK]]+Table1[[#This Row],[Giá Trị HD sau CK]]-Table1[[#This Row],[Số tiền đã thu]] -> 0 | S18: =IF(Table1[[#This Row],[Ngày hóa đơn]]<>"",Table1[[#This Row],[Ngày hóa đơn]],Table1[[#This Row],[Ngày hạch toán]]) -> 46036 | U18: =IF(Table1[[#This Row],[Ngày tính CN]]="","",S18+T18) -> 46036 | V18: =IF(Table1[[#This Row],[Hạn thanh toán]]="","",IF((U18-NOW())<0,0,(U18-NOW()))) -> 0 | X18: =IF(OR($U18="",$R18=0),"",IF(($U18-NOW())<0,-($U18-NOW()),0)) | Y18: =IF(R18=0,"Đã thanh toán",IF(X18="","",IF(X18<=0,"Chưa đến hạn thanh toán",IF(X18<=30,"Nợ quá hạn 30 ngày",IF(X18<=60,"Nợ quá hạn từ 30 ngày đến 60 ngày",IF(X18<=90,"Nợ quá hạn từ 60 ngày đến 90 ngày",IF(X18<=120,"Nợ quá hạn từ 90 ngày đến 120 ngày","Nợ quá hạn hơn 120 ngày có khả năng mất thanh toán"))))))) -> Đã thanh toán | Z18: =IF(OR(Table1[[#This Row],[Ngày hạch toán]]<>"",Table1[[#This Row],[Ngày tính CN]]<>""),IF(Table1[[#This Row],[Ngày hóa đơn]]<>"",Table1[[#This Row],[Ngày hóa đơn]],IF(Table1[[#This Row],[Ngày hạch toán]]<>"",Table1[[#This Row],[Ngày hạch toán]],"")),"") -> 46036 | AA18: =Table1[[#This Row],[Ngày Thanh toán]] -> 46063 | AD18: =IF(Table1[[#This Row],[Mã khách hàng]]="","",VLOOKUP($A18,Ma_KH!$A:$Q,Ma_KH!O$1,0)) -> SIBA MIỀN BẮC | AE18: =IF(Table1[[#This Row],[Mã khách hàng]]="","",VLOOKUP($A18,Ma_KH!$A:$Q,Ma_KH!P$1,0)) -> CHI NHÁNH CÔNG TY CỔ PHẦN SIBA FOOD VIỆT NAM TẠI HÀ NỘI | AF18: =VLOOKUP(A18,Ma_KH!A:Q,Ma_KH!J$1,0) -> Đỗ Minh Quang | AG18: =VLOOKUP(Table1[[#This Row],[Mã khách hàng]],Ma_KH!A:L,12,0) -> Hà Nội
A19: SIBA-HNI-TXN-25505-001 | B19: CHI NHÁNH CÔNG TY CỔ PHẦN SIBA FOOD VIỆT NAM TẠI HÀ NỘI | C19: 46048 | D19: BH03721 | E19: 46048 | F19: 00006042 | G19: Sibafood Hope Residences | H19: 1600077 | I19: 0 | J19: 128006 | K19: 1728083 | L19: Bán hàng | M19: 46063 | O19: =IF(Table1[[#This Row],[Phân loại]]="Tồn đầu kỳ",Table1[[#This Row],[Tổng giá trị]],0) -> 0 | P19: =IF(Table1[[#This Row],[Số còn phải thu ĐK]]<>0,0,Table1[[#This Row],[Tổng giá trị]]) -> 1728083 | Q19: =IF(M19<>"",IF(O19<>0,O19,P19),0) -> 1728083 | R19: =Table1[[#This Row],[Số còn phải thu ĐK]]+Table1[[#This Row],[Giá Trị HD sau CK]]-Table1[[#This Row],[Số tiền đã thu]] -> 0 | S19: =IF(Table1[[#This Row],[Ngày hóa đơn]]<>"",Table1[[#This Row],[Ngày hóa đơn]],Table1[[#This Row],[Ngày hạch toán]]) -> 46048 | U19: =IF(Table1[[#This Row],[Ngày tính CN]]="","",S19+T19) -> 46048 | V19: =IF(Table1[[#This Row],[Hạn thanh toán]]="","",IF((U19-NOW())<0,0,(U19-NOW()))) -> 0 | X19: =IF(OR($U19="",$R19=0),"",IF(($U19-NOW())<0,-($U19-NOW()),0)) | Y19: =IF(R19=0,"Đã thanh toán",IF(X19="","",IF(X19<=0,"Chưa đến hạn thanh toán",IF(X19<=30,"Nợ quá hạn 30 ngày",IF(X19<=60,"Nợ quá hạn từ 30 ngày đến 60 ngày",IF(X19<=90,"Nợ quá hạn từ 60 ngày đến 90 ngày",IF(X19<=120,"Nợ quá hạn từ 90 ngày đến 120 ngày","Nợ quá hạn hơn 120 ngày có khả năng mất thanh toán"))))))) -> Đã thanh toán | Z19: =IF(OR(Table1[[#This Row],[Ngày hạch toán]]<>"",Table1[[#This Row],[Ngày tính CN]]<>""),IF(Table1[[#This Row],[Ngày hóa đơn]]<>"",Table1[[#This Row],[Ngày hóa đơn]],IF(Table1[[#This Row],[Ngày hạch toán]]<>"",Table1[[#This Row],[Ngày hạch toán]],"")),"") -> 46048 | AA19: =Table1[[#This Row],[Ngày Thanh toán]] -> 46063 | AD19: =IF(Table1[[#This Row],[Mã khách hàng]]="","",VLOOKUP($A19,Ma_KH!$A:$Q,Ma_KH!O$1,0)) -> SIBA MIỀN BẮC | AE19: =IF(Table1[[#This Row],[Mã khách hàng]]="","",VLOOKUP($A19,Ma_KH!$A:$Q,Ma_KH!P$1,0)) -> CHI NHÁNH CÔNG TY CỔ PHẦN SIBA FOOD VIỆT NAM TẠI HÀ NỘI | AF19: =VLOOKUP(A19,Ma_KH!A:Q,Ma_KH!J$1,0) -> Đỗ Minh Quang | AG19: =VLOOKUP(Table1[[#This Row],[Mã khách hàng]],Ma_KH!A:L,12,0) -> Hà Nội
A20: SIBA-HNI-TXN-25505-001 | B20: CHI NHÁNH CÔNG TY CỔ PHẦN SIBA FOOD VIỆT NAM TẠI HÀ NỘI | C20: 46049 | D20: BH04117 | E20: 46049 | F20: 00006176 | G20: Sibafood Vinhomes Green Bay, Mễ Trì | H20: 774173 | I20: 0 | J20: 61934 | K20: 836107 | L20: Bán hàng | M20: 46063 | O20: =IF(Table1[[#This Row],[Phân loại]]="Tồn đầu kỳ",Table1[[#This Row],[Tổng giá trị]],0) -> 0 | P20: =IF(Table1[[#This Row],[Số còn phải thu ĐK]]<>0,0,Table1[[#This Row],[Tổng giá trị]]) -> 836107 | Q20: =IF(M20<>"",IF(O20<>0,O20,P20),0) -> 836107 | R20: =Table1[[#This Row],[Số còn phải thu ĐK]]+Table1[[#This Row],[Giá Trị HD sau CK]]-Table1[[#This Row],[Số tiền đã thu]] -> 0 | S20: =IF(Table1[[#This Row],[Ngày hóa đơn]]<>"",Table1[[#This Row],[Ngày hóa đơn]],Table1[[#This Row],[Ngày hạch toán]]) -> 46049 | U20: =IF(Table1[[#This Row],[Ngày tính CN]]="","",S20+T20) -> 46049 | V20: =IF(Table1[[#This Row],[Hạn thanh toán]]="","",IF((U20-NOW())<0,0,(U20-NOW()))) -> 0 | X20: =IF(OR($U20="",$R20=0),"",IF(($U20-NOW())<0,-($U20-NOW()),0)) | Y20: =IF(R20=0,"Đã thanh toán",IF(X20="","",IF(X20<=0,"Chưa đến hạn thanh toán",IF(X20<=30,"Nợ quá hạn 30 ngày",IF(X20<=60,"Nợ quá hạn từ 30 ngày đến 60 ngày",IF(X20<=90,"Nợ quá hạn từ 60 ngày đến 90 ngày",IF(X20<=120,"Nợ quá hạn từ 90 ngày đến 120 ngày","Nợ quá hạn hơn 120 ngày có khả năng mất thanh toán"))))))) -> Đã thanh toán | Z20: =IF(OR(Table1[[#This Row],[Ngày hạch toán]]<>"",Table1[[#This Row],[Ngày tính CN]]<>""),IF(Table1[[#This Row],[Ngày hóa đơn]]<>"",Table1[[#This Row],[Ngày hóa đơn]],IF(Table1[[#This Row],[Ngày hạch toán]]<>"",Table1[[#This Row],[Ngày hạch toán]],"")),"") -> 46049 | AA20: =Table1[[#This Row],[Ngày Thanh toán]] -> 46063 | AD20: =IF(Table1[[#This Row],[Mã khách hàng]]="","",VLOOKUP($A20,Ma_KH!$A:$Q,Ma_KH!O$1,0)) -> SIBA MIỀN BẮC | AE20: =IF(Table1[[#This Row],[Mã khách hàng]]="","",VLOOKUP($A20,Ma_KH!$A:$Q,Ma_KH!P$1,0)) -> CHI NHÁNH CÔNG TY CỔ PHẦN SIBA FOOD VIỆT NAM TẠI HÀ NỘI | AF20: =VLOOKUP(A20,Ma_KH!A:Q,Ma_KH!J$1,0) -> Đỗ Minh Quang | AG20: =VLOOKUP(Table1[[#This Row],[Mã khách hàng]],Ma_KH!A:L,12,0) -> Hà Nội
A21: SIBA-HNI-TXN-25505-001 | B21: CHI NHÁNH CÔNG TY CỔ PHẦN SIBA FOOD VIỆT NAM TẠI HÀ NỘI | C21: 46028 | E21: 46057 | F21: 00000277 | G21: ĐÃ KIỂM TRA - Hàng trả - SIBA-HNI-NTL-0001 - Sibafood Vinhomes Green Bay, Mễ Trì - phiếu: 6001033609 - Phiếu ngày (06/01/2026) | H21: -138050 | I21: 0 | J21: -11044 | K21: -149094 | L21: Hàng trả | M21: 46063 | O21: =IF(Table1[[#This Row],[Phân loại]]="Tồn đầu kỳ",Table1[[#This Row],[Tổng giá trị]],0) -> 0 | P21: =IF(Table1[[#This Row],[Số còn phải thu ĐK]]<>0,0,Table1[[#This Row],[Tổng giá trị]]) -> -149094 | Q21: =IF(M21<>"",IF(O21<>0,O21,P21),0) -> -149094 | R21: =Table1[[#This Row],[Số còn phải thu ĐK]]+Table1[[#This Row],[Giá Trị HD sau CK]]-Table1[[#This Row],[Số tiền đã thu]] -> 0 | S21: =IF(Table1[[#This Row],[Ngày hóa đơn]]<>"",Table1[[#This Row],[Ngày hóa đơn]],Table1[[#This Row],[Ngày hạch toán]]) -> 46057 | U21: =IF(Table1[[#This Row],[Ngày tính CN]]="","",S21+T21) -> 46057 | V21: =IF(Table1[[#This Row],[Hạn thanh toán]]="","",IF((U21-NOW())<0,0,(U21-NOW()))) -> 0 | X21: =IF(OR($U21="",$R21=0),"",IF(($U21-NOW())<0,-($U21-NOW()),0)) | Y21: =IF(R21=0,"Đã thanh toán",IF(X21="","",IF(X21<=0,"Chưa đến hạn thanh toán",IF(X21<=30,"Nợ quá hạn 30 ngày",IF(X21<=60,"Nợ quá hạn từ 30 ngày đến 60 ngày",IF(X21<=90,"Nợ quá hạn từ 60 ngày đến 90 ngày",IF(X21<=120,"Nợ quá hạn từ 90 ngày đến 120 ngày","Nợ quá hạn hơn 120 ngày có khả năng mất thanh toán"))))))) -> Đã thanh toán | Z21: =IF(OR(Table1[[#This Row],[Ngày hạch toán]]<>"",Table1[[#This Row],[Ngày tính CN]]<>""),IF(Table1[[#This Row],[Ngày hóa đơn]]<>"",Table1[[#This Row],[Ngày hóa đơn]],IF(Table1[[#This Row],[Ngày hạch toán]]<>"",Table1[[#This Row],[Ngày hạch toán]],"")),"") -> 46057 | AA21: =Table1[[#This Row],[Ngày Thanh toán]] -> 46063 | AD21: =IF(Table1[[#This Row],[Mã khách hàng]]="","",VLOOKUP($A21,Ma_KH!$A:$Q,Ma_KH!O$1,0)) -> SIBA MIỀN BẮC | AE21: =IF(Table1[[#This Row],[Mã khách hàng]]="","",VLOOKUP($A21,Ma_KH!$A:$Q,Ma_KH!P$1,0)) -> CHI NHÁNH CÔNG TY CỔ PHẦN SIBA FOOD VIỆT NAM TẠI HÀ NỘI | AF21: =VLOOKUP(A21,Ma_KH!A:Q,Ma_KH!J$1,0) -> Đỗ Minh Quang | AG21: =VLOOKUP(Table1[[#This Row],[Mã khách hàng]],Ma_KH!A:L,12,0) -> Hà Nội
A22: SIBA-HNI-TXN-25505-001 | B22: CHI NHÁNH CÔNG TY CỔ PHẦN SIBA FOOD VIỆT NAM TẠI HÀ NỘI | C22: 46031 | E22: 46031 | G22: Hàng trả - SIBA-HNI-HDG-0018 - Sibafood S007 - Tòa Mulberry - 0901siba0018 - Phiếu ngày (09/01/2026) | H22: -214524 | I22: 0 | J22: -17162 | K22: -231686 | L22: Hàng trả | M22: 46063 | O22: =IF(Table1[[#This Row],[Phân loại]]="Tồn đầu kỳ",Table1[[#This Row],[Tổng giá trị]],0) -> 0 | P22: =IF(Table1[[#This Row],[Số còn phải thu ĐK]]<>0,0,Table1[[#This Row],[Tổng giá trị]]) -> -231686 | Q22: =IF(M22<>"",IF(O22<>0,O22,P22),0) -> -231686 | R22: =Table1[[#This Row],[Số còn phải thu ĐK]]+Table1[[#This Row],[Giá Trị HD sau CK]]-Table1[[#This Row],[Số tiền đã thu]] -> 0 | S22: =IF(Table1[[#This Row],[Ngày hóa đơn]]<>"",Table1[[#This Row],[Ngày hóa đơn]],Table1[[#This Row],[Ngày hạch toán]]) -> 46031 | U22: =IF(Table1[[#This Row],[Ngày tính CN]]="","",S22+T22) -> 46031 | V22: =IF(Table1[[#This Row],[Hạn thanh toán]]="","",IF((U22-NOW())<0,0,(U22-NOW()))) -> 0 | X22: =IF(OR($U22="",$R22=0),"",IF(($U22-NOW())<0,-($U22-NOW()),0)) | Y22: =IF(R22=0,"Đã thanh toán",IF(X22="","",IF(X22<=0,"Chưa đến hạn thanh toán",IF(X22<=30,"Nợ quá hạn 30 ngày",IF(X22<=60,"Nợ quá hạn từ 30 ngày đến 60 ngày",IF(X22<=90,"Nợ quá hạn từ 60 ngày đến 90 ngày",IF(X22<=120,"Nợ quá hạn từ 90 ngày đến 120 ngày","Nợ quá hạn hơn 120 ngày có khả năng mất thanh toán"))))))) -> Đã thanh toán | Z22: =IF(OR(Table1[[#This Row],[Ngày hạch toán]]<>"",Table1[[#This Row],[Ngày tính CN]]<>""),IF(Table1[[#This Row],[Ngày hóa đơn]]<>"",Table1[[#This Row],[Ngày hóa đơn]],IF(Table1[[#This Row],[Ngày hạch toán]]<>"",Table1[[#This Row],[Ngày hạch toán]],"")),"") -> 46031 | AA22: =Table1[[#This Row],[Ngày Thanh toán]] -> 46063 | AD22: =IF(Table1[[#This Row],[Mã khách hàng]]="","",VLOOKUP($A22,Ma_KH!$A:$Q,Ma_KH!O$1,0)) -> SIBA MIỀN BẮC | AE22: =IF(Table1[[#This Row],[Mã khách hàng]]="","",VLOOKUP($A22,Ma_KH!$A:$Q,Ma_KH!P$1,0)) -> CHI NHÁNH CÔNG TY CỔ PHẦN SIBA FOOD VIỆT NAM TẠI HÀ NỘI | AF22: =VLOOKUP(A22,Ma_KH!A:Q,Ma_KH!J$1,0) -> Đỗ Minh Quang | AG22: =VLOOKUP(Table1[[#This Row],[Mã khách hàng]],Ma_KH!A:L,12,0) -> Hà Nội
A23: SIBA-HNI-TXN-25505-001 | B23: CHI NHÁNH CÔNG TY CỔ PHẦN SIBA FOOD VIỆT NAM TẠI HÀ NỘI | C23: 46042 | E23: 46042 | G23: Hàng trả - SIBA-HNI-HDC-0005 - Sibafood Thăng Long Capital - 2001siba0018 - Phiếu ngày (20/01/2026) | H23: -214524 | I23: 0 | J23: -17162 | K23: -231686 | L23: Hàng trả | M23: 46063 | O23: =IF(Table1[[#This Row],[Phân loại]]="Tồn đầu kỳ",Table1[[#This Row],[Tổng giá trị]],0) -> 0 | P23: =IF(Table1[[#This Row],[Số còn phải thu ĐK]]<>0,0,Table1[[#This Row],[Tổng giá trị]]) -> -231686 | Q23: =IF(M23<>"",IF(O23<>0,O23,P23),0) -> -231686 | R23: =Table1[[#This Row],[Số còn phải thu ĐK]]+Table1[[#This Row],[Giá Trị HD sau CK]]-Table1[[#This Row],[Số tiền đã thu]] -> 0 | S23: =IF(Table1[[#This Row],[Ngày hóa đơn]]<>"",Table1[[#This Row],[Ngày hóa đơn]],Table1[[#This Row],[Ngày hạch toán]]) -> 46042 | U23: =IF(Table1[[#This Row],[Ngày tính CN]]="","",S23+T23) -> 46042 | V23: =IF(Table1[[#This Row],[Hạn thanh toán]]="","",IF((U23-NOW())<0,0,(U23-NOW()))) -> 0 | X23: =IF(OR($U23="",$R23=0),"",IF(($U23-NOW())<0,-($U23-NOW()),0)) | Y23: =IF(R23=0,"Đã thanh toán",IF(X23="","",IF(X23<=0,"Chưa đến hạn thanh toán",IF(X23<=30,"Nợ quá hạn 30 ngày",IF(X23<=60,"Nợ quá hạn từ 30 ngày đến 60 ngày",IF(X23<=90,"Nợ quá hạn từ 60 ngày đến 90 ngày",IF(X23<=120,"Nợ quá hạn từ 90 ngày đến 120 ngày","Nợ quá hạn hơn 120 ngày có khả năng mất thanh toán"))))))) -> Đã thanh toán | Z23: =IF(OR(Table1[[#This Row],[Ngày hạch toán]]<>"",Table1[[#This Row],[Ngày tính CN]]<>""),IF(Table1[[#This Row],[Ngày hóa đơn]]<>"",Table1[[#This Row],[Ngày hóa đơn]],IF(Table1[[#This Row],[Ngày hạch toán]]<>"",Table1[[#This Row],[Ngày hạch toán]],"")),"") -> 46042 | AA23: =Table1[[#This Row],[Ngày Thanh toán]] -> 46063 | AD23: =IF(Table1[[#This Row],[Mã khách hàng]]="","",VLOOKUP($A23,Ma_KH!$A:$Q,Ma_KH!O$1,0)) -> SIBA MIỀN BẮC | AE23: =IF(Table1[[#This Row],[Mã khách hàng]]="","",VLOOKUP($A23,Ma_KH!$A:$Q,Ma_KH!P$1,0)) -> CHI NHÁNH CÔNG TY CỔ PHẦN SIBA FOOD VIỆT NAM TẠI HÀ NỘI | AF23: =VLOOKUP(A23,Ma_KH!A:Q,Ma_KH!J$1,0) -> Đỗ Minh Quang | AG23: =VLOOKUP(Table1[[#This Row],[Mã khách hàng]],Ma_KH!A:L,12,0) -> Hà Nội
A24: SIBA-HNI-TXN-25505-001 | B24: CHI NHÁNH CÔNG TY CỔ PHẦN SIBA FOOD VIỆT NAM TẠI HÀ NỘI | C24: 46050 | E24: 46057 | F24: 00000277 | G24: Hàng trả - SIBA-HNI-NTL-0001 - Sibafood Vinhomes Green Bay, Mễ Trì - 2801siba0001 - Phiếu ngày (28/01/2026) | H24: -178639 | I24: 0 | J24: -14291 | K24: -192930 | L24: Hàng trả | M24: 46063 | O24: =IF(Table1[[#This Row],[Phân loại]]="Tồn đầu kỳ",Table1[[#This Row],[Tổng giá trị]],0) -> 0 | P24: =IF(Table1[[#This Row],[Số còn phải thu ĐK]]<>0,0,Table1[[#This Row],[Tổng giá trị]]) -> -192930 | Q24: =IF(M24<>"",IF(O24<>0,O24,P24),0) -> -192930 | R24: =Table1[[#This Row],[Số còn phải thu ĐK]]+Table1[[#This Row],[Giá Trị HD sau CK]]-Table1[[#This Row],[Số tiền đã thu]] -> 0 | S24: =IF(Table1[[#This Row],[Ngày hóa đơn]]<>"",Table1[[#This Row],[Ngày hóa đơn]],Table1[[#This Row],[Ngày hạch toán]]) -> 46057 | U24: =IF(Table1[[#This Row],[Ngày tính CN]]="","",S24+T24) -> 46057 | V24: =IF(Table1[[#This Row],[Hạn thanh toán]]="","",IF((U24-NOW())<0,0,(U24-NOW()))) -> 0 | X24: =IF(OR($U24="",$R24=0),"",IF(($U24-NOW())<0,-($U24-NOW()),0)) | Y24: =IF(R24=0,"Đã thanh toán",IF(X24="","",IF(X24<=0,"Chưa đến hạn thanh toán",IF(X24<=30,"Nợ quá hạn 30 ngày",IF(X24<=60,"Nợ quá hạn từ 30 ngày đến 60 ngày",IF(X24<=90,"Nợ quá hạn từ 60 ngày đến 90 ngày",IF(X24<=120,"Nợ quá hạn từ 90 ngày đến 120 ngày","Nợ quá hạn hơn 120 ngày có khả năng mất thanh toán"))))))) -> Đã thanh toán | Z24: =IF(OR(Table1[[#This Row],[Ngày hạch toán]]<>"",Table1[[#This Row],[Ngày tính CN]]<>""),IF(Table1[[#This Row],[Ngày hóa đơn]]<>"",Table1[[#This Row],[Ngày hóa đơn]],IF(Table1[[#This Row],[Ngày hạch toán]]<>"",Table1[[#This Row],[Ngày hạch toán]],"")),"") -> 46057 | AA24: =Table1[[#This Row],[Ngày Thanh toán]] -> 46063 | AD24: =IF(Table1[[#This Row],[Mã khách hàng]]="","",VLOOKUP($A24,Ma_KH!$A:$Q,Ma_KH!O$1,0)) -> SIBA MIỀN BẮC | AE24: =IF(Table1[[#This Row],[Mã khách hàng]]="","",VLOOKUP($A24,Ma_KH!$A:$Q,Ma_KH!P$1,0)) -> CHI NHÁNH CÔNG TY CỔ PHẦN SIBA FOOD VIỆT NAM TẠI HÀ NỘI | AF24: =VLOOKUP(A24,Ma_KH!A:Q,Ma_KH!J$1,0) -> Đỗ Minh Quang | AG24: =VLOOKUP(Table1[[#This Row],[Mã khách hàng]],Ma_KH!A:L,12,0) -> Hà Nội
A25: SIBA-HNI-TXN-25505-001 | B25: CHI NHÁNH CÔNG TY CỔ PHẦN SIBA FOOD VIỆT NAM TẠI HÀ NỘI | C25: 46052 | E25: 46052 | G25: ĐÃ KIỂM TRA - Hàng trả - SIBA-HNI-LBN-0009 - Sibafood Hope Residences - phiếu: 600105093 - Phiếu ngày (30/01/2026) | H25: -57387 | I25: 0 | J25: -4591 | K25: -61978 | L25: Hàng trả | M25: 46063 | O25: =IF(Table1[[#This Row],[Phân loại]]="Tồn đầu kỳ",Table1[[#This Row],[Tổng giá trị]],0) -> 0 | P25: =IF(Table1[[#This Row],[Số còn phải thu ĐK]]<>0,0,Table1[[#This Row],[Tổng giá trị]]) -> -61978 | Q25: =IF(M25<>"",IF(O25<>0,O25,P25),0) -> -61978 | R25: =Table1[[#This Row],[Số còn phải thu ĐK]]+Table1[[#This Row],[Giá Trị HD sau CK]]-Table1[[#This Row],[Số tiền đã thu]] -> 0 | S25: =IF(Table1[[#This Row],[Ngày hóa đơn]]<>"",Table1[[#This Row],[Ngày hóa đơn]],Table1[[#This Row],[Ngày hạch toán]]) -> 46052 | U25: =IF(Table1[[#This Row],[Ngày tính CN]]="","",S25+T25) -> 46052 | V25: =IF(Table1[[#This Row],[Hạn thanh toán]]="","",IF((U25-NOW())<0,0,(U25-NOW()))) -> 0 | X25: =IF(OR($U25="",$R25=0),"",IF(($U25-NOW())<0,-($U25-NOW()),0)) | Y25: =IF(R25=0,"Đã thanh toán",IF(X25="","",IF(X25<=0,"Chưa đến hạn thanh toán",IF(X25<=30,"Nợ quá hạn 30 ngày",IF(X25<=60,"Nợ quá hạn từ 30 ngày đến 60 ngày",IF(X25<=90,"Nợ quá hạn từ 60 ngày đến 90 ngày",IF(X25<=120,"Nợ quá hạn từ 90 ngày đến 120 ngày","Nợ quá hạn hơn 120 ngày có khả năng mất thanh toán"))))))) -> Đã thanh toán | Z25: =IF(OR(Table1[[#This Row],[Ngày hạch toán]]<>"",Table1[[#This Row],[Ngày tính CN]]<>""),IF(Table1[[#This Row],[Ngày hóa đơn]]<>"",Table1[[#This Row],[Ngày hóa đơn]],IF(Table1[[#This Row],[Ngày hạch toán]]<>"",Table1[[#This Row],[Ngày hạch toán]],"")),"") -> 46052 | AA25: =Table1[[#This Row],[Ngày Thanh toán]] -> 46063 | AD25: =IF(Table1[[#This Row],[Mã khách hàng]]="","",VLOOKUP($A25,Ma_KH!$A:$Q,Ma_KH!O$1,0)) -> SIBA MIỀN BẮC | AE25: =IF(Table1[[#This Row],[Mã khách hàng]]="","",VLOOKUP($A25,Ma_KH!$A:$Q,Ma_KH!P$1,0)) -> CHI NHÁNH CÔNG TY CỔ PHẦN SIBA FOOD VIỆT NAM TẠI HÀ NỘI | AF25: =VLOOKUP(A25,Ma_KH!A:Q,Ma_KH!J$1,0) -> Đỗ Minh Quang | AG25: =VLOOKUP(Table1[[#This Row],[Mã khách hàng]],Ma_KH!A:L,12,0) -> Hà Nội
A26: SIBA-HNI-TXN-25505-001 | B26: CHI NHÁNH CÔNG TY CỔ PHẦN SIBA FOOD VIỆT NAM TẠI HÀ NỘI | C26: 46055 | D26: BH04904 | E26: 46055 | F26: 00008398 | G26: Sibafood Terra An Hưng | H26: 1354410 | I26: 0 | J26: 108353 | K26: 1462763 | L26: Bán hàng | M26: 46120 | O26: =IF(Table1[[#This Row],[Phân loại]]="Tồn đầu kỳ",Table1[[#This Row],[Tổng giá trị]],0) -> 0 | P26: =IF(Table1[[#This Row],[Số còn phải thu ĐK]]<>0,0,Table1[[#This Row],[Tổng giá trị]]) -> 1462763 | Q26: =IF(M26<>"",IF(O26<>0,O26,P26),0) -> 1462763 | R26: =Table1[[#This Row],[Số còn phải thu ĐK]]+Table1[[#This Row],[Giá Trị HD sau CK]]-Table1[[#This Row],[Số tiền đã thu]] -> 0 | S26: =IF(Table1[[#This Row],[Ngày hóa đơn]]<>"",Table1[[#This Row],[Ngày hóa đơn]],Table1[[#This Row],[Ngày hạch toán]]) -> 46055 | U26: =IF(Table1[[#This Row],[Ngày tính CN]]="","",S26+T26) -> 46055 | V26: =IF(Table1[[#This Row],[Hạn thanh toán]]="","",IF((U26-NOW())<0,0,(U26-NOW()))) -> 0 | X26: =IF(OR($U26="",$R26=0),"",IF(($U26-NOW())<0,-($U26-NOW()),0)) | Y26: =IF(R26=0,"Đã thanh toán",IF(X26="","",IF(X26<=0,"Chưa đến hạn thanh toán",IF(X26<=30,"Nợ quá hạn 30 ngày",IF(X26<=60,"Nợ quá hạn từ 30 ngày đến 60 ngày",IF(X26<=90,"Nợ quá hạn từ 60 ngày đến 90 ngày",IF(X26<=120,"Nợ quá hạn từ 90 ngày đến 120 ngày","Nợ quá hạn hơn 120 ngày có khả năng mất thanh toán"))))))) -> Đã thanh toán | Z26: =IF(OR(Table1[[#This Row],[Ngày hạch toán]]<>"",Table1[[#This Row],[Ngày tính CN]]<>""),IF(Table1[[#This Row],[Ngày hóa đơn]]<>"",Table1[[#This Row],[Ngày hóa đơn]],IF(Table1[[#This Row],[Ngày hạch toán]]<>"",Table1[[#This Row],[Ngày hạch toán]],"")),"") -> 46055 | AA26: =Table1[[#This Row],[Ngày Thanh toán]] -> 46120 | AD26: =IF(Table1[[#This Row],[Mã khách hàng]]="","",VLOOKUP($A26,Ma_KH!$A:$Q,Ma_KH!O$1,0)) -> SIBA MIỀN BẮC | AE26: =IF(Table1[[#This Row],[Mã khách hàng]]="","",VLOOKUP($A26,Ma_KH!$A:$Q,Ma_KH!P$1,0)) -> CHI NHÁNH CÔNG TY CỔ PHẦN SIBA FOOD VIỆT NAM TẠI HÀ NỘI | AF26: =VLOOKUP(A26,Ma_KH!A:Q,Ma_KH!J$1,0) -> Đỗ Minh Quang | AG26: =VLOOKUP(Table1[[#This Row],[Mã khách hàng]],Ma_KH!A:L,12,0) -> Hà Nội
A27: SIBA-HNI-TXN-25505-001 | B27: CHI NHÁNH CÔNG TY CỔ PHẦN SIBA FOOD VIỆT NAM TẠI HÀ NỘI | C27: 46056 | D27: BH05596 | E27: 46056 | F27: 00008530 | G27: Sibafood Thăng Long Capital | H27: 690250 | I27: 0 | J27: 55220 | K27: 745470 | L27: Bán hàng | M27: 46120 | O27: =IF(Table1[[#This Row],[Phân loại]]="Tồn đầu kỳ",Table1[[#This Row],[Tổng giá trị]],0) -> 0 | P27: =IF(Table1[[#This Row],[Số còn phải thu ĐK]]<>0,0,Table1[[#This Row],[Tổng giá trị]]) -> 745470 | Q27: =IF(M27<>"",IF(O27<>0,O27,P27),0) -> 745470 | R27: =Table1[[#This Row],[Số còn phải thu ĐK]]+Table1[[#This Row],[Giá Trị HD sau CK]]-Table1[[#This Row],[Số tiền đã thu]] -> 0 | S27: =IF(Table1[[#This Row],[Ngày hóa đơn]]<>"",Table1[[#This Row],[Ngày hóa đơn]],Table1[[#This Row],[Ngày hạch toán]]) -> 46056 | U27: =IF(Table1[[#This Row],[Ngày tính CN]]="","",S27+T27) -> 46056 | V27: =IF(Table1[[#This Row],[Hạn thanh toán]]="","",IF((U27-NOW())<0,0,(U27-NOW()))) -> 0 | X27: =IF(OR($U27="",$R27=0),"",IF(($U27-NOW())<0,-($U27-NOW()),0)) | Y27: =IF(R27=0,"Đã thanh toán",IF(X27="","",IF(X27<=0,"Chưa đến hạn thanh toán",IF(X27<=30,"Nợ quá hạn 30 ngày",IF(X27<=60,"Nợ quá hạn từ 30 ngày đến 60 ngày",IF(X27<=90,"Nợ quá hạn từ 60 ngày đến 90 ngày",IF(X27<=120,"Nợ quá hạn từ 90 ngày đến 120 ngày","Nợ quá hạn hơn 120 ngày có khả năng mất thanh toán"))))))) -> Đã thanh toán | Z27: =IF(OR(Table1[[#This Row],[Ngày hạch toán]]<>"",Table1[[#This Row],[Ngày tính CN]]<>""),IF(Table1[[#This Row],[Ngày hóa đơn]]<>"",Table1[[#This Row],[Ngày hóa đơn]],IF(Table1[[#This Row],[Ngày hạch toán]]<>"",Table1[[#This Row],[Ngày hạch toán]],"")),"") -> 46056 | AA27: =Table1[[#This Row],[Ngày Thanh toán]] -> 46120 | AD27: =IF(Table1[[#This Row],[Mã khách hàng]]="","",VLOOKUP($A27,Ma_KH!$A:$Q,Ma_KH!O$1,0)) -> SIBA MIỀN BẮC | AE27: =IF(Table1[[#This Row],[Mã khách hàng]]="","",VLOOKUP($A27,Ma_KH!$A:$Q,Ma_KH!P$1,0)) -> CHI NHÁNH CÔNG TY CỔ PHẦN SIBA FOOD VIỆT NAM TẠI HÀ NỘI | AF27: =VLOOKUP(A27,Ma_KH!A:Q,Ma_KH!J$1,0) -> Đỗ Minh Quang | AG27: =VLOOKUP(Table1[[#This Row],[Mã khách hàng]],Ma_KH!A:L,12,0) -> Hà Nội
A28: SIBA-HNI-TXN-25505-001 | B28: CHI NHÁNH CÔNG TY CỔ PHẦN SIBA FOOD VIỆT NAM TẠI HÀ NỘI | C28: 46059 | D28: BH06544 | E28: 46059 | F28: 00009564 | G28: Sibafood S007 - Tòa Mulberry | H28: 1716038 | I28: 0 | J28: 137283 | K28: 1853321 | L28: Bán hàng | M28: 46120 | O28: =IF(Table1[[#This Row],[Phân loại]]="Tồn đầu kỳ",Table1[[#This Row],[Tổng giá trị]],0) -> 0 | P28: =IF(Table1[[#This Row],[Số còn phải thu ĐK]]<>0,0,Table1[[#This Row],[Tổng giá trị]]) -> 1853321 | Q28: =IF(M28<>"",IF(O28<>0,O28,P28),0) -> 1853321 | R28: =Table1[[#This Row],[Số còn phải thu ĐK]]+Table1[[#This Row],[Giá Trị HD sau CK]]-Table1[[#This Row],[Số tiền đã thu]] -> 0 | S28: =IF(Table1[[#This Row],[Ngày hóa đơn]]<>"",Table1[[#This Row],[Ngày hóa đơn]],Table1[[#This Row],[Ngày hạch toán]]) -> 46059 | U28: =IF(Table1[[#This Row],[Ngày tính CN]]="","",S28+T28) -> 46059 | V28: =IF(Table1[[#This Row],[Hạn thanh toán]]="","",IF((U28-NOW())<0,0,(U28-NOW()))) -> 0 | X28: =IF(OR($U28="",$R28=0),"",IF(($U28-NOW())<0,-($U28-NOW()),0)) | Y28: =IF(R28=0,"Đã thanh toán",IF(X28="","",IF(X28<=0,"Chưa đến hạn thanh toán",IF(X28<=30,"Nợ quá hạn 30 ngày",IF(X28<=60,"Nợ quá hạn từ 30 ngày đến 60 ngày",IF(X28<=90,"Nợ quá hạn từ 60 ngày đến 90 ngày",IF(X28<=120,"Nợ quá hạn từ 90 ngày đến 120 ngày","Nợ quá hạn hơn 120 ngày có khả năng mất thanh toán"))))))) -> Đã thanh toán | Z28: =IF(OR(Table1[[#This Row],[Ngày hạch toán]]<>"",Table1[[#This Row],[Ngày tính CN]]<>""),IF(Table1[[#This Row],[Ngày hóa đơn]]<>"",Table1[[#This Row],[Ngày hóa đơn]],IF(Table1[[#This Row],[Ngày hạch toán]]<>"",Table1[[#This Row],[Ngày hạch toán]],"")),"") -> 46059 | AA28: =Table1[[#This Row],[Ngày Thanh toán]] -> 46120 | AD28: =IF(Table1[[#This Row],[Mã khách hàng]]="","",VLOOKUP($A28,Ma_KH!$A:$Q,Ma_KH!O$1,0)) -> SIBA MIỀN BẮC | AE28: =IF(Table1[[#This Row],[Mã khách hàng]]="","",VLOOKUP($A28,Ma_KH!$A:$Q,Ma_KH!P$1,0)) -> CHI NHÁNH CÔNG TY CỔ PHẦN SIBA FOOD VIỆT NAM TẠI HÀ NỘI | AF28: =VLOOKUP(A28,Ma_KH!A:Q,Ma_KH!J$1,0) -> Đỗ Minh Quang | AG28: =VLOOKUP(Table1[[#This Row],[Mã khách hàng]],Ma_KH!A:L,12,0) -> Hà Nội
A29: SIBA-HNI-TXN-25505-001 | B29: CHI NHÁNH CÔNG TY CỔ PHẦN SIBA FOOD VIỆT NAM TẠI HÀ NỘI | C29: 46059 | D29: BH06450 | E29: 46059 | F29: 00009530 | G29: Bán hàng S704- tầng 1 tòa N02 New Horizon city , 87 Lĩnh Nam, P. Vĩnh Tuy, Hai Bà Trưng, Hà Nội theo hóa đơn 00009530 , ĐƠN KHAI TRƯƠNG CK 10% ( GIAO HÀNG 7/2/2026) | H29: 1633872 | I29: 163388 | J29: 117639 | K29: 1588123 | L29: Bán hàng | M29: 46120 | O29: =IF(Table1[[#This Row],[Phân loại]]="Tồn đầu kỳ",Table1[[#This Row],[Tổng giá trị]],0) -> 0 | P29: =IF(Table1[[#This Row],[Số còn phải thu ĐK]]<>0,0,Table1[[#This Row],[Tổng giá trị]]) -> 1588123 | Q29: =IF(M29<>"",IF(O29<>0,O29,P29),0) -> 1588123 | R29: =Table1[[#This Row],[Số còn phải thu ĐK]]+Table1[[#This Row],[Giá Trị HD sau CK]]-Table1[[#This Row],[Số tiền đã thu]] -> 0 | S29: =IF(Table1[[#This Row],[Ngày hóa đơn]]<>"",Table1[[#This Row],[Ngày hóa đơn]],Table1[[#This Row],[Ngày hạch toán]]) -> 46059 | U29: =IF(Table1[[#This Row],[Ngày tính CN]]="","",S29+T29) -> 46059 | V29: =IF(Table1[[#This Row],[Hạn thanh toán]]="","",IF((U29-NOW())<0,0,(U29-NOW()))) -> 0 | X29: =IF(OR($U29="",$R29=0),"",IF(($U29-NOW())<0,-($U29-NOW()),0)) | Y29: =IF(R29=0,"Đã thanh toán",IF(X29="","",IF(X29<=0,"Chưa đến hạn thanh toán",IF(X29<=30,"Nợ quá hạn 30 ngày",IF(X29<=60,"Nợ quá hạn từ 30 ngày đến 60 ngày",IF(X29<=90,"Nợ quá hạn từ 60 ngày đến 90 ngày",IF(X29<=120,"Nợ quá hạn từ 90 ngày đến 120 ngày","Nợ quá hạn hơn 120 ngày có khả năng mất thanh toán"))))))) -> Đã thanh toán | Z29: =IF(OR(Table1[[#This Row],[Ngày hạch toán]]<>"",Table1[[#This Row],[Ngày tính CN]]<>""),IF(Table1[[#This Row],[Ngày hóa đơn]]<>"",Table1[[#This Row],[Ngày hóa đơn]],IF(Table1[[#This Row],[Ngày hạch toán]]<>"",Table1[[#This Row],[Ngày hạch toán]],"")),"") -> 46059 | AA29: =Table1[[#This Row],[Ngày Thanh toán]] -> 46120 | AD29: =IF(Table1[[#This Row],[Mã khách hàng]]="","",VLOOKUP($A29,Ma_KH!$A:$Q,Ma_KH!O$1,0)) -> SIBA MIỀN BẮC | AE29: =IF(Table1[[#This Row],[Mã khách hàng]]="","",VLOOKUP($A29,Ma_KH!$A:$Q,Ma_KH!P$1,0)) -> CHI NHÁNH CÔNG TY CỔ PHẦN SIBA FOOD VIỆT NAM TẠI HÀ NỘI | AF29: =VLOOKUP(A29,Ma_KH!A:Q,Ma_KH!J$1,0) -> Đỗ Minh Quang | AG29: =VLOOKUP(Table1[[#This Row],[Mã khách hàng]],Ma_KH!A:L,12,0) -> Hà Nội
A30: SIBA-HNI-TXN-25505-001 | B30: CHI NHÁNH CÔNG TY CỔ PHẦN SIBA FOOD VIỆT NAM TẠI HÀ NỘI | C30: 46057 | E30: 46057 | F30: 00000355 | G30: Hàng trả - SIBA-HNI-NTL-0001 - Sibafood Vinhomes Green Bay, Mễ Trì - 0402siba0001 - Phiếu ngày (04/02/2026) | H30: -214524 | I30: 0 | J30: -17162 | K30: -231686 | L30: Hàng trả | M30: 46120 | O30: =IF(Table1[[#This Row],[Phân loại]]="Tồn đầu kỳ",Table1[[#This Row],[Tổng giá trị]],0) -> 0 | P30: =IF(Table1[[#This Row],[Số còn phải thu ĐK]]<>0,0,Table1[[#This Row],[Tổng giá trị]]) -> -231686 | Q30: =IF(M30<>"",IF(O30<>0,O30,P30),0) -> -231686 | R30: =Table1[[#This Row],[Số còn phải thu ĐK]]+Table1[[#This Row],[Giá Trị HD sau CK]]-Table1[[#This Row],[Số tiền đã thu]] -> 0 | S30: =IF(Table1[[#This Row],[Ngày hóa đơn]]<>"",Table1[[#This Row],[Ngày hóa đơn]],Table1[[#This Row],[Ngày hạch toán]]) -> 46057 | U30: =IF(Table1[[#This Row],[Ngày tính CN]]="","",S30+T30) -> 46057 | V30: =IF(Table1[[#This Row],[Hạn thanh toán]]="","",IF((U30-NOW())<0,0,(U30-NOW()))) -> 0 | X30: =IF(OR($U30="",$R30=0),"",IF(($U30-NOW())<0,-($U30-NOW()),0)) | Y30: =IF(R30=0,"Đã thanh toán",IF(X30="","",IF(X30<=0,"Chưa đến hạn thanh toán",IF(X30<=30,"Nợ quá hạn 30 ngày",IF(X30<=60,"Nợ quá hạn từ 30 ngày đến 60 ngày",IF(X30<=90,"Nợ quá hạn từ 60 ngày đến 90 ngày",IF(X30<=120,"Nợ quá hạn từ 90 ngày đến 120 ngày","Nợ quá hạn hơn 120 ngày có khả năng mất thanh toán"))))))) -> Đã thanh toán | Z30: =IF(OR(Table1[[#This Row],[Ngày hạch toán]]<>"",Table1[[#This Row],[Ngày tính CN]]<>""),IF(Table1[[#This Row],[Ngày hóa đơn]]<>"",Table1[[#This Row],[Ngày hóa đơn]],IF(Table1[[#This Row],[Ngày hạch toán]]<>"",Table1[[#This Row],[Ngày hạch toán]],"")),"") -> 46057 | AA30: =Table1[[#This Row],[Ngày Thanh toán]] -> 46120 | AD30: =IF(Table1[[#This Row],[Mã khách hàng]]="","",VLOOKUP($A30,Ma_KH!$A:$Q,Ma_KH!O$1,0)) -> SIBA MIỀN BẮC | AE30: =IF(Table1[[#This Row],[Mã khách hàng]]="","",VLOOKUP($A30,Ma_KH!$A:$Q,Ma_KH!P$1,0)) -> CHI NHÁNH CÔNG TY CỔ PHẦN SIBA FOOD VIỆT NAM TẠI HÀ NỘI | AF30: =VLOOKUP(A30,Ma_KH!A:Q,Ma_KH!J$1,0) -> Đỗ Minh Quang | AG30: =VLOOKUP(Table1[[#This Row],[Mã khách hàng]],Ma_KH!A:L,12,0) -> Hà Nội
A31: SIBA-HNI-TXN-25505-001 | B31: CHI NHÁNH CÔNG TY CỔ PHẦN SIBA FOOD VIỆT NAM TẠI HÀ NỘI | C31: 46083 | D31: BH18848 | E31: 46083 | F31: 00014698 | G31: Sibafood S007 - Tòa Mulberry | H31: 543987 | I31: 0 | J31: 43519 | K31: 587506 | L31: Bán hàng | M31: 46148 | O31: =IF(Table1[[#This Row],[Phân loại]]="Tồn đầu kỳ",Table1[[#This Row],[Tổng giá trị]],0) -> 0 | P31: =IF(Table1[[#This Row],[Số còn phải thu ĐK]]<>0,0,Table1[[#This Row],[Tổng giá trị]]) -> 587506 | Q31: =IF(M31<>"",IF(O31<>0,O31,P31),0) -> 587506 | R31: =Table1[[#This Row],[Số còn phải thu ĐK]]+Table1[[#This Row],[Giá Trị HD sau CK]]-Table1[[#This Row],[Số tiền đã thu]] -> 0 | S31: =IF(Table1[[#This Row],[Ngày hóa đơn]]<>"",Table1[[#This Row],[Ngày hóa đơn]],Table1[[#This Row],[Ngày hạch toán]]) -> 46083 | U31: =IF(Table1[[#This Row],[Ngày tính CN]]="","",S31+T31) -> 46083 | V31: =IF(Table1[[#This Row],[Hạn thanh toán]]="","",IF((U31-NOW())<0,0,(U31-NOW()))) -> 0 | X31: =IF(OR($U31="",$R31=0),"",IF(($U31-NOW())<0,-($U31-NOW()),0)) | Y31: =IF(R31=0,"Đã thanh toán",IF(X31="","",IF(X31<=0,"Chưa đến hạn thanh toán",IF(X31<=30,"Nợ quá hạn 30 ngày",IF(X31<=60,"Nợ quá hạn từ 30 ngày đến 60 ngày",IF(X31<=90,"Nợ quá hạn từ 60 ngày đến 90 ngày",IF(X31<=120,"Nợ quá hạn từ 90 ngày đến 120 ngày","Nợ quá hạn hơn 120 ngày có khả năng mất thanh toán"))))))) -> Đã thanh toán | Z31: =IF(OR(Table1[[#This Row],[Ngày hạch toán]]<>"",Table1[[#This Row],[Ngày tính CN]]<>""),IF(Table1[[#This Row],[Ngày hóa đơn]]<>"",Table1[[#This Row],[Ngày hóa đơn]],IF(Table1[[#This Row],[Ngày hạch toán]]<>"",Table1[[#This Row],[Ngày hạch toán]],"")),"") -> 46083 | AA31: =Table1[[#This Row],[Ngày Thanh toán]] -> 46148 | AD31: =IF(Table1[[#This Row],[Mã khách hàng]]="","",VLOOKUP($A31,Ma_KH!$A:$Q,Ma_KH!O$1,0)) -> SIBA MIỀN BẮC | AE31: =IF(Table1[[#This Row],[Mã khách hàng]]="","",VLOOKUP($A31,Ma_KH!$A:$Q,Ma_KH!P$1,0)) -> CHI NHÁNH CÔNG TY CỔ PHẦN SIBA FOOD VIỆT NAM TẠI HÀ NỘI | AF31: =VLOOKUP(A31,Ma_KH!A:Q,Ma_KH!J$1,0) -> Đỗ Minh Quang | AG31: =VLOOKUP(Table1[[#This Row],[Mã khách hàng]],Ma_KH!A:L,12,0) -> Hà Nội
A32: SIBA-HNI-TXN-25505-001 | B32: CHI NHÁNH CÔNG TY CỔ PHẦN SIBA FOOD VIỆT NAM TẠI HÀ NỘI | C32: 46083 | D32: BH18850 | E32: 46083 | F32: 00014700 | G32: Sibafood Vinhomes Green Bay, Mễ Trì | H32: 727341 | I32: 0 | J32: 58187 | K32: 785528 | L32: Bán hàng | M32: 46148 | O32: =IF(Table1[[#This Row],[Phân loại]]="Tồn đầu kỳ",Table1[[#This Row],[Tổng giá trị]],0) -> 0 | P32: =IF(Table1[[#This Row],[Số còn phải thu ĐK]]<>0,0,Table1[[#This Row],[Tổng giá trị]]) -> 785528 | Q32: =IF(M32<>"",IF(O32<>0,O32,P32),0) -> 785528 | R32: =Table1[[#This Row],[Số còn phải thu ĐK]]+Table1[[#This Row],[Giá Trị HD sau CK]]-Table1[[#This Row],[Số tiền đã thu]] -> 0 | S32: =IF(Table1[[#This Row],[Ngày hóa đơn]]<>"",Table1[[#This Row],[Ngày hóa đơn]],Table1[[#This Row],[Ngày hạch toán]]) -> 46083 | U32: =IF(Table1[[#This Row],[Ngày tính CN]]="","",S32+T32) -> 46083 | V32: =IF(Table1[[#This Row],[Hạn thanh toán]]="","",IF((U32-NOW())<0,0,(U32-NOW()))) -> 0 | X32: =IF(OR($U32="",$R32=0),"",IF(($U32-NOW())<0,-($U32-NOW()),0)) | Y32: =IF(R32=0,"Đã thanh toán",IF(X32="","",IF(X32<=0,"Chưa đến hạn thanh toán",IF(X32<=30,"Nợ quá hạn 30 ngày",IF(X32<=60,"Nợ quá hạn từ 30 ngày đến 60 ngày",IF(X32<=90,"Nợ quá hạn từ 60 ngày đến 90 ngày",IF(X32<=120,"Nợ quá hạn từ 90 ngày đến 120 ngày","Nợ quá hạn hơn 120 ngày có khả năng mất thanh toán"))))))) -> Đã thanh toán | Z32: =IF(OR(Table1[[#This Row],[Ngày hạch toán]]<>"",Table1[[#This Row],[Ngày tính CN]]<>""),IF(Table1[[#This Row],[Ngày hóa đơn]]<>"",Table1[[#This Row],[Ngày hóa đơn]],IF(Table1[[#This Row],[Ngày hạch toán]]<>"",Table1[[#This Row],[Ngày hạch toán]],"")),"") -> 46083 | AA32: =Table1[[#This Row],[Ngày Thanh toán]] -> 46148 | AD32: =IF(Table1[[#This Row],[Mã khách hàng]]="","",VLOOKUP($A32,Ma_KH!$A:$Q,Ma_KH!O$1,0)) -> SIBA MIỀN BẮC | AE32: =IF(Table1[[#This Row],[Mã khách hàng]]="","",VLOOKUP($A32,Ma_KH!$A:$Q,Ma_KH!P$1,0)) -> CHI NHÁNH CÔNG TY CỔ PHẦN SIBA FOOD VIỆT NAM TẠI HÀ NỘI | AF32: =VLOOKUP(A32,Ma_KH!A:Q,Ma_KH!J$1,0) -> Đỗ Minh Quang | AG32: =VLOOKUP(Table1[[#This Row],[Mã khách hàng]],Ma_KH!A:L,12,0) -> Hà Nội
A33: SIBA-HNI-TXN-25505-001 | B33: CHI NHÁNH CÔNG TY CỔ PHẦN SIBA FOOD VIỆT NAM TẠI HÀ NỘI | C33: 46083 | D33: BH18849 | E33: 46083 | F33: 00014699 | G33: Sibafood Hope Residences | H33: 564702 | I33: 0 | J33: 45176 | K33: 609878 | L33: Bán hàng | M33: 46148 | O33: =IF(Table1[[#This Row],[Phân loại]]="Tồn đầu kỳ",Table1[[#This Row],[Tổng giá trị]],0) -> 0 | P33: =IF(Table1[[#This Row],[Số còn phải thu ĐK]]<>0,0,Table1[[#This Row],[Tổng giá trị]]) -> 609878 | Q33: =IF(M33<>"",IF(O33<>0,O33,P33),0) -> 609878 | R33: =Table1[[#This Row],[Số còn phải thu ĐK]]+Table1[[#This Row],[Giá Trị HD sau CK]]-Table1[[#This Row],[Số tiền đã thu]] -> 0 | S33: =IF(Table1[[#This Row],[Ngày hóa đơn]]<>"",Table1[[#This Row],[Ngày hóa đơn]],Table1[[#This Row],[Ngày hạch toán]]) -> 46083 | U33: =IF(Table1[[#This Row],[Ngày tính CN]]="","",S33+T33) -> 46083 | V33: =IF(Table1[[#This Row],[Hạn thanh toán]]="","",IF((U33-NOW())<0,0,(U33-NOW()))) -> 0 | X33: =IF(OR($U33="",$R33=0),"",IF(($U33-NOW())<0,-($U33-NOW()),0)) | Y33: =IF(R33=0,"Đã thanh toán",IF(X33="","",IF(X33<=0,"Chưa đến hạn thanh toán",IF(X33<=30,"Nợ quá hạn 30 ngày",IF(X33<=60,"Nợ quá hạn từ 30 ngày đến 60 ngày",IF(X33<=90,"Nợ quá hạn từ 60 ngày đến 90 ngày",IF(X33<=120,"Nợ quá hạn từ 90 ngày đến 120 ngày","Nợ quá hạn hơn 120 ngày có khả năng mất thanh toán"))))))) -> Đã thanh toán | Z33: =IF(OR(Table1[[#This Row],[Ngày hạch toán]]<>"",Table1[[#This Row],[Ngày tính CN]]<>""),IF(Table1[[#This Row],[Ngày hóa đơn]]<>"",Table1[[#This Row],[Ngày hóa đơn]],IF(Table1[[#This Row],[Ngày hạch toán]]<>"",Table1[[#This Row],[Ngày hạch toán]],"")),"") -> 46083 | AA33: =Table1[[#This Row],[Ngày Thanh toán]] -> 46148 | AD33: =IF(Table1[[#This Row],[Mã khách hàng]]="","",VLOOKUP($A33,Ma_KH!$A:$Q,Ma_KH!O$1,0)) -> SIBA MIỀN BẮC | AE33: =IF(Table1[[#This Row],[Mã khách hàng]]="","",VLOOKUP($A33,Ma_KH!$A:$Q,Ma_KH!P$1,0)) -> CHI NHÁNH CÔNG TY CỔ PHẦN SIBA FOOD VIỆT NAM TẠI HÀ NỘI | AF33: =VLOOKUP(A33,Ma_KH!A:Q,Ma_KH!J$1,0) -> Đỗ Minh Quang | AG33: =VLOOKUP(Table1[[#This Row],[Mã khách hàng]],Ma_KH!A:L,12,0) -> Hà Nội
A34: SIBA-HNI-TXN-25505-001 | B34: CHI NHÁNH CÔNG TY CỔ PHẦN SIBA FOOD VIỆT NAM TẠI HÀ NỘI | C34: 46083 | D34: BH18847 | E34: 46083 | F34: 00014697 | G34: S704- tầng 1 tòa N02 New Horizon city , 87 Lĩnh Nam, P. Vĩnh Tuy, Hai Bà Trưng, Hà Nội | H34: 1045889 | I34: 0 | J34: 83671 | K34: 1129560 | L34: Bán hàng | M34: 46148 | O34: =IF(Table1[[#This Row],[Phân loại]]="Tồn đầu kỳ",Table1[[#This Row],[Tổng giá trị]],0) -> 0 | P34: =IF(Table1[[#This Row],[Số còn phải thu ĐK]]<>0,0,Table1[[#This Row],[Tổng giá trị]]) -> 1129560 | Q34: =IF(M34<>"",IF(O34<>0,O34,P34),0) -> 1129560 | R34: =Table1[[#This Row],[Số còn phải thu ĐK]]+Table1[[#This Row],[Giá Trị HD sau CK]]-Table1[[#This Row],[Số tiền đã thu]] -> 0 | S34: =IF(Table1[[#This Row],[Ngày hóa đơn]]<>"",Table1[[#This Row],[Ngày hóa đơn]],Table1[[#This Row],[Ngày hạch toán]]) -> 46083 | U34: =IF(Table1[[#This Row],[Ngày tính CN]]="","",S34+T34) -> 46083 | V34: =IF(Table1[[#This Row],[Hạn thanh toán]]="","",IF((U34-NOW())<0,0,(U34-NOW()))) -> 0 | X34: =IF(OR($U34="",$R34=0),"",IF(($U34-NOW())<0,-($U34-NOW()),0)) | Y34: =IF(R34=0,"Đã thanh toán",IF(X34="","",IF(X34<=0,"Chưa đến hạn thanh toán",IF(X34<=30,"Nợ quá hạn 30 ngày",IF(X34<=60,"Nợ quá hạn từ 30 ngày đến 60 ngày",IF(X34<=90,"Nợ quá hạn từ 60 ngày đến 90 ngày",IF(X34<=120,"Nợ quá hạn từ 90 ngày đến 120 ngày","Nợ quá hạn hơn 120 ngày có khả năng mất thanh toán"))))))) -> Đã thanh toán | Z34: =IF(OR(Table1[[#This Row],[Ngày hạch toán]]<>"",Table1[[#This Row],[Ngày tính CN]]<>""),IF(Table1[[#This Row],[Ngày hóa đơn]]<>"",Table1[[#This Row],[Ngày hóa đơn]],IF(Table1[[#This Row],[Ngày hạch toán]]<>"",Table1[[#This Row],[Ngày hạch toán]],"")),"") -> 46083 | AA34: =Table1[[#This Row],[Ngày Thanh toán]] -> 46148 | AD34: =IF(Table1[[#This Row],[Mã khách hàng]]="","",VLOOKUP($A34,Ma_KH!$A:$Q,Ma_KH!O$1,0)) -> SIBA MIỀN BẮC | AE34: =IF(Table1[[#This Row],[Mã khách hàng]]="","",VLOOKUP($A34,Ma_KH!$A:$Q,Ma_KH!P$1,0)) -> CHI NHÁNH CÔNG TY CỔ PHẦN SIBA FOOD VIỆT NAM TẠI HÀ NỘI | AF34: =VLOOKUP(A34,Ma_KH!A:Q,Ma_KH!J$1,0) -> Đỗ Minh Quang | AG34: =VLOOKUP(Table1[[#This Row],[Mã khách hàng]],Ma_KH!A:L,12,0) -> Hà Nội
A35: SIBA-HNI-TXN-25505-001 | B35: CHI NHÁNH CÔNG TY CỔ PHẦN SIBA FOOD VIỆT NAM TẠI HÀ NỘI | C35: 46094 | D35: BH21673 | E35: 46094 | F35: 00018486 | G35: Sibafood S007 - Tòa Mulberry | H35: 414150 | I35: 0 | J35: 33132 | K35: 447282 | L35: Bán hàng | M35: 46148 | O35: =IF(Table1[[#This Row],[Phân loại]]="Tồn đầu kỳ",Table1[[#This Row],[Tổng giá trị]],0) -> 0 | P35: =IF(Table1[[#This Row],[Số còn phải thu ĐK]]<>0,0,Table1[[#This Row],[Tổng giá trị]]) -> 447282 | Q35: =IF(M35<>"",IF(O35<>0,O35,P35),0) -> 447282 | R35: =Table1[[#This Row],[Số còn phải thu ĐK]]+Table1[[#This Row],[Giá Trị HD sau CK]]-Table1[[#This Row],[Số tiền đã thu]] -> 0 | S35: =IF(Table1[[#This Row],[Ngày hóa đơn]]<>"",Table1[[#This Row],[Ngày hóa đơn]],Table1[[#This Row],[Ngày hạch toán]]) -> 46094 | U35: =IF(Table1[[#This Row],[Ngày tính CN]]="","",S35+T35) -> 46094 | V35: =IF(Table1[[#This Row],[Hạn thanh toán]]="","",IF((U35-NOW())<0,0,(U35-NOW()))) -> 0 | X35: =IF(OR($U35="",$R35=0),"",IF(($U35-NOW())<0,-($U35-NOW()),0)) | Y35: =IF(R35=0,"Đã thanh toán",IF(X35="","",IF(X35<=0,"Chưa đến hạn thanh toán",IF(X35<=30,"Nợ quá hạn 30 ngày",IF(X35<=60,"Nợ quá hạn từ 30 ngày đến 60 ngày",IF(X35<=90,"Nợ quá hạn từ 60 ngày đến 90 ngày",IF(X35<=120,"Nợ quá hạn từ 90 ngày đến 120 ngày","Nợ quá hạn hơn 120 ngày có khả năng mất thanh toán"))))))) -> Đã thanh toán | Z35: =IF(OR(Table1[[#This Row],[Ngày hạch toán]]<>"",Table1[[#This Row],[Ngày tính CN]]<>""),IF(Table1[[#This Row],[Ngày hóa đơn]]<>"",Table1[[#This Row],[Ngày hóa đơn]],IF(Table1[[#This Row],[Ngày hạch toán]]<>"",Table1[[#This Row],[Ngày hạch toán]],"")),"") -> 46094 | AA35: =Table1[[#This Row],[Ngày Thanh toán]] -> 46148 | AD35: =IF(Table1[[#This Row],[Mã khách hàng]]="","",VLOOKUP($A35,Ma_KH!$A:$Q,Ma_KH!O$1,0)) -> SIBA MIỀN BẮC | AE35: =IF(Table1[[#This Row],[Mã khách hàng]]="","",VLOOKUP($A35,Ma_KH!$A:$Q,Ma_KH!P$1,0)) -> CHI NHÁNH CÔNG TY CỔ PHẦN SIBA FOOD VIỆT NAM TẠI HÀ NỘI | AF35: =VLOOKUP(A35,Ma_KH!A:Q,Ma_KH!J$1,0) -> Đỗ Minh Quang | AG35: =VLOOKUP(Table1[[#This Row],[Mã khách hàng]],Ma_KH!A:L,12,0) -> Hà Nội
A36: SIBA-HNI-TXN-25505-001 | B36: CHI NHÁNH CÔNG TY CỔ PHẦN SIBA FOOD VIỆT NAM TẠI HÀ NỘI | C36: 46099 | D36: BH22698 | E36: 46099 | F36: 00020685 | G36: Sibafood Hope Residences | H36: 1254603 | I36: 0 | J36: 100368 | K36: 1354971 | L36: Bán hàng | M36: 46148 | O36: =IF(Table1[[#This Row],[Phân loại]]="Tồn đầu kỳ",Table1[[#This Row],[Tổng giá trị]],0) -> 0 | P36: =IF(Table1[[#This Row],[Số còn phải thu ĐK]]<>0,0,Table1[[#This Row],[Tổng giá trị]]) -> 1354971 | Q36: =IF(M36<>"",IF(O36<>0,O36,P36),0) -> 1354971 | R36: =Table1[[#This Row],[Số còn phải thu ĐK]]+Table1[[#This Row],[Giá Trị HD sau CK]]-Table1[[#This Row],[Số tiền đã thu]] -> 0 | S36: =IF(Table1[[#This Row],[Ngày hóa đơn]]<>"",Table1[[#This Row],[Ngày hóa đơn]],Table1[[#This Row],[Ngày hạch toán]]) -> 46099 | U36: =IF(Table1[[#This Row],[Ngày tính CN]]="","",S36+T36) -> 46099 | V36: =IF(Table1[[#This Row],[Hạn thanh toán]]="","",IF((U36-NOW())<0,0,(U36-NOW()))) -> 0 | X36: =IF(OR($U36="",$R36=0),"",IF(($U36-NOW())<0,-($U36-NOW()),0)) | Y36: =IF(R36=0,"Đã thanh toán",IF(X36="","",IF(X36<=0,"Chưa đến hạn thanh toán",IF(X36<=30,"Nợ quá hạn 30 ngày",IF(X36<=60,"Nợ quá hạn từ 30 ngày đến 60 ngày",IF(X36<=90,"Nợ quá hạn từ 60 ngày đến 90 ngày",IF(X36<=120,"Nợ quá hạn từ 90 ngày đến 120 ngày","Nợ quá hạn hơn 120 ngày có khả năng mất thanh toán"))))))) -> Đã thanh toán | Z36: =IF(OR(Table1[[#This Row],[Ngày hạch toán]]<>"",Table1[[#This Row],[Ngày tính CN]]<>""),IF(Table1[[#This Row],[Ngày hóa đơn]]<>"",Table1[[#This Row],[Ngày hóa đơn]],IF(Table1[[#This Row],[Ngày hạch toán]]<>"",Table1[[#This Row],[Ngày hạch toán]],"")),"") -> 46099 | AA36: =Table1[[#This Row],[Ngày Thanh toán]] -> 46148 | AD36: =IF(Table1[[#This Row],[Mã khách hàng]]="","",VLOOKUP($A36,Ma_KH!$A:$Q,Ma_KH!O$1,0)) -> SIBA MIỀN BẮC | AE36: =IF(Table1[[#This Row],[Mã khách hàng]]="","",VLOOKUP($A36,Ma_KH!$A:$Q,Ma_KH!P$1,0)) -> CHI NHÁNH CÔNG TY CỔ PHẦN SIBA FOOD VIỆT NAM TẠI HÀ NỘI | AF36: =VLOOKUP(A36,Ma_KH!A:Q,Ma_KH!J$1,0) -> Đỗ Minh Quang | AG36: =VLOOKUP(Table1[[#This Row],[Mã khách hàng]],Ma_KH!A:L,12,0) -> Hà Nội
A37: SIBA-HNI-TXN-25505-001 | B37: CHI NHÁNH CÔNG TY CỔ PHẦN SIBA FOOD VIỆT NAM TẠI HÀ NỘI | C37: 46104 | D37: BH23361 | E37: 46104 | F37: 00021573 | G37: Sibafood S007 - Tòa Mulberry | H37: 552200 | I37: 0 | J37: 44176 | K37: 596376 | L37: Bán hàng | M37: 46148 | O37: =IF(Table1[[#This Row],[Phân loại]]="Tồn đầu kỳ",Table1[[#This Row],[Tổng giá trị]],0) -> 0 | P37: =IF(Table1[[#This Row],[Số còn phải thu ĐK]]<>0,0,Table1[[#This Row],[Tổng giá trị]]) -> 596376 | Q37: =IF(M37<>"",IF(O37<>0,O37,P37),0) -> 596376 | R37: =Table1[[#This Row],[Số còn phải thu ĐK]]+Table1[[#This Row],[Giá Trị HD sau CK]]-Table1[[#This Row],[Số tiền đã thu]] -> 0 | S37: =IF(Table1[[#This Row],[Ngày hóa đơn]]<>"",Table1[[#This Row],[Ngày hóa đơn]],Table1[[#This Row],[Ngày hạch toán]]) -> 46104 | U37: =IF(Table1[[#This Row],[Ngày tính CN]]="","",S37+T37) -> 46104 | V37: =IF(Table1[[#This Row],[Hạn thanh toán]]="","",IF((U37-NOW())<0,0,(U37-NOW()))) -> 0 | X37: =IF(OR($U37="",$R37=0),"",IF(($U37-NOW())<0,-($U37-NOW()),0)) | Y37: =IF(R37=0,"Đã thanh toán",IF(X37="","",IF(X37<=0,"Chưa đến hạn thanh toán",IF(X37<=30,"Nợ quá hạn 30 ngày",IF(X37<=60,"Nợ quá hạn từ 30 ngày đến 60 ngày",IF(X37<=90,"Nợ quá hạn từ 60 ngày đến 90 ngày",IF(X37<=120,"Nợ quá hạn từ 90 ngày đến 120 ngày","Nợ quá hạn hơn 120 ngày có khả năng mất thanh toán"))))))) -> Đã thanh toán | Z37: =IF(OR(Table1[[#This Row],[Ngày hạch toán]]<>"",Table1[[#This Row],[Ngày tính CN]]<>""),IF(Table1[[#This Row],[Ngày hóa đơn]]<>"",Table1[[#This Row],[Ngày hóa đơn]],IF(Table1[[#This Row],[Ngày hạch toán]]<>"",Table1[[#This Row],[Ngày hạch toán]],"")),"") -> 46104 | AA37: =Table1[[#This Row],[Ngày Thanh toán]] -> 46148 | AD37: =IF(Table1[[#This Row],[Mã khách hàng]]="","",VLOOKUP($A37,Ma_KH!$A:$Q,Ma_KH!O$1,0)) -> SIBA MIỀN BẮC | AE37: =IF(Table1[[#This Row],[Mã khách hàng]]="","",VLOOKUP($A37,Ma_KH!$A:$Q,Ma_KH!P$1,0)) -> CHI NHÁNH CÔNG TY CỔ PHẦN SIBA FOOD VIỆT NAM TẠI HÀ NỘI | AF37: =VLOOKUP(A37,Ma_KH!A:Q,Ma_KH!J$1,0) -> Đỗ Minh Quang | AG37: =VLOOKUP(Table1[[#This Row],[Mã khách hàng]],Ma_KH!A:L,12,0) -> Hà Nội
A38: SIBA-HNI-TXN-25505-001 | B38: CHI NHÁNH CÔNG TY CỔ PHẦN SIBA FOOD VIỆT NAM TẠI HÀ NỘI | C38: 46112 | D38: BH24755 | E38: 46112 | F38: 00023287 | G38: Sibafood Thăng Long Capital | H38: 712443 | I38: 0 | J38: 56995 | K38: 769438 | L38: Bán hàng | M38: 46148 | O38: =IF(Table1[[#This Row],[Phân loại]]="Tồn đầu kỳ",Table1[[#This Row],[Tổng giá trị]],0) -> 0 | P38: =IF(Table1[[#This Row],[Số còn phải thu ĐK]]<>0,0,Table1[[#This Row],[Tổng giá trị]]) -> 769438 | Q38: =IF(M38<>"",IF(O38<>0,O38,P38),0) -> 769438 | R38: =Table1[[#This Row],[Số còn phải thu ĐK]]+Table1[[#This Row],[Giá Trị HD sau CK]]-Table1[[#This Row],[Số tiền đã thu]] -> 0 | S38: =IF(Table1[[#This Row],[Ngày hóa đơn]]<>"",Table1[[#This Row],[Ngày hóa đơn]],Table1[[#This Row],[Ngày hạch toán]]) -> 46112 | U38: =IF(Table1[[#This Row],[Ngày tính CN]]="","",S38+T38) -> 46112 | V38: =IF(Table1[[#This Row],[Hạn thanh toán]]="","",IF((U38-NOW())<0,0,(U38-NOW()))) -> 0 | X38: =IF(OR($U38="",$R38=0),"",IF(($U38-NOW())<0,-($U38-NOW()),0)) | Y38: =IF(R38=0,"Đã thanh toán",IF(X38="","",IF(X38<=0,"Chưa đến hạn thanh toán",IF(X38<=30,"Nợ quá hạn 30 ngày",IF(X38<=60,"Nợ quá hạn từ 30 ngày đến 60 ngày",IF(X38<=90,"Nợ quá hạn từ 60 ngày đến 90 ngày",IF(X38<=120,"Nợ quá hạn từ 90 ngày đến 120 ngày","Nợ quá hạn hơn 120 ngày có khả năng mất thanh toán"))))))) -> Đã thanh toán | Z38: =IF(OR(Table1[[#This Row],[Ngày hạch toán]]<>"",Table1[[#This Row],[Ngày tính CN]]<>""),IF(Table1[[#This Row],[Ngày hóa đơn]]<>"",Table1[[#This Row],[Ngày hóa đơn]],IF(Table1[[#This Row],[Ngày hạch toán]]<>"",Table1[[#This Row],[Ngày hạch toán]],"")),"") -> 46112 | AA38: =Table1[[#This Row],[Ngày Thanh toán]] -> 46148 | AD38: =IF(Table1[[#This Row],[Mã khách hàng]]="","",VLOOKUP($A38,Ma_KH!$A:$Q,Ma_KH!O$1,0)) -> SIBA MIỀN BẮC | AE38: =IF(Table1[[#This Row],[Mã khách hàng]]="","",VLOOKUP($A38,Ma_KH!$A:$Q,Ma_KH!P$1,0)) -> CHI NHÁNH CÔNG TY CỔ PHẦN SIBA FOOD VIỆT NAM TẠI HÀ NỘI | AF38: =VLOOKUP(A38,Ma_KH!A:Q,Ma_KH!J$1,0) -> Đỗ Minh Quang | AG38: =VLOOKUP(Table1[[#This Row],[Mã khách hàng]],Ma_KH!A:L,12,0) -> Hà Nội
A39: SIBA-HNI-TXN-25505-001 | B39: CHI NHÁNH CÔNG TY CỔ PHẦN SIBA FOOD VIỆT NAM TẠI HÀ NỘI | C39: 46101 | E39: 46140 | F39: 00000773 | G39: ĐÃ KIỂM TRA - Hàng trả - SIBA-HNI-HDG-0017 - Sibafood Terra An Hưng - Phiếu ngày (08/03/2026) | H39: -244572 | I39: 0 | J39: -19566 | K39: -264138 | L39: Hàng trả | M39: 46148 | O39: =IF(Table1[[#This Row],[Phân loại]]="Tồn đầu kỳ",Table1[[#This Row],[Tổng giá trị]],0) -> 0 | P39: =IF(Table1[[#This Row],[Số còn phải thu ĐK]]<>0,0,Table1[[#This Row],[Tổng giá trị]]) -> -264138 | Q39: =IF(M39<>"",IF(O39<>0,O39,P39),0) -> -264138 | R39: =Table1[[#This Row],[Số còn phải thu ĐK]]+Table1[[#This Row],[Giá Trị HD sau CK]]-Table1[[#This Row],[Số tiền đã thu]] -> 0 | S39: =IF(Table1[[#This Row],[Ngày hóa đơn]]<>"",Table1[[#This Row],[Ngày hóa đơn]],Table1[[#This Row],[Ngày hạch toán]]) -> 46140 | U39: =IF(Table1[[#This Row],[Ngày tính CN]]="","",S39+T39) -> 46140 | V39: =IF(Table1[[#This Row],[Hạn thanh toán]]="","",IF((U39-NOW())<0,0,(U39-NOW()))) -> 0 | X39: =IF(OR($U39="",$R39=0),"",IF(($U39-NOW())<0,-($U39-NOW()),0)) | Y39: =IF(R39=0,"Đã thanh toán",IF(X39="","",IF(X39<=0,"Chưa đến hạn thanh toán",IF(X39<=30,"Nợ quá hạn 30 ngày",IF(X39<=60,"Nợ quá hạn từ 30 ngày đến 60 ngày",IF(X39<=90,"Nợ quá hạn từ 60 ngày đến 90 ngày",IF(X39<=120,"Nợ quá hạn từ 90 ngày đến 120 ngày","Nợ quá hạn hơn 120 ngày có khả năng mất thanh toán"))))))) -> Đã thanh toán | Z39: =IF(OR(Table1[[#This Row],[Ngày hạch toán]]<>"",Table1[[#This Row],[Ngày tính CN]]<>""),IF(Table1[[#This Row],[Ngày hóa đơn]]<>"",Table1[[#This Row],[Ngày hóa đơn]],IF(Table1[[#This Row],[Ngày hạch toán]]<>"",Table1[[#This Row],[Ngày hạch toán]],"")),"") -> 46140 | AA39: =Table1[[#This Row],[Ngày Thanh toán]] -> 46148 | AD39: =IF(Table1[[#This Row],[Mã khách hàng]]="","",VLOOKUP($A39,Ma_KH!$A:$Q,Ma_KH!O$1,0)) -> SIBA MIỀN BẮC | AE39: =IF(Table1[[#This Row],[Mã khách hàng]]="","",VLOOKUP($A39,Ma_KH!$A:$Q,Ma_KH!P$1,0)) -> CHI NHÁNH CÔNG TY CỔ PHẦN SIBA FOOD VIỆT NAM TẠI HÀ NỘI | AF39: =VLOOKUP(A39,Ma_KH!A:Q,Ma_KH!J$1,0) -> Đỗ Minh Quang | AG39: =VLOOKUP(Table1[[#This Row],[Mã khách hàng]],Ma_KH!A:L,12,0) -> Hà Nội
A40: SIBA-HNI-TXN-25505-001 | B40: CHI NHÁNH CÔNG TY CỔ PHẦN SIBA FOOD VIỆT NAM TẠI HÀ NỘI | C40: 46101 | E40: 46140 | F40: 00000773 | G40: ĐÃ KIỂM TRA - Hàng trả - SIBA-HNI-HDG-0017 - Sibafood Terra An Hưng - Phiếu ngày (09/03/2026) | H40: -47172 | I40: 0 | J40: -3774 | K40: -50946 | L40: Hàng trả | M40: 46148 | O40: =IF(Table1[[#This Row],[Phân loại]]="Tồn đầu kỳ",Table1[[#This Row],[Tổng giá trị]],0) -> 0 | P40: =IF(Table1[[#This Row],[Số còn phải thu ĐK]]<>0,0,Table1[[#This Row],[Tổng giá trị]]) -> -50946 | Q40: =IF(M40<>"",IF(O40<>0,O40,P40),0) -> -50946 | R40: =Table1[[#This Row],[Số còn phải thu ĐK]]+Table1[[#This Row],[Giá Trị HD sau CK]]-Table1[[#This Row],[Số tiền đã thu]] -> 0 | S40: =IF(Table1[[#This Row],[Ngày hóa đơn]]<>"",Table1[[#This Row],[Ngày hóa đơn]],Table1[[#This Row],[Ngày hạch toán]]) -> 46140 | U40: =IF(Table1[[#This Row],[Ngày tính CN]]="","",S40+T40) -> 46140 | V40: =IF(Table1[[#This Row],[Hạn thanh toán]]="","",IF((U40-NOW())<0,0,(U40-NOW()))) -> 0 | X40: =IF(OR($U40="",$R40=0),"",IF(($U40-NOW())<0,-($U40-NOW()),0)) | Y40: =IF(R40=0,"Đã thanh toán",IF(X40="","",IF(X40<=0,"Chưa đến hạn thanh toán",IF(X40<=30,"Nợ quá hạn 30 ngày",IF(X40<=60,"Nợ quá hạn từ 30 ngày đến 60 ngày",IF(X40<=90,"Nợ quá hạn từ 60 ngày đến 90 ngày",IF(X40<=120,"Nợ quá hạn từ 90 ngày đến 120 ngày","Nợ quá hạn hơn 120 ngày có khả năng mất thanh toán"))))))) -> Đã thanh toán | Z40: =IF(OR(Table1[[#This Row],[Ngày hạch toán]]<>"",Table1[[#This Row],[Ngày tính CN]]<>""),IF(Table1[[#This Row],[Ngày hóa đơn]]<>"",Table1[[#This Row],[Ngày hóa đơn]],IF(Table1[[#This Row],[Ngày hạch toán]]<>"",Table1[[#This Row],[Ngày hạch toán]],"")),"") -> 46140 | AA40: =Table1[[#This Row],[Ngày Thanh toán]] -> 46148 | AD40: =IF(Table1[[#This Row],[Mã khách hàng]]="","",VLOOKUP($A40,Ma_KH!$A:$Q,Ma_KH!O$1,0)) -> SIBA MIỀN BẮC | AE40: =IF(Table1[[#This Row],[Mã khách hàng]]="","",VLOOKUP($A40,Ma_KH!$A:$Q,Ma_KH!P$1,0)) -> CHI NHÁNH CÔNG TY CỔ PHẦN SIBA FOOD VIỆT NAM TẠI HÀ NỘI | AF40: =VLOOKUP(A40,Ma_KH!A:Q,Ma_KH!J$1,0) -> Đỗ Minh Quang | AG40: =VLOOKUP(Table1[[#This Row],[Mã khách hàng]],Ma_KH!A:L,12,0) -> Hà Nội
A41: SIBA-HNI-TXN-25505-001 | B41: CHI NHÁNH CÔNG TY CỔ PHẦN SIBA FOOD VIỆT NAM TẠI HÀ NỘI | C41: 46113 | E41: 46140 | F41: 00000774 | G41: ĐÃ KIỂM TRA - Hàng trả - SIBA-HNI-HDC-0005 - Sibafood Thăng Long Capital -phiếu: 6001084511 - Phiếu ngày (11/03/2026) | H41: -897364 | I41: 0 | J41: -71789 | K41: -969153 | L41: Hàng trả | M41: 46148 | O41: =IF(Table1[[#This Row],[Phân loại]]="Tồn đầu kỳ",Table1[[#This Row],[Tổng giá trị]],0) -> 0 | P41: =IF(Table1[[#This Row],[Số còn phải thu ĐK]]<>0,0,Table1[[#This Row],[Tổng giá trị]]) -> -969153 | Q41: =IF(M41<>"",IF(O41<>0,O41,P41),0) -> -969153 | R41: =Table1[[#This Row],[Số còn phải thu ĐK]]+Table1[[#This Row],[Giá Trị HD sau CK]]-Table1[[#This Row],[Số tiền đã thu]] -> 0 | S41: =IF(Table1[[#This Row],[Ngày hóa đơn]]<>"",Table1[[#This Row],[Ngày hóa đơn]],Table1[[#This Row],[Ngày hạch toán]]) -> 46140 | U41: =IF(Table1[[#This Row],[Ngày tính CN]]="","",S41+T41) -> 46140 | V41: =IF(Table1[[#This Row],[Hạn thanh toán]]="","",IF((U41-NOW())<0,0,(U41-NOW()))) -> 0 | X41: =IF(OR($U41="",$R41=0),"",IF(($U41-NOW())<0,-($U41-NOW()),0)) | Y41: =IF(R41=0,"Đã thanh toán",IF(X41="","",IF(X41<=0,"Chưa đến hạn thanh toán",IF(X41<=30,"Nợ quá hạn 30 ngày",IF(X41<=60,"Nợ quá hạn từ 30 ngày đến 60 ngày",IF(X41<=90,"Nợ quá hạn từ 60 ngày đến 90 ngày",IF(X41<=120,"Nợ quá hạn từ 90 ngày đến 120 ngày","Nợ quá hạn hơn 120 ngày có khả năng mất thanh toán"))))))) -> Đã thanh toán | Z41: =IF(OR(Table1[[#This Row],[Ngày hạch toán]]<>"",Table1[[#This Row],[Ngày tính CN]]<>""),IF(Table1[[#This Row],[Ngày hóa đơn]]<>"",Table1[[#This Row],[Ngày hóa đơn]],IF(Table1[[#This Row],[Ngày hạch toán]]<>"",Table1[[#This Row],[Ngày hạch toán]],"")),"") -> 46140 | AA41: =Table1[[#This Row],[Ngày Thanh toán]] -> 46148 | AD41: =IF(Table1[[#This Row],[Mã khách hàng]]="","",VLOOKUP($A41,Ma_KH!$A:$Q,Ma_KH!O$1,0)) -> SIBA MIỀN BẮC | AE41: =IF(Table1[[#This Row],[Mã khách hàng]]="","",VLOOKUP($A41,Ma_KH!$A:$Q,Ma_KH!P$1,0)) -> CHI NHÁNH CÔNG TY CỔ PHẦN SIBA FOOD VIỆT NAM TẠI HÀ NỘI | AF41: =VLOOKUP(A41,Ma_KH!A:Q,Ma_KH!J$1,0) -> Đỗ Minh Quang | AG41: =VLOOKUP(Table1[[#This Row],[Mã khách hàng]],Ma_KH!A:L,12,0) -> Hà Nội
A42: SIBA-HNI-TXN-25505-001 | B42: CHI NHÁNH CÔNG TY CỔ PHẦN SIBA FOOD VIỆT NAM TẠI HÀ NỘI | C42: 46106 | E42: 46140 | F42: 00000775 | G42: ĐÃ KIỂM TRA - Hàng trả - SIBA-HNI-TXN-25505-001 - CHI NHÁNH CÔNG TY CỔ PHẦN SIBA FOOD VIỆT NAM TẠI HÀ NỘI -PHIẾU: 6001087558 - Phiếu ngày (13/03/2026) | H42: -57387 | I42: 0 | J42: -4591 | K42: -61978 | L42: Hàng trả | M42: 46148 | O42: =IF(Table1[[#This Row],[Phân loại]]="Tồn đầu kỳ",Table1[[#This Row],[Tổng giá trị]],0) -> 0 | P42: =IF(Table1[[#This Row],[Số còn phải thu ĐK]]<>0,0,Table1[[#This Row],[Tổng giá trị]]) -> -61978 | Q42: =IF(M42<>"",IF(O42<>0,O42,P42),0) -> -61978 | R42: =Table1[[#This Row],[Số còn phải thu ĐK]]+Table1[[#This Row],[Giá Trị HD sau CK]]-Table1[[#This Row],[Số tiền đã thu]] -> 0 | S42: =IF(Table1[[#This Row],[Ngày hóa đơn]]<>"",Table1[[#This Row],[Ngày hóa đơn]],Table1[[#This Row],[Ngày hạch toán]]) -> 46140 | U42: =IF(Table1[[#This Row],[Ngày tính CN]]="","",S42+T42) -> 46140 | V42: =IF(Table1[[#This Row],[Hạn thanh toán]]="","",IF((U42-NOW())<0,0,(U42-NOW()))) -> 0 | X42: =IF(OR($U42="",$R42=0),"",IF(($U42-NOW())<0,-($U42-NOW()),0)) | Y42: =IF(R42=0,"Đã thanh toán",IF(X42="","",IF(X42<=0,"Chưa đến hạn thanh toán",IF(X42<=30,"Nợ quá hạn 30 ngày",IF(X42<=60,"Nợ quá hạn từ 30 ngày đến 60 ngày",IF(X42<=90,"Nợ quá hạn từ 60 ngày đến 90 ngày",IF(X42<=120,"Nợ quá hạn từ 90 ngày đến 120 ngày","Nợ quá hạn hơn 120 ngày có khả năng mất thanh toán"))))))) -> Đã thanh toán | Z42: =IF(OR(Table1[[#This Row],[Ngày hạch toán]]<>"",Table1[[#This Row],[Ngày tính CN]]<>""),IF(Table1[[#This Row],[Ngày hóa đơn]]<>"",Table1[[#This Row],[Ngày hóa đơn]],IF(Table1[[#This Row],[Ngày hạch toán]]<>"",Table1[[#This Row],[Ngày hạch toán]],"")),"") -> 46140 | AA42: =Table1[[#This Row],[Ngày Thanh toán]] -> 46148 | AD42: =IF(Table1[[#This Row],[Mã khách hàng]]="","",VLOOKUP($A42,Ma_KH!$A:$Q,Ma_KH!O$1,0)) -> SIBA MIỀN BẮC | AE42: =IF(Table1[[#This Row],[Mã khách hàng]]="","",VLOOKUP($A42,Ma_KH!$A:$Q,Ma_KH!P$1,0)) -> CHI NHÁNH CÔNG TY CỔ PHẦN SIBA FOOD VIỆT NAM TẠI HÀ NỘI | AF42: =VLOOKUP(A42,Ma_KH!A:Q,Ma_KH!J$1,0) -> Đỗ Minh Quang | AG42: =VLOOKUP(Table1[[#This Row],[Mã khách hàng]],Ma_KH!A:L,12,0) -> Hà Nội
A43: SIBA-HNI-TXN-25505-001 | B43: CHI NHÁNH CÔNG TY CỔ PHẦN SIBA FOOD VIỆT NAM TẠI HÀ NỘI | C43: 46106 | E43: 46140 | F43: 00000776 | G43: ĐÃ KIỂM TRA - Hàng trả - SIBA-HNI-HBT-S074 - chi nhánh công ty cổ phần siba food việt nam - phiếu: 6001098400 - Phiếu ngày (23/03/2026) | H43: -65800 | I43: 0 | J43: -5264 | K43: -71064 | L43: Hàng trả | M43: 46148 | O43: =IF(Table1[[#This Row],[Phân loại]]="Tồn đầu kỳ",Table1[[#This Row],[Tổng giá trị]],0) -> 0 | P43: =IF(Table1[[#This Row],[Số còn phải thu ĐK]]<>0,0,Table1[[#This Row],[Tổng giá trị]]) -> -71064 | Q43: =IF(M43<>"",IF(O43<>0,O43,P43),0) -> -71064 | R43: =Table1[[#This Row],[Số còn phải thu ĐK]]+Table1[[#This Row],[Giá Trị HD sau CK]]-Table1[[#This Row],[Số tiền đã thu]] -> 0 | S43: =IF(Table1[[#This Row],[Ngày hóa đơn]]<>"",Table1[[#This Row],[Ngày hóa đơn]],Table1[[#This Row],[Ngày hạch toán]]) -> 46140 | U43: =IF(Table1[[#This Row],[Ngày tính CN]]="","",S43+T43) -> 46140 | V43: =IF(Table1[[#This Row],[Hạn thanh toán]]="","",IF((U43-NOW())<0,0,(U43-NOW()))) -> 0 | X43: =IF(OR($U43="",$R43=0),"",IF(($U43-NOW())<0,-($U43-NOW()),0)) | Y43: =IF(R43=0,"Đã thanh toán",IF(X43="","",IF(X43<=0,"Chưa đến hạn thanh toán",IF(X43<=30,"Nợ quá hạn 30 ngày",IF(X43<=60,"Nợ quá hạn từ 30 ngày đến 60 ngày",IF(X43<=90,"Nợ quá hạn từ 60 ngày đến 90 ngày",IF(X43<=120,"Nợ quá hạn từ 90 ngày đến 120 ngày","Nợ quá hạn hơn 120 ngày có khả năng mất thanh toán"))))))) -> Đã thanh toán | Z43: =IF(OR(Table1[[#This Row],[Ngày hạch toán]]<>"",Table1[[#This Row],[Ngày tính CN]]<>""),IF(Table1[[#This Row],[Ngày hóa đơn]]<>"",Table1[[#This Row],[Ngày hóa đơn]],IF(Table1[[#This Row],[Ngày hạch toán]]<>"",Table1[[#This Row],[Ngày hạch toán]],"")),"") -> 46140 | AA43: =Table1[[#This Row],[Ngày Thanh toán]] -> 46148 | AD43: =IF(Table1[[#This Row],[Mã khách hàng]]="","",VLOOKUP($A43,Ma_KH!$A:$Q,Ma_KH!O$1,0)) -> SIBA MIỀN BẮC | AE43: =IF(Table1[[#This Row],[Mã khách hàng]]="","",VLOOKUP($A43,Ma_KH!$A:$Q,Ma_KH!P$1,0)) -> CHI NHÁNH CÔNG TY CỔ PHẦN SIBA FOOD VIỆT NAM TẠI HÀ NỘI | AF43: =VLOOKUP(A43,Ma_KH!A:Q,Ma_KH!J$1,0) -> Đỗ Minh Quang | AG43: =VLOOKUP(Table1[[#This Row],[Mã khách hàng]],Ma_KH!A:L,12,0) -> Hà Nội
A44: SIBA-HNI-TXN-25505-001 | B44: CHI NHÁNH CÔNG TY CỔ PHẦN SIBA FOOD VIỆT NAM TẠI HÀ NỘI | C44: 46113 | D44: BH24870 | E44: 46113 | F44: 00024196 | G44: Sibafood S704- tầng 1 tòa N02 New Horizon city | H44: 564860 | I44: 0 | J44: 45189 | K44: 610049 | L44: Bán hàng | M44: 46275 | O44: =IF(Table1[[#This Row],[Phân loại]]="Tồn đầu kỳ",Table1[[#This Row],[Tổng giá trị]],0) -> 0 | P44: =IF(Table1[[#This Row],[Số còn phải thu ĐK]]<>0,0,Table1[[#This Row],[Tổng giá trị]]) -> 610049 | Q44: =IF(M44<>"",IF(O44<>0,O44,P44),0) -> 610049 | R44: =Table1[[#This Row],[Số còn phải thu ĐK]]+Table1[[#This Row],[Giá Trị HD sau CK]]-Table1[[#This Row],[Số tiền đã thu]] -> 0 | S44: =IF(Table1[[#This Row],[Ngày hóa đơn]]<>"",Table1[[#This Row],[Ngày hóa đơn]],Table1[[#This Row],[Ngày hạch toán]]) -> 46113 | U44: =IF(Table1[[#This Row],[Ngày tính CN]]="","",S44+T44) -> 46113 | V44: =IF(Table1[[#This Row],[Hạn thanh toán]]="","",IF((U44-NOW())<0,0,(U44-NOW()))) -> 0 | X44: =IF(OR($U44="",$R44=0),"",IF(($U44-NOW())<0,-($U44-NOW()),0)) | Y44: =IF(R44=0,"Đã thanh toán",IF(X44="","",IF(X44<=0,"Chưa đến hạn thanh toán",IF(X44<=30,"Nợ quá hạn 30 ngày",IF(X44<=60,"Nợ quá hạn từ 30 ngày đến 60 ngày",IF(X44<=90,"Nợ quá hạn từ 60 ngày đến 90 ngày",IF(X44<=120,"Nợ quá hạn từ 90 ngày đến 120 ngày","Nợ quá hạn hơn 120 ngày có khả năng mất thanh toán"))))))) -> Đã thanh toán | Z44: =IF(OR(Table1[[#This Row],[Ngày hạch toán]]<>"",Table1[[#This Row],[Ngày tính CN]]<>""),IF(Table1[[#This Row],[Ngày hóa đơn]]<>"",Table1[[#This Row],[Ngày hóa đơn]],IF(Table1[[#This Row],[Ngày hạch toán]]<>"",Table1[[#This Row],[Ngày hạch toán]],"")),"") -> 46113 | AA44: =Table1[[#This Row],[Ngày Thanh toán]] -> 46275 | AD44: =IF(Table1[[#This Row],[Mã khách hàng]]="","",VLOOKUP($A44,Ma_KH!$A:$Q,Ma_KH!O$1,0)) -> SIBA MIỀN BẮC | AE44: =IF(Table1[[#This Row],[Mã khách hàng]]="","",VLOOKUP($A44,Ma_KH!$A:$Q,Ma_KH!P$1,0)) -> CHI NHÁNH CÔNG TY CỔ PHẦN SIBA FOOD VIỆT NAM TẠI HÀ NỘI | AF44: =VLOOKUP(A44,Ma_KH!A:Q,Ma_KH!J$1,0) -> Đỗ Minh Quang | AG44: =VLOOKUP(Table1[[#This Row],[Mã khách hàng]],Ma_KH!A:L,12,0) -> Hà Nội
A45: SIBA-HNI-TXN-25505-001 | B45: CHI NHÁNH CÔNG TY CỔ PHẦN SIBA FOOD VIỆT NAM TẠI HÀ NỘI | C45: 46114 | D45: BH25141 | E45: 46114 | F45: 00024368 | G45: Sibafood Vinhomes Green Bay, Mễ Trì | H45: 1224557 | I45: 0 | J45: 97965 | K45: 1322522 | L45: Bán hàng | M45: 46275 | O45: =IF(Table1[[#This Row],[Phân loại]]="Tồn đầu kỳ",Table1[[#This Row],[Tổng giá trị]],0) -> 0 | P45: =IF(Table1[[#This Row],[Số còn phải thu ĐK]]<>0,0,Table1[[#This Row],[Tổng giá trị]]) -> 1322522 | Q45: =IF(M45<>"",IF(O45<>0,O45,P45),0) -> 1322522 | R45: =Table1[[#This Row],[Số còn phải thu ĐK]]+Table1[[#This Row],[Giá Trị HD sau CK]]-Table1[[#This Row],[Số tiền đã thu]] -> 0 | S45: =IF(Table1[[#This Row],[Ngày hóa đơn]]<>"",Table1[[#This Row],[Ngày hóa đơn]],Table1[[#This Row],[Ngày hạch toán]]) -> 46114 | U45: =IF(Table1[[#This Row],[Ngày tính CN]]="","",S45+T45) -> 46114 | V45: =IF(Table1[[#This Row],[Hạn thanh toán]]="","",IF((U45-NOW())<0,0,(U45-NOW()))) -> 0 | X45: =IF(OR($U45="",$R45=0),"",IF(($U45-NOW())<0,-($U45-NOW()),0)) | Y45: =IF(R45=0,"Đã thanh toán",IF(X45="","",IF(X45<=0,"Chưa đến hạn thanh toán",IF(X45<=30,"Nợ quá hạn 30 ngày",IF(X45<=60,"Nợ quá hạn từ 30 ngày đến 60 ngày",IF(X45<=90,"Nợ quá hạn từ 60 ngày đến 90 ngày",IF(X45<=120,"Nợ quá hạn từ 90 ngày đến 120 ngày","Nợ quá hạn hơn 120 ngày có khả năng mất thanh toán"))))))) -> Đã thanh toán | Z45: =IF(OR(Table1[[#This Row],[Ngày hạch toán]]<>"",Table1[[#This Row],[Ngày tính CN]]<>""),IF(Table1[[#This Row],[Ngày hóa đơn]]<>"",Table1[[#This Row],[Ngày hóa đơn]],IF(Table1[[#This Row],[Ngày hạch toán]]<>"",Table1[[#This Row],[Ngày hạch toán]],"")),"") -> 46114 | AA45: =Table1[[#This Row],[Ngày Thanh toán]] -> 46275 | AD45: =IF(Table1[[#This Row],[Mã khách hàng]]="","",VLOOKUP($A45,Ma_KH!$A:$Q,Ma_KH!O$1,0)) -> SIBA MIỀN BẮC | AE45: =IF(Table1[[#This Row],[Mã khách hàng]]="","",VLOOKUP($A45,Ma_KH!$A:$Q,Ma_KH!P$1,0)) -> CHI NHÁNH CÔNG TY CỔ PHẦN SIBA FOOD VIỆT NAM TẠI HÀ NỘI | AF45: =VLOOKUP(A45,Ma_KH!A:Q,Ma_KH!J$1,0) -> Đỗ Minh Quang | AG45: =VLOOKUP(Table1[[#This Row],[Mã khách hàng]],Ma_KH!A:L,12,0) -> Hà Nội
A46: SIBA-HNI-HDG-0018 | B46: Sibafood S007 - Tòa Mulberry | C46: 46118 | D46: BH25503 | E46: 46118 | F46: 00024938 | G46: Bán hàng Sibafood S007 - Tòa Mulberry theo hóa đơn 00024938 | H46: 414150 | I46: 0 | J46: 33132 | K46: 447282 | L46: Bán hàng | M46: 46275 | O46: =IF(Table1[[#This Row],[Phân loại]]="Tồn đầu kỳ",Table1[[#This Row],[Tổng giá trị]],0) -> 0 | P46: =IF(Table1[[#This Row],[Số còn phải thu ĐK]]<>0,0,Table1[[#This Row],[Tổng giá trị]]) -> 447282 | Q46: =IF(M46<>"",IF(O46<>0,O46,P46),0) -> 447282 | R46: =Table1[[#This Row],[Số còn phải thu ĐK]]+Table1[[#This Row],[Giá Trị HD sau CK]]-Table1[[#This Row],[Số tiền đã thu]] -> 0 | S46: =IF(Table1[[#This Row],[Ngày hóa đơn]]<>"",Table1[[#This Row],[Ngày hóa đơn]],Table1[[#This Row],[Ngày hạch toán]]) -> 46118 | U46: =IF(Table1[[#This Row],[Ngày tính CN]]="","",S46+T46) -> 46118 | V46: =IF(Table1[[#This Row],[Hạn thanh toán]]="","",IF((U46-NOW())<0,0,(U46-NOW()))) -> 0 | X46: =IF(OR($U46="",$R46=0),"",IF(($U46-NOW())<0,-($U46-NOW()),0)) | Y46: =IF(R46=0,"Đã thanh toán",IF(X46="","",IF(X46<=0,"Chưa đến hạn thanh toán",IF(X46<=30,"Nợ quá hạn 30 ngày",IF(X46<=60,"Nợ quá hạn từ 30 ngày đến 60 ngày",IF(X46<=90,"Nợ quá hạn từ 60 ngày đến 90 ngày",IF(X46<=120,"Nợ quá hạn từ 90 ngày đến 120 ngày","Nợ quá hạn hơn 120 ngày có khả năng mất thanh toán"))))))) -> Đã thanh toán | Z46: =IF(OR(Table1[[#This Row],[Ngày hạch toán]]<>"",Table1[[#This Row],[Ngày tính CN]]<>""),IF(Table1[[#This Row],[Ngày hóa đơn]]<>"",Table1[[#This Row],[Ngày hóa đơn]],IF(Table1[[#This Row],[Ngày hạch toán]]<>"",Table1[[#This Row],[Ngày hạch toán]],"")),"") -> 46118 | AA46: =Table1[[#This Row],[Ngày Thanh toán]] -> 46275 | AD46: =IF(Table1[[#This Row],[Mã khách hàng]]="","",VLOOKUP($A46,Ma_KH!$A:$Q,Ma_KH!O$1,0)) -> SIBA MIỀN BẮC | AE46: =IF(Table1[[#This Row],[Mã khách hàng]]="","",VLOOKUP($A46,Ma_KH!$A:$Q,Ma_KH!P$1,0)) -> CHI NHÁNH CÔNG TY CỔ PHẦN SIBA FOOD VIỆT NAM TẠI HÀ NỘI | AF46: =VLOOKUP(A46,Ma_KH!A:Q,Ma_KH!J$1,0) -> Đỗ Minh Quang | AG46: =VLOOKUP(Table1[[#This Row],[Mã khách hàng]],Ma_KH!A:L,12,0) -> Hà Nội
A47: SIBA-HNI-TXN-25505-001 | B47: CHI NHÁNH CÔNG TY CỔ PHẦN SIBA FOOD VIỆT NAM TẠI HÀ NỘI | C47: 46118 | D47: BH25407 | E47: 46118 | F47: 00024895 | G47: Sibafood Hope Residences | H47: 916410 | I47: 0 | J47: 73313 | K47: 989723 | L47: Bán hàng | M47: 46275 | O47: =IF(Table1[[#This Row],[Phân loại]]="Tồn đầu kỳ",Table1[[#This Row],[Tổng giá trị]],0) -> 0 | P47: =IF(Table1[[#This Row],[Số còn phải thu ĐK]]<>0,0,Table1[[#This Row],[Tổng giá trị]]) -> 989723 | Q47: =IF(M47<>"",IF(O47<>0,O47,P47),0) -> 989723 | R47: =Table1[[#This Row],[Số còn phải thu ĐK]]+Table1[[#This Row],[Giá Trị HD sau CK]]-Table1[[#This Row],[Số tiền đã thu]] -> 0 | S47: =IF(Table1[[#This Row],[Ngày hóa đơn]]<>"",Table1[[#This Row],[Ngày hóa đơn]],Table1[[#This Row],[Ngày hạch toán]]) -> 46118 | U47: =IF(Table1[[#This Row],[Ngày tính CN]]="","",S47+T47) -> 46118 | V47: =IF(Table1[[#This Row],[Hạn thanh toán]]="","",IF((U47-NOW())<0,0,(U47-NOW()))) -> 0 | X47: =IF(OR($U47="",$R47=0),"",IF(($U47-NOW())<0,-($U47-NOW()),0)) | Y47: =IF(R47=0,"Đã thanh toán",IF(X47="","",IF(X47<=0,"Chưa đến hạn thanh toán",IF(X47<=30,"Nợ quá hạn 30 ngày",IF(X47<=60,"Nợ quá hạn từ 30 ngày đến 60 ngày",IF(X47<=90,"Nợ quá hạn từ 60 ngày đến 90 ngày",IF(X47<=120,"Nợ quá hạn từ 90 ngày đến 120 ngày","Nợ quá hạn hơn 120 ngày có khả năng mất thanh toán"))))))) -> Đã thanh toán | Z47: =IF(OR(Table1[[#This Row],[Ngày hạch toán]]<>"",Table1[[#This Row],[Ngày tính CN]]<>""),IF(Table1[[#This Row],[Ngày hóa đơn]]<>"",Table1[[#This Row],[Ngày hóa đơn]],IF(Table1[[#This Row],[Ngày hạch toán]]<>"",Table1[[#This Row],[Ngày hạch toán]],"")),"") -> 46118 | AA47: =Table1[[#This Row],[Ngày Thanh toán]] -> 46275 | AD47: =IF(Table1[[#This Row],[Mã khách hàng]]="","",VLOOKUP($A47,Ma_KH!$A:$Q,Ma_KH!O$1,0)) -> SIBA MIỀN BẮC | AE47: =IF(Table1[[#This Row],[Mã khách hàng]]="","",VLOOKUP($A47,Ma_KH!$A:$Q,Ma_KH!P$1,0)) -> CHI NHÁNH CÔNG TY CỔ PHẦN SIBA FOOD VIỆT NAM TẠI HÀ NỘI | AF47: =VLOOKUP(A47,Ma_KH!A:Q,Ma_KH!J$1,0) -> Đỗ Minh Quang | AG47: =VLOOKUP(Table1[[#This Row],[Mã khách hàng]],Ma_KH!A:L,12,0) -> Hà Nội
A48: SIBA-HNI-TXN-25505-001 | B48: CHI NHÁNH CÔNG TY CỔ PHẦN SIBA FOOD VIỆT NAM TẠI HÀ NỘI | C48: 46118 | D48: BH25476 | E48: 46118 | F48: 00024911 | G48: Sibafood Terra An Hưng | H48: 755811 | I48: 0 | J48: 60465 | K48: 816276 | L48: Bán hàng | M48: 46275 | O48: =IF(Table1[[#This Row],[Phân loại]]="Tồn đầu kỳ",Table1[[#This Row],[Tổng giá trị]],0) -> 0 | P48: =IF(Table1[[#This Row],[Số còn phải thu ĐK]]<>0,0,Table1[[#This Row],[Tổng giá trị]]) -> 816276 | Q48: =IF(M48<>"",IF(O48<>0,O48,P48),0) -> 816276 | R48: =Table1[[#This Row],[Số còn phải thu ĐK]]+Table1[[#This Row],[Giá Trị HD sau CK]]-Table1[[#This Row],[Số tiền đã thu]] -> 0 | S48: =IF(Table1[[#This Row],[Ngày hóa đơn]]<>"",Table1[[#This Row],[Ngày hóa đơn]],Table1[[#This Row],[Ngày hạch toán]]) -> 46118 | U48: =IF(Table1[[#This Row],[Ngày tính CN]]="","",S48+T48) -> 46118 | V48: =IF(Table1[[#This Row],[Hạn thanh toán]]="","",IF((U48-NOW())<0,0,(U48-NOW()))) -> 0 | X48: =IF(OR($U48="",$R48=0),"",IF(($U48-NOW())<0,-($U48-NOW()),0)) | Y48: =IF(R48=0,"Đã thanh toán",IF(X48="","",IF(X48<=0,"Chưa đến hạn thanh toán",IF(X48<=30,"Nợ quá hạn 30 ngày",IF(X48<=60,"Nợ quá hạn từ 30 ngày đến 60 ngày",IF(X48<=90,"Nợ quá hạn từ 60 ngày đến 90 ngày",IF(X48<=120,"Nợ quá hạn từ 90 ngày đến 120 ngày","Nợ quá hạn hơn 120 ngày có khả năng mất thanh toán"))))))) -> Đã thanh toán | Z48: =IF(OR(Table1[[#This Row],[Ngày hạch toán]]<>"",Table1[[#This Row],[Ngày tính CN]]<>""),IF(Table1[[#This Row],[Ngày hóa đơn]]<>"",Table1[[#This Row],[Ngày hóa đơn]],IF(Table1[[#This Row],[Ngày hạch toán]]<>"",Table1[[#This Row],[Ngày hạch toán]],"")),"") -> 46118 | AA48: =Table1[[#This Row],[Ngày Thanh toán]] -> 46275 | AD48: =IF(Table1[[#This Row],[Mã khách hàng]]="","",VLOOKUP($A48,Ma_KH!$A:$Q,Ma_KH!O$1,0)) -> SIBA MIỀN BẮC | AE48: =IF(Table1[[#This Row],[Mã khách hàng]]="","",VLOOKUP($A48,Ma_KH!$A:$Q,Ma_KH!P$1,0)) -> CHI NHÁNH CÔNG TY CỔ PHẦN SIBA FOOD VIỆT NAM TẠI HÀ NỘI | AF48: =VLOOKUP(A48,Ma_KH!A:Q,Ma_KH!J$1,0) -> Đỗ Minh Quang | AG48: =VLOOKUP(Table1[[#This Row],[Mã khách hàng]],Ma_KH!A:L,12,0) -> Hà Nội
A49: SIBA-HNI-HBT-S074 | B49: Sibafood S704- tầng 1 tòa N02 New Horizon city | C49: 46132 | D49: BH27590 | E49: 46132 | F49: 00028274 | G49: Bán hàng Sibafood S704- tầng 1 tòa N02 New Horizon city theo hóa đơn 00028274 | H49: 533958 | I49: 0 | J49: 42717 | K49: 576675 | L49: Bán hàng | M49: 46275 | O49: =IF(Table1[[#This Row],[Phân loại]]="Tồn đầu kỳ",Table1[[#This Row],[Tổng giá trị]],0) -> 0 | P49: =IF(Table1[[#This Row],[Số còn phải thu ĐK]]<>0,0,Table1[[#This Row],[Tổng giá trị]]) -> 576675 | Q49: =IF(M49<>"",IF(O49<>0,O49,P49),0) -> 576675 | R49: =Table1[[#This Row],[Số còn phải thu ĐK]]+Table1[[#This Row],[Giá Trị HD sau CK]]-Table1[[#This Row],[Số tiền đã thu]] -> 0 | S49: =IF(Table1[[#This Row],[Ngày hóa đơn]]<>"",Table1[[#This Row],[Ngày hóa đơn]],Table1[[#This Row],[Ngày hạch toán]]) -> 46132 | U49: =IF(Table1[[#This Row],[Ngày tính CN]]="","",S49+T49) -> 46132 | V49: =IF(Table1[[#This Row],[Hạn thanh toán]]="","",IF((U49-NOW())<0,0,(U49-NOW()))) -> 0 | X49: =IF(OR($U49="",$R49=0),"",IF(($U49-NOW())<0,-($U49-NOW()),0)) | Y49: =IF(R49=0,"Đã thanh toán",IF(X49="","",IF(X49<=0,"Chưa đến hạn thanh toán",IF(X49<=30,"Nợ quá hạn 30 ngày",IF(X49<=60,"Nợ quá hạn từ 30 ngày đến 60 ngày",IF(X49<=90,"Nợ quá hạn từ 60 ngày đến 90 ngày",IF(X49<=120,"Nợ quá hạn từ 90 ngày đến 120 ngày","Nợ quá hạn hơn 120 ngày có khả năng mất thanh toán"))))))) -> Đã thanh toán | Z49: =IF(OR(Table1[[#This Row],[Ngày hạch toán]]<>"",Table1[[#This Row],[Ngày tính CN]]<>""),IF(Table1[[#This Row],[Ngày hóa đơn]]<>"",Table1[[#This Row],[Ngày hóa đơn]],IF(Table1[[#This Row],[Ngày hạch toán]]<>"",Table1[[#This Row],[Ngày hạch toán]],"")),"") -> 46132 | AA49: =Table1[[#This Row],[Ngày Thanh toán]] -> 46275 | AD49: =IF(Table1[[#This Row],[Mã khách hàng]]="","",VLOOKUP($A49,Ma_KH!$A:$Q,Ma_KH!O$1,0)) -> SIBA MIỀN BẮC | AE49: =IF(Table1[[#This Row],[Mã khách hàng]]="","",VLOOKUP($A49,Ma_KH!$A:$Q,Ma_KH!P$1,0)) -> CHI NHÁNH CÔNG TY CỔ PHẦN SIBA FOOD VIỆT NAM TẠI HÀ NỘI | AF49: =VLOOKUP(A49,Ma_KH!A:Q,Ma_KH!J$1,0) -> Vũ Anh Tuấn | AG49: =VLOOKUP(Table1[[#This Row],[Mã khách hàng]],Ma_KH!A:L,12,0) -> Hà Nội
A50: SIBA-HNI-HDG-0017 | B50: Sibafood Terra An Hưng | C50: 46140 | D50: BH28929 | E50: 46140 | F50: 00030203 | G50: Bán hàng Sibafood Terra An Hưng theo hóa đơn 00030203 | H50: 729990 | I50: 0 | J50: 58399 | K50: 788389 | L50: Bán hàng | M50: 46275 | O50: =IF(Table1[[#This Row],[Phân loại]]="Tồn đầu kỳ",Table1[[#This Row],[Tổng giá trị]],0) -> 0 | P50: =IF(Table1[[#This Row],[Số còn phải thu ĐK]]<>0,0,Table1[[#This Row],[Tổng giá trị]]) -> 788389 | Q50: =IF(M50<>"",IF(O50<>0,O50,P50),0) -> 788389 | R50: =Table1[[#This Row],[Số còn phải thu ĐK]]+Table1[[#This Row],[Giá Trị HD sau CK]]-Table1[[#This Row],[Số tiền đã thu]] -> 0 | S50: =IF(Table1[[#This Row],[Ngày hóa đơn]]<>"",Table1[[#This Row],[Ngày hóa đơn]],Table1[[#This Row],[Ngày hạch toán]]) -> 46140 | U50: =IF(Table1[[#This Row],[Ngày tính CN]]="","",S50+T50) -> 46140 | V50: =IF(Table1[[#This Row],[Hạn thanh toán]]="","",IF((U50-NOW())<0,0,(U50-NOW()))) -> 0 | X50: =IF(OR($U50="",$R50=0),"",IF(($U50-NOW())<0,-($U50-NOW()),0)) | Y50: =IF(R50=0,"Đã thanh toán",IF(X50="","",IF(X50<=0,"Chưa đến hạn thanh toán",IF(X50<=30,"Nợ quá hạn 30 ngày",IF(X50<=60,"Nợ quá hạn từ 30 ngày đến 60 ngày",IF(X50<=90,"Nợ quá hạn từ 60 ngày đến 90 ngày",IF(X50<=120,"Nợ quá hạn từ 90 ngày đến 120 ngày","Nợ quá hạn hơn 120 ngày có khả năng mất thanh toán"))))))) -> Đã thanh toán | Z50: =IF(OR(Table1[[#This Row],[Ngày hạch toán]]<>"",Table1[[#This Row],[Ngày tính CN]]<>""),IF(Table1[[#This Row],[Ngày hóa đơn]]<>"",Table1[[#This Row],[Ngày hóa đơn]],IF(Table1[[#This Row],[Ngày hạch toán]]<>"",Table1[[#This Row],[Ngày hạch toán]],"")),"") -> 46140 | AA50: =Table1[[#This Row],[Ngày Thanh toán]] -> 46275 | AD50: =IF(Table1[[#This Row],[Mã khách hàng]]="","",VLOOKUP($A50,Ma_KH!$A:$Q,Ma_KH!O$1,0)) -> SIBA MIỀN BẮC | AE50: =IF(Table1[[#This Row],[Mã khách hàng]]="","",VLOOKUP($A50,Ma_KH!$A:$Q,Ma_KH!P$1,0)) -> CHI NHÁNH CÔNG TY CỔ PHẦN SIBA FOOD VIỆT NAM TẠI HÀ NỘI | AF50: =VLOOKUP(A50,Ma_KH!A:Q,Ma_KH!J$1,0) -> Đỗ Minh Quang | AG50: =VLOOKUP(Table1[[#This Row],[Mã khách hàng]],Ma_KH!A:L,12,0) -> Hà Nội
A51: SIBA-HNI-HDG-0018 | B51: Sibafood S007 - Tòa Mulberry | C51: 46140 | D51: BH28930 | E51: 46140 | F51: 00030204 | G51: Bán hàng Sibafood S007 - Tòa Mulberry theo hóa đơn 00030204 | H51: 647798 | I51: 0 | J51: 51824 | K51: 699622 | L51: Bán hàng | M51: 46275 | O51: =IF(Table1[[#This Row],[Phân loại]]="Tồn đầu kỳ",Table1[[#This Row],[Tổng giá trị]],0) -> 0 | P51: =IF(Table1[[#This Row],[Số còn phải thu ĐK]]<>0,0,Table1[[#This Row],[Tổng giá trị]]) -> 699622 | Q51: =IF(M51<>"",IF(O51<>0,O51,P51),0) -> 699622 | R51: =Table1[[#This Row],[Số còn phải thu ĐK]]+Table1[[#This Row],[Giá Trị HD sau CK]]-Table1[[#This Row],[Số tiền đã thu]] -> 0 | S51: =IF(Table1[[#This Row],[Ngày hóa đơn]]<>"",Table1[[#This Row],[Ngày hóa đơn]],Table1[[#This Row],[Ngày hạch toán]]) -> 46140 | U51: =IF(Table1[[#This Row],[Ngày tính CN]]="","",S51+T51) -> 46140 | V51: =IF(Table1[[#This Row],[Hạn thanh toán]]="","",IF((U51-NOW())<0,0,(U51-NOW()))) -> 0 | X51: =IF(OR($U51="",$R51=0),"",IF(($U51-NOW())<0,-($U51-NOW()),0)) | Y51: =IF(R51=0,"Đã thanh toán",IF(X51="","",IF(X51<=0,"Chưa đến hạn thanh toán",IF(X51<=30,"Nợ quá hạn 30 ngày",IF(X51<=60,"Nợ quá hạn từ 30 ngày đến 60 ngày",IF(X51<=90,"Nợ quá hạn từ 60 ngày đến 90 ngày",IF(X51<=120,"Nợ quá hạn từ 90 ngày đến 120 ngày","Nợ quá hạn hơn 120 ngày có khả năng mất thanh toán"))))))) -> Đã thanh toán | Z51: =IF(OR(Table1[[#This Row],[Ngày hạch toán]]<>"",Table1[[#This Row],[Ngày tính CN]]<>""),IF(Table1[[#This Row],[Ngày hóa đơn]]<>"",Table1[[#This Row],[Ngày hóa đơn]],IF(Table1[[#This Row],[Ngày hạch toán]]<>"",Table1[[#This Row],[Ngày hạch toán]],"")),"") -> 46140 | AA51: =Table1[[#This Row],[Ngày Thanh toán]] -> 46275 | AD51: =IF(Table1[[#This Row],[Mã khách hàng]]="","",VLOOKUP($A51,Ma_KH!$A:$Q,Ma_KH!O$1,0)) -> SIBA MIỀN BẮC | AE51: =IF(Table1[[#This Row],[Mã khách hàng]]="","",VLOOKUP($A51,Ma_KH!$A:$Q,Ma_KH!P$1,0)) -> CHI NHÁNH CÔNG TY CỔ PHẦN SIBA FOOD VIỆT NAM TẠI HÀ NỘI | AF51: =VLOOKUP(A51,Ma_KH!A:Q,Ma_KH!J$1,0) -> Đỗ Minh Quang | AG51: =VLOOKUP(Table1[[#This Row],[Mã khách hàng]],Ma_KH!A:L,12,0) -> Hà Nội
A52: SIBA-HNI-NTL-0001 | B52: Sibafood Vinhomes Green Bay, Mễ Trì | C52: 46116 | D52: HN/HT6001116150 | E52: 46262 | F52: 000001861 | G52: ĐÃ KIỂM TRA - Hàng trả - SIBA-HNI-NTL-0001 - Sibafood Vinhomes Green Bay, Mễ Trì - phiếu: 6001116150 - Phiếu ngày (04/04/2026) | H52: -214524 | I52: 0 | J52: -17161.92 | K52: -231685.92 | L52: Hàng trả | M52: 46275 | O52: =IF(Table1[[#This Row],[Phân loại]]="Tồn đầu kỳ",Table1[[#This Row],[Tổng giá trị]],0) -> 0 | P52: =IF(Table1[[#This Row],[Số còn phải thu ĐK]]<>0,0,Table1[[#This Row],[Tổng giá trị]]) -> -231685.92 | Q52: =IF(M52<>"",IF(O52<>0,O52,P52),0) -> -231685.92 | R52: =Table1[[#This Row],[Số còn phải thu ĐK]]+Table1[[#This Row],[Giá Trị HD sau CK]]-Table1[[#This Row],[Số tiền đã thu]] -> 0 | S52: =IF(Table1[[#This Row],[Ngày hóa đơn]]<>"",Table1[[#This Row],[Ngày hóa đơn]],Table1[[#This Row],[Ngày hạch toán]]) -> 46262 | U52: =IF(Table1[[#This Row],[Ngày tính CN]]="","",S52+T52) -> 46262 | V52: =IF(Table1[[#This Row],[Hạn thanh toán]]="","",IF((U52-NOW())<0,0,(U52-NOW()))) -> 0 | X52: =IF(OR($U52="",$R52=0),"",IF(($U52-NOW())<0,-($U52-NOW()),0)) | Y52: =IF(R52=0,"Đã thanh toán",IF(X52="","",IF(X52<=0,"Chưa đến hạn thanh toán",IF(X52<=30,"Nợ quá hạn 30 ngày",IF(X52<=60,"Nợ quá hạn từ 30 ngày đến 60 ngày",IF(X52<=90,"Nợ quá hạn từ 60 ngày đến 90 ngày",IF(X52<=120,"Nợ quá hạn từ 90 ngày đến 120 ngày","Nợ quá hạn hơn 120 ngày có khả năng mất thanh toán"))))))) -> Đã thanh toán | Z52: =IF(OR(Table1[[#This Row],[Ngày hạch toán]]<>"",Table1[[#This Row],[Ngày tính CN]]<>""),IF(Table1[[#This Row],[Ngày hóa đơn]]<>"",Table1[[#This Row],[Ngày hóa đơn]],IF(Table1[[#This Row],[Ngày hạch toán]]<>"",Table1[[#This Row],[Ngày hạch toán]],"")),"") -> 46262 | AA52: =Table1[[#This Row],[Ngày Thanh toán]] -> 46275 | AD52: =IF(Table1[[#This Row],[Mã khách hàng]]="","",VLOOKUP($A52,Ma_KH!$A:$Q,Ma_KH!O$1,0)) -> SIBA MIỀN BẮC | AE52: =IF(Table1[[#This Row],[Mã khách hàng]]="","",VLOOKUP($A52,Ma_KH!$A:$Q,Ma_KH!P$1,0)) -> CHI NHÁNH CÔNG TY CỔ PHẦN SIBA FOOD VIỆT NAM TẠI HÀ NỘI | AF52: =VLOOKUP(A52,Ma_KH!A:Q,Ma_KH!J$1,0) -> Đỗ Minh Quang | AG52: =VLOOKUP(Table1[[#This Row],[Mã khách hàng]],Ma_KH!A:L,12,0) -> Hà Nội
A53: SIBA-HNI-LBN-0009 | B53: Sibafood Hope Residences | C53: 46118 | D53: HN/HT6001114984 | E53: 46262 | F53: 000001862 | G53: ĐÃ KIỂM TRA - Hàng trả - SIBA-HNI-LBN-0009 - Sibafood Hope Residences - Phiếu ngày (06/04/2026) | H53: -69025 | I53: 0 | J53: -5522 | K53: -74547 | L53: Hàng trả | M53: 46275 | O53: =IF(Table1[[#This Row],[Phân loại]]="Tồn đầu kỳ",Table1[[#This Row],[Tổng giá trị]],0) -> 0 | P53: =IF(Table1[[#This Row],[Số còn phải thu ĐK]]<>0,0,Table1[[#This Row],[Tổng giá trị]]) -> -74547 | Q53: =IF(M53<>"",IF(O53<>0,O53,P53),0) -> -74547 | R53: =Table1[[#This Row],[Số còn phải thu ĐK]]+Table1[[#This Row],[Giá Trị HD sau CK]]-Table1[[#This Row],[Số tiền đã thu]] -> 0 | S53: =IF(Table1[[#This Row],[Ngày hóa đơn]]<>"",Table1[[#This Row],[Ngày hóa đơn]],Table1[[#This Row],[Ngày hạch toán]]) -> 46262 | U53: =IF(Table1[[#This Row],[Ngày tính CN]]="","",S53+T53) -> 46262 | V53: =IF(Table1[[#This Row],[Hạn thanh toán]]="","",IF((U53-NOW())<0,0,(U53-NOW()))) -> 0 | X53: =IF(OR($U53="",$R53=0),"",IF(($U53-NOW())<0,-($U53-NOW()),0)) | Y53: =IF(R53=0,"Đã thanh toán",IF(X53="","",IF(X53<=0,"Chưa đến hạn thanh toán",IF(X53<=30,"Nợ quá hạn 30 ngày",IF(X53<=60,"Nợ quá hạn từ 30 ngày đến 60 ngày",IF(X53<=90,"Nợ quá hạn từ 60 ngày đến 90 ngày",IF(X53<=120,"Nợ quá hạn từ 90 ngày đến 120 ngày","Nợ quá hạn hơn 120 ngày có khả năng mất thanh toán"))))))) -> Đã thanh toán | Z53: =IF(OR(Table1[[#This Row],[Ngày hạch toán]]<>"",Table1[[#This Row],[Ngày tính CN]]<>""),IF(Table1[[#This Row],[Ngày hóa đơn]]<>"",Table1[[#This Row],[Ngày hóa đơn]],IF(Table1[[#This Row],[Ngày hạch toán]]<>"",Table1[[#This Row],[Ngày hạch toán]],"")),"") -> 46262 | AA53: =Table1[[#This Row],[Ngày Thanh toán]] -> 46275 | AD53: =IF(Table1[[#This Row],[Mã khách hàng]]="","",VLOOKUP($A53,Ma_KH!$A:$Q,Ma_KH!O$1,0)) -> SIBA MIỀN BẮC | AE53: =IF(Table1[[#This Row],[Mã khách hàng]]="","",VLOOKUP($A53,Ma_KH!$A:$Q,Ma_KH!P$1,0)) -> CHI NHÁNH CÔNG TY CỔ PHẦN SIBA FOOD VIỆT NAM TẠI HÀ NỘI | AF53: =VLOOKUP(A53,Ma_KH!A:Q,Ma_KH!J$1,0) -> Vũ Anh Tuấn | AG53: =VLOOKUP(Table1[[#This Row],[Mã khách hàng]],Ma_KH!A:L,12,0) -> Hà Nội
A54: SIBA-HNI-HDC-0005 | B54: Sibafood Thăng Long Capital | C54: 46119 | D54: HN/HT6001116341 | E54: 46262 | F54: 000001863 | G54: ĐÃ KIỂM TRA - Hàng trả - SIBA-HNI-HDC-0005 - Sibafood Thăng Long Capital - phiếu: 6001116341 - Phiếu ngày (07/04/2026) | H54: -314730 | I54: 0 | J54: -25178.4 | K54: -339908.4 | L54: Hàng trả | M54: 46275 | O54: =IF(Table1[[#This Row],[Phân loại]]="Tồn đầu kỳ",Table1[[#This Row],[Tổng giá trị]],0) -> 0 | P54: =IF(Table1[[#This Row],[Số còn phải thu ĐK]]<>0,0,Table1[[#This Row],[Tổng giá trị]]) -> -339908.4 | Q54: =IF(M54<>"",IF(O54<>0,O54,P54),0) -> -339908.4 | R54: =Table1[[#This Row],[Số còn phải thu ĐK]]+Table1[[#This Row],[Giá Trị HD sau CK]]-Table1[[#This Row],[Số tiền đã thu]] -> 0 | S54: =IF(Table1[[#This Row],[Ngày hóa đơn]]<>"",Table1[[#This Row],[Ngày hóa đơn]],Table1[[#This Row],[Ngày hạch toán]]) -> 46262 | U54: =IF(Table1[[#This Row],[Ngày tính CN]]="","",S54+T54) -> 46262 | V54: =IF(Table1[[#This Row],[Hạn thanh toán]]="","",IF((U54-NOW())<0,0,(U54-NOW()))) -> 0 | X54: =IF(OR($U54="",$R54=0),"",IF(($U54-NOW())<0,-($U54-NOW()),0)) | Y54: =IF(R54=0,"Đã thanh toán",IF(X54="","",IF(X54<=0,"Chưa đến hạn thanh toán",IF(X54<=30,"Nợ quá hạn 30 ngày",IF(X54<=60,"Nợ quá hạn từ 30 ngày đến 60 ngày",IF(X54<=90,"Nợ quá hạn từ 60 ngày đến 90 ngày",IF(X54<=120,"Nợ quá hạn từ 90 ngày đến 120 ngày","Nợ quá hạn hơn 120 ngày có khả năng mất thanh toán"))))))) -> Đã thanh toán | Z54: =IF(OR(Table1[[#This Row],[Ngày hạch toán]]<>"",Table1[[#This Row],[Ngày tính CN]]<>""),IF(Table1[[#This Row],[Ngày hóa đơn]]<>"",Table1[[#This Row],[Ngày hóa đơn]],IF(Table1[[#This Row],[Ngày hạch toán]]<>"",Table1[[#This Row],[Ngày hạch toán]],"")),"") -> 46262 | AA54: =Table1[[#This Row],[Ngày Thanh toán]] -> 46275 | AD54: =IF(Table1[[#This Row],[Mã khách hàng]]="","",VLOOKUP($A54,Ma_KH!$A:$Q,Ma_KH!O$1,0)) -> SIBA MIỀN BẮC | AE54: =IF(Table1[[#This Row],[Mã khách hàng]]="","",VLOOKUP($A54,Ma_KH!$A:$Q,Ma_KH!P$1,0)) -> CHI NHÁNH CÔNG TY CỔ PHẦN SIBA FOOD VIỆT NAM TẠI HÀ NỘI | AF54: =VLOOKUP(A54,Ma_KH!A:Q,Ma_KH!J$1,0) -> Đỗ Minh Quang | AG54: =VLOOKUP(Table1[[#This Row],[Mã khách hàng]],Ma_KH!A:L,12,0) -> Hà Nội
A55: SIBA-HNI-HDG-0018 | B55: Sibafood S007 - Tòa Mulberry | C55: 46119 | D55: HN/HT6001116185 | E55: 46262 | F55: 000001864 | G55: ĐÃ KIỂM TRA- Hàng trả - SIBA-HNI-HDG-0018 - Sibafood S007 - Tòa Mulberry - Phiếu ngày (07/04/2026) | H55: -52259 | I55: 0 | J55: -4180.72 | K55: -56439.72 | L55: Hàng trả | M55: 46275 | O55: =IF(Table1[[#This Row],[Phân loại]]="Tồn đầu kỳ",Table1[[#This Row],[Tổng giá trị]],0) -> 0 | P55: =IF(Table1[[#This Row],[Số còn phải thu ĐK]]<>0,0,Table1[[#This Row],[Tổng giá trị]]) -> -56439.72 | Q55: =IF(M55<>"",IF(O55<>0,O55,P55),0) -> -56439.72 | R55: =Table1[[#This Row],[Số còn phải thu ĐK]]+Table1[[#This Row],[Giá Trị HD sau CK]]-Table1[[#This Row],[Số tiền đã thu]] -> 0 | S55: =IF(Table1[[#This Row],[Ngày hóa đơn]]<>"",Table1[[#This Row],[Ngày hóa đơn]],Table1[[#This Row],[Ngày hạch toán]]) -> 46262 | U55: =IF(Table1[[#This Row],[Ngày tính CN]]="","",S55+T55) -> 46262 | V55: =IF(Table1[[#This Row],[Hạn thanh toán]]="","",IF((U55-NOW())<0,0,(U55-NOW()))) -> 0 | X55: =IF(OR($U55="",$R55=0),"",IF(($U55-NOW())<0,-($U55-NOW()),0)) | Y55: =IF(R55=0,"Đã thanh toán",IF(X55="","",IF(X55<=0,"Chưa đến hạn thanh toán",IF(X55<=30,"Nợ quá hạn 30 ngày",IF(X55<=60,"Nợ quá hạn từ 30 ngày đến 60 ngày",IF(X55<=90,"Nợ quá hạn từ 60 ngày đến 90 ngày",IF(X55<=120,"Nợ quá hạn từ 90 ngày đến 120 ngày","Nợ quá hạn hơn 120 ngày có khả năng mất thanh toán"))))))) -> Đã thanh toán | Z55: =IF(OR(Table1[[#This Row],[Ngày hạch toán]]<>"",Table1[[#This Row],[Ngày tính CN]]<>""),IF(Table1[[#This Row],[Ngày hóa đơn]]<>"",Table1[[#This Row],[Ngày hóa đơn]],IF(Table1[[#This Row],[Ngày hạch toán]]<>"",Table1[[#This Row],[Ngày hạch toán]],"")),"") -> 46262 | AA55: =Table1[[#This Row],[Ngày Thanh toán]] -> 46275 | AD55: =IF(Table1[[#This Row],[Mã khách hàng]]="","",VLOOKUP($A55,Ma_KH!$A:$Q,Ma_KH!O$1,0)) -> SIBA MIỀN BẮC | AE55: =IF(Table1[[#This Row],[Mã khách hàng]]="","",VLOOKUP($A55,Ma_KH!$A:$Q,Ma_KH!P$1,0)) -> CHI NHÁNH CÔNG TY CỔ PHẦN SIBA FOOD VIỆT NAM TẠI HÀ NỘI | AF55: =VLOOKUP(A55,Ma_KH!A:Q,Ma_KH!J$1,0) -> Đỗ Minh Quang | AG55: =VLOOKUP(Table1[[#This Row],[Mã khách hàng]],Ma_KH!A:L,12,0) -> Hà Nội
... A75: SIBA-HCM-Q9-S073 | B75: Sibafood S073 - BS1001.S03 Vinhomes Grand Park | C75: 46169 | D75: BH14784 | E75: 46169 | F75: 00037374 | G75: 4100173071 | H75: 1812240 | I75: 0 | J75: 144979 | K75: 1957219 | L75: Bán hàng | M75: 46275 | O75: =IF(Table1[[#This Row],[Phân loại]]="Tồn đầu kỳ",Table1[[#This Row],[Tổng giá trị]],0) -> 0 | P75: =IF(Table1[[#This Row],[Số còn phải thu ĐK]]<>0,0,Table1[[#This Row],[Tổng giá trị]]) -> 1957219 | Q75: =IF(M75<>"",IF(O75<>0,O75,P75),0) -> 1957219 | R75: =Table1[[#This Row],[Số còn phải thu ĐK]]+Table1[[#This Row],[Giá Trị HD sau CK]]-Table1[[#This Row],[Số tiền đã thu]] -> 0 | S75: =IF(Table1[[#This Row],[Ngày hóa đơn]]<>"",Table1[[#This Row],[Ngày hóa đơn]],Table1[[#This Row],[Ngày hạch toán]]) -> 46169 | U75: =IF(Table1[[#This Row],[Ngày tính CN]]="","",S75+T75) -> 46169 | V75: =IF(Table1[[#This Row],[Hạn thanh toán]]="","",IF((U75-NOW())<0,0,(U75-NOW()))) -> 0 | X75: =IF(OR($U75="",$R75=0),"",IF(($U75-NOW())<0,-($U75-NOW()),0)) | Y75: =IF(R75=0,"Đã thanh toán",IF(X75="","",IF(X75<=0,"Chưa đến hạn thanh toán",IF(X75<=30,"Nợ quá hạn 30 ngày",IF(X75<=60,"Nợ quá hạn từ 30 ngày đến 60 ngày",IF(X75<=90,"Nợ quá hạn từ 60 ngày đến 90 ngày",IF(X75<=120,"Nợ quá hạn từ 90 ngày đến 120 ngày","Nợ quá hạn hơn 120 ngày có khả năng mất thanh toán"))))))) -> Đã thanh toán | Z75: =IF(OR(Table1[[#This Row],[Ngày hạch toán]]<>"",Table1[[#This Row],[Ngày tính CN]]<>""),IF(Table1[[#This Row],[Ngày hóa đơn]]<>"",Table1[[#This Row],[Ngày hóa đơn]],IF(Table1[[#This Row],[Ngày hạch toán]]<>"",Table1[[#This Row],[Ngày hạch toán]],"")),"") -> 46169 | AA75: =Table1[[#This Row],[Ngày Thanh toán]] -> 46275 | AD75: =IF(Table1[[#This Row],[Mã khách hàng]]="","",VLOOKUP($A75,Ma_KH!$A:$Q,Ma_KH!O$1,0)) -> SIBA MIỀN NAM | AE75: =IF(Table1[[#This Row],[Mã khách hàng]]="","",VLOOKUP($A75,Ma_KH!$A:$Q,Ma_KH!P$1,0)) -> CÔNG TY CỔ PHẦN SIBA FOOD VIỆT NAM | AF75: =VLOOKUP(A75,Ma_KH!A:Q,Ma_KH!J$1,0) -> Trần Hạo Nhị | AG75: =VLOOKUP(Table1[[#This Row],[Mã khách hàng]],Ma_KH!A:L,12,0) -> Hồ Chí Minh
A76: SIBA-HNI-HDC-0005 | B76: Sibafood Thăng Long Capital | C76: 46153 | E76: 46153 | F76: 000001867 | G76: Hàng trả - siba-hni-hdc-0005 - Sibafood Thăng Long Capital - 1105siba0005 - Phiếu ngày (11/05/2026) | H76: -52259 | I76: 0 | J76: -4181 | K76: -56039 | L76: Hàng trả | M76: 46275 | O76: =IF(Table1[[#This Row],[Phân loại]]="Tồn đầu kỳ",Table1[[#This Row],[Tổng giá trị]],0) -> 0 | P76: =IF(Table1[[#This Row],[Số còn phải thu ĐK]]<>0,0,Table1[[#This Row],[Tổng giá trị]]) -> -56039 | Q76: =IF(M76<>"",IF(O76<>0,O76,P76),0) -> -56039 | R76: =Table1[[#This Row],[Số còn phải thu ĐK]]+Table1[[#This Row],[Giá Trị HD sau CK]]-Table1[[#This Row],[Số tiền đã thu]] -> 0 | S76: =IF(Table1[[#This Row],[Ngày hóa đơn]]<>"",Table1[[#This Row],[Ngày hóa đơn]],Table1[[#This Row],[Ngày hạch toán]]) -> 46153 | U76: =IF(Table1[[#This Row],[Ngày tính CN]]="","",S76+T76) -> 46153 | V76: =IF(Table1[[#This Row],[Hạn thanh toán]]="","",IF((U76-NOW())<0,0,(U76-NOW()))) -> 0 | X76: =IF(OR($U76="",$R76=0),"",IF(($U76-NOW())<0,-($U76-NOW()),0)) | Y76: =IF(R76=0,"Đã thanh toán",IF(X76="","",IF(X76<=0,"Chưa đến hạn thanh toán",IF(X76<=30,"Nợ quá hạn 30 ngày",IF(X76<=60,"Nợ quá hạn từ 30 ngày đến 60 ngày",IF(X76<=90,"Nợ quá hạn từ 60 ngày đến 90 ngày",IF(X76<=120,"Nợ quá hạn từ 90 ngày đến 120 ngày","Nợ quá hạn hơn 120 ngày có khả năng mất thanh toán"))))))) -> Đã thanh toán | Z76: =IF(OR(Table1[[#This Row],[Ngày hạch toán]]<>"",Table1[[#This Row],[Ngày tính CN]]<>""),IF(Table1[[#This Row],[Ngày hóa đơn]]<>"",Table1[[#This Row],[Ngày hóa đơn]],IF(Table1[[#This Row],[Ngày hạch toán]]<>"",Table1[[#This Row],[Ngày hạch toán]],"")),"") -> 46153 | AA76: =Table1[[#This Row],[Ngày Thanh toán]] -> 46275 | AD76: =IF(Table1[[#This Row],[Mã khách hàng]]="","",VLOOKUP($A76,Ma_KH!$A:$Q,Ma_KH!O$1,0)) -> SIBA MIỀN BẮC | AE76: =IF(Table1[[#This Row],[Mã khách hàng]]="","",VLOOKUP($A76,Ma_KH!$A:$Q,Ma_KH!P$1,0)) -> CHI NHÁNH CÔNG TY CỔ PHẦN SIBA FOOD VIỆT NAM TẠI HÀ NỘI | AF76: =VLOOKUP(A76,Ma_KH!A:Q,Ma_KH!J$1,0) -> Đỗ Minh Quang | AG76: =VLOOKUP(Table1[[#This Row],[Mã khách hàng]],Ma_KH!A:L,12,0) -> Hà Nội
A77: SIBA-HNI-NTL-0001 | B77: Sibafood Vinhomes Green Bay, Mễ Trì | C77: 46173 | E77: 46173 | F77: 000001868 | G77: ĐÃ KIỂM TRA - Hàng trả - - Sibafood Vinhomes Green Bay, Mễ Trì - 310526siba0001 - Phiếu ngày (31/05/2026)-SIBA-HNI-NTL-0001 | H77: -371084 | I77: 0 | J77: -29687 | K77: -400771 | L77: Hàng trả | M77: 46275 | O77: =IF(Table1[[#This Row],[Phân loại]]="Tồn đầu kỳ",Table1[[#This Row],[Tổng giá trị]],0) -> 0 | P77: =IF(Table1[[#This Row],[Số còn phải thu ĐK]]<>0,0,Table1[[#This Row],[Tổng giá trị]]) -> -400771 | Q77: =IF(M77<>"",IF(O77<>0,O77,P77),0) -> -400771 | R77: =Table1[[#This Row],[Số còn phải thu ĐK]]+Table1[[#This Row],[Giá Trị HD sau CK]]-Table1[[#This Row],[Số tiền đã thu]] -> 0 | S77: =IF(Table1[[#This Row],[Ngày hóa đơn]]<>"",Table1[[#This Row],[Ngày hóa đơn]],Table1[[#This Row],[Ngày hạch toán]]) -> 46173 | U77: =IF(Table1[[#This Row],[Ngày tính CN]]="","",S77+T77) -> 46173 | V77: =IF(Table1[[#This Row],[Hạn thanh toán]]="","",IF((U77-NOW())<0,0,(U77-NOW()))) -> 0 | X77: =IF(OR($U77="",$R77=0),"",IF(($U77-NOW())<0,-($U77-NOW()),0)) | Y77: =IF(R77=0,"Đã thanh toán",IF(X77="","",IF(X77<=0,"Chưa đến hạn thanh toán",IF(X77<=30,"Nợ quá hạn 30 ngày",IF(X77<=60,"Nợ quá hạn từ 30 ngày đến 60 ngày",IF(X77<=90,"Nợ quá hạn từ 60 ngày đến 90 ngày",IF(X77<=120,"Nợ quá hạn từ 90 ngày đến 120 ngày","Nợ quá hạn hơn 120 ngày có khả năng mất thanh toán"))))))) -> Đã thanh toán | Z77: =IF(OR(Table1[[#This Row],[Ngày hạch toán]]<>"",Table1[[#This Row],[Ngày tính CN]]<>""),IF(Table1[[#This Row],[Ngày hóa đơn]]<>"",Table1[[#This Row],[Ngày hóa đơn]],IF(Table1[[#This Row],[Ngày hạch toán]]<>"",Table1[[#This Row],[Ngày hạch toán]],"")),"") -> 46173 | AA77: =Table1[[#This Row],[Ngày Thanh toán]] -> 46275 | AD77: =IF(Table1[[#This Row],[Mã khách hàng]]="","",VLOOKUP($A77,Ma_KH!$A:$Q,Ma_KH!O$1,0)) -> SIBA MIỀN BẮC | AE77: =IF(Table1[[#This Row],[Mã khách hàng]]="","",VLOOKUP($A77,Ma_KH!$A:$Q,Ma_KH!P$1,0)) -> CHI NHÁNH CÔNG TY CỔ PHẦN SIBA FOOD VIỆT NAM TẠI HÀ NỘI | AF77: =VLOOKUP(A77,Ma_KH!A:Q,Ma_KH!J$1,0) -> Đỗ Minh Quang | AG77: =VLOOKUP(Table1[[#This Row],[Mã khách hàng]],Ma_KH!A:L,12,0) -> Hà Nội
A78: SIBA-HNI-HBT-S074 | B78: Sibafood S704- tầng 1 tòa N02 New Horizon city | C78: 46174 | D78: BH33565 | E78: 46174 | F78: 00037979 | G78: Bán hàng Sibafood S704- tầng 1 tòa N02 New Horizon city theo hóa đơn 00037979 | H78: 822737 | I78: 0 | J78: 65819 | K78: 888556 | L78: Bán hàng | M78: 46275 | O78: =IF(Table1[[#This Row],[Phân loại]]="Tồn đầu kỳ",Table1[[#This Row],[Tổng giá trị]],0) -> 0 | P78: =IF(Table1[[#This Row],[Số còn phải thu ĐK]]<>0,0,Table1[[#This Row],[Tổng giá trị]]) -> 888556 | Q78: =IF(M78<>"",IF(O78<>0,O78,P78),0) -> 888556 | R78: =Table1[[#This Row],[Số còn phải thu ĐK]]+Table1[[#This Row],[Giá Trị HD sau CK]]-Table1[[#This Row],[Số tiền đã thu]] -> 0 | S78: =IF(Table1[[#This Row],[Ngày hóa đơn]]<>"",Table1[[#This Row],[Ngày hóa đơn]],Table1[[#This Row],[Ngày hạch toán]]) -> 46174 | U78: =IF(Table1[[#This Row],[Ngày tính CN]]="","",S78+T78) -> 46174 | V78: =IF(Table1[[#This Row],[Hạn thanh toán]]="","",IF((U78-NOW())<0,0,(U78-NOW()))) -> 0 | X78: =IF(OR($U78="",$R78=0),"",IF(($U78-NOW())<0,-($U78-NOW()),0)) | Y78: =IF(R78=0,"Đã thanh toán",IF(X78="","",IF(X78<=0,"Chưa đến hạn thanh toán",IF(X78<=30,"Nợ quá hạn 30 ngày",IF(X78<=60,"Nợ quá hạn từ 30 ngày đến 60 ngày",IF(X78<=90,"Nợ quá hạn từ 60 ngày đến 90 ngày",IF(X78<=120,"Nợ quá hạn từ 90 ngày đến 120 ngày","Nợ quá hạn hơn 120 ngày có khả năng mất thanh toán"))))))) -> Đã thanh toán | Z78: =IF(OR(Table1[[#This Row],[Ngày hạch toán]]<>"",Table1[[#This Row],[Ngày tính CN]]<>""),IF(Table1[[#This Row],[Ngày hóa đơn]]<>"",Table1[[#This Row],[Ngày hóa đơn]],IF(Table1[[#This Row],[Ngày hạch toán]]<>"",Table1[[#This Row],[Ngày hạch toán]],"")),"") -> 46174 | AA78: =Table1[[#This Row],[Ngày Thanh toán]] -> 46275 | AD78: =IF(Table1[[#This Row],[Mã khách hàng]]="","",VLOOKUP($A78,Ma_KH!$A:$Q,Ma_KH!O$1,0)) -> SIBA MIỀN BẮC | AE78: =IF(Table1[[#This Row],[Mã khách hàng]]="","",VLOOKUP($A78,Ma_KH!$A:$Q,Ma_KH!P$1,0)) -> CHI NHÁNH CÔNG TY CỔ PHẦN SIBA FOOD VIỆT NAM TẠI HÀ NỘI | AF78: =VLOOKUP(A78,Ma_KH!A:Q,Ma_KH!J$1,0) -> Vũ Anh Tuấn | AG78: =VLOOKUP(Table1[[#This Row],[Mã khách hàng]],Ma_KH!A:L,12,0) -> Hà Nội
A79: SIBA-HNI-HDC-0005 | B79: Sibafood Thăng Long Capital | C79: 46174 | D79: BH33564 | E79: 46174 | F79: 00037978 | G79: Bán hàng Sibafood Thăng Long Capital theo hóa đơn 00037978 | H79: 455568 | I79: 0 | J79: 36445 | K79: 492013 | L79: Bán hàng | M79: 46275 | O79: =IF(Table1[[#This Row],[Phân loại]]="Tồn đầu kỳ",Table1[[#This Row],[Tổng giá trị]],0) -> 0 | P79: =IF(Table1[[#This Row],[Số còn phải thu ĐK]]<>0,0,Table1[[#This Row],[Tổng giá trị]]) -> 492013 | Q79: =IF(M79<>"",IF(O79<>0,O79,P79),0) -> 492013 | R79: =Table1[[#This Row],[Số còn phải thu ĐK]]+Table1[[#This Row],[Giá Trị HD sau CK]]-Table1[[#This Row],[Số tiền đã thu]] -> 0 | S79: =IF(Table1[[#This Row],[Ngày hóa đơn]]<>"",Table1[[#This Row],[Ngày hóa đơn]],Table1[[#This Row],[Ngày hạch toán]]) -> 46174 | U79: =IF(Table1[[#This Row],[Ngày tính CN]]="","",S79+T79) -> 46174 | V79: =IF(Table1[[#This Row],[Hạn thanh toán]]="","",IF((U79-NOW())<0,0,(U79-NOW()))) -> 0 | X79: =IF(OR($U79="",$R79=0),"",IF(($U79-NOW())<0,-($U79-NOW()),0)) | Y79: =IF(R79=0,"Đã thanh toán",IF(X79="","",IF(X79<=0,"Chưa đến hạn thanh toán",IF(X79<=30,"Nợ quá hạn 30 ngày",IF(X79<=60,"Nợ quá hạn từ 30 ngày đến 60 ngày",IF(X79<=90,"Nợ quá hạn từ 60 ngày đến 90 ngày",IF(X79<=120,"Nợ quá hạn từ 90 ngày đến 120 ngày","Nợ quá hạn hơn 120 ngày có khả năng mất thanh toán"))))))) -> Đã thanh toán | Z79: =IF(OR(Table1[[#This Row],[Ngày hạch toán]]<>"",Table1[[#This Row],[Ngày tính CN]]<>""),IF(Table1[[#This Row],[Ngày hóa đơn]]<>"",Table1[[#This Row],[Ngày hóa đơn]],IF(Table1[[#This Row],[Ngày hạch toán]]<>"",Table1[[#This Row],[Ngày hạch toán]],"")),"") -> 46174 | AA79: =Table1[[#This Row],[Ngày Thanh toán]] -> 46275 | AD79: =IF(Table1[[#This Row],[Mã khách hàng]]="","",VLOOKUP($A79,Ma_KH!$A:$Q,Ma_KH!O$1,0)) -> SIBA MIỀN BẮC | AE79: =IF(Table1[[#This Row],[Mã khách hàng]]="","",VLOOKUP($A79,Ma_KH!$A:$Q,Ma_KH!P$1,0)) -> CHI NHÁNH CÔNG TY CỔ PHẦN SIBA FOOD VIỆT NAM TẠI HÀ NỘI | AF79: =VLOOKUP(A79,Ma_KH!A:Q,Ma_KH!J$1,0) -> Đỗ Minh Quang | AG79: =VLOOKUP(Table1[[#This Row],[Mã khách hàng]],Ma_KH!A:L,12,0) -> Hà Nội
A80: SIBA-HNI-GLM-S088 | B80: Siba food | C80: 46175 | D80: BH33949 | E80: 46175 | F80: 00038098 | G80: Bán hàng Siba food S088- số 1S26 , tầng 1 , tòa nhà ZR 1 | H80: 729084 | I80: 0 | J80: 58327 | K80: 787411 | L80: Bán hàng | M80: 46275 | O80: =IF(Table1[[#This Row],[Phân loại]]="Tồn đầu kỳ",Table1[[#This Row],[Tổng giá trị]],0) -> 0 | P80: =IF(Table1[[#This Row],[Số còn phải thu ĐK]]<>0,0,Table1[[#This Row],[Tổng giá trị]]) -> 787411 | Q80: =IF(M80<>"",IF(O80<>0,O80,P80),0) -> 787411 | R80: =Table1[[#This Row],[Số còn phải thu ĐK]]+Table1[[#This Row],[Giá Trị HD sau CK]]-Table1[[#This Row],[Số tiền đã thu]] -> 0 | S80: =IF(Table1[[#This Row],[Ngày hóa đơn]]<>"",Table1[[#This Row],[Ngày hóa đơn]],Table1[[#This Row],[Ngày hạch toán]]) -> 46175 | U80: =IF(Table1[[#This Row],[Ngày tính CN]]="","",S80+T80) -> 46175 | V80: =IF(Table1[[#This Row],[Hạn thanh toán]]="","",IF((U80-NOW())<0,0,(U80-NOW()))) -> 0 | X80: =IF(OR($U80="",$R80=0),"",IF(($U80-NOW())<0,-($U80-NOW()),0)) | Y80: =IF(R80=0,"Đã thanh toán",IF(X80="","",IF(X80<=0,"Chưa đến hạn thanh toán",IF(X80<=30,"Nợ quá hạn 30 ngày",IF(X80<=60,"Nợ quá hạn từ 30 ngày đến 60 ngày",IF(X80<=90,"Nợ quá hạn từ 60 ngày đến 90 ngày",IF(X80<=120,"Nợ quá hạn từ 90 ngày đến 120 ngày","Nợ quá hạn hơn 120 ngày có khả năng mất thanh toán"))))))) -> Đã thanh toán | Z80: =IF(OR(Table1[[#This Row],[Ngày hạch toán]]<>"",Table1[[#This Row],[Ngày tính CN]]<>""),IF(Table1[[#This Row],[Ngày hóa đơn]]<>"",Table1[[#This Row],[Ngày hóa đơn]],IF(Table1[[#This Row],[Ngày hạch toán]]<>"",Table1[[#This Row],[Ngày hạch toán]],"")),"") -> 46175 | AA80: =Table1[[#This Row],[Ngày Thanh toán]] -> 46275 | AD80: =IF(Table1[[#This Row],[Mã khách hàng]]="","",VLOOKUP($A80,Ma_KH!$A:$Q,Ma_KH!O$1,0)) -> SIBA MIỀN BẮC | AE80: =IF(Table1[[#This Row],[Mã khách hàng]]="","",VLOOKUP($A80,Ma_KH!$A:$Q,Ma_KH!P$1,0)) -> CHI NHÁNH CÔNG TY CỔ PHẦN SIBA FOOD VIỆT NAM TẠI HÀ NỘI | AF80: =VLOOKUP(A80,Ma_KH!A:Q,Ma_KH!J$1,0) -> Vũ Anh Tuấn | AG80: =VLOOKUP(Table1[[#This Row],[Mã khách hàng]],Ma_KH!A:L,12,0) -> Hà Nội
A81: SIBA-HNI-LBN-0009 | B81: Sibafood Hope Residences | C81: 46176 | D81: BH34181 | E81: 46176 | F81: 00039065 | G81: Bán hàng Sibafood Hope Residences theo hóa đơn 00039065 | H81: 1358148 | I81: 0 | J81: 108652 | K81: 1466800 | L81: Bán hàng | M81: 46275 | O81: =IF(Table1[[#This Row],[Phân loại]]="Tồn đầu kỳ",Table1[[#This Row],[Tổng giá trị]],0) -> 0 | P81: =IF(Table1[[#This Row],[Số còn phải thu ĐK]]<>0,0,Table1[[#This Row],[Tổng giá trị]]) -> 1466800 | Q81: =IF(M81<>"",IF(O81<>0,O81,P81),0) -> 1466800 | R81: =Table1[[#This Row],[Số còn phải thu ĐK]]+Table1[[#This Row],[Giá Trị HD sau CK]]-Table1[[#This Row],[Số tiền đã thu]] -> 0 | S81: =IF(Table1[[#This Row],[Ngày hóa đơn]]<>"",Table1[[#This Row],[Ngày hóa đơn]],Table1[[#This Row],[Ngày hạch toán]]) -> 46176 | U81: =IF(Table1[[#This Row],[Ngày tính CN]]="","",S81+T81) -> 46176 | V81: =IF(Table1[[#This Row],[Hạn thanh toán]]="","",IF((U81-NOW())<0,0,(U81-NOW()))) -> 0 | X81: =IF(OR($U81="",$R81=0),"",IF(($U81-NOW())<0,-($U81-NOW()),0)) | Y81: =IF(R81=0,"Đã thanh toán",IF(X81="","",IF(X81<=0,"Chưa đến hạn thanh toán",IF(X81<=30,"Nợ quá hạn 30 ngày",IF(X81<=60,"Nợ quá hạn từ 30 ngày đến 60 ngày",IF(X81<=90,"Nợ quá hạn từ 60 ngày đến 90 ngày",IF(X81<=120,"Nợ quá hạn từ 90 ngày đến 120 ngày","Nợ quá hạn hơn 120 ngày có khả năng mất thanh toán"))))))) -> Đã thanh toán | Z81: =IF(OR(Table1[[#This Row],[Ngày hạch toán]]<>"",Table1[[#This Row],[Ngày tính CN]]<>""),IF(Table1[[#This Row],[Ngày hóa đơn]]<>"",Table1[[#This Row],[Ngày hóa đơn]],IF(Table1[[#This Row],[Ngày hạch toán]]<>"",Table1[[#This Row],[Ngày hạch toán]],"")),"") -> 46176 | AA81: =Table1[[#This Row],[Ngày Thanh toán]] -> 46275 | AD81: =IF(Table1[[#This Row],[Mã khách hàng]]="","",VLOOKUP($A81,Ma_KH!$A:$Q,Ma_KH!O$1,0)) -> SIBA MIỀN BẮC | AE81: =IF(Table1[[#This Row],[Mã khách hàng]]="","",VLOOKUP($A81,Ma_KH!$A:$Q,Ma_KH!P$1,0)) -> CHI NHÁNH CÔNG TY CỔ PHẦN SIBA FOOD VIỆT NAM TẠI HÀ NỘI | AF81: =VLOOKUP(A81,Ma_KH!A:Q,Ma_KH!J$1,0) -> Vũ Anh Tuấn | AG81: =VLOOKUP(Table1[[#This Row],[Mã khách hàng]],Ma_KH!A:L,12,0) -> Hà Nội
A82: SIBA-HCM-HBC-S086 | B82: Sibafood S086- Westgate | C82: 46182 | D82: BH15959 | E82: 46182 | F82: 00039668 | G82: 4100167068 | H82: 2444766 | I82: 0 | J82: 195581 | K82: 2640347 | L82: Bán hàng | M82: 46275 | O82: =IF(Table1[[#This Row],[Phân loại]]="Tồn đầu kỳ",Table1[[#This Row],[Tổng giá trị]],0) -> 0 | P82: =IF(Table1[[#This Row],[Số còn phải thu ĐK]]<>0,0,Table1[[#This Row],[Tổng giá trị]]) -> 2640347 | Q82: =IF(M82<>"",IF(O82<>0,O82,P82),0) -> 2640347 | R82: =Table1[[#This Row],[Số còn phải thu ĐK]]+Table1[[#This Row],[Giá Trị HD sau CK]]-Table1[[#This Row],[Số tiền đã thu]] -> 0 | S82: =IF(Table1[[#This Row],[Ngày hóa đơn]]<>"",Table1[[#This Row],[Ngày hóa đơn]],Table1[[#This Row],[Ngày hạch toán]]) -> 46182 | U82: =IF(Table1[[#This Row],[Ngày tính CN]]="","",S82+T82) -> 46182 | V82: =IF(Table1[[#This Row],[Hạn thanh toán]]="","",IF((U82-NOW())<0,0,(U82-NOW()))) -> 0 | X82: =IF(OR($U82="",$R82=0),"",IF(($U82-NOW())<0,-($U82-NOW()),0)) | Y82: =IF(R82=0,"Đã thanh toán",IF(X82="","",IF(X82<=0,"Chưa đến hạn thanh toán",IF(X82<=30,"Nợ quá hạn 30 ngày",IF(X82<=60,"Nợ quá hạn từ 30 ngày đến 60 ngày",IF(X82<=90,"Nợ quá hạn từ 60 ngày đến 90 ngày",IF(X82<=120,"Nợ quá hạn từ 90 ngày đến 120 ngày","Nợ quá hạn hơn 120 ngày có khả năng mất thanh toán"))))))) -> Đã thanh toán | Z82: =IF(OR(Table1[[#This Row],[Ngày hạch toán]]<>"",Table1[[#This Row],[Ngày tính CN]]<>""),IF(Table1[[#This Row],[Ngày hóa đơn]]<>"",Table1[[#This Row],[Ngày hóa đơn]],IF(Table1[[#This Row],[Ngày hạch toán]]<>"",Table1[[#This Row],[Ngày hạch toán]],"")),"") -> 46182 | AA82: =Table1[[#This Row],[Ngày Thanh toán]] -> 46275 | AD82: =IF(Table1[[#This Row],[Mã khách hàng]]="","",VLOOKUP($A82,Ma_KH!$A:$Q,Ma_KH!O$1,0)) -> SIBA MIỀN NAM | AE82: =IF(Table1[[#This Row],[Mã khách hàng]]="","",VLOOKUP($A82,Ma_KH!$A:$Q,Ma_KH!P$1,0)) -> CÔNG TY CỔ PHẦN SIBA FOOD VIỆT NAM | AF82: =VLOOKUP(A82,Ma_KH!A:Q,Ma_KH!J$1,0) -> Nguyễn Quốc Thái | AG82: =VLOOKUP(Table1[[#This Row],[Mã khách hàng]],Ma_KH!A:L,12,0) -> Hồ Chí Minh
A83: SIBA-HNI-GLM-S088 | B83: Siba food | C83: 46182 | D83: BH34639 | E83: 46182 | F83: 00039695 | G83: Bán hàng Siba food theo hóa đơn 00039695 | H83: 1521538 | I83: 0 | J83: 121723 | K83: 1643261 | L83: Bán hàng | M83: 46275 | O83: =IF(Table1[[#This Row],[Phân loại]]="Tồn đầu kỳ",Table1[[#This Row],[Tổng giá trị]],0) -> 0 | P83: =IF(Table1[[#This Row],[Số còn phải thu ĐK]]<>0,0,Table1[[#This Row],[Tổng giá trị]]) -> 1643261 | Q83: =IF(M83<>"",IF(O83<>0,O83,P83),0) -> 1643261 | R83: =Table1[[#This Row],[Số còn phải thu ĐK]]+Table1[[#This Row],[Giá Trị HD sau CK]]-Table1[[#This Row],[Số tiền đã thu]] -> 0 | S83: =IF(Table1[[#This Row],[Ngày hóa đơn]]<>"",Table1[[#This Row],[Ngày hóa đơn]],Table1[[#This Row],[Ngày hạch toán]]) -> 46182 | U83: =IF(Table1[[#This Row],[Ngày tính CN]]="","",S83+T83) -> 46182 | V83: =IF(Table1[[#This Row],[Hạn thanh toán]]="","",IF((U83-NOW())<0,0,(U83-NOW()))) -> 0 | X83: =IF(OR($U83="",$R83=0),"",IF(($U83-NOW())<0,-($U83-NOW()),0)) | Y83: =IF(R83=0,"Đã thanh toán",IF(X83="","",IF(X83<=0,"Chưa đến hạn thanh toán",IF(X83<=30,"Nợ quá hạn 30 ngày",IF(X83<=60,"Nợ quá hạn từ 30 ngày đến 60 ngày",IF(X83<=90,"Nợ quá hạn từ 60 ngày đến 90 ngày",IF(X83<=120,"Nợ quá hạn từ 90 ngày đến 120 ngày","Nợ quá hạn hơn 120 ngày có khả năng mất thanh toán"))))))) -> Đã thanh toán | Z83: =IF(OR(Table1[[#This Row],[Ngày hạch toán]]<>"",Table1[[#This Row],[Ngày tính CN]]<>""),IF(Table1[[#This Row],[Ngày hóa đơn]]<>"",Table1[[#This Row],[Ngày hóa đơn]],IF(Table1[[#This Row],[Ngày hạch toán]]<>"",Table1[[#This Row],[Ngày hạch toán]],"")),"") -> 46182 | AA83: =Table1[[#This Row],[Ngày Thanh toán]] -> 46275 | AD83: =IF(Table1[[#This Row],[Mã khách hàng]]="","",VLOOKUP($A83,Ma_KH!$A:$Q,Ma_KH!O$1,0)) -> SIBA MIỀN BẮC | AE83: =IF(Table1[[#This Row],[Mã khách hàng]]="","",VLOOKUP($A83,Ma_KH!$A:$Q,Ma_KH!P$1,0)) -> CHI NHÁNH CÔNG TY CỔ PHẦN SIBA FOOD VIỆT NAM TẠI HÀ NỘI | AF83: =VLOOKUP(A83,Ma_KH!A:Q,Ma_KH!J$1,0) -> Vũ Anh Tuấn | AG83: =VLOOKUP(Table1[[#This Row],[Mã khách hàng]],Ma_KH!A:L,12,0) -> Hà Nội
A84: SIBA-HNI-HDG-A11 | B84: Geleximco Lê Trọng Tấn -Dương Nội | C84: 46182 | D84: BH34638 | E84: 46182 | F84: 00039694 | G84: Bán hàng Geleximco Lê Trọng Tấn -Dương Nội theo hóa đơn 00039694 , đơn khai trương ck 10% | H84: 1575414 | I84: 157541 | J84: 113430 | K84: 1531303 | L84: Bán hàng | M84: 46275 | O84: =IF(Table1[[#This Row],[Phân loại]]="Tồn đầu kỳ",Table1[[#This Row],[Tổng giá trị]],0) -> 0 | P84: =IF(Table1[[#This Row],[Số còn phải thu ĐK]]<>0,0,Table1[[#This Row],[Tổng giá trị]]) -> 1531303 | Q84: =IF(M84<>"",IF(O84<>0,O84,P84),0) -> 1531303 | R84: =Table1[[#This Row],[Số còn phải thu ĐK]]+Table1[[#This Row],[Giá Trị HD sau CK]]-Table1[[#This Row],[Số tiền đã thu]] -> 0 | S84: =IF(Table1[[#This Row],[Ngày hóa đơn]]<>"",Table1[[#This Row],[Ngày hóa đơn]],Table1[[#This Row],[Ngày hạch toán]]) -> 46182 | U84: =IF(Table1[[#This Row],[Ngày tính CN]]="","",S84+T84) -> 46182 | V84: =IF(Table1[[#This Row],[Hạn thanh toán]]="","",IF((U84-NOW())<0,0,(U84-NOW()))) -> 0 | X84: =IF(OR($U84="",$R84=0),"",IF(($U84-NOW())<0,-($U84-NOW()),0)) | Y84: =IF(R84=0,"Đã thanh toán",IF(X84="","",IF(X84<=0,"Chưa đến hạn thanh toán",IF(X84<=30,"Nợ quá hạn 30 ngày",IF(X84<=60,"Nợ quá hạn từ 30 ngày đến 60 ngày",IF(X84<=90,"Nợ quá hạn từ 60 ngày đến 90 ngày",IF(X84<=120,"Nợ quá hạn từ 90 ngày đến 120 ngày","Nợ quá hạn hơn 120 ngày có khả năng mất thanh toán"))))))) -> Đã thanh toán | Z84: =IF(OR(Table1[[#This Row],[Ngày hạch toán]]<>"",Table1[[#This Row],[Ngày tính CN]]<>""),IF(Table1[[#This Row],[Ngày hóa đơn]]<>"",Table1[[#This Row],[Ngày hóa đơn]],IF(Table1[[#This Row],[Ngày hạch toán]]<>"",Table1[[#This Row],[Ngày hạch toán]],"")),"") -> 46182 | AA84: =Table1[[#This Row],[Ngày Thanh toán]] -> 46275 | AD84: =IF(Table1[[#This Row],[Mã khách hàng]]="","",VLOOKUP($A84,Ma_KH!$A:$Q,Ma_KH!O$1,0)) -> SIBA MIỀN BẮC | AE84: =IF(Table1[[#This Row],[Mã khách hàng]]="","",VLOOKUP($A84,Ma_KH!$A:$Q,Ma_KH!P$1,0)) -> CHI NHÁNH CÔNG TY CỔ PHẦN SIBA FOOD VIỆT NAM TẠI HÀ NỘI | AF84: =VLOOKUP(A84,Ma_KH!A:Q,Ma_KH!J$1,0) -> Đỗ Minh Quang | AG84: =VLOOKUP(Table1[[#This Row],[Mã khách hàng]],Ma_KH!A:L,12,0) -> Hà Nội
A85: SIBA-HCM-Q9-S073 | B85: Sibafood S073 - BS1001.S03 Vinhomes Grand Park | C85: 46183 | D85: BH16094 | E85: 46183 | F85: 00040512 | G85: 4100179985 | H85: 946702 | I85: 0 | J85: 75736 | K85: 1022438 | L85: Bán hàng | M85: 46275 | O85: =IF(Table1[[#This Row],[Phân loại]]="Tồn đầu kỳ",Table1[[#This Row],[Tổng giá trị]],0) -> 0 | P85: =IF(Table1[[#This Row],[Số còn phải thu ĐK]]<>0,0,Table1[[#This Row],[Tổng giá trị]]) -> 1022438 | Q85: =IF(M85<>"",IF(O85<>0,O85,P85),0) -> 1022438 | R85: =Table1[[#This Row],[Số còn phải thu ĐK]]+Table1[[#This Row],[Giá Trị HD sau CK]]-Table1[[#This Row],[Số tiền đã thu]] -> 0 | S85: =IF(Table1[[#This Row],[Ngày hóa đơn]]<>"",Table1[[#This Row],[Ngày hóa đơn]],Table1[[#This Row],[Ngày hạch toán]]) -> 46183 | U85: =IF(Table1[[#This Row],[Ngày tính CN]]="","",S85+T85) -> 46183 | V85: =IF(Table1[[#This Row],[Hạn thanh toán]]="","",IF((U85-NOW())<0,0,(U85-NOW()))) -> 0 | X85: =IF(OR($U85="",$R85=0),"",IF(($U85-NOW())<0,-($U85-NOW()),0)) | Y85: =IF(R85=0,"Đã thanh toán",IF(X85="","",IF(X85<=0,"Chưa đến hạn thanh toán",IF(X85<=30,"Nợ quá hạn 30 ngày",IF(X85<=60,"Nợ quá hạn từ 30 ngày đến 60 ngày",IF(X85<=90,"Nợ quá hạn từ 60 ngày đến 90 ngày",IF(X85<=120,"Nợ quá hạn từ 90 ngày đến 120 ngày","Nợ quá hạn hơn 120 ngày có khả năng mất thanh toán"))))))) -> Đã thanh toán | Z85: =IF(OR(Table1[[#This Row],[Ngày hạch toán]]<>"",Table1[[#This Row],[Ngày tính CN]]<>""),IF(Table1[[#This Row],[Ngày hóa đơn]]<>"",Table1[[#This Row],[Ngày hóa đơn]],IF(Table1[[#This Row],[Ngày hạch toán]]<>"",Table1[[#This Row],[Ngày hạch toán]],"")),"") -> 46183 | AA85: =Table1[[#This Row],[Ngày Thanh toán]] -> 46275 | AD85: =IF(Table1[[#This Row],[Mã khách hàng]]="","",VLOOKUP($A85,Ma_KH!$A:$Q,Ma_KH!O$1,0)) -> SIBA MIỀN NAM | AE85: =IF(Table1[[#This Row],[Mã khách hàng]]="","",VLOOKUP($A85,Ma_KH!$A:$Q,Ma_KH!P$1,0)) -> CÔNG TY CỔ PHẦN SIBA FOOD VIỆT NAM | AF85: =VLOOKUP(A85,Ma_KH!A:Q,Ma_KH!J$1,0) -> Trần Hạo Nhị | AG85: =VLOOKUP(Table1[[#This Row],[Mã khách hàng]],Ma_KH!A:L,12,0) -> Hồ Chí Minh
A86: SIBA-HNI-HDC-0005 | B86: Sibafood Thăng Long Capital | C86: 46183 | D86: BH34838 | E86: 46183 | F86: 00040540 | G86: Bán hàng Sibafood Thăng Long Capital theo hóa đơn 00040540 | H86: 1252024 | I86: 0 | J86: 100162 | K86: 1352186 | L86: Bán hàng | M86: 46275 | O86: =IF(Table1[[#This Row],[Phân loại]]="Tồn đầu kỳ",Table1[[#This Row],[Tổng giá trị]],0) -> 0 | P86: =IF(Table1[[#This Row],[Số còn phải thu ĐK]]<>0,0,Table1[[#This Row],[Tổng giá trị]]) -> 1352186 | Q86: =IF(M86<>"",IF(O86<>0,O86,P86),0) -> 1352186 | R86: =Table1[[#This Row],[Số còn phải thu ĐK]]+Table1[[#This Row],[Giá Trị HD sau CK]]-Table1[[#This Row],[Số tiền đã thu]] -> 0 | S86: =IF(Table1[[#This Row],[Ngày hóa đơn]]<>"",Table1[[#This Row],[Ngày hóa đơn]],Table1[[#This Row],[Ngày hạch toán]]) -> 46183 | U86: =IF(Table1[[#This Row],[Ngày tính CN]]="","",S86+T86) -> 46183 | V86: =IF(Table1[[#This Row],[Hạn thanh toán]]="","",IF((U86-NOW())<0,0,(U86-NOW()))) -> 0 | X86: =IF(OR($U86="",$R86=0),"",IF(($U86-NOW())<0,-($U86-NOW()),0)) | Y86: =IF(R86=0,"Đã thanh toán",IF(X86="","",IF(X86<=0,"Chưa đến hạn thanh toán",IF(X86<=30,"Nợ quá hạn 30 ngày",IF(X86<=60,"Nợ quá hạn từ 30 ngày đến 60 ngày",IF(X86<=90,"Nợ quá hạn từ 60 ngày đến 90 ngày",IF(X86<=120,"Nợ quá hạn từ 90 ngày đến 120 ngày","Nợ quá hạn hơn 120 ngày có khả năng mất thanh toán"))))))) -> Đã thanh toán | Z86: =IF(OR(Table1[[#This Row],[Ngày hạch toán]]<>"",Table1[[#This Row],[Ngày tính CN]]<>""),IF(Table1[[#This Row],[Ngày hóa đơn]]<>"",Table1[[#This Row],[Ngày hóa đơn]],IF(Table1[[#This Row],[Ngày hạch toán]]<>"",Table1[[#This Row],[Ngày hạch toán]],"")),"") -> 46183 | AA86: =Table1[[#This Row],[Ngày Thanh toán]] -> 46275 | AD86: =IF(Table1[[#This Row],[Mã khách hàng]]="","",VLOOKUP($A86,Ma_KH!$A:$Q,Ma_KH!O$1,0)) -> SIBA MIỀN BẮC | AE86: =IF(Table1[[#This Row],[Mã khách hàng]]="","",VLOOKUP($A86,Ma_KH!$A:$Q,Ma_KH!P$1,0)) -> CHI NHÁNH CÔNG TY CỔ PHẦN SIBA FOOD VIỆT NAM TẠI HÀ NỘI | AF86: =VLOOKUP(A86,Ma_KH!A:Q,Ma_KH!J$1,0) -> Đỗ Minh Quang | AG86: =VLOOKUP(Table1[[#This Row],[Mã khách hàng]],Ma_KH!A:L,12,0) -> Hà Nội
A87: SIBA-HNI-HDG-0018 | B87: Sibafood S007 - Tòa Mulberry | C87: 46185 | D87: BH35211 | E87: 46185 | F87: 00041135 | G87: Bán hàng Sibafood S007 - Tòa Mulberry theo hóa đơn 00041135 | H87: 1525383 | I87: 0 | J87: 122031 | K87: 1647414 | L87: Bán hàng | M87: 46275 | O87: =IF(Table1[[#This Row],[Phân loại]]="Tồn đầu kỳ",Table1[[#This Row],[Tổng giá trị]],0) -> 0 | P87: =IF(Table1[[#This Row],[Số còn phải thu ĐK]]<>0,0,Table1[[#This Row],[Tổng giá trị]]) -> 1647414 | Q87: =IF(M87<>"",IF(O87<>0,O87,P87),0) -> 1647414 | R87: =Table1[[#This Row],[Số còn phải thu ĐK]]+Table1[[#This Row],[Giá Trị HD sau CK]]-Table1[[#This Row],[Số tiền đã thu]] -> 0 | S87: =IF(Table1[[#This Row],[Ngày hóa đơn]]<>"",Table1[[#This Row],[Ngày hóa đơn]],Table1[[#This Row],[Ngày hạch toán]]) -> 46185 | U87: =IF(Table1[[#This Row],[Ngày tính CN]]="","",S87+T87) -> 46185 | V87: =IF(Table1[[#This Row],[Hạn thanh toán]]="","",IF((U87-NOW())<0,0,(U87-NOW()))) -> 0 | X87: =IF(OR($U87="",$R87=0),"",IF(($U87-NOW())<0,-($U87-NOW()),0)) | Y87: =IF(R87=0,"Đã thanh toán",IF(X87="","",IF(X87<=0,"Chưa đến hạn thanh toán",IF(X87<=30,"Nợ quá hạn 30 ngày",IF(X87<=60,"Nợ quá hạn từ 30 ngày đến 60 ngày",IF(X87<=90,"Nợ quá hạn từ 60 ngày đến 90 ngày",IF(X87<=120,"Nợ quá hạn từ 90 ngày đến 120 ngày","Nợ quá hạn hơn 120 ngày có khả năng mất thanh toán"))))))) -> Đã thanh toán | Z87: =IF(OR(Table1[[#This Row],[Ngày hạch toán]]<>"",Table1[[#This Row],[Ngày tính CN]]<>""),IF(Table1[[#This Row],[Ngày hóa đơn]]<>"",Table1[[#This Row],[Ngày hóa đơn]],IF(Table1[[#This Row],[Ngày hạch toán]]<>"",Table1[[#This Row],[Ngày hạch toán]],"")),"") -> 46185 | AA87: =Table1[[#This Row],[Ngày Thanh toán]] -> 46275 | AD87: =IF(Table1[[#This Row],[Mã khách hàng]]="","",VLOOKUP($A87,Ma_KH!$A:$Q,Ma_KH!O$1,0)) -> SIBA MIỀN BẮC | AE87: =IF(Table1[[#This Row],[Mã khách hàng]]="","",VLOOKUP($A87,Ma_KH!$A:$Q,Ma_KH!P$1,0)) -> CHI NHÁNH CÔNG TY CỔ PHẦN SIBA FOOD VIỆT NAM TẠI HÀ NỘI | AF87: =VLOOKUP(A87,Ma_KH!A:Q,Ma_KH!J$1,0) -> Đỗ Minh Quang | AG87: =VLOOKUP(Table1[[#This Row],[Mã khách hàng]],Ma_KH!A:L,12,0) -> Hà Nội
A88: SIBA-HCM-Q9-S072 | B88: Sibafood S072 - GH201.S04 Vinhomes Grand Park | C88: 46188 | D88: BH16630 | E88: 46188 | F88: 00041261 | G88: 4100181672 | H88: 2998446 | I88: 0 | J88: 239876 | K88: 3238322 | L88: Bán hàng | M88: 46275 | O88: =IF(Table1[[#This Row],[Phân loại]]="Tồn đầu kỳ",Table1[[#This Row],[Tổng giá trị]],0) -> 0 | P88: =IF(Table1[[#This Row],[Số còn phải thu ĐK]]<>0,0,Table1[[#This Row],[Tổng giá trị]]) -> 3238322 | Q88: =IF(M88<>"",IF(O88<>0,O88,P88),0) -> 3238322 | R88: =Table1[[#This Row],[Số còn phải thu ĐK]]+Table1[[#This Row],[Giá Trị HD sau CK]]-Table1[[#This Row],[Số tiền đã thu]] -> 0 | S88: =IF(Table1[[#This Row],[Ngày hóa đơn]]<>"",Table1[[#This Row],[Ngày hóa đơn]],Table1[[#This Row],[Ngày hạch toán]]) -> 46188 | U88: =IF(Table1[[#This Row],[Ngày tính CN]]="","",S88+T88) -> 46188 | V88: =IF(Table1[[#This Row],[Hạn thanh toán]]="","",IF((U88-NOW())<0,0,(U88-NOW()))) -> 0 | X88: =IF(OR($U88="",$R88=0),"",IF(($U88-NOW())<0,-($U88-NOW()),0)) | Y88: =IF(R88=0,"Đã thanh toán",IF(X88="","",IF(X88<=0,"Chưa đến hạn thanh toán",IF(X88<=30,"Nợ quá hạn 30 ngày",IF(X88<=60,"Nợ quá hạn từ 30 ngày đến 60 ngày",IF(X88<=90,"Nợ quá hạn từ 60 ngày đến 90 ngày",IF(X88<=120,"Nợ quá hạn từ 90 ngày đến 120 ngày","Nợ quá hạn hơn 120 ngày có khả năng mất thanh toán"))))))) -> Đã thanh toán | Z88: =IF(OR(Table1[[#This Row],[Ngày hạch toán]]<>"",Table1[[#This Row],[Ngày tính CN]]<>""),IF(Table1[[#This Row],[Ngày hóa đơn]]<>"",Table1[[#This Row],[Ngày hóa đơn]],IF(Table1[[#This Row],[Ngày hạch toán]]<>"",Table1[[#This Row],[Ngày hạch toán]],"")),"") -> 46188 | AA88: =Table1[[#This Row],[Ngày Thanh toán]] -> 46275 | AD88: =IF(Table1[[#This Row],[Mã khách hàng]]="","",VLOOKUP($A88,Ma_KH!$A:$Q,Ma_KH!O$1,0)) -> SIBA MIỀN NAM | AE88: =IF(Table1[[#This Row],[Mã khách hàng]]="","",VLOOKUP($A88,Ma_KH!$A:$Q,Ma_KH!P$1,0)) -> CÔNG TY CỔ PHẦN SIBA FOOD VIỆT NAM | AF88: =VLOOKUP(A88,Ma_KH!A:Q,Ma_KH!J$1,0) -> Trần Hạo Nhị | AG88: =VLOOKUP(Table1[[#This Row],[Mã khách hàng]],Ma_KH!A:L,12,0) -> Hồ Chí Minh
A89: SIBA-HNI-NTL-0001 | B89: Sibafood Vinhomes Green Bay, Mễ Trì | C89: 46188 | D89: BH35439 | E89: 46188 | F89: 00041225 | G89: Bán hàng Sibafood Vinhomes Green Bay, Mễ Trì theo hóa đơn 00041225 | H89: 1414898 | I89: 0 | J89: 113192 | K89: 1528090 | L89: Bán hàng | M89: 46275 | O89: =IF(Table1[[#This Row],[Phân loại]]="Tồn đầu kỳ",Table1[[#This Row],[Tổng giá trị]],0) -> 0 | P89: =IF(Table1[[#This Row],[Số còn phải thu ĐK]]<>0,0,Table1[[#This Row],[Tổng giá trị]]) -> 1528090 | Q89: =IF(M89<>"",IF(O89<>0,O89,P89),0) -> 1528090 | R89: =Table1[[#This Row],[Số còn phải thu ĐK]]+Table1[[#This Row],[Giá Trị HD sau CK]]-Table1[[#This Row],[Số tiền đã thu]] -> 0 | S89: =IF(Table1[[#This Row],[Ngày hóa đơn]]<>"",Table1[[#This Row],[Ngày hóa đơn]],Table1[[#This Row],[Ngày hạch toán]]) -> 46188 | U89: =IF(Table1[[#This Row],[Ngày tính CN]]="","",S89+T89) -> 46188 | V89: =IF(Table1[[#This Row],[Hạn thanh toán]]="","",IF((U89-NOW())<0,0,(U89-NOW()))) -> 0 | X89: =IF(OR($U89="",$R89=0),"",IF(($U89-NOW())<0,-($U89-NOW()),0)) | Y89: =IF(R89=0,"Đã thanh toán",IF(X89="","",IF(X89<=0,"Chưa đến hạn thanh toán",IF(X89<=30,"Nợ quá hạn 30 ngày",IF(X89<=60,"Nợ quá hạn từ 30 ngày đến 60 ngày",IF(X89<=90,"Nợ quá hạn từ 60 ngày đến 90 ngày",IF(X89<=120,"Nợ quá hạn từ 90 ngày đến 120 ngày","Nợ quá hạn hơn 120 ngày có khả năng mất thanh toán"))))))) -> Đã thanh toán | Z89: =IF(OR(Table1[[#This Row],[Ngày hạch toán]]<>"",Table1[[#This Row],[Ngày tính CN]]<>""),IF(Table1[[#This Row],[Ngày hóa đơn]]<>"",Table1[[#This Row],[Ngày hóa đơn]],IF(Table1[[#This Row],[Ngày hạch toán]]<>"",Table1[[#This Row],[Ngày hạch toán]],"")),"") -> 46188 | AA89: =Table1[[#This Row],[Ngày Thanh toán]] -> 46275 | AD89: =IF(Table1[[#This Row],[Mã khách hàng]]="","",VLOOKUP($A89,Ma_KH!$A:$Q,Ma_KH!O$1,0)) -> SIBA MIỀN BẮC | AE89: =IF(Table1[[#This Row],[Mã khách hàng]]="","",VLOOKUP($A89,Ma_KH!$A:$Q,Ma_KH!P$1,0)) -> CHI NHÁNH CÔNG TY CỔ PHẦN SIBA FOOD VIỆT NAM TẠI HÀ NỘI | AF89: =VLOOKUP(A89,Ma_KH!A:Q,Ma_KH!J$1,0) -> Đỗ Minh Quang | AG89: =VLOOKUP(Table1[[#This Row],[Mã khách hàng]],Ma_KH!A:L,12,0) -> Hà Nội
... A97: SIBA-HNI-NTL-0001 | B97: Sibafood Vinhomes Green Bay, Mễ Trì | C97: 46190 | D97: 170626siba0001 | E97: 46262 | F97: 00001872 | G97: ĐÃ KIỂM TRA - Hàng trả - - Sibafood Vinhomes Green Bay, Mễ Trì - 170626siba0001 - Phiếu ngày (17/06/2026)-SIBA-HNI-NTL-0001 | H97: -260577 | I97: 0 | J97: -20846 | K97: -281423 | L97: Hàng trả | M97: 46275 | O97: =IF(Table1[[#This Row],[Phân loại]]="Tồn đầu kỳ",Table1[[#This Row],[Tổng giá trị]],0) -> 0 | P97: =IF(Table1[[#This Row],[Số còn phải thu ĐK]]<>0,0,Table1[[#This Row],[Tổng giá trị]]) -> -281423 | Q97: =IF(M97<>"",IF(O97<>0,O97,P97),0) -> -281423 | R97: =Table1[[#This Row],[Số còn phải thu ĐK]]+Table1[[#This Row],[Giá Trị HD sau CK]]-Table1[[#This Row],[Số tiền đã thu]] -> 0 | S97: =IF(Table1[[#This Row],[Ngày hóa đơn]]<>"",Table1[[#This Row],[Ngày hóa đơn]],Table1[[#This Row],[Ngày hạch toán]]) -> 46262 | U97: =IF(Table1[[#This Row],[Ngày tính CN]]="","",S97+T97) -> 46262 | V97: =IF(Table1[[#This Row],[Hạn thanh toán]]="","",IF((U97-NOW())<0,0,(U97-NOW()))) -> 0 | X97: =IF(OR($U97="",$R97=0),"",IF(($U97-NOW())<0,-($U97-NOW()),0)) | Y97: =IF(R97=0,"Đã thanh toán",IF(X97="","",IF(X97<=0,"Chưa đến hạn thanh toán",IF(X97<=30,"Nợ quá hạn 30 ngày",IF(X97<=60,"Nợ quá hạn từ 30 ngày đến 60 ngày",IF(X97<=90,"Nợ quá hạn từ 60 ngày đến 90 ngày",IF(X97<=120,"Nợ quá hạn từ 90 ngày đến 120 ngày","Nợ quá hạn hơn 120 ngày có khả năng mất thanh toán"))))))) -> Đã thanh toán | Z97: =IF(OR(Table1[[#This Row],[Ngày hạch toán]]<>"",Table1[[#This Row],[Ngày tính CN]]<>""),IF(Table1[[#This Row],[Ngày hóa đơn]]<>"",Table1[[#This Row],[Ngày hóa đơn]],IF(Table1[[#This Row],[Ngày hạch toán]]<>"",Table1[[#This Row],[Ngày hạch toán]],"")),"") -> 46262 | AA97: =Table1[[#This Row],[Ngày Thanh toán]] -> 46275 | AD97: =IF(Table1[[#This Row],[Mã khách hàng]]="","",VLOOKUP($A97,Ma_KH!$A:$Q,Ma_KH!O$1,0)) -> SIBA MIỀN BẮC | AE97: =IF(Table1[[#This Row],[Mã khách hàng]]="","",VLOOKUP($A97,Ma_KH!$A:$Q,Ma_KH!P$1,0)) -> CHI NHÁNH CÔNG TY CỔ PHẦN SIBA FOOD VIỆT NAM TẠI HÀ NỘI | AF97: =VLOOKUP(A97,Ma_KH!A:Q,Ma_KH!J$1,0) -> Đỗ Minh Quang | AG97: =VLOOKUP(Table1[[#This Row],[Mã khách hàng]],Ma_KH!A:L,12,0) -> Hà Nội
A98: SIBA-HNI-HDC-0005 | B98: Sibafood Thăng Long Capital | C98: 46192 | E98: 46262 | F98: 00001873 | G98: ĐÃ KIỂM TRA - Hàng trả - - Sibafood Thăng Long Capital - 190626siba0005 - Phiếu ngày (19/06/2026)-SIBA-HNI-HDC-0005 | H98: -57486 | J98: -4599 | K98: -62085 | L98: Hàng trả | M98: 46275 | O98: =IF(Table1[[#This Row],[Phân loại]]="Tồn đầu kỳ",Table1[[#This Row],[Tổng giá trị]],0) -> 0 | P98: =IF(Table1[[#This Row],[Số còn phải thu ĐK]]<>0,0,Table1[[#This Row],[Tổng giá trị]]) -> -62085 | Q98: =IF(M98<>"",IF(O98<>0,O98,P98),0) -> -62085 | R98: =Table1[[#This Row],[Số còn phải thu ĐK]]+Table1[[#This Row],[Giá Trị HD sau CK]]-Table1[[#This Row],[Số tiền đã thu]] -> 0 | S98: =IF(Table1[[#This Row],[Ngày hóa đơn]]<>"",Table1[[#This Row],[Ngày hóa đơn]],Table1[[#This Row],[Ngày hạch toán]]) -> 46262 | U98: =IF(Table1[[#This Row],[Ngày tính CN]]="","",S98+T98) -> 46262 | V98: =IF(Table1[[#This Row],[Hạn thanh toán]]="","",IF((U98-NOW())<0,0,(U98-NOW()))) -> 0 | X98: =IF(OR($U98="",$R98=0),"",IF(($U98-NOW())<0,-($U98-NOW()),0)) | Y98: =IF(R98=0,"Đã thanh toán",IF(X98="","",IF(X98<=0,"Chưa đến hạn thanh toán",IF(X98<=30,"Nợ quá hạn 30 ngày",IF(X98<=60,"Nợ quá hạn từ 30 ngày đến 60 ngày",IF(X98<=90,"Nợ quá hạn từ 60 ngày đến 90 ngày",IF(X98<=120,"Nợ quá hạn từ 90 ngày đến 120 ngày","Nợ quá hạn hơn 120 ngày có khả năng mất thanh toán"))))))) -> Đã thanh toán | Z98: =IF(OR(Table1[[#This Row],[Ngày hạch toán]]<>"",Table1[[#This Row],[Ngày tính CN]]<>""),IF(Table1[[#This Row],[Ngày hóa đơn]]<>"",Table1[[#This Row],[Ngày hóa đơn]],IF(Table1[[#This Row],[Ngày hạch toán]]<>"",Table1[[#This Row],[Ngày hạch toán]],"")),"") -> 46262 | AA98: =Table1[[#This Row],[Ngày Thanh toán]] -> 46275 | AD98: =IF(Table1[[#This Row],[Mã khách hàng]]="","",VLOOKUP($A98,Ma_KH!$A:$Q,Ma_KH!O$1,0)) -> SIBA MIỀN BẮC | AE98: =IF(Table1[[#This Row],[Mã khách hàng]]="","",VLOOKUP($A98,Ma_KH!$A:$Q,Ma_KH!P$1,0)) -> CHI NHÁNH CÔNG TY CỔ PHẦN SIBA FOOD VIỆT NAM TẠI HÀ NỘI | AF98: =VLOOKUP(A98,Ma_KH!A:Q,Ma_KH!J$1,0) -> Đỗ Minh Quang | AG98: =VLOOKUP(Table1[[#This Row],[Mã khách hàng]],Ma_KH!A:L,12,0) -> Hà Nội
A99: SIBA-HNI-HDG-0017 | B99: Sibafood Terra An Hưng | C99: 46200 | E99: 46262 | F99: 00001875 | G99: ĐÃ KIỂM TRA - Hàng trả - - Sibafood Terra An Hưng - 270626siba017 - Phiếu ngày (27/06/2026)-SIBA-HNI-HDG-0017 | H99: -131600 | J99: -10528 | K99: -142128 | L99: Hàng trả | M99: 46275 | O99: =IF(Table1[[#This Row],[Phân loại]]="Tồn đầu kỳ",Table1[[#This Row],[Tổng giá trị]],0) -> 0 | P99: =IF(Table1[[#This Row],[Số còn phải thu ĐK]]<>0,0,Table1[[#This Row],[Tổng giá trị]]) -> -142128 | Q99: =IF(M99<>"",IF(O99<>0,O99,P99),0) -> -142128 | R99: =Table1[[#This Row],[Số còn phải thu ĐK]]+Table1[[#This Row],[Giá Trị HD sau CK]]-Table1[[#This Row],[Số tiền đã thu]] -> 0 | S99: =IF(Table1[[#This Row],[Ngày hóa đơn]]<>"",Table1[[#This Row],[Ngày hóa đơn]],Table1[[#This Row],[Ngày hạch toán]]) -> 46262 | U99: =IF(Table1[[#This Row],[Ngày tính CN]]="","",S99+T99) -> 46262 | V99: =IF(Table1[[#This Row],[Hạn thanh toán]]="","",IF((U99-NOW())<0,0,(U99-NOW()))) -> 0 | X99: =IF(OR($U99="",$R99=0),"",IF(($U99-NOW())<0,-($U99-NOW()),0)) | Y99: =IF(R99=0,"Đã thanh toán",IF(X99="","",IF(X99<=0,"Chưa đến hạn thanh toán",IF(X99<=30,"Nợ quá hạn 30 ngày",IF(X99<=60,"Nợ quá hạn từ 30 ngày đến 60 ngày",IF(X99<=90,"Nợ quá hạn từ 60 ngày đến 90 ngày",IF(X99<=120,"Nợ quá hạn từ 90 ngày đến 120 ngày","Nợ quá hạn hơn 120 ngày có khả năng mất thanh toán"))))))) -> Đã thanh toán | Z99: =IF(OR(Table1[[#This Row],[Ngày hạch toán]]<>"",Table1[[#This Row],[Ngày tính CN]]<>""),IF(Table1[[#This Row],[Ngày hóa đơn]]<>"",Table1[[#This Row],[Ngày hóa đơn]],IF(Table1[[#This Row],[Ngày hạch toán]]<>"",Table1[[#This Row],[Ngày hạch toán]],"")),"") -> 46262 | AA99: =Table1[[#This Row],[Ngày Thanh toán]] -> 46275 | AD99: =IF(Table1[[#This Row],[Mã khách hàng]]="","",VLOOKUP($A99,Ma_KH!$A:$Q,Ma_KH!O$1,0)) -> SIBA MIỀN BẮC | AE99: =IF(Table1[[#This Row],[Mã khách hàng]]="","",VLOOKUP($A99,Ma_KH!$A:$Q,Ma_KH!P$1,0)) -> CHI NHÁNH CÔNG TY CỔ PHẦN SIBA FOOD VIỆT NAM TẠI HÀ NỘI | AF99: =VLOOKUP(A99,Ma_KH!A:Q,Ma_KH!J$1,0) -> Đỗ Minh Quang | AG99: =VLOOKUP(Table1[[#This Row],[Mã khách hàng]],Ma_KH!A:L,12,0) -> Hà Nội
A100: SIBA-HCM-Q9-S096 | B100: Sibafood S096 - S06 | C100: 46204 | D100: BH18254 | E100: 46204 | F100: 00045545 | G100: 4100189036 | H100: 2444766 | I100: 0 | J100: 195581 | K100: 2640347 | L100: Bán hàng | M100: 46275 | O100: =IF(Table1[[#This Row],[Phân loại]]="Tồn đầu kỳ",Table1[[#This Row],[Tổng giá trị]],0) -> 0 | P100: =IF(Table1[[#This Row],[Số còn phải thu ĐK]]<>0,0,Table1[[#This Row],[Tổng giá trị]]) -> 2640347 | Q100: =IF(M100<>"",IF(O100<>0,O100,P100),0) -> 2640347 | R100: =Table1[[#This Row],[Số còn phải thu ĐK]]+Table1[[#This Row],[Giá Trị HD sau CK]]-Table1[[#This Row],[Số tiền đã thu]] -> 0 | S100: =IF(Table1[[#This Row],[Ngày hóa đơn]]<>"",Table1[[#This Row],[Ngày hóa đơn]],Table1[[#This Row],[Ngày hạch toán]]) -> 46204 | U100: =IF(Table1[[#This Row],[Ngày tính CN]]="","",S100+T100) -> 46204 | V100: =IF(Table1[[#This Row],[Hạn thanh toán]]="","",IF((U100-NOW())<0,0,(U100-NOW()))) -> 0 | X100: =IF(OR($U100="",$R100=0),"",IF(($U100-NOW())<0,-($U100-NOW()),0)) | Y100: =IF(R100=0,"Đã thanh toán",IF(X100="","",IF(X100<=0,"Chưa đến hạn thanh toán",IF(X100<=30,"Nợ quá hạn 30 ngày",IF(X100<=60,"Nợ quá hạn từ 30 ngày đến 60 ngày",IF(X100<=90,"Nợ quá hạn từ 60 ngày đến 90 ngày",IF(X100<=120,"Nợ quá hạn từ 90 ngày đến 120 ngày","Nợ quá hạn hơn 120 ngày có khả năng mất thanh toán"))))))) -> Đã thanh toán | Z100: =IF(OR(Table1[[#This Row],[Ngày hạch toán]]<>"",Table1[[#This Row],[Ngày tính CN]]<>""),IF(Table1[[#This Row],[Ngày hóa đơn]]<>"",Table1[[#This Row],[Ngày hóa đơn]],IF(Table1[[#This Row],[Ngày hạch toán]]<>"",Table1[[#This Row],[Ngày hạch toán]],"")),"") -> 46204 | AA100: =Table1[[#This Row],[Ngày Thanh toán]] -> 46275 | AD100: =IF(Table1[[#This Row],[Mã khách hàng]]="","",VLOOKUP($A100,Ma_KH!$A:$Q,Ma_KH!O$1,0)) -> SIBA MIỀN NAM | AE100: =IF(Table1[[#This Row],[Mã khách hàng]]="","",VLOOKUP($A100,Ma_KH!$A:$Q,Ma_KH!P$1,0)) -> CÔNG TY CỔ PHẦN SIBA FOOD VIỆT NAM | AF100: =VLOOKUP(A100,Ma_KH!A:Q,Ma_KH!J$1,0) -> Trần Hạo Nhị | AG100: =VLOOKUP(Table1[[#This Row],[Mã khách hàng]],Ma_KH!A:L,12,0) -> TP.Hồ Chí Minh
A101: SIBA-HCM-Q9-S073 | B101: Sibafood S073 - BS1001.S03 Vinhomes Grand Park | C101: 46206 | D101: BH18457 | E101: 46206 | F101: 00046011 | G101: 4100190264 | H101: 1227964 | I101: 0 | J101: 98237 | K101: 1326201 | L101: Bán hàng | M101: 46275 | O101: =IF(Table1[[#This Row],[Phân loại]]="Tồn đầu kỳ",Table1[[#This Row],[Tổng giá trị]],0) -> 0 | P101: =IF(Table1[[#This Row],[Số còn phải thu ĐK]]<>0,0,Table1[[#This Row],[Tổng giá trị]]) -> 1326201 | Q101: =IF(M101<>"",IF(O101<>0,O101,P101),0) -> 1326201 | R101: =Table1[[#This Row],[Số còn phải thu ĐK]]+Table1[[#This Row],[Giá Trị HD sau CK]]-Table1[[#This Row],[Số tiền đã thu]] -> 0 | S101: =IF(Table1[[#This Row],[Ngày hóa đơn]]<>"",Table1[[#This Row],[Ngày hóa đơn]],Table1[[#This Row],[Ngày hạch toán]]) -> 46206 | U101: =IF(Table1[[#This Row],[Ngày tính CN]]="","",S101+T101) -> 46206 | V101: =IF(Table1[[#This Row],[Hạn thanh toán]]="","",IF((U101-NOW())<0,0,(U101-NOW()))) -> 0 | X101: =IF(OR($U101="",$R101=0),"",IF(($U101-NOW())<0,-($U101-NOW()),0)) | Y101: =IF(R101=0,"Đã thanh toán",IF(X101="","",IF(X101<=0,"Chưa đến hạn thanh toán",IF(X101<=30,"Nợ quá hạn 30 ngày",IF(X101<=60,"Nợ quá hạn từ 30 ngày đến 60 ngày",IF(X101<=90,"Nợ quá hạn từ 60 ngày đến 90 ngày",IF(X101<=120,"Nợ quá hạn từ 90 ngày đến 120 ngày","Nợ quá hạn hơn 120 ngày có khả năng mất thanh toán"))))))) -> Đã thanh toán | Z101: =IF(OR(Table1[[#This Row],[Ngày hạch toán]]<>"",Table1[[#This Row],[Ngày tính CN]]<>""),IF(Table1[[#This Row],[Ngày hóa đơn]]<>"",Table1[[#This Row],[Ngày hóa đơn]],IF(Table1[[#This Row],[Ngày hạch toán]]<>"",Table1[[#This Row],[Ngày hạch toán]],"")),"") -> 46206 | AA101: =Table1[[#This Row],[Ngày Thanh toán]] -> 46275 | AD101: =IF(Table1[[#This Row],[Mã khách hàng]]="","",VLOOKUP($A101,Ma_KH!$A:$Q,Ma_KH!O$1,0)) -> SIBA MIỀN NAM | AE101: =IF(Table1[[#This Row],[Mã khách hàng]]="","",VLOOKUP($A101,Ma_KH!$A:$Q,Ma_KH!P$1,0)) -> CÔNG TY CỔ PHẦN SIBA FOOD VIỆT NAM | AF101: =VLOOKUP(A101,Ma_KH!A:Q,Ma_KH!J$1,0) -> Trần Hạo Nhị | AG101: =VLOOKUP(Table1[[#This Row],[Mã khách hàng]],Ma_KH!A:L,12,0) -> Hồ Chí Minh
A102: SIBA-HNI-GLM-S093 | B102: Siba food S093 | C102: 46206 | D102: BH38561 | E102: 46206 | F102: 00046018 | G102: Bán hàng Siba food S093 theo hóa đơn 00046018 , đơn khai trương ck 10% | H102: 1596296 | I102: 159629 | J102: 114933 | K102: 1551600 | L102: Bán hàng | M102: 46275 | O102: =IF(Table1[[#This Row],[Phân loại]]="Tồn đầu kỳ",Table1[[#This Row],[Tổng giá trị]],0) -> 0 | P102: =IF(Table1[[#This Row],[Số còn phải thu ĐK]]<>0,0,Table1[[#This Row],[Tổng giá trị]]) -> 1551600 | Q102: =IF(M102<>"",IF(O102<>0,O102,P102),0) -> 1551600 | R102: =Table1[[#This Row],[Số còn phải thu ĐK]]+Table1[[#This Row],[Giá Trị HD sau CK]]-Table1[[#This Row],[Số tiền đã thu]] -> 0 | S102: =IF(Table1[[#This Row],[Ngày hóa đơn]]<>"",Table1[[#This Row],[Ngày hóa đơn]],Table1[[#This Row],[Ngày hạch toán]]) -> 46206 | U102: =IF(Table1[[#This Row],[Ngày tính CN]]="","",S102+T102) -> 46206 | V102: =IF(Table1[[#This Row],[Hạn thanh toán]]="","",IF((U102-NOW())<0,0,(U102-NOW()))) -> 0 | X102: =IF(OR($U102="",$R102=0),"",IF(($U102-NOW())<0,-($U102-NOW()),0)) | Y102: =IF(R102=0,"Đã thanh toán",IF(X102="","",IF(X102<=0,"Chưa đến hạn thanh toán",IF(X102<=30,"Nợ quá hạn 30 ngày",IF(X102<=60,"Nợ quá hạn từ 30 ngày đến 60 ngày",IF(X102<=90,"Nợ quá hạn từ 60 ngày đến 90 ngày",IF(X102<=120,"Nợ quá hạn từ 90 ngày đến 120 ngày","Nợ quá hạn hơn 120 ngày có khả năng mất thanh toán"))))))) -> Đã thanh toán | Z102: =IF(OR(Table1[[#This Row],[Ngày hạch toán]]<>"",Table1[[#This Row],[Ngày tính CN]]<>""),IF(Table1[[#This Row],[Ngày hóa đơn]]<>"",Table1[[#This Row],[Ngày hóa đơn]],IF(Table1[[#This Row],[Ngày hạch toán]]<>"",Table1[[#This Row],[Ngày hạch toán]],"")),"") -> 46206 | AA102: =Table1[[#This Row],[Ngày Thanh toán]] -> 46275 | AD102: =IF(Table1[[#This Row],[Mã khách hàng]]="","",VLOOKUP($A102,Ma_KH!$A:$Q,Ma_KH!O$1,0)) -> SIBA MIỀN BẮC | AE102: =IF(Table1[[#This Row],[Mã khách hàng]]="","",VLOOKUP($A102,Ma_KH!$A:$Q,Ma_KH!P$1,0)) -> CHI NHÁNH CÔNG TY CỔ PHẦN SIBA FOOD VIỆT NAM TẠI HÀ NỘI | AF102: =VLOOKUP(A102,Ma_KH!A:Q,Ma_KH!J$1,0) -> Vũ Anh Tuấn | AG102: =VLOOKUP(Table1[[#This Row],[Mã khách hàng]],Ma_KH!A:L,12,0) -> Hà Nội
A103: SIBA-HNI-NTL-S094 | B103: Siba food MASTERI SMART CITY | C103: 46206 | D103: BH38689 | E103: 46206 | F103: 00046055 | G103: Bán hàng Siba food MASTERI SMART CITY theo hóa đơn 00046055 , ĐƠN KHAI TRƯƠNG CK 10% | H103: 1070054 | I103: 107005 | J103: 77044 | K103: 1040093 | L103: Bán hàng | M103: 46275 | O103: =IF(Table1[[#This Row],[Phân loại]]="Tồn đầu kỳ",Table1[[#This Row],[Tổng giá trị]],0) -> 0 | P103: =IF(Table1[[#This Row],[Số còn phải thu ĐK]]<>0,0,Table1[[#This Row],[Tổng giá trị]]) -> 1040093 | Q103: =IF(M103<>"",IF(O103<>0,O103,P103),0) -> 1040093 | R103: =Table1[[#This Row],[Số còn phải thu ĐK]]+Table1[[#This Row],[Giá Trị HD sau CK]]-Table1[[#This Row],[Số tiền đã thu]] -> 0 | S103: =IF(Table1[[#This Row],[Ngày hóa đơn]]<>"",Table1[[#This Row],[Ngày hóa đơn]],Table1[[#This Row],[Ngày hạch toán]]) -> 46206 | U103: =IF(Table1[[#This Row],[Ngày tính CN]]="","",S103+T103) -> 46206 | V103: =IF(Table1[[#This Row],[Hạn thanh toán]]="","",IF((U103-NOW())<0,0,(U103-NOW()))) -> 0 | X103: =IF(OR($U103="",$R103=0),"",IF(($U103-NOW())<0,-($U103-NOW()),0)) | Y103: =IF(R103=0,"Đã thanh toán",IF(X103="","",IF(X103<=0,"Chưa đến hạn thanh toán",IF(X103<=30,"Nợ quá hạn 30 ngày",IF(X103<=60,"Nợ quá hạn từ 30 ngày đến 60 ngày",IF(X103<=90,"Nợ quá hạn từ 60 ngày đến 90 ngày",IF(X103<=120,"Nợ quá hạn từ 90 ngày đến 120 ngày","Nợ quá hạn hơn 120 ngày có khả năng mất thanh toán"))))))) -> Đã thanh toán | Z103: =IF(OR(Table1[[#This Row],[Ngày hạch toán]]<>"",Table1[[#This Row],[Ngày tính CN]]<>""),IF(Table1[[#This Row],[Ngày hóa đơn]]<>"",Table1[[#This Row],[Ngày hóa đơn]],IF(Table1[[#This Row],[Ngày hạch toán]]<>"",Table1[[#This Row],[Ngày hạch toán]],"")),"") -> 46206 | AA103: =Table1[[#This Row],[Ngày Thanh toán]] -> 46275 | AD103: =IF(Table1[[#This Row],[Mã khách hàng]]="","",VLOOKUP($A103,Ma_KH!$A:$Q,Ma_KH!O$1,0)) -> SIBA MIỀN BẮC | AE103: =IF(Table1[[#This Row],[Mã khách hàng]]="","",VLOOKUP($A103,Ma_KH!$A:$Q,Ma_KH!P$1,0)) -> CHI NHÁNH CÔNG TY CỔ PHẦN SIBA FOOD VIỆT NAM TẠI HÀ NỘI | AF103: =VLOOKUP(A103,Ma_KH!A:Q,Ma_KH!J$1,0) -> Đỗ Minh Quang | AG103: =VLOOKUP(Table1[[#This Row],[Mã khách hàng]],Ma_KH!A:L,12,0) -> Hà Nội
A104: SIBA-HNI-HDG-0018 | B104: Sibafood S007 - Tòa Mulberry | C104: 46209 | D104: BH39014 | E104: 46209 | F104: 00046555 | G104: Bán hàng Sibafood S007 - Tòa Mulberry theo hóa đơn 00046555 | H104: 720528 | I104: 0 | J104: 57642 | K104: 778170 | L104: Bán hàng | M104: 46275 | O104: =IF(Table1[[#This Row],[Phân loại]]="Tồn đầu kỳ",Table1[[#This Row],[Tổng giá trị]],0) -> 0 | P104: =IF(Table1[[#This Row],[Số còn phải thu ĐK]]<>0,0,Table1[[#This Row],[Tổng giá trị]]) -> 778170 | Q104: =IF(M104<>"",IF(O104<>0,O104,P104),0) -> 778170 | R104: =Table1[[#This Row],[Số còn phải thu ĐK]]+Table1[[#This Row],[Giá Trị HD sau CK]]-Table1[[#This Row],[Số tiền đã thu]] -> 0 | S104: =IF(Table1[[#This Row],[Ngày hóa đơn]]<>"",Table1[[#This Row],[Ngày hóa đơn]],Table1[[#This Row],[Ngày hạch toán]]) -> 46209 | U104: =IF(Table1[[#This Row],[Ngày tính CN]]="","",S104+T104) -> 46209 | V104: =IF(Table1[[#This Row],[Hạn thanh toán]]="","",IF((U104-NOW())<0,0,(U104-NOW()))) -> 0 | X104: =IF(OR($U104="",$R104=0),"",IF(($U104-NOW())<0,-($U104-NOW()),0)) | Y104: =IF(R104=0,"Đã thanh toán",IF(X104="","",IF(X104<=0,"Chưa đến hạn thanh toán",IF(X104<=30,"Nợ quá hạn 30 ngày",IF(X104<=60,"Nợ quá hạn từ 30 ngày đến 60 ngày",IF(X104<=90,"Nợ quá hạn từ 60 ngày đến 90 ngày",IF(X104<=120,"Nợ quá hạn từ 90 ngày đến 120 ngày","Nợ quá hạn hơn 120 ngày có khả năng mất thanh toán"))))))) -> Đã thanh toán | Z104: =IF(OR(Table1[[#This Row],[Ngày hạch toán]]<>"",Table1[[#This Row],[Ngày tính CN]]<>""),IF(Table1[[#This Row],[Ngày hóa đơn]]<>"",Table1[[#This Row],[Ngày hóa đơn]],IF(Table1[[#This Row],[Ngày hạch toán]]<>"",Table1[[#This Row],[Ngày hạch toán]],"")),"") -> 46209 | AA104: =Table1[[#This Row],[Ngày Thanh toán]] -> 46275 | AD104: =IF(Table1[[#This Row],[Mã khách hàng]]="","",VLOOKUP($A104,Ma_KH!$A:$Q,Ma_KH!O$1,0)) -> SIBA MIỀN BẮC | AE104: =IF(Table1[[#This Row],[Mã khách hàng]]="","",VLOOKUP($A104,Ma_KH!$A:$Q,Ma_KH!P$1,0)) -> CHI NHÁNH CÔNG TY CỔ PHẦN SIBA FOOD VIỆT NAM TẠI HÀ NỘI | AF104: =VLOOKUP(A104,Ma_KH!A:Q,Ma_KH!J$1,0) -> Đỗ Minh Quang | AG104: =VLOOKUP(Table1[[#This Row],[Mã khách hàng]],Ma_KH!A:L,12,0) -> Hà Nội
A105: SIBA-HNI-HDG-A11 | B105: Geleximco Lê Trọng Tấn -Dương Nội | C105: 46211 | D105: BH39412 | E105: 46211 | F105: 00047554 | G105: Bán hàng Geleximco Lê Trọng Tấn -Dương Nội theo hóa đơn 00047554 | H105: 1328565 | I105: 0 | J105: 106285 | K105: 1434850 | L105: Bán hàng | M105: 46275 | O105: =IF(Table1[[#This Row],[Phân loại]]="Tồn đầu kỳ",Table1[[#This Row],[Tổng giá trị]],0) -> 0 | P105: =IF(Table1[[#This Row],[Số còn phải thu ĐK]]<>0,0,Table1[[#This Row],[Tổng giá trị]]) -> 1434850 | Q105: =IF(M105<>"",IF(O105<>0,O105,P105),0) -> 1434850 | R105: =Table1[[#This Row],[Số còn phải thu ĐK]]+Table1[[#This Row],[Giá Trị HD sau CK]]-Table1[[#This Row],[Số tiền đã thu]] -> 0 | S105: =IF(Table1[[#This Row],[Ngày hóa đơn]]<>"",Table1[[#This Row],[Ngày hóa đơn]],Table1[[#This Row],[Ngày hạch toán]]) -> 46211 | U105: =IF(Table1[[#This Row],[Ngày tính CN]]="","",S105+T105) -> 46211 | V105: =IF(Table1[[#This Row],[Hạn thanh toán]]="","",IF((U105-NOW())<0,0,(U105-NOW()))) -> 0 | X105: =IF(OR($U105="",$R105=0),"",IF(($U105-NOW())<0,-($U105-NOW()),0)) | Y105: =IF(R105=0,"Đã thanh toán",IF(X105="","",IF(X105<=0,"Chưa đến hạn thanh toán",IF(X105<=30,"Nợ quá hạn 30 ngày",IF(X105<=60,"Nợ quá hạn từ 30 ngày đến 60 ngày",IF(X105<=90,"Nợ quá hạn từ 60 ngày đến 90 ngày",IF(X105<=120,"Nợ quá hạn từ 90 ngày đến 120 ngày","Nợ quá hạn hơn 120 ngày có khả năng mất thanh toán"))))))) -> Đã thanh toán | Z105: =IF(OR(Table1[[#This Row],[Ngày hạch toán]]<>"",Table1[[#This Row],[Ngày tính CN]]<>""),IF(Table1[[#This Row],[Ngày hóa đơn]]<>"",Table1[[#This Row],[Ngày hóa đơn]],IF(Table1[[#This Row],[Ngày hạch toán]]<>"",Table1[[#This Row],[Ngày hạch toán]],"")),"") -> 46211 | AA105: =Table1[[#This Row],[Ngày Thanh toán]] -> 46275 | AD105: =IF(Table1[[#This Row],[Mã khách hàng]]="","",VLOOKUP($A105,Ma_KH!$A:$Q,Ma_KH!O$1,0)) -> SIBA MIỀN BẮC | AE105: =IF(Table1[[#This Row],[Mã khách hàng]]="","",VLOOKUP($A105,Ma_KH!$A:$Q,Ma_KH!P$1,0)) -> CHI NHÁNH CÔNG TY CỔ PHẦN SIBA FOOD VIỆT NAM TẠI HÀ NỘI | AF105: =VLOOKUP(A105,Ma_KH!A:Q,Ma_KH!J$1,0) -> Đỗ Minh Quang | AG105: =VLOOKUP(Table1[[#This Row],[Mã khách hàng]],Ma_KH!A:L,12,0) -> Hà Nội
A106: SIBA-HCM-Q9-S072 | B106: Sibafood S072 - GH201.S04 Vinhomes Grand Park | C106: 46213 | D106: BH19219 | E106: 46213 | F106: 00048195 | G106: 4100196018 | H106: 1947852 | I106: 0 | J106: 155828 | K106: 2103680 | L106: Bán hàng | M106: 46275 | O106: =IF(Table1[[#This Row],[Phân loại]]="Tồn đầu kỳ",Table1[[#This Row],[Tổng giá trị]],0) -> 0 | P106: =IF(Table1[[#This Row],[Số còn phải thu ĐK]]<>0,0,Table1[[#This Row],[Tổng giá trị]]) -> 2103680 | Q106: =IF(M106<>"",IF(O106<>0,O106,P106),0) -> 2103680 | R106: =Table1[[#This Row],[Số còn phải thu ĐK]]+Table1[[#This Row],[Giá Trị HD sau CK]]-Table1[[#This Row],[Số tiền đã thu]] -> 0 | S106: =IF(Table1[[#This Row],[Ngày hóa đơn]]<>"",Table1[[#This Row],[Ngày hóa đơn]],Table1[[#This Row],[Ngày hạch toán]]) -> 46213 | U106: =IF(Table1[[#This Row],[Ngày tính CN]]="","",S106+T106) -> 46213 | V106: =IF(Table1[[#This Row],[Hạn thanh toán]]="","",IF((U106-NOW())<0,0,(U106-NOW()))) -> 0 | X106: =IF(OR($U106="",$R106=0),"",IF(($U106-NOW())<0,-($U106-NOW()),0)) | Y106: =IF(R106=0,"Đã thanh toán",IF(X106="","",IF(X106<=0,"Chưa đến hạn thanh toán",IF(X106<=30,"Nợ quá hạn 30 ngày",IF(X106<=60,"Nợ quá hạn từ 30 ngày đến 60 ngày",IF(X106<=90,"Nợ quá hạn từ 60 ngày đến 90 ngày",IF(X106<=120,"Nợ quá hạn từ 90 ngày đến 120 ngày","Nợ quá hạn hơn 120 ngày có khả năng mất thanh toán"))))))) -> Đã thanh toán | Z106: =IF(OR(Table1[[#This Row],[Ngày hạch toán]]<>"",Table1[[#This Row],[Ngày tính CN]]<>""),IF(Table1[[#This Row],[Ngày hóa đơn]]<>"",Table1[[#This Row],[Ngày hóa đơn]],IF(Table1[[#This Row],[Ngày hạch toán]]<>"",Table1[[#This Row],[Ngày hạch toán]],"")),"") -> 46213 | AA106: =Table1[[#This Row],[Ngày Thanh toán]] -> 46275 | AD106: =IF(Table1[[#This Row],[Mã khách hàng]]="","",VLOOKUP($A106,Ma_KH!$A:$Q,Ma_KH!O$1,0)) -> SIBA MIỀN NAM | AE106: =IF(Table1[[#This Row],[Mã khách hàng]]="","",VLOOKUP($A106,Ma_KH!$A:$Q,Ma_KH!P$1,0)) -> CÔNG TY CỔ PHẦN SIBA FOOD VIỆT NAM | AF106: =VLOOKUP(A106,Ma_KH!A:Q,Ma_KH!J$1,0) -> Trần Hạo Nhị | AG106: =VLOOKUP(Table1[[#This Row],[Mã khách hàng]],Ma_KH!A:L,12,0) -> Hồ Chí Minh
A107: SIBA-HNI-HDC-0005 | B107: Sibafood Thăng Long Capital | C107: 46213 | D107: BH39740 | E107: 46213 | F107: 00048198 | G107: Bán hàng Sibafood Thăng Long Capital theo hóa đơn 00048198 | H107: 862498 | I107: 0 | J107: 69000 | K107: 931498 | L107: Bán hàng | M107: 46275 | O107: =IF(Table1[[#This Row],[Phân loại]]="Tồn đầu kỳ",Table1[[#This Row],[Tổng giá trị]],0) -> 0 | P107: =IF(Table1[[#This Row],[Số còn phải thu ĐK]]<>0,0,Table1[[#This Row],[Tổng giá trị]]) -> 931498 | Q107: =IF(M107<>"",IF(O107<>0,O107,P107),0) -> 931498 | R107: =Table1[[#This Row],[Số còn phải thu ĐK]]+Table1[[#This Row],[Giá Trị HD sau CK]]-Table1[[#This Row],[Số tiền đã thu]] -> 0 | S107: =IF(Table1[[#This Row],[Ngày hóa đơn]]<>"",Table1[[#This Row],[Ngày hóa đơn]],Table1[[#This Row],[Ngày hạch toán]]) -> 46213 | U107: =IF(Table1[[#This Row],[Ngày tính CN]]="","",S107+T107) -> 46213 | V107: =IF(Table1[[#This Row],[Hạn thanh toán]]="","",IF((U107-NOW())<0,0,(U107-NOW()))) -> 0 | X107: =IF(OR($U107="",$R107=0),"",IF(($U107-NOW())<0,-($U107-NOW()),0)) | Y107: =IF(R107=0,"Đã thanh toán",IF(X107="","",IF(X107<=0,"Chưa đến hạn thanh toán",IF(X107<=30,"Nợ quá hạn 30 ngày",IF(X107<=60,"Nợ quá hạn từ 30 ngày đến 60 ngày",IF(X107<=90,"Nợ quá hạn từ 60 ngày đến 90 ngày",IF(X107<=120,"Nợ quá hạn từ 90 ngày đến 120 ngày","Nợ quá hạn hơn 120 ngày có khả năng mất thanh toán"))))))) -> Đã thanh toán | Z107: =IF(OR(Table1[[#This Row],[Ngày hạch toán]]<>"",Table1[[#This Row],[Ngày tính CN]]<>""),IF(Table1[[#This Row],[Ngày hóa đơn]]<>"",Table1[[#This Row],[Ngày hóa đơn]],IF(Table1[[#This Row],[Ngày hạch toán]]<>"",Table1[[#This Row],[Ngày hạch toán]],"")),"") -> 46213 | AA107: =Table1[[#This Row],[Ngày Thanh toán]] -> 46275 | AD107: =IF(Table1[[#This Row],[Mã khách hàng]]="","",VLOOKUP($A107,Ma_KH!$A:$Q,Ma_KH!O$1,0)) -> SIBA MIỀN BẮC | AE107: =IF(Table1[[#This Row],[Mã khách hàng]]="","",VLOOKUP($A107,Ma_KH!$A:$Q,Ma_KH!P$1,0)) -> CHI NHÁNH CÔNG TY CỔ PHẦN SIBA FOOD VIỆT NAM TẠI HÀ NỘI | AF107: =VLOOKUP(A107,Ma_KH!A:Q,Ma_KH!J$1,0) -> Đỗ Minh Quang | AG107: =VLOOKUP(Table1[[#This Row],[Mã khách hàng]],Ma_KH!A:L,12,0) -> Hà Nội
A108: SIBA-HNI-HDG-S089 | B108: Siba food S089 | C108: 46216 | D108: BH40164 | E108: 46216 | F108: 00048490 | G108: Bán hàng Siba food S089 theo hóa đơn 00048490 , ĐƠN KHAI TRƯƠNG CK 10% | H108: 2132427 | I108: 213243 | J108: 153535 | K108: 2072719 | L108: Bán hàng | M108: 46275 | O108: =IF(Table1[[#This Row],[Phân loại]]="Tồn đầu kỳ",Table1[[#This Row],[Tổng giá trị]],0) -> 0 | P108: =IF(Table1[[#This Row],[Số còn phải thu ĐK]]<>0,0,Table1[[#This Row],[Tổng giá trị]]) -> 2072719 | Q108: =IF(M108<>"",IF(O108<>0,O108,P108),0) -> 2072719 | R108: =Table1[[#This Row],[Số còn phải thu ĐK]]+Table1[[#This Row],[Giá Trị HD sau CK]]-Table1[[#This Row],[Số tiền đã thu]] -> 0 | S108: =IF(Table1[[#This Row],[Ngày hóa đơn]]<>"",Table1[[#This Row],[Ngày hóa đơn]],Table1[[#This Row],[Ngày hạch toán]]) -> 46216 | U108: =IF(Table1[[#This Row],[Ngày tính CN]]="","",S108+T108) -> 46216 | V108: =IF(Table1[[#This Row],[Hạn thanh toán]]="","",IF((U108-NOW())<0,0,(U108-NOW()))) -> 0 | X108: =IF(OR($U108="",$R108=0),"",IF(($U108-NOW())<0,-($U108-NOW()),0)) | Y108: =IF(R108=0,"Đã thanh toán",IF(X108="","",IF(X108<=0,"Chưa đến hạn thanh toán",IF(X108<=30,"Nợ quá hạn 30 ngày",IF(X108<=60,"Nợ quá hạn từ 30 ngày đến 60 ngày",IF(X108<=90,"Nợ quá hạn từ 60 ngày đến 90 ngày",IF(X108<=120,"Nợ quá hạn từ 90 ngày đến 120 ngày","Nợ quá hạn hơn 120 ngày có khả năng mất thanh toán"))))))) -> Đã thanh toán | Z108: =IF(OR(Table1[[#This Row],[Ngày hạch toán]]<>"",Table1[[#This Row],[Ngày tính CN]]<>""),IF(Table1[[#This Row],[Ngày hóa đơn]]<>"",Table1[[#This Row],[Ngày hóa đơn]],IF(Table1[[#This Row],[Ngày hạch toán]]<>"",Table1[[#This Row],[Ngày hạch toán]],"")),"") -> 46216 | AA108: =Table1[[#This Row],[Ngày Thanh toán]] -> 46275 | AD108: =IF(Table1[[#This Row],[Mã khách hàng]]="","",VLOOKUP($A108,Ma_KH!$A:$Q,Ma_KH!O$1,0)) -> SIBA MIỀN BẮC | AE108: =IF(Table1[[#This Row],[Mã khách hàng]]="","",VLOOKUP($A108,Ma_KH!$A:$Q,Ma_KH!P$1,0)) -> CHI NHÁNH CÔNG TY CỔ PHẦN SIBA FOOD VIỆT NAM TẠI HÀ NỘI | AF108: =VLOOKUP(A108,Ma_KH!A:Q,Ma_KH!J$1,0) -> Đỗ Minh Quang | AG108: =VLOOKUP(Table1[[#This Row],[Mã khách hàng]],Ma_KH!A:L,12,0) -> Hà Nội
