Workbook

Sheet Tổng Hợp
A1: THEO DÕI CÔNG NỢ / CTY Satra CỦ CHI - 30/06/2026
A2: Ngày tháng | B2: Nội dung | C2: Số tiền bán hàng (+VAT) | D2: Số tiền hàng trả | E2: Hỗ trợ | F2: Số tiền khách đã thanh toán
B3: Số dư đầu kỳ | C3: 19602266
A4: T01.2026 | B4: Bán hàng | C4: 9183105
A5: T02.2026 | B5: Bán hàng | C5: 16099172
A6: T03.2026 | B6: Bán hàng | C6: 5048844
A7: T04.2026 | B7: Bán hàng | C7: 9087938
A8: T05.2026 | B8: Bán hàng | C8: 8564850
A9: T06.2026 | B9: Bán hàng | C9: 10064143
A10: T07.2026 | B10: Bán hàng | C10: ='CÔNG NỢ'!C12 -> 7331585
A11: T08.2026 | B11: Bán hàng | C11: ='CÔNG NỢ'!C13 -> 11204297
A12: T09.2026 | B12: Bán hàng
A13: T10.2026 | B13: Bán hàng
A14: T11.2026 | B14: Bán hàng
A15: T12.2026 | B15: Bán hàng
A17: Tổng bán hàng | C17: =SUM(C4:C16) -> 76583934
A18: T01.2026 | B18: Hàng trả | D18: 470403
A19: T02.2026 | B19: Hàng trả | D19: 229290
A20: T03.2026 | B20: Hàng trả | D20: 0
A21: T04.2026 | B21: Hàng trả | D21: 1237177
A22: T05.2026 | B22: Hàng trả | D22: 1758727
A23: T06.2026 | B23: Hàng trả | D23: =-'CÔNG NỢ'!D11 -> 0
A24: T07.2026 | B24: Hàng trả | D24: =-'CÔNG NỢ'!D12 -> 2564742
A25: T08.2026 | B25: Hàng trả | D25: =-'CÔNG NỢ'!D13 -> 0
A26: T09.2026 | B26: Hàng trả
A27: T10.2026 | B27: Hàng trả
A28: T11.2026 | B28: Hàng trả
A29: T12.2026 | B29: Hàng trả
A31: Tổng hàng trả | D31: =SUM(D18:D30) -> 6260339
A32: T01.2026 | B32: Hỗ trợ | E32: 699735
A33: T02.2026 | B33: Hỗ trợ | E33: 0
A34: T03.2026 | B34: Hỗ trợ | E34: 0
A35: T04.2026 | B35: Hỗ trợ | E35: 2296435
A36: T05.2026 | B36: Hỗ trợ | E36: =-'CÔNG NỢ'!E10 -> 0
A37: T06.2026 | B37: Hỗ trợ | E37: =-'CÔNG NỢ'!E11 -> 0
A38: T07.2026 | B38: Hỗ trợ | E38: =-'CÔNG NỢ'!E12 -> 1915879
A39: T08.2026 | B39: Hỗ trợ | E39: =-'CÔNG NỢ'!E13 -> 0
A40: T09.2026 | B40: Hỗ trợ
A41: T10.2026 | B41: Hỗ trợ
A42: T11.2026 | B42: Hỗ trợ
A43: T12.2026 | B43: Hỗ trợ
A45: Tổng hỗ trợ | E45: =SUM(E32:E44) -> 4912049
A46: T01.2026 | B46: Thanh toán | F46: 11520298
A47: T02.2026 | B47: Thanh toán | F47: 3535345
A48: T03.2026 | B48: Thanh toán | F48: 12330300
A49: T04.2026 | B49: Thanh toán | F49: =11739730+4359442 -> 16099172
A50: T05.2026 | B50: Thanh toán
A51: T06.2026 | B51: Thanh toán | F51: =-'CÔNG NỢ'!G11 -> 7595848
A52: T07.2026 | B52: Thanh toán | F52: =-'CÔNG NỢ'!G12 -> 7088486
A53: T08.2026 | B53: Thanh toán | F53: =-'CÔNG NỢ'!G13 -> 4110878
A54: T09.2026 | B54: Thanh toán | F54: =-'CÔNG NỢ'!G14 -> 4197603
A55: T10.2026 | B55: Thanh toán | F55: =-'CÔNG NỢ'!G15 -> 0
A56: T11.2026 | B56: Thanh toán | F56: =-'CÔNG NỢ'!G16 -> 0
A57: T12.2026 | B57: Thanh toán | F57: =-'CÔNG NỢ'!G17 -> 0
A59: Tổng đã thanh toán | F59: =SUM(F46:F58) -> 66477930
A60: Dư nợ phải thu | F60: =+C3+C17-D31-E45-F59 -> 18535882

Sheet CÔNG NỢ
B2: CÔNG NỢ 2026
C3: BH | D3: TRA | E3: P | G3: TT
B4: Tháng | C4: Bán hàng | D4: Hàng trả | E4: Giảm trừ | F4: Tổng phát sinh | G4: Thanh toán | H4: 'Dư nợ phải thu
B5: Số dư đầu kỳ 31/12/2025 | H5: 19602266
B6: 1 | C6: =SUMIFS('CHI TIẾT'!$L:$L,'CHI TIẾT'!$B:$B,'CÔNG NỢ'!$B6,'CHI TIẾT'!$A:$A,"BH") -> 9183105 | D6: =SUMIFS('CHI TIẾT'!$L:$L,'CHI TIẾT'!$B:$B,'CÔNG NỢ'!$B6,'CHI TIẾT'!$A:$A,"TRA") -> -470403 | E6: =SUMIFS('CHI TIẾT'!$L:$L,'CHI TIẾT'!$B:$B,'CÔNG NỢ'!$B6,'CHI TIẾT'!$A:$A,"GT") -> -699735 | F6: =SUM(C6:E6) -> 8012967 | G6: =SUMIFS('CHI TIẾT'!$L:$L,'CHI TIẾT'!$B:$B,'CÔNG NỢ'!$B6,'CHI TIẾT'!$A:$A,"TT") -> -11520298 | H6: =H5+SUM(F6:G6) -> 16094935
B7: 2 | C7: =SUMIFS('CHI TIẾT'!$L:$L,'CHI TIẾT'!$B:$B,'CÔNG NỢ'!$B7,'CHI TIẾT'!$A:$A,"BH") -> 16099172 | D7: =SUMIFS('CHI TIẾT'!$L:$L,'CHI TIẾT'!$B:$B,'CÔNG NỢ'!$B7,'CHI TIẾT'!$A:$A,"TRA") -> -229290 | E7: =SUMIFS('CHI TIẾT'!$L:$L,'CHI TIẾT'!$B:$B,'CÔNG NỢ'!$B7,'CHI TIẾT'!$A:$A,"GT") -> 0 | F7: =SUM(C7:E7) -> 15869882 | G7: =SUMIFS('CHI TIẾT'!$L:$L,'CHI TIẾT'!$B:$B,'CÔNG NỢ'!$B7,'CHI TIẾT'!$A:$A,"TT") -> -3535345 | H7: =H6+SUM(F7:G7) -> 28429472
B8: 3 | C8: =SUMIFS('CHI TIẾT'!$L:$L,'CHI TIẾT'!$B:$B,'CÔNG NỢ'!$B8,'CHI TIẾT'!$A:$A,"BH") -> 5048844 | D8: =SUMIFS('CHI TIẾT'!$L:$L,'CHI TIẾT'!$B:$B,'CÔNG NỢ'!$B8,'CHI TIẾT'!$A:$A,"TRA") -> 0 | E8: =SUMIFS('CHI TIẾT'!$L:$L,'CHI TIẾT'!$B:$B,'CÔNG NỢ'!$B8,'CHI TIẾT'!$A:$A,"GT") -> 0 | F8: =SUM(C8:E8) -> 5048844 | G8: =SUMIFS('CHI TIẾT'!$L:$L,'CHI TIẾT'!$B:$B,'CÔNG NỢ'!$B8,'CHI TIẾT'!$A:$A,"TT") -> -12330300 | H8: =H7+SUM(F8:G8) -> 21148016
B9: 4 | C9: =SUMIFS('CHI TIẾT'!$L:$L,'CHI TIẾT'!$B:$B,'CÔNG NỢ'!$B9,'CHI TIẾT'!$A:$A,"BH") -> 9087938 | D9: =SUMIFS('CHI TIẾT'!$L:$L,'CHI TIẾT'!$B:$B,'CÔNG NỢ'!$B9,'CHI TIẾT'!$A:$A,"TRA") -> -1237177 | E9: =SUMIFS('CHI TIẾT'!$L:$L,'CHI TIẾT'!$B:$B,'CÔNG NỢ'!$B9,'CHI TIẾT'!$A:$A,"GT") -> -2296435.3 | F9: =SUM(C9:E9) -> 5554325.7 | G9: =SUMIFS('CHI TIẾT'!$L:$L,'CHI TIẾT'!$B:$B,'CÔNG NỢ'!$B9,'CHI TIẾT'!$A:$A,"TT") -> -16099172 | H9: =H8+SUM(F9:G9) -> 10603170
B10: 5 | C10: =SUMIFS('CHI TIẾT'!$L:$L,'CHI TIẾT'!$B:$B,'CÔNG NỢ'!$B10,'CHI TIẾT'!$A:$A,"BH") -> 8564850 | D10: =SUMIFS('CHI TIẾT'!$L:$L,'CHI TIẾT'!$B:$B,'CÔNG NỢ'!$B10,'CHI TIẾT'!$A:$A,"TRA") -> -1758727 | E10: =SUMIFS('CHI TIẾT'!$L:$L,'CHI TIẾT'!$B:$B,'CÔNG NỢ'!$B10,'CHI TIẾT'!$A:$A,"GT") -> 0 | F10: =SUM(C10:E10) -> 6806123 | G10: =SUMIFS('CHI TIẾT'!$L:$L,'CHI TIẾT'!$B:$B,'CÔNG NỢ'!$B10,'CHI TIẾT'!$A:$A,"TT") -> 0 | H10: =H9+SUM(F10:G10) -> 17409293
B11: 6 | C11: =SUMIFS('CHI TIẾT'!$L:$L,'CHI TIẾT'!$B:$B,'CÔNG NỢ'!$B11,'CHI TIẾT'!$A:$A,"BH") -> 10064143 | D11: =SUMIFS('CHI TIẾT'!$L:$L,'CHI TIẾT'!$B:$B,'CÔNG NỢ'!$B11,'CHI TIẾT'!$A:$A,"TRA") -> 0 | E11: =SUMIFS('CHI TIẾT'!$L:$L,'CHI TIẾT'!$B:$B,'CÔNG NỢ'!$B11,'CHI TIẾT'!$A:$A,"GT") -> 0 | F11: =SUM(C11:E11) -> 10064143 | G11: =SUMIFS('CHI TIẾT'!$L:$L,'CHI TIẾT'!$B:$B,'CÔNG NỢ'!$B11,'CHI TIẾT'!$A:$A,"TT") -> -7595848 | H11: =H10+SUM(F11:G11) -> 19877588
B12: 7 | C12: =SUMIFS('CHI TIẾT'!$L:$L,'CHI TIẾT'!$B:$B,'CÔNG NỢ'!$B12,'CHI TIẾT'!$A:$A,"BH") -> 7331585 | D12: =SUMIFS('CHI TIẾT'!$L:$L,'CHI TIẾT'!$B:$B,'CÔNG NỢ'!$B12,'CHI TIẾT'!$A:$A,"TRA") -> -2564742 | E12: =SUMIFS('CHI TIẾT'!$L:$L,'CHI TIẾT'!$B:$B,'CÔNG NỢ'!$B12,'CHI TIẾT'!$A:$A,"GT") -> -1915879 | F12: =SUM(C12:E12) -> 2850964 | G12: =SUMIFS('CHI TIẾT'!$L:$L,'CHI TIẾT'!$B:$B,'CÔNG NỢ'!$B12,'CHI TIẾT'!$A:$A,"TT") -> -7088486 | H12: =H11+SUM(F12:G12) -> 15640066
B13: 8 | C13: =SUMIFS('CHI TIẾT'!$L:$L,'CHI TIẾT'!$B:$B,'CÔNG NỢ'!$B13,'CHI TIẾT'!$A:$A,"BH") -> 11204297 | D13: =SUMIFS('CHI TIẾT'!$L:$L,'CHI TIẾT'!$B:$B,'CÔNG NỢ'!$B13,'CHI TIẾT'!$A:$A,"TRA") -> 0 | E13: =SUMIFS('CHI TIẾT'!$L:$L,'CHI TIẾT'!$B:$B,'CÔNG NỢ'!$B13,'CHI TIẾT'!$A:$A,"GT") -> 0 | F13: =SUM(C13:E13) -> 11204297 | G13: =SUMIFS('CHI TIẾT'!$L:$L,'CHI TIẾT'!$B:$B,'CÔNG NỢ'!$B13,'CHI TIẾT'!$A:$A,"TT") -> -4110878 | H13: =H12+SUM(F13:G13) -> 22733485
B14: 9 | C14: =SUMIFS('CHI TIẾT'!$L:$L,'CHI TIẾT'!$B:$B,'CÔNG NỢ'!$B14,'CHI TIẾT'!$A:$A,"BH") -> 0 | D14: =SUMIFS('CHI TIẾT'!$L:$L,'CHI TIẾT'!$B:$B,'CÔNG NỢ'!$B14,'CHI TIẾT'!$A:$A,"TRA") -> 0 | E14: =SUMIFS('CHI TIẾT'!$L:$L,'CHI TIẾT'!$B:$B,'CÔNG NỢ'!$B14,'CHI TIẾT'!$A:$A,"GT") -> 0 | F14: =SUM(C14:E14) -> 0 | G14: =SUMIFS('CHI TIẾT'!$L:$L,'CHI TIẾT'!$B:$B,'CÔNG NỢ'!$B14,'CHI TIẾT'!$A:$A,"TT") -> -4197603 | H14: =H13+SUM(F14:G14) -> 18535882
B15: 10 | C15: =SUMIFS('CHI TIẾT'!$L:$L,'CHI TIẾT'!$B:$B,'CÔNG NỢ'!$B15,'CHI TIẾT'!$A:$A,"BH") -> 0 | D15: =SUMIFS('CHI TIẾT'!$L:$L,'CHI TIẾT'!$B:$B,'CÔNG NỢ'!$B15,'CHI TIẾT'!$A:$A,"TRA") -> 0 | E15: =SUMIFS('CHI TIẾT'!$L:$L,'CHI TIẾT'!$B:$B,'CÔNG NỢ'!$B15,'CHI TIẾT'!$A:$A,"GT") -> 0 | F15: =SUM(C15:E15) -> 0 | G15: =SUMIFS('CHI TIẾT'!$L:$L,'CHI TIẾT'!$B:$B,'CÔNG NỢ'!$B15,'CHI TIẾT'!$A:$A,"TT") -> 0 | H15: =H14+SUM(F15:G15) -> 18535882
B16: 11 | C16: =SUMIFS('CHI TIẾT'!$L:$L,'CHI TIẾT'!$B:$B,'CÔNG NỢ'!$B16,'CHI TIẾT'!$A:$A,"BH") -> 0 | D16: =SUMIFS('CHI TIẾT'!$L:$L,'CHI TIẾT'!$B:$B,'CÔNG NỢ'!$B16,'CHI TIẾT'!$A:$A,"TRA") -> 0 | E16: =SUMIFS('CHI TIẾT'!$L:$L,'CHI TIẾT'!$B:$B,'CÔNG NỢ'!$B16,'CHI TIẾT'!$A:$A,"GT") -> 0 | F16: =SUM(C16:E16) -> 0 | G16: =SUMIFS('CHI TIẾT'!$L:$L,'CHI TIẾT'!$B:$B,'CÔNG NỢ'!$B16,'CHI TIẾT'!$A:$A,"TT") -> 0 | H16: =H15+SUM(F16:G16) -> 18535882
B17: 12 | C17: =SUMIFS('CHI TIẾT'!$L:$L,'CHI TIẾT'!$B:$B,'CÔNG NỢ'!$B17,'CHI TIẾT'!$A:$A,"BH") -> 0 | D17: =SUMIFS('CHI TIẾT'!$L:$L,'CHI TIẾT'!$B:$B,'CÔNG NỢ'!$B17,'CHI TIẾT'!$A:$A,"TRA") -> 0 | E17: =SUMIFS('CHI TIẾT'!$L:$L,'CHI TIẾT'!$B:$B,'CÔNG NỢ'!$B17,'CHI TIẾT'!$A:$A,"GT") -> 0 | F17: =SUM(C17:E17) -> 0 | G17: =SUMIFS('CHI TIẾT'!$L:$L,'CHI TIẾT'!$B:$B,'CÔNG NỢ'!$B17,'CHI TIẾT'!$A:$A,"TT") -> 0 | H17: =H16+SUM(F17:G17) -> 18535882
B18: Phát sinh | C18: =SUM(C6:C17) -> 76583934 | D18: =SUM(D6:D17) -> -6260339 | E18: =SUM(E6:E17) -> -4912049.3 | G18: =SUM(G6:G17) -> -66477930 | H18: =H5+SUM(C18:G18) -> 18535882

Sheet CHI TIẾT
L1: =SUBTOTAL(109,L3:L500) -> 18535882
A2: STT | C2: Số hóa đơn | D2: số ctu | E2: Ngày hóa đơn | F2: Mã khách hàng | G2: Tên khách hàng | H2: Diễn giải | I2: Doanh số bán chưa thuế | K2: Tiền thuế GTGT | L2: Tổng tiền | M2: NGÀY TT
H3: Số dư đầu kỳ | L3: 19602266
A4: BH | B4: =MONTH(E4) -> 1 | C4: 00000691 | D4: BH00267 | E4: 46029 | F4: SATRA-HCM-CCI-027 | G4: Trung Tâm Thương Mại Satra Củ Chi | H4: P-000117105 | I4: 2746055 | J4: 0 | K4: 219684 | L4: 2965739 | M4: 46098
A5: BH | B5: =MONTH(E5) -> 1 | C5: 00004719 | D5: BH01868 | E5: 46043 | F5: SATRA-HCM-CCI-027 | G5: Trung Tâm Thương Mại Satra Củ Chi | H5: P-000117731 | I5: 5756820 | J5: 0 | K5: 460546 | L5: 6217366 | M5: 46106
A6: BH | B6: =MONTH(E6) -> 2 | C6: 00009488 | D6: BH04389 | E6: 46059 | F6: SATRA-HCM-CCI-027 | G6: Trung Tâm Thương Mại Satra Củ Chi | H6: P-000118682 | I6: 10870120 | J6: 0 | K6: 869610 | L6: 11739730 | M6: 46129
A7: BH | B7: =MONTH(E7) -> 2 | C7: 00010778 | D7: BH04824 | E7: 46064 | F7: SATRA-HCM-CCI-027 | G7: Trung Tâm Thương Mại Satra Củ Chi | H7: P-000118920 | I7: 920610 | J7: 0 | K7: 73649 | L7: 994259 | M7: 46140
A8: BH | B8: =MONTH(E8) -> 2 | C8: 00014026 | D8: BH06070 | E8: 46080 | F8: SATRA-HCM-CCI-027 | G8: Trung Tâm Thương Mại Satra Củ Chi | H8: P-000119318 | I8: 3115910 | J8: 0 | K8: 249273 | L8: 3365183 | M8: 46140
A9: BH | B9: =MONTH(E9) -> 3 | C9: 00014934 | D9: BH06830 | E9: 46085 | F9: SATRA-HCM-CCI-027 | G9: Trung Tâm Thương Mại Satra Củ Chi | H9: P-000119691 | I9: 1901035 | J9: 0 | K9: 152083 | L9: 2053118 | M9: 46192
A10: BH | B10: =MONTH(E10) -> 3 | C10: 00019319 | D10: BH08516 | E10: 46099 | F10: SATRA-HCM-CCI-027 | G10: Trung Tâm Thương Mại Satra Củ Chi | H10: P-000120288 | I10: 2773820 | J10: 0 | K10: 221906 | L10: 2995726 | M10: 46192
A11: BH | B11: =MONTH(E11) -> 4 | C11: 00024775 | D11: BH09990 | E11: 46115 | F11: SATRA-HCM-CCI-027 | G11: Trung Tâm Thương Mại Satra Củ Chi | H11: P-000120865 | I11: 3446215 | J11: 0 | K11: 275697 | L11: 3721912 | M11: 46192
A12: BH | B12: =MONTH(E12) -> 4 | C12: 00026974 | D12: BH11030 | E12: 46127 | F12: SATRA-HCM-CCI-027 | G12: Trung Tâm Thương Mại Satra Củ Chi | H12: P-000121355 | I12: 2183985 | J12: 0 | K12: 174719 | L12: 2358704 | M12: 46198
A13: BH | B13: =MONTH(E13) -> 5 | C13: 00031558 | D13: BH12240 | E13: 1207617 | F13: SATRA-HCM-CCI-027 | G13: Trung Tâm Thương Mại Satra Củ Chi | H13: P-000121726 | I13: 3294865 | J13: 0 | K13: 263589 | L13: 3558454 | M13: 46217
A14: BH | B14: =MONTH(E14) -> 4 | C14: 00031210 | D14: BH12541 | E14: 46141 | F14: SATRA-HCM-CCI-027 | G14: Trung Tâm Thương Mại Satra Củ Chi | H14: P-000122035 | I14: 2784557 | J14: 0 | K14: 222765 | L14: 3007322 | M14: 46217
A15: BH | B15: =MONTH(E15) -> 5 | C15: 00033246 | D15: BH13739 | E15: 46155 | F15: SATRA-HCM-CCI-027 | G15: Trung Tâm Thương Mại Satra Củ Chi | H15: P-000122635 | I15: 2523110 | J15: 0 | K15: 201849 | L15: 2724959 | M15: 46255
... A20: BH | B20: =MONTH(E20) -> 6 | C20: 00042725 | D20: BH17446 | E20: 46197 | F20: SATRA-HCM-CCI-027 | G20: Trung Tâm Thương Mại Satra Củ Chi | H20: P-000124508 | I20: 1758780 | J20: 0 | K20: 140702 | L20: 1899482 | M20: 46274
A21: TRA | B21: =MONTH(E21) -> 1 | C21: 00000082 | D21: SG/HT080129 | E21: 46030 | F21: SATRA-HCM-CCI-027 | G21: Trung Tâm Thương Mại Satra Củ Chi | H21: ĐÃ KIỂM TRA - HÀNG TRẢ - Trung Tâm Thương Mại Satra Củ Chi - SATRA-HCM-CCI-027 | I21: -435558 | J21: 0 | K21: -34845 | L21: -470403
A22: TRA | B22: =MONTH(E22) -> 2 | C22: 00000816 | D22: SG/HT110278 | E22: 46080 | F22: SATRA-HCM-CCI-027 | G22: Trung Tâm Thương Mại Satra Củ Chi | H22: ĐÃ KIỂM TRA - HÀNG TRẢ - Trung Tâm Thương Mại Satra Củ Chi - SATRA-HCM-CCI-027 | I22: -212306 | J22: 0 | K22: -16984 | L22: -229290 | M22: 46106
A23: TRA | B23: =MONTH(E23) -> 4 | C23: 00001367 | D23: SG/HT080495 | E23: 46132 | F23: SATRA-HCM-CCI-027 | G23: Trung Tâm Thương Mại Satra Củ Chi | H23: Hàng trả - Satra Củ Chi - SATRA-HCM-CCI-027 | I23: -666067 | J23: 0 | K23: -53285 | L23: -719352 | M23: 46192
A24: TRA | B24: =MONTH(E24) -> 4 | C24: 00001366 | D24: SG/HT080494 | E24: 46132 | F24: SATRA-HCM-CCI-027 | G24: Trung Tâm Thương Mại Satra Củ Chi | H24: Hàng trả - Satra Củ Chi - SATRA-HCM-CCI-027 | I24: -479468 | J24: 0 | K24: -38357 | L24: -517825 | M24: 46192
A25: TRA | B25: =MONTH(E25) -> 5 | C25: 2264 | D25: SG/HT0002264 | E25: 46171 | F25: SATRA-HCM-CCI-027 | G25: Trung Tâm Thương Mại Satra Củ Chi | H25: Hàng trả - Stra Củ Chi - SATRA-HCM-CCI-027 | I25: -1628451 | J25: 0 | K25: -130276 | L25: -1758727 | M25: 46217
A26: GT | B26: =MONTH(E26) -> 1 | C26: 00000261 | E26: 46048 | F26: SATRA-HCM-CCI-027 | G26: Trung Tâm Thương Mại Satra Củ Chi | H26: Các khoản hỗ trợ T12.2025 | I26: -647903 | J26: 0 | K26: -51832 | L26: =+I26+K26 -> -699735 | M26: 46065
A27: GT | B27: =MONTH(E27) -> 4 | C27: 1597 | D27: MDV041740 | E27: 46136 | F27: SATRA-HCM-CCI-027 | G27: Trung Tâm Thương Mại Satra Củ Chi | H27: Chi phí CT thẻ thành viên quý 01.2026 | I27: -548730 | J27: 0.08 | K27: -43898.4 | L27: -592628.4 | M27: 46192
A28: GT | B28: =MONTH(E28) -> 4 | C28: 1597 | D28: MDV041740 | E28: 46136 | F28: SATRA-HCM-CCI-027 | G28: Trung Tâm Thương Mại Satra Củ Chi | H28: Hỗ trợ bán hàng quý 01.2026 | I28: -274365 | J28: 0.08 | K28: -21949.2 | L28: -296314.2 | M28: 46192
A29: GT | B29: =MONTH(E29) -> 4 | C29: 1597 | D29: MDV041740 | E29: 46136 | F29: SATRA-HCM-CCI-027 | G29: Trung Tâm Thương Mại Satra Củ Chi | H29: Hỗ trợ Catalog quý 01.2026 | I29: -274365 | J29: 0.08 | K29: -21949.2 | L29: -296314.2 | M29: 46192
A30: GT | B30: =MONTH(E30) -> 4 | C30: 1597 | D30: MDV041740 | E30: 46136 | F30: SATRA-HCM-CCI-027 | G30: Trung Tâm Thương Mại Satra Củ Chi | H30: Hỗ trợ hoạt động quảng cáo quý 01.2026 | I30: -411548 | J30: 0.08 | K30: -32923.84 | L30: -444471.84 | M30: 46192
A31: GT | B31: =MONTH(E31) -> 4 | C31: 1597 | D31: MDV041740 | E31: 46136 | F31: SATRA-HCM-CCI-027 | G31: Trung Tâm Thương Mại Satra Củ Chi | H31: Hỗ trợ phí hoạt động của đơn vị quý 01.2026 | I31: -274365 | J31: 0.08 | K31: -21949.2 | L31: -296314.2 | M31: 46192
A32: GT | B32: =MONTH(E32) -> 4 | C32: 1597 | D32: MDV041740 | E32: 46136 | F32: SATRA-HCM-CCI-027 | G32: Trung Tâm Thương Mại Satra Củ Chi | H32: Hỗ trợ trưng bày quý 01.2026 | I32: -342956 | J32: 0.08 | K32: -27436.48 | L32: -370392.48 | M32: 46192
A33: TT | B33: =MONTH(E33) -> 6 | D33: BC06/0062 | E33: 46192 | F33: SATRA-HCM-CCI-027 | G33: Trung Tâm Thương Mại Satra Củ Chi | H33: TTTM SATRA CU CHI TT | L33: -5237144
A34: TT | B34: =MONTH(E34) -> 4 | D34: BC04/0047 | E34: 46140 | F34: SATRA-HCM-CCI-027 | G34: Trung Tâm Thương Mại Satra Củ Chi | H34: TTTM SATRA CU CHI TT | L34: -4359442
A35: TT | B35: =MONTH(E35) -> 4 | D35: BC04/0033 | E35: 46129 | F35: SATRA-HCM-CCI-027 | G35: Trung Tâm Thương Mại Satra Củ Chi | H35: TTTM SATRA CU CHI TT | L35: -11739730
A36: TT | B36: =MONTH(E36) -> 3 | D36: BC03/0041 | E36: 46106 | F36: SATRA-HCM-CCI-027 | G36: Trung Tâm Thương Mại Satra Củ Chi | H36: TTTM SATRA CU CHI TT | L36: -5988076
A37: TT | B37: =MONTH(E37) -> 3 | D37: BC03/0030 | E37: 46098 | F37: SATRA-HCM-CCI-027 | G37: Trung Tâm Thương Mại Satra Củ Chi | H37: TTTM SATRA CU CHI TT | L37: -6342224
A38: TT | B38: =MONTH(E38) -> 2 | D38: BC02/00033 | E38: 46065 | F38: SATRA-HCM-CCI-027 | G38: Trung Tâm Thương Mại Satra Củ Chi | H38: TTTM SATRA CU CHI TT | L38: -3535345
A39: TT | B39: =MONTH(E39) -> 1 | D39: BC01/00068 | E39: 46051 | F39: SATRA-HCM-CCI-027 | G39: Trung Tâm Thương Mại Satra Củ Chi | H39: TTTM SATRA CU CHI TT | L39: -3878703
A40: TT | B40: =MONTH(E40) -> 1 | D40: BC01/00041 | E40: 46038 | F40: SATRA-HCM-CCI-027 | G40: Trung Tâm Thương Mại Satra Củ Chi | H40: TTTM SATRA CU CHI TT | L40: -7641595
A41: TT | B41: =MONTH(E41) -> 6 | D41: BC06/0070 | E41: 46198 | F41: SATRA-HCM-CCI-027 | G41: Trung Tâm Thương Mại Satra Củ Chi | H41: TTTM SATRA CU CHI TT | L41: -2358704
A42: TT | B42: =MONTH(E42) -> 7 | D42: BC07/0030 | E42: 46217 | F42: SATRA-HCM-CCI-027 | G42: Trung Tâm Thương Mại Satra Củ Chi | H42: TTTM SATRA CU CHI TT | L42: -4807049
A43: BH | B43: =MONTH(E43) -> 7 | C43: 00046679 | D43: BH19070 | E43: 46211 | F43: SATRA-HCM-CCI-027 | G43: Trung Tâm Thương Mại Satra Củ Chi | H43: P-00125011 | I43: 2958725 | J43: 0 | K43: 236698 | L43: 3195423
A44: BH | B44: =MONTH(E44) -> 7 | C44: 00050250 | D44: BH20502 | E44: 46225 | F44: SATRA-HCM-CCI-027 | G44: Trung Tâm Thương Mại Satra Củ Chi | H44: P-000125645 | I44: 3829780 | J44: 0 | K44: 306382 | L44: 4136162
A45: TRA | B45: =MONTH(E45) -> 7 | C45: 00002759 | E45: 14/07/2026 | F45: SATRA-HCM-CCI-027 | G45: Trung Tâm Thương Mại Satra Củ Chi | H45: Hàng trả | I45: -2374761 | K45: -189981 | L45: =I45+K45 -> -2564742 | M45: 46255
A46: GT | B46: =MONTH(E46) -> 7 | C46: 00003069 | E46: 25/07/2026 | F46: SATRA-HCM-CCI-027 | G46: Trung Tâm Thương Mại Satra Củ Chi | H46: Chi phí CT thẻ thành viên quý 02.2026 | I46: -457797 | K46: =I46*8% -> -36623.76 | L46: =I46+K46 -> -494420.76 | M46: 46255
A47: GT | B47: =MONTH(E47) -> 7 | C47: 00003069 | E47: 25/07/2026 | F47: SATRA-HCM-CCI-027 | G47: Trung Tâm Thương Mại Satra Củ Chi | H47: Hỗ trợ bán hàng quý 02.2026 | I47: -228898 | K47: =I47*8% -> -18311.84 | L47: =I47+K47 -> -247209.84 | M47: 46255
A48: GT | B48: =MONTH(E48) -> 7 | C48: 00003069 | E48: 25/07/2026 | F48: SATRA-HCM-CCI-027 | G48: Trung Tâm Thương Mại Satra Củ Chi | H48: Hỗ trợ Catalog quý 02.2026 | I48: -228898 | K48: =I48*8% -> -18311.84 | L48: =I48+K48 -> -247209.84 | M48: 46255
A49: GT | B49: =MONTH(E49) -> 7 | C49: 00003069 | E49: 25/07/2026 | F49: SATRA-HCM-CCI-027 | G49: Trung Tâm Thương Mại Satra Củ Chi | H49: Hỗ trợ hoạt động quảng cáo quý 02.2026 | I49: -343348 | K49: =I49*8% -> -27467.84 | L49: =I49+K49 -> -370815.84 | M49: 46255
A50: GT | B50: =MONTH(E50) -> 7 | C50: 00003069 | E50: 25/07/2026 | F50: SATRA-HCM-CCI-027 | G50: Trung Tâm Thương Mại Satra Củ Chi | H50: Hỗ trợ phí hoạt động của đơn vị quý 02.2026 | I50: -228898 | K50: =I50*8% -> -18311.84 | L50: =I50+K50 -> -247209.84 | M50: 46255
A51: GT | B51: =MONTH(E51) -> 7 | C51: 00003069 | E51: 25/07/2026 | F51: SATRA-HCM-CCI-027 | G51: Trung Tâm Thương Mại Satra Củ Chi | H51: Hỗ trợ trưng bày quý 02.2026 | I51: -286123 | K51: =I51*8% -> -22889.84 | L51: =I51+K51 -> -309012.84 | M51: 46255
A52: TT | B52: =MONTH(E52) -> 7 | E52: 46232 | F52: SATRA-HCM-CCI-027 | G52: Trung Tâm Thương Mại Satra Củ Chi | H52: TTTM SATRA CU CHI TT | L52: -2281437
A53: TT | B53: =MONTH(E53) -> 8 | E53: 46255 | F53: SATRA-HCM-CCI-027 | G53: Trung Tâm Thương Mại Satra Củ Chi | H53: TT toán HĐ 33246, 38132, 39738 + Xtra HĐ 2759 + Phí hỗ trợ quý 2 (HĐ 3069) | L53: -4110878
A54: BH | B54: =MONTH(E54) -> 8 | C54: 00054343 | E54: 46239 | F54: SATRA-HCM-CCI-027 | G54: Trung Tâm Thương Mại Satra Củ Chi | H54: P-000126258 | I54: 3348185 | J54: 0.08 | K54: 267855 | L54: 3616040
A55: BH | B55: =MONTH(E55) -> 8 | C55: 00056994 | E55: 46253 | F55: SATRA-HCM-CCI-027 | G55: Trung Tâm Thương Mại Satra Củ Chi | H55: P-000126860 | I55: 3142435 | J55: 0.08 | K55: 251395 | L55: 3393830
A56: BH | B56: =MONTH(E56) -> 8 | C56: 00058554 | E56: 46260 | F56: SATRA-HCM-CCI-027 | G56: Trung Tâm Thương Mại Satra Củ Chi | H56: P-000127336 | I56: 3883729 | J56: 0.08 | K56: 310698 | L56: 4194427
A57: TT | B57: =MONTH(E57) -> 9 | E57: 46274 | F57: SATRA-HCM-CCI-027 | G57: Trung Tâm Thương Mại Satra Củ Chi | H57: Thu tiền Cty TTTM Satra Củ Chi | L57: -4197603

Sheet T08
A1: Ngày hóa đơn | B1: Số hóa đơn | C1: Ký hiệu HĐ | D1: Diễn giải | E1: Doanh số bán chưa có thuế GTGT | F1: Thuế suất | G1: Thuế GTGT | H1: Thành tiền | I1: Tên người mua | J1: Mã số thuế người mua
A2: 46239 | B2: 00054343 | C2: C26TTN | D2: P-000126258 | E2: 3348185 | F2: 0.08 | G2: 267855 | H2: 3616040 | I2: Trung Tâm Thương Mại Satra Củ Chi | J2: 0300100037-027
A3: 46253 | B3: 00056994 | C3: C26TTN | D3: P-000126860 | E3: 3142435 | F3: 0.08 | G3: 251395 | H3: 3393830 | I3: Trung Tâm Thương Mại Satra Củ Chi | J3: 0300100037-027
A4: 46260 | B4: 00058554 | C4: C26TTN | D4: P-000127336 | E4: 3883729 | F4: 0.08 | G4: 310698 | H4: 4194427 | I4: Trung Tâm Thương Mại Satra Củ Chi | J4: 0300100037-027
H6: =SUM(H2:H4) -> 11204297

Sheet T07
A1: Ngày hóa đơn | B1: Số hóa đơn | C1: Ký hiệu HĐ | D1: Diễn giải | E1: Doanh số bán chưa có thuế GTGT | F1: Thuế suất | G1: Thuế GTGT | H1: Thành tiền | I1: Tên người mua | J1: Mã số thuế người mua
A2: 46211 | B2: 00046679 | C2: C26TTN | D2: P-00125011 | E2: 2958725 | F2: 0.08 | G2: 236698 | H2: 3195423 | I2: Trung Tâm Thương Mại Satra Củ Chi | J2: 0300100037-027
A3: 46225 | B3: 00050250 | C3: C26TTN | D3: P-000125645 | E3: 3829780 | F3: 0.08 | G3: 306382 | H3: 4136162 | I3: Trung Tâm Thương Mại Satra Củ Chi | J3: 0300100037-027
A4: 14/07/2026 | B4: 00002759 | C4: K26TCC | D4: Hàng trả | E4: -2374761 | F4: 0.08 | G4: -189981 | H4: =E4+G4 -> -2564742 | I4: Trung Tâm Thương Mại Satra Củ Chi | J4: 0300100037-027
A5: 25/07/2026 | B5: 00003069 | C5: K26TCC | D5: Chi phí CT thẻ thành viên quý 02.2026 | E5: -457797 | F5: 0.08 | G5: =E5*8% -> -36623.76 | H5: =E5+G5 -> -494420.76 | I5: Trung Tâm Thương Mại Satra Củ Chi | J5: 0300100037-027
A6: 25/07/2026 | B6: 00003069 | C6: K26TCC | D6: Hỗ trợ bán hàng quý 02.2026 | E6: -228898 | F6: 0.08 | G6: =E6*8% -> -18311.84 | H6: =E6+G6 -> -247209.84 | I6: Trung Tâm Thương Mại Satra Củ Chi | J6: 0300100037-027
A7: 25/07/2026 | B7: 00003069 | C7: K26TCC | D7: Hỗ trợ Catalog quý 02.2026 | E7: -228898 | F7: 0.08 | G7: =E7*8% -> -18311.84 | H7: =E7+G7 -> -247209.84 | I7: Trung Tâm Thương Mại Satra Củ Chi | J7: 0300100037-027
A8: 25/07/2026 | B8: 00003069 | C8: K26TCC | D8: Hỗ trợ hoạt động quảng cáo quý 02.2026 | E8: -343348 | F8: 0.08 | G8: =E8*8% -> -27467.84 | H8: =E8+G8 -> -370815.84 | I8: Trung Tâm Thương Mại Satra Củ Chi | J8: 0300100037-027
A9: 25/07/2026 | B9: 00003069 | C9: K26TCC | D9: Hỗ trợ phí hoạt động của đơn vị quý 02.2026 | E9: -228898 | F9: 0.08 | G9: =E9*8% -> -18311.84 | H9: =E9+G9 -> -247209.84 | I9: Trung Tâm Thương Mại Satra Củ Chi | J9: 0300100037-027
A10: 25/07/2026 | B10: 00003069 | C10: K26TCC | D10: Hỗ trợ trưng bày quý 02.2026 | E10: -286123 | F10: 0.08 | G10: =E10*8% -> -22889.84 | H10: =E10+G10 -> -309012.84 | I10: Trung Tâm Thương Mại Satra Củ Chi | J10: 0300100037-027
H14: =SUM(H2:H10) -> 2850964

Sheet T06
A1: Ngày hóa đơn | B1: Số hóa đơn | C1: Ký hiệu HĐ | D1: Diễn giải | E1: Doanh số bán chưa có thuế GTGT | F1: Thuế suất | G1: Thuế GTGT | H1: Thành tiền | I1: Tên người mua | J1: Mã số thuế người mua
A2: 03/06/2026 | B2: 38132 | C2: C26TTN | D2: P-000123537 | E2: 3420352 | F2: 0.08 | G2: 273628 | H2: 3693980 | I2: Trung Tâm Thương Mại Satra Củ Chi | J2: 0300100037-027
A3: 10/06/2026 | B3: 39738 | C3: C26TTN | D3: P-000123831 | E3: 2011630 | F3: 0.08 | G3: 160930 | H3: 2172560 | I3: Trung Tâm Thương Mại Satra Củ Chi | J3: 0300100037-027
A4: 17/06/2026 | B4: 41338 | C4: C26TTN | D4: P-000124183 | E4: 2127890 | F4: 0.08 | G4: 170231 | H4: 2298121 | I4: Trung Tâm Thương Mại Satra Củ Chi | J4: 0300100037-027
A5: 24/06/2026 | B5: 42725 | C5: C26TTN | D5: P-000124508 | E5: 1758780 | F5: 0.08 | G5: 140702 | H5: 1899482 | I5: Trung Tâm Thương Mại Satra Củ Chi | J5: 0300100037-027
H11: =SUM(H2:H5) -> 10064143

Sheet T05
A1: Ngày hóa đơn | B1: Số hóa đơn | C1: Ký hiệu HĐ | D1: Diễn giải | E1: Doanh số bán chưa có thuế GTGT | F1: Thuế suất | G1: Thuế GTGT | H1: Thành tiền | I1: Tên người mua | J1: Mã số thuế người mua
A2: 46155 | B2: 33246 | C2: 1C26TTN | D2: P-000122635 | E2: 2523110 | F2: 0.08 | G2: 201849 | H2: 2724959 | I2: Trung Tâm Thương Mại Satra Củ Chi | J2: 0300100037-027
A3: 46162 | B3: 34944 | C3: 1C26TTN | D3: P-000122915 | E3: 2112442 | F3: 0.08 | G3: 168995 | H3: 2281437 | I3: Trung Tâm Thương Mại Satra Củ Chi | J3: 0300100037-027
A4: 46146 | B4: 31558 | C4: 1C26TTN | D4: P-000121726 | E4: 3294865 | F4: 0.08 | G4: 263589 | H4: 3558454 | I4: Trung Tâm Thương Mại Satra Củ Chi | J4: 0300100037-027
A5: 46171 | B5: 2264 | C5: K26TCC | D5: Hàng trả - Stra Củ Chi - SATRA-HCM-CCI-027 | E5: -1628451 | F5: 0.08 | G5: -130276 | H5: -1758727 | I5: Trung Tâm Thương Mại Satra Củ Chi | J5: 0300100037-027

Sheet T04
A1: Ngày hóa đơn | B1: Số hóa đơn | C1: Ký hiệu HĐ | D1: Diễn giải | E1: Doanh số bán chưa có thuế GTGT | F1: Thuế suất | G1: Thuế GTGT | H1: Thành tiền | I1: Tên người mua | J1: Mã số thuế người mua
A2: 46115 | B2: 00024775 | C2: 1C26TTN | D2: P-000120865 | E2: 3446215 | F2: 0.08 | G2: =E2*F2 -> 275697.2 | H2: =E2+G2 -> 3721912.2 | I2: Trung Tâm Thương Mại Satra Củ Chi | J2: 0300100037-027
A3: 46127 | B3: 00026974 | C3: 1C26TTN | D3: P-000121355 | E3: 2183985 | F3: 0.08 | G3: =E3*F3 -> 174718.8 | H3: =E3+G3 -> 2358703.8 | I3: Trung Tâm Thương Mại Satra Củ Chi | J3: 0300100037-027
A4: 46141 | B4: 00031210 | C4: 1C26TTN | D4: P-000122035 | E4: 2784557 | F4: 0.08 | G4: =E4*F4 -> 222764.56 | H4: =E4+G4 -> 3007321.6 | I4: Trung Tâm Thương Mại Satra Củ Chi | J4: 0300100037-027
A5: 46132 | B5: 00001366 | C5: 1C26TTN | D5: Hàng trả - Satra Củ Chi - SATRA-HCM-CCI-027 | E5: -479468 | F5: 0.08 | G5: =E5*F5 -> -38357.44 | H5: =E5+G5 -> -517825.44 | I5: Trung Tâm Thương Mại Satra Củ Chi | J5: 0300100037-027
A6: 46132 | B6: 00001367 | C6: 1C26TTN | D6: Hàng trả - Satra Củ Chi - SATRA-HCM-CCI-027 | E6: -666067 | F6: 0.08 | G6: =E6*F6 -> -53285.36 | H6: =E6+G6 -> -719352.36 | I6: Trung Tâm Thương Mại Satra Củ Chi | J6: 0300100037-027
A7: 46136 | B7: 1597 | D7: Chi phí CT thẻ thành viên quý 01.2026 | E7: -548730 | F7: 0.08 | G7: =E7*F7 -> -43898.4 | H7: =E7+G7 -> -592628.4 | I7: Trung Tâm Thương Mại Satra Củ Chi | J7: 0300100037-027
A8: 46136 | B8: 1597 | D8: Hỗ trợ bán hàng quý 01.2026 | E8: -274365 | F8: 0.08 | G8: =E8*F8 -> -21949.2 | H8: =E8+G8 -> -296314.2 | I8: Trung Tâm Thương Mại Satra Củ Chi | J8: 0300100037-027
A9: 46136 | B9: 1597 | D9: Hỗ trợ Catalog quý 01.2026 | E9: -274365 | F9: 0.08 | G9: =E9*F9 -> -21949.2 | H9: =E9+G9 -> -296314.2 | I9: Trung Tâm Thương Mại Satra Củ Chi | J9: 0300100037-027
A10: 46136 | B10: 1597 | D10: Hỗ trợ hoạt động quảng cáo quý 01.2026 | E10: -411548 | F10: 0.08 | G10: =E10*F10 -> -32923.84 | H10: =E10+G10 -> -444471.84 | I10: Trung Tâm Thương Mại Satra Củ Chi | J10: 0300100037-027
A11: 46136 | B11: 1597 | D11: Hỗ trợ phí hoạt động của đơn vị quý 01.2026 | E11: -274365 | F11: 0.08 | G11: =E11*F11 -> -21949.2 | H11: =E11+G11 -> -296314.2 | I11: Trung Tâm Thương Mại Satra Củ Chi | J11: 0300100037-027
A12: 46136 | B12: 1597 | D12: Hỗ trợ trưng bày quý 01.2026 | E12: -342956 | F12: 0.08 | G12: =E12*F12 -> -27436.48 | H12: =E12+G12 -> -370392.48 | I12: Trung Tâm Thương Mại Satra Củ Chi | J12: 0300100037-027

Sheet T03
A1: Ngày hóa đơn | B1: Số hóa đơn | C1: Ký hiệu HĐ | D1: Diễn giải | E1: Doanh số bán chưa có thuế GTGT | F1: Thuế suất | G1: Thuế GTGT | H1: Thành tiền | I1: Tên người mua | J1: Mã số thuế người mua
A2: 46085 | B2: 00014934 | C2: 1C26TTN | D2: P-000119691 | E2: 1901035 | F2: 8% | G2: 152083 | H2: =+E2+G2 -> 2053118 | I2: Trung Tâm Thương Mại Satra Củ Chi | J2: 0300100037-027
A3: 46099 | B3: 00019319 | C3: 1C26TTN | D3: P-000120288 | E3: 2773820 | F3: 8% | G3: 221906 | H3: =+E3+G3 -> 2995726 | I3: Trung Tâm Thương Mại Satra Củ Chi | J3: 0300100037-027
H4: =SUM(H2:H3) -> 5048844

Sheet T02
A1: Ngày hóa đơn | B1: Số hóa đơn | C1: Ký hiệu HĐ | D1: Diễn giải | E1: Doanh số bán chưa có thuế GTGT | F1: Thuế suất | G1: Thuế GTGT | H1: Thành tiền | I1: Tên người mua | J1: Mã số thuế người mua
A2: 46059 | B2: 00009488 | C2: 1C26TTN | D2: P-000118682 | E2: 10870120 | F2: 8% | G2: 869610 | H2: =+E2+G2 -> 11739730 | I2: Trung Tâm Thương Mại Satra Củ Chi | J2: 0300100037-027
A3: 46064 | B3: 00010778 | C3: 1C26TTN | D3: P-000118920 | E3: 920610 | F3: 8% | G3: 73649 | H3: =+E3+G3 -> 994259 | I3: Trung Tâm Thương Mại Satra Củ Chi | J3: 0300100037-027
A4: 46080 | B4: 00014026 | C4: 1C26TTN | D4: P-000119318 | E4: 3115910 | F4: 8% | G4: 249273 | H4: =+E4+G4 -> 3365183 | I4: Trung Tâm Thương Mại Satra Củ Chi | J4: 0300100037-027
A5: 46080 | B5: 00000816 | C5: 1K26TCC | D5: ĐÃ KIỂM TRA - HÀNG TRẢ - Trung Tâm Thương Mại Satra Củ Chi - SATRA-HCM-CCI-027 | E5: -212306 | F5: 8% | G5: -16984 | H5: =+E5+G5 -> -229290 | I5: Trung Tâm Thương Mại Satra Củ Chi | J5: 0300100037-027
H6: =SUM(H2:H5) -> 15869882

Sheet T01
A1: Ngày hóa đơn | B1: Số hóa đơn | C1: Ký hiệu HĐ | D1: Diễn giải | E1: Doanh số bán chưa có thuế GTGT | F1: Thuế suất | G1: Thuế GTGT | H1: Thành tiền | I1: Tên người mua | J1: Mã số thuế người mua
A2: 46029 | B2: 00000691 | C2: 1C26TTN | D2: P-000117105 | E2: 2746055 | F2: 8% | G2: 219684 | H2: =+E2+G2 -> 2965739 | I2: Trung Tâm Thương Mại Satra Củ Chi | J2: 0300100037-027
A3: 46031 | B3: 00000082 | C3: 1K26TCC | D3: ĐÃ KIỂM TRA - HÀNG TRẢ - Trung Tâm Thương Mại Satra Củ Chi - SATRA-HCM-CCI-027 | E3: -435558 | F3: 8% | G3: -34845 | H3: =+E3+G3 -> -470403 | I3: Trung Tâm Thương Mại Satra Củ Chi | J3: 0300100037-027
A4: 46043 | B4: 00004719 | C4: 1C26TTN | D4: P-000117731 | E4: 5756820 | F4: 8% | G4: 460546 | H4: =+E4+G4 -> 6217366 | I4: Trung Tâm Thương Mại Satra Củ Chi | J4: 0300100037-027
A5: 46048 | B5: 00000261 | C5: 1K26TCC | D5: Các khoản hỗ trợ T12.2025 | E5: -647903 | F5: 8% | G5: -51832 | H5: =+E5+G5 -> -699735 | I5: Trung Tâm Thương Mại Satra Củ Chi | J5: 0300100037-027
H6: =SUM(H2:H5) -> 8012967
