Workbook

Sheet TH_CN
A1: BẢNG TỔNG HỢP CÔNG NỢ NĂM 2025
B2: TỔNG CÔNG NỢ | C2: =SUM(C$5:C$21) -> 1137998919 | D2: =SUM(D$5:D$21) -> 1581898383 | E2: =SUM(E$5:E$21) -> 502535149 | F2: =SUM(F$5:F$21) -> 410217321 | G2: =SUM(G$5:G$21) -> 304216594 | H2: =SUM(H$5:H$21) -> 482561458 | I2: =SUM(I$5:I$21) -> 407473250 | J2: =SUM(J$5:J$21) -> 503415011 | ... N2: =SUM(N$5:N$21) -> 459942164
A4: NHÓM KHÁCH HÀNG | B4: TÊN NHÓM KHÁCH HÀNG | C4: 46053 | D4: =EOMONTH(C4,1) -> 46081 | E4: =EOMONTH(D4,1) -> 46112 | F4: =EOMONTH(E4,1) -> 46142 | G4: =EOMONTH(F4,1) -> 46173 | H4: =EOMONTH(G4,1) -> 46203 | I4: =EOMONTH(H4,1) -> 46234 | J4: =EOMONTH(I4,1) -> 46265 | K4: =EOMONTH(J4,1) -> 46295 | ... N4: =EOMONTH(M4,1) -> 46387
A5: MEGA | B5: CÔNG TY TNHH MM MEGA MARKET (VIỆT NAM) | C5: =SUMIFS('Báo cáo'!$O:$O,'Báo cáo'!$AD:$AD,$A5,'Báo cáo'!$Z:$Z,"<="&C$4)+SUMIFS('Báo cáo'!$P:$P,'Báo cáo'!$AD:$AD,$A5,'Báo cáo'!$Z:$Z,"<="&C$4)-SUMIFS('Báo cáo'!$Q:$Q,'Báo cáo'!$AD:$AD,$A5,'Báo cáo'!$AA:$AA,"<="&C$4) -> 1137998919 | D5: =SUMIFS('Báo cáo'!$O:$O,'Báo cáo'!$AD:$AD,$A5,'Báo cáo'!$Z:$Z,"<="&D$4)+SUMIFS('Báo cáo'!$P:$P,'Báo cáo'!$AD:$AD,$A5,'Báo cáo'!$Z:$Z,"<="&D$4)-SUMIFS('Báo cáo'!$Q:$Q,'Báo cáo'!$AD:$AD,$A5,'Báo cáo'!$AA:$AA,"<="&D$4) -> 1581898383 | E5: =SUMIFS('Báo cáo'!$O:$O,'Báo cáo'!$AD:$AD,$A5,'Báo cáo'!$Z:$Z,"<="&E$4)+SUMIFS('Báo cáo'!$P:$P,'Báo cáo'!$AD:$AD,$A5,'Báo cáo'!$Z:$Z,"<="&E$4)-SUMIFS('Báo cáo'!$Q:$Q,'Báo cáo'!$AD:$AD,$A5,'Báo cáo'!$AA:$AA,"<="&E$4) -> 502535149 | F5: =SUMIFS('Báo cáo'!$O:$O,'Báo cáo'!$AD:$AD,$A5,'Báo cáo'!$Z:$Z,"<="&F$4)+SUMIFS('Báo cáo'!$P:$P,'Báo cáo'!$AD:$AD,$A5,'Báo cáo'!$Z:$Z,"<="&F$4)-SUMIFS('Báo cáo'!$Q:$Q,'Báo cáo'!$AD:$AD,$A5,'Báo cáo'!$AA:$AA,"<="&F$4) -> 410217321 | G5: =SUMIFS('Báo cáo'!$O:$O,'Báo cáo'!$AD:$AD,$A5,'Báo cáo'!$Z:$Z,"<="&G$4)+SUMIFS('Báo cáo'!$P:$P,'Báo cáo'!$AD:$AD,$A5,'Báo cáo'!$Z:$Z,"<="&G$4)-SUMIFS('Báo cáo'!$Q:$Q,'Báo cáo'!$AD:$AD,$A5,'Báo cáo'!$AA:$AA,"<="&G$4) -> 304216594 | H5: =SUMIFS('Báo cáo'!$O:$O,'Báo cáo'!$AD:$AD,$A5,'Báo cáo'!$Z:$Z,"<="&H$4)+SUMIFS('Báo cáo'!$P:$P,'Báo cáo'!$AD:$AD,$A5,'Báo cáo'!$Z:$Z,"<="&H$4)-SUMIFS('Báo cáo'!$Q:$Q,'Báo cáo'!$AD:$AD,$A5,'Báo cáo'!$AA:$AA,"<="&H$4) -> 482561458 | I5: =SUMIFS('Báo cáo'!$O:$O,'Báo cáo'!$AD:$AD,$A5,'Báo cáo'!$Z:$Z,"<="&I$4)+SUMIFS('Báo cáo'!$P:$P,'Báo cáo'!$AD:$AD,$A5,'Báo cáo'!$Z:$Z,"<="&I$4)-SUMIFS('Báo cáo'!$Q:$Q,'Báo cáo'!$AD:$AD,$A5,'Báo cáo'!$AA:$AA,"<="&I$4) -> 407473250 | J5: =SUMIFS('Báo cáo'!$O:$O,'Báo cáo'!$AD:$AD,$A5,'Báo cáo'!$Z:$Z,"<="&J$4)+SUMIFS('Báo cáo'!$P:$P,'Báo cáo'!$AD:$AD,$A5,'Báo cáo'!$Z:$Z,"<="&J$4)-SUMIFS('Báo cáo'!$Q:$Q,'Báo cáo'!$AD:$AD,$A5,'Báo cáo'!$AA:$AA,"<="&J$4) -> 503415011 | ... N5: =SUMIFS('Báo cáo'!$O:$O,'Báo cáo'!$AD:$AD,$A5,'Báo cáo'!$Z:$Z,"<="&N$4)+SUMIFS('Báo cáo'!$P:$P,'Báo cáo'!$AD:$AD,$A5,'Báo cáo'!$Z:$Z,"<="&N$4)-SUMIFS('Báo cáo'!$Q:$Q,'Báo cáo'!$AD:$AD,$A5,'Báo cáo'!$AA:$AA,"<="&N$4) -> 459942164
C6: =SUMIFS('Báo cáo'!$O:$O,'Báo cáo'!$AD:$AD,$A6,'Báo cáo'!$Z:$Z,"<="&C$4)+SUMIFS('Báo cáo'!$P:$P,'Báo cáo'!$AD:$AD,$A6,'Báo cáo'!$Z:$Z,"<="&C$4)-SUMIFS('Báo cáo'!$Q:$Q,'Báo cáo'!$AD:$AD,$A6,'Báo cáo'!$AA:$AA,"<="&C$4) -> 0 | D6: =SUMIFS('Báo cáo'!$O:$O,'Báo cáo'!$AD:$AD,$A6,'Báo cáo'!$Z:$Z,"<="&D$4)+SUMIFS('Báo cáo'!$P:$P,'Báo cáo'!$AD:$AD,$A6,'Báo cáo'!$Z:$Z,"<="&D$4)-SUMIFS('Báo cáo'!$Q:$Q,'Báo cáo'!$AD:$AD,$A6,'Báo cáo'!$AA:$AA,"<="&D$4) -> 0 | E6: =SUMIFS('Báo cáo'!$O:$O,'Báo cáo'!$AD:$AD,$A6,'Báo cáo'!$Z:$Z,"<="&E$4)+SUMIFS('Báo cáo'!$P:$P,'Báo cáo'!$AD:$AD,$A6,'Báo cáo'!$Z:$Z,"<="&E$4)-SUMIFS('Báo cáo'!$Q:$Q,'Báo cáo'!$AD:$AD,$A6,'Báo cáo'!$AA:$AA,"<="&E$4) -> 0 | F6: =SUMIFS('Báo cáo'!$O:$O,'Báo cáo'!$AD:$AD,$A6,'Báo cáo'!$Z:$Z,"<="&F$4)+SUMIFS('Báo cáo'!$P:$P,'Báo cáo'!$AD:$AD,$A6,'Báo cáo'!$Z:$Z,"<="&F$4)-SUMIFS('Báo cáo'!$Q:$Q,'Báo cáo'!$AD:$AD,$A6,'Báo cáo'!$AA:$AA,"<="&F$4) -> 0 | G6: =SUMIFS('Báo cáo'!$O:$O,'Báo cáo'!$AD:$AD,$A6,'Báo cáo'!$Z:$Z,"<="&G$4)+SUMIFS('Báo cáo'!$P:$P,'Báo cáo'!$AD:$AD,$A6,'Báo cáo'!$Z:$Z,"<="&G$4)-SUMIFS('Báo cáo'!$Q:$Q,'Báo cáo'!$AD:$AD,$A6,'Báo cáo'!$AA:$AA,"<="&G$4) -> 0 | H6: =SUMIFS('Báo cáo'!$O:$O,'Báo cáo'!$AD:$AD,$A6,'Báo cáo'!$Z:$Z,"<="&H$4)+SUMIFS('Báo cáo'!$P:$P,'Báo cáo'!$AD:$AD,$A6,'Báo cáo'!$Z:$Z,"<="&H$4)-SUMIFS('Báo cáo'!$Q:$Q,'Báo cáo'!$AD:$AD,$A6,'Báo cáo'!$AA:$AA,"<="&H$4) -> 0 | I6: =SUMIFS('Báo cáo'!$O:$O,'Báo cáo'!$AD:$AD,$A6,'Báo cáo'!$Z:$Z,"<="&I$4)+SUMIFS('Báo cáo'!$P:$P,'Báo cáo'!$AD:$AD,$A6,'Báo cáo'!$Z:$Z,"<="&I$4)-SUMIFS('Báo cáo'!$Q:$Q,'Báo cáo'!$AD:$AD,$A6,'Báo cáo'!$AA:$AA,"<="&I$4) -> 0 | J6: =SUMIFS('Báo cáo'!$O:$O,'Báo cáo'!$AD:$AD,$A6,'Báo cáo'!$Z:$Z,"<="&J$4)+SUMIFS('Báo cáo'!$P:$P,'Báo cáo'!$AD:$AD,$A6,'Báo cáo'!$Z:$Z,"<="&J$4)-SUMIFS('Báo cáo'!$Q:$Q,'Báo cáo'!$AD:$AD,$A6,'Báo cáo'!$AA:$AA,"<="&J$4) -> 0 | ... N6: =SUMIFS('Báo cáo'!$O:$O,'Báo cáo'!$AD:$AD,$A6,'Báo cáo'!$Z:$Z,"<="&N$4)+SUMIFS('Báo cáo'!$P:$P,'Báo cáo'!$AD:$AD,$A6,'Báo cáo'!$Z:$Z,"<="&N$4)-SUMIFS('Báo cáo'!$Q:$Q,'Báo cáo'!$AD:$AD,$A6,'Báo cáo'!$AA:$AA,"<="&N$4) -> 0
C7: =SUMIFS('Báo cáo'!$O:$O,'Báo cáo'!$AD:$AD,$A7,'Báo cáo'!$Z:$Z,"<="&C$4)+SUMIFS('Báo cáo'!$P:$P,'Báo cáo'!$AD:$AD,$A7,'Báo cáo'!$Z:$Z,"<="&C$4)-SUMIFS('Báo cáo'!$Q:$Q,'Báo cáo'!$AD:$AD,$A7,'Báo cáo'!$AA:$AA,"<="&C$4) -> 0 | D7: =SUMIFS('Báo cáo'!$O:$O,'Báo cáo'!$AD:$AD,$A7,'Báo cáo'!$Z:$Z,"<="&D$4)+SUMIFS('Báo cáo'!$P:$P,'Báo cáo'!$AD:$AD,$A7,'Báo cáo'!$Z:$Z,"<="&D$4)-SUMIFS('Báo cáo'!$Q:$Q,'Báo cáo'!$AD:$AD,$A7,'Báo cáo'!$AA:$AA,"<="&D$4) -> 0 | E7: =SUMIFS('Báo cáo'!$O:$O,'Báo cáo'!$AD:$AD,$A7,'Báo cáo'!$Z:$Z,"<="&E$4)+SUMIFS('Báo cáo'!$P:$P,'Báo cáo'!$AD:$AD,$A7,'Báo cáo'!$Z:$Z,"<="&E$4)-SUMIFS('Báo cáo'!$Q:$Q,'Báo cáo'!$AD:$AD,$A7,'Báo cáo'!$AA:$AA,"<="&E$4) -> 0 | F7: =SUMIFS('Báo cáo'!$O:$O,'Báo cáo'!$AD:$AD,$A7,'Báo cáo'!$Z:$Z,"<="&F$4)+SUMIFS('Báo cáo'!$P:$P,'Báo cáo'!$AD:$AD,$A7,'Báo cáo'!$Z:$Z,"<="&F$4)-SUMIFS('Báo cáo'!$Q:$Q,'Báo cáo'!$AD:$AD,$A7,'Báo cáo'!$AA:$AA,"<="&F$4) -> 0 | G7: =SUMIFS('Báo cáo'!$O:$O,'Báo cáo'!$AD:$AD,$A7,'Báo cáo'!$Z:$Z,"<="&G$4)+SUMIFS('Báo cáo'!$P:$P,'Báo cáo'!$AD:$AD,$A7,'Báo cáo'!$Z:$Z,"<="&G$4)-SUMIFS('Báo cáo'!$Q:$Q,'Báo cáo'!$AD:$AD,$A7,'Báo cáo'!$AA:$AA,"<="&G$4) -> 0 | H7: =SUMIFS('Báo cáo'!$O:$O,'Báo cáo'!$AD:$AD,$A7,'Báo cáo'!$Z:$Z,"<="&H$4)+SUMIFS('Báo cáo'!$P:$P,'Báo cáo'!$AD:$AD,$A7,'Báo cáo'!$Z:$Z,"<="&H$4)-SUMIFS('Báo cáo'!$Q:$Q,'Báo cáo'!$AD:$AD,$A7,'Báo cáo'!$AA:$AA,"<="&H$4) -> 0 | I7: =SUMIFS('Báo cáo'!$O:$O,'Báo cáo'!$AD:$AD,$A7,'Báo cáo'!$Z:$Z,"<="&I$4)+SUMIFS('Báo cáo'!$P:$P,'Báo cáo'!$AD:$AD,$A7,'Báo cáo'!$Z:$Z,"<="&I$4)-SUMIFS('Báo cáo'!$Q:$Q,'Báo cáo'!$AD:$AD,$A7,'Báo cáo'!$AA:$AA,"<="&I$4) -> 0 | J7: =SUMIFS('Báo cáo'!$O:$O,'Báo cáo'!$AD:$AD,$A7,'Báo cáo'!$Z:$Z,"<="&J$4)+SUMIFS('Báo cáo'!$P:$P,'Báo cáo'!$AD:$AD,$A7,'Báo cáo'!$Z:$Z,"<="&J$4)-SUMIFS('Báo cáo'!$Q:$Q,'Báo cáo'!$AD:$AD,$A7,'Báo cáo'!$AA:$AA,"<="&J$4) -> 0 | ... N7: =SUMIFS('Báo cáo'!$O:$O,'Báo cáo'!$AD:$AD,$A7,'Báo cáo'!$Z:$Z,"<="&N$4)+SUMIFS('Báo cáo'!$P:$P,'Báo cáo'!$AD:$AD,$A7,'Báo cáo'!$Z:$Z,"<="&N$4)-SUMIFS('Báo cáo'!$Q:$Q,'Báo cáo'!$AD:$AD,$A7,'Báo cáo'!$AA:$AA,"<="&N$4) -> 0
C8: =SUMIFS('Báo cáo'!$O:$O,'Báo cáo'!$AD:$AD,$A8,'Báo cáo'!$Z:$Z,"<="&C$4)+SUMIFS('Báo cáo'!$P:$P,'Báo cáo'!$AD:$AD,$A8,'Báo cáo'!$Z:$Z,"<="&C$4)-SUMIFS('Báo cáo'!$Q:$Q,'Báo cáo'!$AD:$AD,$A8,'Báo cáo'!$AA:$AA,"<="&C$4) -> 0 | D8: =SUMIFS('Báo cáo'!$O:$O,'Báo cáo'!$AD:$AD,$A8,'Báo cáo'!$Z:$Z,"<="&D$4)+SUMIFS('Báo cáo'!$P:$P,'Báo cáo'!$AD:$AD,$A8,'Báo cáo'!$Z:$Z,"<="&D$4)-SUMIFS('Báo cáo'!$Q:$Q,'Báo cáo'!$AD:$AD,$A8,'Báo cáo'!$AA:$AA,"<="&D$4) -> 0 | E8: =SUMIFS('Báo cáo'!$O:$O,'Báo cáo'!$AD:$AD,$A8,'Báo cáo'!$Z:$Z,"<="&E$4)+SUMIFS('Báo cáo'!$P:$P,'Báo cáo'!$AD:$AD,$A8,'Báo cáo'!$Z:$Z,"<="&E$4)-SUMIFS('Báo cáo'!$Q:$Q,'Báo cáo'!$AD:$AD,$A8,'Báo cáo'!$AA:$AA,"<="&E$4) -> 0 | F8: =SUMIFS('Báo cáo'!$O:$O,'Báo cáo'!$AD:$AD,$A8,'Báo cáo'!$Z:$Z,"<="&F$4)+SUMIFS('Báo cáo'!$P:$P,'Báo cáo'!$AD:$AD,$A8,'Báo cáo'!$Z:$Z,"<="&F$4)-SUMIFS('Báo cáo'!$Q:$Q,'Báo cáo'!$AD:$AD,$A8,'Báo cáo'!$AA:$AA,"<="&F$4) -> 0 | G8: =SUMIFS('Báo cáo'!$O:$O,'Báo cáo'!$AD:$AD,$A8,'Báo cáo'!$Z:$Z,"<="&G$4)+SUMIFS('Báo cáo'!$P:$P,'Báo cáo'!$AD:$AD,$A8,'Báo cáo'!$Z:$Z,"<="&G$4)-SUMIFS('Báo cáo'!$Q:$Q,'Báo cáo'!$AD:$AD,$A8,'Báo cáo'!$AA:$AA,"<="&G$4) -> 0 | H8: =SUMIFS('Báo cáo'!$O:$O,'Báo cáo'!$AD:$AD,$A8,'Báo cáo'!$Z:$Z,"<="&H$4)+SUMIFS('Báo cáo'!$P:$P,'Báo cáo'!$AD:$AD,$A8,'Báo cáo'!$Z:$Z,"<="&H$4)-SUMIFS('Báo cáo'!$Q:$Q,'Báo cáo'!$AD:$AD,$A8,'Báo cáo'!$AA:$AA,"<="&H$4) -> 0 | I8: =SUMIFS('Báo cáo'!$O:$O,'Báo cáo'!$AD:$AD,$A8,'Báo cáo'!$Z:$Z,"<="&I$4)+SUMIFS('Báo cáo'!$P:$P,'Báo cáo'!$AD:$AD,$A8,'Báo cáo'!$Z:$Z,"<="&I$4)-SUMIFS('Báo cáo'!$Q:$Q,'Báo cáo'!$AD:$AD,$A8,'Báo cáo'!$AA:$AA,"<="&I$4) -> 0 | J8: =SUMIFS('Báo cáo'!$O:$O,'Báo cáo'!$AD:$AD,$A8,'Báo cáo'!$Z:$Z,"<="&J$4)+SUMIFS('Báo cáo'!$P:$P,'Báo cáo'!$AD:$AD,$A8,'Báo cáo'!$Z:$Z,"<="&J$4)-SUMIFS('Báo cáo'!$Q:$Q,'Báo cáo'!$AD:$AD,$A8,'Báo cáo'!$AA:$AA,"<="&J$4) -> 0 | ... N8: =SUMIFS('Báo cáo'!$O:$O,'Báo cáo'!$AD:$AD,$A8,'Báo cáo'!$Z:$Z,"<="&N$4)+SUMIFS('Báo cáo'!$P:$P,'Báo cáo'!$AD:$AD,$A8,'Báo cáo'!$Z:$Z,"<="&N$4)-SUMIFS('Báo cáo'!$Q:$Q,'Báo cáo'!$AD:$AD,$A8,'Báo cáo'!$AA:$AA,"<="&N$4) -> 0
C9: =SUMIFS('Báo cáo'!$O:$O,'Báo cáo'!$AD:$AD,$A9,'Báo cáo'!$Z:$Z,"<="&C$4)+SUMIFS('Báo cáo'!$P:$P,'Báo cáo'!$AD:$AD,$A9,'Báo cáo'!$Z:$Z,"<="&C$4)-SUMIFS('Báo cáo'!$Q:$Q,'Báo cáo'!$AD:$AD,$A9,'Báo cáo'!$AA:$AA,"<="&C$4) -> 0 | D9: =SUMIFS('Báo cáo'!$O:$O,'Báo cáo'!$AD:$AD,$A9,'Báo cáo'!$Z:$Z,"<="&D$4)+SUMIFS('Báo cáo'!$P:$P,'Báo cáo'!$AD:$AD,$A9,'Báo cáo'!$Z:$Z,"<="&D$4)-SUMIFS('Báo cáo'!$Q:$Q,'Báo cáo'!$AD:$AD,$A9,'Báo cáo'!$AA:$AA,"<="&D$4) -> 0 | E9: =SUMIFS('Báo cáo'!$O:$O,'Báo cáo'!$AD:$AD,$A9,'Báo cáo'!$Z:$Z,"<="&E$4)+SUMIFS('Báo cáo'!$P:$P,'Báo cáo'!$AD:$AD,$A9,'Báo cáo'!$Z:$Z,"<="&E$4)-SUMIFS('Báo cáo'!$Q:$Q,'Báo cáo'!$AD:$AD,$A9,'Báo cáo'!$AA:$AA,"<="&E$4) -> 0 | F9: =SUMIFS('Báo cáo'!$O:$O,'Báo cáo'!$AD:$AD,$A9,'Báo cáo'!$Z:$Z,"<="&F$4)+SUMIFS('Báo cáo'!$P:$P,'Báo cáo'!$AD:$AD,$A9,'Báo cáo'!$Z:$Z,"<="&F$4)-SUMIFS('Báo cáo'!$Q:$Q,'Báo cáo'!$AD:$AD,$A9,'Báo cáo'!$AA:$AA,"<="&F$4) -> 0 | G9: =SUMIFS('Báo cáo'!$O:$O,'Báo cáo'!$AD:$AD,$A9,'Báo cáo'!$Z:$Z,"<="&G$4)+SUMIFS('Báo cáo'!$P:$P,'Báo cáo'!$AD:$AD,$A9,'Báo cáo'!$Z:$Z,"<="&G$4)-SUMIFS('Báo cáo'!$Q:$Q,'Báo cáo'!$AD:$AD,$A9,'Báo cáo'!$AA:$AA,"<="&G$4) -> 0 | H9: =SUMIFS('Báo cáo'!$O:$O,'Báo cáo'!$AD:$AD,$A9,'Báo cáo'!$Z:$Z,"<="&H$4)+SUMIFS('Báo cáo'!$P:$P,'Báo cáo'!$AD:$AD,$A9,'Báo cáo'!$Z:$Z,"<="&H$4)-SUMIFS('Báo cáo'!$Q:$Q,'Báo cáo'!$AD:$AD,$A9,'Báo cáo'!$AA:$AA,"<="&H$4) -> 0 | I9: =SUMIFS('Báo cáo'!$O:$O,'Báo cáo'!$AD:$AD,$A9,'Báo cáo'!$Z:$Z,"<="&I$4)+SUMIFS('Báo cáo'!$P:$P,'Báo cáo'!$AD:$AD,$A9,'Báo cáo'!$Z:$Z,"<="&I$4)-SUMIFS('Báo cáo'!$Q:$Q,'Báo cáo'!$AD:$AD,$A9,'Báo cáo'!$AA:$AA,"<="&I$4) -> 0 | J9: =SUMIFS('Báo cáo'!$O:$O,'Báo cáo'!$AD:$AD,$A9,'Báo cáo'!$Z:$Z,"<="&J$4)+SUMIFS('Báo cáo'!$P:$P,'Báo cáo'!$AD:$AD,$A9,'Báo cáo'!$Z:$Z,"<="&J$4)-SUMIFS('Báo cáo'!$Q:$Q,'Báo cáo'!$AD:$AD,$A9,'Báo cáo'!$AA:$AA,"<="&J$4) -> 0 | ... N9: =SUMIFS('Báo cáo'!$O:$O,'Báo cáo'!$AD:$AD,$A9,'Báo cáo'!$Z:$Z,"<="&N$4)+SUMIFS('Báo cáo'!$P:$P,'Báo cáo'!$AD:$AD,$A9,'Báo cáo'!$Z:$Z,"<="&N$4)-SUMIFS('Báo cáo'!$Q:$Q,'Báo cáo'!$AD:$AD,$A9,'Báo cáo'!$AA:$AA,"<="&N$4) -> 0
C10: =SUMIFS('Báo cáo'!$O:$O,'Báo cáo'!$AD:$AD,$A10,'Báo cáo'!$Z:$Z,"<="&C$4)+SUMIFS('Báo cáo'!$P:$P,'Báo cáo'!$AD:$AD,$A10,'Báo cáo'!$Z:$Z,"<="&C$4)-SUMIFS('Báo cáo'!$Q:$Q,'Báo cáo'!$AD:$AD,$A10,'Báo cáo'!$AA:$AA,"<="&C$4) -> 0 | D10: =SUMIFS('Báo cáo'!$O:$O,'Báo cáo'!$AD:$AD,$A10,'Báo cáo'!$Z:$Z,"<="&D$4)+SUMIFS('Báo cáo'!$P:$P,'Báo cáo'!$AD:$AD,$A10,'Báo cáo'!$Z:$Z,"<="&D$4)-SUMIFS('Báo cáo'!$Q:$Q,'Báo cáo'!$AD:$AD,$A10,'Báo cáo'!$AA:$AA,"<="&D$4) -> 0 | E10: =SUMIFS('Báo cáo'!$O:$O,'Báo cáo'!$AD:$AD,$A10,'Báo cáo'!$Z:$Z,"<="&E$4)+SUMIFS('Báo cáo'!$P:$P,'Báo cáo'!$AD:$AD,$A10,'Báo cáo'!$Z:$Z,"<="&E$4)-SUMIFS('Báo cáo'!$Q:$Q,'Báo cáo'!$AD:$AD,$A10,'Báo cáo'!$AA:$AA,"<="&E$4) -> 0 | F10: =SUMIFS('Báo cáo'!$O:$O,'Báo cáo'!$AD:$AD,$A10,'Báo cáo'!$Z:$Z,"<="&F$4)+SUMIFS('Báo cáo'!$P:$P,'Báo cáo'!$AD:$AD,$A10,'Báo cáo'!$Z:$Z,"<="&F$4)-SUMIFS('Báo cáo'!$Q:$Q,'Báo cáo'!$AD:$AD,$A10,'Báo cáo'!$AA:$AA,"<="&F$4) -> 0 | G10: =SUMIFS('Báo cáo'!$O:$O,'Báo cáo'!$AD:$AD,$A10,'Báo cáo'!$Z:$Z,"<="&G$4)+SUMIFS('Báo cáo'!$P:$P,'Báo cáo'!$AD:$AD,$A10,'Báo cáo'!$Z:$Z,"<="&G$4)-SUMIFS('Báo cáo'!$Q:$Q,'Báo cáo'!$AD:$AD,$A10,'Báo cáo'!$AA:$AA,"<="&G$4) -> 0 | H10: =SUMIFS('Báo cáo'!$O:$O,'Báo cáo'!$AD:$AD,$A10,'Báo cáo'!$Z:$Z,"<="&H$4)+SUMIFS('Báo cáo'!$P:$P,'Báo cáo'!$AD:$AD,$A10,'Báo cáo'!$Z:$Z,"<="&H$4)-SUMIFS('Báo cáo'!$Q:$Q,'Báo cáo'!$AD:$AD,$A10,'Báo cáo'!$AA:$AA,"<="&H$4) -> 0 | I10: =SUMIFS('Báo cáo'!$O:$O,'Báo cáo'!$AD:$AD,$A10,'Báo cáo'!$Z:$Z,"<="&I$4)+SUMIFS('Báo cáo'!$P:$P,'Báo cáo'!$AD:$AD,$A10,'Báo cáo'!$Z:$Z,"<="&I$4)-SUMIFS('Báo cáo'!$Q:$Q,'Báo cáo'!$AD:$AD,$A10,'Báo cáo'!$AA:$AA,"<="&I$4) -> 0 | J10: =SUMIFS('Báo cáo'!$O:$O,'Báo cáo'!$AD:$AD,$A10,'Báo cáo'!$Z:$Z,"<="&J$4)+SUMIFS('Báo cáo'!$P:$P,'Báo cáo'!$AD:$AD,$A10,'Báo cáo'!$Z:$Z,"<="&J$4)-SUMIFS('Báo cáo'!$Q:$Q,'Báo cáo'!$AD:$AD,$A10,'Báo cáo'!$AA:$AA,"<="&J$4) -> 0 | ... N10: =SUMIFS('Báo cáo'!$O:$O,'Báo cáo'!$AD:$AD,$A10,'Báo cáo'!$Z:$Z,"<="&N$4)+SUMIFS('Báo cáo'!$P:$P,'Báo cáo'!$AD:$AD,$A10,'Báo cáo'!$Z:$Z,"<="&N$4)-SUMIFS('Báo cáo'!$Q:$Q,'Báo cáo'!$AD:$AD,$A10,'Báo cáo'!$AA:$AA,"<="&N$4) -> 0
C11: =SUMIFS('Báo cáo'!$O:$O,'Báo cáo'!$AD:$AD,$A11,'Báo cáo'!$Z:$Z,"<="&C$4)+SUMIFS('Báo cáo'!$P:$P,'Báo cáo'!$AD:$AD,$A11,'Báo cáo'!$Z:$Z,"<="&C$4)-SUMIFS('Báo cáo'!$Q:$Q,'Báo cáo'!$AD:$AD,$A11,'Báo cáo'!$AA:$AA,"<="&C$4) -> 0 | D11: =SUMIFS('Báo cáo'!$O:$O,'Báo cáo'!$AD:$AD,$A11,'Báo cáo'!$Z:$Z,"<="&D$4)+SUMIFS('Báo cáo'!$P:$P,'Báo cáo'!$AD:$AD,$A11,'Báo cáo'!$Z:$Z,"<="&D$4)-SUMIFS('Báo cáo'!$Q:$Q,'Báo cáo'!$AD:$AD,$A11,'Báo cáo'!$AA:$AA,"<="&D$4) -> 0 | E11: =SUMIFS('Báo cáo'!$O:$O,'Báo cáo'!$AD:$AD,$A11,'Báo cáo'!$Z:$Z,"<="&E$4)+SUMIFS('Báo cáo'!$P:$P,'Báo cáo'!$AD:$AD,$A11,'Báo cáo'!$Z:$Z,"<="&E$4)-SUMIFS('Báo cáo'!$Q:$Q,'Báo cáo'!$AD:$AD,$A11,'Báo cáo'!$AA:$AA,"<="&E$4) -> 0 | F11: =SUMIFS('Báo cáo'!$O:$O,'Báo cáo'!$AD:$AD,$A11,'Báo cáo'!$Z:$Z,"<="&F$4)+SUMIFS('Báo cáo'!$P:$P,'Báo cáo'!$AD:$AD,$A11,'Báo cáo'!$Z:$Z,"<="&F$4)-SUMIFS('Báo cáo'!$Q:$Q,'Báo cáo'!$AD:$AD,$A11,'Báo cáo'!$AA:$AA,"<="&F$4) -> 0 | G11: =SUMIFS('Báo cáo'!$O:$O,'Báo cáo'!$AD:$AD,$A11,'Báo cáo'!$Z:$Z,"<="&G$4)+SUMIFS('Báo cáo'!$P:$P,'Báo cáo'!$AD:$AD,$A11,'Báo cáo'!$Z:$Z,"<="&G$4)-SUMIFS('Báo cáo'!$Q:$Q,'Báo cáo'!$AD:$AD,$A11,'Báo cáo'!$AA:$AA,"<="&G$4) -> 0 | H11: =SUMIFS('Báo cáo'!$O:$O,'Báo cáo'!$AD:$AD,$A11,'Báo cáo'!$Z:$Z,"<="&H$4)+SUMIFS('Báo cáo'!$P:$P,'Báo cáo'!$AD:$AD,$A11,'Báo cáo'!$Z:$Z,"<="&H$4)-SUMIFS('Báo cáo'!$Q:$Q,'Báo cáo'!$AD:$AD,$A11,'Báo cáo'!$AA:$AA,"<="&H$4) -> 0 | I11: =SUMIFS('Báo cáo'!$O:$O,'Báo cáo'!$AD:$AD,$A11,'Báo cáo'!$Z:$Z,"<="&I$4)+SUMIFS('Báo cáo'!$P:$P,'Báo cáo'!$AD:$AD,$A11,'Báo cáo'!$Z:$Z,"<="&I$4)-SUMIFS('Báo cáo'!$Q:$Q,'Báo cáo'!$AD:$AD,$A11,'Báo cáo'!$AA:$AA,"<="&I$4) -> 0 | J11: =SUMIFS('Báo cáo'!$O:$O,'Báo cáo'!$AD:$AD,$A11,'Báo cáo'!$Z:$Z,"<="&J$4)+SUMIFS('Báo cáo'!$P:$P,'Báo cáo'!$AD:$AD,$A11,'Báo cáo'!$Z:$Z,"<="&J$4)-SUMIFS('Báo cáo'!$Q:$Q,'Báo cáo'!$AD:$AD,$A11,'Báo cáo'!$AA:$AA,"<="&J$4) -> 0 | ... N11: =SUMIFS('Báo cáo'!$O:$O,'Báo cáo'!$AD:$AD,$A11,'Báo cáo'!$Z:$Z,"<="&N$4)+SUMIFS('Báo cáo'!$P:$P,'Báo cáo'!$AD:$AD,$A11,'Báo cáo'!$Z:$Z,"<="&N$4)-SUMIFS('Báo cáo'!$Q:$Q,'Báo cáo'!$AD:$AD,$A11,'Báo cáo'!$AA:$AA,"<="&N$4) -> 0
C12: =SUMIFS('Báo cáo'!$O:$O,'Báo cáo'!$AD:$AD,$A12,'Báo cáo'!$Z:$Z,"<="&C$4)+SUMIFS('Báo cáo'!$P:$P,'Báo cáo'!$AD:$AD,$A12,'Báo cáo'!$Z:$Z,"<="&C$4)-SUMIFS('Báo cáo'!$Q:$Q,'Báo cáo'!$AD:$AD,$A12,'Báo cáo'!$AA:$AA,"<="&C$4) -> 0 | D12: =SUMIFS('Báo cáo'!$O:$O,'Báo cáo'!$AD:$AD,$A12,'Báo cáo'!$Z:$Z,"<="&D$4)+SUMIFS('Báo cáo'!$P:$P,'Báo cáo'!$AD:$AD,$A12,'Báo cáo'!$Z:$Z,"<="&D$4)-SUMIFS('Báo cáo'!$Q:$Q,'Báo cáo'!$AD:$AD,$A12,'Báo cáo'!$AA:$AA,"<="&D$4) -> 0 | E12: =SUMIFS('Báo cáo'!$O:$O,'Báo cáo'!$AD:$AD,$A12,'Báo cáo'!$Z:$Z,"<="&E$4)+SUMIFS('Báo cáo'!$P:$P,'Báo cáo'!$AD:$AD,$A12,'Báo cáo'!$Z:$Z,"<="&E$4)-SUMIFS('Báo cáo'!$Q:$Q,'Báo cáo'!$AD:$AD,$A12,'Báo cáo'!$AA:$AA,"<="&E$4) -> 0 | F12: =SUMIFS('Báo cáo'!$O:$O,'Báo cáo'!$AD:$AD,$A12,'Báo cáo'!$Z:$Z,"<="&F$4)+SUMIFS('Báo cáo'!$P:$P,'Báo cáo'!$AD:$AD,$A12,'Báo cáo'!$Z:$Z,"<="&F$4)-SUMIFS('Báo cáo'!$Q:$Q,'Báo cáo'!$AD:$AD,$A12,'Báo cáo'!$AA:$AA,"<="&F$4) -> 0 | G12: =SUMIFS('Báo cáo'!$O:$O,'Báo cáo'!$AD:$AD,$A12,'Báo cáo'!$Z:$Z,"<="&G$4)+SUMIFS('Báo cáo'!$P:$P,'Báo cáo'!$AD:$AD,$A12,'Báo cáo'!$Z:$Z,"<="&G$4)-SUMIFS('Báo cáo'!$Q:$Q,'Báo cáo'!$AD:$AD,$A12,'Báo cáo'!$AA:$AA,"<="&G$4) -> 0 | H12: =SUMIFS('Báo cáo'!$O:$O,'Báo cáo'!$AD:$AD,$A12,'Báo cáo'!$Z:$Z,"<="&H$4)+SUMIFS('Báo cáo'!$P:$P,'Báo cáo'!$AD:$AD,$A12,'Báo cáo'!$Z:$Z,"<="&H$4)-SUMIFS('Báo cáo'!$Q:$Q,'Báo cáo'!$AD:$AD,$A12,'Báo cáo'!$AA:$AA,"<="&H$4) -> 0 | I12: =SUMIFS('Báo cáo'!$O:$O,'Báo cáo'!$AD:$AD,$A12,'Báo cáo'!$Z:$Z,"<="&I$4)+SUMIFS('Báo cáo'!$P:$P,'Báo cáo'!$AD:$AD,$A12,'Báo cáo'!$Z:$Z,"<="&I$4)-SUMIFS('Báo cáo'!$Q:$Q,'Báo cáo'!$AD:$AD,$A12,'Báo cáo'!$AA:$AA,"<="&I$4) -> 0 | J12: =SUMIFS('Báo cáo'!$O:$O,'Báo cáo'!$AD:$AD,$A12,'Báo cáo'!$Z:$Z,"<="&J$4)+SUMIFS('Báo cáo'!$P:$P,'Báo cáo'!$AD:$AD,$A12,'Báo cáo'!$Z:$Z,"<="&J$4)-SUMIFS('Báo cáo'!$Q:$Q,'Báo cáo'!$AD:$AD,$A12,'Báo cáo'!$AA:$AA,"<="&J$4) -> 0 | ... N12: =SUMIFS('Báo cáo'!$O:$O,'Báo cáo'!$AD:$AD,$A12,'Báo cáo'!$Z:$Z,"<="&N$4)+SUMIFS('Báo cáo'!$P:$P,'Báo cáo'!$AD:$AD,$A12,'Báo cáo'!$Z:$Z,"<="&N$4)-SUMIFS('Báo cáo'!$Q:$Q,'Báo cáo'!$AD:$AD,$A12,'Báo cáo'!$AA:$AA,"<="&N$4) -> 0
C13: =SUMIFS('Báo cáo'!$O:$O,'Báo cáo'!$AD:$AD,$A13,'Báo cáo'!$Z:$Z,"<="&C$4)+SUMIFS('Báo cáo'!$P:$P,'Báo cáo'!$AD:$AD,$A13,'Báo cáo'!$Z:$Z,"<="&C$4)-SUMIFS('Báo cáo'!$Q:$Q,'Báo cáo'!$AD:$AD,$A13,'Báo cáo'!$AA:$AA,"<="&C$4) -> 0 | D13: =SUMIFS('Báo cáo'!$O:$O,'Báo cáo'!$AD:$AD,$A13,'Báo cáo'!$Z:$Z,"<="&D$4)+SUMIFS('Báo cáo'!$P:$P,'Báo cáo'!$AD:$AD,$A13,'Báo cáo'!$Z:$Z,"<="&D$4)-SUMIFS('Báo cáo'!$Q:$Q,'Báo cáo'!$AD:$AD,$A13,'Báo cáo'!$AA:$AA,"<="&D$4) -> 0 | E13: =SUMIFS('Báo cáo'!$O:$O,'Báo cáo'!$AD:$AD,$A13,'Báo cáo'!$Z:$Z,"<="&E$4)+SUMIFS('Báo cáo'!$P:$P,'Báo cáo'!$AD:$AD,$A13,'Báo cáo'!$Z:$Z,"<="&E$4)-SUMIFS('Báo cáo'!$Q:$Q,'Báo cáo'!$AD:$AD,$A13,'Báo cáo'!$AA:$AA,"<="&E$4) -> 0 | F13: =SUMIFS('Báo cáo'!$O:$O,'Báo cáo'!$AD:$AD,$A13,'Báo cáo'!$Z:$Z,"<="&F$4)+SUMIFS('Báo cáo'!$P:$P,'Báo cáo'!$AD:$AD,$A13,'Báo cáo'!$Z:$Z,"<="&F$4)-SUMIFS('Báo cáo'!$Q:$Q,'Báo cáo'!$AD:$AD,$A13,'Báo cáo'!$AA:$AA,"<="&F$4) -> 0 | G13: =SUMIFS('Báo cáo'!$O:$O,'Báo cáo'!$AD:$AD,$A13,'Báo cáo'!$Z:$Z,"<="&G$4)+SUMIFS('Báo cáo'!$P:$P,'Báo cáo'!$AD:$AD,$A13,'Báo cáo'!$Z:$Z,"<="&G$4)-SUMIFS('Báo cáo'!$Q:$Q,'Báo cáo'!$AD:$AD,$A13,'Báo cáo'!$AA:$AA,"<="&G$4) -> 0 | H13: =SUMIFS('Báo cáo'!$O:$O,'Báo cáo'!$AD:$AD,$A13,'Báo cáo'!$Z:$Z,"<="&H$4)+SUMIFS('Báo cáo'!$P:$P,'Báo cáo'!$AD:$AD,$A13,'Báo cáo'!$Z:$Z,"<="&H$4)-SUMIFS('Báo cáo'!$Q:$Q,'Báo cáo'!$AD:$AD,$A13,'Báo cáo'!$AA:$AA,"<="&H$4) -> 0 | I13: =SUMIFS('Báo cáo'!$O:$O,'Báo cáo'!$AD:$AD,$A13,'Báo cáo'!$Z:$Z,"<="&I$4)+SUMIFS('Báo cáo'!$P:$P,'Báo cáo'!$AD:$AD,$A13,'Báo cáo'!$Z:$Z,"<="&I$4)-SUMIFS('Báo cáo'!$Q:$Q,'Báo cáo'!$AD:$AD,$A13,'Báo cáo'!$AA:$AA,"<="&I$4) -> 0 | J13: =SUMIFS('Báo cáo'!$O:$O,'Báo cáo'!$AD:$AD,$A13,'Báo cáo'!$Z:$Z,"<="&J$4)+SUMIFS('Báo cáo'!$P:$P,'Báo cáo'!$AD:$AD,$A13,'Báo cáo'!$Z:$Z,"<="&J$4)-SUMIFS('Báo cáo'!$Q:$Q,'Báo cáo'!$AD:$AD,$A13,'Báo cáo'!$AA:$AA,"<="&J$4) -> 0 | ... N13: =SUMIFS('Báo cáo'!$O:$O,'Báo cáo'!$AD:$AD,$A13,'Báo cáo'!$Z:$Z,"<="&N$4)+SUMIFS('Báo cáo'!$P:$P,'Báo cáo'!$AD:$AD,$A13,'Báo cáo'!$Z:$Z,"<="&N$4)-SUMIFS('Báo cáo'!$Q:$Q,'Báo cáo'!$AD:$AD,$A13,'Báo cáo'!$AA:$AA,"<="&N$4) -> 0
C14: =SUMIFS('Báo cáo'!$O:$O,'Báo cáo'!$AD:$AD,$A14,'Báo cáo'!$Z:$Z,"<="&C$4)+SUMIFS('Báo cáo'!$P:$P,'Báo cáo'!$AD:$AD,$A14,'Báo cáo'!$Z:$Z,"<="&C$4)-SUMIFS('Báo cáo'!$Q:$Q,'Báo cáo'!$AD:$AD,$A14,'Báo cáo'!$AA:$AA,"<="&C$4) -> 0 | D14: =SUMIFS('Báo cáo'!$O:$O,'Báo cáo'!$AD:$AD,$A14,'Báo cáo'!$Z:$Z,"<="&D$4)+SUMIFS('Báo cáo'!$P:$P,'Báo cáo'!$AD:$AD,$A14,'Báo cáo'!$Z:$Z,"<="&D$4)-SUMIFS('Báo cáo'!$Q:$Q,'Báo cáo'!$AD:$AD,$A14,'Báo cáo'!$AA:$AA,"<="&D$4) -> 0 | E14: =SUMIFS('Báo cáo'!$O:$O,'Báo cáo'!$AD:$AD,$A14,'Báo cáo'!$Z:$Z,"<="&E$4)+SUMIFS('Báo cáo'!$P:$P,'Báo cáo'!$AD:$AD,$A14,'Báo cáo'!$Z:$Z,"<="&E$4)-SUMIFS('Báo cáo'!$Q:$Q,'Báo cáo'!$AD:$AD,$A14,'Báo cáo'!$AA:$AA,"<="&E$4) -> 0 | F14: =SUMIFS('Báo cáo'!$O:$O,'Báo cáo'!$AD:$AD,$A14,'Báo cáo'!$Z:$Z,"<="&F$4)+SUMIFS('Báo cáo'!$P:$P,'Báo cáo'!$AD:$AD,$A14,'Báo cáo'!$Z:$Z,"<="&F$4)-SUMIFS('Báo cáo'!$Q:$Q,'Báo cáo'!$AD:$AD,$A14,'Báo cáo'!$AA:$AA,"<="&F$4) -> 0 | G14: =SUMIFS('Báo cáo'!$O:$O,'Báo cáo'!$AD:$AD,$A14,'Báo cáo'!$Z:$Z,"<="&G$4)+SUMIFS('Báo cáo'!$P:$P,'Báo cáo'!$AD:$AD,$A14,'Báo cáo'!$Z:$Z,"<="&G$4)-SUMIFS('Báo cáo'!$Q:$Q,'Báo cáo'!$AD:$AD,$A14,'Báo cáo'!$AA:$AA,"<="&G$4) -> 0 | H14: =SUMIFS('Báo cáo'!$O:$O,'Báo cáo'!$AD:$AD,$A14,'Báo cáo'!$Z:$Z,"<="&H$4)+SUMIFS('Báo cáo'!$P:$P,'Báo cáo'!$AD:$AD,$A14,'Báo cáo'!$Z:$Z,"<="&H$4)-SUMIFS('Báo cáo'!$Q:$Q,'Báo cáo'!$AD:$AD,$A14,'Báo cáo'!$AA:$AA,"<="&H$4) -> 0 | I14: =SUMIFS('Báo cáo'!$O:$O,'Báo cáo'!$AD:$AD,$A14,'Báo cáo'!$Z:$Z,"<="&I$4)+SUMIFS('Báo cáo'!$P:$P,'Báo cáo'!$AD:$AD,$A14,'Báo cáo'!$Z:$Z,"<="&I$4)-SUMIFS('Báo cáo'!$Q:$Q,'Báo cáo'!$AD:$AD,$A14,'Báo cáo'!$AA:$AA,"<="&I$4) -> 0 | J14: =SUMIFS('Báo cáo'!$O:$O,'Báo cáo'!$AD:$AD,$A14,'Báo cáo'!$Z:$Z,"<="&J$4)+SUMIFS('Báo cáo'!$P:$P,'Báo cáo'!$AD:$AD,$A14,'Báo cáo'!$Z:$Z,"<="&J$4)-SUMIFS('Báo cáo'!$Q:$Q,'Báo cáo'!$AD:$AD,$A14,'Báo cáo'!$AA:$AA,"<="&J$4) -> 0 | ... N14: =SUMIFS('Báo cáo'!$O:$O,'Báo cáo'!$AD:$AD,$A14,'Báo cáo'!$Z:$Z,"<="&N$4)+SUMIFS('Báo cáo'!$P:$P,'Báo cáo'!$AD:$AD,$A14,'Báo cáo'!$Z:$Z,"<="&N$4)-SUMIFS('Báo cáo'!$Q:$Q,'Báo cáo'!$AD:$AD,$A14,'Báo cáo'!$AA:$AA,"<="&N$4) -> 0
C15: =SUMIFS('Báo cáo'!$O:$O,'Báo cáo'!$AD:$AD,$A15,'Báo cáo'!$Z:$Z,"<="&C$4)+SUMIFS('Báo cáo'!$P:$P,'Báo cáo'!$AD:$AD,$A15,'Báo cáo'!$Z:$Z,"<="&C$4)-SUMIFS('Báo cáo'!$Q:$Q,'Báo cáo'!$AD:$AD,$A15,'Báo cáo'!$AA:$AA,"<="&C$4) -> 0 | D15: =SUMIFS('Báo cáo'!$O:$O,'Báo cáo'!$AD:$AD,$A15,'Báo cáo'!$Z:$Z,"<="&D$4)+SUMIFS('Báo cáo'!$P:$P,'Báo cáo'!$AD:$AD,$A15,'Báo cáo'!$Z:$Z,"<="&D$4)-SUMIFS('Báo cáo'!$Q:$Q,'Báo cáo'!$AD:$AD,$A15,'Báo cáo'!$AA:$AA,"<="&D$4) -> 0 | E15: =SUMIFS('Báo cáo'!$O:$O,'Báo cáo'!$AD:$AD,$A15,'Báo cáo'!$Z:$Z,"<="&E$4)+SUMIFS('Báo cáo'!$P:$P,'Báo cáo'!$AD:$AD,$A15,'Báo cáo'!$Z:$Z,"<="&E$4)-SUMIFS('Báo cáo'!$Q:$Q,'Báo cáo'!$AD:$AD,$A15,'Báo cáo'!$AA:$AA,"<="&E$4) -> 0 | F15: =SUMIFS('Báo cáo'!$O:$O,'Báo cáo'!$AD:$AD,$A15,'Báo cáo'!$Z:$Z,"<="&F$4)+SUMIFS('Báo cáo'!$P:$P,'Báo cáo'!$AD:$AD,$A15,'Báo cáo'!$Z:$Z,"<="&F$4)-SUMIFS('Báo cáo'!$Q:$Q,'Báo cáo'!$AD:$AD,$A15,'Báo cáo'!$AA:$AA,"<="&F$4) -> 0 | G15: =SUMIFS('Báo cáo'!$O:$O,'Báo cáo'!$AD:$AD,$A15,'Báo cáo'!$Z:$Z,"<="&G$4)+SUMIFS('Báo cáo'!$P:$P,'Báo cáo'!$AD:$AD,$A15,'Báo cáo'!$Z:$Z,"<="&G$4)-SUMIFS('Báo cáo'!$Q:$Q,'Báo cáo'!$AD:$AD,$A15,'Báo cáo'!$AA:$AA,"<="&G$4) -> 0 | H15: =SUMIFS('Báo cáo'!$O:$O,'Báo cáo'!$AD:$AD,$A15,'Báo cáo'!$Z:$Z,"<="&H$4)+SUMIFS('Báo cáo'!$P:$P,'Báo cáo'!$AD:$AD,$A15,'Báo cáo'!$Z:$Z,"<="&H$4)-SUMIFS('Báo cáo'!$Q:$Q,'Báo cáo'!$AD:$AD,$A15,'Báo cáo'!$AA:$AA,"<="&H$4) -> 0 | I15: =SUMIFS('Báo cáo'!$O:$O,'Báo cáo'!$AD:$AD,$A15,'Báo cáo'!$Z:$Z,"<="&I$4)+SUMIFS('Báo cáo'!$P:$P,'Báo cáo'!$AD:$AD,$A15,'Báo cáo'!$Z:$Z,"<="&I$4)-SUMIFS('Báo cáo'!$Q:$Q,'Báo cáo'!$AD:$AD,$A15,'Báo cáo'!$AA:$AA,"<="&I$4) -> 0 | J15: =SUMIFS('Báo cáo'!$O:$O,'Báo cáo'!$AD:$AD,$A15,'Báo cáo'!$Z:$Z,"<="&J$4)+SUMIFS('Báo cáo'!$P:$P,'Báo cáo'!$AD:$AD,$A15,'Báo cáo'!$Z:$Z,"<="&J$4)-SUMIFS('Báo cáo'!$Q:$Q,'Báo cáo'!$AD:$AD,$A15,'Báo cáo'!$AA:$AA,"<="&J$4) -> 0 | ... N15: =SUMIFS('Báo cáo'!$O:$O,'Báo cáo'!$AD:$AD,$A15,'Báo cáo'!$Z:$Z,"<="&N$4)+SUMIFS('Báo cáo'!$P:$P,'Báo cáo'!$AD:$AD,$A15,'Báo cáo'!$Z:$Z,"<="&N$4)-SUMIFS('Báo cáo'!$Q:$Q,'Báo cáo'!$AD:$AD,$A15,'Báo cáo'!$AA:$AA,"<="&N$4) -> 0
C16: =SUMIFS('Báo cáo'!$O:$O,'Báo cáo'!$AD:$AD,$A16,'Báo cáo'!$Z:$Z,"<="&C$4)+SUMIFS('Báo cáo'!$P:$P,'Báo cáo'!$AD:$AD,$A16,'Báo cáo'!$Z:$Z,"<="&C$4)-SUMIFS('Báo cáo'!$Q:$Q,'Báo cáo'!$AD:$AD,$A16,'Báo cáo'!$AA:$AA,"<="&C$4) -> 0 | D16: =SUMIFS('Báo cáo'!$O:$O,'Báo cáo'!$AD:$AD,$A16,'Báo cáo'!$Z:$Z,"<="&D$4)+SUMIFS('Báo cáo'!$P:$P,'Báo cáo'!$AD:$AD,$A16,'Báo cáo'!$Z:$Z,"<="&D$4)-SUMIFS('Báo cáo'!$Q:$Q,'Báo cáo'!$AD:$AD,$A16,'Báo cáo'!$AA:$AA,"<="&D$4) -> 0 | E16: =SUMIFS('Báo cáo'!$O:$O,'Báo cáo'!$AD:$AD,$A16,'Báo cáo'!$Z:$Z,"<="&E$4)+SUMIFS('Báo cáo'!$P:$P,'Báo cáo'!$AD:$AD,$A16,'Báo cáo'!$Z:$Z,"<="&E$4)-SUMIFS('Báo cáo'!$Q:$Q,'Báo cáo'!$AD:$AD,$A16,'Báo cáo'!$AA:$AA,"<="&E$4) -> 0 | F16: =SUMIFS('Báo cáo'!$O:$O,'Báo cáo'!$AD:$AD,$A16,'Báo cáo'!$Z:$Z,"<="&F$4)+SUMIFS('Báo cáo'!$P:$P,'Báo cáo'!$AD:$AD,$A16,'Báo cáo'!$Z:$Z,"<="&F$4)-SUMIFS('Báo cáo'!$Q:$Q,'Báo cáo'!$AD:$AD,$A16,'Báo cáo'!$AA:$AA,"<="&F$4) -> 0 | G16: =SUMIFS('Báo cáo'!$O:$O,'Báo cáo'!$AD:$AD,$A16,'Báo cáo'!$Z:$Z,"<="&G$4)+SUMIFS('Báo cáo'!$P:$P,'Báo cáo'!$AD:$AD,$A16,'Báo cáo'!$Z:$Z,"<="&G$4)-SUMIFS('Báo cáo'!$Q:$Q,'Báo cáo'!$AD:$AD,$A16,'Báo cáo'!$AA:$AA,"<="&G$4) -> 0 | H16: =SUMIFS('Báo cáo'!$O:$O,'Báo cáo'!$AD:$AD,$A16,'Báo cáo'!$Z:$Z,"<="&H$4)+SUMIFS('Báo cáo'!$P:$P,'Báo cáo'!$AD:$AD,$A16,'Báo cáo'!$Z:$Z,"<="&H$4)-SUMIFS('Báo cáo'!$Q:$Q,'Báo cáo'!$AD:$AD,$A16,'Báo cáo'!$AA:$AA,"<="&H$4) -> 0 | I16: =SUMIFS('Báo cáo'!$O:$O,'Báo cáo'!$AD:$AD,$A16,'Báo cáo'!$Z:$Z,"<="&I$4)+SUMIFS('Báo cáo'!$P:$P,'Báo cáo'!$AD:$AD,$A16,'Báo cáo'!$Z:$Z,"<="&I$4)-SUMIFS('Báo cáo'!$Q:$Q,'Báo cáo'!$AD:$AD,$A16,'Báo cáo'!$AA:$AA,"<="&I$4) -> 0 | J16: =SUMIFS('Báo cáo'!$O:$O,'Báo cáo'!$AD:$AD,$A16,'Báo cáo'!$Z:$Z,"<="&J$4)+SUMIFS('Báo cáo'!$P:$P,'Báo cáo'!$AD:$AD,$A16,'Báo cáo'!$Z:$Z,"<="&J$4)-SUMIFS('Báo cáo'!$Q:$Q,'Báo cáo'!$AD:$AD,$A16,'Báo cáo'!$AA:$AA,"<="&J$4) -> 0 | ... N16: =SUMIFS('Báo cáo'!$O:$O,'Báo cáo'!$AD:$AD,$A16,'Báo cáo'!$Z:$Z,"<="&N$4)+SUMIFS('Báo cáo'!$P:$P,'Báo cáo'!$AD:$AD,$A16,'Báo cáo'!$Z:$Z,"<="&N$4)-SUMIFS('Báo cáo'!$Q:$Q,'Báo cáo'!$AD:$AD,$A16,'Báo cáo'!$AA:$AA,"<="&N$4) -> 0
C17: =SUMIFS('Báo cáo'!$O:$O,'Báo cáo'!$AD:$AD,$A17,'Báo cáo'!$Z:$Z,"<="&C$4)+SUMIFS('Báo cáo'!$P:$P,'Báo cáo'!$AD:$AD,$A17,'Báo cáo'!$Z:$Z,"<="&C$4)-SUMIFS('Báo cáo'!$Q:$Q,'Báo cáo'!$AD:$AD,$A17,'Báo cáo'!$AA:$AA,"<="&C$4) -> 0 | D17: =SUMIFS('Báo cáo'!$O:$O,'Báo cáo'!$AD:$AD,$A17,'Báo cáo'!$Z:$Z,"<="&D$4)+SUMIFS('Báo cáo'!$P:$P,'Báo cáo'!$AD:$AD,$A17,'Báo cáo'!$Z:$Z,"<="&D$4)-SUMIFS('Báo cáo'!$Q:$Q,'Báo cáo'!$AD:$AD,$A17,'Báo cáo'!$AA:$AA,"<="&D$4) -> 0 | E17: =SUMIFS('Báo cáo'!$O:$O,'Báo cáo'!$AD:$AD,$A17,'Báo cáo'!$Z:$Z,"<="&E$4)+SUMIFS('Báo cáo'!$P:$P,'Báo cáo'!$AD:$AD,$A17,'Báo cáo'!$Z:$Z,"<="&E$4)-SUMIFS('Báo cáo'!$Q:$Q,'Báo cáo'!$AD:$AD,$A17,'Báo cáo'!$AA:$AA,"<="&E$4) -> 0 | F17: =SUMIFS('Báo cáo'!$O:$O,'Báo cáo'!$AD:$AD,$A17,'Báo cáo'!$Z:$Z,"<="&F$4)+SUMIFS('Báo cáo'!$P:$P,'Báo cáo'!$AD:$AD,$A17,'Báo cáo'!$Z:$Z,"<="&F$4)-SUMIFS('Báo cáo'!$Q:$Q,'Báo cáo'!$AD:$AD,$A17,'Báo cáo'!$AA:$AA,"<="&F$4) -> 0 | G17: =SUMIFS('Báo cáo'!$O:$O,'Báo cáo'!$AD:$AD,$A17,'Báo cáo'!$Z:$Z,"<="&G$4)+SUMIFS('Báo cáo'!$P:$P,'Báo cáo'!$AD:$AD,$A17,'Báo cáo'!$Z:$Z,"<="&G$4)-SUMIFS('Báo cáo'!$Q:$Q,'Báo cáo'!$AD:$AD,$A17,'Báo cáo'!$AA:$AA,"<="&G$4) -> 0 | H17: =SUMIFS('Báo cáo'!$O:$O,'Báo cáo'!$AD:$AD,$A17,'Báo cáo'!$Z:$Z,"<="&H$4)+SUMIFS('Báo cáo'!$P:$P,'Báo cáo'!$AD:$AD,$A17,'Báo cáo'!$Z:$Z,"<="&H$4)-SUMIFS('Báo cáo'!$Q:$Q,'Báo cáo'!$AD:$AD,$A17,'Báo cáo'!$AA:$AA,"<="&H$4) -> 0 | I17: =SUMIFS('Báo cáo'!$O:$O,'Báo cáo'!$AD:$AD,$A17,'Báo cáo'!$Z:$Z,"<="&I$4)+SUMIFS('Báo cáo'!$P:$P,'Báo cáo'!$AD:$AD,$A17,'Báo cáo'!$Z:$Z,"<="&I$4)-SUMIFS('Báo cáo'!$Q:$Q,'Báo cáo'!$AD:$AD,$A17,'Báo cáo'!$AA:$AA,"<="&I$4) -> 0 | J17: =SUMIFS('Báo cáo'!$O:$O,'Báo cáo'!$AD:$AD,$A17,'Báo cáo'!$Z:$Z,"<="&J$4)+SUMIFS('Báo cáo'!$P:$P,'Báo cáo'!$AD:$AD,$A17,'Báo cáo'!$Z:$Z,"<="&J$4)-SUMIFS('Báo cáo'!$Q:$Q,'Báo cáo'!$AD:$AD,$A17,'Báo cáo'!$AA:$AA,"<="&J$4) -> 0 | ... N17: =SUMIFS('Báo cáo'!$O:$O,'Báo cáo'!$AD:$AD,$A17,'Báo cáo'!$Z:$Z,"<="&N$4)+SUMIFS('Báo cáo'!$P:$P,'Báo cáo'!$AD:$AD,$A17,'Báo cáo'!$Z:$Z,"<="&N$4)-SUMIFS('Báo cáo'!$Q:$Q,'Báo cáo'!$AD:$AD,$A17,'Báo cáo'!$AA:$AA,"<="&N$4) -> 0
... C21: =SUMIFS('Báo cáo'!$O:$O,'Báo cáo'!$AD:$AD,$A21,'Báo cáo'!$Z:$Z,"<="&C$4)+SUMIFS('Báo cáo'!$P:$P,'Báo cáo'!$AD:$AD,$A21,'Báo cáo'!$Z:$Z,"<="&C$4)-SUMIFS('Báo cáo'!$Q:$Q,'Báo cáo'!$AD:$AD,$A21,'Báo cáo'!$AA:$AA,"<="&C$4) -> 0 | D21: =SUMIFS('Báo cáo'!$O:$O,'Báo cáo'!$AD:$AD,$A21,'Báo cáo'!$Z:$Z,"<="&D$4)+SUMIFS('Báo cáo'!$P:$P,'Báo cáo'!$AD:$AD,$A21,'Báo cáo'!$Z:$Z,"<="&D$4)-SUMIFS('Báo cáo'!$Q:$Q,'Báo cáo'!$AD:$AD,$A21,'Báo cáo'!$AA:$AA,"<="&D$4) -> 0 | E21: =SUMIFS('Báo cáo'!$O:$O,'Báo cáo'!$AD:$AD,$A21,'Báo cáo'!$Z:$Z,"<="&E$4)+SUMIFS('Báo cáo'!$P:$P,'Báo cáo'!$AD:$AD,$A21,'Báo cáo'!$Z:$Z,"<="&E$4)-SUMIFS('Báo cáo'!$Q:$Q,'Báo cáo'!$AD:$AD,$A21,'Báo cáo'!$AA:$AA,"<="&E$4) -> 0 | F21: =SUMIFS('Báo cáo'!$O:$O,'Báo cáo'!$AD:$AD,$A21,'Báo cáo'!$Z:$Z,"<="&F$4)+SUMIFS('Báo cáo'!$P:$P,'Báo cáo'!$AD:$AD,$A21,'Báo cáo'!$Z:$Z,"<="&F$4)-SUMIFS('Báo cáo'!$Q:$Q,'Báo cáo'!$AD:$AD,$A21,'Báo cáo'!$AA:$AA,"<="&F$4) -> 0 | G21: =SUMIFS('Báo cáo'!$O:$O,'Báo cáo'!$AD:$AD,$A21,'Báo cáo'!$Z:$Z,"<="&G$4)+SUMIFS('Báo cáo'!$P:$P,'Báo cáo'!$AD:$AD,$A21,'Báo cáo'!$Z:$Z,"<="&G$4)-SUMIFS('Báo cáo'!$Q:$Q,'Báo cáo'!$AD:$AD,$A21,'Báo cáo'!$AA:$AA,"<="&G$4) -> 0 | H21: =SUMIFS('Báo cáo'!$O:$O,'Báo cáo'!$AD:$AD,$A21,'Báo cáo'!$Z:$Z,"<="&H$4)+SUMIFS('Báo cáo'!$P:$P,'Báo cáo'!$AD:$AD,$A21,'Báo cáo'!$Z:$Z,"<="&H$4)-SUMIFS('Báo cáo'!$Q:$Q,'Báo cáo'!$AD:$AD,$A21,'Báo cáo'!$AA:$AA,"<="&H$4) -> 0 | I21: =SUMIFS('Báo cáo'!$O:$O,'Báo cáo'!$AD:$AD,$A21,'Báo cáo'!$Z:$Z,"<="&I$4)+SUMIFS('Báo cáo'!$P:$P,'Báo cáo'!$AD:$AD,$A21,'Báo cáo'!$Z:$Z,"<="&I$4)-SUMIFS('Báo cáo'!$Q:$Q,'Báo cáo'!$AD:$AD,$A21,'Báo cáo'!$AA:$AA,"<="&I$4) -> 0 | J21: =SUMIFS('Báo cáo'!$O:$O,'Báo cáo'!$AD:$AD,$A21,'Báo cáo'!$Z:$Z,"<="&J$4)+SUMIFS('Báo cáo'!$P:$P,'Báo cáo'!$AD:$AD,$A21,'Báo cáo'!$Z:$Z,"<="&J$4)-SUMIFS('Báo cáo'!$Q:$Q,'Báo cáo'!$AD:$AD,$A21,'Báo cáo'!$AA:$AA,"<="&J$4) -> 0 | ... N21: =SUMIFS('Báo cáo'!$O:$O,'Báo cáo'!$AD:$AD,$A21,'Báo cáo'!$Z:$Z,"<="&N$4)+SUMIFS('Báo cáo'!$P:$P,'Báo cáo'!$AD:$AD,$A21,'Báo cáo'!$Z:$Z,"<="&N$4)-SUMIFS('Báo cáo'!$Q:$Q,'Báo cáo'!$AD:$AD,$A21,'Báo cáo'!$AA:$AA,"<="&N$4) -> 0

Sheet Báo cáo
A1: CHI TIẾT CÔNG NỢ PHẢI THU THEO HÓA ĐƠN | J1: 46289 | K1: = | L1: Khách dư 5đ | M1: Khách thiếu 5đ | Q1: =+SUBTOTAL(9,$Q$3:$Q$1048576) -> 3721380406 | R1: =+SUBTOTAL(9,$R$3:$R$1048576) -> 459942164
A2: Tài khoản: 131; Tháng 9 năm 2025
A3: Mã khách hàng | B3: Tên Khách hàng | C3: Ngày hạch toán | D3: Số chứng từ | E3: Ngày hóa đơn | F3: Số hóa đơn | G3: Diễn giải | H3: Tiền hàng | I3: Tiền chiết khấu | J3: Tiền VAT | K3: Tổng giá trị | L3: Phân loại | M3: Ngày Thanh toán | N3: Chứng từ Thanh toán | O3: Số còn phải thu ĐK | P3: Giá Trị HD sau CK | Q3: Số tiền đã thu | R3: Số còn phải thu | S3: Ngày tính CN | T3: Số ngày được nợ | U3: Hạn thanh toán | V3: Số ngày nợ còn lại | W3: Nhóm nợ trước hạn | X3: Số ngày quá hạn | Y3: Nhóm nợ quá hạn | Z3: Tháng HĐ | AA3: Tháng Thanh toán | AB3: Ghi chú | AC3: Trạng Thái ghi sổ | AD3: NHÓM KHÁCH HÀNG | AE3: TÊN NHÓM KHÁCH HÀNG | AF3: Nhân viên sale | AG3: Column1 | AH3: Ngày
A4: MEGA-014 | B4: CHI NHÁNH CÔNG TY TNHH MM MEGA MARKET (VIỆT NAM) TẠI TỈNH ĐẮK LẮK | C4: 45964 | D4: BH2373596 | E4: 45964 | F4: 00074333 | G4: TC27662892 | H4: 426560 | I4: 0 | J4: 34125 | K4: 460685 | L4: Tồn đầu kỳ | M4: 46034 | O4: =IF(Table1[[#This Row],[Phân loại]]="Tồn đầu kỳ",Table1[[#This Row],[Tổng giá trị]],0) -> 460685 | P4: =IF(Table1[[#This Row],[Số còn phải thu ĐK]]<>0,0,IF(Table1[[#This Row],[Phân loại]]="Bán hàng",Table1[[#This Row],[Tổng giá trị]],-Table1[[#This Row],[Tổng giá trị]])) -> 0 | Q4: =IF(M4<>"",IF(O4<>0,O4,P4),0) -> 460685 | R4: =Table1[[#This Row],[Số còn phải thu ĐK]]+Table1[[#This Row],[Giá Trị HD sau CK]]-Table1[[#This Row],[Số tiền đã thu]] -> 0 | S4: =IF(Table1[[#This Row],[Ngày hóa đơn]]<>"",Table1[[#This Row],[Ngày hóa đơn]],IF(Table1[[#This Row],[Ngày hạch toán]]<>"",Table1[[#This Row],[Ngày hạch toán]],"")) -> 45964 | U4: =IF(Table1[[#This Row],[Ngày tính CN]]="","",S4+T4) -> 45964 | V4: =IF(Table1[[#This Row],[Hạn thanh toán]]="","",IF((U4-NOW())<0,0,(U4-NOW()))) -> 0 | X4: =IF(OR(U4="",R4=0),"",IF((U4-NOW())<0,-(U4-NOW()),0)) | Y4: =IF(R4=0,"Đã thanh toán",IF(X4="","",IF(X4<=0,"Chưa đến hạn thanh toán",IF(X4<=30,"Nợ quá hạn 30 ngày",IF(X4<=60,"Nợ quá hạn từ 30 ngày đến 60 ngày",IF(X4<=90,"Nợ quá hạn từ 60 ngày đến 90 ngày",IF(X4<=120,"Nợ quá hạn từ 90 ngày đến 120 ngày","Nợ quá hạn hơn 120 ngày có khả năng mất thanh toán"))))))) -> Đã thanh toán | Z4: =IF(S4="","",S4) -> 45964 | AA4: =IF(M4="","",M4) -> 46034 | AD4: =VLOOKUP($A4,MA_KH!$A:$Q,MA_KH!O$1,0) -> MEGA | AE4: =VLOOKUP($A4,MA_KH!$A:$Q,MA_KH!P$1,0) -> CÔNG TY TNHH MM MEGA MARKET (VIỆT NAM) | AG4: =(Table1[[#This Row],[Số hóa đơn]])&IF(OR(Table1[[#This Row],[Phân loại]]="Hàng trả",Table1[[#This Row],[Phân loại]]="Giảm công nợ"),-Table1[[#This Row],[Tổng giá trị]],Table1[[#This Row],[Tổng giá trị]]) -> 00074333460685 | AH4: =_xlfn.XLOOKUP(Table1[[#This Row],[Column1]],'Chi tiết tt Mega gửi'!P:P,'Chi tiết tt Mega gửi'!N:N) -> #N/A
A5: MEGA-014 | B5: CHI NHÁNH CÔNG TY TNHH MM MEGA MARKET (VIỆT NAM) TẠI TỈNH ĐẮK LẮK | C5: 45974 | D5: BH2375585 | E5: 45974 | F5: 00076891 | G5: TC27666571 | H5: 4323320 | I5: 0 | J5: 345866 | K5: 4669186 | L5: Tồn đầu kỳ | M5: 46048 | O5: =IF(Table1[[#This Row],[Phân loại]]="Tồn đầu kỳ",Table1[[#This Row],[Tổng giá trị]],0) -> 4669186 | P5: =IF(Table1[[#This Row],[Số còn phải thu ĐK]]<>0,0,IF(Table1[[#This Row],[Phân loại]]="Bán hàng",Table1[[#This Row],[Tổng giá trị]],-Table1[[#This Row],[Tổng giá trị]])) -> 0 | Q5: =IF(M5<>"",IF(O5<>0,O5,P5),0) -> 4669186 | R5: =Table1[[#This Row],[Số còn phải thu ĐK]]+Table1[[#This Row],[Giá Trị HD sau CK]]-Table1[[#This Row],[Số tiền đã thu]] -> 0 | S5: =IF(Table1[[#This Row],[Ngày hóa đơn]]<>"",Table1[[#This Row],[Ngày hóa đơn]],IF(Table1[[#This Row],[Ngày hạch toán]]<>"",Table1[[#This Row],[Ngày hạch toán]],"")) -> 45974 | U5: =IF(Table1[[#This Row],[Ngày tính CN]]="","",S5+T5) -> 45974 | V5: =IF(Table1[[#This Row],[Hạn thanh toán]]="","",IF((U5-NOW())<0,0,(U5-NOW()))) -> 0 | X5: =IF(OR(U5="",R5=0),"",IF((U5-NOW())<0,-(U5-NOW()),0)) | Y5: =IF(R5=0,"Đã thanh toán",IF(X5="","",IF(X5<=0,"Chưa đến hạn thanh toán",IF(X5<=30,"Nợ quá hạn 30 ngày",IF(X5<=60,"Nợ quá hạn từ 30 ngày đến 60 ngày",IF(X5<=90,"Nợ quá hạn từ 60 ngày đến 90 ngày",IF(X5<=120,"Nợ quá hạn từ 90 ngày đến 120 ngày","Nợ quá hạn hơn 120 ngày có khả năng mất thanh toán"))))))) -> Đã thanh toán | Z5: =IF(S5="","",S5) -> 45974 | AA5: =IF(M5="","",M5) -> 46048 | AD5: =VLOOKUP($A5,MA_KH!$A:$Q,MA_KH!O$1,0) -> MEGA | AE5: =VLOOKUP($A5,MA_KH!$A:$Q,MA_KH!P$1,0) -> CÔNG TY TNHH MM MEGA MARKET (VIỆT NAM) | AG5: =(Table1[[#This Row],[Số hóa đơn]])&IF(OR(Table1[[#This Row],[Phân loại]]="Hàng trả",Table1[[#This Row],[Phân loại]]="Giảm công nợ"),-Table1[[#This Row],[Tổng giá trị]],Table1[[#This Row],[Tổng giá trị]]) -> 000768914669186 | AH5: =_xlfn.XLOOKUP(Table1[[#This Row],[Column1]],'Chi tiết tt Mega gửi'!P:P,'Chi tiết tt Mega gửi'!N:N) -> #N/A
A6: MEGA-011 | B6: CHI NHÁNH CÔNG TY TNHH MM MEGA MARKET (VIỆT NAM) TẠI THÀNH PHỐ NHA TRANG | C6: 45974 | D6: BH2375586 | E6: 45974 | F6: 00076892 | G6: TC25647386 | H6: 2751120 | I6: 0 | J6: 220090 | K6: 2971210 | L6: Tồn đầu kỳ | M6: 46034 | O6: =IF(Table1[[#This Row],[Phân loại]]="Tồn đầu kỳ",Table1[[#This Row],[Tổng giá trị]],0) -> 2971210 | P6: =IF(Table1[[#This Row],[Số còn phải thu ĐK]]<>0,0,IF(Table1[[#This Row],[Phân loại]]="Bán hàng",Table1[[#This Row],[Tổng giá trị]],-Table1[[#This Row],[Tổng giá trị]])) -> 0 | Q6: =IF(M6<>"",IF(O6<>0,O6,P6),0) -> 2971210 | R6: =Table1[[#This Row],[Số còn phải thu ĐK]]+Table1[[#This Row],[Giá Trị HD sau CK]]-Table1[[#This Row],[Số tiền đã thu]] -> 0 | S6: =IF(Table1[[#This Row],[Ngày hóa đơn]]<>"",Table1[[#This Row],[Ngày hóa đơn]],IF(Table1[[#This Row],[Ngày hạch toán]]<>"",Table1[[#This Row],[Ngày hạch toán]],"")) -> 45974 | U6: =IF(Table1[[#This Row],[Ngày tính CN]]="","",S6+T6) -> 45974 | V6: =IF(Table1[[#This Row],[Hạn thanh toán]]="","",IF((U6-NOW())<0,0,(U6-NOW()))) -> 0 | X6: =IF(OR(U6="",R6=0),"",IF((U6-NOW())<0,-(U6-NOW()),0)) | Y6: =IF(R6=0,"Đã thanh toán",IF(X6="","",IF(X6<=0,"Chưa đến hạn thanh toán",IF(X6<=30,"Nợ quá hạn 30 ngày",IF(X6<=60,"Nợ quá hạn từ 30 ngày đến 60 ngày",IF(X6<=90,"Nợ quá hạn từ 60 ngày đến 90 ngày",IF(X6<=120,"Nợ quá hạn từ 90 ngày đến 120 ngày","Nợ quá hạn hơn 120 ngày có khả năng mất thanh toán"))))))) -> Đã thanh toán | Z6: =IF(S6="","",S6) -> 45974 | AA6: =IF(M6="","",M6) -> 46034 | AD6: =VLOOKUP($A6,MA_KH!$A:$Q,MA_KH!O$1,0) -> MEGA | AE6: =VLOOKUP($A6,MA_KH!$A:$Q,MA_KH!P$1,0) -> CÔNG TY TNHH MM MEGA MARKET (VIỆT NAM) | AG6: =(Table1[[#This Row],[Số hóa đơn]])&IF(OR(Table1[[#This Row],[Phân loại]]="Hàng trả",Table1[[#This Row],[Phân loại]]="Giảm công nợ"),-Table1[[#This Row],[Tổng giá trị]],Table1[[#This Row],[Tổng giá trị]]) -> 000768922971210 | AH6: =_xlfn.XLOOKUP(Table1[[#This Row],[Column1]],'Chi tiết tt Mega gửi'!P:P,'Chi tiết tt Mega gửi'!N:N) -> #N/A
A7: MEGA-009 | B7: CHI NHÁNH CÔNG TY TNHH MM MEGA MARKET (VIỆT NAM) TẠI TỈNH BÀ RỊA - VŨNG TÀU | C7: 45974 | D7: BH2375588 | E7: 45974 | F7: 00076894 | G7: TC22666530 | H7: 1375560 | I7: 0 | J7: 110045 | K7: 1485605 | L7: Tồn đầu kỳ | M7: 46048 | O7: =IF(Table1[[#This Row],[Phân loại]]="Tồn đầu kỳ",Table1[[#This Row],[Tổng giá trị]],0) -> 1485605 | P7: =IF(Table1[[#This Row],[Số còn phải thu ĐK]]<>0,0,IF(Table1[[#This Row],[Phân loại]]="Bán hàng",Table1[[#This Row],[Tổng giá trị]],-Table1[[#This Row],[Tổng giá trị]])) -> 0 | Q7: =IF(M7<>"",IF(O7<>0,O7,P7),0) -> 1485605 | R7: =Table1[[#This Row],[Số còn phải thu ĐK]]+Table1[[#This Row],[Giá Trị HD sau CK]]-Table1[[#This Row],[Số tiền đã thu]] -> 0 | S7: =IF(Table1[[#This Row],[Ngày hóa đơn]]<>"",Table1[[#This Row],[Ngày hóa đơn]],IF(Table1[[#This Row],[Ngày hạch toán]]<>"",Table1[[#This Row],[Ngày hạch toán]],"")) -> 45974 | U7: =IF(Table1[[#This Row],[Ngày tính CN]]="","",S7+T7) -> 45974 | V7: =IF(Table1[[#This Row],[Hạn thanh toán]]="","",IF((U7-NOW())<0,0,(U7-NOW()))) -> 0 | X7: =IF(OR(U7="",R7=0),"",IF((U7-NOW())<0,-(U7-NOW()),0)) | Y7: =IF(R7=0,"Đã thanh toán",IF(X7="","",IF(X7<=0,"Chưa đến hạn thanh toán",IF(X7<=30,"Nợ quá hạn 30 ngày",IF(X7<=60,"Nợ quá hạn từ 30 ngày đến 60 ngày",IF(X7<=90,"Nợ quá hạn từ 60 ngày đến 90 ngày",IF(X7<=120,"Nợ quá hạn từ 90 ngày đến 120 ngày","Nợ quá hạn hơn 120 ngày có khả năng mất thanh toán"))))))) -> Đã thanh toán | Z7: =IF(S7="","",S7) -> 45974 | AA7: =IF(M7="","",M7) -> 46048 | AD7: =VLOOKUP($A7,MA_KH!$A:$Q,MA_KH!O$1,0) -> MEGA | AE7: =VLOOKUP($A7,MA_KH!$A:$Q,MA_KH!P$1,0) -> CÔNG TY TNHH MM MEGA MARKET (VIỆT NAM) | AG7: =(Table1[[#This Row],[Số hóa đơn]])&IF(OR(Table1[[#This Row],[Phân loại]]="Hàng trả",Table1[[#This Row],[Phân loại]]="Giảm công nợ"),-Table1[[#This Row],[Tổng giá trị]],Table1[[#This Row],[Tổng giá trị]]) -> 000768941485605 | AH7: =_xlfn.XLOOKUP(Table1[[#This Row],[Column1]],'Chi tiết tt Mega gửi'!P:P,'Chi tiết tt Mega gửi'!N:N) -> #N/A
A8: MEGA-004 | B8: CHI NHÁNH CÔNG TY TNHH MM MEGA MARKET (VIỆT NAM) TẠI THÀNH PHỐ ĐÀ NẴNG | C8: 45974 | D8: BH2375589 | E8: 45974 | F8: 00076895 | G8: TC17315074 | H8: 1982380 | I8: 0 | J8: 158590 | K8: 2140970 | L8: Tồn đầu kỳ | M8: 46048 | O8: =IF(Table1[[#This Row],[Phân loại]]="Tồn đầu kỳ",Table1[[#This Row],[Tổng giá trị]],0) -> 2140970 | P8: =IF(Table1[[#This Row],[Số còn phải thu ĐK]]<>0,0,IF(Table1[[#This Row],[Phân loại]]="Bán hàng",Table1[[#This Row],[Tổng giá trị]],-Table1[[#This Row],[Tổng giá trị]])) -> 0 | Q8: =IF(M8<>"",IF(O8<>0,O8,P8),0) -> 2140970 | R8: =Table1[[#This Row],[Số còn phải thu ĐK]]+Table1[[#This Row],[Giá Trị HD sau CK]]-Table1[[#This Row],[Số tiền đã thu]] -> 0 | S8: =IF(Table1[[#This Row],[Ngày hóa đơn]]<>"",Table1[[#This Row],[Ngày hóa đơn]],IF(Table1[[#This Row],[Ngày hạch toán]]<>"",Table1[[#This Row],[Ngày hạch toán]],"")) -> 45974 | U8: =IF(Table1[[#This Row],[Ngày tính CN]]="","",S8+T8) -> 45974 | V8: =IF(Table1[[#This Row],[Hạn thanh toán]]="","",IF((U8-NOW())<0,0,(U8-NOW()))) -> 0 | X8: =IF(OR(U8="",R8=0),"",IF((U8-NOW())<0,-(U8-NOW()),0)) | Y8: =IF(R8=0,"Đã thanh toán",IF(X8="","",IF(X8<=0,"Chưa đến hạn thanh toán",IF(X8<=30,"Nợ quá hạn 30 ngày",IF(X8<=60,"Nợ quá hạn từ 30 ngày đến 60 ngày",IF(X8<=90,"Nợ quá hạn từ 60 ngày đến 90 ngày",IF(X8<=120,"Nợ quá hạn từ 90 ngày đến 120 ngày","Nợ quá hạn hơn 120 ngày có khả năng mất thanh toán"))))))) -> Đã thanh toán | Z8: =IF(S8="","",S8) -> 45974 | AA8: =IF(M8="","",M8) -> 46048 | AD8: =VLOOKUP($A8,MA_KH!$A:$Q,MA_KH!O$1,0) -> MEGA | AE8: =VLOOKUP($A8,MA_KH!$A:$Q,MA_KH!P$1,0) -> CÔNG TY TNHH MM MEGA MARKET (VIỆT NAM) | AG8: =(Table1[[#This Row],[Số hóa đơn]])&IF(OR(Table1[[#This Row],[Phân loại]]="Hàng trả",Table1[[#This Row],[Phân loại]]="Giảm công nợ"),-Table1[[#This Row],[Tổng giá trị]],Table1[[#This Row],[Tổng giá trị]]) -> 000768952140970 | AH8: =_xlfn.XLOOKUP(Table1[[#This Row],[Column1]],'Chi tiết tt Mega gửi'!P:P,'Chi tiết tt Mega gửi'!N:N) -> #N/A
A9: MEGA-002 | B9: CHI NHÁNH CÔNG TY TNHH MM MEGA MARKET (VIỆT NAM) TẠI THÀNH PHỐ CẦN THƠ | C9: 45974 | D9: BH2375592 | E9: 45974 | F9: 00076898 | G9: TC15069846 | H9: 630000 | I9: 0 | J9: 50400 | K9: 680400 | L9: Tồn đầu kỳ | M9: 46048 | O9: =IF(Table1[[#This Row],[Phân loại]]="Tồn đầu kỳ",Table1[[#This Row],[Tổng giá trị]],0) -> 680400 | P9: =IF(Table1[[#This Row],[Số còn phải thu ĐK]]<>0,0,IF(Table1[[#This Row],[Phân loại]]="Bán hàng",Table1[[#This Row],[Tổng giá trị]],-Table1[[#This Row],[Tổng giá trị]])) -> 0 | Q9: =IF(M9<>"",IF(O9<>0,O9,P9),0) -> 680400 | R9: =Table1[[#This Row],[Số còn phải thu ĐK]]+Table1[[#This Row],[Giá Trị HD sau CK]]-Table1[[#This Row],[Số tiền đã thu]] -> 0 | S9: =IF(Table1[[#This Row],[Ngày hóa đơn]]<>"",Table1[[#This Row],[Ngày hóa đơn]],IF(Table1[[#This Row],[Ngày hạch toán]]<>"",Table1[[#This Row],[Ngày hạch toán]],"")) -> 45974 | U9: =IF(Table1[[#This Row],[Ngày tính CN]]="","",S9+T9) -> 45974 | V9: =IF(Table1[[#This Row],[Hạn thanh toán]]="","",IF((U9-NOW())<0,0,(U9-NOW()))) -> 0 | X9: =IF(OR(U9="",R9=0),"",IF((U9-NOW())<0,-(U9-NOW()),0)) | Y9: =IF(R9=0,"Đã thanh toán",IF(X9="","",IF(X9<=0,"Chưa đến hạn thanh toán",IF(X9<=30,"Nợ quá hạn 30 ngày",IF(X9<=60,"Nợ quá hạn từ 30 ngày đến 60 ngày",IF(X9<=90,"Nợ quá hạn từ 60 ngày đến 90 ngày",IF(X9<=120,"Nợ quá hạn từ 90 ngày đến 120 ngày","Nợ quá hạn hơn 120 ngày có khả năng mất thanh toán"))))))) -> Đã thanh toán | Z9: =IF(S9="","",S9) -> 45974 | AA9: =IF(M9="","",M9) -> 46048 | AD9: =VLOOKUP($A9,MA_KH!$A:$Q,MA_KH!O$1,0) -> MEGA | AE9: =VLOOKUP($A9,MA_KH!$A:$Q,MA_KH!P$1,0) -> CÔNG TY TNHH MM MEGA MARKET (VIỆT NAM) | AG9: =(Table1[[#This Row],[Số hóa đơn]])&IF(OR(Table1[[#This Row],[Phân loại]]="Hàng trả",Table1[[#This Row],[Phân loại]]="Giảm công nợ"),-Table1[[#This Row],[Tổng giá trị]],Table1[[#This Row],[Tổng giá trị]]) -> 00076898680400 | AH9: =_xlfn.XLOOKUP(Table1[[#This Row],[Column1]],'Chi tiết tt Mega gửi'!P:P,'Chi tiết tt Mega gửi'!N:N) -> #N/A
A10: MEGA | B10: CÔNG TY TNHH MM MEGA MARKET (VIỆT NAM) | C10: 45975 | D10: BH2375594 | E10: 45975 | F10: 00076900 | G10: 10031558 - Mega An Phú | H10: 9000597 | I10: 0 | J10: 720048 | K10: 9720645 | L10: Tồn đầu kỳ | M10: 46048 | O10: =IF(Table1[[#This Row],[Phân loại]]="Tồn đầu kỳ",Table1[[#This Row],[Tổng giá trị]],0) -> 9720645 | P10: =IF(Table1[[#This Row],[Số còn phải thu ĐK]]<>0,0,IF(Table1[[#This Row],[Phân loại]]="Bán hàng",Table1[[#This Row],[Tổng giá trị]],-Table1[[#This Row],[Tổng giá trị]])) -> 0 | Q10: =IF(M10<>"",IF(O10<>0,O10,P10),0) -> 9720645 | R10: =Table1[[#This Row],[Số còn phải thu ĐK]]+Table1[[#This Row],[Giá Trị HD sau CK]]-Table1[[#This Row],[Số tiền đã thu]] -> 0 | S10: =IF(Table1[[#This Row],[Ngày hóa đơn]]<>"",Table1[[#This Row],[Ngày hóa đơn]],IF(Table1[[#This Row],[Ngày hạch toán]]<>"",Table1[[#This Row],[Ngày hạch toán]],"")) -> 45975 | U10: =IF(Table1[[#This Row],[Ngày tính CN]]="","",S10+T10) -> 45975 | V10: =IF(Table1[[#This Row],[Hạn thanh toán]]="","",IF((U10-NOW())<0,0,(U10-NOW()))) -> 0 | X10: =IF(OR(U10="",R10=0),"",IF((U10-NOW())<0,-(U10-NOW()),0)) | Y10: =IF(R10=0,"Đã thanh toán",IF(X10="","",IF(X10<=0,"Chưa đến hạn thanh toán",IF(X10<=30,"Nợ quá hạn 30 ngày",IF(X10<=60,"Nợ quá hạn từ 30 ngày đến 60 ngày",IF(X10<=90,"Nợ quá hạn từ 60 ngày đến 90 ngày",IF(X10<=120,"Nợ quá hạn từ 90 ngày đến 120 ngày","Nợ quá hạn hơn 120 ngày có khả năng mất thanh toán"))))))) -> Đã thanh toán | Z10: =IF(S10="","",S10) -> 45975 | AA10: =IF(M10="","",M10) -> 46048 | AD10: =VLOOKUP($A10,MA_KH!$A:$Q,MA_KH!O$1,0) -> MEGA | AE10: =VLOOKUP($A10,MA_KH!$A:$Q,MA_KH!P$1,0) -> CÔNG TY TNHH MM MEGA MARKET (VIỆT NAM) | AG10: =(Table1[[#This Row],[Số hóa đơn]])&IF(OR(Table1[[#This Row],[Phân loại]]="Hàng trả",Table1[[#This Row],[Phân loại]]="Giảm công nợ"),-Table1[[#This Row],[Tổng giá trị]],Table1[[#This Row],[Tổng giá trị]]) -> 000769009720645 | AH10: =_xlfn.XLOOKUP(Table1[[#This Row],[Column1]],'Chi tiết tt Mega gửi'!P:P,'Chi tiết tt Mega gửi'!N:N) -> #N/A
A11: MEGA | B11: CÔNG TY TNHH MM MEGA MARKET (VIỆT NAM) | C11: 45976 | D11: BH2375686 | E11: 45976 | F11: 00077005 | G11: 12165306 - Mega Hiệp Phú | H11: 7633960 | I11: 0 | J11: 610717 | K11: 8244677 | L11: Tồn đầu kỳ | M11: 46048 | O11: =IF(Table1[[#This Row],[Phân loại]]="Tồn đầu kỳ",Table1[[#This Row],[Tổng giá trị]],0) -> 8244677 | P11: =IF(Table1[[#This Row],[Số còn phải thu ĐK]]<>0,0,IF(Table1[[#This Row],[Phân loại]]="Bán hàng",Table1[[#This Row],[Tổng giá trị]],-Table1[[#This Row],[Tổng giá trị]])) -> 0 | Q11: =IF(M11<>"",IF(O11<>0,O11,P11),0) -> 8244677 | R11: =Table1[[#This Row],[Số còn phải thu ĐK]]+Table1[[#This Row],[Giá Trị HD sau CK]]-Table1[[#This Row],[Số tiền đã thu]] -> 0 | S11: =IF(Table1[[#This Row],[Ngày hóa đơn]]<>"",Table1[[#This Row],[Ngày hóa đơn]],IF(Table1[[#This Row],[Ngày hạch toán]]<>"",Table1[[#This Row],[Ngày hạch toán]],"")) -> 45976 | U11: =IF(Table1[[#This Row],[Ngày tính CN]]="","",S11+T11) -> 45976 | V11: =IF(Table1[[#This Row],[Hạn thanh toán]]="","",IF((U11-NOW())<0,0,(U11-NOW()))) -> 0 | X11: =IF(OR(U11="",R11=0),"",IF((U11-NOW())<0,-(U11-NOW()),0)) | Y11: =IF(R11=0,"Đã thanh toán",IF(X11="","",IF(X11<=0,"Chưa đến hạn thanh toán",IF(X11<=30,"Nợ quá hạn 30 ngày",IF(X11<=60,"Nợ quá hạn từ 30 ngày đến 60 ngày",IF(X11<=90,"Nợ quá hạn từ 60 ngày đến 90 ngày",IF(X11<=120,"Nợ quá hạn từ 90 ngày đến 120 ngày","Nợ quá hạn hơn 120 ngày có khả năng mất thanh toán"))))))) -> Đã thanh toán | Z11: =IF(S11="","",S11) -> 45976 | AA11: =IF(M11="","",M11) -> 46048 | AD11: =VLOOKUP($A11,MA_KH!$A:$Q,MA_KH!O$1,0) -> MEGA | AE11: =VLOOKUP($A11,MA_KH!$A:$Q,MA_KH!P$1,0) -> CÔNG TY TNHH MM MEGA MARKET (VIỆT NAM) | AG11: =(Table1[[#This Row],[Số hóa đơn]])&IF(OR(Table1[[#This Row],[Phân loại]]="Hàng trả",Table1[[#This Row],[Phân loại]]="Giảm công nợ"),-Table1[[#This Row],[Tổng giá trị]],Table1[[#This Row],[Tổng giá trị]]) -> 000770058244677 | AH11: =_xlfn.XLOOKUP(Table1[[#This Row],[Column1]],'Chi tiết tt Mega gửi'!P:P,'Chi tiết tt Mega gửi'!N:N) -> #N/A
A12: MEGA-003 | B12: CHI NHÁNH CÔNG TY TNHH MM MEGA MARKET (VIỆT NAM) TẠI HẢI PHÒNG | C12: 45978 | D12: BH2375720 | E12: 45978 | F12: 00077872 | G12: TC16111305 | H12: 1982380 | I12: 0 | J12: 158590 | K12: 2140970 | L12: Tồn đầu kỳ | M12: 46034 | O12: =IF(Table1[[#This Row],[Phân loại]]="Tồn đầu kỳ",Table1[[#This Row],[Tổng giá trị]],0) -> 2140970 | P12: =IF(Table1[[#This Row],[Số còn phải thu ĐK]]<>0,0,IF(Table1[[#This Row],[Phân loại]]="Bán hàng",Table1[[#This Row],[Tổng giá trị]],-Table1[[#This Row],[Tổng giá trị]])) -> 0 | Q12: =IF(M12<>"",IF(O12<>0,O12,P12),0) -> 2140970 | R12: =Table1[[#This Row],[Số còn phải thu ĐK]]+Table1[[#This Row],[Giá Trị HD sau CK]]-Table1[[#This Row],[Số tiền đã thu]] -> 0 | S12: =IF(Table1[[#This Row],[Ngày hóa đơn]]<>"",Table1[[#This Row],[Ngày hóa đơn]],IF(Table1[[#This Row],[Ngày hạch toán]]<>"",Table1[[#This Row],[Ngày hạch toán]],"")) -> 45978 | U12: =IF(Table1[[#This Row],[Ngày tính CN]]="","",S12+T12) -> 45978 | V12: =IF(Table1[[#This Row],[Hạn thanh toán]]="","",IF((U12-NOW())<0,0,(U12-NOW()))) -> 0 | X12: =IF(OR(U12="",R12=0),"",IF((U12-NOW())<0,-(U12-NOW()),0)) | Y12: =IF(R12=0,"Đã thanh toán",IF(X12="","",IF(X12<=0,"Chưa đến hạn thanh toán",IF(X12<=30,"Nợ quá hạn 30 ngày",IF(X12<=60,"Nợ quá hạn từ 30 ngày đến 60 ngày",IF(X12<=90,"Nợ quá hạn từ 60 ngày đến 90 ngày",IF(X12<=120,"Nợ quá hạn từ 90 ngày đến 120 ngày","Nợ quá hạn hơn 120 ngày có khả năng mất thanh toán"))))))) -> Đã thanh toán | Z12: =IF(S12="","",S12) -> 45978 | AA12: =IF(M12="","",M12) -> 46034 | AD12: =VLOOKUP($A12,MA_KH!$A:$Q,MA_KH!O$1,0) -> MEGA | AE12: =VLOOKUP($A12,MA_KH!$A:$Q,MA_KH!P$1,0) -> CÔNG TY TNHH MM MEGA MARKET (VIỆT NAM) | AG12: =(Table1[[#This Row],[Số hóa đơn]])&IF(OR(Table1[[#This Row],[Phân loại]]="Hàng trả",Table1[[#This Row],[Phân loại]]="Giảm công nợ"),-Table1[[#This Row],[Tổng giá trị]],Table1[[#This Row],[Tổng giá trị]]) -> 000778722140970 | AH12: =_xlfn.XLOOKUP(Table1[[#This Row],[Column1]],'Chi tiết tt Mega gửi'!P:P,'Chi tiết tt Mega gửi'!N:N) -> #N/A
A13: MEGA | B13: CÔNG TY TNHH MM MEGA MARKET (VIỆT NAM) | C13: 45981 | D13: BH2376179 | E13: 45981 | F13: 00078418 | G13: 29343201 - Mega Hưng Phú | H13: 903415 | I13: 0 | J13: 72273 | K13: 975688 | L13: Tồn đầu kỳ | M13: 46034 | O13: =IF(Table1[[#This Row],[Phân loại]]="Tồn đầu kỳ",Table1[[#This Row],[Tổng giá trị]],0) -> 975688 | P13: =IF(Table1[[#This Row],[Số còn phải thu ĐK]]<>0,0,IF(Table1[[#This Row],[Phân loại]]="Bán hàng",Table1[[#This Row],[Tổng giá trị]],-Table1[[#This Row],[Tổng giá trị]])) -> 0 | Q13: =IF(M13<>"",IF(O13<>0,O13,P13),0) -> 975688 | R13: =Table1[[#This Row],[Số còn phải thu ĐK]]+Table1[[#This Row],[Giá Trị HD sau CK]]-Table1[[#This Row],[Số tiền đã thu]] -> 0 | S13: =IF(Table1[[#This Row],[Ngày hóa đơn]]<>"",Table1[[#This Row],[Ngày hóa đơn]],IF(Table1[[#This Row],[Ngày hạch toán]]<>"",Table1[[#This Row],[Ngày hạch toán]],"")) -> 45981 | U13: =IF(Table1[[#This Row],[Ngày tính CN]]="","",S13+T13) -> 45981 | V13: =IF(Table1[[#This Row],[Hạn thanh toán]]="","",IF((U13-NOW())<0,0,(U13-NOW()))) -> 0 | X13: =IF(OR(U13="",R13=0),"",IF((U13-NOW())<0,-(U13-NOW()),0)) | Y13: =IF(R13=0,"Đã thanh toán",IF(X13="","",IF(X13<=0,"Chưa đến hạn thanh toán",IF(X13<=30,"Nợ quá hạn 30 ngày",IF(X13<=60,"Nợ quá hạn từ 30 ngày đến 60 ngày",IF(X13<=90,"Nợ quá hạn từ 60 ngày đến 90 ngày",IF(X13<=120,"Nợ quá hạn từ 90 ngày đến 120 ngày","Nợ quá hạn hơn 120 ngày có khả năng mất thanh toán"))))))) -> Đã thanh toán | Z13: =IF(S13="","",S13) -> 45981 | AA13: =IF(M13="","",M13) -> 46034 | AD13: =VLOOKUP($A13,MA_KH!$A:$Q,MA_KH!O$1,0) -> MEGA | AE13: =VLOOKUP($A13,MA_KH!$A:$Q,MA_KH!P$1,0) -> CÔNG TY TNHH MM MEGA MARKET (VIỆT NAM) | AG13: =(Table1[[#This Row],[Số hóa đơn]])&IF(OR(Table1[[#This Row],[Phân loại]]="Hàng trả",Table1[[#This Row],[Phân loại]]="Giảm công nợ"),-Table1[[#This Row],[Tổng giá trị]],Table1[[#This Row],[Tổng giá trị]]) -> 00078418975688 | AH13: =_xlfn.XLOOKUP(Table1[[#This Row],[Column1]],'Chi tiết tt Mega gửi'!P:P,'Chi tiết tt Mega gửi'!N:N) -> #N/A
A14: MEGA | B14: CÔNG TY TNHH MM MEGA MARKET (VIỆT NAM) | C14: 45981 | D14: BH2376180 | E14: 45981 | F14: 00078419 | G14: 12168059 - Mega Hiệp Phú | H14: 1923660 | I14: 0 | J14: 153893 | K14: 2077553 | L14: Tồn đầu kỳ | M14: 46034 | O14: =IF(Table1[[#This Row],[Phân loại]]="Tồn đầu kỳ",Table1[[#This Row],[Tổng giá trị]],0) -> 2077553 | P14: =IF(Table1[[#This Row],[Số còn phải thu ĐK]]<>0,0,IF(Table1[[#This Row],[Phân loại]]="Bán hàng",Table1[[#This Row],[Tổng giá trị]],-Table1[[#This Row],[Tổng giá trị]])) -> 0 | Q14: =IF(M14<>"",IF(O14<>0,O14,P14),0) -> 2077553 | R14: =Table1[[#This Row],[Số còn phải thu ĐK]]+Table1[[#This Row],[Giá Trị HD sau CK]]-Table1[[#This Row],[Số tiền đã thu]] -> 0 | S14: =IF(Table1[[#This Row],[Ngày hóa đơn]]<>"",Table1[[#This Row],[Ngày hóa đơn]],IF(Table1[[#This Row],[Ngày hạch toán]]<>"",Table1[[#This Row],[Ngày hạch toán]],"")) -> 45981 | U14: =IF(Table1[[#This Row],[Ngày tính CN]]="","",S14+T14) -> 45981 | V14: =IF(Table1[[#This Row],[Hạn thanh toán]]="","",IF((U14-NOW())<0,0,(U14-NOW()))) -> 0 | X14: =IF(OR(U14="",R14=0),"",IF((U14-NOW())<0,-(U14-NOW()),0)) | Y14: =IF(R14=0,"Đã thanh toán",IF(X14="","",IF(X14<=0,"Chưa đến hạn thanh toán",IF(X14<=30,"Nợ quá hạn 30 ngày",IF(X14<=60,"Nợ quá hạn từ 30 ngày đến 60 ngày",IF(X14<=90,"Nợ quá hạn từ 60 ngày đến 90 ngày",IF(X14<=120,"Nợ quá hạn từ 90 ngày đến 120 ngày","Nợ quá hạn hơn 120 ngày có khả năng mất thanh toán"))))))) -> Đã thanh toán | Z14: =IF(S14="","",S14) -> 45981 | AA14: =IF(M14="","",M14) -> 46034 | AD14: =VLOOKUP($A14,MA_KH!$A:$Q,MA_KH!O$1,0) -> MEGA | AE14: =VLOOKUP($A14,MA_KH!$A:$Q,MA_KH!P$1,0) -> CÔNG TY TNHH MM MEGA MARKET (VIỆT NAM) | AG14: =(Table1[[#This Row],[Số hóa đơn]])&IF(OR(Table1[[#This Row],[Phân loại]]="Hàng trả",Table1[[#This Row],[Phân loại]]="Giảm công nợ"),-Table1[[#This Row],[Tổng giá trị]],Table1[[#This Row],[Tổng giá trị]]) -> 000784192077553 | AH14: =_xlfn.XLOOKUP(Table1[[#This Row],[Column1]],'Chi tiết tt Mega gửi'!P:P,'Chi tiết tt Mega gửi'!N:N) -> #N/A
A15: MEGA-002 | B15: CHI NHÁNH CÔNG TY TNHH MM MEGA MARKET (VIỆT NAM) TẠI THÀNH PHỐ CẦN THƠ | C15: 45981 | D15: BH2376283 | E15: 45981 | F15: 00078550 | G15: TC15072139 | H15: 4351770 | I15: 0 | J15: 348142 | K15: 4699912 | L15: Tồn đầu kỳ | M15: 46034 | O15: =IF(Table1[[#This Row],[Phân loại]]="Tồn đầu kỳ",Table1[[#This Row],[Tổng giá trị]],0) -> 4699912 | P15: =IF(Table1[[#This Row],[Số còn phải thu ĐK]]<>0,0,IF(Table1[[#This Row],[Phân loại]]="Bán hàng",Table1[[#This Row],[Tổng giá trị]],-Table1[[#This Row],[Tổng giá trị]])) -> 0 | Q15: =IF(M15<>"",IF(O15<>0,O15,P15),0) -> 4699912 | R15: =Table1[[#This Row],[Số còn phải thu ĐK]]+Table1[[#This Row],[Giá Trị HD sau CK]]-Table1[[#This Row],[Số tiền đã thu]] -> 0 | S15: =IF(Table1[[#This Row],[Ngày hóa đơn]]<>"",Table1[[#This Row],[Ngày hóa đơn]],IF(Table1[[#This Row],[Ngày hạch toán]]<>"",Table1[[#This Row],[Ngày hạch toán]],"")) -> 45981 | U15: =IF(Table1[[#This Row],[Ngày tính CN]]="","",S15+T15) -> 45981 | V15: =IF(Table1[[#This Row],[Hạn thanh toán]]="","",IF((U15-NOW())<0,0,(U15-NOW()))) -> 0 | X15: =IF(OR(U15="",R15=0),"",IF((U15-NOW())<0,-(U15-NOW()),0)) | Y15: =IF(R15=0,"Đã thanh toán",IF(X15="","",IF(X15<=0,"Chưa đến hạn thanh toán",IF(X15<=30,"Nợ quá hạn 30 ngày",IF(X15<=60,"Nợ quá hạn từ 30 ngày đến 60 ngày",IF(X15<=90,"Nợ quá hạn từ 60 ngày đến 90 ngày",IF(X15<=120,"Nợ quá hạn từ 90 ngày đến 120 ngày","Nợ quá hạn hơn 120 ngày có khả năng mất thanh toán"))))))) -> Đã thanh toán | Z15: =IF(S15="","",S15) -> 45981 | AA15: =IF(M15="","",M15) -> 46034 | AD15: =VLOOKUP($A15,MA_KH!$A:$Q,MA_KH!O$1,0) -> MEGA | AE15: =VLOOKUP($A15,MA_KH!$A:$Q,MA_KH!P$1,0) -> CÔNG TY TNHH MM MEGA MARKET (VIỆT NAM) | AG15: =(Table1[[#This Row],[Số hóa đơn]])&IF(OR(Table1[[#This Row],[Phân loại]]="Hàng trả",Table1[[#This Row],[Phân loại]]="Giảm công nợ"),-Table1[[#This Row],[Tổng giá trị]],Table1[[#This Row],[Tổng giá trị]]) -> 000785504699912 | AH15: =_xlfn.XLOOKUP(Table1[[#This Row],[Column1]],'Chi tiết tt Mega gửi'!P:P,'Chi tiết tt Mega gửi'!N:N) -> #N/A
... A243: MEGA-HNI-BTL--001 | B243: CHI NHÁNH CÔNG TY TNHH MM MEGA MARKET (VIỆT NAM) TẠI THÀNH PHỐ HÀ NỘI | C243: 46028 | D243: BH00755 | E243: 46034 | F243: 00001960 | G243: 14082737 | H243: 932890 | I243: 0 | J243: 74631 | K243: 1007521 | L243: Bán hàng | M243: 46063 | O243: =IF(Table1[[#This Row],[Phân loại]]="Tồn đầu kỳ",Table1[[#This Row],[Tổng giá trị]],0) -> 0 | P243: =IF(Table1[[#This Row],[Số còn phải thu ĐK]]<>0,0,IF(Table1[[#This Row],[Phân loại]]="Bán hàng",Table1[[#This Row],[Tổng giá trị]],-Table1[[#This Row],[Tổng giá trị]])) -> 1007521 | Q243: =IF(M243<>"",IF(O243<>0,O243,P243),0) -> 1007521 | R243: =Table1[[#This Row],[Số còn phải thu ĐK]]+Table1[[#This Row],[Giá Trị HD sau CK]]-Table1[[#This Row],[Số tiền đã thu]] -> 0 | S243: =IF(Table1[[#This Row],[Ngày hóa đơn]]<>"",Table1[[#This Row],[Ngày hóa đơn]],IF(Table1[[#This Row],[Ngày hạch toán]]<>"",Table1[[#This Row],[Ngày hạch toán]],"")) -> 46034 | U243: =IF(Table1[[#This Row],[Ngày tính CN]]="","",S243+T243) -> 46034 | V243: =IF(Table1[[#This Row],[Hạn thanh toán]]="","",IF((U243-NOW())<0,0,(U243-NOW()))) -> 0 | X243: =IF(OR(U243="",R243=0),"",IF((U243-NOW())<0,-(U243-NOW()),0)) | Y243: =IF(R243=0,"Đã thanh toán",IF(X243="","",IF(X243<=0,"Chưa đến hạn thanh toán",IF(X243<=30,"Nợ quá hạn 30 ngày",IF(X243<=60,"Nợ quá hạn từ 30 ngày đến 60 ngày",IF(X243<=90,"Nợ quá hạn từ 60 ngày đến 90 ngày",IF(X243<=120,"Nợ quá hạn từ 90 ngày đến 120 ngày","Nợ quá hạn hơn 120 ngày có khả năng mất thanh toán"))))))) -> Đã thanh toán | Z243: =IF(S243="","",S243) -> 46034 | AA243: =IF(M243="","",M243) -> 46063 | AD243: =VLOOKUP($A243,MA_KH!$A:$Q,MA_KH!O$1,0) -> MEGA | AE243: =VLOOKUP($A243,MA_KH!$A:$Q,MA_KH!P$1,0) -> CÔNG TY TNHH MM MEGA MARKET (VIỆT NAM) | AG243: =(Table1[[#This Row],[Số hóa đơn]])&IF(OR(Table1[[#This Row],[Phân loại]]="Hàng trả",Table1[[#This Row],[Phân loại]]="Giảm công nợ"),-Table1[[#This Row],[Tổng giá trị]],Table1[[#This Row],[Tổng giá trị]]) -> 000019601007521 | AH243: =_xlfn.XLOOKUP(Table1[[#This Row],[Column1]],'Chi tiết tt Mega gửi'!P:P,'Chi tiết tt Mega gửi'!N:N) -> #N/A
A244: MEGA-NAN-01--013 | B244: CHI NHÁNH CÔNG TY TNHH MM MEGA MARKET ( VIỆT NAM) TẠI TỈNH NGHỆ AN | C244: 46029 | D244: SG/HT126012600274 | E244: 46029 | F244: 2 | G244: Hàng trả - Mega Nghệ An - MEGA-NAN-01--013 | H244: 1248327 | I244: 0 | J244: 99866 | K244: 1348193 | L244: Hàng trả | M244: 46034 | O244: =IF(Table1[[#This Row],[Phân loại]]="Tồn đầu kỳ",Table1[[#This Row],[Tổng giá trị]],0) -> 0 | P244: =IF(Table1[[#This Row],[Số còn phải thu ĐK]]<>0,0,IF(Table1[[#This Row],[Phân loại]]="Bán hàng",Table1[[#This Row],[Tổng giá trị]],-Table1[[#This Row],[Tổng giá trị]])) -> -1348193 | Q244: =IF(M244<>"",IF(O244<>0,O244,P244),0) -> -1348193 | R244: =Table1[[#This Row],[Số còn phải thu ĐK]]+Table1[[#This Row],[Giá Trị HD sau CK]]-Table1[[#This Row],[Số tiền đã thu]] -> 0 | S244: =IF(Table1[[#This Row],[Ngày hóa đơn]]<>"",Table1[[#This Row],[Ngày hóa đơn]],IF(Table1[[#This Row],[Ngày hạch toán]]<>"",Table1[[#This Row],[Ngày hạch toán]],"")) -> 46029 | U244: =IF(Table1[[#This Row],[Ngày tính CN]]="","",S244+T244) -> 46029 | V244: =IF(Table1[[#This Row],[Hạn thanh toán]]="","",IF((U244-NOW())<0,0,(U244-NOW()))) -> 0 | X244: =IF(OR(U244="",R244=0),"",IF((U244-NOW())<0,-(U244-NOW()),0)) | Y244: =IF(R244=0,"Đã thanh toán",IF(X244="","",IF(X244<=0,"Chưa đến hạn thanh toán",IF(X244<=30,"Nợ quá hạn 30 ngày",IF(X244<=60,"Nợ quá hạn từ 30 ngày đến 60 ngày",IF(X244<=90,"Nợ quá hạn từ 60 ngày đến 90 ngày",IF(X244<=120,"Nợ quá hạn từ 90 ngày đến 120 ngày","Nợ quá hạn hơn 120 ngày có khả năng mất thanh toán"))))))) -> Đã thanh toán | Z244: =IF(S244="","",S244) -> 46029 | AA244: =IF(M244="","",M244) -> 46034 | AD244: =VLOOKUP($A244,MA_KH!$A:$Q,MA_KH!O$1,0) -> MEGA | AE244: =VLOOKUP($A244,MA_KH!$A:$Q,MA_KH!P$1,0) -> CÔNG TY TNHH MM MEGA MARKET (VIỆT NAM) | AG244: =(Table1[[#This Row],[Số hóa đơn]])&IF(OR(Table1[[#This Row],[Phân loại]]="Hàng trả",Table1[[#This Row],[Phân loại]]="Giảm công nợ"),-Table1[[#This Row],[Tổng giá trị]],Table1[[#This Row],[Tổng giá trị]]) -> 2-1348193 | AH244: =_xlfn.XLOOKUP(Table1[[#This Row],[Column1]],'Chi tiết tt Mega gửi'!P:P,'Chi tiết tt Mega gửi'!N:N) -> 46034
