Workbook

Sheet Sheet7
A3: Row Labels | B3: Sum of Doanh số bán chưa có thuế GTGT | C3: Sum of Thuế GTGT | D3: Sum of Tổng tiền
A4: CÔNG TY CỔ PHẦN TRUNG TÂM THƯƠNG MẠI LOTTE VIỆT NAM | B4: 26810770 | C4: 2144861 | D4: 28955631 | E4: ='NAM SÀI GÒN'!F35 -> 19496250 | F4: =E4*7.25% -> 1413478.1
A5: CÔNG TY CỔ PHẦN TRUNG TÂM THƯƠNG MẠI LOTTE VIỆT NAM - CHI NHÁNH BA ĐÌNH | B5: 3789700 | C5: 303176 | D5: 4092876 | E5: ='BA ĐÌNH'!F22 -> 2816665 | F5: =E5*7.25% -> 204208.21
A6: CÔNG TY CỔ PHẦN TRUNG TÂM THƯƠNG MẠI LOTTE VIỆT NAM - CHI NHÁNH BÀ RỊA VŨNG TÀU | B6: 2248160 | C6: 179852 | D6: 2428012 | E6: ='VŨNG TÀU'!F25 -> 11530390 | F6: =E6*7.25% -> 835953.27
A7: CÔNG TY CỔ PHẦN TRUNG TÂM THƯƠNG MẠI LOTTE VIỆT NAM - CHI NHÁNH BÌNH DƯƠNG | B7: 7879495 | C7: 630359 | D7: 8509854 | E7: ='BÌNH DƯƠNG'!F24 -> 4041325 | F7: =E7*7.25% -> 292996.06
A8: CÔNG TY CỔ PHẦN TRUNG TÂM THƯƠNG MẠI LOTTE VIỆT NAM - CHI NHÁNH BÌNH THUẬN | B8: 5935252 | C8: 474820 | D8: 6410072 | E8: ='BÌNH THUẬN'!F25 -> 5782605 | F8: =E8*7.25% -> 419238.86
A9: CÔNG TY CỔ PHẦN TRUNG TÂM THƯƠNG MẠI LOTTE VIỆT NAM - CHI NHÁNH CẦN THƠ | B9: 7542480 | C9: 603398 | D9: 8145878 | E9: ='CẦN THƠ'!F23 -> 4708090 | F9: =E9*7.25% -> 341336.52
A10: CÔNG TY CỔ PHẦN TRUNG TÂM THƯƠNG MẠI LOTTE VIỆT NAM - CHI NHÁNH ĐÀ NẴNG | B10: 7932865 | C10: 634628 | D10: 8567493 | E10: ='ĐÀ NẴNG'!F26 -> 11228050 | F10: =E10*7.25% -> 814033.62
A11: CÔNG TY CỔ PHẦN TRUNG TÂM THƯƠNG MẠI LOTTE VIỆT NAM - CHI NHÁNH ĐỒNG NAI | B11: 1714410 | C11: 137153 | D11: 1851563 | E11: ='ĐỒNG NAI'!F23 -> 3276650 | F11: =E11*7.25% -> 237557.12
A12: CÔNG TY CỔ PHẦN TRUNG TÂM THƯƠNG MẠI LOTTE VIỆT NAM - CHI NHÁNH GÒ VẤP | B12: 18243090 | C12: 1459447 | D12: 19702537 | E12: ='GÒ VẤP'!F27 -> 11316985 | F12: =E12*7.25% -> 820481.41
A13: CÔNG TY CỔ PHẦN TRUNG TÂM THƯƠNG MẠI LOTTE VIỆT NAM - CHI NHÁNH NHA TRANG | B13: 11536920 | C13: 922955 | D13: 12459875 | E13: ='NHA TRANG'!F25 -> 9277705 | F13: =E13*7.25% -> 672633.61
A14: CÔNG TY CỔ PHẦN TRUNG TÂM THƯƠNG MẠI LOTTE VIỆT NAM - CHI NHÁNH TÂN BÌNH | B14: 1178385 | C14: 94270 | D14: 1272655 | E14: ='TÂN BÌNH'!F23 -> 1797160 | F14: =E14*7.25% -> 130294.1
A15: CÔNG TY CỔ PHẦN TRUNG TÂM THƯƠNG MẠI LOTTE VIỆT NAM - CHI NHÁNH TÂY HỒ | B15: 10402000 | C15: 832160 | D15: 11234160 | E15: ='TÂY HỒ'!F22 -> 1037750 | F15: =E15*7.25% -> 75236.875
A16: CÔNG TY CỔ PHẦN TRUNG TÂM THƯƠNG MẠI LOTTE VIỆT NAM - CHI NHÁNH VINH | B16: 11129600 | C16: 890368 | D16: 12019968 | E16: =VINH!F22 -> 8214770 | F16: =E16*7.25% -> 595570.82
A17: Grand Total | B17: 116343127 | C17: 9307447 | D17: 125650574
A19: nha trang
A20: Nha Trang Gold Coast
A21: Nha trang
A22: CÔNG TY CỔ PHẦN TRUNG TÂM THƯƠNG MẠI LOTTE VIỆT NAM
A23: Phu Tho | E23: ='PHÚ THỌ'!F23 -> 1709080 | F23: =E23*7.25% -> 123908.3
A24: Nam Sai Gon

Sheet Danh sách CN
A1: Mã khách hàng | B1: Tên khách hàng | C1: Mã số thuế | D1: Địa chỉ
A2: LOTTE-007 | B2: CÔNG TY CỔ PHẦN TRUNG TÂM THƯƠNG MẠI LOTTE VIỆT NAM - CHI NHÁNH CẦN THƠ | C2: 0304741634-007 | D2: 84, Mậu Thân, Phường Cái Khế, Thành phố Cần Thơ, Việt Nam
A3: LOTTE-013 | B3: CÔNG TY CỔ PHẦN TRUNG TÂM THƯƠNG MẠI LOTTE VIỆT NAM - CHI NHÁNH VINH | C3: 0304741634-013 | D3: Đại lộ V.I.Lenin, Khối Yên Sơn, Phường Vinh Phú, Tỉnh Nghệ An, Việt Nam
A4: LOTTE-005 | B4: CÔNG TY CỔ PHẦN TRUNG TÂM THƯƠNG MẠI LOTTE VIỆT NAM - CHI NHÁNH BÀ RỊA VŨNG TÀU | C4: 0304741634-005 | D4: Góc đường 3 tháng 2 và đường Thi Sách, Phường Tam Thắng, TP. Hồ Chí Minh, Việt Nam
A5: LOTTE-002 | B5: CÔNG TY CỔ PHẦN TRUNG TÂM THƯƠNG MẠI LOTTE VIỆT NAM - CHI NHÁNH BÌNH THUẬN | C5: 0304741634-002 | D5: Khu dân cư Hùng Vương I, Phường Phú Thủy, Tỉnh Lâm Đồng, Việt Nam
A6: LOTTE-003 | B6: CÔNG TY CỔ PHẦN TRUNG TÂM THƯƠNG MẠI LOTTE VIỆT NAM - CHI NHÁNH BÌNH DƯƠNG | C6: 0304741634-003 | D6: Khu đô thị The Seasons Bình Dương, Phường Lái Thiêu, TP. Hồ Chí Minh, Việt Nam
A7: LOTTE-001 | B7: CÔNG TY CỔ PHẦN TRUNG TÂM THƯƠNG MẠI LOTTE VIỆT NAM - CHI NHÁNH ĐỒNG NAI | C7: 0304741634-001 | D7: Lô B-03 Khu thương mại Amata, Quốc lộ 1A, Phường Long Bình, Tỉnh Đồng Nai, Việt Nam
A8: LOTTE-009 | B8: CÔNG TY CỔ PHẦN TRUNG TÂM THƯƠNG MẠI LOTTE VIỆT NAM - CHI NHÁNH ĐÀ NẴNG | C8: 0304741634-009 | D8: số 06 đường Nại Nam, Phường Hòa Cường, Thành phố Đà Nẵng, Việt Nam
A9: LOTTE-010 | B9: CÔNG TY CỔ PHẦN TRUNG TÂM THƯƠNG MẠI LOTTE VIỆT NAM - CHI NHÁNH GÒ VẤP | C9: 0304741634-010 | D9: Số 18, Đường Phan Văn Trị, Phường Gò Vấp, Thành phố Hồ Chí Minh, Việt Nam
A10: LOTTE-006 | B10: CÔNG TY CỔ PHẦN TRUNG TÂM THƯƠNG MẠI LOTTE VIỆT NAM - CHI NHÁNH TÂN BÌNH | C10: 0304741634-006 | D10: Số 20, đường Cộng Hòa, Phường Bảy Hiền, Thành phố Hồ Chí Minh, Việt Nam
A11: LOTTE | B11: CÔNG TY CỔ PHẦN TRUNG TÂM THƯƠNG MẠI LOTTE VIỆT NAM | C11: 0304741634 | D11: Số 469, Đường Nguyễn Hữu Thọ, Phường Tân Hưng, Thành phố Hồ Chí Minh, Việt Nam
A12: LOTTE-011 | B12: CÔNG TY CỔ PHẦN TRUNG TÂM THƯƠNG MẠI LOTTE VIỆT NAM - CHI NHÁNH NHA TRANG | C12: 0304741634-011 | D12: Số 58 đường 23/10, Phường Tây Nha Trang, Tỉnh Khánh Hòa, Việt Nam
... A15: LOTTE-004 | B15: CÔNG TY CỔ PHẦN TRUNG TÂM THƯƠNG MẠI LOTTE VIỆT NAM - CHI NHÁNH ĐỐNG ĐA | C15: 0304741634-004 | D15: Tòa nhà Mipec, 229 Tây Sơn, Phường Ngã Tư Sở, Quận Đống đa, Thành phố Hà Nội, Việt Nam

Sheet Detail1
A1: Details for Sum of Tổng tiền - Tên người mua: CÔNG TY CỔ PHẦN TRUNG TÂM THƯƠNG MẠI LOTTE VIỆT NAM
A3: Ngày hóa đơn | B3: Số hóa đơn | C3: Ký hiệu HĐ | D3: Diễn giải | E3: Doanh số bán chưa có thuế GTGT | F3: Thuế GTGT | G3: Tổng tiền | H3: Ngày chứng từ | I3: Số chứng từ | J3: Tên người mua | K3: Mã số thuế người mua
A4: 46140 | B4: 00030180 | C4: 1C26TTN | D4: 260424-01001-00295 | E4: 1131355 | F4: 90508 | G4: 1221863 | H4: 46140 | I4: BH12426 | J4: CÔNG TY CỔ PHẦN TRUNG TÂM THƯƠNG MẠI LOTTE VIỆT NAM | K4: 0304741634
A5: 46113 | B5: 00024261 | C5: 1C26TTN | D5: 260331-01001-00048 - LOTTE NAM SÀI GÒN | E5: 956210 | F5: 76497 | G5: 1032707 | H5: 46113 | I5: BH09715 | J5: CÔNG TY CỔ PHẦN TRUNG TÂM THƯƠNG MẠI LOTTE VIỆT NAM | K5: 0304741634
A6: 46113 | B6: 00024262 | C6: 1C26TTN | D6: 260331-01001-00209 - LOTTE NAM SÀI GÒN | E6: 1190660 | F6: 95253 | G6: 1285913 | H6: 46113 | I6: BH09716 | J6: CÔNG TY CỔ PHẦN TRUNG TÂM THƯƠNG MẠI LOTTE VIỆT NAM | K6: 0304741634
A7: 46113 | B7: 00024263 | C7: 1C26TTN | D7: 260328-01001-00122 - LOTTE NAM SÀI GÒN | E7: 2144100 | F7: 171528 | G7: 2315628 | H7: 46113 | I7: BH09717 | J7: CÔNG TY CỔ PHẦN TRUNG TÂM THƯƠNG MẠI LOTTE VIỆT NAM | K7: 0304741634
A8: 46140 | B8: 00030179 | C8: 1C26TTN | D8: 260425-01001-00229 | E8: 1131355 | F8: 90508 | G8: 1221863 | H8: 46140 | I8: BH12425 | J8: CÔNG TY CỔ PHẦN TRUNG TÂM THƯƠNG MẠI LOTTE VIỆT NAM | K8: 0304741634
A9: 46136 | B9: 00030060 | C9: 1C26TTN | D9: 260423-01001-00260 | E9: 2262710 | F9: 181017 | G9: 2443727 | H9: 46136 | I9: BH12367 | J9: CÔNG TY CỔ PHẦN TRUNG TÂM THƯƠNG MẠI LOTTE VIỆT NAM | K9: 0304741634
A10: 46136 | B10: 00030047 | C10: 1C26TTN | D10: 260423-01002-00121 | E10: 1166110 | F10: 93289 | G10: 1259399 | H10: 46136 | I10: BH12354 | J10: CÔNG TY CỔ PHẦN TRUNG TÂM THƯƠNG MẠI LOTTE VIỆT NAM | K10: 0304741634
A11: 46134 | B11: 00028387 | C11: 1C26TTN | D11: 260421-01002-00011 | E11: 583055 | F11: 46644 | G11: 629699 | H11: 46134 | I11: BH11892 | J11: CÔNG TY CỔ PHẦN TRUNG TÂM THƯƠNG MẠI LOTTE VIỆT NAM | K11: 0304741634
A12: 46130 | B12: 00028229 | C12: 1C26TTN | D12: 260417-01001-00230 - LOTTE NAM SÀI GÒN | E12: 1131355 | F12: 90508 | G12: 1221863 | H12: 46130 | I12: BH11701 | J12: CÔNG TY CỔ PHẦN TRUNG TÂM THƯƠNG MẠI LOTTE VIỆT NAM | K12: 0304741634
A13: 46130 | B13: 00028228 | C13: 1C26TTN | D13: 260416-01001-00270 - LOTTE NAM SÀI GÒN | E13: 1667380 | F13: 133390 | G13: 1800770 | H13: 46130 | I13: BH11700 | J13: CÔNG TY CỔ PHẦN TRUNG TÂM THƯƠNG MẠI LOTTE VIỆT NAM | K13: 0304741634
A14: 46128 | B14: 00027867 | C14: 1C26TTN | D14: 260413-01001-00411 - LOTTE NAM SÀI GÒN | E14: 5597470 | F14: 447798 | G14: 6045268 | H14: 46128 | I14: BH11267 | J14: CÔNG TY CỔ PHẦN TRUNG TÂM THƯƠNG MẠI LOTTE VIỆT NAM | K14: 0304741634
A15: 46128 | B15: 00027866 | C15: 1C26TTN | D15: 260413-01001-00128 - LOTTE NAM SÀI GÒN | E15: 2233610 | F15: 178689 | G15: 2412299 | H15: 46128 | I15: BH11263 | J15: CÔNG TY CỔ PHẦN TRUNG TÂM THƯƠNG MẠI LOTTE VIỆT NAM | K15: 0304741634
... A19: 46121 | B19: 00026071 | C19: 1C26TTN | D19: 260406-01002-00285 - LOTTEMART PHÚ THỌ | E19: 536025 | F19: 42882 | G19: 578907 | H19: 46121 | I19: BH10322 | J19: CÔNG TY CỔ PHẦN TRUNG TÂM THƯƠNG MẠI LOTTE VIỆT NAM | K19: 0304741634

Sheet Detail2
A1: Details for Sum of Tổng tiền - Tên người mua: CÔNG TY CỔ PHẦN TRUNG TÂM THƯƠNG MẠI LOTTE VIỆT NAM - CHI NHÁNH BA ĐÌNH
A3: Ngày hóa đơn | B3: Số hóa đơn | C3: Ký hiệu HĐ | D3: Diễn giải | E3: Doanh số bán chưa có thuế GTGT | F3: Thuế GTGT | G3: Tổng tiền | H3: Ngày chứng từ | I3: Số chứng từ | J3: Tên người mua | K3: Mã số thuế người mua
A4: 46132 | B4: 00028276 | C4: 1C26TTN | D4: Bán hàng CÔNG TY CỔ PHẦN TRUNG TÂM THƯƠNG MẠI LOTTE VIỆT NAM - CHI NHÁNH BA ĐÌNH theo hóa đơn 00028276 | E4: 1667380 | F4: 133390 | G4: 1800770 | H4: 46132 | I4: BH27624 | J4: CÔNG TY CỔ PHẦN TRUNG TÂM THƯƠNG MẠI LOTTE VIỆT NAM - CHI NHÁNH BA ĐÌNH | K4: 0304741634-008
A5: 46125 | B5: 00026411 | C5: 1C26TTN | D5: 260405-01008-00121 | E5: 2122320 | F5: 169786 | G5: 2292106 | H5: 46125 | I5: BH26390 | J5: CÔNG TY CỔ PHẦN TRUNG TÂM THƯƠNG MẠI LOTTE VIỆT NAM - CHI NHÁNH BA ĐÌNH | K5: 0304741634-008

Sheet Detail3
A1: Details for Sum of Tổng tiền - Tên người mua: CÔNG TY CỔ PHẦN TRUNG TÂM THƯƠNG MẠI LOTTE VIỆT NAM - CHI NHÁNH BÀ RỊA VŨNG TÀU
A3: Ngày hóa đơn | B3: Số hóa đơn | C3: Ký hiệu HĐ | D3: Diễn giải | E3: Doanh số bán chưa có thuế GTGT | F3: Thuế GTGT | G3: Tổng tiền | H3: Ngày chứng từ | I3: Số chứng từ | J3: Tên người mua | K3: Mã số thuế người mua
A4: 46128 | B4: 00028122 | C4: 1C26TTN | D4: TC260416-01009-00036 | E4: 1131355 | F4: 90508 | G4: 1221863 | H4: 46129 | I4: BH11314 | J4: CÔNG TY CỔ PHẦN TRUNG TÂM THƯƠNG MẠI LOTTE VIỆT NAM - CHI NHÁNH BÀ RỊA VŨNG TÀU | K4: 0304741634-005
A5: 46126 | B5: 00026465 | C5: 1C26TTN | D5: TC260408-01009-00183 | E5: 1116805 | F5: 89344 | G5: 1206149 | H5: 46126 | I5: BH10883 | J5: CÔNG TY CỔ PHẦN TRUNG TÂM THƯƠNG MẠI LOTTE VIỆT NAM - CHI NHÁNH BÀ RỊA VŨNG TÀU | K5: 0304741634-005

Sheet Detail4
A1: Details for Sum of Tổng tiền - Tên người mua: CÔNG TY CỔ PHẦN TRUNG TÂM THƯƠNG MẠI LOTTE VIỆT NAM - CHI NHÁNH BÌNH DƯƠNG
A3: Ngày hóa đơn | B3: Số hóa đơn | C3: Ký hiệu HĐ | D3: Diễn giải | E3: Doanh số bán chưa có thuế GTGT | F3: Thuế GTGT | G3: Tổng tiền | H3: Ngày chứng từ | I3: Số chứng từ | J3: Tên người mua | K3: Mã số thuế người mua
A4: 46140 | B4: 00030229 | C4: 1C26TTN | D4: 260427-01005-00177 | E4: 1116805 | F4: 89344 | G4: 1206149 | H4: 46140 | I4: BH12447 | J4: CÔNG TY CỔ PHẦN TRUNG TÂM THƯƠNG MẠI LOTTE VIỆT NAM - CHI NHÁNH BÌNH DƯƠNG | K4: 0304741634-003
A5: 46136 | B5: 00030055 | C5: 1C26TTN | D5: 260423-01005-00218 | E5: 1072050 | F5: 85764 | G5: 1157814 | H5: 46136 | I5: BH12362 | J5: CÔNG TY CỔ PHẦN TRUNG TÂM THƯƠNG MẠI LOTTE VIỆT NAM - CHI NHÁNH BÌNH DƯƠNG | K5: 0304741634-003
A6: 46129 | B6: 00028166 | C6: 1C26TTN | D6: 260413-01005-00272 | E6: 1178385 | F6: 94271 | G6: 1272656 | H6: 46129 | I6: BH11382 | J6: CÔNG TY CỔ PHẦN TRUNG TÂM THƯƠNG MẠI LOTTE VIỆT NAM - CHI NHÁNH BÌNH DƯƠNG | K6: 0304741634-003
A7: 46129 | B7: 00028165 | C7: 1C26TTN | D7: 260415-01005-00104 | E7: 1190660 | F7: 95253 | G7: 1285913 | H7: 46129 | I7: BH11379 | J7: CÔNG TY CỔ PHẦN TRUNG TÂM THƯƠNG MẠI LOTTE VIỆT NAM - CHI NHÁNH BÌNH DƯƠNG | K7: 0304741634-003
A8: 46113 | B8: 00024268 | C8: 1C26TTN | D8: 260330-01005-00141 | E8: 536025 | F8: 42882 | G8: 578907 | H8: 46113 | I8: BH09723 | J8: CÔNG TY CỔ PHẦN TRUNG TÂM THƯƠNG MẠI LOTTE VIỆT NAM - CHI NHÁNH BÌNH DƯƠNG | K8: 0304741634-003
A9: 46113 | B9: 00024270 | C9: 1C26TTN | D9: 260328-01005-00038 | E9: 1190660 | F9: 95253 | G9: 1285913 | H9: 46113 | I9: BH09724 | J9: CÔNG TY CỔ PHẦN TRUNG TÂM THƯƠNG MẠI LOTTE VIỆT NAM - CHI NHÁNH BÌNH DƯƠNG | K9: 0304741634-003
A10: 46121 | B10: 00026083 | C10: 1C26TTN | D10: 260406-01005-00115 | E10: 478105 | F10: 38248 | G10: 516353 | H10: 46121 | I10: BH10334 | J10: CÔNG TY CỔ PHẦN TRUNG TÂM THƯƠNG MẠI LOTTE VIỆT NAM - CHI NHÁNH BÌNH DƯƠNG | K10: 0304741634-003
A11: 46121 | B11: 00026082 | C11: 1C26TTN | D11: 260406-01005-00116 | E11: 1116805 | F11: 89344 | G11: 1206149 | H11: 46121 | I11: BH10333 | J11: CÔNG TY CỔ PHẦN TRUNG TÂM THƯƠNG MẠI LOTTE VIỆT NAM - CHI NHÁNH BÌNH DƯƠNG | K11: 0304741634-003

Sheet Detail5
A1: Details for Sum of Tổng tiền - Tên người mua: CÔNG TY CỔ PHẦN TRUNG TÂM THƯƠNG MẠI LOTTE VIỆT NAM - CHI NHÁNH BÌNH THUẬN
A3: Ngày hóa đơn | B3: Số hóa đơn | C3: Ký hiệu HĐ | D3: Diễn giải | E3: Doanh số bán chưa có thuế GTGT | F3: Thuế GTGT | G3: Tổng tiền | H3: Ngày chứng từ | I3: Số chứng từ | J3: Tên người mua | K3: Mã số thuế người mua
A4: 46139 | B4: 772 | C4: 1C26TNF | D4: hàng trả | E4: -764968 | F4: -61197 | G4: -826165 | J4: CÔNG TY CỔ PHẦN TRUNG TÂM THƯƠNG MẠI LOTTE VIỆT NAM - CHI NHÁNH BÌNH THUẬN | K4: 0304741634-002
A5: 46139 | B5: 00030173 | C5: 1C26TTN | D5: TC260423-01006-00015 | E5: 1190660 | F5: 95253 | G5: 1285913 | H5: 46140 | I5: BH12419 | J5: CÔNG TY CỔ PHẦN TRUNG TÂM THƯƠNG MẠI LOTTE VIỆT NAM - CHI NHÁNH BÌNH THUẬN | K5: 0304741634-002
A6: 46126 | B6: 00026466 | C6: 1C26TTN | D6: TC260412-01006-00009 | E6: 595330 | F6: 47626 | G6: 642956 | H6: 46126 | I6: BH10884 | J6: CÔNG TY CỔ PHẦN TRUNG TÂM THƯƠNG MẠI LOTTE VIỆT NAM - CHI NHÁNH BÌNH THUẬN | K6: 0304741634-002
A7: 46118 | B7: 00024942 | C7: 1C26TTN | D7: TC260402-01006-00053 | E7: 1116805 | F7: 89344 | G7: 1206149 | H7: 46119 | I7: BH10170 | J7: CÔNG TY CỔ PHẦN TRUNG TÂM THƯƠNG MẠI LOTTE VIỆT NAM - CHI NHÁNH BÌNH THUẬN | K7: 0304741634-002
A8: 46118 | B8: 00024941 | C8: 1C26TTN | D8: TC260406-01006-00030 | E8: 1489960 | F8: 119197 | G8: 1609157 | H8: 46119 | I8: BH10169 | J8: CÔNG TY CỔ PHẦN TRUNG TÂM THƯƠNG MẠI LOTTE VIỆT NAM - CHI NHÁNH BÌNH THUẬN | K8: 0304741634-002
A9: 46115 | B9: 00024823 | C9: 1C26TTN | D9: TC260402-01006-00013 | E9: 2307465 | F9: 184597 | G9: 2492062 | H9: 46116 | I9: BH10092 | J9: CÔNG TY CỔ PHẦN TRUNG TÂM THƯƠNG MẠI LOTTE VIỆT NAM - CHI NHÁNH BÌNH THUẬN | K9: 0304741634-002

Sheet Detail6
A1: Details for Sum of Tổng tiền - Tên người mua: CÔNG TY CỔ PHẦN TRUNG TÂM THƯƠNG MẠI LOTTE VIỆT NAM - CHI NHÁNH CẦN THƠ
A3: Ngày hóa đơn | B3: Số hóa đơn | C3: Ký hiệu HĐ | D3: Diễn giải | E3: Doanh số bán chưa có thuế GTGT | F3: Thuế GTGT | G3: Tổng tiền | H3: Ngày chứng từ | I3: Số chứng từ | J3: Tên người mua | K3: Mã số thuế người mua
A4: 46134 | B4: 00029586 | C4: 1C26TTN | D4: TC260420-01011-00042 | E4: 2952100 | F4: 236168 | G4: 3188268 | H4: 46135 | I4: BH12115 | J4: CÔNG TY CỔ PHẦN TRUNG TÂM THƯƠNG MẠI LOTTE VIỆT NAM - CHI NHÁNH CẦN THƠ | K4: 0304741634-007
A5: 46127 | B5: 00027846 | C5: 1C26TTN | D5: TC260415-01011-00022 | E5: 1190660 | F5: 95253 | G5: 1285913 | H5: 46128 | I5: BH11178 | J5: CÔNG TY CỔ PHẦN TRUNG TÂM THƯƠNG MẠI LOTTE VIỆT NAM - CHI NHÁNH CẦN THƠ | K5: 0304741634-007
A6: 46120 | B6: 00026040 | C6: 1C26TTN | D6: TC260408-01011-00035 | E6: 1749165 | F6: 139933 | G6: 1889098 | H6: 46121 | I6: BH10291 | J6: CÔNG TY CỔ PHẦN TRUNG TÂM THƯƠNG MẠI LOTTE VIỆT NAM - CHI NHÁNH CẦN THƠ | K6: 0304741634-007
A7: 46118 | B7: 00024943 | C7: 1C26TTN | D7: TC260401-01011-00005 | E7: 1650555 | F7: 132044 | G7: 1782599 | H7: 46119 | I7: BH10171 | J7: CÔNG TY CỔ PHẦN TRUNG TÂM THƯƠNG MẠI LOTTE VIỆT NAM - CHI NHÁNH CẦN THƠ | K7: 0304741634-007

Sheet Detail7
A1: Details for Sum of Tổng tiền - Tên người mua: CÔNG TY CỔ PHẦN TRUNG TÂM THƯƠNG MẠI LOTTE VIỆT NAM - CHI NHÁNH CẦN THƠ
A3: Ngày hóa đơn | B3: Số hóa đơn | C3: Ký hiệu HĐ | D3: Diễn giải | E3: Doanh số bán chưa có thuế GTGT | F3: Thuế GTGT | G3: Tổng tiền | H3: Ngày chứng từ | I3: Số chứng từ | J3: Tên người mua | K3: Mã số thuế người mua
A4: 46134 | B4: 00029586 | C4: 1C26TTN | D4: TC260420-01011-00042 | E4: 2952100 | F4: 236168 | G4: 3188268 | H4: 46135 | I4: BH12115 | J4: CÔNG TY CỔ PHẦN TRUNG TÂM THƯƠNG MẠI LOTTE VIỆT NAM - CHI NHÁNH CẦN THƠ | K4: 0304741634-007
A5: 46127 | B5: 00027846 | C5: 1C26TTN | D5: TC260415-01011-00022 | E5: 1190660 | F5: 95253 | G5: 1285913 | H5: 46128 | I5: BH11178 | J5: CÔNG TY CỔ PHẦN TRUNG TÂM THƯƠNG MẠI LOTTE VIỆT NAM - CHI NHÁNH CẦN THƠ | K5: 0304741634-007
A6: 46120 | B6: 00026040 | C6: 1C26TTN | D6: TC260408-01011-00035 | E6: 1749165 | F6: 139933 | G6: 1889098 | H6: 46121 | I6: BH10291 | J6: CÔNG TY CỔ PHẦN TRUNG TÂM THƯƠNG MẠI LOTTE VIỆT NAM - CHI NHÁNH CẦN THƠ | K6: 0304741634-007
A7: 46118 | B7: 00024943 | C7: 1C26TTN | D7: TC260401-01011-00005 | E7: 1650555 | F7: 132044 | G7: 1782599 | H7: 46119 | I7: BH10171 | J7: CÔNG TY CỔ PHẦN TRUNG TÂM THƯƠNG MẠI LOTTE VIỆT NAM - CHI NHÁNH CẦN THƠ | K7: 0304741634-007

Sheet Báo cáo
A1: BẢNG KÊ HÓA ĐƠN, CHỨNG TỪ HÀNG HÓA, DỊCH VỤ BÁN RA (MẪU QUẢN TRỊ)
A2: Tháng 9 năm 2026
B3: Ngày hóa đơn | C3: Số hóa đơn | D3: Ký hiệu HĐ | E3: Diễn giải | F3: Doanh số bán chưa có thuế GTGT | G3: Thuế GTGT | H3: Tổng tiền | I3: Ngày chứng từ | J3: Số chứng từ | K3: Tên người mua | L3: Mã số thuế người mua
B4: 46268 | C4: 00060774 | D4: 1C26TTN | E4: TC260828-01009-00037 | F4: 3411585 | G4: 272927 | H4: 3684512 | I4: 46268 | J4: BH24507 | K4: CÔNG TY CỔ PHẦN TRUNG TÂM THƯƠNG MẠI LOTTE VIỆT NAM - CHI NHÁNH BÀ RỊA VŨNG TÀU | L4: 0304741634-005
B5: 46268 | C5: 00060754 | D5: 1C26TTN | E5: 260829-01001-00126 | F5: 1653200 | G5: 132256 | H5: 1785456 | I5: 46268 | J5: BH24529 | K5: CÔNG TY CỔ PHẦN TRUNG TÂM THƯƠNG MẠI LOTTE VIỆT NAM | L5: 0304741634
B6: 46268 | C6: 00060751 | D6: 1C26TTN | E6: 260831-01010-00109 | F6: 583055 | G6: 46644 | H6: 629699 | I6: 46268 | J6: BH24528 | K6: CÔNG TY CỔ PHẦN TRUNG TÂM THƯƠNG MẠI LOTTE VIỆT NAM - CHI NHÁNH TÂN BÌNH | L6: 0304741634-006
B7: 46268 | C7: 00060755 | D7: 1C26TTN | E7: 260831-01001-00193 | F7: 1179260 | G7: 94341 | H7: 1273601 | I7: 46268 | J7: BH24530 | K7: CÔNG TY CỔ PHẦN TRUNG TÂM THƯƠNG MẠI LOTTE VIỆT NAM | L7: 0304741634
B8: 46268 | C8: 00060779 | D8: 1C26TTN | E8: 260831-01012-00142 | F8: 1072790 | G8: 85823 | H8: 1158613 | I8: 46268 | J8: BH24539 | K8: CÔNG TY CỔ PHẦN TRUNG TÂM THƯƠNG MẠI LOTTE VIỆT NAM - CHI NHÁNH GÒ VẤP | L8: 0304741634-010
B9: 46268 | C9: 00060773 | D9: 1C26TTN | E9: TC260828-01009-00090 | F9: 1749165 | G9: 139933 | H9: 1889098 | I9: 46268 | J9: BH24506 | K9: CÔNG TY CỔ PHẦN TRUNG TÂM THƯƠNG MẠI LOTTE VIỆT NAM - CHI NHÁNH BÀ RỊA VŨNG TÀU | L9: 0304741634-005
B10: 46269 | C10: 00061244 | D10: 1C26TTN | E10: 260902-01001-00139 | F10: 1072790 | G10: 85823 | H10: 1158613 | I10: 46269 | J10: BH24567 | K10: CÔNG TY CỔ PHẦN TRUNG TÂM THƯƠNG MẠI LOTTE VIỆT NAM | L10: 0304741634
B11: 46269 | C11: 00061243 | D11: 1C26TTN | E11: 260901-01001-00087 | F11: 1166110 | G11: 93289 | H11: 1259399 | I11: 46269 | J11: BH24566 | K11: CÔNG TY CỔ PHẦN TRUNG TÂM THƯƠNG MẠI LOTTE VIỆT NAM | L11: 0304741634
B12: 46269 | C12: 00061245 | D12: 1C26TTN | E12: 260903-01001-00295 | F12: 1116805 | G12: 89344 | H12: 1206149 | I12: 46269 | J12: BH24568 | K12: CÔNG TY CỔ PHẦN TRUNG TÂM THƯƠNG MẠI LOTTE VIỆT NAM | L12: 0304741634
B13: 46270 | C13: 00061611 | D13: 1C26TTN | E13: TC260903-01006-00047 | F13: 1070145 | G13: 85612 | H13: 1155757 | I13: 46270 | J13: BH24753 | K13: CÔNG TY CỔ PHẦN TRUNG TÂM THƯƠNG MẠI LOTTE VIỆT NAM - CHI NHÁNH BÌNH THUẬN | L13: 0304741634-002
B14: 46270 | C14: 00061640 | D14: 1C26TTN | E14: 260831-01005-00109 | F14: 1072790 | G14: 85823 | H14: 1158613 | I14: 46270 | J14: BH24781 | K14: CÔNG TY CỔ PHẦN TRUNG TÂM THƯƠNG MẠI LOTTE VIỆT NAM - CHI NHÁNH BÌNH DƯƠNG | L14: 0304741634-003
B15: 46270 | C15: 00061626 | D15: 1C26TTN | E15: 260903-01012-00060 | F15: 1702505 | G15: 136200 | H15: 1838705 | I15: 46270 | J15: BH24768 | K15: CÔNG TY CỔ PHẦN TRUNG TÂM THƯƠNG MẠI LOTTE VIỆT NAM - CHI NHÁNH GÒ VẤP | L15: 0304741634-010
... B63: 46294 | C63: 00068806 | D63: 1C26TTN | E63: TC260925-01013-00068 | F63: 1262100 | G63: 100968 | H63: 1363068 | I63: 46294 | J63: BH27414 | K63: CÔNG TY CỔ PHẦN TRUNG TÂM THƯƠNG MẠI LOTTE VIỆT NAM - CHI NHÁNH NHA TRANG | L63: 0304741634-011
H65: 96233475
F79: =SUM(F4:F78) -> 96233475 | G79: =SUM(G4:G78) -> 7698676 | H79: =SUM(H4:H78) -> 200165626
B83: 46246 | E83: ĐÃ KIỂM TRA - HÀNG TRẢ - LOTTEMART PHÚ THỌ - PHIẾU: 180726LOTTE940 - NGÀY : 18-07 - LOTTE-HCM-Q11-940 | F83: -1009680 | G83: -80774 | H83: -1090454 | I83: 46221 | J83: 180726LOTTE940 | K83: LOTTEMART PHÚ THỌ | L83: 0304741634

Sheet TÂY HỒ
B1: CÔNG TY TNHH MTV TM & DV | E1: CỘNG HÒA XÃ HỘI CHỦ NGHĨA VIỆT NAM
B2: NGỌC THƠM | E2: Độc lập - Tự do - Hạnh phúc
E4: TP Hồ Chí Minh, ngày 03 tháng 10 năm 2026
A6: BẢNG KÊ HÓA ĐƠN THÁNG 09/2026
A7: Số: 14092026/BKHD/NT-LOTTE
A9: Bên bán hàng: | C9: CÔNG TY TNHH MỘT THÀNH VIÊN THƯƠNG MẠI VÀ DỊCH VỤ NGỌC THƠM
A10: Mã số thuế: | C10: 0309391503
A11: Địa chỉ: | C11: 12/14/18 Đường 49, Khu phố 69, Phường Hiệp Bình, TP. Hồ Chí Minh, Việt Nam
A12: Đại diện: | C12: Nguyễn Bảo Thạch | E12: Chức vụ: Phó Giám đốc
A14: Bên mua hàng: | C14: =+VLOOKUP(J14,'Danh sách CN'!A:D,2,0) -> CÔNG TY CỔ PHẦN TRUNG TÂM THƯƠNG MẠI LOTTE VIỆT NAM - CHI NHÁNH TÂY HỒ | J14: LOTTE-015
A15: Mã số thuế: | C15: =+VLOOKUP(J14,'Danh sách CN'!A:D,3,0) -> 0304741634-015 | J15: LOTTE-HNI-THO-015
A16: Địa chỉ: | C16: =+VLOOKUP(J14,'Danh sách CN'!A:D,4,0) -> Tầng hầm B1, Lotte Mall Hà Nội, Số 272 Võ Chí Công, Phường Tây Hồ, Thành phố Hà Nội, Việt Nam
A17: Đại diện: | E17: Chức vụ:
A19: STT | B19: Số hóa đơn | C19: Ký hiệu | D19: Ngày hóa đơn | E19: Tên khách hàng | F19: Thành tiền trước thuế | G19: Tiền thuế GTGT | H19: Tổng thanh toán
A20: 1 | B20: 00068714 | C20: 1C26TTN | D20: 46290 | E20: CÔNG TY CỔ PHẦN TRUNG TÂM THƯƠNG MẠI LOTTE VIỆT NAM - CHI NHÁNH TÂY HỒ | F20: 1037750 | G20: 83020 | H20: =F20+G20 -> 1120770
H21: =F21+G21 -> 0
A22: Tổng cộng | F22: =SUM(F20:F21) -> 1037750 | G22: =SUM(G20:G21) -> 83020 | H22: =SUM(H20:H21) -> 1120770 | I22: Phí DVBH (5%) | J22: =ROUND(F22*0.05,0) -> 51888
A23: Tổng chiết khấu (tỷ lệ 7.25%) | F23: =ROUND(F22*0.0725,0) -> 75237 | G23: =ROUND(F23*0.08,0) -> 6019 | H23: =F23+G23 -> 81256 | I23: Phí HĐDTSP(1.5%) | J23: =ROUND(F22*0.015,0) -> 15566
I24: Phí vi phạm giao hàng trễ (8%)
A25: Bảng kê được lập thành 02 bản, có giá trị như nhau, mỗi bên giữ 01 bản
B27: ĐẠI DIỆN MUA HÀNG | F27: ĐẠI DIỆN BÁN HÀNG
B28: (Ký điện tử/ký, đóng dấu và ghi rõ họ tên) | F28: (Ký điện tử/ký, đóng dấu và ghi rõ họ tên)

Sheet VINH
B1: CÔNG TY TNHH MTV TM & DV | E1: CỘNG HÒA XÃ HỘI CHỦ NGHĨA VIỆT NAM
B2: NGỌC THƠM | E2: Độc lập - Tự do - Hạnh phúc
E4: TP Hồ Chí Minh, ngày 03 tháng 10 năm 2026
A6: BẢNG KÊ HÓA ĐƠN THÁNG 09/2026
A7: Số: 13092026/BKHD/NT-LOTTE
A9: Bên bán hàng: | C9: CÔNG TY TNHH MỘT THÀNH VIÊN THƯƠNG MẠI VÀ DỊCH VỤ NGỌC THƠM
A10: Mã số thuế: | C10: 0309391503
A11: Địa chỉ: | C11: 12/14/18 Đường 49, Khu phố 69, Phường Hiệp Bình, TP. Hồ Chí Minh, Việt Nam
A12: Đại diện: | C12: Nguyễn Bảo Thạch | E12: Chức vụ: Phó Giám đốc
A14: Bên mua hàng: | C14: =+VLOOKUP(J14,'Danh sách CN'!A:D,2,0) -> CÔNG TY CỔ PHẦN TRUNG TÂM THƯƠNG MẠI LOTTE VIỆT NAM - CHI NHÁNH VINH | J14: LOTTE-013
A15: Mã số thuế: | C15: =+VLOOKUP(J14,'Danh sách CN'!A:D,3,0) -> 0304741634-013 | J15: LOTTE-NAN-01-013
A16: Địa chỉ: | C16: =+VLOOKUP(J14,'Danh sách CN'!A:D,4,0) -> Đại lộ V.I.Lenin, Khối Yên Sơn, Phường Vinh Phú, Tỉnh Nghệ An, Việt Nam
A17: Đại diện: | E17: Chức vụ:
A19: STT | B19: Số hóa đơn | C19: Ký hiệu | D19: Ngày hóa đơn | E19: Tên khách hàng | F19: Thành tiền trước thuế | G19: Tiền thuế GTGT | H19: Tổng thanh toán
A20: 1 | B20: 00061726 | C20: 1C26TTN | D20: 46273 | E20: CÔNG TY CỔ PHẦN TRUNG TÂM THƯƠNG MẠI LOTTE VIỆT NAM - CHI NHÁNH VINH | F20: 4524460 | G20: 361957 | H20: =F20+G20 -> 4886417
A21: 2 | B21: 00066562 | C21: 1C26TTN | D21: 46287 | E21: CÔNG TY CỔ PHẦN TRUNG TÂM THƯƠNG MẠI LOTTE VIỆT NAM - CHI NHÁNH VINH | F21: 3690310 | G21: 295225 | H21: =F21+G21 -> 3985535
A22: Tổng cộng | F22: =SUM(F20:F21) -> 8214770 | G22: =SUM(G20:G21) -> 657182 | H22: =SUM(H20:H21) -> 8871952 | I22: Phí DVBH (5%) | J22: =ROUND(F22*0.05,0) -> 410739
A23: Tổng chiết khấu (tỷ lệ 7.25%) | F23: =ROUND(F22*0.0725,0) -> 595571 | G23: =ROUND(F23*0.08,0) -> 47646 | H23: =F23+G23 -> 643217 | I23: Phí HĐDTSP(1.5%) | J23: =ROUND(F22*0.015,0) -> 123222
I24: Phí vi phạm giao hàng trễ (8%)
A25: Bảng kê được lập thành 02 bản, có giá trị như nhau, mỗi bên giữ 01 bản
B27: ĐẠI DIỆN MUA HÀNG | F27: ĐẠI DIỆN BÁN HÀNG
B28: (Ký điện tử/ký, đóng dấu và ghi rõ họ tên) | F28: (Ký điện tử/ký, đóng dấu và ghi rõ họ tên)

Sheet NHA TRANG
B1: CÔNG TY TNHH MTV TM & DV | E1: CỘNG HÒA XÃ HỘI CHỦ NGHĨA VIỆT NAM
B2: NGỌC THƠM | E2: Độc lập - Tự do - Hạnh phúc
E4: TP Hồ Chí Minh, ngày 03 tháng 10 năm 2026
A6: BẢNG KÊ HÓA ĐƠN THÁNG 09/2026
A7: Số: 12092026/BKHD/NT-LOTTE
A9: Bên bán hàng: | C9: CÔNG TY TNHH MỘT THÀNH VIÊN THƯƠNG MẠI VÀ DỊCH VỤ NGỌC THƠM
A10: Mã số thuế: | C10: 0309391503
A11: Địa chỉ: | C11: 12/14/18 Đường 49, Khu phố 69, Phường Hiệp Bình, TP. Hồ Chí Minh, Việt Nam
A12: Đại diện: | C12: Nguyễn Bảo Thạch | E12: Chức vụ: Phó Giám đốc
A14: Bên mua hàng: | C14: =+VLOOKUP(J14,'Danh sách CN'!A:D,2,0) -> CÔNG TY CỔ PHẦN TRUNG TÂM THƯƠNG MẠI LOTTE VIỆT NAM - CHI NHÁNH NHA TRANG | J14: LOTTE-011
A15: Mã số thuế: | C15: =+VLOOKUP(J14,'Danh sách CN'!A:D,3,0) -> 0304741634-011 | J15: LOTTE-KHA-00-011
A16: Địa chỉ: | C16: =+VLOOKUP(J14,'Danh sách CN'!A:D,4,0) -> Số 58 đường 23/10, Phường Tây Nha Trang, Tỉnh Khánh Hòa, Việt Nam
A17: Đại diện: | E17: Chức vụ:
A19: STT | B19: Số hóa đơn | C19: Ký hiệu | D19: Ngày hóa đơn | E19: Tên khách hàng | F19: Thành tiền trước thuế | G19: Tiền thuế GTGT | H19: Tổng thanh toán
A20: 1 | B20: 00062838 | C20: 1C26TTN | D20: 46275 | E20: CÔNG TY CỔ PHẦN TRUNG TÂM THƯƠNG MẠI LOTTE VIỆT NAM - CHI NHÁNH NHA TRANG | F20: 1797160 | G20: 143773 | H20: =F20+G20 -> 1940933
A21: 2 | B21: 00063578 | C21: 1C26TTN | D21: 46280 | E21: CÔNG TY CỔ PHẦN TRUNG TÂM THƯƠNG MẠI LOTTE VIỆT NAM - CHI NHÁNH NHA TRANG | F21: 1795850 | G21: 143668 | H21: =F21+G21 -> 1939518
A22: 3 | B22: 00065156 | C22: 1C26TTN | D22: 46282 | E22: CÔNG TY CỔ PHẦN TRUNG TÂM THƯƠNG MẠI LOTTE VIỆT NAM - CHI NHÁNH NHA TRANG | F22: 2203860 | G22: 176309 | H22: =F22+G22 -> 2380169
A23: 4 | B23: 00066563 | C23: 1C26TTN | D23: 46287 | E23: CÔNG TY CỔ PHẦN TRUNG TÂM THƯƠNG MẠI LOTTE VIỆT NAM - CHI NHÁNH NHA TRANG | F23: 2218735 | G23: 177499 | H23: =F23+G23 -> 2396234
A24: 5 | B24: 00068806 | C24: 1C26TTN | D24: 46294 | E24: CÔNG TY CỔ PHẦN TRUNG TÂM THƯƠNG MẠI LOTTE VIỆT NAM - CHI NHÁNH NHA TRANG | F24: 1262100 | G24: 100968 | H24: =F24+G24 -> 1363068
A25: Tổng cộng | F25: =SUM(F20:F24) -> 9277705 | G25: =SUM(G20:G24) -> 742217 | H25: =SUM(H20:H24) -> 10019922 | I25: Phí DVBH (5%) | J25: =ROUND(F25*0.05,0) -> 463885
A26: Tổng chiết khấu (tỷ lệ 7.25%) | F26: =ROUND(F25*0.0725,0) -> 672634 | G26: =ROUND(F26*0.08,0) -> 53811 | H26: =F26+G26 -> 726445 | I26: Phí HĐDTSP(1.5%) | J26: =ROUND(F25*0.015,0) -> 139166
I27: Phí vi phạm giao hàng trễ (8%)
A28: Bảng kê được lập thành 02 bản, có giá trị như nhau, mỗi bên giữ 01 bản
B30: ĐẠI DIỆN MUA HÀNG | F30: ĐẠI DIỆN BÁN HÀNG
B31: (Ký điện tử/ký, đóng dấu và ghi rõ họ tên) | F31: (Ký điện tử/ký, đóng dấu và ghi rõ họ tên)

Sheet GÒ VẤP
B1: CÔNG TY TNHH MTV TM & DV | E1: CỘNG HÒA XÃ HỘI CHỦ NGHĨA VIỆT NAM
B2: NGỌC THƠM | E2: Độc lập - Tự do - Hạnh phúc
E4: TP Hồ Chí Minh, ngày 03 tháng 10 năm 2026
A6: BẢNG KÊ HÓA ĐƠN THÁNG 09/2026
A7: Số: 11092026/BKHD/NT-LOTTE
A9: Bên bán hàng: | C9: CÔNG TY TNHH MỘT THÀNH VIÊN THƯƠNG MẠI VÀ DỊCH VỤ NGỌC THƠM
A10: Mã số thuế: | C10: 0309391503
A11: Địa chỉ: | C11: 12/14/18 Đường 49, Khu phố 69, Phường Hiệp Bình, TP. Hồ Chí Minh, Việt Nam
A12: Đại diện: | C12: Nguyễn Bảo Thạch | E12: Chức vụ: Phó Giám đốc
A14: Bên mua hàng: | C14: =+VLOOKUP(J14,'Danh sách CN'!A:D,2,0) -> CÔNG TY CỔ PHẦN TRUNG TÂM THƯƠNG MẠI LOTTE VIỆT NAM - CHI NHÁNH GÒ VẤP | J14: LOTTE-010
A15: Mã số thuế: | C15: =+VLOOKUP(J14,'Danh sách CN'!A:D,3,0) -> 0304741634-010 | J15: LOTTE-HCM-GVP-010
A16: Địa chỉ: | C16: =+VLOOKUP(J14,'Danh sách CN'!A:D,4,0) -> Số 18, Đường Phan Văn Trị, Phường Gò Vấp, Thành phố Hồ Chí Minh, Việt Nam
A17: Đại diện: | E17: Chức vụ:
A19: STT | B19: Số hóa đơn | C19: Ký hiệu | D19: Ngày hóa đơn | E19: Tên khách hàng | F19: Thành tiền trước thuế | G19: Tiền thuế GTGT | H19: Tổng thanh toán
A20: 1 | B20: 00060779 | C20: 1C26TTN | D20: 46268 | E20: CÔNG TY CỔ PHẦN TRUNG TÂM THƯƠNG MẠI LOTTE VIỆT NAM - CHI NHÁNH GÒ VẤP | F20: 1072790 | G20: 85823 | H20: =F20+G20 -> 1158613
A21: 2 | B21: 00061626 | C21: 1C26TTN | D21: 46270 | E21: CÔNG TY CỔ PHẦN TRUNG TÂM THƯƠNG MẠI LOTTE VIỆT NAM - CHI NHÁNH GÒ VẤP | F21: 1702505 | G21: 136200 | H21: =F21+G21 -> 1838705
A22: 3 | B22: 00061625 | C22: 1C26TTN | D22: 46270 | E22: CÔNG TY CỔ PHẦN TRUNG TÂM THƯƠNG MẠI LOTTE VIỆT NAM - CHI NHÁNH GÒ VẤP | F22: 3311690 | G22: 264935 | H22: =F22+G22 -> 3576625
A23: 4 | B23: 00063428 | C23: 1C26TTN | D23: 46276 | E23: CÔNG TY CỔ PHẦN TRUNG TÂM THƯƠNG MẠI LOTTE VIỆT NAM - CHI NHÁNH GÒ VẤP | F23: 583055 | G23: 46644 | H23: =F23+G23 -> 629699
A24: 5 | B24: 00065221 | C24: 1C26TTN | D24: 46283 | E24: CÔNG TY CỔ PHẦN TRUNG TÂM THƯƠNG MẠI LOTTE VIỆT NAM - CHI NHÁNH GÒ VẤP | F24: 1262100 | G24: 100968 | H24: =F24+G24 -> 1363068
A25: 6 | B25: 00066973 | C25: 1C26TTN | D25: 46288 | E25: CÔNG TY CỔ PHẦN TRUNG TÂM THƯƠNG MẠI LOTTE VIỆT NAM - CHI NHÁNH GÒ VẤP | F25: 2218735 | G25: 177499 | H25: =F25+G25 -> 2396234
A26: 7 | B26: 00066969 | C26: 1C26TTN | D26: 46288 | E26: CÔNG TY CỔ PHẦN TRUNG TÂM THƯƠNG MẠI LOTTE VIỆT NAM - CHI NHÁNH GÒ VẤP | F26: 1166110 | G26: 93289 | H26: =F26+G26 -> 1259399
A27: Tổng cộng | F27: =SUM(F20:F26) -> 11316985 | G27: =SUM(G20:G26) -> 905358 | H27: =SUM(H20:H26) -> 12222343 | I27: Phí DVBH (5%) | J27: =ROUND(F27*0.05,0) -> 565849
A28: Tổng chiết khấu (tỷ lệ 7.25%) | F28: =ROUND(F27*0.0725,0) -> 820481 | G28: =ROUND(F28*0.08,0) -> 65638 | H28: =F28+G28 -> 886119 | I28: Phí HĐDTSP(1.5%) | J28: =ROUND(F27*0.015,0) -> 169755
I29: Phí vi phạm giao hàng trễ (8%)
A30: Bảng kê được lập thành 02 bản, có giá trị như nhau, mỗi bên giữ 01 bản
B32: ĐẠI DIỆN MUA HÀNG | F32: ĐẠI DIỆN BÁN HÀNG
B33: (Ký điện tử/ký, đóng dấu và ghi rõ họ tên) | F33: (Ký điện tử/ký, đóng dấu và ghi rõ họ tên)

Sheet CẦN THƠ
B1: CÔNG TY TNHH MTV TM & DV | E1: CỘNG HÒA XÃ HỘI CHỦ NGHĨA VIỆT NAM
B2: NGỌC THƠM | E2: Độc lập - Tự do - Hạnh phúc
E4: TP Hồ Chí Minh, ngày 03 tháng 10 năm 2026
A6: BẢNG KÊ HÓA ĐƠN THÁNG 09/2026
A7: Số: 10092026/BKHD/NT-LOTTE
A9: Bên bán hàng: | C9: CÔNG TY TNHH MỘT THÀNH VIÊN THƯƠNG MẠI VÀ DỊCH VỤ NGỌC THƠM
A10: Mã số thuế: | C10: 0309391503
A11: Địa chỉ: | C11: 12/14/18 Đường 49, Khu phố 69, Phường Hiệp Bình, TP. Hồ Chí Minh, Việt Nam
A12: Đại diện: | C12: Nguyễn Bảo Thạch | E12: Chức vụ: Phó Giám đốc
A14: Bên mua hàng: | C14: =+VLOOKUP(J14,'Danh sách CN'!A:D,2,0) -> CÔNG TY CỔ PHẦN TRUNG TÂM THƯƠNG MẠI LOTTE VIỆT NAM - CHI NHÁNH CẦN THƠ | J14: LOTTE-007
A15: Mã số thuế: | C15: =+VLOOKUP(J14,'Danh sách CN'!A:D,3,0) -> 0304741634-007 | J15: LOTTE-CTO-00-007
A16: Địa chỉ: | C16: =+VLOOKUP(J14,'Danh sách CN'!A:D,4,0) -> 84, Mậu Thân, Phường Cái Khế, Thành phố Cần Thơ, Việt Nam
A17: Đại diện: | E17: Chức vụ:
A19: STT | B19: Số hóa đơn | C19: Ký hiệu | D19: Ngày hóa đơn | E19: Tên khách hàng | F19: Thành tiền trước thuế | G19: Tiền thuế GTGT | H19: Tổng thanh toán
A20: 1 | B20: 00061727 | C20: 1C26TTN | D20: 46273 | E20: CÔNG TY CỔ PHẦN TRUNG TÂM THƯƠNG MẠI LOTTE VIỆT NAM - CHI NHÁNH CẦN THƠ | F20: 1713010 | G20: 137041 | H20: =F20+G20 -> 1850051
A21: 2 | B21: 00063577 | C21: 1C26TTN | D21: 46280 | E21: CÔNG TY CỔ PHẦN TRUNG TÂM THƯƠNG MẠI LOTTE VIỆT NAM - CHI NHÁNH CẦN THƠ | F21: 1149925 | G21: 91994 | H21: =F21+G21 -> 1241919
A22: 3 | B22: 00068807 | C22: 1C26TTN | D22: 46294 | E22: CÔNG TY CỔ PHẦN TRUNG TÂM THƯƠNG MẠI LOTTE VIỆT NAM - CHI NHÁNH CẦN THƠ | F22: 1845155 | G22: 147612 | H22: =F22+G22 -> 1992767
A23: Tổng cộng | F23: =SUM(F20:F22) -> 4708090 | G23: =SUM(G20:G22) -> 376647 | H23: =SUM(H20:H22) -> 5084737 | I23: Phí DVBH (5%) | J23: =ROUND(F23*0.05,0) -> 235405
A24: Tổng chiết khấu (tỷ lệ 7.25%) | F24: =ROUND(F23*0.0725,0) -> 341337 | G24: =ROUND(F24*0.08,0) -> 27307 | H24: =F24+G24 -> 368644 | I24: Phí HĐDTSP(1.5%) | J24: =ROUND(F23*0.015,0) -> 70621
I25: Phí vi phạm giao hàng trễ (8%)
A26: Bảng kê được lập thành 02 bản, có giá trị như nhau, mỗi bên giữ 01 bản
B28: ĐẠI DIỆN MUA HÀNG | F28: ĐẠI DIỆN BÁN HÀNG
B29: (Ký điện tử/ký, đóng dấu và ghi rõ họ tên) | F29: (Ký điện tử/ký, đóng dấu và ghi rõ họ tên)

Sheet TÂN BÌNH
B1: CÔNG TY TNHH MTV TM & DV | E1: CỘNG HÒA XÃ HỘI CHỦ NGHĨA VIỆT NAM
B2: NGỌC THƠM | E2: Độc lập - Tự do - Hạnh phúc
E4: TP Hồ Chí Minh, ngày 03 tháng 10 năm 2026
A6: BẢNG KÊ HÓA ĐƠN THÁNG 09/2026
A7: Số: 09092026/BKHD/NT-LOTTE
A9: Bên bán hàng: | C9: CÔNG TY TNHH MỘT THÀNH VIÊN THƯƠNG MẠI VÀ DỊCH VỤ NGỌC THƠM
A10: Mã số thuế: | C10: 0309391503
A11: Địa chỉ: | C11: 12/14/18 Đường 49, Khu phố 69, Phường Hiệp Bình, TP. Hồ Chí Minh, Việt Nam
A12: Đại diện: | C12: Nguyễn Bảo Thạch | E12: Chức vụ: Phó Giám đốc
A14: Bên mua hàng: | C14: =+VLOOKUP(J14,'Danh sách CN'!A:D,2,0) -> CÔNG TY CỔ PHẦN TRUNG TÂM THƯƠNG MẠI LOTTE VIỆT NAM - CHI NHÁNH TÂN BÌNH | J14: LOTTE-006
A15: Mã số thuế: | C15: =+VLOOKUP(J14,'Danh sách CN'!A:D,3,0) -> 0304741634-006 | J15: LOTTE-HCM-TBH-006
A16: Địa chỉ: | C16: =+VLOOKUP(J14,'Danh sách CN'!A:D,4,0) -> Số 20, đường Cộng Hòa, Phường Bảy Hiền, Thành phố Hồ Chí Minh, Việt Nam
A17: Đại diện: | E17: Chức vụ:
A19: STT | B19: Số hóa đơn | C19: Ký hiệu | D19: Ngày hóa đơn | E19: Tên khách hàng | F19: Thành tiền trước thuế | G19: Tiền thuế GTGT | H19: Tổng thanh toán
A20: 1 | B20: 00060751 | C20: 1C26TTN | D20: 46268 | E20: CÔNG TY CỔ PHẦN TRUNG TÂM THƯƠNG MẠI LOTTE VIỆT NAM - CHI NHÁNH TÂN BÌNH | F20: 583055 | G20: 46644 | H20: =F20+G20 -> 629699
A21: 2 | B21: 00065215 | C21: 1C26TTN | D21: 46283 | E21: CÔNG TY CỔ PHẦN TRUNG TÂM THƯƠNG MẠI LOTTE VIỆT NAM - CHI NHÁNH TÂN BÌNH | F21: 583055 | G21: 46644 | H21: =F21+G21 -> 629699
A22: 3 | B22: 00065214 | C22: 1C26TTN | D22: 46283 | E22: CÔNG TY CỔ PHẦN TRUNG TÂM THƯƠNG MẠI LOTTE VIỆT NAM - CHI NHÁNH TÂN BÌNH | F22: 631050 | G22: 50484 | H22: =F22+G22 -> 681534
A23: Tổng cộng | F23: =SUM(F20:F22) -> 1797160 | G23: =SUM(G20:G22) -> 143772 | H23: =SUM(H20:H22) -> 1940932 | I23: Phí DVBH (5%) | J23: =ROUND(F23*0.05,0) -> 89858
A24: Tổng chiết khấu (tỷ lệ 7.25%) | F24: =ROUND(F23*0.0725,0) -> 130294 | G24: =ROUND(F24*0.08,0) -> 10424 | H24: =F24+G24 -> 140718 | I24: Phí HĐDTSP(1.5%) | J24: =ROUND(F23*0.015,0) -> 26957
I25: Phí vi phạm giao hàng trễ (8%)
A26: Bảng kê được lập thành 02 bản, có giá trị như nhau, mỗi bên giữ 01 bản
B28: ĐẠI DIỆN MUA HÀNG | F28: ĐẠI DIỆN BÁN HÀNG
B29: (Ký điện tử/ký, đóng dấu và ghi rõ họ tên) | F29: (Ký điện tử/ký, đóng dấu và ghi rõ họ tên)

Sheet VŨNG TÀU
B1: CÔNG TY TNHH MTV TM & DV | E1: CỘNG HÒA XÃ HỘI CHỦ NGHĨA VIỆT NAM
B2: NGỌC THƠM | E2: Độc lập - Tự do - Hạnh phúc
E4: TP Hồ Chí Minh, ngày 03 tháng10 năm 2026
A6: BẢNG KÊ HÓA ĐƠN THÁNG 09/2026
A7: Số: 08092026/BKHD/NT-LOTTE
A9: Bên bán hàng: | C9: CÔNG TY TNHH MỘT THÀNH VIÊN THƯƠNG MẠI VÀ DỊCH VỤ NGỌC THƠM
A10: Mã số thuế: | C10: 0309391503
A11: Địa chỉ: | C11: 12/14/18 Đường 49, Khu phố 69, Phường Hiệp Bình, TP. Hồ Chí Minh, Việt Nam
A12: Đại diện: | C12: Nguyễn Bảo Thạch | E12: Chức vụ: Phó Giám đốc
A14: Bên mua hàng: | C14: =+VLOOKUP(J14,'Danh sách CN'!A:D,2,0) -> CÔNG TY CỔ PHẦN TRUNG TÂM THƯƠNG MẠI LOTTE VIỆT NAM - CHI NHÁNH BÀ RỊA VŨNG TÀU | J14: LOTTE-005
A15: Mã số thuế: | C15: =+VLOOKUP(J14,'Danh sách CN'!A:D,3,0) -> 0304741634-005 | J15: LOTTE-VTU-00-005
A16: Địa chỉ: | C16: =+VLOOKUP(J14,'Danh sách CN'!A:D,4,0) -> Góc đường 3 tháng 2 và đường Thi Sách, Phường Tam Thắng, TP. Hồ Chí Minh, Việt Nam
A17: Đại diện: | E17: Chức vụ:
A19: STT | B19: Số hóa đơn | C19: Ký hiệu | D19: Ngày hóa đơn | E19: Tên khách hàng | F19: Thành tiền trước thuế | G19: Tiền thuế GTGT | H19: Tổng thanh toán
A20: 1 | B20: 00060774 | C20: 1C26TTN | D20: 46268 | E20: CÔNG TY CỔ PHẦN TRUNG TÂM THƯƠNG MẠI LOTTE VIỆT NAM - CHI NHÁNH BÀ RỊA VŨNG TÀU | F20: 3411585 | G20: 272927 | H20: =F20+G20 -> 3684512
A21: 2 | B21: 00060773 | C21: 1C26TTN | D21: 46268 | E21: CÔNG TY CỔ PHẦN TRUNG TÂM THƯƠNG MẠI LOTTE VIỆT NAM - CHI NHÁNH BÀ RỊA VŨNG TÀU | F21: 1749165 | G21: 139933 | H21: =F21+G21 -> 1889098
A22: 3 | B22: 00061724 | C22: 1C26TTN | D22: 46273 | E22: CÔNG TY CỔ PHẦN TRUNG TÂM THƯƠNG MẠI LOTTE VIỆT NAM - CHI NHÁNH BÀ RỊA VŨNG TÀU | F22: 2145580 | G22: 171646 | H22: =F22+G22 -> 2317226
A23: 4 | B23: 00061723 | C23: 1C26TTN | D23: 46273 | E23: CÔNG TY CỔ PHẦN TRUNG TÂM THƯƠNG MẠI LOTTE VIỆT NAM - CHI NHÁNH BÀ RỊA VŨNG TÀU | F23: 1699860 | G23: 135989 | H23: =F23+G23 -> 1835849
A24: 5 | B24: 00066556 | C24: 1C26TTN | D24: 46287 | E24: CÔNG TY CỔ PHẦN TRUNG TÂM THƯƠNG MẠI LOTTE VIỆT NAM - CHI NHÁNH BÀ RỊA VŨNG TÀU | F24: 2524200 | G24: 201936 | H24: =F24+G24 -> 2726136
A25: Tổng cộng | F25: =SUM(F20:F24) -> 11530390 | G25: =SUM(G20:G24) -> 922431 | H25: =SUM(H20:H24) -> 12452821 | I25: Phí DVBH (5%) | J25: =ROUND(F25*0.05,0) -> 576520
A26: Tổng chiết khấu (tỷ lệ 7.25%) | F26: =ROUND(F25*0.0725,0) -> 835953 | G26: =ROUND(F26*0.08,0) -> 66876 | H26: =F26+G26 -> 902829 | I26: Phí HĐDTSP(1.5%) | J26: =ROUND(F25*0.015,0) -> 172956
I27: Phí vi phạm giao hàng trễ (8%)
A28: Bảng kê được lập thành 02 bản, có giá trị như nhau, mỗi bên giữ 01 bản
B30: ĐẠI DIỆN MUA HÀNG | F30: ĐẠI DIỆN BÁN HÀNG
B31: (Ký điện tử/ký, đóng dấu và ghi rõ họ tên) | F31: (Ký điện tử/ký, đóng dấu và ghi rõ họ tên)

Sheet BA ĐÌNH
B1: CÔNG TY TNHH MTV TM & DV | E1: CỘNG HÒA XÃ HỘI CHỦ NGHĨA VIỆT NAM
B2: NGỌC THƠM | E2: Độc lập - Tự do - Hạnh phúc
E4: TP Hồ Chí Minh, ngày 03 tháng 10 năm 2026
A6: BẢNG KÊ HÓA ĐƠN THÁNG 09/2026
A7: Số: 07092026/BKHD/NT-LOTTE
A9: Bên bán hàng: | C9: CÔNG TY TNHH MỘT THÀNH VIÊN THƯƠNG MẠI VÀ DỊCH VỤ NGỌC THƠM
A10: Mã số thuế: | C10: 0309391503
A11: Địa chỉ: | C11: 12/14/18 Đường 49, Khu phố 69, Phường Hiệp Bình, TP. Hồ Chí Minh, Việt Nam
A12: Đại diện: | C12: Nguyễn Bảo Thạch | E12: Chức vụ: Phó Giám đốc
A14: Bên mua hàng: | C14: =+VLOOKUP(J14,'Danh sách CN'!A:D,2,0) -> CÔNG TY CỔ PHẦN TRUNG TÂM THƯƠNG MẠI LOTTE VIỆT NAM - CHI NHÁNH BA ĐÌNH | J14: LOTTE-008
A15: Mã số thuế: | C15: =+VLOOKUP(J14,'Danh sách CN'!A:D,3,0) -> 0304741634-008 | J15: LOTTE-HNI-BDH-008
A16: Địa chỉ: | C16: =+VLOOKUP(J14,'Danh sách CN'!A:D,4,0) -> Tầng hầm 1 (B1), Trung tâm Lotte Hà Nội, số 54, đường Liễu Giai, Phường Giảng Võ, Thành phố Hà Nội, Việt Nam
A17: Đại diện: | E17: Chức vụ:
A19: STT | B19: Số hóa đơn | C19: Ký hiệu | D19: Ngày hóa đơn | E19: Tên khách hàng | F19: Thành tiền trước thuế | G19: Tiền thuế GTGT | H19: Tổng thanh toán
A20: 1 | B20: 00063442 | C20: 1C26TTN | D20: 46276 | E20: CÔNG TY CỔ PHẦN TRUNG TÂM THƯƠNG MẠI LOTTE VIỆT NAM - CHI NHÁNH BA ĐÌNH | F20: 1650555 | G20: 132044 | H20: =F20+G20 -> 1782599
A21: 2 | B21: 00063602 | C21: 1C26TTN | D21: 46279 | E21: CÔNG TY CỔ PHẦN TRUNG TÂM THƯƠNG MẠI LOTTE VIỆT NAM - CHI NHÁNH BA ĐÌNH | F21: 1166110 | G21: 93289 | H21: =F21+G21 -> 1259399
A22: Tổng cộng | F22: =SUM(F20:F21) -> 2816665 | G22: =SUM(G20:G21) -> 225333 | H22: =SUM(H20:H21) -> 3041998 | I22: Phí DVBH (5%) | J22: =ROUND(F22*0.05,0) -> 140833
A23: Tổng chiết khấu (tỷ lệ 7.25%) | F23: =ROUND(F22*0.0725,0) -> 204208 | G23: =ROUND(F23*0.08,0) -> 16337 | H23: =F23+G23 -> 220545 | I23: Phí HĐDTSP(1.5%) | J23: =ROUND(F22*0.015,0) -> 42250
I24: Phí vi phạm giao hàng trễ (8%)
A25: Bảng kê được lập thành 02 bản, có giá trị như nhau, mỗi bên giữ 01 bản
B27: ĐẠI DIỆN MUA HÀNG | F27: ĐẠI DIỆN BÁN HÀNG
B28: (Ký điện tử/ký, đóng dấu và ghi rõ họ tên) | F28: (Ký điện tử/ký, đóng dấu và ghi rõ họ tên)

Sheet BÌNH THUẬN
B1: CÔNG TY TNHH MTV TM & DV | E1: CỘNG HÒA XÃ HỘI CHỦ NGHĨA VIỆT NAM
B2: NGỌC THƠM | E2: Độc lập - Tự do - Hạnh phúc
E4: TP Hồ Chí Minh, ngày 03 tháng 10 năm 2026
A6: BẢNG KÊ HÓA ĐƠN THÁNG 09/2026
A7: Số: 06092026/BKHD/NT-LOTTE
A9: Bên bán hàng: | C9: CÔNG TY TNHH MỘT THÀNH VIÊN THƯƠNG MẠI VÀ DỊCH VỤ NGỌC THƠM
A10: Mã số thuế: | C10: 0309391503
A11: Địa chỉ: | C11: 12/14/18 Đường 49, Khu phố 69, Phường Hiệp Bình, TP. Hồ Chí Minh, Việt Nam
A12: Đại diện: | C12: Nguyễn Bảo Thạch | E12: Chức vụ: Phó Giám đốc
A14: Bên mua hàng: | C14: =+VLOOKUP(J14,'Danh sách CN'!A:D,2,0) -> CÔNG TY CỔ PHẦN TRUNG TÂM THƯƠNG MẠI LOTTE VIỆT NAM - CHI NHÁNH BÌNH THUẬN | J14: LOTTE-002
A15: Mã số thuế: | C15: =+VLOOKUP(J14,'Danh sách CN'!A:D,3,0) -> 0304741634-002 | J15: LOTTE-BTN-00-002
A16: Địa chỉ: | C16: =+VLOOKUP(J14,'Danh sách CN'!A:D,4,0) -> Khu dân cư Hùng Vương I, Phường Phú Thủy, Tỉnh Lâm Đồng, Việt Nam
A17: Đại diện: | E17: Chức vụ:
A19: STT | B19: Số hóa đơn | C19: Ký hiệu | D19: Ngày hóa đơn | E19: Tên khách hàng | F19: Thành tiền trước thuế | G19: Tiền thuế GTGT | H19: Tổng thanh toán
A20: 1 | B20: 00061611 | C20: 1C26TTN | D20: 46270 | E20: CÔNG TY CỔ PHẦN TRUNG TÂM THƯƠNG MẠI LOTTE VIỆT NAM - CHI NHÁNH BÌNH THUẬN | F20: 1070145 | G20: 85612 | H20: =F20+G20 -> 1155757
A21: 2 | B21: 00061725 | C21: 1C26TTN | D21: 46273 | E21: CÔNG TY CỔ PHẦN TRUNG TÂM THƯƠNG MẠI LOTTE VIỆT NAM - CHI NHÁNH BÌNH THUẬN | F21: 1119450 | G21: 89556 | H21: =F21+G21 -> 1209006
A22: 3 | B22: 00063576 | C22: 1C26TTN | D22: 46280 | E22: CÔNG TY CỔ PHẦN TRUNG TÂM THƯƠNG MẠI LOTTE VIỆT NAM - CHI NHÁNH BÌNH THUẬN | F22: 1747855 | G22: 139828 | H22: =F22+G22 -> 1887683
A23: 4 | B23: 00066559 | C23: 1C26TTN | D23: 46287 | E23: CÔNG TY CỔ PHẦN TRUNG TÂM THƯƠNG MẠI LOTTE VIỆT NAM - CHI NHÁNH BÌNH THUẬN | F23: 1845155 | G23: 147612 | H23: =F23+G23 -> 1992767
A25: Tổng cộng | F25: =SUM(F20:F24) -> 5782605 | G25: =SUM(G20:G24) -> 462608 | H25: =SUM(H20:H24) -> 6245213 | I25: Phí DVBH (5%) | J25: =ROUND(F25*0.05,0) -> 289130
A26: Tổng chiết khấu (tỷ lệ 7.25%) | F26: =ROUND(F25*0.0725,0) -> 419239 | G26: =ROUND(F26*0.08,0) -> 33539 | H26: =F26+G26 -> 452778 | I26: Phí HĐDTSP(1.5%) | J26: =ROUND(F25*0.015,0) -> 86739
I27: Phí vi phạm giao hàng trễ (8%)
A28: Bảng kê được lập thành 02 bản, có giá trị như nhau, mỗi bên giữ 01 bản
B30: ĐẠI DIỆN MUA HÀNG | F30: ĐẠI DIỆN BÁN HÀNG
B31: (Ký điện tử/ký, đóng dấu và ghi rõ họ tên) | F31: (Ký điện tử/ký, đóng dấu và ghi rõ họ tên)

Sheet BÌNH DƯƠNG
B1: CÔNG TY TNHH MTV TM & DV | E1: CỘNG HÒA XÃ HỘI CHỦ NGHĨA VIỆT NAM
B2: NGỌC THƠM | E2: Độc lập - Tự do - Hạnh phúc
E4: TP Hồ Chí Minh, ngày 03 tháng 10 năm 2026
A6: BẢNG KÊ HÓA ĐƠN THÁNG 09/2026
A7: Số: 05092026/BKHD/NT-LOTTE
A9: Bên bán hàng: | C9: CÔNG TY TNHH MỘT THÀNH VIÊN THƯƠNG MẠI VÀ DỊCH VỤ NGỌC THƠM
A10: Mã số thuế: | C10: 0309391503
A11: Địa chỉ: | C11: 12/14/18 Đường 49, Khu phố 69, Phường Hiệp Bình, TP. Hồ Chí Minh, Việt Nam
A12: Đại diện: | C12: Nguyễn Bảo Thạch | E12: Chức vụ: Phó Giám đốc
A14: Bên mua hàng: | C14: =+VLOOKUP(J14,'Danh sách CN'!A:D,2,0) -> CÔNG TY CỔ PHẦN TRUNG TÂM THƯƠNG MẠI LOTTE VIỆT NAM - CHI NHÁNH BÌNH DƯƠNG | J14: LOTTE-003
A15: Mã số thuế: | C15: =+VLOOKUP(J14,'Danh sách CN'!A:D,3,0) -> 0304741634-003 | J15: LOTTE-BDG-00-003
A16: Địa chỉ: | C16: =+VLOOKUP(J14,'Danh sách CN'!A:D,4,0) -> Khu đô thị The Seasons Bình Dương, Phường Lái Thiêu, TP. Hồ Chí Minh, Việt Nam
A17: Đại diện: | E17: Chức vụ:
A19: STT | B19: Số hóa đơn | C19: Ký hiệu | D19: Ngày hóa đơn | E19: Tên khách hàng | F19: Thành tiền trước thuế | G19: Tiền thuế GTGT | H19: Tổng thanh toán
A20: 1 | B20: 00061640 | C20: 1C26TTN | D20: 46270 | E20: CÔNG TY CỔ PHẦN TRUNG TÂM THƯƠNG MẠI LOTTE VIỆT NAM - CHI NHÁNH BÌNH DƯƠNG | F20: 1072790 | G20: 85823 | H20: =F20+G20 -> 1158613
A21: 2 | B21: 00061779 | C21: 1C26TTN | D21: 46273 | E21: CÔNG TY CỔ PHẦN TRUNG TÂM THƯƠNG MẠI LOTTE VIỆT NAM - CHI NHÁNH BÌNH DƯƠNG | F21: 1706435 | G21: 136515 | H21: =F21+G21 -> 1842950
A22: 3 | B22: 00063429 | C22: 1C26TTN | D22: 46276 | E22: CÔNG TY CỔ PHẦN TRUNG TÂM THƯƠNG MẠI LOTTE VIỆT NAM - CHI NHÁNH BÌNH DƯƠNG | F22: 1262100 | G22: 100968 | H22: =F22+G22 -> 1363068
A24: Tổng cộng | F24: =SUM(F20:F23) -> 4041325 | G24: =SUM(G20:G23) -> 323306 | H24: =SUM(H20:H23) -> 4364631 | I24: Phí DVBH (5%) | J24: =ROUND(F24*0.05,0) -> 202066
A25: Tổng chiết khấu (tỷ lệ 7.25%) | F25: =ROUND(F24*0.0725,0) -> 292996 | G25: =ROUND(F25*0.08,0) -> 23440 | H25: =F25+G25 -> 316436 | I25: Phí HĐDTSP(1.5%) | J25: =ROUND(F24*0.015,0) -> 60620
I26: Phí vi phạm giao hàng trễ (8%)
A27: Bảng kê được lập thành 02 bản, có giá trị như nhau, mỗi bên giữ 01 bản
B29: ĐẠI DIỆN MUA HÀNG | F29: ĐẠI DIỆN BÁN HÀNG
B30: (Ký điện tử/ký, đóng dấu và ghi rõ họ tên) | F30: (Ký điện tử/ký, đóng dấu và ghi rõ họ tên)

Sheet ĐÀ NẴNG
B1: CÔNG TY TNHH MTV TM & DV | E1: CỘNG HÒA XÃ HỘI CHỦ NGHĨA VIỆT NAM
B2: NGỌC THƠM | E2: Độc lập - Tự do - Hạnh phúc
E4: TP Hồ Chí Minh, ngày 03 tháng 10 năm 2026
A6: BẢNG KÊ HÓA ĐƠN THÁNG 09/2026
A7: Số: 04092026/BKHD/NT-LOTTE
A9: Bên bán hàng: | C9: CÔNG TY TNHH MỘT THÀNH VIÊN THƯƠNG MẠI VÀ DỊCH VỤ NGỌC THƠM
A10: Mã số thuế: | C10: 0309391503
A11: Địa chỉ: | C11: 12/14/18 Đường 49, Khu phố 69, Phường Hiệp Bình, TP. Hồ Chí Minh, Việt Nam
A12: Đại diện: | C12: Nguyễn Bảo Thạch | E12: Chức vụ: Phó Giám đốc
A14: Bên mua hàng: | C14: =+VLOOKUP(J14,'Danh sách CN'!A:D,2,0) -> CÔNG TY CỔ PHẦN TRUNG TÂM THƯƠNG MẠI LOTTE VIỆT NAM - CHI NHÁNH ĐÀ NẴNG | J14: LOTTE-009
A15: Mã số thuế: | C15: =+VLOOKUP(J14,'Danh sách CN'!A:D,3,0) -> 0304741634-009
A16: Địa chỉ: | C16: =+VLOOKUP(J14,'Danh sách CN'!A:D,4,0) -> số 06 đường Nại Nam, Phường Hòa Cường, Thành phố Đà Nẵng, Việt Nam
A17: Đại diện: | E17: Chức vụ:
A19: STT | B19: Số hóa đơn | C19: Ký hiệu | D19: Ngày hóa đơn | E19: Tên khách hàng | F19: Thành tiền trước thuế | G19: Tiền thuế GTGT | H19: Tổng thanh toán
A20: 1 | B20: 00063458 | C20: 1C26TTN | D20: 46277 | E20: CÔNG TY CỔ PHẦN TRUNG TÂM THƯƠNG MẠI LOTTE VIỆT NAM - CHI NHÁNH ĐÀ NẴNG | F20: 1754430 | G20: 140354 | H20: =F20+G20 -> 1894784
A21: 2 | B21: 00065155 | C21: 1C26TTN | D21: 46282 | E21: CÔNG TY CỔ PHẦN TRUNG TÂM THƯƠNG MẠI LOTTE VIỆT NAM - CHI NHÁNH ĐÀ NẴNG | F21: 1037750 | G21: 83020 | H21: =F21+G21 -> 1120770
A22: 3 | B22: 00066421 | C22: 1C26TTN | D22: 46284 | E22: CÔNG TY CỔ PHẦN TRUNG TÂM THƯƠNG MẠI LOTTE VIỆT NAM - CHI NHÁNH ĐÀ NẴNG | F22: 2706550 | G22: 216524 | H22: =F22+G22 -> 2923074
A23: 4 | B23: 00066422 | C23: 1C26TTN | D23: 46284 | E23: CÔNG TY CỔ PHẦN TRUNG TÂM THƯƠNG MẠI LOTTE VIỆT NAM - CHI NHÁNH ĐÀ NẴNG | F23: 2233610 | G23: 178689 | H23: =F23+G23 -> 2412299
A24: 5 | B24: 00067807 | C24: 1C26TTN | D24: 46289 | E24: CÔNG TY CỔ PHẦN TRUNG TÂM THƯƠNG MẠI LOTTE VIỆT NAM - CHI NHÁNH ĐÀ NẴNG | F24: 1262100 | G24: 100968 | H24: =F24+G24 -> 1363068
A25: 6 | B25: 00067808 | C25: 1C26TTN | D25: 46289 | E25: CÔNG TY CỔ PHẦN TRUNG TÂM THƯƠNG MẠI LOTTE VIỆT NAM - CHI NHÁNH ĐÀ NẴNG | F25: 2233610 | G25: 178689 | H25: =F25+G25 -> 2412299
A26: Tổng cộng | F26: =SUM(F20:F25) -> 11228050 | G26: =SUM(G20:G25) -> 898244 | H26: =SUM(H20:H25) -> 12126294 | I26: Phí DVBH (5%) | J26: =ROUND(F26*0.05,0) -> 561403
A27: Tổng chiết khấu (tỷ lệ 7.25%) | F27: =ROUND(F26*0.0725,0) -> 814034 | G27: =ROUND(F27*0.08,0) -> 65123 | H27: =F27+G27 -> 879157 | I27: Phí HĐDTSP(1.5%) | J27: =ROUND(F26*0.015,0) -> 168421
I28: Phí vi phạm giao hàng trễ (8%)
A29: Bảng kê được lập thành 02 bản, có giá trị như nhau, mỗi bên giữ 01 bản
B31: ĐẠI DIỆN MUA HÀNG | F31: ĐẠI DIỆN BÁN HÀNG
B32: (Ký điện tử/ký, đóng dấu và ghi rõ họ tên) | F32: (Ký điện tử/ký, đóng dấu và ghi rõ họ tên)

Sheet ĐỒNG NAI
B1: CÔNG TY TNHH MTV TM & DV | E1: CỘNG HÒA XÃ HỘI CHỦ NGHĨA VIỆT NAM
B2: NGỌC THƠM | E2: Độc lập - Tự do - Hạnh phúc
E4: TP Hồ Chí Minh, ngày 03 tháng 10 năm 2026
A6: BẢNG KÊ HÓA ĐƠN THÁNG 09/2026
A7: Số: 03092026/BKHD/NT-LOTTE
A9: Bên bán hàng: | C9: CÔNG TY TNHH MỘT THÀNH VIÊN THƯƠNG MẠI VÀ DỊCH VỤ NGỌC THƠM
A10: Mã số thuế: | C10: 0309391503
A11: Địa chỉ: | C11: 12/14/18 Đường 49, Khu phố 69, Phường Hiệp Bình, TP. Hồ Chí Minh, Việt Nam
A12: Đại diện: | C12: Nguyễn Bảo Thạch | E12: Chức vụ: Phó Giám đốc
A14: Bên mua hàng: | C14: =+VLOOKUP(J14,'Danh sách CN'!A:D,2,0) -> CÔNG TY CỔ PHẦN TRUNG TÂM THƯƠNG MẠI LOTTE VIỆT NAM - CHI NHÁNH ĐỒNG NAI | J14: LOTTE-001
A15: Mã số thuế: | C15: =+VLOOKUP(J14,'Danh sách CN'!A:D,3,0) -> 0304741634-001 | J15: LOTTE-DNI-00-001
A16: Địa chỉ: | C16: =+VLOOKUP(J14,'Danh sách CN'!A:D,4,0) -> Lô B-03 Khu thương mại Amata, Quốc lộ 1A, Phường Long Bình, Tỉnh Đồng Nai, Việt Nam
A17: Đại diện: | E17: Chức vụ:
A19: STT | B19: Số hóa đơn | C19: Ký hiệu | D19: Ngày hóa đơn | E19: Tên khách hàng | F19: Thành tiền trước thuế | G19: Tiền thuế GTGT | H19: Tổng thanh toán
A20: 1 | B20: 00061830 | C20: 1C26TTN | D20: 46274 | E20: CÔNG TY CỔ PHẦN TRUNG TÂM THƯƠNG MẠI LOTTE VIỆT NAM - CHI NHÁNH ĐỒNG NAI | F20: 1072790 | G20: 85823 | H20: =F20+G20 -> 1158613
A21: 2 | B21: 00065262 | C21: 1C26TTN | D21: 46283 | E21: CÔNG TY CỔ PHẦN TRUNG TÂM THƯƠNG MẠI LOTTE VIỆT NAM - CHI NHÁNH ĐỒNG NAI | F21: 2203860 | G21: 176309 | H21: =F21+G21 -> 2380169
A23: Tổng cộng | F23: =SUM(F20:F21) -> 3276650 | G23: =SUM(G20:G21) -> 262132 | H23: =SUM(H20:H21) -> 3538782 | I23: Phí DVBH (5%) | J23: =ROUND(F23*0.05,0) -> 163833
A24: Tổng chiết khấu (tỷ lệ 7.25%) | F24: =ROUND(F23*0.0725,0) -> 237557 | G24: =ROUND(F24*0.08,0) -> 19005 | H24: =F24+G24 -> 256562 | I24: Phí HĐDTSP(1.5%) | J24: =ROUND(F23*0.015,0) -> 49150
I25: Phí vi phạm giao hàng trễ (8%)
A26: Bảng kê được lập thành 02 bản, có giá trị như nhau, mỗi bên giữ 01 bản
B28: ĐẠI DIỆN MUA HÀNG | F28: ĐẠI DIỆN BÁN HÀNG
B29: (Ký điện tử/ký, đóng dấu và ghi rõ họ tên) | F29: (Ký điện tử/ký, đóng dấu và ghi rõ họ tên)

Sheet PHÚ THỌ
B1: CÔNG TY TNHH MTV TM & DV | E1: CỘNG HÒA XÃ HỘI CHỦ NGHĨA VIỆT NAM
B2: NGỌC THƠM | E2: Độc lập - Tự do - Hạnh phúc
E4: TP Hồ Chí Minh, ngày 03 tháng 10 năm 2026
A6: BẢNG KÊ HÓA ĐƠN THÁNG 09/2026
A7: Số: 02092026/BKHD/NT-LOTTE
A9: Bên bán hàng: | C9: CÔNG TY TNHH MỘT THÀNH VIÊN THƯƠNG MẠI VÀ DỊCH VỤ NGỌC THƠM
A10: Mã số thuế: | C10: 0309391503
A11: Địa chỉ: | C11: 12/14/18 Đường 49, Khu phố 69, Phường Hiệp Bình, TP. Hồ Chí Minh, Việt Nam
A12: Đại diện: | C12: Nguyễn Bảo Thạch | E12: Chức vụ: Phó Giám đốc
A14: Bên mua hàng: | C14: =+VLOOKUP(J14,'Danh sách CN'!A:D,2,0) -> CÔNG TY CỔ PHẦN TRUNG TÂM THƯƠNG MẠI LOTTE VIỆT NAM | J14: LOTTE
A15: Mã số thuế: | C15: =+VLOOKUP(J14,'Danh sách CN'!A:D,3,0) -> 0304741634 | J15: LOTTE-HCM-Q7-41634
A16: Địa chỉ: | C16: =+VLOOKUP(J14,'Danh sách CN'!A:D,4,0) -> Số 469, Đường Nguyễn Hữu Thọ, Phường Tân Hưng, Thành phố Hồ Chí Minh, Việt Nam
A17: Đại diện: | E17: Chức vụ:
A19: STT | B19: Số hóa đơn | C19: Ký hiệu | D19: Ngày hóa đơn | E19: Tên khách hàng | F19: Thành tiền trước thuế | G19: Tiền thuế GTGT | H19: Tổng thanh toán
A20: 1 | B20: 00061784 | C20: 1C26TTN | D20: 46273 | E20: CÔNG TY CỔ PHẦN TRUNG TÂM THƯƠNG MẠI LOTTE VIỆT NAM | F20: 1126025 | G20: 90082 | H20: =F20+G20 -> 1216107
A21: 2 | B21: 00066975 | C21: 1C26TTN | D21: 46288 | E21: CÔNG TY CỔ PHẦN TRUNG TÂM THƯƠNG MẠI LOTTE VIỆT NAM | F21: 583055 | G21: 46644 | H21: =F21+G21 -> 629699
A23: Tổng cộng | F23: =SUM(F20:F21) -> 1709080 | G23: =SUM(G20:G21) -> 136726 | H23: =SUM(H20:H22) -> 1845806 | I23: Phí DVBH (5%) | J23: =ROUND(F23*0.05,0) -> 85454
A24: Tổng chiết khấu (tỷ lệ 7.25%) | F24: =ROUND(F23*0.0725,0) -> 123908 | G24: =ROUND(F24*0.08,0) -> 9913 | H24: =F24+G24 -> 133821 | I24: Phí HĐDTSP(1.5%) | J24: =ROUND(F23*0.015,0) -> 25636
I25: Phí vi phạm giao hàng trễ (8%)
A26: Bảng kê được lập thành 02 bản, có giá trị như nhau, mỗi bên giữ 01 bản
B28: ĐẠI DIỆN MUA HÀNG | F28: ĐẠI DIỆN BÁN HÀNG
B29: (Ký điện tử/ký, đóng dấu và ghi rõ họ tên) | F29: (Ký điện tử/ký, đóng dấu và ghi rõ họ tên)

Sheet NAM SÀI GÒN
B1: CÔNG TY TNHH MTV TM & DV | E1: CỘNG HÒA XÃ HỘI CHỦ NGHĨA VIỆT NAM
B2: NGỌC THƠM | E2: Độc lập - Tự do - Hạnh phúc
E4: TP Hồ Chí Minh, ngày 03 tháng 10 năm 2026
A6: BẢNG KÊ HÓA ĐƠN THÁNG 09/2026
A7: Số: 01092026/BKHD/NT-LOTTE
A9: Bên bán hàng: | C9: CÔNG TY TNHH MỘT THÀNH VIÊN THƯƠNG MẠI VÀ DỊCH VỤ NGỌC THƠM
A10: Mã số thuế: | C10: 0309391503
A11: Địa chỉ: | C11: 12/14/18 Đường 49, Khu phố 69, Phường Hiệp Bình, TP. Hồ Chí Minh, Việt Nam
A12: Đại diện: | C12: Nguyễn Bảo Thạch | E12: Chức vụ: Phó Giám đốc
A14: Bên mua hàng: | C14: =+VLOOKUP(J14,'Danh sách CN'!A:D,2,0) -> CÔNG TY CỔ PHẦN TRUNG TÂM THƯƠNG MẠI LOTTE VIỆT NAM | J14: LOTTE
A15: Mã số thuế: | C15: =+VLOOKUP(J14,'Danh sách CN'!A:D,3,0) -> 0304741634 | J15: LOTTE-HCM-Q7-41634
A16: Địa chỉ: | C16: =+VLOOKUP(J14,'Danh sách CN'!A:D,4,0) -> Số 469, Đường Nguyễn Hữu Thọ, Phường Tân Hưng, Thành phố Hồ Chí Minh, Việt Nam
A17: Đại diện: | E17: Chức vụ:
A18: STT | B18: Số hóa đơn | C18: Ký hiệu | D18: Ngày hóa đơn | E18: Tên khách hàng | F18: Thành tiền trước thuế | G18: Tiền thuế GTGT | H18: Tổng thanh toán
A19: 1 | B19: 00060754 | C19: 1C26TTN | D19: 46268 | E19: CÔNG TY CỔ PHẦN TRUNG TÂM THƯƠNG MẠI LOTTE VIỆT NAM | F19: 1653200 | G19: 132256 | H19: =F19+G19 -> 1785456
A20: 2 | B20: 00060755 | C20: 1C26TTN | D20: 46268 | E20: CÔNG TY CỔ PHẦN TRUNG TÂM THƯƠNG MẠI LOTTE VIỆT NAM | F20: 1179260 | G20: 94341 | H20: =F20+G20 -> 1273601
A21: 3 | B21: 00061244 | C21: 1C26TTN | D21: 46269 | E21: CÔNG TY CỔ PHẦN TRUNG TÂM THƯƠNG MẠI LOTTE VIỆT NAM | F21: 1072790 | G21: 85823 | H21: =F21+G21 -> 1158613
A22: 4 | B22: 00061243 | C22: 1C26TTN | D22: 46269 | E22: CÔNG TY CỔ PHẦN TRUNG TÂM THƯƠNG MẠI LOTTE VIỆT NAM | F22: 1166110 | G22: 93289 | H22: =F22+G22 -> 1259399
A23: 5 | B23: 00061245 | C23: 1C26TTN | D23: 46269 | E23: CÔNG TY CỔ PHẦN TRUNG TÂM THƯƠNG MẠI LOTTE VIỆT NAM | F23: 1116805 | G23: 89344 | H23: =F23+G23 -> 1206149
A24: 6 | B24: 00061773 | C24: 1C26TTN | D24: 46273 | E24: CÔNG TY CỔ PHẦN TRUNG TÂM THƯƠNG MẠI LOTTE VIỆT NAM | F24: 1659775 | G24: 132782 | H24: =F24+G24 -> 1792557
A25: 7 | B25: 00063460 | C25: 1C26TTN | D25: 46277 | E25: CÔNG TY CỔ PHẦN TRUNG TÂM THƯƠNG MẠI LOTTE VIỆT NAM | F25: 1166110 | G25: 93289 | H25: =F25+G25 -> 1259399
A26: 8 | B26: 00063461 | C26: 1C26TTN | D26: 46277 | E26: CÔNG TY CỔ PHẦN TRUNG TÂM THƯƠNG MẠI LOTTE VIỆT NAM | F26: 1220680 | G26: 97654 | H26: =F26+G26 -> 1318334
A27: 9 | B27: 00065218 | C27: 1C26TTN | D27: 46283 | E27: CÔNG TY CỔ PHẦN TRUNG TÂM THƯƠNG MẠI LOTTE VIỆT NAM | F27: 1262100 | G27: 100968 | H27: =F27+G27 -> 1363068
A28: 10 | B28: 00065216 | C28: 1C26TTN | D28: 46283 | E28: CÔNG TY CỔ PHẦN TRUNG TÂM THƯƠNG MẠI LOTTE VIỆT NAM | F28: 1262100 | G28: 100968 | H28: =F28+G28 -> 1363068
A29: 11 | B29: 00065217 | C29: 1C26TTN | D29: 46283 | E29: CÔNG TY CỔ PHẦN TRUNG TÂM THƯƠNG MẠI LOTTE VIỆT NAM | F29: 1262100 | G29: 100968 | H29: =F29+G29 -> 1363068
A30: 12 | B30: 00066595 | C30: 1C26TTN | D30: 46287 | E30: CÔNG TY CỔ PHẦN TRUNG TÂM THƯƠNG MẠI LOTTE VIỆT NAM | F30: 1067500 | G30: 85400 | H30: =F30+G30 -> 1152900
... A33: 15 | B33: 00067863 | C33: 1C26TTN | D33: 46290 | E33: CÔNG TY CỔ PHẦN TRUNG TÂM THƯƠNG MẠI LOTTE VIỆT NAM | F33: 1166110 | G33: 93289 | H33: =F33+G33 -> 1259399
A35: Tổng cộng | F35: =SUM(F19:F34) -> 19496250 | G35: =SUM(G19:G34) -> 1559700 | H35: =SUM(H19:H34) -> 21055950 | I35: Phí DVBH (5%) | J35: =ROUND(F35*0.05,0) -> 974813
A36: Tổng chiết khấu (tỷ lệ 7.25%) | F36: =ROUND(F35*0.0725,0) -> 1413478 | G36: =ROUND(F36*0.08,0) -> 113078 | H36: =F36+G36 -> 1526556 | I36: Phí HĐDTSP(1.5%) | J36: =ROUND(F35*0.015,0) -> 292444
I37: Phí vi phạm giao hàng trễ (8%)
A38: Bảng kê được lập thành 02 bản, có giá trị như nhau, mỗi bên giữ 01 bản
B40: ĐẠI DIỆN MUA HÀNG | F40: ĐẠI DIỆN BÁN HÀNG
B41: (Ký điện tử/ký, đóng dấu và ghi rõ họ tên) | F41: (Ký điện tử/ký, đóng dấu và ghi rõ họ tên)
