Workbook

Sheet Danh sách CN
A1: Mã khách hàng | B1: Tên khách hàng | C1: Mã số thuế | D1: Địa chỉ
A2: LOTTE-007 | B2: CÔNG TY CỔ PHẦN TRUNG TÂM THƯƠNG MẠI LOTTE VIỆT NAM - CHI NHÁNH CẦN THƠ | C2: 0304741634-007 | D2: 84, Mậu Thân, Phường Cái Khế, Thành phố Cần Thơ, Việt Nam
A3: LOTTE-013 | B3: CÔNG TY CỔ PHẦN TRUNG TÂM THƯƠNG MẠI LOTTE VIỆT NAM - CHI NHÁNH VINH | C3: 0304741634-013 | D3: Đại lộ V.I.Lenin, Khối Yên Sơn, Phường Vinh Phú, Tỉnh Nghệ An, Việt Nam
A4: LOTTE-005 | B4: CÔNG TY CỔ PHẦN TRUNG TÂM THƯƠNG MẠI LOTTE VIỆT NAM - CHI NHÁNH BÀ RỊA VŨNG TÀU | C4: 0304741634-005 | D4: Góc đường 3 tháng 2 và đường Thi Sách, Phường Tam Thắng, TP. Hồ Chí Minh, Việt Nam
A5: LOTTE-002 | B5: CÔNG TY CỔ PHẦN TRUNG TÂM THƯƠNG MẠI LOTTE VIỆT NAM - CHI NHÁNH BÌNH THUẬN | C5: 0304741634-002 | D5: Khu dân cư Hùng Vương I, Phường Phú Thủy, Tỉnh Lâm Đồng, Việt Nam
A6: LOTTE-003 | B6: CÔNG TY CỔ PHẦN TRUNG TÂM THƯƠNG MẠI LOTTE VIỆT NAM - CHI NHÁNH BÌNH DƯƠNG | C6: 0304741634-003 | D6: Khu đô thị The Seasons Bình Dương, Phường Lái Thiêu, TP. Hồ Chí Minh, Việt Nam
A7: LOTTE-001 | B7: CÔNG TY CỔ PHẦN TRUNG TÂM THƯƠNG MẠI LOTTE VIỆT NAM - CHI NHÁNH ĐỒNG NAI | C7: 0304741634-001 | D7: Lô B-03 Khu thương mại Amata, Quốc lộ 1A, Phường Long Bình, Tỉnh Đồng Nai, Việt Nam
A8: LOTTE-009 | B8: CÔNG TY CỔ PHẦN TRUNG TÂM THƯƠNG MẠI LOTTE VIỆT NAM - CHI NHÁNH ĐÀ NẴNG | C8: 0304741634-009 | D8: số 06 đường Nại Nam, Phường Hòa Cường, Thành phố Đà Nẵng, Việt Nam
A9: LOTTE-010 | B9: CÔNG TY CỔ PHẦN TRUNG TÂM THƯƠNG MẠI LOTTE VIỆT NAM - CHI NHÁNH GÒ VẤP | C9: 0304741634-010 | D9: Số 18, Đường Phan Văn Trị, Phường Gò Vấp, Thành phố Hồ Chí Minh, Việt Nam
A10: LOTTE-006 | B10: CÔNG TY CỔ PHẦN TRUNG TÂM THƯƠNG MẠI LOTTE VIỆT NAM - CHI NHÁNH TÂN BÌNH | C10: 0304741634-006 | D10: Số 20, đường Cộng Hòa, Phường Bảy Hiền, Thành phố Hồ Chí Minh, Việt Nam
A11: LOTTE | B11: CÔNG TY CỔ PHẦN TRUNG TÂM THƯƠNG MẠI LOTTE VIỆT NAM | C11: 0304741634 | D11: Số 469, Đường Nguyễn Hữu Thọ, Phường Tân Hưng, Thành phố Hồ Chí Minh, Việt Nam
A12: LOTTE-011 | B12: CÔNG TY CỔ PHẦN TRUNG TÂM THƯƠNG MẠI LOTTE VIỆT NAM - CHI NHÁNH NHA TRANG | C12: 0304741634-011 | D12: Số 58 đường 23/10, Phường Tây Nha Trang, Tỉnh Khánh Hòa, Việt Nam
... A15: LOTTE-004 | B15: CÔNG TY CỔ PHẦN TRUNG TÂM THƯƠNG MẠI LOTTE VIỆT NAM - CHI NHÁNH ĐỐNG ĐA | C15: 0304741634-004 | D15: Tòa nhà Mipec, 229 Tây Sơn, Phường Ngã Tư Sở, Quận Đống đa, Thành phố Hà Nội, Việt Nam

Sheet Detail1
A1: Details for Sum of Tổng tiền - Tên người mua: CÔNG TY CỔ PHẦN TRUNG TÂM THƯƠNG MẠI LOTTE VIỆT NAM
A3: Ngày hóa đơn | B3: Số hóa đơn | C3: Ký hiệu HĐ | D3: Diễn giải | E3: Doanh số bán chưa có thuế GTGT | F3: Thuế GTGT | G3: Tổng tiền | H3: Ngày chứng từ | I3: Số chứng từ | J3: Tên người mua | K3: Mã số thuế người mua
A4: 46140 | B4: 00030180 | C4: 1C26TTN | D4: 260424-01001-00295 | E4: 1131355 | F4: 90508 | G4: 1221863 | H4: 46140 | I4: BH12426 | J4: CÔNG TY CỔ PHẦN TRUNG TÂM THƯƠNG MẠI LOTTE VIỆT NAM | K4: 0304741634
A5: 46113 | B5: 00024261 | C5: 1C26TTN | D5: 260331-01001-00048 - LOTTE NAM SÀI GÒN | E5: 956210 | F5: 76497 | G5: 1032707 | H5: 46113 | I5: BH09715 | J5: CÔNG TY CỔ PHẦN TRUNG TÂM THƯƠNG MẠI LOTTE VIỆT NAM | K5: 0304741634
A6: 46113 | B6: 00024262 | C6: 1C26TTN | D6: 260331-01001-00209 - LOTTE NAM SÀI GÒN | E6: 1190660 | F6: 95253 | G6: 1285913 | H6: 46113 | I6: BH09716 | J6: CÔNG TY CỔ PHẦN TRUNG TÂM THƯƠNG MẠI LOTTE VIỆT NAM | K6: 0304741634
A7: 46113 | B7: 00024263 | C7: 1C26TTN | D7: 260328-01001-00122 - LOTTE NAM SÀI GÒN | E7: 2144100 | F7: 171528 | G7: 2315628 | H7: 46113 | I7: BH09717 | J7: CÔNG TY CỔ PHẦN TRUNG TÂM THƯƠNG MẠI LOTTE VIỆT NAM | K7: 0304741634
A8: 46140 | B8: 00030179 | C8: 1C26TTN | D8: 260425-01001-00229 | E8: 1131355 | F8: 90508 | G8: 1221863 | H8: 46140 | I8: BH12425 | J8: CÔNG TY CỔ PHẦN TRUNG TÂM THƯƠNG MẠI LOTTE VIỆT NAM | K8: 0304741634
A9: 46136 | B9: 00030060 | C9: 1C26TTN | D9: 260423-01001-00260 | E9: 2262710 | F9: 181017 | G9: 2443727 | H9: 46136 | I9: BH12367 | J9: CÔNG TY CỔ PHẦN TRUNG TÂM THƯƠNG MẠI LOTTE VIỆT NAM | K9: 0304741634
A10: 46136 | B10: 00030047 | C10: 1C26TTN | D10: 260423-01002-00121 | E10: 1166110 | F10: 93289 | G10: 1259399 | H10: 46136 | I10: BH12354 | J10: CÔNG TY CỔ PHẦN TRUNG TÂM THƯƠNG MẠI LOTTE VIỆT NAM | K10: 0304741634
A11: 46134 | B11: 00028387 | C11: 1C26TTN | D11: 260421-01002-00011 | E11: 583055 | F11: 46644 | G11: 629699 | H11: 46134 | I11: BH11892 | J11: CÔNG TY CỔ PHẦN TRUNG TÂM THƯƠNG MẠI LOTTE VIỆT NAM | K11: 0304741634
A12: 46130 | B12: 00028229 | C12: 1C26TTN | D12: 260417-01001-00230 - LOTTE NAM SÀI GÒN | E12: 1131355 | F12: 90508 | G12: 1221863 | H12: 46130 | I12: BH11701 | J12: CÔNG TY CỔ PHẦN TRUNG TÂM THƯƠNG MẠI LOTTE VIỆT NAM | K12: 0304741634
A13: 46130 | B13: 00028228 | C13: 1C26TTN | D13: 260416-01001-00270 - LOTTE NAM SÀI GÒN | E13: 1667380 | F13: 133390 | G13: 1800770 | H13: 46130 | I13: BH11700 | J13: CÔNG TY CỔ PHẦN TRUNG TÂM THƯƠNG MẠI LOTTE VIỆT NAM | K13: 0304741634
A14: 46128 | B14: 00027867 | C14: 1C26TTN | D14: 260413-01001-00411 - LOTTE NAM SÀI GÒN | E14: 5597470 | F14: 447798 | G14: 6045268 | H14: 46128 | I14: BH11267 | J14: CÔNG TY CỔ PHẦN TRUNG TÂM THƯƠNG MẠI LOTTE VIỆT NAM | K14: 0304741634
A15: 46128 | B15: 00027866 | C15: 1C26TTN | D15: 260413-01001-00128 - LOTTE NAM SÀI GÒN | E15: 2233610 | F15: 178689 | G15: 2412299 | H15: 46128 | I15: BH11263 | J15: CÔNG TY CỔ PHẦN TRUNG TÂM THƯƠNG MẠI LOTTE VIỆT NAM | K15: 0304741634
... A19: 46121 | B19: 00026071 | C19: 1C26TTN | D19: 260406-01002-00285 - LOTTEMART PHÚ THỌ | E19: 536025 | F19: 42882 | G19: 578907 | H19: 46121 | I19: BH10322 | J19: CÔNG TY CỔ PHẦN TRUNG TÂM THƯƠNG MẠI LOTTE VIỆT NAM | K19: 0304741634

Sheet Detail2
A1: Details for Sum of Tổng tiền - Tên người mua: CÔNG TY CỔ PHẦN TRUNG TÂM THƯƠNG MẠI LOTTE VIỆT NAM - CHI NHÁNH BA ĐÌNH
A3: Ngày hóa đơn | B3: Số hóa đơn | C3: Ký hiệu HĐ | D3: Diễn giải | E3: Doanh số bán chưa có thuế GTGT | F3: Thuế GTGT | G3: Tổng tiền | H3: Ngày chứng từ | I3: Số chứng từ | J3: Tên người mua | K3: Mã số thuế người mua
A4: 46132 | B4: 00028276 | C4: 1C26TTN | D4: Bán hàng CÔNG TY CỔ PHẦN TRUNG TÂM THƯƠNG MẠI LOTTE VIỆT NAM - CHI NHÁNH BA ĐÌNH theo hóa đơn 00028276 | E4: 1667380 | F4: 133390 | G4: 1800770 | H4: 46132 | I4: BH27624 | J4: CÔNG TY CỔ PHẦN TRUNG TÂM THƯƠNG MẠI LOTTE VIỆT NAM - CHI NHÁNH BA ĐÌNH | K4: 0304741634-008
A5: 46125 | B5: 00026411 | C5: 1C26TTN | D5: 260405-01008-00121 | E5: 2122320 | F5: 169786 | G5: 2292106 | H5: 46125 | I5: BH26390 | J5: CÔNG TY CỔ PHẦN TRUNG TÂM THƯƠNG MẠI LOTTE VIỆT NAM - CHI NHÁNH BA ĐÌNH | K5: 0304741634-008

Sheet Detail3
A1: Details for Sum of Tổng tiền - Tên người mua: CÔNG TY CỔ PHẦN TRUNG TÂM THƯƠNG MẠI LOTTE VIỆT NAM - CHI NHÁNH BÀ RỊA VŨNG TÀU
A3: Ngày hóa đơn | B3: Số hóa đơn | C3: Ký hiệu HĐ | D3: Diễn giải | E3: Doanh số bán chưa có thuế GTGT | F3: Thuế GTGT | G3: Tổng tiền | H3: Ngày chứng từ | I3: Số chứng từ | J3: Tên người mua | K3: Mã số thuế người mua
A4: 46128 | B4: 00028122 | C4: 1C26TTN | D4: TC260416-01009-00036 | E4: 1131355 | F4: 90508 | G4: 1221863 | H4: 46129 | I4: BH11314 | J4: CÔNG TY CỔ PHẦN TRUNG TÂM THƯƠNG MẠI LOTTE VIỆT NAM - CHI NHÁNH BÀ RỊA VŨNG TÀU | K4: 0304741634-005
A5: 46126 | B5: 00026465 | C5: 1C26TTN | D5: TC260408-01009-00183 | E5: 1116805 | F5: 89344 | G5: 1206149 | H5: 46126 | I5: BH10883 | J5: CÔNG TY CỔ PHẦN TRUNG TÂM THƯƠNG MẠI LOTTE VIỆT NAM - CHI NHÁNH BÀ RỊA VŨNG TÀU | K5: 0304741634-005

Sheet Detail4
A1: Details for Sum of Tổng tiền - Tên người mua: CÔNG TY CỔ PHẦN TRUNG TÂM THƯƠNG MẠI LOTTE VIỆT NAM - CHI NHÁNH BÌNH DƯƠNG
A3: Ngày hóa đơn | B3: Số hóa đơn | C3: Ký hiệu HĐ | D3: Diễn giải | E3: Doanh số bán chưa có thuế GTGT | F3: Thuế GTGT | G3: Tổng tiền | H3: Ngày chứng từ | I3: Số chứng từ | J3: Tên người mua | K3: Mã số thuế người mua
A4: 46140 | B4: 00030229 | C4: 1C26TTN | D4: 260427-01005-00177 | E4: 1116805 | F4: 89344 | G4: 1206149 | H4: 46140 | I4: BH12447 | J4: CÔNG TY CỔ PHẦN TRUNG TÂM THƯƠNG MẠI LOTTE VIỆT NAM - CHI NHÁNH BÌNH DƯƠNG | K4: 0304741634-003
A5: 46136 | B5: 00030055 | C5: 1C26TTN | D5: 260423-01005-00218 | E5: 1072050 | F5: 85764 | G5: 1157814 | H5: 46136 | I5: BH12362 | J5: CÔNG TY CỔ PHẦN TRUNG TÂM THƯƠNG MẠI LOTTE VIỆT NAM - CHI NHÁNH BÌNH DƯƠNG | K5: 0304741634-003
A6: 46129 | B6: 00028166 | C6: 1C26TTN | D6: 260413-01005-00272 | E6: 1178385 | F6: 94271 | G6: 1272656 | H6: 46129 | I6: BH11382 | J6: CÔNG TY CỔ PHẦN TRUNG TÂM THƯƠNG MẠI LOTTE VIỆT NAM - CHI NHÁNH BÌNH DƯƠNG | K6: 0304741634-003
A7: 46129 | B7: 00028165 | C7: 1C26TTN | D7: 260415-01005-00104 | E7: 1190660 | F7: 95253 | G7: 1285913 | H7: 46129 | I7: BH11379 | J7: CÔNG TY CỔ PHẦN TRUNG TÂM THƯƠNG MẠI LOTTE VIỆT NAM - CHI NHÁNH BÌNH DƯƠNG | K7: 0304741634-003
A8: 46113 | B8: 00024268 | C8: 1C26TTN | D8: 260330-01005-00141 | E8: 536025 | F8: 42882 | G8: 578907 | H8: 46113 | I8: BH09723 | J8: CÔNG TY CỔ PHẦN TRUNG TÂM THƯƠNG MẠI LOTTE VIỆT NAM - CHI NHÁNH BÌNH DƯƠNG | K8: 0304741634-003
A9: 46113 | B9: 00024270 | C9: 1C26TTN | D9: 260328-01005-00038 | E9: 1190660 | F9: 95253 | G9: 1285913 | H9: 46113 | I9: BH09724 | J9: CÔNG TY CỔ PHẦN TRUNG TÂM THƯƠNG MẠI LOTTE VIỆT NAM - CHI NHÁNH BÌNH DƯƠNG | K9: 0304741634-003
A10: 46121 | B10: 00026083 | C10: 1C26TTN | D10: 260406-01005-00115 | E10: 478105 | F10: 38248 | G10: 516353 | H10: 46121 | I10: BH10334 | J10: CÔNG TY CỔ PHẦN TRUNG TÂM THƯƠNG MẠI LOTTE VIỆT NAM - CHI NHÁNH BÌNH DƯƠNG | K10: 0304741634-003
A11: 46121 | B11: 00026082 | C11: 1C26TTN | D11: 260406-01005-00116 | E11: 1116805 | F11: 89344 | G11: 1206149 | H11: 46121 | I11: BH10333 | J11: CÔNG TY CỔ PHẦN TRUNG TÂM THƯƠNG MẠI LOTTE VIỆT NAM - CHI NHÁNH BÌNH DƯƠNG | K11: 0304741634-003

Sheet Detail5
A1: Details for Sum of Tổng tiền - Tên người mua: CÔNG TY CỔ PHẦN TRUNG TÂM THƯƠNG MẠI LOTTE VIỆT NAM - CHI NHÁNH BÌNH THUẬN
A3: Ngày hóa đơn | B3: Số hóa đơn | C3: Ký hiệu HĐ | D3: Diễn giải | E3: Doanh số bán chưa có thuế GTGT | F3: Thuế GTGT | G3: Tổng tiền | H3: Ngày chứng từ | I3: Số chứng từ | J3: Tên người mua | K3: Mã số thuế người mua
A4: 46139 | B4: 772 | C4: 1C26TNF | D4: hàng trả | E4: -764968 | F4: -61197 | G4: -826165 | J4: CÔNG TY CỔ PHẦN TRUNG TÂM THƯƠNG MẠI LOTTE VIỆT NAM - CHI NHÁNH BÌNH THUẬN | K4: 0304741634-002
A5: 46139 | B5: 00030173 | C5: 1C26TTN | D5: TC260423-01006-00015 | E5: 1190660 | F5: 95253 | G5: 1285913 | H5: 46140 | I5: BH12419 | J5: CÔNG TY CỔ PHẦN TRUNG TÂM THƯƠNG MẠI LOTTE VIỆT NAM - CHI NHÁNH BÌNH THUẬN | K5: 0304741634-002
A6: 46126 | B6: 00026466 | C6: 1C26TTN | D6: TC260412-01006-00009 | E6: 595330 | F6: 47626 | G6: 642956 | H6: 46126 | I6: BH10884 | J6: CÔNG TY CỔ PHẦN TRUNG TÂM THƯƠNG MẠI LOTTE VIỆT NAM - CHI NHÁNH BÌNH THUẬN | K6: 0304741634-002
A7: 46118 | B7: 00024942 | C7: 1C26TTN | D7: TC260402-01006-00053 | E7: 1116805 | F7: 89344 | G7: 1206149 | H7: 46119 | I7: BH10170 | J7: CÔNG TY CỔ PHẦN TRUNG TÂM THƯƠNG MẠI LOTTE VIỆT NAM - CHI NHÁNH BÌNH THUẬN | K7: 0304741634-002
A8: 46118 | B8: 00024941 | C8: 1C26TTN | D8: TC260406-01006-00030 | E8: 1489960 | F8: 119197 | G8: 1609157 | H8: 46119 | I8: BH10169 | J8: CÔNG TY CỔ PHẦN TRUNG TÂM THƯƠNG MẠI LOTTE VIỆT NAM - CHI NHÁNH BÌNH THUẬN | K8: 0304741634-002
A9: 46115 | B9: 00024823 | C9: 1C26TTN | D9: TC260402-01006-00013 | E9: 2307465 | F9: 184597 | G9: 2492062 | H9: 46116 | I9: BH10092 | J9: CÔNG TY CỔ PHẦN TRUNG TÂM THƯƠNG MẠI LOTTE VIỆT NAM - CHI NHÁNH BÌNH THUẬN | K9: 0304741634-002

Sheet Detail6
A1: Details for Sum of Tổng tiền - Tên người mua: CÔNG TY CỔ PHẦN TRUNG TÂM THƯƠNG MẠI LOTTE VIỆT NAM - CHI NHÁNH CẦN THƠ
A3: Ngày hóa đơn | B3: Số hóa đơn | C3: Ký hiệu HĐ | D3: Diễn giải | E3: Doanh số bán chưa có thuế GTGT | F3: Thuế GTGT | G3: Tổng tiền | H3: Ngày chứng từ | I3: Số chứng từ | J3: Tên người mua | K3: Mã số thuế người mua
A4: 46134 | B4: 00029586 | C4: 1C26TTN | D4: TC260420-01011-00042 | E4: 2952100 | F4: 236168 | G4: 3188268 | H4: 46135 | I4: BH12115 | J4: CÔNG TY CỔ PHẦN TRUNG TÂM THƯƠNG MẠI LOTTE VIỆT NAM - CHI NHÁNH CẦN THƠ | K4: 0304741634-007
A5: 46127 | B5: 00027846 | C5: 1C26TTN | D5: TC260415-01011-00022 | E5: 1190660 | F5: 95253 | G5: 1285913 | H5: 46128 | I5: BH11178 | J5: CÔNG TY CỔ PHẦN TRUNG TÂM THƯƠNG MẠI LOTTE VIỆT NAM - CHI NHÁNH CẦN THƠ | K5: 0304741634-007
A6: 46120 | B6: 00026040 | C6: 1C26TTN | D6: TC260408-01011-00035 | E6: 1749165 | F6: 139933 | G6: 1889098 | H6: 46121 | I6: BH10291 | J6: CÔNG TY CỔ PHẦN TRUNG TÂM THƯƠNG MẠI LOTTE VIỆT NAM - CHI NHÁNH CẦN THƠ | K6: 0304741634-007
A7: 46118 | B7: 00024943 | C7: 1C26TTN | D7: TC260401-01011-00005 | E7: 1650555 | F7: 132044 | G7: 1782599 | H7: 46119 | I7: BH10171 | J7: CÔNG TY CỔ PHẦN TRUNG TÂM THƯƠNG MẠI LOTTE VIỆT NAM - CHI NHÁNH CẦN THƠ | K7: 0304741634-007

Sheet Detail7
A1: Details for Sum of Tổng tiền - Tên người mua: CÔNG TY CỔ PHẦN TRUNG TÂM THƯƠNG MẠI LOTTE VIỆT NAM - CHI NHÁNH CẦN THƠ
A3: Ngày hóa đơn | B3: Số hóa đơn | C3: Ký hiệu HĐ | D3: Diễn giải | E3: Doanh số bán chưa có thuế GTGT | F3: Thuế GTGT | G3: Tổng tiền | H3: Ngày chứng từ | I3: Số chứng từ | J3: Tên người mua | K3: Mã số thuế người mua
A4: 46134 | B4: 00029586 | C4: 1C26TTN | D4: TC260420-01011-00042 | E4: 2952100 | F4: 236168 | G4: 3188268 | H4: 46135 | I4: BH12115 | J4: CÔNG TY CỔ PHẦN TRUNG TÂM THƯƠNG MẠI LOTTE VIỆT NAM - CHI NHÁNH CẦN THƠ | K4: 0304741634-007
A5: 46127 | B5: 00027846 | C5: 1C26TTN | D5: TC260415-01011-00022 | E5: 1190660 | F5: 95253 | G5: 1285913 | H5: 46128 | I5: BH11178 | J5: CÔNG TY CỔ PHẦN TRUNG TÂM THƯƠNG MẠI LOTTE VIỆT NAM - CHI NHÁNH CẦN THƠ | K5: 0304741634-007
A6: 46120 | B6: 00026040 | C6: 1C26TTN | D6: TC260408-01011-00035 | E6: 1749165 | F6: 139933 | G6: 1889098 | H6: 46121 | I6: BH10291 | J6: CÔNG TY CỔ PHẦN TRUNG TÂM THƯƠNG MẠI LOTTE VIỆT NAM - CHI NHÁNH CẦN THƠ | K6: 0304741634-007
A7: 46118 | B7: 00024943 | C7: 1C26TTN | D7: TC260401-01011-00005 | E7: 1650555 | F7: 132044 | G7: 1782599 | H7: 46119 | I7: BH10171 | J7: CÔNG TY CỔ PHẦN TRUNG TÂM THƯƠNG MẠI LOTTE VIỆT NAM - CHI NHÁNH CẦN THƠ | K7: 0304741634-007

Sheet Sheet7
A3: Row Labels | B3: Sum of Doanh số bán chưa có thuế GTGT | C3: Sum of Thuế GTGT | D3: Sum of Tổng tiền
A4: CÔNG TY CỔ PHẦN TRUNG TÂM THƯƠNG MẠI LOTTE VIỆT NAM | B4: 26810770 | C4: 2144861 | D4: 28955631 | E4: ='NAM SÀI GÒN'!F32 -> 16717440 | F4: =E4*7.25% -> 1212014.4
A5: CÔNG TY CỔ PHẦN TRUNG TÂM THƯƠNG MẠI LOTTE VIỆT NAM - CHI NHÁNH BA ĐÌNH | B5: 3789700 | C5: 303176 | D5: 4092876 | E5: ='BA ĐÌNH'!F24 -> 9100820 | F5: =E5*7.25% -> 659809.45
A6: CÔNG TY CỔ PHẦN TRUNG TÂM THƯƠNG MẠI LOTTE VIỆT NAM - CHI NHÁNH BÀ RỊA VŨNG TÀU | B6: 2248160 | C6: 179852 | D6: 2428012 | E6: ='VŨNG TÀU'!F23 -> 8178640 | F6: =E6*7.25% -> 592951.4
A7: CÔNG TY CỔ PHẦN TRUNG TÂM THƯƠNG MẠI LOTTE VIỆT NAM - CHI NHÁNH BÌNH DƯƠNG | B7: 7879495 | C7: 630359 | D7: 8509854 | E7: ='BÌNH DƯƠNG'!F24 -> 3366210 | F7: =E7*7.25% -> 244050.22
A8: CÔNG TY CỔ PHẦN TRUNG TÂM THƯƠNG MẠI LOTTE VIỆT NAM - CHI NHÁNH BÌNH THUẬN | B8: 5935252 | C8: 474820 | D8: 6410072 | E8: ='BÌNH THUẬN'!F25 -> 5508480 | F8: =E8*7.25% -> 399364.8
A9: CÔNG TY CỔ PHẦN TRUNG TÂM THƯƠNG MẠI LOTTE VIỆT NAM - CHI NHÁNH CẦN THƠ | B9: 7542480 | C9: 603398 | D9: 8145878 | E9: ='CẦN THƠ'!F25 -> 8475680 | F9: =E9*7.25% -> 614486.8
A10: CÔNG TY CỔ PHẦN TRUNG TÂM THƯƠNG MẠI LOTTE VIỆT NAM - CHI NHÁNH ĐÀ NẴNG | B10: 7932865 | C10: 634628 | D10: 8567493 | E10: ='ĐÀ NẴNG'!F24 -> 10080155 | F10: =E10*7.25% -> 730811.24
A11: CÔNG TY CỔ PHẦN TRUNG TÂM THƯƠNG MẠI LOTTE VIỆT NAM - CHI NHÁNH ĐỒNG NAI | B11: 1714410 | C11: 137153 | D11: 1851563 | E11: ='ĐỒNG NAI'!F23 -> 5763530 | F11: =E11*7.25% -> 417855.92
A12: CÔNG TY CỔ PHẦN TRUNG TÂM THƯƠNG MẠI LOTTE VIỆT NAM - CHI NHÁNH GÒ VẤP | B12: 18243090 | C12: 1459447 | D12: 19702537 | E12: ='GÒ VẤP'!F29 -> 13010050 | F12: =E12*7.25% -> 943228.62
A13: CÔNG TY CỔ PHẦN TRUNG TÂM THƯƠNG MẠI LOTTE VIỆT NAM - CHI NHÁNH NHA TRANG | B13: 11536920 | C13: 922955 | D13: 12459875 | E13: ='NHA TRANG'!F26 -> 9577320 | F13: =E13*7.25% -> 694355.7
A14: CÔNG TY CỔ PHẦN TRUNG TÂM THƯƠNG MẠI LOTTE VIỆT NAM - CHI NHÁNH TÂN BÌNH | B14: 1178385 | C14: 94270 | D14: 1272655 | E14: ='TÂN BÌNH'!F23 -> 2292135 | F14: =E14*7.25% -> 166179.79
A15: CÔNG TY CỔ PHẦN TRUNG TÂM THƯƠNG MẠI LOTTE VIỆT NAM - CHI NHÁNH TÂY HỒ | B15: 10402000 | C15: 832160 | D15: 11234160 | E15: ='TÂY HỒ'!F26 -> 19531460 | F15: =E15*7.25% -> 1416030.8
A16: CÔNG TY CỔ PHẦN TRUNG TÂM THƯƠNG MẠI LOTTE VIỆT NAM - CHI NHÁNH VINH | B16: 11129600 | C16: 890368 | D16: 12019968 | E16: =VINH!F23 -> 18730735 | F16: =E16*7.25% -> 1357978.3
A17: Grand Total | B17: 116343127 | C17: 9307447 | D17: 125650574
A19: nha trang
A20: Nha Trang Gold Coast
A21: Nha trang
A22: CÔNG TY CỔ PHẦN TRUNG TÂM THƯƠNG MẠI LOTTE VIỆT NAM
A23: Phu Tho | E23: ='PHÚ THỌ'!F24 -> 3425355 | F23: =E23*7.25% -> 248338.24
A24: Nam Sai Gon

Sheet Báo cáo
A1: BẢNG KÊ HÓA ĐƠN, CHỨNG TỪ HÀNG HÓA, DỊCH VỤ BÁN RA (MẪU QUẢN TRỊ)
A2: Tháng 8 năm 2026
B3: Ngày hóa đơn | C3: Số hóa đơn | D3: Ký hiệu HĐ | E3: Diễn giải | F3: Doanh số bán chưa có thuế GTGT | G3: Thuế GTGT | H3: Tổng tiền | I3: Ngày chứng từ | J3: Số chứng từ | K3: Tên người mua | L3: Mã số thuế người mua
B4: 46235 | C4: 00054119 | D4: 1C26TTN | E4: Bán hàng CÔNG TY CỔ PHẦN TRUNG TÂM THƯƠNG MẠI LOTTE VIỆT NAM - CHI NHÁNH TÂY HỒ theo hóa đơn 00054119 | F4: 1749165 | G4: 139933 | H4: 1889098 | I4: 46235 | J4: BH43062 | K4: CÔNG TY CỔ PHẦN TRUNG TÂM THƯƠNG MẠI LOTTE VIỆT NAM - CHI NHÁNH TÂY HỒ | L4: 0304741634-015
B5: 46238 | C5: 00054252 | D5: 1C26TTN | E5: TC260802-01009-00156 | F5: 2385480 | G5: 190838 | H5: 2576318 | I5: 46238 | J5: BH21618 | K5: CÔNG TY CỔ PHẦN TRUNG TÂM THƯƠNG MẠI LOTTE VIỆT NAM - CHI NHÁNH BÀ RỊA VŨNG TÀU | L5: 0304741634-005
B6: 46238 | C6: 00054257 | D6: 1C26TTN | E6: TC260803-01011-00101 | F6: 2195455 | G6: 175636 | H6: 2371091 | I6: 46238 | J6: BH21623 | K6: CÔNG TY CỔ PHẦN TRUNG TÂM THƯƠNG MẠI LOTTE VIỆT NAM - CHI NHÁNH CẦN THƠ | L6: 0304741634-007
B7: 46238 | C7: 00054255 | D7: 1C26TTN | E7: TC260731-01013-00043 | F7: 1262100 | G7: 100968 | H7: 1363068 | I7: 46238 | J7: BH21621 | K7: CÔNG TY CỔ PHẦN TRUNG TÂM THƯƠNG MẠI LOTTE VIỆT NAM - CHI NHÁNH NHA TRANG | L7: 0304741634-011
B8: 46238 | C8: 00054268 | D8: 1C26TTN | E8: 260731-01001-00240 | F8: 1220680 | G8: 97654 | H8: 1318334 | I8: 46238 | J8: BH21776 | K8: CÔNG TY CỔ PHẦN TRUNG TÂM THƯƠNG MẠI LOTTE VIỆT NAM | L8: 0304741634
B9: 46238 | C9: 00054253 | D9: 1C26TTN | E9: TC260731-01009-00074 | F9: 2524200 | G9: 201936 | H9: 2726136 | I9: 46238 | J9: BH21619 | K9: CÔNG TY CỔ PHẦN TRUNG TÂM THƯƠNG MẠI LOTTE VIỆT NAM - CHI NHÁNH BÀ RỊA VŨNG TÀU | L9: 0304741634-005
B10: 46238 | C10: 00054280 | D10: 1C26TTN | E10: 2608032-01002-00210- LOTTEMART PHÚ THỌ | F10: 589630 | G10: 47170 | H10: 636800 | I10: 46238 | J10: BH21787 | K10: LOTTEMART PHÚ THỌ | L10: 0304741634
B11: 46238 | C11: 00054256 | D11: 1C26TTN | E11: TC260803-01016-00050 | F11: 6886795 | G11: 550944 | H11: 7437739 | I11: 46238 | J11: BH21622 | K11: CÔNG TY CỔ PHẦN TRUNG TÂM THƯƠNG MẠI LOTTE VIỆT NAM - CHI NHÁNH VINH | L11: 0304741634-013
B12: 46238 | C12: 00054254 | D12: 1C26TTN | E12: TC260802-01006-00041 | F12: 1126645 | G12: 90132 | H12: 1216777 | I12: 46238 | J12: BH21620 | K12: CÔNG TY CỔ PHẦN TRUNG TÂM THƯƠNG MẠI LOTTE VIỆT NAM - CHI NHÁNH BÌNH THUẬN | L12: 0304741634-002
B13: 46238 | C13: 00054302 | D13: 1C26TTN | E13: 260803-01012-00313 | F13: 1262100 | G13: 100968 | H13: 1363068 | I13: 46238 | J13: BH21805 | K13: CÔNG TY CỔ PHẦN TRUNG TÂM THƯƠNG MẠI LOTTE VIỆT NAM - CHI NHÁNH GÒ VẤP | L13: 0304741634-010
B14: 46239 | C14: 00054723 | D14: 1C26TTN | E14: 260803-01010-00253 | F14: 583055 | G14: 46644 | H14: 629699 | I14: 46239 | J14: BH21847 | K14: CÔNG TY CỔ PHẦN TRUNG TÂM THƯƠNG MẠI LOTTE VIỆT NAM - CHI NHÁNH TÂN BÌNH | L14: 0304741634-006
B15: 46240 | C15: 00055138 | D15: 1C26TTN | E15: TC260803-01004-00155 | F15: 991190 | G15: 79295 | H15: 1070485 | I15: 46240 | J15: BH21884 | K15: CÔNG TY CỔ PHẦN TRUNG TÂM THƯƠNG MẠI LOTTE VIỆT NAM - CHI NHÁNH ĐÀ NẴNG | L15: 0304741634-009
... B71: 46263 | C71: 00060597 | D71: 1C26TTN | E71: 260827-01012-00172 | F71: 1609185 | G71: 128735 | H71: 1737920 | I71: 46263 | J71: BH24262 | K71: CÔNG TY CỔ PHẦN TRUNG TÂM THƯƠNG MẠI LOTTE VIỆT NAM - CHI NHÁNH GÒ VẤP | L71: 0304741634-010
F79: =SUM(F4:F78) -> 133758010 | G79: =SUM(G4:G78) -> 10700636 | H79: =SUM(H4:H78) -> 144458646
B83: 46246 | E83: ĐÃ KIỂM TRA - HÀNG TRẢ - LOTTEMART PHÚ THỌ - PHIẾU: 180726LOTTE940 - NGÀY : 18-07 - LOTTE-HCM-Q11-940 | F83: -1009680 | G83: -80774 | H83: -1090454 | I83: 46221 | J83: 180726LOTTE940 | K83: LOTTEMART PHÚ THỌ | L83: 0304741634

Sheet TÂY HỒ
B1: CÔNG TY TNHH MTV TM & DV | E1: CỘNG HÒA XÃ HỘI CHỦ NGHĨA VIỆT NAM
B2: NGỌC THƠM | E2: Độc lập - Tự do - Hạnh phúc
E4: TP Hồ Chí Minh, ngày 09 tháng 09 năm 2026
A6: BẢNG KÊ HÓA ĐƠN THÁNG 08/2026
A7: Số: 14082026/BKHD/NT-LOTTE
A9: Bên bán hàng: | C9: CÔNG TY TNHH MỘT THÀNH VIÊN THƯƠNG MẠI VÀ DỊCH VỤ NGỌC THƠM
A10: Mã số thuế: | C10: 0309391503
A11: Địa chỉ: | C11: 12/14/18 Đường 49, Khu phố 69, Phường Hiệp Bình, TP. Hồ Chí Minh, Việt Nam
A12: Đại diện: | C12: Nguyễn Bảo Thạch | E12: Chức vụ: Phó Giám đốc
A14: Bên mua hàng: | C14: =+VLOOKUP(J14,'Danh sách CN'!A:D,2,0) -> CÔNG TY CỔ PHẦN TRUNG TÂM THƯƠNG MẠI LOTTE VIỆT NAM - CHI NHÁNH TÂY HỒ | J14: LOTTE-015
A15: Mã số thuế: | C15: =+VLOOKUP(J14,'Danh sách CN'!A:D,3,0) -> 0304741634-015 | J15: LOTTE-HNI-THO-015
A16: Địa chỉ: | C16: =+VLOOKUP(J14,'Danh sách CN'!A:D,4,0) -> Tầng hầm B1, Lotte Mall Hà Nội, Số 272 Võ Chí Công, Phường Tây Hồ, Thành phố Hà Nội, Việt Nam
A17: Đại diện: | E17: Chức vụ:
A19: STT | B19: Số hóa đơn | C19: Ký hiệu | D19: Ngày hóa đơn | E19: Tên khách hàng | F19: Thành tiền trước thuế | G19: Tiền thuế GTGT | H19: Tổng thanh toán
A20: 1 | B20: 00054119 | C20: 1C26TTN | D20: 46235 | E20: CÔNG TY CỔ PHẦN TRUNG TÂM THƯƠNG MẠI LOTTE VIỆT NAM - CHI NHÁNH TÂY HỒ | F20: 1749165 | G20: 139933 | H20: =F20+G20 -> 1889098
A21: 2 | B21: 00056746 | C21: 1C26TTN | D21: 46249 | E21: CÔNG TY CỔ PHẦN TRUNG TÂM THƯƠNG MẠI LOTTE VIỆT NAM - CHI NHÁNH TÂY HỒ | F21: 2292135 | G21: 183371 | H21: =F21+G21 -> 2475506
A22: 3 | B22: 00056745 | C22: 1C26TTN | D22: 46249 | E22: CÔNG TY CỔ PHẦN TRUNG TÂM THƯƠNG MẠI LOTTE VIỆT NAM - CHI NHÁNH TÂY HỒ | F22: 2386790 | G22: 190943 | H22: =F22+G22 -> 2577733
A23: 4 | B23: 00058233 | C23: 1C26TTN | D23: 46255 | E23: CÔNG TY CỔ PHẦN TRUNG TÂM THƯƠNG MẠI LOTTE VIỆT NAM - CHI NHÁNH TÂY HỒ | F23: 2875190 | G23: 230015 | H23: =F23+G23 -> 3105205
A24: 5 | B24: 00058446 | C24: 1C26TTN | D24: 46259 | E24: CÔNG TY CỔ PHẦN TRUNG TÂM THƯƠNG MẠI LOTTE VIỆT NAM - CHI NHÁNH TÂY HỒ | F24: 2828530 | G24: 226282 | H24: =F24+G24 -> 3054812
A25: 6 | B25: 00059634 | C25: 1C26TTN | D25: 46261 | E25: CÔNG TY CỔ PHẦN TRUNG TÂM THƯƠNG MẠI LOTTE VIỆT NAM - CHI NHÁNH TÂY HỒ | F25: 7399650 | G25: 591972 | H25: =F25+G25 -> 7991622
A26: Tổng cộng | F26: =SUM(F20:F25) -> 19531460 | G26: =SUM(G20:G25) -> 1562516 | H26: =SUM(H20:H25) -> 21093976
A27: Tổng chiết khấu (tỷ lệ 7.25%) | F27: =ROUND(F26*0.0725,0) -> 1416031 | G27: =ROUND(F27*0.08,0) -> 113282 | H27: =F27+G27 -> 1529313
A29: Bảng kê được lập thành 02 bản, có giá trị như nhau, mỗi bên giữ 01 bản
B31: ĐẠI DIỆN MUA HÀNG | F31: ĐẠI DIỆN BÁN HÀNG
B32: (Ký điện tử/ký, đóng dấu và ghi rõ họ tên) | F32: (Ký điện tử/ký, đóng dấu và ghi rõ họ tên)

Sheet VINH
B1: CÔNG TY TNHH MTV TM & DV | E1: CỘNG HÒA XÃ HỘI CHỦ NGHĨA VIỆT NAM
B2: NGỌC THƠM | E2: Độc lập - Tự do - Hạnh phúc
E4: TP Hồ Chí Minh, ngày 09 tháng 09 năm 2026
A6: BẢNG KÊ HÓA ĐƠN THÁNG 08/2026
A7: Số: 13082026/BKHD/NT-LOTTE
A9: Bên bán hàng: | C9: CÔNG TY TNHH MỘT THÀNH VIÊN THƯƠNG MẠI VÀ DỊCH VỤ NGỌC THƠM
A10: Mã số thuế: | C10: 0309391503
A11: Địa chỉ: | C11: 12/14/18 Đường 49, Khu phố 69, Phường Hiệp Bình, TP. Hồ Chí Minh, Việt Nam
A12: Đại diện: | C12: Nguyễn Bảo Thạch | E12: Chức vụ: Phó Giám đốc
A14: Bên mua hàng: | C14: =+VLOOKUP(J14,'Danh sách CN'!A:D,2,0) -> CÔNG TY CỔ PHẦN TRUNG TÂM THƯƠNG MẠI LOTTE VIỆT NAM - CHI NHÁNH VINH | J14: LOTTE-013
A15: Mã số thuế: | C15: =+VLOOKUP(J14,'Danh sách CN'!A:D,3,0) -> 0304741634-013 | J15: LOTTE-NAN-01-013
A16: Địa chỉ: | C16: =+VLOOKUP(J14,'Danh sách CN'!A:D,4,0) -> Đại lộ V.I.Lenin, Khối Yên Sơn, Phường Vinh Phú, Tỉnh Nghệ An, Việt Nam
A17: Đại diện: | E17: Chức vụ:
A19: STT | B19: Số hóa đơn | C19: Ký hiệu | D19: Ngày hóa đơn | E19: Tên khách hàng | F19: Thành tiền trước thuế | G19: Tiền thuế GTGT | H19: Tổng thanh toán
A20: 1 | B20: 00054256 | C20: 1C26TTN | D20: 46238 | E20: CÔNG TY CỔ PHẦN TRUNG TÂM THƯƠNG MẠI LOTTE VIỆT NAM - CHI NHÁNH VINH | F20: 6886795 | G20: 550944 | H20: =F20+G20 -> 7437739
A21: 2 | B21: 00058353 | C21: 1C26TTN | D21: 46252 | E21: CÔNG TY CỔ PHẦN TRUNG TÂM THƯƠNG MẠI LOTTE VIỆT NAM - CHI NHÁNH VINH | F21: 1119450 | G21: 89556 | H21: =F21+G21 -> 1209006
A22: 3 | B22: 00058438 | C22: 1C26TTN | D22: 46259 | E22: CÔNG TY CỔ PHẦN TRUNG TÂM THƯƠNG MẠI LOTTE VIỆT NAM - CHI NHÁNH VINH | F22: 10724490 | G22: 857959 | H22: =F22+G22 -> 11582449
A23: Tổng cộng | F23: =SUM(F20:F22) -> 18730735 | G23: =SUM(G20:G22) -> 1498459 | H23: =SUM(H20:H22) -> 20229194
A24: Tổng chiết khấu (tỷ lệ 7.25%) | F24: =ROUND(F23*0.0725,0) -> 1357978 | G24: =ROUND(F24*0.08,0) -> 108638 | H24: =F24+G24 -> 1466616
A26: Bảng kê được lập thành 02 bản, có giá trị như nhau, mỗi bên giữ 01 bản
B28: ĐẠI DIỆN MUA HÀNG | F28: ĐẠI DIỆN BÁN HÀNG
B29: (Ký điện tử/ký, đóng dấu và ghi rõ họ tên) | F29: (Ký điện tử/ký, đóng dấu và ghi rõ họ tên)

Sheet NHA TRANG
B1: CÔNG TY TNHH MTV TM & DV | E1: CỘNG HÒA XÃ HỘI CHỦ NGHĨA VIỆT NAM
B2: NGỌC THƠM | E2: Độc lập - Tự do - Hạnh phúc
E4: TP Hồ Chí Minh, ngày 09 tháng 09 năm 2026
A6: BẢNG KÊ HÓA ĐƠN THÁNG 08/2026
A7: Số: 12082026/BKHD/NT-LOTTE
A9: Bên bán hàng: | C9: CÔNG TY TNHH MỘT THÀNH VIÊN THƯƠNG MẠI VÀ DỊCH VỤ NGỌC THƠM
A10: Mã số thuế: | C10: 0309391503
A11: Địa chỉ: | C11: 12/14/18 Đường 49, Khu phố 69, Phường Hiệp Bình, TP. Hồ Chí Minh, Việt Nam
A12: Đại diện: | C12: Nguyễn Bảo Thạch | E12: Chức vụ: Phó Giám đốc
A14: Bên mua hàng: | C14: =+VLOOKUP(J14,'Danh sách CN'!A:D,2,0) -> CÔNG TY CỔ PHẦN TRUNG TÂM THƯƠNG MẠI LOTTE VIỆT NAM - CHI NHÁNH NHA TRANG | J14: LOTTE-011
A15: Mã số thuế: | C15: =+VLOOKUP(J14,'Danh sách CN'!A:D,3,0) -> 0304741634-011 | J15: LOTTE-KHA-00-011
A16: Địa chỉ: | C16: =+VLOOKUP(J14,'Danh sách CN'!A:D,4,0) -> Số 58 đường 23/10, Phường Tây Nha Trang, Tỉnh Khánh Hòa, Việt Nam
A17: Đại diện: | E17: Chức vụ:
A19: STT | B19: Số hóa đơn | C19: Ký hiệu | D19: Ngày hóa đơn | E19: Tên khách hàng | F19: Thành tiền trước thuế | G19: Tiền thuế GTGT | H19: Tổng thanh toán
A20: 1 | B20: 00054255 | C20: 1C26TTN | D20: 46238 | E20: CÔNG TY CỔ PHẦN TRUNG TÂM THƯƠNG MẠI LOTTE VIỆT NAM - CHI NHÁNH NHA TRANG | F20: 1262100 | G20: 100968 | H20: =F20+G20 -> 1363068
A21: 2 | B21: 00055675 | C21: 1C26TTN | D21: 46245 | E21: CÔNG TY CỔ PHẦN TRUNG TÂM THƯƠNG MẠI LOTTE VIỆT NAM - CHI NHÁNH NHA TRANG | F21: 991190 | G21: 79295 | H21: =F21+G21 -> 1070485
A22: 3 | B22: 00056360 | C22: 1C26TTN | D22: 46247 | E22: CÔNG TY CỔ PHẦN TRUNG TÂM THƯƠNG MẠI LOTTE VIỆT NAM - CHI NHÁNH NHA TRANG | F22: 1709700 | G22: 136776 | H22: =F22+G22 -> 1846476
A23: 4 | B23: 00056817 | C23: 1C26TTN | D23: 46252 | E23: CÔNG TY CỔ PHẦN TRUNG TÂM THƯƠNG MẠI LOTTE VIỆT NAM - CHI NHÁNH NHA TRANG | F23: 1119450 | G23: 89556 | H23: =F23+G23 -> 1209006
A24: 5 | B24: 00058354 | C24: 1C26TTN | D24: 46252 | E24: CÔNG TY CỔ PHẦN TRUNG TÂM THƯƠNG MẠI LOTTE VIỆT NAM - CHI NHÁNH NHA TRANG | F24: 583055 | G24: 46644 | H24: =F24+G24 -> 629699
A25: 6 | B25: 00060581 | C25: 1C26TTN | D25: 46263 | E25: CÔNG TY CỔ PHẦN TRUNG TÂM THƯƠNG MẠI LOTTE VIỆT NAM - CHI NHÁNH NHA TRANG | F25: 3911825 | G25: 312946 | H25: =F25+G25 -> 4224771
A26: Tổng cộng | F26: =SUM(F20:F25) -> 9577320 | G26: =SUM(G20:G25) -> 766185 | H26: =SUM(H20:H25) -> 10343505
A27: Tổng chiết khấu (tỷ lệ 7.25%) | F27: =ROUND(F26*0.0725,0) -> 694356 | G27: =ROUND(F27*0.08,0) -> 55548 | H27: =F27+G27 -> 749904
A29: Bảng kê được lập thành 02 bản, có giá trị như nhau, mỗi bên giữ 01 bản
B31: ĐẠI DIỆN MUA HÀNG | F31: ĐẠI DIỆN BÁN HÀNG
B32: (Ký điện tử/ký, đóng dấu và ghi rõ họ tên) | F32: (Ký điện tử/ký, đóng dấu và ghi rõ họ tên)

Sheet GÒ VẤP
B1: CÔNG TY TNHH MTV TM & DV | E1: CỘNG HÒA XÃ HỘI CHỦ NGHĨA VIỆT NAM
B2: NGỌC THƠM | E2: Độc lập - Tự do - Hạnh phúc
E4: TP Hồ Chí Minh, ngày 09 tháng 09 năm 2026
A6: BẢNG KÊ HÓA ĐƠN THÁNG 08/2026
A7: Số: 11082026/BKHD/NT-LOTTE
A9: Bên bán hàng: | C9: CÔNG TY TNHH MỘT THÀNH VIÊN THƯƠNG MẠI VÀ DỊCH VỤ NGỌC THƠM
A10: Mã số thuế: | C10: 0309391503
A11: Địa chỉ: | C11: 12/14/18 Đường 49, Khu phố 69, Phường Hiệp Bình, TP. Hồ Chí Minh, Việt Nam
A12: Đại diện: | C12: Nguyễn Bảo Thạch | E12: Chức vụ: Phó Giám đốc
A14: Bên mua hàng: | C14: =+VLOOKUP(J14,'Danh sách CN'!A:D,2,0) -> CÔNG TY CỔ PHẦN TRUNG TÂM THƯƠNG MẠI LOTTE VIỆT NAM - CHI NHÁNH GÒ VẤP | J14: LOTTE-010
A15: Mã số thuế: | C15: =+VLOOKUP(J14,'Danh sách CN'!A:D,3,0) -> 0304741634-010 | J15: LOTTE-HCM-GVP-010
A16: Địa chỉ: | C16: =+VLOOKUP(J14,'Danh sách CN'!A:D,4,0) -> Số 18, Đường Phan Văn Trị, Phường Gò Vấp, Thành phố Hồ Chí Minh, Việt Nam
A17: Đại diện: | E17: Chức vụ:
A19: STT | B19: Số hóa đơn | C19: Ký hiệu | D19: Ngày hóa đơn | E19: Tên khách hàng | F19: Thành tiền trước thuế | G19: Tiền thuế GTGT | H19: Tổng thanh toán
A20: 1 | B20: 00054302 | C20: 1C26TTN | D20: 46238 | E20: CÔNG TY CỔ PHẦN TRUNG TÂM THƯƠNG MẠI LOTTE VIỆT NAM - CHI NHÁNH GÒ VẤP | F20: 1262100 | G20: 100968 | H20: =F20+G20 -> 1363068
A21: 2 | B21: 00055234 | C21: 1C26TTN | D21: 46241 | E21: CÔNG TY CỔ PHẦN TRUNG TÂM THƯƠNG MẠI LOTTE VIỆT NAM - CHI NHÁNH GÒ VẤP | F21: 1067500 | G21: 85400 | H21: =F21+G21 -> 1152900
A22: 3 | B22: 00055732 | C22: 1C26TTN | D22: 46245 | E22: CÔNG TY CỔ PHẦN TRUNG TÂM THƯƠNG MẠI LOTTE VIỆT NAM - CHI NHÁNH GÒ VẤP | F22: 1214105 | G22: 97128 | H22: =F22+G22 -> 1311233
A23: 4 | B23: 00056635 | C23: 1C26TTN | D23: 46248 | E23: CÔNG TY CỔ PHẦN TRUNG TÂM THƯƠNG MẠI LOTTE VIỆT NAM - CHI NHÁNH GÒ VẤP | F23: 583055 | G23: 46644 | H23: =F23+G23 -> 629699
A24: 5 | B24: 00056634 | C24: 1C26TTN | D24: 46248 | E24: CÔNG TY CỔ PHẦN TRUNG TÂM THƯƠNG MẠI LOTTE VIỆT NAM - CHI NHÁNH GÒ VẤP | F24: 2345370 | G24: 187630 | H24: =F24+G24 -> 2533000
A25: 6 | B25: 00057430 | C25: 1C26TTN | D25: 46253 | E25: CÔNG TY CỔ PHẦN TRUNG TÂM THƯƠNG MẠI LOTTE VIỆT NAM - CHI NHÁNH GÒ VẤP | F25: 1072790 | G25: 85823 | H25: =F25+G25 -> 1158613
A26: 7 | B26: 00058314 | C26: 1C26TTN | D26: 46256 | E26: CÔNG TY CỔ PHẦN TRUNG TÂM THƯƠNG MẠI LOTTE VIỆT NAM - CHI NHÁNH GÒ VẤP | F26: 536395 | G26: 42912 | H26: =F26+G26 -> 579307
A27: 8 | B27: 00058315 | C27: 1C26TTN | D27: 46256 | E27: CÔNG TY CỔ PHẦN TRUNG TÂM THƯƠNG MẠI LOTTE VIỆT NAM - CHI NHÁNH GÒ VẤP | F27: 3319550 | G27: 265564 | H27: =F27+G27 -> 3585114
A28: 9 | B28: 00060597 | C28: 1C26TTN | D28: 46263 | E28: CÔNG TY CỔ PHẦN TRUNG TÂM THƯƠNG MẠI LOTTE VIỆT NAM - CHI NHÁNH GÒ VẤP | F28: 1609185 | G28: 128735 | H28: =F28+G28 -> 1737920
A29: Tổng cộng | F29: =SUM(F20:F28) -> 13010050 | G29: =SUM(G20:G28) -> 1040804 | H29: =SUM(H20:H28) -> 14050854
A30: Tổng chiết khấu (tỷ lệ 7.25%) | F30: =ROUND(F29*0.0725,0) -> 943229 | G30: =ROUND(F30*0.08,0) -> 75458 | H30: =F30+G30 -> 1018687
A32: Bảng kê được lập thành 02 bản, có giá trị như nhau, mỗi bên giữ 01 bản
B34: ĐẠI DIỆN MUA HÀNG | F34: ĐẠI DIỆN BÁN HÀNG
B35: (Ký điện tử/ký, đóng dấu và ghi rõ họ tên) | F35: (Ký điện tử/ký, đóng dấu và ghi rõ họ tên)

Sheet CẦN THƠ
B1: CÔNG TY TNHH MTV TM & DV | E1: CỘNG HÒA XÃ HỘI CHỦ NGHĨA VIỆT NAM
B2: NGỌC THƠM | E2: Độc lập - Tự do - Hạnh phúc
E4: TP Hồ Chí Minh, ngày 09 tháng 09 năm 2026
A6: BẢNG KÊ HÓA ĐƠN THÁNG 08/2026
A7: Số: 10082026/BKHD/NT-LOTTE
A9: Bên bán hàng: | C9: CÔNG TY TNHH MỘT THÀNH VIÊN THƯƠNG MẠI VÀ DỊCH VỤ NGỌC THƠM
A10: Mã số thuế: | C10: 0309391503
A11: Địa chỉ: | C11: 12/14/18 Đường 49, Khu phố 69, Phường Hiệp Bình, TP. Hồ Chí Minh, Việt Nam
A12: Đại diện: | C12: Nguyễn Bảo Thạch | E12: Chức vụ: Phó Giám đốc
A14: Bên mua hàng: | C14: =+VLOOKUP(J14,'Danh sách CN'!A:D,2,0) -> CÔNG TY CỔ PHẦN TRUNG TÂM THƯƠNG MẠI LOTTE VIỆT NAM - CHI NHÁNH CẦN THƠ | J14: LOTTE-007
A15: Mã số thuế: | C15: =+VLOOKUP(J14,'Danh sách CN'!A:D,3,0) -> 0304741634-007 | J15: LOTTE-CTO-00-007
A16: Địa chỉ: | C16: =+VLOOKUP(J14,'Danh sách CN'!A:D,4,0) -> 84, Mậu Thân, Phường Cái Khế, Thành phố Cần Thơ, Việt Nam
A17: Đại diện: | E17: Chức vụ:
A19: STT | B19: Số hóa đơn | C19: Ký hiệu | D19: Ngày hóa đơn | E19: Tên khách hàng | F19: Thành tiền trước thuế | G19: Tiền thuế GTGT | H19: Tổng thanh toán
A20: 1 | B20: 00054257 | C20: 1C26TTN | D20: 46238 | E20: CÔNG TY CỔ PHẦN TRUNG TÂM THƯƠNG MẠI LOTTE VIỆT NAM - CHI NHÁNH CẦN THƠ | F20: 2195455 | G20: 175636 | H20: =F20+G20 -> 2371091
A21: 2 | B21: 00055676 | C21: 1C26TTN | D21: 46245 | E21: CÔNG TY CỔ PHẦN TRUNG TÂM THƯƠNG MẠI LOTTE VIỆT NAM - CHI NHÁNH CẦN THƠ | F21: 1262100 | G21: 100968 | H21: =F21+G21 -> 1363068
A22: 3 | B22: 00056821 | C22: 1C26TTN | D22: 46252 | E22: CÔNG TY CỔ PHẦN TRUNG TÂM THƯƠNG MẠI LOTTE VIỆT NAM - CHI NHÁNH CẦN THƠ | F22: 1072790 | G22: 85823 | H22: =F22+G22 -> 1158613
A23: 4 | B23: 00056820 | C23: 1C26TTN | D23: 46252 | E23: CÔNG TY CỔ PHẦN TRUNG TÂM THƯƠNG MẠI LOTTE VIỆT NAM - CHI NHÁNH CẦN THƠ | F23: 1755740 | G23: 140459 | H23: =F23+G23 -> 1896199
A24: 5 | B24: 00058441 | C24: 1C26TTN | D24: 46259 | E24: CÔNG TY CỔ PHẦN TRUNG TÂM THƯƠNG MẠI LOTTE VIỆT NAM - CHI NHÁNH CẦN THƠ | F24: 2189595 | G24: 175168 | H24: =F24+G24 -> 2364763
A25: Tổng cộng | F25: =SUM(F20:F24) -> 8475680 | G25: =SUM(G20:G24) -> 678054 | H25: =SUM(H20:H24) -> 9153734
A26: Tổng chiết khấu (tỷ lệ 7.25%) | F26: =ROUND(F25*0.0725,0) -> 614487 | G26: =ROUND(F26*0.08,0) -> 49159 | H26: =F26+G26 -> 663646
A28: Bảng kê được lập thành 02 bản, có giá trị như nhau, mỗi bên giữ 01 bản
B30: ĐẠI DIỆN MUA HÀNG | F30: ĐẠI DIỆN BÁN HÀNG
B31: (Ký điện tử/ký, đóng dấu và ghi rõ họ tên) | F31: (Ký điện tử/ký, đóng dấu và ghi rõ họ tên)

Sheet TÂN BÌNH
B1: CÔNG TY TNHH MTV TM & DV | E1: CỘNG HÒA XÃ HỘI CHỦ NGHĨA VIỆT NAM
B2: NGỌC THƠM | E2: Độc lập - Tự do - Hạnh phúc
E4: TP Hồ Chí Minh, ngày 09 tháng 09 năm 2026
A6: BẢNG KÊ HÓA ĐƠN THÁNG 08/2026
A7: Số: 09082026/BKHD/NT-LOTTE
A9: Bên bán hàng: | C9: CÔNG TY TNHH MỘT THÀNH VIÊN THƯƠNG MẠI VÀ DỊCH VỤ NGỌC THƠM
A10: Mã số thuế: | C10: 0309391503
A11: Địa chỉ: | C11: 12/14/18 Đường 49, Khu phố 69, Phường Hiệp Bình, TP. Hồ Chí Minh, Việt Nam
A12: Đại diện: | C12: Nguyễn Bảo Thạch | E12: Chức vụ: Phó Giám đốc
A14: Bên mua hàng: | C14: =+VLOOKUP(J14,'Danh sách CN'!A:D,2,0) -> CÔNG TY CỔ PHẦN TRUNG TÂM THƯƠNG MẠI LOTTE VIỆT NAM - CHI NHÁNH TÂN BÌNH | J14: LOTTE-006
A15: Mã số thuế: | C15: =+VLOOKUP(J14,'Danh sách CN'!A:D,3,0) -> 0304741634-006 | J15: LOTTE-HCM-TBH-006
A16: Địa chỉ: | C16: =+VLOOKUP(J14,'Danh sách CN'!A:D,4,0) -> Số 20, đường Cộng Hòa, Phường Bảy Hiền, Thành phố Hồ Chí Minh, Việt Nam
A17: Đại diện: | E17: Chức vụ:
A19: STT | B19: Số hóa đơn | C19: Ký hiệu | D19: Ngày hóa đơn | E19: Tên khách hàng | F19: Thành tiền trước thuế | G19: Tiền thuế GTGT | H19: Tổng thanh toán
A20: 1 | B20: 00054723 | C20: 1C26TTN | D20: 46239 | E20: CÔNG TY CỔ PHẦN TRUNG TÂM THƯƠNG MẠI LOTTE VIỆT NAM - CHI NHÁNH TÂN BÌNH | F20: 583055 | G20: 46644 | H20: =F20+G20 -> 629699
A21: 2 | B21: 00057761 | C21: 1C26TTN | D21: 46253 | E21: CÔNG TY CỔ PHẦN TRUNG TÂM THƯƠNG MẠI LOTTE VIỆT NAM - CHI NHÁNH TÂN BÌNH | F21: 1709080 | G21: 136726 | H21: =F21+G21 -> 1845806
A23: Tổng cộng | F23: =SUM(F20:F22) -> 2292135 | G23: =SUM(G20:G22) -> 183370 | H23: =SUM(H20:H22) -> 2475505
A24: Tổng chiết khấu (tỷ lệ 7.25%) | F24: =ROUND(F23*0.0725,0) -> 166180 | G24: =ROUND(F24*0.08,0) -> 13294 | H24: =F24+G24 -> 179474
A26: Bảng kê được lập thành 02 bản, có giá trị như nhau, mỗi bên giữ 01 bản
B28: ĐẠI DIỆN MUA HÀNG | F28: ĐẠI DIỆN BÁN HÀNG
B29: (Ký điện tử/ký, đóng dấu và ghi rõ họ tên) | F29: (Ký điện tử/ký, đóng dấu và ghi rõ họ tên)

Sheet VŨNG TÀU
B1: CÔNG TY TNHH MTV TM & DV | E1: CỘNG HÒA XÃ HỘI CHỦ NGHĨA VIỆT NAM
B2: NGỌC THƠM | E2: Độc lập - Tự do - Hạnh phúc
E4: TP Hồ Chí Minh, ngày 09 tháng 09 năm 2026
A6: BẢNG KÊ HÓA ĐƠN THÁNG 08/2026
A7: Số: 08082026/BKHD/NT-LOTTE
A9: Bên bán hàng: | C9: CÔNG TY TNHH MỘT THÀNH VIÊN THƯƠNG MẠI VÀ DỊCH VỤ NGỌC THƠM
A10: Mã số thuế: | C10: 0309391503
A11: Địa chỉ: | C11: 12/14/18 Đường 49, Khu phố 69, Phường Hiệp Bình, TP. Hồ Chí Minh, Việt Nam
A12: Đại diện: | C12: Nguyễn Bảo Thạch | E12: Chức vụ: Phó Giám đốc
A14: Bên mua hàng: | C14: =+VLOOKUP(J14,'Danh sách CN'!A:D,2,0) -> CÔNG TY CỔ PHẦN TRUNG TÂM THƯƠNG MẠI LOTTE VIỆT NAM - CHI NHÁNH BÀ RỊA VŨNG TÀU | J14: LOTTE-005
A15: Mã số thuế: | C15: =+VLOOKUP(J14,'Danh sách CN'!A:D,3,0) -> 0304741634-005 | J15: LOTTE-VTU-00-005
A16: Địa chỉ: | C16: =+VLOOKUP(J14,'Danh sách CN'!A:D,4,0) -> Góc đường 3 tháng 2 và đường Thi Sách, Phường Tam Thắng, TP. Hồ Chí Minh, Việt Nam
A17: Đại diện: | E17: Chức vụ:
A19: STT | B19: Số hóa đơn | C19: Ký hiệu | D19: Ngày hóa đơn | E19: Tên khách hàng | F19: Thành tiền trước thuế | G19: Tiền thuế GTGT | H19: Tổng thanh toán
A20: 1 | B20: 00054252 | C20: 1C26TTN | D20: 46238 | E20: CÔNG TY CỔ PHẦN TRUNG TÂM THƯƠNG MẠI LOTTE VIỆT NAM - CHI NHÁNH BÀ RỊA VŨNG TÀU | F20: 2385480 | G20: 190838 | H20: =F20+G20 -> 2576318
A21: 2 | B21: 00054253 | C21: 1C26TTN | D21: 46238 | E21: CÔNG TY CỔ PHẦN TRUNG TÂM THƯƠNG MẠI LOTTE VIỆT NAM - CHI NHÁNH BÀ RỊA VŨNG TÀU | F21: 2524200 | G21: 201936 | H21: =F21+G21 -> 2726136
A22: 3 | B22: 00058440 | C22: 1C26TTN | D22: 46259 | E22: CÔNG TY CỔ PHẦN TRUNG TÂM THƯƠNG MẠI LOTTE VIỆT NAM - CHI NHÁNH BÀ RỊA VŨNG TÀU | F22: 3268960 | G22: 261517 | H22: =F22+G22 -> 3530477
A23: Tổng cộng | F23: =SUM(F20:F22) -> 8178640 | G23: =SUM(G20:G22) -> 654291 | H23: =SUM(H20:H22) -> 8832931
A24: Tổng chiết khấu (tỷ lệ 7.25%) | F24: =ROUND(F23*0.0725,0) -> 592951 | G24: =ROUND(F24*0.08,0) -> 47436 | H24: =F24+G24 -> 640387
A26: Bảng kê được lập thành 02 bản, có giá trị như nhau, mỗi bên giữ 01 bản
B28: ĐẠI DIỆN MUA HÀNG | F28: ĐẠI DIỆN BÁN HÀNG
B29: (Ký điện tử/ký, đóng dấu và ghi rõ họ tên) | F29: (Ký điện tử/ký, đóng dấu và ghi rõ họ tên)

Sheet BA ĐÌNH
B1: CÔNG TY TNHH MTV TM & DV | E1: CỘNG HÒA XÃ HỘI CHỦ NGHĨA VIỆT NAM
B2: NGỌC THƠM | E2: Độc lập - Tự do - Hạnh phúc
E4: TP Hồ Chí Minh, ngày 09 tháng 09 năm 2026
A6: BẢNG KÊ HÓA ĐƠN THÁNG 08/2026
A7: Số: 07082026/BKHD/NT-LOTTE
A9: Bên bán hàng: | C9: CÔNG TY TNHH MỘT THÀNH VIÊN THƯƠNG MẠI VÀ DỊCH VỤ NGỌC THƠM
A10: Mã số thuế: | C10: 0309391503
A11: Địa chỉ: | C11: 12/14/18 Đường 49, Khu phố 69, Phường Hiệp Bình, TP. Hồ Chí Minh, Việt Nam
A12: Đại diện: | C12: Nguyễn Bảo Thạch | E12: Chức vụ: Phó Giám đốc
A14: Bên mua hàng: | C14: =+VLOOKUP(J14,'Danh sách CN'!A:D,2,0) -> CÔNG TY CỔ PHẦN TRUNG TÂM THƯƠNG MẠI LOTTE VIỆT NAM - CHI NHÁNH BA ĐÌNH | J14: LOTTE-008
A15: Mã số thuế: | C15: =+VLOOKUP(J14,'Danh sách CN'!A:D,3,0) -> 0304741634-008 | J15: LOTTE-HNI-BDH-008
A16: Địa chỉ: | C16: =+VLOOKUP(J14,'Danh sách CN'!A:D,4,0) -> Tầng hầm 1 (B1), Trung tâm Lotte Hà Nội, số 54, đường Liễu Giai, Phường Giảng Võ, Thành phố Hà Nội, Việt Nam
A17: Đại diện: | E17: Chức vụ:
A19: STT | B19: Số hóa đơn | C19: Ký hiệu | D19: Ngày hóa đơn | E19: Tên khách hàng | F19: Thành tiền trước thuế | G19: Tiền thuế GTGT | H19: Tổng thanh toán
A20: 1 | B20: 00055692 | C20: 1C26TTN | D20: 46244 | E20: CÔNG TY CỔ PHẦN TRUNG TÂM THƯƠNG MẠI LOTTE VIỆT NAM - CHI NHÁNH BA ĐÌNH | F20: 4091915 | G20: 327353 | H20: =F20+G20 -> 4419268
A21: 2 | B21: 00056747 | C21: 1C26TTN | D21: 46249 | E21: CÔNG TY CỔ PHẦN TRUNG TÂM THƯƠNG MẠI LOTTE VIỆT NAM - CHI NHÁNH BA ĐÌNH | F21: 1119450 | G21: 89556 | H21: =F21+G21 -> 1209006
A22: 3 | B22: 00058222 | C22: 1C26TTN | D22: 46254 | E22: CÔNG TY CỔ PHẦN TRUNG TÂM THƯƠNG MẠI LOTTE VIỆT NAM - CHI NHÁNH BA ĐÌNH | F22: 2186950 | G22: 174956 | H22: =F22+G22 -> 2361906
A23: 4 | B23: 00059633 | C23: 1C26TTN | D23: 46261 | E23: CÔNG TY CỔ PHẦN TRUNG TÂM THƯƠNG MẠI LOTTE VIỆT NAM - CHI NHÁNH BA ĐÌNH | F23: 1702505 | G23: 136200 | H23: =F23+G23 -> 1838705
A24: Tổng cộng | F24: =SUM(F20:F23) -> 9100820 | G24: =SUM(G20:G23) -> 728065 | H24: =SUM(H20:H23) -> 9828885
A25: Tổng chiết khấu (tỷ lệ 7.25%) | F25: =ROUND(F24*0.0725,0) -> 659809 | G25: =ROUND(F25*0.08,0) -> 52785 | H25: =F25+G25 -> 712594
A27: Bảng kê được lập thành 02 bản, có giá trị như nhau, mỗi bên giữ 01 bản
B29: ĐẠI DIỆN MUA HÀNG | F29: ĐẠI DIỆN BÁN HÀNG
B30: (Ký điện tử/ký, đóng dấu và ghi rõ họ tên) | F30: (Ký điện tử/ký, đóng dấu và ghi rõ họ tên)

Sheet BÌNH THUẬN
B1: CÔNG TY TNHH MTV TM & DV | E1: CỘNG HÒA XÃ HỘI CHỦ NGHĨA VIỆT NAM
B2: NGỌC THƠM | E2: Độc lập - Tự do - Hạnh phúc
E4: TP Hồ Chí Minh, ngày 09 tháng 09 năm 2026
A6: BẢNG KÊ HÓA ĐƠN THÁNG 08/2026
A7: Số: 06082026/BKHD/NT-LOTTE
A9: Bên bán hàng: | C9: CÔNG TY TNHH MỘT THÀNH VIÊN THƯƠNG MẠI VÀ DỊCH VỤ NGỌC THƠM
A10: Mã số thuế: | C10: 0309391503
A11: Địa chỉ: | C11: 12/14/18 Đường 49, Khu phố 69, Phường Hiệp Bình, TP. Hồ Chí Minh, Việt Nam
A12: Đại diện: | C12: Nguyễn Bảo Thạch | E12: Chức vụ: Phó Giám đốc
A14: Bên mua hàng: | C14: =+VLOOKUP(J14,'Danh sách CN'!A:D,2,0) -> CÔNG TY CỔ PHẦN TRUNG TÂM THƯƠNG MẠI LOTTE VIỆT NAM - CHI NHÁNH BÌNH THUẬN | J14: LOTTE-002
A15: Mã số thuế: | C15: =+VLOOKUP(J14,'Danh sách CN'!A:D,3,0) -> 0304741634-002 | J15: LOTTE-BTN-00-002
A16: Địa chỉ: | C16: =+VLOOKUP(J14,'Danh sách CN'!A:D,4,0) -> Khu dân cư Hùng Vương I, Phường Phú Thủy, Tỉnh Lâm Đồng, Việt Nam
A17: Đại diện: | E17: Chức vụ:
A19: STT | B19: Số hóa đơn | C19: Ký hiệu | D19: Ngày hóa đơn | E19: Tên khách hàng | F19: Thành tiền trước thuế | G19: Tiền thuế GTGT | H19: Tổng thanh toán
A20: 1 | B20: 00054254 | C20: 1C26TTN | D20: 46238 | E20: CÔNG TY CỔ PHẦN TRUNG TÂM THƯƠNG MẠI LOTTE VIỆT NAM - CHI NHÁNH BÌNH THUẬN | F20: 1126645 | G20: 90132 | H20: =F20+G20 -> 1216777
A21: 2 | B21: 00056698 | C21: 1C26TTN | D21: 46249 | E21: CÔNG TY CỔ PHẦN TRUNG TÂM THƯƠNG MẠI LOTTE VIỆT NAM - CHI NHÁNH BÌNH THUẬN | F21: 1119450 | G21: 89556 | H21: =F21+G21 -> 1209006
A22: 3 | B22: 00056818 | C22: 1C26TTN | D22: 46252 | E22: CÔNG TY CỔ PHẦN TRUNG TÂM THƯƠNG MẠI LOTTE VIỆT NAM - CHI NHÁNH BÌNH THUẬN | F22: 1653200 | G22: 132256 | H22: =F22+G22 -> 1785456
A23: 4 | B23: 00058439 | C23: 1C26TTN | D23: 46259 | E23: CÔNG TY CỔ PHẦN TRUNG TÂM THƯƠNG MẠI LOTTE VIỆT NAM - CHI NHÁNH BÌNH THUẬN | F23: 1609185 | G23: 128735 | H23: =F23+G23 -> 1737920
A25: Tổng cộng | F25: =SUM(F20:F24) -> 5508480 | G25: =SUM(G20:G24) -> 440679 | H25: =SUM(H20:H24) -> 5949159
A26: Tổng chiết khấu (tỷ lệ 7.25%) | F26: =ROUND(F25*0.0725,0) -> 399365 | G26: =ROUND(F26*0.08,0) -> 31949 | H26: =F26+G26 -> 431314 | I26: -517,412
A28: Bảng kê được lập thành 02 bản, có giá trị như nhau, mỗi bên giữ 01 bản
B30: ĐẠI DIỆN MUA HÀNG | F30: ĐẠI DIỆN BÁN HÀNG
B31: (Ký điện tử/ký, đóng dấu và ghi rõ họ tên) | F31: (Ký điện tử/ký, đóng dấu và ghi rõ họ tên)

Sheet BÌNH DƯƠNG
B1: CÔNG TY TNHH MTV TM & DV | E1: CỘNG HÒA XÃ HỘI CHỦ NGHĨA VIỆT NAM
B2: NGỌC THƠM | E2: Độc lập - Tự do - Hạnh phúc
E4: TP Hồ Chí Minh, ngày 09 tháng 09 năm 2026
A6: BẢNG KÊ HÓA ĐƠN THÁNG 08/2026
A7: Số: 05082026/BKHD/NT-LOTTE
A9: Bên bán hàng: | C9: CÔNG TY TNHH MỘT THÀNH VIÊN THƯƠNG MẠI VÀ DỊCH VỤ NGỌC THƠM
A10: Mã số thuế: | C10: 0309391503
A11: Địa chỉ: | C11: 12/14/18 Đường 49, Khu phố 69, Phường Hiệp Bình, TP. Hồ Chí Minh, Việt Nam
A12: Đại diện: | C12: Nguyễn Bảo Thạch | E12: Chức vụ: Phó Giám đốc
A14: Bên mua hàng: | C14: =+VLOOKUP(J14,'Danh sách CN'!A:D,2,0) -> CÔNG TY CỔ PHẦN TRUNG TÂM THƯƠNG MẠI LOTTE VIỆT NAM - CHI NHÁNH BÌNH DƯƠNG | J14: LOTTE-003
A15: Mã số thuế: | C15: =+VLOOKUP(J14,'Danh sách CN'!A:D,3,0) -> 0304741634-003 | J15: LOTTE-BDG-00-003
A16: Địa chỉ: | C16: =+VLOOKUP(J14,'Danh sách CN'!A:D,4,0) -> Khu đô thị The Seasons Bình Dương, Phường Lái Thiêu, TP. Hồ Chí Minh, Việt Nam
A17: Đại diện: | E17: Chức vụ:
A19: STT | B19: Số hóa đơn | C19: Ký hiệu | D19: Ngày hóa đơn | E19: Tên khách hàng | F19: Thành tiền trước thuế | G19: Tiền thuế GTGT | H19: Tổng thanh toán
A20: 1 | B20: 00055239 | C20: 1C26TTN | D20: 46241 | E20: CÔNG TY CỔ PHẦN TRUNG TÂM THƯƠNG MẠI LOTTE VIỆT NAM - CHI NHÁNH BÌNH DƯƠNG | F20: 1179260 | G20: 94341 | H20: =F20+G20 -> 1273601
A21: 2 | B21: 00055778 | C21: 1C26TTN | D21: 46246 | E21: CÔNG TY CỔ PHẦN TRUNG TÂM THƯƠNG MẠI LOTTE VIỆT NAM - CHI NHÁNH BÌNH DƯƠNG | F21: 533750 | G21: 42700 | H21: =F21+G21 -> 576450
A22: 3 | B22: 00057825 | C22: 1C26TTN | D22: 46254 | E22: CÔNG TY CỔ PHẦN TRUNG TÂM THƯƠNG MẠI LOTTE VIỆT NAM - CHI NHÁNH BÌNH DƯƠNG | F22: 1119450 | G22: 89556 | H22: =F22+G22 -> 1209006
A23: 4 | B23: 00059600 | C23: 1C26TTN | D23: 46261 | E23: CÔNG TY CỔ PHẦN TRUNG TÂM THƯƠNG MẠI LOTTE VIỆT NAM - CHI NHÁNH BÌNH DƯƠNG | F23: 533750 | G23: 42700 | H23: =F23+G23 -> 576450
A24: Tổng cộng | F24: =SUM(F20:F23) -> 3366210 | G24: =SUM(G20:G23) -> 269297 | H24: =SUM(H20:H23) -> 3635507
A25: Tổng chiết khấu (tỷ lệ 7.25%) | F25: =ROUND(F24*0.0725,0) -> 244050 | G25: =ROUND(F25*0.08,0) -> 19524 | H25: =F25+G25 -> 263574
A27: Bảng kê được lập thành 02 bản, có giá trị như nhau, mỗi bên giữ 01 bản
B29: ĐẠI DIỆN MUA HÀNG | F29: ĐẠI DIỆN BÁN HÀNG
B30: (Ký điện tử/ký, đóng dấu và ghi rõ họ tên) | F30: (Ký điện tử/ký, đóng dấu và ghi rõ họ tên)

Sheet ĐÀ NẴNG
B1: CÔNG TY TNHH MTV TM & DV | E1: CỘNG HÒA XÃ HỘI CHỦ NGHĨA VIỆT NAM
B2: NGỌC THƠM | E2: Độc lập - Tự do - Hạnh phúc
E4: TP Hồ Chí Minh, ngày 09 tháng 09 năm 2026
A6: BẢNG KÊ HÓA ĐƠN THÁNG 08/2026
A7: Số: 04082026/BKHD/NT-LOTTE
A9: Bên bán hàng: | C9: CÔNG TY TNHH MỘT THÀNH VIÊN THƯƠNG MẠI VÀ DỊCH VỤ NGỌC THƠM
A10: Mã số thuế: | C10: 0309391503
A11: Địa chỉ: | C11: 12/14/18 Đường 49, Khu phố 69, Phường Hiệp Bình, TP. Hồ Chí Minh, Việt Nam
A12: Đại diện: | C12: Nguyễn Bảo Thạch | E12: Chức vụ: Phó Giám đốc
A14: Bên mua hàng: | C14: =+VLOOKUP(J14,'Danh sách CN'!A:D,2,0) -> CÔNG TY CỔ PHẦN TRUNG TÂM THƯƠNG MẠI LOTTE VIỆT NAM - CHI NHÁNH ĐÀ NẴNG | J14: LOTTE-009
A15: Mã số thuế: | C15: =+VLOOKUP(J14,'Danh sách CN'!A:D,3,0) -> 0304741634-009
A16: Địa chỉ: | C16: =+VLOOKUP(J14,'Danh sách CN'!A:D,4,0) -> số 06 đường Nại Nam, Phường Hòa Cường, Thành phố Đà Nẵng, Việt Nam
A17: Đại diện: | E17: Chức vụ:
A19: STT | B19: Số hóa đơn | C19: Ký hiệu | D19: Ngày hóa đơn | E19: Tên khách hàng | F19: Thành tiền trước thuế | G19: Tiền thuế GTGT | H19: Tổng thanh toán
A20: 1 | B20: 00055138 | C20: 1C26TTN | D20: 46240 | E20: CÔNG TY CỔ PHẦN TRUNG TÂM THƯƠNG MẠI LOTTE VIỆT NAM - CHI NHÁNH ĐÀ NẴNG | F20: 991190 | G20: 79295 | H20: =F20+G20 -> 1070485
A21: 2 | B21: 00055674 | C21: 1C26TTN | D21: 46245 | E21: CÔNG TY CỔ PHẦN TRUNG TÂM THƯƠNG MẠI LOTTE VIỆT NAM - CHI NHÁNH ĐÀ NẴNG | F21: 3470705 | G21: 277656 | H21: =F21+G21 -> 3748361
A22: 3 | B22: 00056697 | C22: 1C26TTN | D22: 46249 | E22: CÔNG TY CỔ PHẦN TRUNG TÂM THƯƠNG MẠI LOTTE VIỆT NAM - CHI NHÁNH ĐÀ NẴNG | F22: 3368855 | G22: 269508 | H22: =F22+G22 -> 3638363
B23: 00056819 | D23: 46252 | E23: CÔNG TY CỔ PHẦN TRUNG TÂM THƯƠNG MẠI LOTTE VIỆT NAM - CHI NHÁNH ĐÀ NẴNG | F23: 2249405 | G23: 179952 | H23: =F23+G23 -> 2429357
A24: Tổng cộng | F24: =SUM(F20:F23) -> 10080155 | G24: =SUM(G20:G23) -> 806411 | H24: =SUM(H20:H23) -> 10886566
A25: Tổng chiết khấu (tỷ lệ 7.25%) | F25: =ROUND(F24*0.0725,0) -> 730811 | G25: =ROUND(F25*0.08,0) -> 58465 | H25: =F25+G25 -> 789276
A27: Bảng kê được lập thành 02 bản, có giá trị như nhau, mỗi bên giữ 01 bản
B29: ĐẠI DIỆN MUA HÀNG | F29: ĐẠI DIỆN BÁN HÀNG
B30: (Ký điện tử/ký, đóng dấu và ghi rõ họ tên) | F30: (Ký điện tử/ký, đóng dấu và ghi rõ họ tên)

Sheet ĐỒNG NAI
B1: CÔNG TY TNHH MTV TM & DV | E1: CỘNG HÒA XÃ HỘI CHỦ NGHĨA VIỆT NAM
B2: NGỌC THƠM | E2: Độc lập - Tự do - Hạnh phúc
E4: TP Hồ Chí Minh, ngày 09 tháng 09 năm 2026
A6: BẢNG KÊ HÓA ĐƠN THÁNG 08/2026
A7: Số: 03082026/BKHD/NT-LOTTE
A9: Bên bán hàng: | C9: CÔNG TY TNHH MỘT THÀNH VIÊN THƯƠNG MẠI VÀ DỊCH VỤ NGỌC THƠM
A10: Mã số thuế: | C10: 0309391503
A11: Địa chỉ: | C11: 12/14/18 Đường 49, Khu phố 69, Phường Hiệp Bình, TP. Hồ Chí Minh, Việt Nam
A12: Đại diện: | C12: Nguyễn Bảo Thạch | E12: Chức vụ: Phó Giám đốc
A14: Bên mua hàng: | C14: =+VLOOKUP(J14,'Danh sách CN'!A:D,2,0) -> CÔNG TY CỔ PHẦN TRUNG TÂM THƯƠNG MẠI LOTTE VIỆT NAM - CHI NHÁNH ĐỒNG NAI | J14: LOTTE-001
A15: Mã số thuế: | C15: =+VLOOKUP(J14,'Danh sách CN'!A:D,3,0) -> 0304741634-001 | J15: LOTTE-DNI-00-001
A16: Địa chỉ: | C16: =+VLOOKUP(J14,'Danh sách CN'!A:D,4,0) -> Lô B-03 Khu thương mại Amata, Quốc lộ 1A, Phường Long Bình, Tỉnh Đồng Nai, Việt Nam
A17: Đại diện: | E17: Chức vụ:
A19: STT | B19: Số hóa đơn | C19: Ký hiệu | D19: Ngày hóa đơn | E19: Tên khách hàng | F19: Thành tiền trước thuế | G19: Tiền thuế GTGT | H19: Tổng thanh toán
A20: 1 | B20: 00056375 | C20: 1C26TTN | D20: 46247 | E20: CÔNG TY CỔ PHẦN TRUNG TÂM THƯƠNG MẠI LOTTE VIỆT NAM - CHI NHÁNH ĐỒNG NAI | F20: 2345370 | G20: 187630 | H20: =F20+G20 -> 2533000
A21: 2 | B21: 00060595 | C21: 1C26TTN | D21: 46263 | E21: CÔNG TY CỔ PHẦN TRUNG TÂM THƯƠNG MẠI LOTTE VIỆT NAM - CHI NHÁNH ĐỒNG NAI | F21: 3418160 | G21: 273453 | H21: =F21+G21 -> 3691613
A23: Tổng cộng | F23: =SUM(F20:F21) -> 5763530 | G23: =SUM(G20:G21) -> 461083 | H23: =SUM(H20:H21) -> 6224613
A24: Tổng chiết khấu (tỷ lệ 7.25%) | F24: =ROUND(F23*0.0725,0) -> 417856 | G24: =ROUND(F24*0.08,0) -> 33428 | H24: =F24+G24 -> 451284
A26: Bảng kê được lập thành 02 bản, có giá trị như nhau, mỗi bên giữ 01 bản
B28: ĐẠI DIỆN MUA HÀNG | F28: ĐẠI DIỆN BÁN HÀNG
B29: (Ký điện tử/ký, đóng dấu và ghi rõ họ tên) | F29: (Ký điện tử/ký, đóng dấu và ghi rõ họ tên)

Sheet PHÚ THỌ
B1: CÔNG TY TNHH MTV TM & DV | E1: CỘNG HÒA XÃ HỘI CHỦ NGHĨA VIỆT NAM
B2: NGỌC THƠM | E2: Độc lập - Tự do - Hạnh phúc
E4: TP Hồ Chí Minh, ngày 09 tháng 09 năm 2026
A6: BẢNG KÊ HÓA ĐƠN THÁNG 08/2026
A7: Số: 02082026/BKHD/NT-LOTTE
A9: Bên bán hàng: | C9: CÔNG TY TNHH MỘT THÀNH VIÊN THƯƠNG MẠI VÀ DỊCH VỤ NGỌC THƠM
A10: Mã số thuế: | C10: 0309391503
A11: Địa chỉ: | C11: 12/14/18 Đường 49, Khu phố 69, Phường Hiệp Bình, TP. Hồ Chí Minh, Việt Nam
A12: Đại diện: | C12: Nguyễn Bảo Thạch | E12: Chức vụ: Phó Giám đốc
A14: Bên mua hàng: | C14: =+VLOOKUP(J14,'Danh sách CN'!A:D,2,0) -> CÔNG TY CỔ PHẦN TRUNG TÂM THƯƠNG MẠI LOTTE VIỆT NAM | J14: LOTTE
A15: Mã số thuế: | C15: =+VLOOKUP(J14,'Danh sách CN'!A:D,3,0) -> 0304741634 | J15: LOTTE-HCM-Q7-41634
A16: Địa chỉ: | C16: =+VLOOKUP(J14,'Danh sách CN'!A:D,4,0) -> Số 469, Đường Nguyễn Hữu Thọ, Phường Tân Hưng, Thành phố Hồ Chí Minh, Việt Nam
A17: Đại diện: | E17: Chức vụ:
A19: STT | B19: Số hóa đơn | C19: Ký hiệu | D19: Ngày hóa đơn | E19: Tên khách hàng | F19: Thành tiền trước thuế | G19: Tiền thuế GTGT | H19: Tổng thanh toán
A20: 1 | B20: 00054280 | C20: 1C26TTN | D20: 46238 | E20: CÔNG TY CỔ PHẦN TRUNG TÂM THƯƠNG MẠI LOTTE VIỆT NAM | F20: 589630 | G20: 47170 | H20: =F20+G20 -> 636800
A21: 2 | B21: 00055249 | C21: 1C26TTN | D21: 46241 | E21: CÔNG TY CỔ PHẦN TRUNG TÂM THƯƠNG MẠI LOTTE VIỆT NAM | F21: 1126645 | G21: 90132 | H21: =F21+G21 -> 1216777
A22: 3 | B22: 00059642 | C22: 1C26TTN | D22: 46262 | E22: CÔNG TY CỔ PHẦN TRUNG TÂM THƯƠNG MẠI LOTTE VIỆT NAM | F22: 1709080 | G22: 136726 | H22: =F22+G22 -> 1845806
A23: 4 | D23: 46246 | E23: CÔNG TY CỔ PHẦN TRUNG TÂM THƯƠNG MẠI LOTTE VIỆT NAM | F23: -1009680 | G23: -80774 | H23: =F23+G23 -> -1090454
A24: Tổng cộng | F24: =SUM(F20:F22) -> 3425355 | G24: =SUM(G20:G22) -> 274028 | H24: =SUM(H20:H23) -> 2608929
A25: Tổng chiết khấu (tỷ lệ 7.25%) | F25: =ROUND(F24*0.0725,0) -> 248338 | G25: =ROUND(F25*0.08,0) -> 19867 | H25: =F25+G25 -> 268205
A27: Bảng kê được lập thành 02 bản, có giá trị như nhau, mỗi bên giữ 01 bản
B29: ĐẠI DIỆN MUA HÀNG | F29: ĐẠI DIỆN BÁN HÀNG
B30: (Ký điện tử/ký, đóng dấu và ghi rõ họ tên) | F30: (Ký điện tử/ký, đóng dấu và ghi rõ họ tên)

Sheet NAM SÀI GÒN
B1: CÔNG TY TNHH MTV TM & DV | E1: CỘNG HÒA XÃ HỘI CHỦ NGHĨA VIỆT NAM
B2: NGỌC THƠM | E2: Độc lập - Tự do - Hạnh phúc
E4: TP Hồ Chí Minh, ngày 09 tháng 09 năm 2026
A6: BẢNG KÊ HÓA ĐƠN THÁNG 08/2026
A7: Số: 01082026/BKHD/NT-LOTTE
A9: Bên bán hàng: | C9: CÔNG TY TNHH MỘT THÀNH VIÊN THƯƠNG MẠI VÀ DỊCH VỤ NGỌC THƠM
A10: Mã số thuế: | C10: 0309391503
A11: Địa chỉ: | C11: 12/14/18 Đường 49, Khu phố 69, Phường Hiệp Bình, TP. Hồ Chí Minh, Việt Nam
A12: Đại diện: | C12: Nguyễn Bảo Thạch | E12: Chức vụ: Phó Giám đốc
A14: Bên mua hàng: | C14: =+VLOOKUP(J14,'Danh sách CN'!A:D,2,0) -> CÔNG TY CỔ PHẦN TRUNG TÂM THƯƠNG MẠI LOTTE VIỆT NAM | J14: LOTTE
A15: Mã số thuế: | C15: =+VLOOKUP(J14,'Danh sách CN'!A:D,3,0) -> 0304741634 | J15: LOTTE-HCM-Q7-41634
A16: Địa chỉ: | C16: =+VLOOKUP(J14,'Danh sách CN'!A:D,4,0) -> Số 469, Đường Nguyễn Hữu Thọ, Phường Tân Hưng, Thành phố Hồ Chí Minh, Việt Nam
A17: Đại diện: | E17: Chức vụ:
A18: STT | B18: Số hóa đơn | C18: Ký hiệu | D18: Ngày hóa đơn | E18: Tên khách hàng | F18: Thành tiền trước thuế | G18: Tiền thuế GTGT | H18: Tổng thanh toán
A19: 1 | B19: 00054268 | C19: 1C26TTN | D19: 46238 | E19: CÔNG TY CỔ PHẦN TRUNG TÂM THƯƠNG MẠI LOTTE VIỆT NAM | F19: 1220680 | G19: 97654 | H19: =F19+G19 -> 1318334
A20: 2 | B20: 00055213 | C20: 1C26TTN | D20: 46241 | E20: CÔNG TY CỔ PHẦN TRUNG TÂM THƯƠNG MẠI LOTTE VIỆT NAM | F20: 1172685 | G20: 93815 | H20: =F20+G20 -> 1266500
A21: 3 | B21: 00055214 | C21: 1C26TTN | D21: 46241 | E21: CÔNG TY CỔ PHẦN TRUNG TÂM THƯƠNG MẠI LOTTE VIỆT NAM | F21: 1220680 | G21: 97654 | H21: =F21+G21 -> 1318334
A22: 4 | B22: 00055789 | C22: 1C26TTN | D22: 46246 | E22: CÔNG TY CỔ PHẦN TRUNG TÂM THƯƠNG MẠI LOTTE VIỆT NAM | F22: 1851730 | G22: 148138 | H22: =F22+G22 -> 1999868
A23: 5 | B23: 00055790 | C23: 1C26TTN | D23: 46246 | E23: CÔNG TY CỔ PHẦN TRUNG TÂM THƯƠNG MẠI LOTTE VIỆT NAM | F23: 1166110 | G23: 93289 | H23: =F23+G23 -> 1259399
A24: 6 | B24: 00056628 | C24: 1C26TTN | D24: 46248 | E24: CÔNG TY CỔ PHẦN TRUNG TÂM THƯƠNG MẠI LOTTE VIỆT NAM | F24: 1166110 | G24: 93289 | H24: =F24+G24 -> 1259399
A25: 7 | B25: 00056931 | C25: 1C26TTN | D25: 46252 | E25: CÔNG TY CỔ PHẦN TRUNG TÂM THƯƠNG MẠI LOTTE VIỆT NAM | F25: 1166110 | G25: 93289 | H25: =F25+G25 -> 1259399
A26: 8 | B26: 00058261 | C26: 1C26TTN | D26: 46255 | E26: CÔNG TY CỔ PHẦN TRUNG TÂM THƯƠNG MẠI LOTTE VIỆT NAM | F26: 1072790 | G26: 85823 | H26: =F26+G26 -> 1158613
A27: 9 | B27: 00058260 | C27: 1C26TTN | D27: 46255 | E27: CÔNG TY CỔ PHẦN TRUNG TÂM THƯƠNG MẠI LOTTE VIỆT NAM | F27: 1126025 | G27: 90082 | H27: =F27+G27 -> 1216107
A28: 10 | B28: 00058384 | C28: 1C26TTN | D28: 46258 | E28: CÔNG TY CỔ PHẦN TRUNG TÂM THƯƠNG MẠI LOTTE VIỆT NAM | F28: 1166110 | G28: 93289 | H28: =F28+G28 -> 1259399
A29: 11 | B29: 00058385 | C29: 1C26TTN | D29: 46258 | E29: CÔNG TY CỔ PHẦN TRUNG TÂM THƯƠNG MẠI LOTTE VIỆT NAM | F29: 1072790 | G29: 85823 | H29: =F29+G29 -> 1158613
A30: 12 | B30: 00059671 | C30: 1C26TTN | D30: 46262 | E30: CÔNG TY CỔ PHẦN TRUNG TÂM THƯƠNG MẠI LOTTE VIỆT NAM | F30: 1072790 | G30: 85823 | H30: =F30+G30 -> 1158613
A31: 13 | B31: 00059672 | C31: 1C26TTN | D31: 46262 | E31: CÔNG TY CỔ PHẦN TRUNG TÂM THƯƠNG MẠI LOTTE VIỆT NAM | F31: 2242830 | G31: 179426 | H31: =F31+G31 -> 2422256
A32: Tổng cộng | F32: =SUM(F19:F31) -> 16717440 | G32: =SUM(G19:G31) -> 1337394 | H32: =SUM(H19:H31) -> 18054834
A33: Tổng chiết khấu (tỷ lệ 7.25%) | F33: =ROUND(F32*0.0725,0) -> 1212014 | G33: =ROUND(F33*0.08,0) -> 96961 | H33: =F33+G33 -> 1308975
A35: Bảng kê được lập thành 02 bản, có giá trị như nhau, mỗi bên giữ 01 bản
B37: ĐẠI DIỆN MUA HÀNG | F37: ĐẠI DIỆN BÁN HÀNG
B38: (Ký điện tử/ký, đóng dấu và ghi rõ họ tên) | F38: (Ký điện tử/ký, đóng dấu và ghi rõ họ tên)
