Workbook

Sheet Danh sách CN
A1: Mã khách hàng | B1: Tên khách hàng | C1: Mã số thuế | D1: Địa chỉ
A2: LOTTE-007 | B2: CÔNG TY CỔ PHẦN TRUNG TÂM THƯƠNG MẠI LOTTE VIỆT NAM - CHI NHÁNH CẦN THƠ | C2: 0304741634-007 | D2: 84, Mậu Thân, Phường Cái Khế, Thành phố Cần Thơ, Việt Nam
A3: LOTTE-013 | B3: CÔNG TY CỔ PHẦN TRUNG TÂM THƯƠNG MẠI LOTTE VIỆT NAM - CHI NHÁNH VINH | C3: 0304741634-013 | D3: Đại lộ V.I.Lenin, Khối Yên Sơn, Phường Vinh Phú, Tỉnh Nghệ An, Việt Nam
A4: LOTTE-005 | B4: CÔNG TY CỔ PHẦN TRUNG TÂM THƯƠNG MẠI LOTTE VIỆT NAM - CHI NHÁNH BÀ RỊA VŨNG TÀU | C4: 0304741634-005 | D4: Góc đường 3 tháng 2 và đường Thi Sách, Phường Tam Thắng, TP. Hồ Chí Minh, Việt Nam
A5: LOTTE-002 | B5: CÔNG TY CỔ PHẦN TRUNG TÂM THƯƠNG MẠI LOTTE VIỆT NAM - CHI NHÁNH BÌNH THUẬN | C5: 0304741634-002 | D5: Khu dân cư Hùng Vương I, Phường Phú Thủy, Tỉnh Lâm Đồng, Việt Nam
A6: LOTTE-003 | B6: CÔNG TY CỔ PHẦN TRUNG TÂM THƯƠNG MẠI LOTTE VIỆT NAM - CHI NHÁNH BÌNH DƯƠNG | C6: 0304741634-003 | D6: Khu đô thị The Seasons Bình Dương, Phường Lái Thiêu, TP. Hồ Chí Minh, Việt Nam
A7: LOTTE-001 | B7: CÔNG TY CỔ PHẦN TRUNG TÂM THƯƠNG MẠI LOTTE VIỆT NAM - CHI NHÁNH ĐỒNG NAI | C7: 0304741634-001 | D7: Lô B-03 Khu thương mại Amata, Quốc lộ 1A, Phường Long Bình, Tỉnh Đồng Nai, Việt Nam
A8: LOTTE-009 | B8: CÔNG TY CỔ PHẦN TRUNG TÂM THƯƠNG MẠI LOTTE VIỆT NAM - CHI NHÁNH ĐÀ NẴNG | C8: 0304741634-009 | D8: số 06 đường Nại Nam, Phường Hòa Cường, Thành phố Đà Nẵng, Việt Nam
A9: LOTTE-010 | B9: CÔNG TY CỔ PHẦN TRUNG TÂM THƯƠNG MẠI LOTTE VIỆT NAM - CHI NHÁNH GÒ VẤP | C9: 0304741634-010 | D9: Số 18, Đường Phan Văn Trị, Phường Gò Vấp, Thành phố Hồ Chí Minh, Việt Nam
A10: LOTTE-006 | B10: CÔNG TY CỔ PHẦN TRUNG TÂM THƯƠNG MẠI LOTTE VIỆT NAM - CHI NHÁNH TÂN BÌNH | C10: 0304741634-006 | D10: Số 20, đường Cộng Hòa, Phường Bảy Hiền, Thành phố Hồ Chí Minh, Việt Nam
A11: LOTTE | B11: CÔNG TY CỔ PHẦN TRUNG TÂM THƯƠNG MẠI LOTTE VIỆT NAM | C11: 0304741634 | D11: Số 469, Đường Nguyễn Hữu Thọ, Phường Tân Hưng, Thành phố Hồ Chí Minh, Việt Nam
A12: LOTTE-011 | B12: CÔNG TY CỔ PHẦN TRUNG TÂM THƯƠNG MẠI LOTTE VIỆT NAM - CHI NHÁNH NHA TRANG | C12: 0304741634-011 | D12: Số 58 đường 23/10, Phường Tây Nha Trang, Tỉnh Khánh Hòa, Việt Nam
... A15: LOTTE-004 | B15: CÔNG TY CỔ PHẦN TRUNG TÂM THƯƠNG MẠI LOTTE VIỆT NAM - CHI NHÁNH ĐỐNG ĐA | C15: 0304741634-004 | D15: Tòa nhà Mipec, 229 Tây Sơn, Phường Ngã Tư Sở, Quận Đống đa, Thành phố Hà Nội, Việt Nam
A23: LOTTE-KHA-00-01015 | B23: LOTTE NHA TRANG GOLD COAST | C23: 0304741634-011
A24: LOTTE-HCM-Q11-940 | B24: LOTTEMART PHÚ THỌ | C24: 304741634

Sheet Sheet7
A3: Row Labels | B3: Sum of Doanh số bán chưa có thuế GTGT | C3: Sum of Thuế GTGT | D3: Sum of Tổng tiền
A4: CÔNG TY CỔ PHẦN TRUNG TÂM THƯƠNG MẠI LOTTE VIỆT NAM | B4: 26810770 | C4: 2144861 | D4: 28955631 | E4: 26810770 | F4: =E4*7% -> 1876753.9 | G4: ok | J4: ='NAM SÀI GÒN'!F30 -> 32603290 | K4: =J4*7.25% -> 2363738.5
A5: CÔNG TY CỔ PHẦN TRUNG TÂM THƯƠNG MẠI LOTTE VIỆT NAM - CHI NHÁNH BA ĐÌNH | B5: 3789700 | C5: 303176 | D5: 4092876 | E5: 3789700 | F5: =E5*7% -> 265279 | G5: ok | J5: ='BA ĐÌNH'!F24 -> 10610775 | K5: =J5*7.25% -> 769281.19
A6: CÔNG TY CỔ PHẦN TRUNG TÂM THƯƠNG MẠI LOTTE VIỆT NAM - CHI NHÁNH BÀ RỊA VŨNG TÀU | B6: 2248160 | C6: 179852 | D6: 2428012 | E6: 2248160 | F6: =E6*7% -> 157371.2 | G6: ok | J6: ='VŨNG TÀU'!F24 -> 10976870 | K6: =J6*7.25% -> 795823.07
A7: CÔNG TY CỔ PHẦN TRUNG TÂM THƯƠNG MẠI LOTTE VIỆT NAM - CHI NHÁNH BÌNH DƯƠNG | B7: 7879495 | C7: 630359 | D7: 8509854 | E7: 7879495 | F7: =E7*7% -> 551564.65 | G7: ok | J7: ='BÌNH DƯƠNG'!F27 -> 6429485 | K7: =J7*7.25% -> 466137.66
A8: CÔNG TY CỔ PHẦN TRUNG TÂM THƯƠNG MẠI LOTTE VIỆT NAM - CHI NHÁNH BÌNH THUẬN | B8: 5935252 | C8: 474820 | D8: 6410072 | E8: 5935252 | F8: =E8*7% -> 415467.64 | G8: ok | H8: phan thiế | J8: ='BÌNH THUẬN'!F28 -> 6401838 | K8: =J8*7.25% -> 464133.25
A9: CÔNG TY CỔ PHẦN TRUNG TÂM THƯƠNG MẠI LOTTE VIỆT NAM - CHI NHÁNH CẦN THƠ | B9: 7542480 | C9: 603398 | D9: 8145878 | E9: 7542480 | F9: =E9*7% -> 527973.6 | G9: ok | J9: ='CẦN THƠ'!F24 -> 7937190 | K9: =J9*7.25% -> 575446.27
A10: CÔNG TY CỔ PHẦN TRUNG TÂM THƯƠNG MẠI LOTTE VIỆT NAM - CHI NHÁNH ĐÀ NẴNG | B10: 7932865 | C10: 634628 | D10: 8567493 | E10: 7932865 | F10: =E10*7% -> 555300.55 | G10: ok | J10: ='ĐÀ NẴNG'!F33 -> 11294955 | K10: =J10*7.25% -> 818884.24
A11: CÔNG TY CỔ PHẦN TRUNG TÂM THƯƠNG MẠI LOTTE VIỆT NAM - CHI NHÁNH ĐỒNG NAI | B11: 1714410 | C11: 137153 | D11: 1851563 | E11: 1714410 | F11: =E11*7% -> 120008.7 | G11: ok | J11: ='ĐỒNG NAI'!F24 -> 6009365 | K11: =J11*7.25% -> 435678.96
A12: CÔNG TY CỔ PHẦN TRUNG TÂM THƯƠNG MẠI LOTTE VIỆT NAM - CHI NHÁNH GÒ VẤP | B12: 18243090 | C12: 1459447 | D12: 19702537 | E12: 18243090 | F12: =E12*7% -> 1277016.3 | G12: ok | J12: ='GÒ VẤP'!F25 -> 23111790 | K12: =J12*7.25% -> 1675604.8
A13: CÔNG TY CỔ PHẦN TRUNG TÂM THƯƠNG MẠI LOTTE VIỆT NAM - CHI NHÁNH NHA TRANG | B13: 11536920 | C13: 922955 | D13: 12459875 | E13: 11536920 | F13: =E13*7% -> 807584.4 | G13: ok | J13: ='NHA TRANG'!F24 -> 4756675 | K13: =J13*7.25% -> 344858.94
A14: CÔNG TY CỔ PHẦN TRUNG TÂM THƯƠNG MẠI LOTTE VIỆT NAM - CHI NHÁNH TÂN BÌNH | B14: 1178385 | C14: 94270 | D14: 1272655 | E14: 1178385 | F14: =E14*7% -> 82486.95 | G14: ok | J14: ='TÂN BÌNH'!F22 -> 1126645 | K14: =J14*7.25% -> 81681.762
A15: CÔNG TY CỔ PHẦN TRUNG TÂM THƯƠNG MẠI LOTTE VIỆT NAM - CHI NHÁNH TÂY HỒ | B15: 10402000 | C15: 832160 | D15: 11234160 | E15: 10402000 | F15: =E15*7% -> 728140 | G15: ok | J15: ='TÂY HỒ'!F25 -> 10089855 | K15: =J15*7.25% -> 731514.49
A16: CÔNG TY CỔ PHẦN TRUNG TÂM THƯƠNG MẠI LOTTE VIỆT NAM - CHI NHÁNH VINH | B16: 11129600 | C16: 890368 | D16: 12019968 | E16: 11129600 | F16: =E16*7% -> 779072 | G16: ok | J16: =VINH!F24 -> 16515657 | K16: =J16*7.25% -> 1197385.1
A17: Grand Total | B17: 116343127 | C17: 9307447 | D17: 125650574 | K17: =J17*7% -> 0
K18: =J18*7% -> 0
A19: nha trang | K19: =J19*7% -> 0
A20: Nha Trang Gold Coast | F20: -81628 | K20: =J20*7% -> 0
A21: Nha trang | F21: -725957 | K21: =J21*7% -> 0
A22: CÔNG TY CỔ PHẦN TRUNG TÂM THƯƠNG MẠI LOTTE VIỆT NAM | K22: =J22*7% -> 0
A23: Phu Tho | F23: -200777 | J23: ='PHÚ THỌ'!F22 -> 631050 | K23: =J23*7% -> 44173.5
A24: Nam Sai Gon | F24: -1675977

Sheet Báo cáo
A1: BẢNG KÊ HÓA ĐƠN, CHỨNG TỪ HÀNG HÓA, DỊCH VỤ BÁN RA (MẪU QUẢN TRỊ)
A2: Tháng 6 năm 2026
B3: Ngày hóa đơn | C3: Số hóa đơn | D3: Ký hiệu HĐ | E3: Diễn giải | F3: Doanh số bán chưa có thuế GTGT | G3: Thuế GTGT | H3: Tổng tiền | I3: Ngày chứng từ | J3: Số chứng từ | K3: Tên người mua | L3: Mã số thuế người mua
B4: 46174 | C4: 00038004 | D4: 1C26TTN | E4: 260528-01012-00145 | F4: 1262100 | G4: 100968 | H4: 1363068 | I4: 46174 | J4: BH15330 | K4: CÔNG TY CỔ PHẦN TRUNG TÂM THƯƠNG MẠI LOTTE VIỆT NAM - CHI NHÁNH GÒ VẤP | L4: 0304741634-010
B5: 46175 | C5: 00038037 | D5: 1C26TTN | E5: TC260529-01009-00039 | F5: 1565845 | G5: 125268 | H5: 1691113 | I5: 46175 | J5: BH15335 | K5: CÔNG TY CỔ PHẦN TRUNG TÂM THƯƠNG MẠI LOTTE VIỆT NAM - CHI NHÁNH BÀ RỊA VŨNG TÀU | L5: 0304741634-005
B6: 46175 | C6: 00038067 | D6: 1C26TTN | E6: 260530-01005-00036 | F6: 1262100 | G6: 100968 | H6: 1363068 | I6: 46175 | J6: BH15370 | K6: CÔNG TY CỔ PHẦN TRUNG TÂM THƯƠNG MẠI LOTTE VIỆT NAM - CHI NHÁNH BÌNH DƯƠNG | L6: 0304741634-003
B7: 46175 | C7: 00038069 | D7: 1C26TTN | E7: 260601-01005-00057 | F7: 982790 | G7: 78623 | H7: 1061413 | I7: 46175 | J7: BH15372 | K7: CÔNG TY CỔ PHẦN TRUNG TÂM THƯƠNG MẠI LOTTE VIỆT NAM - CHI NHÁNH BÌNH DƯƠNG | L7: 0304741634-003
B8: 46175 | C8: 00038068 | D8: 1C26TTN | E8: 260601-01005-00237 | F8: 631050 | G8: 50484 | H8: 681534 | I8: 46175 | J8: BH15371 | K8: CÔNG TY CỔ PHẦN TRUNG TÂM THƯƠNG MẠI LOTTE VIỆT NAM - CHI NHÁNH BÌNH DƯƠNG | L8: 0304741634-003
B9: 46176 | C9: 00038141 | D9: 1C26TTN | E9: 260602-01001-00227 | F9: 1262100 | G9: 100968 | H9: 1363068 | I9: 46176 | J9: BH15669 | K9: CÔNG TY CỔ PHẦN TRUNG TÂM THƯƠNG MẠI LOTTE VIỆT NAM | L9: 0304741634
B10: 46176 | C10: 00038140 | D10: 1C26TTN | E10: 260529-01001-00200 | F10: 1262100 | G10: 100968 | H10: 1363068 | I10: 46176 | J10: BH15668 | K10: CÔNG TY CỔ PHẦN TRUNG TÂM THƯƠNG MẠI LOTTE VIỆT NAM | L10: 0304741634
B11: 46177 | C11: 00039006 | D11: 1C26TTN | E11: TC260601-01004-00162 | F11: 982790 | G11: 78623 | H11: 1061413 | I11: 46177 | J11: BH15705 | K11: CÔNG TY CỔ PHẦN TRUNG TÂM THƯƠNG MẠI LOTTE VIỆT NAM - CHI NHÁNH ĐÀ NẴNG | L11: 0304741634-009
B12: 46177 | C12: 00039007 | D12: 1C26TTN | E12: TC260603-01011-00059 | F12: 1029345 | G12: 82348 | H12: 1111693 | I12: 46177 | J12: BH15706 | K12: CÔNG TY CỔ PHẦN TRUNG TÂM THƯƠNG MẠI LOTTE VIỆT NAM - CHI NHÁNH CẦN THƠ | L12: 0304741634-007
B13: 46178 | C13: 00039479 | D13: 1C26TTN | E13: 260604-01010-00059 | F13: 495595 | G13: 39648 | H13: 535243 | I13: 46178 | J13: BH15774 | K13: CÔNG TY CỔ PHẦN TRUNG TÂM THƯƠNG MẠI LOTTE VIỆT NAM - CHI NHÁNH TÂN BÌNH | L13: 0304741634-006
B14: 46178 | C14: 00039489 | D14: 1C26TTN | E14: 260604-01012-00175 | F14: 1262100 | G14: 100968 | H14: 1363068 | I14: 46178 | J14: BH15783 | K14: CÔNG TY CỔ PHẦN TRUNG TÂM THƯƠNG MẠI LOTTE VIỆT NAM - CHI NHÁNH GÒ VẤP | L14: 0304741634-010
B15: 46178 | C15: 00039506 | D15: 1C26TTN | E15: Bán hàng CÔNG TY CỔ PHẦN TRUNG TÂM THƯƠNG MẠI LOTTE VIỆT NAM - CHI NHÁNH TÂY HỒ theo hóa đơn 00039506 ( đơn đặt ngày 1-6 ) | F15: 2338795 | G15: 187104 | H15: 2525899 | I15: 46178 | J15: BH34313 | K15: CÔNG TY CỔ PHẦN TRUNG TÂM THƯƠNG MẠI LOTTE VIỆT NAM - CHI NHÁNH TÂY HỒ | L15: 0304741634-015
... B67: 46200 | C67: 00044477 | D67: 1C26TTN | E67: 260625-01001-00508 | F67: 2489155 | G67: 199132 | H67: 2688287 | I67: 46200 | J67: BH17975 | K67: CÔNG TY CỔ PHẦN TRUNG TÂM THƯƠNG MẠI LOTTE VIỆT NAM | L67: 0304741634
B68: 46200 | C68: 00044508 | D68: 1C26TTN | E68: 260625-01002-00202-LOTTEMART PHÚ THỌ | F68: 631050 | G68: 50484 | H68: 681534 | I68: 46200 | J68: BH18033 | K68: LOTTEMART PHÚ THỌ | L68: 304741634
B69: 46202 | C69: 00044535 | D69: 1C26TTN | E69: Bán hàng CÔNG TY CỔ PHẦN TRUNG TÂM THƯƠNG MẠI LOTTE VIỆT NAM - CHI NHÁNH BA ĐÌNH theo hóa đơn 00044535 | F69: 1660395 | G69: 132832 | H69: 1793227 | I69: 46202 | J69: BH37748 | K69: CÔNG TY CỔ PHẦN TRUNG TÂM THƯƠNG MẠI LOTTE VIỆT NAM - CHI NHÁNH BA ĐÌNH | L69: 0304741634-008
B70: 46203 | C70: 00044574 | D70: 1C26TTN | E70: TC260628-01006-00009 | F70: 2329600 | G70: 186368 | H70: 2515968 | I70: 46203 | J70: BH18125 | K70: CÔNG TY CỔ PHẦN TRUNG TÂM THƯƠNG MẠI LOTTE VIỆT NAM - CHI NHÁNH BÌNH THUẬN | L70: 0304741634-002
B71: 46203 | C71: 00044575 | D71: 1C26TTN | E71: TC260629-01015-00125 - LOTTE NHA TRANG GOLD COAST | F71: 1166110 | G71: 93289 | H71: 1259399 | I71: 46203 | J71: BH18126 | K71: LOTTE NHA TRANG GOLD COAST | L71: 0304741634-011
B72: 46203 | C72: 00044576 | D72: 1C26TTN | E72: TC260629-01016-00056 | F72: 2984750 | G72: 238780 | H72: 3223530 | I72: 46203 | J72: BH18127 | K72: CÔNG TY CỔ PHẦN TRUNG TÂM THƯƠNG MẠI LOTTE VIỆT NAM - CHI NHÁNH VINH | L72: 0304741634-013
B73: 46203 | C73: 00044572 | D73: 1C26TTN | E73: TC260629-01004-00160 | F73: 1116805 | G73: 89344 | H73: 1206149 | I73: 46203 | J73: BH18123 | K73: CÔNG TY CỔ PHẦN TRUNG TÂM THƯƠNG MẠI LOTTE VIỆT NAM - CHI NHÁNH ĐÀ NẴNG | L73: 0304741634-009
B74: 46203 | C74: 00044571 | D74: 1C26TTN | E74: TC260629-01004-00159 | F74: 1002370 | G74: 80190 | H74: 1082560 | I74: 46203 | J74: BH18122 | K74: CÔNG TY CỔ PHẦN TRUNG TÂM THƯƠNG MẠI LOTTE VIỆT NAM - CHI NHÁNH ĐÀ NẴNG | L74: 0304741634-009
B75: 46203 | C75: 00044573 | D75: 1C26TTN | E75: TC260626-01009-00086 | F75: 3155250 | G75: 252420 | H75: 3407670 | I75: 46203 | J75: BH18124 | K75: CÔNG TY CỔ PHẦN TRUNG TÂM THƯƠNG MẠI LOTTE VIỆT NAM - CHI NHÁNH BÀ RỊA VŨNG TÀU | L75: 0304741634-005
F76: =SUM(F4:F75) -> 150963075 | G76: =SUM(G4:G75) -> 12077046 | H76: =SUM(H4:H75) -> 163040121
B77: 46183 | E77: ĐÃ KIỂM TRA - HÀNG TRẢ - CÔNG TY CỔ PHẦN TRUNG TÂM THƯƠNG MẠI LOTTE VIỆT NAM - CHI NHÁNH BÌNH THUẬN - PHIẾU SỐ: 2805LOTTE002 - PHIẾU NGÀY: 28/05/2026 -LOTTE-BTN-00-002 | F77: -825482 | G77: -66039 | H77: -891521 | I77: 46170 | J77: 2805LOTTE002 | K77: CÔNG TY CỔ PHẦN TRUNG TÂM THƯƠNG MẠI LOTTE VIỆT NAM - CHI NHÁNH BÌNH THUẬN | L77: 0304741634-002
B78: 46175 | E78: ĐÃ KIỂM TRA - HÀNG TRẢ - CÔNG TY CỔ PHẦN TRUNG TÂM THƯƠNG MẠI LOTTE VIỆT NAM - CHI NHÁNH VINH - SỐ PHIẾU: 0206LOTTE013 - PHIẾU NGÀY: 02/06/2026 -LOTTE-NAN-01-013 | F78: -476043 | G78: -38084 | H78: -514127 | I78: 46175 | J78: 020626LOTTE013 | K78: CÔNG TY CỔ PHẦN TRUNG TÂM THƯƠNG MẠI LOTTE VIỆT NAM - CHI NHÁNH VINH | L78: 0304741634-013
F79: =F76+F77+F78 -> 149661550

Sheet TÂY HỒ
B1: CÔNG TY TNHH MTV TM & DV | E1: CỘNG HÒA XÃ HỘI CHỦ NGHĨA VIỆT NAM
B2: NGỌC THƠM | E2: Độc lập - Tự do - Hạnh phúc
E4: TP Hồ Chí Minh, ngày 08 tháng 09 năm 2026
A6: BẢNG KÊ HÓA ĐƠN THÁNG 05/2026
A7: Số: 14052026/BKHD/NT-LOTTE
A9: Bên bán hàng: | C9: CÔNG TY TNHH MỘT THÀNH VIÊN THƯƠNG MẠI VÀ DỊCH VỤ NGỌC THƠM
A10: Mã số thuế: | C10: 0309391503
A11: Địa chỉ: | C11: 12/14/18 Đường 49, Khu phố 69, Phường Hiệp Bình, TP. Hồ Chí Minh, Việt Nam
A12: Đại diện: | C12: Nguyễn Bảo Thạch | E12: Chức vụ: Phó Giám đốc
A14: Bên mua hàng: | C14: =+VLOOKUP(I14,'Danh sách CN'!A:D,2,0) -> CÔNG TY CỔ PHẦN TRUNG TÂM THƯƠNG MẠI LOTTE VIỆT NAM - CHI NHÁNH TÂY HỒ | I14: LOTTE-015
A15: Mã số thuế: | C15: =+VLOOKUP(I14,'Danh sách CN'!A:D,3,0) -> 0304741634-015 | I15: LOTTE-HNI-THO-015
A16: Địa chỉ: | C16: =+VLOOKUP(I14,'Danh sách CN'!A:D,4,0) -> Tầng hầm B1, Lotte Mall Hà Nội, Số 272 Võ Chí Công, Phường Tây Hồ, Thành phố Hà Nội, Việt Nam
A17: Đại diện: | E17: Chức vụ:
A19: STT | B19: Số hóa đơn | C19: Ký hiệu | D19: Ngày hóa đơn | E19: Tên khách hàng | F19: Thành tiền trước thuế | G19: Tiền thuế GTGT | H19: Tổng thanh toán
A20: 1 | B20: 00039506 | C20: 1C26TTN | D20: 46178 | E20: CÔNG TY CỔ PHẦN TRUNG TÂM THƯƠNG MẠI LOTTE VIỆT NAM - CHI NHÁNH TÂY HỒ | F20: 2338795 | G20: 187104 | H20: =+F20+G20 -> 2525899
A21: 2 | B21: 00040593 | C21: 1C26TTN | D21: 46184 | E21: CÔNG TY CỔ PHẦN TRUNG TÂM THƯƠNG MẠI LOTTE VIỆT NAM - CHI NHÁNH TÂY HỒ | F21: 1757695 | G21: 140616 | H21: =+F21+G21 -> 1898311
A22: 3 | B22: 00040594 | C22: 1C26TTN | D22: 46184 | E22: CÔNG TY CỔ PHẦN TRUNG TÂM THƯƠNG MẠI LOTTE VIỆT NAM - CHI NHÁNH TÂY HỒ | F22: 1262100 | G22: 100968 | H22: =+F22+G22 -> 1363068
A23: 4 | B23: 00042431 | C23: 1C26TTN | D23: 46191 | E23: CÔNG TY CỔ PHẦN TRUNG TÂM THƯƠNG MẠI LOTTE VIỆT NAM - CHI NHÁNH TÂY HỒ | F23: 3244480 | G23: 259558 | H23: =+F23+G23 -> 3504038
A24: 5 | B24: 00042432 | C24: 1C26TTN | D24: 46191 | E24: CÔNG TY CỔ PHẦN TRUNG TÂM THƯƠNG MẠI LOTTE VIỆT NAM - CHI NHÁNH TÂY HỒ | F24: 1486785 | G24: 118943 | H24: =+F24+G24 -> 1605728
A25: Tổng cộng | F25: =SUM(F20:F24) -> 10089855 | G25: =SUM(G20:G24) -> 807189 | H25: =SUM(H20:H24) -> 10897044
A26: Tổng chiết khấu (tỷ lệ 7.25%) | F26: =ROUND(F25*0.0725,0) -> 731514 | G26: =ROUND(F26*0.08,0) -> 58521 | H26: =F26+G26 -> 790035
A28: Bảng kê được lập thành 02 bản, có giá trị như nhau, mỗi bên giữ 01 bản
B30: ĐẠI DIỆN MUA HÀNG | F30: ĐẠI DIỆN BÁN HÀNG
B31: (Ký điện tử/ký, đóng dấu và ghi rõ họ tên) | F31: (Ký điện tử/ký, đóng dấu và ghi rõ họ tên)
F33: =ROUND(F25*0.015,0) -> 151348

Sheet VINH
B1: CÔNG TY TNHH MTV TM & DV | E1: CỘNG HÒA XÃ HỘI CHỦ NGHĨA VIỆT NAM
B2: NGỌC THƠM | E2: Độc lập - Tự do - Hạnh phúc
E4: TP Hồ Chí Minh, ngày 09 tháng 09 năm 2026
A6: BẢNG KÊ HÓA ĐƠN THÁNG 06/2026
A7: Số: 13062026/BKHD/NT-LOTTE
A9: Bên bán hàng: | C9: CÔNG TY TNHH MỘT THÀNH VIÊN THƯƠNG MẠI VÀ DỊCH VỤ NGỌC THƠM
A10: Mã số thuế: | C10: 0309391503
A11: Địa chỉ: | C11: 12/14/18 Đường 49, Khu phố 69, Phường Hiệp Bình, TP. Hồ Chí Minh, Việt Nam
A12: Đại diện: | C12: Nguyễn Bảo Thạch | E12: Chức vụ: Phó Giám đốc
A14: Bên mua hàng: | C14: =+VLOOKUP(J14,'Danh sách CN'!A:D,2,0) -> CÔNG TY CỔ PHẦN TRUNG TÂM THƯƠNG MẠI LOTTE VIỆT NAM - CHI NHÁNH VINH | J14: LOTTE-013
A15: Mã số thuế: | C15: =+VLOOKUP(J14,'Danh sách CN'!A:D,3,0) -> 0304741634-013 | J15: LOTTE-NAN-01-013
A16: Địa chỉ: | C16: =+VLOOKUP(J14,'Danh sách CN'!A:D,4,0) -> Đại lộ V.I.Lenin, Khối Yên Sơn, Phường Vinh Phú, Tỉnh Nghệ An, Việt Nam
A17: Đại diện: | E17: Chức vụ:
A19: STT | B19: Số hóa đơn | C19: Ký hiệu | D19: Ngày hóa đơn | E19: Tên khách hàng | F19: Thành tiền trước thuế | G19: Tiền thuế GTGT | H19: Tổng thanh toán
A20: 1 | B20: 00040550 | C20: 1C26TTN | D20: 46184 | E20: CÔNG TY CỔ PHẦN TRUNG TÂM THƯƠNG MẠI LOTTE VIỆT NAM - CHI NHÁNH VINH | F20: 6080970 | G20: 486478 | H20: =+F20+G20 -> 6567448
A21: 2 | B21: 00042632 | C21: 1C26TTN | D21: 46196 | E21: CÔNG TY CỔ PHẦN TRUNG TÂM THƯƠNG MẠI LOTTE VIỆT NAM - CHI NHÁNH VINH | F21: 7925980 | G21: 634078 | H21: =+F21+G21 -> 8560058
A22: 3 | B22: 00044576 | C22: 1C26TTN | D22: 46203 | E22: CÔNG TY CỔ PHẦN TRUNG TÂM THƯƠNG MẠI LOTTE VIỆT NAM - CHI NHÁNH VINH | F22: 2984750 | G22: 238780 | H22: =+F22+G22 -> 3223530
A23: 4 | D23: 46175 | E23: CÔNG TY CỔ PHẦN TRUNG TÂM THƯƠNG MẠI LOTTE VIỆT NAM - CHI NHÁNH VINH | F23: -476043 | G23: -38084 | H23: =+F23+G23 -> -514127
A24: Tổng cộng | F24: =SUM(F20:F23) -> 16515657 | G24: =SUM(G20:G23) -> 1321252 | H24: =SUM(H20:H23) -> 17836909
A25: Tổng chiết khấu (tỷ lệ 7.25%) | F25: =ROUND(F24*0.0725,0) -> 1197385 | G25: =ROUND(F25*0.08,0) -> 95791 | H25: =F25+G25 -> 1293176
A27: Bảng kê được lập thành 02 bản, có giá trị như nhau, mỗi bên giữ 01 bản
B29: ĐẠI DIỆN MUA HÀNG | F29: ĐẠI DIỆN BÁN HÀNG
B30: (Ký điện tử/ký, đóng dấu và ghi rõ họ tên) | F30: (Ký điện tử/ký, đóng dấu và ghi rõ họ tên)

Sheet NHA TRANG
B1: CÔNG TY TNHH MTV TM & DV | E1: CỘNG HÒA XÃ HỘI CHỦ NGHĨA VIỆT NAM
B2: NGỌC THƠM | E2: Độc lập - Tự do - Hạnh phúc
E4: TP Hồ Chí Minh, ngày 18 tháng 06 năm 2026
A6: BẢNG KÊ HÓA ĐƠN THÁNG 04/2026
A7: Số: 12042026/BKHD/NT-LOTTE
A9: Bên bán hàng: | C9: CÔNG TY TNHH MỘT THÀNH VIÊN THƯƠNG MẠI VÀ DỊCH VỤ NGỌC THƠM
A10: Mã số thuế: | C10: 0309391503
A11: Địa chỉ: | C11: 12/14/18 Đường 49, Khu phố 69, Phường Hiệp Bình, TP. Hồ Chí Minh, Việt Nam
A12: Đại diện: | C12: Nguyễn Bảo Thạch | E12: Chức vụ: Phó Giám đốc
A14: Bên mua hàng: | C14: =+VLOOKUP(J14,'Danh sách CN'!A:D,2,0) -> CÔNG TY CỔ PHẦN TRUNG TÂM THƯƠNG MẠI LOTTE VIỆT NAM - CHI NHÁNH NHA TRANG | J14: LOTTE-011
A15: Mã số thuế: | C15: =+VLOOKUP(J14,'Danh sách CN'!A:D,3,0) -> 0304741634-011 | J15: LOTTE-KHA-00-011
A16: Địa chỉ: | C16: =+VLOOKUP(J14,'Danh sách CN'!A:D,4,0) -> Số 58 đường 23/10, Phường Tây Nha Trang, Tỉnh Khánh Hòa, Việt Nam
A17: Đại diện: | E17: Chức vụ:
A19: STT | B19: Số hóa đơn | C19: Ký hiệu | D19: Ngày hóa đơn | E19: Tên khách hàng | F19: Thành tiền trước thuế | G19: Tiền thuế GTGT | H19: Tổng thanh toán
A20: 1 | B20: 00040551 | C20: 1C26TTN | D20: 46184 | E20: CÔNG TY CỔ PHẦN TRUNG TÂM THƯƠNG MẠI LOTTE VIỆT NAM - CHI NHÁNH NHA TRANG | F20: 1618975 | G20: 129518 | H20: =+F20+G20 -> 1748493
A21: 2 | B21: 00041940 | C21: 1C26TTN | D21: 46191 | E21: CÔNG TY CỔ PHẦN TRUNG TÂM THƯƠNG MẠI LOTTE VIỆT NAM - CHI NHÁNH NHA TRANG | F21: 1639735 | G21: 131179 | H21: =+F21+G21 -> 1770914
A22: 3 | B22: 00042513 | C22: 1C26TTN | D22: 46193 | E22: CÔNG TY CỔ PHẦN TRUNG TÂM THƯƠNG MẠI LOTTE VIỆT NAM - CHI NHÁNH NHA TRANG | F22: 1497965 | G22: 119837 | H22: =+F22+G22 -> 1617802
A23: 4 | B23: 00044575 | C23: 1C26TTN | D23: 46203 | E23: CÔNG TY CỔ PHẦN TRUNG TÂM THƯƠNG MẠI LOTTE VIỆT NAM - CHI NHÁNH NHA TRANG | F23: 1166110 | G23: 93289 | H23: =+F23+G23 -> 1259399 | I23: Chưa tính
A24: Tổng cộng | F24: =SUM(F20:F22) -> 4756675 | G24: =SUM(G20:G23) -> 473823 | H24: =SUM(H20:H23) -> 6396608
A25: Tổng chiết khấu (tỷ lệ 7.25%) | F25: =ROUND(F24*0.0725,0) -> 344859 | G25: =ROUND(F25*0.08,0) -> 27589 | H25: =F25+G25 -> 372448
A27: Bảng kê được lập thành 02 bản, có giá trị như nhau, mỗi bên giữ 01 bản
B29: ĐẠI DIỆN MUA HÀNG | F29: ĐẠI DIỆN BÁN HÀNG
B30: (Ký điện tử/ký, đóng dấu và ghi rõ họ tên) | F30: (Ký điện tử/ký, đóng dấu và ghi rõ họ tên)

Sheet GÒ VẤP
B1: CÔNG TY TNHH MTV TM & DV | E1: CỘNG HÒA XÃ HỘI CHỦ NGHĨA VIỆT NAM
B2: NGỌC THƠM | E2: Độc lập - Tự do - Hạnh phúc
E4: TP Hồ Chí Minh, ngày 09 tháng 09 năm 2026
A6: BẢNG KÊ HÓA ĐƠN THÁNG 06/2026
A7: Số: 11062026/BKHD/NT-LOTTE
A9: Bên bán hàng: | C9: CÔNG TY TNHH MỘT THÀNH VIÊN THƯƠNG MẠI VÀ DỊCH VỤ NGỌC THƠM
A10: Mã số thuế: | C10: 0309391503
A11: Địa chỉ: | C11: 12/14/18 Đường 49, Khu phố 69, Phường Hiệp Bình, TP. Hồ Chí Minh, Việt Nam
A12: Đại diện: | C12: Nguyễn Bảo Thạch | E12: Chức vụ: Phó Giám đốc
A14: Bên mua hàng: | C14: =+VLOOKUP(J14,'Danh sách CN'!A:D,2,0) -> CÔNG TY CỔ PHẦN TRUNG TÂM THƯƠNG MẠI LOTTE VIỆT NAM - CHI NHÁNH GÒ VẤP | J14: LOTTE-010
A15: Mã số thuế: | C15: =+VLOOKUP(J14,'Danh sách CN'!A:D,3,0) -> 0304741634-010 | J15: LOTTE-HCM-GVP-010
A16: Địa chỉ: | C16: =+VLOOKUP(J14,'Danh sách CN'!A:D,4,0) -> Số 18, Đường Phan Văn Trị, Phường Gò Vấp, Thành phố Hồ Chí Minh, Việt Nam
A17: Đại diện: | E17: Chức vụ:
A19: STT | B19: Số hóa đơn | C19: Ký hiệu | D19: Ngày hóa đơn | E19: Tên khách hàng | F19: Thành tiền trước thuế | G19: Tiền thuế GTGT | H19: Tổng thanh toán
A20: 1 | B20: 00038004 | C20: 1C26TTN | D20: 46174 | E20: CÔNG TY CỔ PHẦN TRUNG TÂM THƯƠNG MẠI LOTTE VIỆT NAM - CHI NHÁNH GÒ VẤP | F20: 1262100 | G20: 100968 | H20: =+F20+G20 -> 1363068
A21: 2 | B21: 00039489 | C21: 1C26TTN | D21: 46178 | E21: CÔNG TY CỔ PHẦN TRUNG TÂM THƯƠNG MẠI LOTTE VIỆT NAM - CHI NHÁNH GÒ VẤP | F21: 1262100 | G21: 100968 | H21: =+F21+G21 -> 1363068
A22: 3 | B22: 00041125 | C22: 1C26TTN | D22: 46186 | E22: CÔNG TY CỔ PHẦN TRUNG TÂM THƯƠNG MẠI LOTTE VIỆT NAM - CHI NHÁNH GÒ VẤP | F22: 7543600 | G22: 603488 | H22: =+F22+G22 -> 8147088
A23: 4 | B23: 00041293 | C23: 1C26TTN | D23: 46189 | E23: CÔNG TY CỔ PHẦN TRUNG TÂM THƯƠNG MẠI LOTTE VIỆT NAM - CHI NHÁNH GÒ VẤP | F23: 1893150 | G23: 151452 | H23: =+F23+G23 -> 2044602
A24: 5 | B24: 00042526 | C24: 1C26TTN | D24: 46193 | E24: CÔNG TY CỔ PHẦN TRUNG TÂM THƯƠNG MẠI LOTTE VIỆT NAM - CHI NHÁNH GÒ VẤP | F24: 11150840 | G24: 892067 | H24: =+F24+G24 -> 12042907
A25: Tổng cộng | F25: =SUM(F20:F24) -> 23111790 | G25: =SUM(G20:G24) -> 1848943 | H25: =SUM(H20:H24) -> 24960733
A26: Tổng chiết khấu (tỷ lệ 7.25%) | F26: =ROUND(F25*0.0725,0) -> 1675605 | G26: =ROUND(F26*0.08,0) -> 134048 | H26: =F26+G26 -> 1809653
A28: Bảng kê được lập thành 02 bản, có giá trị như nhau, mỗi bên giữ 01 bản
B30: ĐẠI DIỆN MUA HÀNG | F30: ĐẠI DIỆN BÁN HÀNG
B31: (Ký điện tử/ký, đóng dấu và ghi rõ họ tên) | F31: (Ký điện tử/ký, đóng dấu và ghi rõ họ tên)

Sheet CẦN THƠ
B1: CÔNG TY TNHH MTV TM & DV | E1: CỘNG HÒA XÃ HỘI CHỦ NGHĨA VIỆT NAM
B2: NGỌC THƠM | E2: Độc lập - Tự do - Hạnh phúc
E4: TP Hồ Chí Minh, ngày 09 tháng 09 năm 2026
A6: BẢNG KÊ HÓA ĐƠN THÁNG 06/2026
A7: Số: 10062026/BKHD/NT-LOTTE
A9: Bên bán hàng: | C9: CÔNG TY TNHH MỘT THÀNH VIÊN THƯƠNG MẠI VÀ DỊCH VỤ NGỌC THƠM
A10: Mã số thuế: | C10: 0309391503
A11: Địa chỉ: | C11: 12/14/18 Đường 49, Khu phố 69, Phường Hiệp Bình, TP. Hồ Chí Minh, Việt Nam
A12: Đại diện: | C12: Nguyễn Bảo Thạch | E12: Chức vụ: Phó Giám đốc
A14: Bên mua hàng: | C14: =+VLOOKUP(J14,'Danh sách CN'!A:D,2,0) -> CÔNG TY CỔ PHẦN TRUNG TÂM THƯƠNG MẠI LOTTE VIỆT NAM - CHI NHÁNH CẦN THƠ | J14: LOTTE-007
A15: Mã số thuế: | C15: =+VLOOKUP(J14,'Danh sách CN'!A:D,3,0) -> 0304741634-007 | J15: LOTTE-CTO-00-007
A16: Địa chỉ: | C16: =+VLOOKUP(J14,'Danh sách CN'!A:D,4,0) -> 84, Mậu Thân, Phường Cái Khế, Thành phố Cần Thơ, Việt Nam
A17: Đại diện: | E17: Chức vụ:
A19: STT | B19: Số hóa đơn | C19: Ký hiệu | D19: Ngày hóa đơn | E19: Tên khách hàng | F19: Thành tiền trước thuế | G19: Tiền thuế GTGT | H19: Tổng thanh toán
A20: 1 | B20: 00039007 | C20: 1C26TTN | D20: 46177 | E20: CÔNG TY CỔ PHẦN TRUNG TÂM THƯƠNG MẠI LOTTE VIỆT NAM - CHI NHÁNH CẦN THƠ | F20: 1029345 | G20: 82348 | H20: =+F20+G20 -> 1111693
A21: 2 | B21: 00040552 | C21: 1C26TTN | D21: 46184 | E21: CÔNG TY CỔ PHẦN TRUNG TÂM THƯƠNG MẠI LOTTE VIỆT NAM - CHI NHÁNH CẦN THƠ | F21: 1893150 | G21: 151452 | H21: =+F21+G21 -> 2044602
A22: 3 | B22: 00042512 | C22: 1C26TTN | D22: 46193 | E22: CÔNG TY CỔ PHẦN TRUNG TÂM THƯƠNG MẠI LOTTE VIỆT NAM - CHI NHÁNH CẦN THƠ | F22: 2847525 | G22: 227802 | H22: =+F22+G22 -> 3075327
A23: 4 | B23: 00043652 | C23: 1C26TTN | D23: 46198 | E23: CÔNG TY CỔ PHẦN TRUNG TÂM THƯƠNG MẠI LOTTE VIỆT NAM - CHI NHÁNH CẦN THƠ | F23: 2167170 | G23: 173374 | H23: =+F23+G23 -> 2340544
A24: Tổng cộng | F24: =SUM(F20:F23) -> 7937190 | G24: =SUM(G20:G23) -> 634976 | H24: =SUM(H20:H23) -> 8572166 | I24: 7262193
A25: Tổng chiết khấu (tỷ lệ 7.25%) | F25: =ROUND(F24*0.0725,0) -> 575446 | G25: =ROUND(F25*0.08,0) -> 46036 | H25: =F25+G25 -> 621482
A27: Bảng kê được lập thành 02 bản, có giá trị như nhau, mỗi bên giữ 01 bản
B29: ĐẠI DIỆN MUA HÀNG | F29: ĐẠI DIỆN BÁN HÀNG
B30: (Ký điện tử/ký, đóng dấu và ghi rõ họ tên) | F30: (Ký điện tử/ký, đóng dấu và ghi rõ họ tên)

Sheet TÂN BÌNH
B1: CÔNG TY TNHH MTV TM & DV | E1: CỘNG HÒA XÃ HỘI CHỦ NGHĨA VIỆT NAM
B2: NGỌC THƠM | E2: Độc lập - Tự do - Hạnh phúc
E4: TP Hồ Chí Minh, ngày 09 tháng 09 năm 2026
A6: BẢNG KÊ HÓA ĐƠN THÁNG 06/2026
A7: Số: 09062026/BKHD/NT-LOTTE
A9: Bên bán hàng: | C9: CÔNG TY TNHH MỘT THÀNH VIÊN THƯƠNG MẠI VÀ DỊCH VỤ NGỌC THƠM
A10: Mã số thuế: | C10: 0309391503
A11: Địa chỉ: | C11: 12/14/18 Đường 49, Khu phố 69, Phường Hiệp Bình, TP. Hồ Chí Minh, Việt Nam
A12: Đại diện: | C12: Nguyễn Bảo Thạch | E12: Chức vụ: Phó Giám đốc
A14: Bên mua hàng: | C14: =+VLOOKUP(J14,'Danh sách CN'!A:D,2,0) -> CÔNG TY CỔ PHẦN TRUNG TÂM THƯƠNG MẠI LOTTE VIỆT NAM - CHI NHÁNH TÂN BÌNH | J14: LOTTE-006
A15: Mã số thuế: | C15: =+VLOOKUP(J14,'Danh sách CN'!A:D,3,0) -> 0304741634-006 | J15: LOTTE-HCM-TBH-006
A16: Địa chỉ: | C16: =+VLOOKUP(J14,'Danh sách CN'!A:D,4,0) -> Số 20, đường Cộng Hòa, Phường Bảy Hiền, Thành phố Hồ Chí Minh, Việt Nam
A17: Đại diện: | E17: Chức vụ:
A19: STT | B19: Số hóa đơn | C19: Ký hiệu | D19: Ngày hóa đơn | E19: Tên khách hàng | F19: Thành tiền trước thuế | G19: Tiền thuế GTGT | H19: Tổng thanh toán
A20: 1 | B20: 00039479 | C20: 1C26TTN | D20: 46178 | E20: CÔNG TY CỔ PHẦN TRUNG TÂM THƯƠNG MẠI LOTTE VIỆT NAM - CHI NHÁNH TÂN BÌNH | F20: 495595 | G20: 39648 | H20: =+F20+G20 -> 535243
A21: 2 | B21: 00044507 | C21: 1C26TTN | D21: 46200 | E21: CÔNG TY CỔ PHẦN TRUNG TÂM THƯƠNG MẠI LOTTE VIỆT NAM - CHI NHÁNH TÂN BÌNH | F21: 631050 | G21: 50484 | H21: =+F21+G21 -> 681534
A22: Tổng cộng | F22: =SUM(F20:F21) -> 1126645 | G22: =SUM(G20:G21) -> 90132 | H22: =SUM(H20:H21) -> 1216777
A23: Tổng chiết khấu (tỷ lệ 7.25%) | F23: =ROUND(F22*0.0725,0) -> 81682 | G23: =ROUND(F23*0.08,0) -> 6535 | H23: =F23+G23 -> 88217
A25: Bảng kê được lập thành 02 bản, có giá trị như nhau, mỗi bên giữ 01 bản
B27: ĐẠI DIỆN MUA HÀNG | F27: ĐẠI DIỆN BÁN HÀNG
B28: (Ký điện tử/ký, đóng dấu và ghi rõ họ tên) | F28: (Ký điện tử/ký, đóng dấu và ghi rõ họ tên)

Sheet VŨNG TÀU
B1: CÔNG TY TNHH MTV TM & DV | E1: CỘNG HÒA XÃ HỘI CHỦ NGHĨA VIỆT NAM
B2: NGỌC THƠM | E2: Độc lập - Tự do - Hạnh phúc
E4: TP Hồ Chí Minh, ngày 09 tháng 09 năm 2026
A6: BẢNG KÊ HÓA ĐƠN THÁNG 06/2026
A7: Số: 08062026/BKHD/NT-LOTTE
A9: Bên bán hàng: | C9: CÔNG TY TNHH MỘT THÀNH VIÊN THƯƠNG MẠI VÀ DỊCH VỤ NGỌC THƠM
A10: Mã số thuế: | C10: 0309391503
A11: Địa chỉ: | C11: 12/14/18 Đường 49, Khu phố 69, Phường Hiệp Bình, TP. Hồ Chí Minh, Việt Nam
A12: Đại diện: | C12: Nguyễn Bảo Thạch | E12: Chức vụ: Phó Giám đốc
A14: Bên mua hàng: | C14: =+VLOOKUP(J14,'Danh sách CN'!A:D,2,0) -> CÔNG TY CỔ PHẦN TRUNG TÂM THƯƠNG MẠI LOTTE VIỆT NAM - CHI NHÁNH BÀ RỊA VŨNG TÀU | J14: LOTTE-005
A15: Mã số thuế: | C15: =+VLOOKUP(J14,'Danh sách CN'!A:D,3,0) -> 0304741634-005 | J15: LOTTE-VTU-00-005
A16: Địa chỉ: | C16: =+VLOOKUP(J14,'Danh sách CN'!A:D,4,0) -> Góc đường 3 tháng 2 và đường Thi Sách, Phường Tam Thắng, TP. Hồ Chí Minh, Việt Nam
A17: Đại diện: | E17: Chức vụ:
A19: STT | B19: Số hóa đơn | C19: Ký hiệu | D19: Ngày hóa đơn | E19: Tên khách hàng | F19: Thành tiền trước thuế | G19: Tiền thuế GTGT | H19: Tổng thanh toán
A20: 1 | B20: 00038037 | C20: 1C26TTN | D20: 46175 | E20: CÔNG TY CỔ PHẦN TRUNG TÂM THƯƠNG MẠI LOTTE VIỆT NAM - CHI NHÁNH BÀ RỊA VŨNG TÀU | F20: 1565845 | G20: 125268 | H20: =+F20+G20 -> 1691113
A21: 2 | B21: 00041228 | C21: 1C26TTN | D21: 46189 | E21: CÔNG TY CỔ PHẦN TRUNG TÂM THƯƠNG MẠI LOTTE VIỆT NAM - CHI NHÁNH BÀ RỊA VŨNG TÀU | F21: 2524200 | G21: 201936 | H21: =+F21+G21 -> 2726136
A22: 3 | B22: 00042631 | C22: 1C26TTN | D22: 46196 | E22: CÔNG TY CỔ PHẦN TRUNG TÂM THƯƠNG MẠI LOTTE VIỆT NAM - CHI NHÁNH BÀ RỊA VŨNG TÀU | F22: 3731575 | G22: 298526 | H22: =+F22+G22 -> 4030101
A23: 4 | B23: 00044573 | C23: 1C26TTN | D23: 46203 | E23: CÔNG TY CỔ PHẦN TRUNG TÂM THƯƠNG MẠI LOTTE VIỆT NAM - CHI NHÁNH BÀ RỊA VŨNG TÀU | F23: 3155250 | G23: 252420 | H23: =+F23+G23 -> 3407670
A24: Tổng cộng | F24: =SUM(F20:F23) -> 10976870 | G24: =SUM(G20:G23) -> 878150 | H24: =SUM(H20:H23) -> 11855020
A25: Tổng chiết khấu (tỷ lệ 7.25%) | F25: =ROUND(F24*0.0725,0) -> 795823 | G25: =ROUND(F25*0.08,0) -> 63666 | H25: =F25+G25 -> 859489
A27: Bảng kê được lập thành 02 bản, có giá trị như nhau, mỗi bên giữ 01 bản
B29: ĐẠI DIỆN MUA HÀNG | F29: ĐẠI DIỆN BÁN HÀNG
B30: (Ký điện tử/ký, đóng dấu và ghi rõ họ tên) | F30: (Ký điện tử/ký, đóng dấu và ghi rõ họ tên)

Sheet BA ĐÌNH
B1: CÔNG TY TNHH MTV TM & DV | E1: CỘNG HÒA XÃ HỘI CHỦ NGHĨA VIỆT NAM
B2: NGỌC THƠM | E2: Độc lập - Tự do - Hạnh phúc
E4: TP Hồ Chí Minh, ngày 09 tháng 09 năm 2026
A6: BẢNG KÊ HÓA ĐƠN THÁNG 06/2026
A7: Số: 07062026/BKHD/NT-LOTTE
A9: Bên bán hàng: | C9: CÔNG TY TNHH MỘT THÀNH VIÊN THƯƠNG MẠI VÀ DỊCH VỤ NGỌC THƠM
A10: Mã số thuế: | C10: 0309391503
A11: Địa chỉ: | C11: 12/14/18 Đường 49, Khu phố 69, Phường Hiệp Bình, TP. Hồ Chí Minh, Việt Nam
A12: Đại diện: | C12: Nguyễn Bảo Thạch | E12: Chức vụ: Phó Giám đốc
A14: Bên mua hàng: | C14: =+VLOOKUP(J14,'Danh sách CN'!A:D,2,0) -> CÔNG TY CỔ PHẦN TRUNG TÂM THƯƠNG MẠI LOTTE VIỆT NAM - CHI NHÁNH BA ĐÌNH | J14: LOTTE-008
A15: Mã số thuế: | C15: =+VLOOKUP(J14,'Danh sách CN'!A:D,3,0) -> 0304741634-008 | J15: LOTTE-HNI-BDH-008
A16: Địa chỉ: | C16: =+VLOOKUP(J14,'Danh sách CN'!A:D,4,0) -> Tầng hầm 1 (B1), Trung tâm Lotte Hà Nội, số 54, đường Liễu Giai, Phường Giảng Võ, Thành phố Hà Nội, Việt Nam
A17: Đại diện: | E17: Chức vụ:
A19: STT | B19: Số hóa đơn | C19: Ký hiệu | D19: Ngày hóa đơn | E19: Tên khách hàng | F19: Thành tiền trước thuế | G19: Tiền thuế GTGT | H19: Tổng thanh toán
A20: 1 | B20: 00039626 | C20: 1C26TTN | D20: 46181 | E20: CÔNG TY CỔ PHẦN TRUNG TÂM THƯƠNG MẠI LOTTE VIỆT NAM - CHI NHÁNH BA ĐÌNH | F20: 3450045 | G20: 276004 | H20: =+F20+G20 -> 3726049
A21: 2 | B21: 00039625 | C21: 1C26TTN | D21: 46181 | E21: CÔNG TY CỔ PHẦN TRUNG TÂM THƯƠNG MẠI LOTTE VIỆT NAM - CHI NHÁNH BA ĐÌNH | F21: 2911060 | G21: 232885 | H21: =+F21+G21 -> 3143945
A22: 3 | B22: 00042598 | C22: 1C26TTN | D22: 46195 | E22: CÔNG TY CỔ PHẦN TRUNG TÂM THƯƠNG MẠI LOTTE VIỆT NAM - CHI NHÁNH BA ĐÌNH | F22: 2589275 | G22: 207142 | H22: =+F22+G22 -> 2796417
A23: 4 | B23: 00044535 | C23: 1C26TTN | D23: 46202 | E23: CÔNG TY CỔ PHẦN TRUNG TÂM THƯƠNG MẠI LOTTE VIỆT NAM - CHI NHÁNH BA ĐÌNH | F23: 1660395 | G23: 132832 | H23: =+F23+G23 -> 1793227
A24: Tổng cộng | F24: =SUM(F20:F23) -> 10610775 | G24: =SUM(G20:G23) -> 848863 | H24: =SUM(H20:H23) -> 11459638
A25: Tổng chiết khấu (tỷ lệ 7.25%) | F25: =ROUND(F24*0.0725,0) -> 769281 | G25: =ROUND(F25*0.08,0) -> 61542 | H25: =F25+G25 -> 830823
A27: Bảng kê được lập thành 02 bản, có giá trị như nhau, mỗi bên giữ 01 bản
B29: ĐẠI DIỆN MUA HÀNG | F29: ĐẠI DIỆN BÁN HÀNG
B30: (Ký điện tử/ký, đóng dấu và ghi rõ họ tên) | F30: (Ký điện tử/ký, đóng dấu và ghi rõ họ tên)

Sheet BÌNH THUẬN
B1: CÔNG TY TNHH MTV TM & DV | E1: CỘNG HÒA XÃ HỘI CHỦ NGHĨA VIỆT NAM
B2: NGỌC THƠM | E2: Độc lập - Tự do - Hạnh phúc
E4: TP Hồ Chí Minh, ngày 09 tháng 09 năm 2026
A6: BẢNG KÊ HÓA ĐƠN THÁNG 06/2026
A7: Số: 06062026/BKHD/NT-LOTTE
A9: Bên bán hàng: | C9: CÔNG TY TNHH MỘT THÀNH VIÊN THƯƠNG MẠI VÀ DỊCH VỤ NGỌC THƠM
A10: Mã số thuế: | C10: 0309391503
A11: Địa chỉ: | C11: 12/14/18 Đường 49, Khu phố 69, Phường Hiệp Bình, TP. Hồ Chí Minh, Việt Nam
A12: Đại diện: | C12: Nguyễn Bảo Thạch | E12: Chức vụ: Phó Giám đốc
A14: Bên mua hàng: | C14: =+VLOOKUP(J14,'Danh sách CN'!A:D,2,0) -> CÔNG TY CỔ PHẦN TRUNG TÂM THƯƠNG MẠI LOTTE VIỆT NAM - CHI NHÁNH BÌNH THUẬN | J14: LOTTE-002
A15: Mã số thuế: | C15: =+VLOOKUP(J14,'Danh sách CN'!A:D,3,0) -> 0304741634-002 | J15: LOTTE-BTN-00-002
A16: Địa chỉ: | C16: =+VLOOKUP(J14,'Danh sách CN'!A:D,4,0) -> Khu dân cư Hùng Vương I, Phường Phú Thủy, Tỉnh Lâm Đồng, Việt Nam
A17: Đại diện: | E17: Chức vụ:
A19: STT | B19: Số hóa đơn | C19: Ký hiệu | D19: Ngày hóa đơn | E19: Tên khách hàng | F19: Thành tiền trước thuế | G19: Tiền thuế GTGT | H19: Tổng thanh toán
A20: 1 | B20: 00039569 | C20: 1C26TTN | D20: 46179 | E20: CÔNG TY CỔ PHẦN TRUNG TÂM THƯƠNG MẠI LOTTE VIỆT NAM - CHI NHÁNH BÌNH THUẬN | F20: 1046840 | G20: 83747 | H20: =+F20+G20 -> 1130587
A21: 2 | B21: 00041140 | C21: 1C26TTN | D21: 46186 | E21: CÔNG TY CỔ PHẦN TRUNG TÂM THƯƠNG MẠI LOTTE VIỆT NAM - CHI NHÁNH BÌNH THUẬN | F21: 631050 | G21: 50484 | H21: =+F21+G21 -> 681534
A22: 3 | B22: 00041141 | C22: 1C26TTN | D22: 46186 | E22: CÔNG TY CỔ PHẦN TRUNG TÂM THƯƠNG MẠI LOTTE VIỆT NAM - CHI NHÁNH BÌNH THUẬN | F22: 589630 | G22: 47170 | H22: =+F22+G22 -> 636800
A23: 4 | B23: 00041943 | C23: 1C26TTN | D23: 46191 | E23: CÔNG TY CỔ PHẦN TRUNG TÂM THƯƠNG MẠI LOTTE VIỆT NAM - CHI NHÁNH BÌNH THUẬN | F23: 495595 | G23: 39648 | H23: =+F23+G23 -> 535243
A24: 5 | B24: 00041944 | C24: 1C26TTN | D24: 46191 | E24: CÔNG TY CỔ PHẦN TRUNG TÂM THƯƠNG MẠI LOTTE VIỆT NAM - CHI NHÁNH BÌNH THUẬN | F24: 631050 | G24: 50484 | H24: =+F24+G24 -> 681534
A25: 6 | B25: 00043651 | C25: 1C26TTN | D25: 46198 | E25: CÔNG TY CỔ PHẦN TRUNG TÂM THƯƠNG MẠI LOTTE VIỆT NAM - CHI NHÁNH BÌNH THUẬN | F25: 1503555 | G25: 120284 | H25: =+F25+G25 -> 1623839
A26: 7 | B26: 00044574 | C26: 1C26TTN | D26: 46203 | E26: CÔNG TY CỔ PHẦN TRUNG TÂM THƯƠNG MẠI LOTTE VIỆT NAM - CHI NHÁNH BÌNH THUẬN | F26: 2329600 | G26: 186368 | H26: =+F26+G26 -> 2515968
A27: 8 | D27: 46183 | E27: CÔNG TY CỔ PHẦN TRUNG TÂM THƯƠNG MẠI LOTTE VIỆT NAM - CHI NHÁNH BÌNH THUẬN | F27: -825482 | G27: -66039 | H27: =+F27+G27 -> -891521
A28: Tổng cộng | F28: =SUM(F20:F27) -> 6401838 | G28: =SUM(G20:G27) -> 512146 | H28: =SUM(H20:H27) -> 6913984 | I28: 4170344
A29: Tổng chiết khấu (tỷ lệ 7.25%) | F29: =ROUND(F28*0.0725,0) -> 464133 | G29: =ROUND(F29*0.08,0) -> 37131 | H29: =F29+G29 -> 501264
A31: Bảng kê được lập thành 02 bản, có giá trị như nhau, mỗi bên giữ 01 bản
B33: ĐẠI DIỆN MUA HÀNG | F33: ĐẠI DIỆN BÁN HÀNG
B34: (Ký điện tử/ký, đóng dấu và ghi rõ họ tên) | F34: (Ký điện tử/ký, đóng dấu và ghi rõ họ tên)

Sheet BÌNH DƯƠNG
B1: CÔNG TY TNHH MTV TM & DV | E1: CỘNG HÒA XÃ HỘI CHỦ NGHĨA VIỆT NAM
B2: NGỌC THƠM | E2: Độc lập - Tự do - Hạnh phúc
E4: TP Hồ Chí Minh, ngày 09 tháng 09 năm 2026
A6: BẢNG KÊ HÓA ĐƠN THÁNG 06/2026
A7: Số: 05062026/BKHD/NT-LOTTE
A9: Bên bán hàng: | C9: CÔNG TY TNHH MỘT THÀNH VIÊN THƯƠNG MẠI VÀ DỊCH VỤ NGỌC THƠM
A10: Mã số thuế: | C10: 0309391503
A11: Địa chỉ: | C11: 12/14/18 Đường 49, Khu phố 69, Phường Hiệp Bình, TP. Hồ Chí Minh, Việt Nam
A12: Đại diện: | C12: Nguyễn Bảo Thạch | E12: Chức vụ: Phó Giám đốc
A14: Bên mua hàng: | C14: =+VLOOKUP(J14,'Danh sách CN'!A:D,2,0) -> CÔNG TY CỔ PHẦN TRUNG TÂM THƯƠNG MẠI LOTTE VIỆT NAM - CHI NHÁNH BÌNH DƯƠNG | J14: LOTTE-003
A15: Mã số thuế: | C15: =+VLOOKUP(J14,'Danh sách CN'!A:D,3,0) -> 0304741634-003 | J15: LOTTE-BDG-00-003
A16: Địa chỉ: | C16: =+VLOOKUP(J14,'Danh sách CN'!A:D,4,0) -> Khu đô thị The Seasons Bình Dương, Phường Lái Thiêu, TP. Hồ Chí Minh, Việt Nam
A17: Đại diện: | E17: Chức vụ:
A19: STT | B19: Số hóa đơn | C19: Ký hiệu | D19: Ngày hóa đơn | E19: Tên khách hàng | F19: Thành tiền trước thuế | G19: Tiền thuế GTGT | H19: Tổng thanh toán
A20: 1 | B20: 00038067 | C20: 1C26TTN | D20: 46175 | E20: CÔNG TY CỔ PHẦN TRUNG TÂM THƯƠNG MẠI LOTTE VIỆT NAM - CHI NHÁNH BÌNH DƯƠNG | F20: 1262100 | G20: 100968 | H20: =+F20+G20 -> 1363068
A21: 2 | B21: 00038069 | C21: 1C26TTN | D21: 46175 | E21: CÔNG TY CỔ PHẦN TRUNG TÂM THƯƠNG MẠI LOTTE VIỆT NAM - CHI NHÁNH BÌNH DƯƠNG | F21: 982790 | G21: 78623 | H21: =+F21+G21 -> 1061413
A22: 3 | B22: 00038068 | C22: 1C26TTN | D22: 46175 | E22: CÔNG TY CỔ PHẦN TRUNG TÂM THƯƠNG MẠI LOTTE VIỆT NAM - CHI NHÁNH BÌNH DƯƠNG | F22: 631050 | G22: 50484 | H22: =+F22+G22 -> 681534
A23: 4 | B23: 00039754 | C23: 1C26TTN | D23: 46183 | E23: CÔNG TY CỔ PHẦN TRUNG TÂM THƯƠNG MẠI LOTTE VIỆT NAM - CHI NHÁNH BÌNH DƯƠNG | F23: 1262100 | G23: 100968 | H23: =+F23+G23 -> 1363068
A24: 5 | B24: 00040981 | C24: 1C26TTN | D24: 46185 | E24: CÔNG TY CỔ PHẦN TRUNG TÂM THƯƠNG MẠI LOTTE VIỆT NAM - CHI NHÁNH BÌNH DƯƠNG | F24: 495595 | G24: 39648 | H24: =+F24+G24 -> 535243
A25: 6 | B25: 00040980 | C25: 1C26TTN | D25: 46185 | E25: CÔNG TY CỔ PHẦN TRUNG TÂM THƯƠNG MẠI LOTTE VIỆT NAM - CHI NHÁNH BÌNH DƯƠNG | F25: 533750 | G25: 42700 | H25: =+F25+G25 -> 576450
A26: 7 | B26: 00042691 | C26: 1C26TTN | D26: 46196 | E26: CÔNG TY CỔ PHẦN TRUNG TÂM THƯƠNG MẠI LOTTE VIỆT NAM - CHI NHÁNH BÌNH DƯƠNG | F26: 1262100 | G26: 100968 | H26: =+F26+G26 -> 1363068
A27: Tổng cộng | F27: =SUM(F20:F26) -> 6429485 | G27: =SUM(G20:G26) -> 514359 | H27: =SUM(H20:H26) -> 6943844
A28: Tổng chiết khấu (tỷ lệ 7.25%) | F28: =ROUND(F27*0.0725,0) -> 466138 | G28: =ROUND(F28*0.08,0) -> 37291 | H28: =F28+G28 -> 503429
A30: Bảng kê được lập thành 02 bản, có giá trị như nhau, mỗi bên giữ 01 bản
B32: ĐẠI DIỆN MUA HÀNG | F32: ĐẠI DIỆN BÁN HÀNG
B33: (Ký điện tử/ký, đóng dấu và ghi rõ họ tên) | F33: (Ký điện tử/ký, đóng dấu và ghi rõ họ tên)

Sheet ĐÀ NẴNG
B1: CÔNG TY TNHH MTV TM & DV | E1: CỘNG HÒA XÃ HỘI CHỦ NGHĨA VIỆT NAM
B2: NGỌC THƠM | E2: Độc lập - Tự do - Hạnh phúc
E4: TP Hồ Chí Minh, ngày 09 tháng 09 năm 2026
A6: BẢNG KÊ HÓA ĐƠN THÁNG 06/2026
A7: Số: 04062026/BKHD/NT-LOTTE
A9: Bên bán hàng: | C9: CÔNG TY TNHH MỘT THÀNH VIÊN THƯƠNG MẠI VÀ DỊCH VỤ NGỌC THƠM
A10: Mã số thuế: | C10: 0309391503
A11: Địa chỉ: | C11: 12/14/18 Đường 49, Khu phố 69, Phường Hiệp Bình, TP. Hồ Chí Minh, Việt Nam
A12: Đại diện: | C12: Nguyễn Bảo Thạch | E12: Chức vụ: Phó Giám đốc
A14: Bên mua hàng: | C14: =+VLOOKUP(J14,'Danh sách CN'!A:D,2,0) -> CÔNG TY CỔ PHẦN TRUNG TÂM THƯƠNG MẠI LOTTE VIỆT NAM - CHI NHÁNH ĐÀ NẴNG | J14: LOTTE-009
A15: Mã số thuế: | C15: =+VLOOKUP(J14,'Danh sách CN'!A:D,3,0) -> 0304741634-009
A16: Địa chỉ: | C16: =+VLOOKUP(J14,'Danh sách CN'!A:D,4,0) -> số 06 đường Nại Nam, Phường Hòa Cường, Thành phố Đà Nẵng, Việt Nam
A17: Đại diện: | E17: Chức vụ:
A19: STT | B19: Số hóa đơn | C19: Ký hiệu | D19: Ngày hóa đơn | E19: Tên khách hàng | F19: Thành tiền trước thuế | G19: Tiền thuế GTGT | H19: Tổng thanh toán
A20: 1 | B20: 00039006 | C20: 1C26TTN | D20: 46177 | E20: CÔNG TY CỔ PHẦN TRUNG TÂM THƯƠNG MẠI LOTTE VIỆT NAM - CHI NHÁNH ĐÀ NẴNG | F20: 982790 | G20: 78623 | H20: =+F20+G20 -> 1061413
A21: 2 | B21: 00040548 | C21: 1C26TTN | D21: 46184 | E21: CÔNG TY CỔ PHẦN TRUNG TÂM THƯƠNG MẠI LOTTE VIỆT NAM - CHI NHÁNH ĐÀ NẴNG | F21: 513090 | G21: 41047 | H21: =+F21+G21 -> 554137
A22: 3 | B22: 00040549 | C22: 1C26TTN | D22: 46184 | E22: CÔNG TY CỔ PHẦN TRUNG TÂM THƯƠNG MẠI LOTTE VIỆT NAM - CHI NHÁNH ĐÀ NẴNG | F22: 589630 | G22: 47170 | H22: =+F22+G22 -> 636800
A23: 4 | B23: 00041139 | C23: 1C26TTN | D23: 46186 | E23: CÔNG TY CỔ PHẦN TRUNG TÂM THƯƠNG MẠI LOTTE VIỆT NAM - CHI NHÁNH ĐÀ NẴNG | F23: 1220680 | G23: 97654 | H23: =+F23+G23 -> 1318334
A24: 5 | B24: 00041138 | C24: 1C26TTN | D24: 46186 | E24: CÔNG TY CỔ PHẦN TRUNG TÂM THƯƠNG MẠI LOTTE VIỆT NAM - CHI NHÁNH ĐÀ NẴNG | F24: 513090 | G24: 41047 | H24: =+F24+G24 -> 554137
A25: 6 | B25: 00041942 | C25: 1C26TTN | D25: 46191 | E25: CÔNG TY CỔ PHẦN TRUNG TÂM THƯƠNG MẠI LOTTE VIỆT NAM - CHI NHÁNH ĐÀ NẴNG | F25: 1220680 | G25: 97654 | H25: =+F25+G25 -> 1318334
A26: 7 | B26: 00041941 | C26: 1C26TTN | D26: 46191 | E26: CÔNG TY CỔ PHẦN TRUNG TÂM THƯƠNG MẠI LOTTE VIỆT NAM - CHI NHÁNH ĐÀ NẴNG | F26: 513090 | G26: 41047 | H26: =+F26+G26 -> 554137
A27: 8 | B27: 00042634 | C27: 1C26TTN | D27: 46196 | E27: CÔNG TY CỔ PHẦN TRUNG TÂM THƯƠNG MẠI LOTTE VIỆT NAM - CHI NHÁNH ĐÀ NẴNG | F27: 583055 | G27: 46644 | H27: =+F27+G27 -> 629699
A28: 9 | B28: 00042633 | C28: 1C26TTN | D28: 46196 | E28: CÔNG TY CỔ PHẦN TRUNG TÂM THƯƠNG MẠI LOTTE VIỆT NAM - CHI NHÁNH ĐÀ NẴNG | F28: 1503555 | G28: 120284 | H28: =+F28+G28 -> 1623839
A29: 10 | B29: 00044471 | C29: 1C26TTN | D29: 46200 | E29: CÔNG TY CỔ PHẦN TRUNG TÂM THƯƠNG MẠI LOTTE VIỆT NAM - CHI NHÁNH ĐÀ NẴNG | F29: 533750 | G29: 42700 | H29: =+F29+G29 -> 576450
A30: 11 | B30: 00044470 | C30: 1C26TTN | D30: 46200 | E30: CÔNG TY CỔ PHẦN TRUNG TÂM THƯƠNG MẠI LOTTE VIỆT NAM - CHI NHÁNH ĐÀ NẴNG | F30: 1002370 | G30: 80190 | H30: =+F30+G30 -> 1082560
A31: 12 | B31: 00044572 | C31: 1C26TTN | D31: 46203 | E31: CÔNG TY CỔ PHẦN TRUNG TÂM THƯƠNG MẠI LOTTE VIỆT NAM - CHI NHÁNH ĐÀ NẴNG | F31: 1116805 | G31: 89344 | H31: =+F31+G31 -> 1206149
A32: 13 | B32: 00044571 | C32: 1C26TTN | D32: 46203 | E32: CÔNG TY CỔ PHẦN TRUNG TÂM THƯƠNG MẠI LOTTE VIỆT NAM - CHI NHÁNH ĐÀ NẴNG | F32: 1002370 | G32: 80190 | H32: =+F32+G32 -> 1082560
A33: Tổng cộng | F33: =SUM(F20:F32) -> 11294955 | G33: =SUM(G20:G32) -> 903594 | H33: =SUM(H20:H32) -> 12198549 | I33: 8962275
A34: Tổng chiết khấu (tỷ lệ 7.25%) | F34: =ROUND(F33*0.0725,0) -> 818884 | G34: =ROUND(F34*0.08,0) -> 65511 | H34: =F34+G34 -> 884395
A36: Bảng kê được lập thành 02 bản, có giá trị như nhau, mỗi bên giữ 01 bản
B38: ĐẠI DIỆN MUA HÀNG | F38: ĐẠI DIỆN BÁN HÀNG
B39: (Ký điện tử/ký, đóng dấu và ghi rõ họ tên) | F39: (Ký điện tử/ký, đóng dấu và ghi rõ họ tên)

Sheet ĐỒNG NAI
B1: CÔNG TY TNHH MTV TM & DV | E1: CỘNG HÒA XÃ HỘI CHỦ NGHĨA VIỆT NAM
B2: NGỌC THƠM | E2: Độc lập - Tự do - Hạnh phúc
E4: TP Hồ Chí Minh, ngày 09 tháng 09 năm 2026
A6: BẢNG KÊ HÓA ĐƠN THÁNG 05/2026
A7: Số: 03062026/BKHD/NT-LOTTE
A9: Bên bán hàng: | C9: CÔNG TY TNHH MỘT THÀNH VIÊN THƯƠNG MẠI VÀ DỊCH VỤ NGỌC THƠM
A10: Mã số thuế: | C10: 0309391503
A11: Địa chỉ: | C11: 12/14/18 Đường 49, Khu phố 69, Phường Hiệp Bình, TP. Hồ Chí Minh, Việt Nam
A12: Đại diện: | C12: Nguyễn Bảo Thạch | E12: Chức vụ: Phó Giám đốc
A14: Bên mua hàng: | C14: =+VLOOKUP(J14,'Danh sách CN'!A:D,2,0) -> CÔNG TY CỔ PHẦN TRUNG TÂM THƯƠNG MẠI LOTTE VIỆT NAM - CHI NHÁNH ĐỒNG NAI | J14: LOTTE-001
A15: Mã số thuế: | C15: =+VLOOKUP(J14,'Danh sách CN'!A:D,3,0) -> 0304741634-001 | J15: LOTTE-DNI-00-001
A16: Địa chỉ: | C16: =+VLOOKUP(J14,'Danh sách CN'!A:D,4,0) -> Lô B-03 Khu thương mại Amata, Quốc lộ 1A, Phường Long Bình, Tỉnh Đồng Nai, Việt Nam
A17: Đại diện: | E17: Chức vụ:
A19: STT | B19: Số hóa đơn | C19: Ký hiệu | D19: Ngày hóa đơn | E19: Tên khách hàng | F19: Thành tiền trước thuế | G19: Tiền thuế GTGT | H19: Tổng thanh toán
A20: 1 | B20: 00039671 | C20: 1C26TTN | D20: 46182 | E20: CÔNG TY CỔ PHẦN TRUNG TÂM THƯƠNG MẠI LOTTE VIỆT NAM - CHI NHÁNH ĐỒNG NAI | F20: 1893150 | G20: 151452 | H20: =+F20+G20 -> 2044602
A21: 2 | B21: 00039670 | C21: 1C26TTN | D21: 46182 | E21: CÔNG TY CỔ PHẦN TRUNG TÂM THƯƠNG MẠI LOTTE VIỆT NAM - CHI NHÁNH ĐỒNG NAI | F21: 1851730 | G21: 148138 | H21: =+F21+G21 -> 1999868
A22: 3 | B22: 00041331 | C22: 1C26TTN | D22: 46190 | E22: CÔNG TY CỔ PHẦN TRUNG TÂM THƯƠNG MẠI LOTTE VIỆT NAM - CHI NHÁNH ĐỒNG NAI | F22: 2264485 | G22: 181159 | H22: =+F22+G22 -> 2445644
A24: Tổng cộng | F24: =SUM(F20:F23) -> 6009365 | G24: =SUM(G20:G23) -> 480749 | H24: =SUM(H20:H23) -> 6490114
A25: Tổng chiết khấu (tỷ lệ 7.25%) | F25: =ROUND(F24*0.0725,0) -> 435679 | G25: =ROUND(F25*0.08,0) -> 34854 | H25: =F25+G25 -> 470533
A27: Bảng kê được lập thành 02 bản, có giá trị như nhau, mỗi bên giữ 01 bản
B29: ĐẠI DIỆN MUA HÀNG | F29: ĐẠI DIỆN BÁN HÀNG
B30: (Ký điện tử/ký, đóng dấu và ghi rõ họ tên) | F30: (Ký điện tử/ký, đóng dấu và ghi rõ họ tên)

Sheet PHÚ THỌ
B1: CÔNG TY TNHH MTV TM & DV | E1: CỘNG HÒA XÃ HỘI CHỦ NGHĨA VIỆT NAM
B2: NGỌC THƠM | E2: Độc lập - Tự do - Hạnh phúc
E4: TP Hồ Chí Minh, ngày 09 tháng 09 năm 2026
A6: BẢNG KÊ HÓA ĐƠN THÁNG 06/2026
A7: Số: 02062026/BKHD/NT-LOTTE
A9: Bên bán hàng: | C9: CÔNG TY TNHH MỘT THÀNH VIÊN THƯƠNG MẠI VÀ DỊCH VỤ NGỌC THƠM
A10: Mã số thuế: | C10: 0309391503
A11: Địa chỉ: | C11: 12/14/18 Đường 49, Khu phố 69, Phường Hiệp Bình, TP. Hồ Chí Minh, Việt Nam
A12: Đại diện: | C12: Nguyễn Bảo Thạch | E12: Chức vụ: Phó Giám đốc
A14: Bên mua hàng: | C14: =+VLOOKUP(J14,'Danh sách CN'!A:D,2,0) -> CÔNG TY CỔ PHẦN TRUNG TÂM THƯƠNG MẠI LOTTE VIỆT NAM | J14: LOTTE
A15: Mã số thuế: | C15: =+VLOOKUP(J14,'Danh sách CN'!A:D,3,0) -> 0304741634 | J15: LOTTE-HCM-Q7-41634
A16: Địa chỉ: | C16: =+VLOOKUP(J14,'Danh sách CN'!A:D,4,0) -> Số 469, Đường Nguyễn Hữu Thọ, Phường Tân Hưng, Thành phố Hồ Chí Minh, Việt Nam
A17: Đại diện: | E17: Chức vụ:
A19: STT | B19: Số hóa đơn | C19: Ký hiệu | D19: Ngày hóa đơn | E19: Tên khách hàng | F19: Thành tiền trước thuế | G19: Tiền thuế GTGT | H19: Tổng thanh toán
A20: 1 | B20: 00044508 | C20: 1C26TTN | D20: 46200 | E20: CÔNG TY CỔ PHẦN TRUNG TÂM THƯƠNG MẠI LOTTE VIỆT NAM | F20: 631050 | G20: 50484 | H20: =+F20+G20 -> 681534
H21: =+F21+G21 -> 0
A22: Tổng cộng | F22: =SUM(F20:F21) -> 631050 | G22: =SUM(G20:G21) -> 50484 | H22: =SUM(H20:H21) -> 681534
A23: Tổng chiết khấu (tỷ lệ 7.25%) | F23: =ROUND(F22*0.0725,0) -> 45751 | G23: =ROUND(F23*0.08,0) -> 3660 | H23: =F23+G23 -> 49411
A25: Bảng kê được lập thành 02 bản, có giá trị như nhau, mỗi bên giữ 01 bản
B27: ĐẠI DIỆN MUA HÀNG | F27: ĐẠI DIỆN BÁN HÀNG
B28: (Ký điện tử/ký, đóng dấu và ghi rõ họ tên) | F28: (Ký điện tử/ký, đóng dấu và ghi rõ họ tên)

Sheet NAM SÀI GÒN
B1: CÔNG TY TNHH MTV TM & DV | E1: CỘNG HÒA XÃ HỘI CHỦ NGHĨA VIỆT NAM
B2: NGỌC THƠM | E2: Độc lập - Tự do - Hạnh phúc
E4: TP Hồ Chí Minh, ngày 09 tháng 09 năm 2026
A6: BẢNG KÊ HÓA ĐƠN THÁNG 06/2026
A7: Số: 01062026/BKHD/NT-LOTTE
A9: Bên bán hàng: | C9: CÔNG TY TNHH MỘT THÀNH VIÊN THƯƠNG MẠI VÀ DỊCH VỤ NGỌC THƠM
A10: Mã số thuế: | C10: 0309391503
A11: Địa chỉ: | C11: 12/14/18 Đường 49, Khu phố 69, Phường Hiệp Bình, TP. Hồ Chí Minh, Việt Nam
A12: Đại diện: | C12: Nguyễn Bảo Thạch | E12: Chức vụ: Phó Giám đốc
A14: Bên mua hàng: | C14: =+VLOOKUP(I14,'Danh sách CN'!A:D,2,0) -> CÔNG TY CỔ PHẦN TRUNG TÂM THƯƠNG MẠI LOTTE VIỆT NAM | I14: LOTTE
A15: Mã số thuế: | C15: =+VLOOKUP(I14,'Danh sách CN'!A:D,3,0) -> 0304741634 | I15: LOTTE-HCM-Q7-41634
A16: Địa chỉ: | C16: =+VLOOKUP(I14,'Danh sách CN'!A:D,4,0) -> Số 469, Đường Nguyễn Hữu Thọ, Phường Tân Hưng, Thành phố Hồ Chí Minh, Việt Nam
A17: Đại diện: | E17: Chức vụ:
A19: STT | B19: Số hóa đơn | C19: Ký hiệu | D19: Ngày hóa đơn | E19: Tên khách hàng | F19: Thành tiền trước thuế | G19: Tiền thuế GTGT | H19: Tổng thanh toán
A20: 1 | B20: 00038141 | C20: 1C26TTN | D20: 46176 | E20: CÔNG TY CỔ PHẦN TRUNG TÂM THƯƠNG MẠI LOTTE VIỆT NAM | F20: 1262100 | G20: 100968 | H20: =+F20+G20 -> 1363068
A21: 2 | B21: 00038140 | C21: 1C26TTN | D21: 46176 | E21: CÔNG TY CỔ PHẦN TRUNG TÂM THƯƠNG MẠI LOTTE VIỆT NAM | F21: 1262100 | G21: 100968 | H21: =+F21+G21 -> 1363068
A22: 3 | B22: 00039616 | C22: 1C26TTN | D22: 46181 | E22: CÔNG TY CỔ PHẦN TRUNG TÂM THƯƠNG MẠI LOTTE VIỆT NAM | F22: 1262100 | G22: 100968 | H22: =+F22+G22 -> 1363068
A23: 4 | B23: 00039615 | C23: 1C26TTN | D23: 46181 | E23: CÔNG TY CỔ PHẦN TRUNG TÂM THƯƠNG MẠI LOTTE VIỆT NAM | F23: 9254610 | G23: 740369 | H23: =+F23+G23 -> 9994979
A24: 5 | B24: 00041132 | C24: 1C26TTN | D24: 46186 | E24: CÔNG TY CỔ PHẦN TRUNG TÂM THƯƠNG MẠI LOTTE VIỆT NAM | F24: 1262100 | G24: 100968 | H24: =+F24+G24 -> 1363068
A25: 6 | B25: 00041124 | C25: 1C26TTN | D25: 46186 | E25: CÔNG TY CỔ PHẦN TRUNG TÂM THƯƠNG MẠI LOTTE VIỆT NAM | F25: 1262100 | G25: 100968 | H25: =+F25+G25 -> 1363068
A26: 7 | B26: 00041960 | C26: 1C26TTN | D26: 46191 | E26: CÔNG TY CỔ PHẦN TRUNG TÂM THƯƠNG MẠI LOTTE VIỆT NAM | F26: 3703460 | G26: 296277 | H26: =+F26+G26 -> 3999737
A27: 8 | B27: 00041959 | C27: 1C26TTN | D27: 46191 | E27: CÔNG TY CỔ PHẦN TRUNG TÂM THƯƠNG MẠI LOTTE VIỆT NAM | F27: 1262100 | G27: 100968 | H27: =+F27+G27 -> 1363068
A28: 9 | B28: 00042521 | C28: 1C26TTN | D28: 46193 | E28: CÔNG TY CỔ PHẦN TRUNG TÂM THƯƠNG MẠI LOTTE VIỆT NAM | F28: 9583465 | G28: 766677 | H28: =+F28+G28 -> 10350142
A29: 10 | B29: 00044477 | C29: 1C26TTN | D29: 46200 | E29: CÔNG TY CỔ PHẦN TRUNG TÂM THƯƠNG MẠI LOTTE VIỆT NAM | F29: 2489155 | G29: 199132 | H29: =+F29+G29 -> 2688287
A30: Tổng cộng | F30: =SUM(F20:F29) -> 32603290 | G30: =SUM(G20:G29) -> 2608263 | H30: =SUM(H20:H29) -> 35211553 | I30: 31924827
A31: Tổng chiết khấu (tỷ lệ 7.25%) | F31: =ROUND(F30*0.0725,0) -> 2363739 | G31: =ROUND(F31*0.08,0) -> 189099 | H31: =F31+G31 -> 2552838
A33: Bảng kê được lập thành 02 bản, có giá trị như nhau, mỗi bên giữ 01 bản
B35: ĐẠI DIỆN MUA HÀNG | F35: ĐẠI DIỆN BÁN HÀNG
B36: (Ký điện tử/ký, đóng dấu và ghi rõ họ tên) | F36: (Ký điện tử/ký, đóng dấu và ghi rõ họ tên)
