Workbook

Sheet Cần xuất
A1: Ngày hạch toán | B1: Số chứng từ | C1: Ngày hóa đơn | D1: Số hóa đơn | E1: Diễn giải chung | F1: Mã khách hàng | G1: Tên khách hàng | H1: Mã số thuế | I1: Mã hàng | J1: Tên hàng | K1: ĐVT | L1: SL XUẤT ĐIỀU CHỈNH | M1: Đơn giá | N1: TIỀN CHƯA VAT | O1: VAT | P1: TỔNG TIỀN
A2: 45450 | B2: BH2406/00258 | C2: 45456 | D2: 00028825 | E2: 4160177182 | F2: win4146 | G2: CN HCM - wincommerce | I2: CGM300 | J2: Chân giò heo muối 300g | K2: Túi | L2: 3 | M2: 73431 | N2: =L2*M2 -> 220293 | O2: =ROUND(N2*8%,0) -> 17623 | P2: =N2+O2 -> 237916 | Q2: MIENNAM | R2: WIN-HCM-Q8-4146
A3: 45450 | B3: BH2406/00258 | C3: 45456 | D3: 00028825 | E3: 4160177182 | F3: win4146 | G3: CN HCM - wincommerce | I3: GM500 | J3: Gà muối 500g | K3: Túi | L3: 3 | M3: 111058 | N3: =L3*M3 -> 333174 | O3: =ROUND(N3*8%,0) -> 26654 | P3: =N3+O3 -> 359828 | Q3: MIENNAM | R3: WIN-HCM-Q8-4146
A4: 45450 | B4: BH2406/00258 | C4: 45456 | D4: 00028825 | E4: 4160177182 | F4: win4146 | G4: CN HCM - wincommerce | I4: GL250 | J4: Giò lụa cây 250g | K4: Túi | L4: 3 | M4: 44550 | N4: =L4*M4 -> 133650 | O4: =ROUND(N4*8%,0) -> 10692 | P4: =N4+O4 -> 144342 | Q4: MIENNAM | R4: WIN-HCM-Q8-4146
A5: 45450 | B5: BH2406/00258 | C5: 45456 | D5: 00028825 | E5: 4160177182 | F5: win4146 | G5: CN HCM - wincommerce | I5: CC300 | J5: Chả cốm 300g | K5: Túi | L5: 3 | M5: 59400 | N5: =L5*M5 -> 178200 | O5: =ROUND(N5*8%,0) -> 14256 | P5: =N5+O5 -> 192456 | Q5: MIENNAM | R5: WIN-HCM-Q8-4146
A6: 45450 | B6: BH2406/00258 | C6: 45456 | D6: 00028825 | E6: 4160177182 | F6: win4146 | G6: CN HCM - wincommerce | I6: MNH250 | J6: Mọc Nấm Hương 250g | K6: Túi | L6: 3 | M6: 37720 | N6: =L6*M6 -> 113160 | O6: =ROUND(N6*8%,0) -> 9053 | P6: =N6+O6 -> 122213 | Q6: MIENNAM | R6: WIN-HCM-Q8-4146
A7: 45474 | B7: BH2406/03808 | C7: 45477 | D7: 00032471 | E7: 4160864944 | F7: win5509 | G7: CN HÀ NỘI - wincommerce | I7: CGM300 | J7: Chân giò heo muối 300g | K7: Túi | L7: 5 | M7: 58745 | N7: =L7*M7 -> 293725 | O7: =ROUND(N7*8%,0) -> 23498 | P7: =N7+O7 -> 317223 | Q7: MIENBAC | R7: WIN-HNI-HDC-5509
A8: 45474 | B8: BH2406/03808 | C8: 45477 | D8: 00032471 | E8: 4160864944 | F8: win5509 | G8: CN HÀ NỘI - wincommerce | I8: MNH250 | J8: Mọc Nấm Hương 250g | K8: Túi | L8: 5 | M8: 46000 | N8: =L8*M8 -> 230000 | O8: =ROUND(N8*8%,0) -> 18400 | P8: =N8+O8 -> 248400 | Q8: MIENBAC | R8: WIN-HNI-HDC-5509
A9: 45474 | B9: BH2406/03808 | C9: 45477 | D9: 00032471 | E9: 4160864944 | F9: win5509 | G9: CN HÀ NỘI - wincommerce | I9: TH200 | J9: Tai heo muối 200g | K9: Túi | L9: 3 | M9: 44476 | N9: =L9*M9 -> 133428 | O9: =ROUND(N9*8%,0) -> 10674 | P9: =N9+O9 -> 144102 | Q9: MIENBAC | R9: WIN-HNI-HDC-5509
A10: 45474 | B10: BH2406/03808 | C10: 45477 | D10: 00032471 | E10: 4160864944 | F10: win5509 | G10: CN HÀ NỘI - wincommerce | I10: GL250 | J10: Giò lụa cây 250g | K10: Túi | L10: 3 | M10: 59400 | N10: =L10*M10 -> 178200 | O10: =ROUND(N10*8%,0) -> 14256 | P10: =N10+O10 -> 192456 | Q10: MIENBAC | R10: WIN-HNI-HDC-5509
A11: 45474 | B11: BH2406/03808 | C11: 45477 | D11: 00032471 | E11: 4160864944 | F11: win5509 | G11: CN HÀ NỘI - wincommerce | I11: GSG250 | J11: Giò sụn gà 250g | K11: Túi | L11: 3 | M11: 61050 | N11: =L11*M11 -> 183150 | O11: =ROUND(N11*8%,0) -> 14652 | P11: =N11+O11 -> 197802 | Q11: MIENBAC | R11: WIN-HNI-HDC-5509
A12: 45474 | B12: BH2406/03417 | C12: 45477 | D12: 00032503 | E12: 4160833945 | F12: WIN4967 | G12: CN HÀ NỘI - CÔNG TY CỔ PHẦN DỊCH VỤ THƯƠNG MẠI TỔNG HỢP WINCOMMERCE | I12: CGM300 | J12: Chân giò heo muối 300g | K12: Túi | L12: 15 | M12: 58745 | N12: =L12*M12 -> 881175 | O12: =ROUND(N12*8%,0) -> 70494 | P12: =N12+O12 -> 951669 | Q12: MIENBAC | R12: WIN-HNI-TXN-4967
A13: 45474 | B13: BH2406/03417 | C13: 45477 | D13: 00032503 | E13: 4160833945 | F13: WIN4967 | G13: CN HÀ NỘI - CÔNG TY CỔ PHẦN DỊCH VỤ THƯƠNG MẠI TỔNG HỢP WINCOMMERCE | I13: MNH250 | J13: Mọc Nấm Hương 250g | K13: Túi | L13: 5 | M13: 46000 | N13: =L13*M13 -> 230000 | O13: =ROUND(N13*8%,0) -> 18400 | P13: =N13+O13 -> 248400 | Q13: MIENBAC | R13: WIN-HNI-TXN-4967
... A20: 45474 | B20: BH2406/03640 | C20: 45477 | D20: 00032754 | E20: 4161006279 | F20: win3291 | G20: CN HÀ NỘI - wincommerce | I20: MNH250 | J20: Mọc Nấm Hương 250g | K20: Túi | L20: 3 | M20: 46000 | N20: =L20*M20 -> 138000 | O20: =ROUND(N20*8%,0) -> 11040 | P20: =N20+O20 -> 149040 | Q20: MIENBAC | R20: WIN-HNI-TTI-3291
A21: 45474 | B21: BH2406/03849 | C21: 45477 | D21: 00033303 | E21: 4160625979(1616)ĐN | F21: WIN-021 | G21: CHI NHÁNH THỪA THIÊN HUẾ - CÔNG TY CỔ PHẦN DỊCH VỤ THƯƠNG MẠI TỔNG HỢP WINCOMMERCE | H21: 0104918404-021 | I21: CGM300 | J21: Chân giò heo muối 300g | K21: Túi | L21: 6 | M21: 58745 | N21: =L21*M21 -> 352470 | O21: =ROUND(N21*8%,0) -> 28198 | P21: =N21+O21 -> 380668 | Q21: MIENNAM | R21: WIN-HUE-00-021
A22: 45474 | B22: BH2406/03849 | C22: 45477 | D22: 00033303 | E22: 4160625979(1616)ĐN | F22: WIN-021 | G22: CHI NHÁNH THỪA THIÊN HUẾ - CÔNG TY CỔ PHẦN DỊCH VỤ THƯƠNG MẠI TỔNG HỢP WINCOMMERCE | H22: 0104918404-021 | I22: CC300 | J22: Chả cốm 300g | K22: Túi | L22: 6 | M22: 74250 | N22: =L22*M22 -> 445500 | O22: =ROUND(N22*8%,0) -> 35640 | P22: =N22+O22 -> 481140 | Q22: MIENNAM | R22: WIN-HUE-00-021
A23: 45474 | B23: BH2328297 | C23: 45478 | D23: 00033499 | E23: 4161057982 | F23: WIN5086 | G23: CN HCM - CÔNG TY CỔ PHẦN DỊCH VỤ THƯƠNG MẠI TỔNG HỢP WINCOMMERCE | I23: CGM300 | J23: Chân giò heo muối 300g | K23: Túi | L23: 5 | M23: 58745 | N23: =L23*M23 -> 293725 | O23: =ROUND(N23*8%,0) -> 23498 | P23: =N23+O23 -> 317223 | Q23: MIENNAM | R23: WIN-HCM-Q9-5086
A24: 45474 | B24: BH2328297 | C24: 45478 | D24: 00033499 | E24: 4161057982 | F24: WIN5086 | G24: CN HCM - CÔNG TY CỔ PHẦN DỊCH VỤ THƯƠNG MẠI TỔNG HỢP WINCOMMERCE | I24: GTLX250G | J24: Giò Tai Lưỡi Xào 250g | K24: Túi | L24: 5 | M24: 50182 | N24: =L24*M24 -> 250910 | O24: =ROUND(N24*8%,0) -> 20073 | P24: =N24+O24 -> 270983 | Q24: MIENNAM | R24: WIN-HCM-Q9-5086
A25: 45474 | B25: BH2407/0168 | C25: 45484 | D25: 00034194 | E25: 4160863888 | F25: win1569 | G25: CN HÀ NỘI - wincommerce | I25: CGM300 | J25: Chân giò heo muối 300g | K25: Túi | L25: 5 | M25: 58745 | N25: =L25*M25 -> 293725 | O25: =ROUND(N25*8%,0) -> 23498 | P25: =N25+O25 -> 317223 | Q25: MIENBAC | R25: WIN-HNI-DPG-1569
A26: 45474 | B26: BH2407/0168 | C26: 45484 | D26: 00034194 | E26: 4160863888 | F26: win1569 | G26: CN HÀ NỘI - wincommerce | I26: CC300 | J26: Chả cốm 300g | K26: Túi | L26: 5 | M26: 74250 | N26: =L26*M26 -> 371250 | O26: =ROUND(N26*8%,0) -> 29700 | P26: =N26+O26 -> 400950 | Q26: MIENBAC | R26: WIN-HNI-DPG-1569
A27: 45474 | B27: BH2407/0156 | C27: 45484 | D27: 00034222 | E27: 4160937822 | F27: win6978 | G27: CN HÀ NỘI - wincommerce | I27: GM500 | J27: Gà muối 500g | K27: Túi | L27: 10 | M27: 111058 | N27: =L27*M27 -> 1110580 | O27: =ROUND(N27*8%,0) -> 88846 | P27: =N27+O27 -> 1199426 | Q27: MIENBAC | R27: WIN-HNI-HDC-6978
A28: 45474 | B28: BH2407/0156 | C28: 45484 | D28: 00034222 | E28: 4160937822 | F28: win6978 | G28: CN HÀ NỘI - wincommerce | I28: CGM300 | J28: Chân giò heo muối 300g | K28: Túi | L28: 10 | M28: 58745 | N28: =L28*M28 -> 587450 | O28: =ROUND(N28*8%,0) -> 46996 | P28: =N28+O28 -> 634446 | Q28: MIENBAC | R28: WIN-HNI-HDC-6978
A29: 45475 | B29: BH2407/0425 | C29: 45484 | D29: 00034434 | E29: 4161266931 | F29: WIN4191 | G29: CN HÀ NỘI - CÔNG TY CỔ PHẦN DỊCH VỤ THƯƠNG MẠI TỔNG HỢP WINCOMMERCE | I29: GTLX250G | J29: Giò Tai Lưỡi Xào 250g | K29: Túi | L29: 10 | M29: 50182 | N29: =L29*M29 -> 501820 | O29: =ROUND(N29*8%,0) -> 40146 | P29: =N29+O29 -> 541966 | Q29: MIENBAC | R29: WIN-HNI-SSN-4191
A30: 45475 | B30: BH2407/0425 | C30: 45484 | D30: 00034434 | E30: 4161266931 | F30: WIN4191 | G30: CN HÀ NỘI - CÔNG TY CỔ PHẦN DỊCH VỤ THƯƠNG MẠI TỔNG HỢP WINCOMMERCE | I30: GM500 | J30: Gà muối 500g | K30: Túi | L30: 20 | M30: 111058 | N30: =L30*M30 -> 2221160 | O30: =ROUND(N30*8%,0) -> 177693 | P30: =N30+O30 -> 2398853 | Q30: MIENBAC | R30: WIN-HNI-SSN-4191
A31: 45476 | B31: BH2407/0464 | C31: 45484 | D31: 00034470 | E31: 4161080915 | F31: win3210 | G31: CN HÀ NỘI - wincommerce | I31: CGM300 | J31: Chân giò heo muối 300g | K31: Túi | L31: 10 | M31: 58745 | N31: =L31*M31 -> 587450 | O31: =ROUND(N31*8%,0) -> 46996 | P31: =N31+O31 -> 634446 | Q31: MIENBAC | R31: WIN-HNI-HDG-3210
A32: 45476 | B32: BH2407/0464 | C32: 45484 | D32: 00034470 | E32: 4161080915 | F32: win3210 | G32: CN HÀ NỘI - wincommerce | I32: GM500 | J32: Gà muối 500g | K32: Túi | L32: 10 | M32: 111058 | N32: =L32*M32 -> 1110580 | O32: =ROUND(N32*8%,0) -> 88846 | P32: =N32+O32 -> 1199426 | Q32: MIENBAC | R32: WIN-HNI-HDG-3210
A33: 45478 | B33: BH2407/0812 | C33: 45484 | D33: 00034534 | E33: 4161172365 | F33: WIN5468 | G33: CN HÀ NỘI - CÔNG TY CỔ PHẦN DỊCH VỤ THƯƠNG MẠI TỔNG HỢP WINCOMMERCE | I33: CGM300 | J33: Chân giò heo muối 300g | K33: Túi | L33: 4 | M33: 58745 | N33: =L33*M33 -> 234980 | O33: =ROUND(N33*8%,0) -> 18798 | P33: =N33+O33 -> 253778 | Q33: MIENBAC | R33: WIN-HNI-DDA-5468
A34: 45474 | B34: BH2407/0250 | C34: 45484 | D34: 00034686 | E34: 4160944840 (5135) | F34: WIN-072 | G34: CHI NHÁNH LÀO CAI - CÔNG TY CỔ PHẦN DỊCH VỤ THƯƠNG MẠI TỔNG HỢP WINCOMMERCE | H34: 0104918404-072 | I34: MNH250 | J34: Mọc Nấm Hương 250g | K34: Túi | L34: 5 | M34: 46000 | N34: =L34*M34 -> 230000 | O34: =ROUND(N34*8%,0) -> 18400 | P34: =N34+O34 -> 248400 | Q34: MIENBAC | R34: WIN-LCI-01-072
A35: 45477 | B35: BH2328638 | C35: 45485 | D35: 00035137 | E35: 4161216524(5756) | F35: WIN-024 | G35: CHI NHÁNH BÌNH DƯƠNG - CÔNG TY CỔ PHẦN DỊCH VỤ THƯƠNG MẠI TỔNG HỢP WINCOMMERCE | H35: 0104918404-024 | I35: GM500 | J35: Gà muối 500g | K35: Túi | L35: 4 | M35: 111058 | N35: =L35*M35 -> 444232 | O35: =ROUND(N35*8%,0) -> 35539 | P35: =N35+O35 -> 479771 | Q35: MIENNAM | R35: WIN-BDG-00-024
A36: 45477 | B36: BH2328638 | C36: 45485 | D36: 00035137 | E36: 4161216524(5756) | F36: WIN-024 | G36: CHI NHÁNH BÌNH DƯƠNG - CÔNG TY CỔ PHẦN DỊCH VỤ THƯƠNG MẠI TỔNG HỢP WINCOMMERCE | H36: 0104918404-024 | I36: CGM300 | J36: Chân giò heo muối 300g | K36: Túi | L36: 8 | M36: 58745 | N36: =L36*M36 -> 469960 | O36: =ROUND(N36*8%,0) -> 37597 | P36: =N36+O36 -> 507557 | Q36: MIENNAM | R36: WIN-BDG-00-024
A37: 45477 | B37: BH2328638 | C37: 45485 | D37: 00035137 | E37: 4161216524(5756) | F37: WIN-024 | G37: CHI NHÁNH BÌNH DƯƠNG - CÔNG TY CỔ PHẦN DỊCH VỤ THƯƠNG MẠI TỔNG HỢP WINCOMMERCE | H37: 0104918404-024 | I37: TH200 | J37: Tai heo muối 200g | K37: Túi | L37: 4 | M37: 55595 | N37: =L37*M37 -> 222380 | O37: =ROUND(N37*8%,0) -> 17790 | P37: =N37+O37 -> 240170 | Q37: MIENNAM | R37: WIN-BDG-00-024
A38: 45477 | B38: BH2328642 | C38: 45485 | D38: 00035141 | E38: 4161186571(4092) | F38: WIN-024 | G38: CHI NHÁNH BÌNH DƯƠNG - CÔNG TY CỔ PHẦN DỊCH VỤ THƯƠNG MẠI TỔNG HỢP WINCOMMERCE | H38: 0104918404-024 | I38: GM500 | J38: Gà muối 500g | K38: Túi | L38: 6 | M38: 111058 | N38: =L38*M38 -> 666348 | O38: =ROUND(N38*8%,0) -> 53308 | P38: =N38+O38 -> 719656 | Q38: MIENNAM | R38: WIN-BDG-00-024
A39: 45477 | B39: BH2328642 | C39: 45485 | D39: 00035141 | E39: 4161186571(4092) | F39: WIN-024 | G39: CHI NHÁNH BÌNH DƯƠNG - CÔNG TY CỔ PHẦN DỊCH VỤ THƯƠNG MẠI TỔNG HỢP WINCOMMERCE | H39: 0104918404-024 | I39: CGM300 | J39: Chân giò heo muối 300g | K39: Túi | L39: 6 | M39: 58745 | N39: =L39*M39 -> 352470 | O39: =ROUND(N39*8%,0) -> 28198 | P39: =N39+O39 -> 380668 | Q39: MIENNAM | R39: WIN-BDG-00-024
A40: 45477 | B40: BH2328642 | C40: 45485 | D40: 00035141 | E40: 4161186571(4092) | F40: WIN-024 | G40: CHI NHÁNH BÌNH DƯƠNG - CÔNG TY CỔ PHẦN DỊCH VỤ THƯƠNG MẠI TỔNG HỢP WINCOMMERCE | H40: 0104918404-024 | I40: TH200 | J40: Tai heo muối 200g | K40: Túi | L40: 4 | M40: 55595 | N40: =L40*M40 -> 222380 | O40: =ROUND(N40*8%,0) -> 17790 | P40: =N40+O40 -> 240170 | Q40: MIENNAM | R40: WIN-BDG-00-024
A41: 45479 | B41: BH2328847 | C41: 45485 | D41: 00035148 | E41: 4161196508(2AG1) | F41: WIN-024 | G41: CHI NHÁNH BÌNH DƯƠNG - CÔNG TY CỔ PHẦN DỊCH VỤ THƯƠNG MẠI TỔNG HỢP WINCOMMERCE | H41: 0104918404-024 | I41: GM500 | J41: Gà muối 500g | K41: Túi | L41: 4 | M41: 88846 | N41: =L41*M41 -> 355384 | O41: =ROUND(N41*8%,0) -> 28431 | P41: =N41+O41 -> 383815 | Q41: MIENNAM | R41: WIN-BDG-00-024
A42: 45479 | B42: BH2328847 | C42: 45485 | D42: 00035148 | E42: 4161196508(2AG1) | F42: WIN-024 | G42: CHI NHÁNH BÌNH DƯƠNG - CÔNG TY CỔ PHẦN DỊCH VỤ THƯƠNG MẠI TỔNG HỢP WINCOMMERCE | H42: 0104918404-024 | I42: CGM300 | J42: Chân giò heo muối 300g | K42: Túi | L42: 5 | M42: 58745 | N42: =L42*M42 -> 293725 | O42: =ROUND(N42*8%,0) -> 23498 | P42: =N42+O42 -> 317223 | Q42: MIENNAM | R42: WIN-BDG-00-024
A43: 45479 | B43: BH2407/1012 | C43: 45491 | D43: 00035658 | E43: 4161299746 | F43: win4167 | G43: CN HÀ NỘI - wincommerce | I43: CC300 | J43: Chả cốm 300g | K43: Túi | L43: 5 | M43: 74250 | N43: =L43*M43 -> 371250 | O43: =ROUND(N43*8%,0) -> 29700 | P43: =N43+O43 -> 400950 | Q43: MIENBAC | R43: WIN-HNI-QOI-4167
A44: 45479 | B44: BH2407/1012 | C44: 45491 | D44: 00035658 | E44: 4161299746 | F44: win4167 | G44: CN HÀ NỘI - wincommerce | I44: GTLX250G | J44: Giò Tai Lưỡi Xào 250g | K44: Túi | L44: 5 | M44: 50182 | N44: =L44*M44 -> 250910 | O44: =ROUND(N44*8%,0) -> 20073 | P44: =N44+O44 -> 270983 | Q44: MIENBAC | R44: WIN-HNI-QOI-4167
A45: 45481 | B45: BH2407/1418 | C45: 45491 | D45: 00035713 | E45: 4161265179 | F45: WIN4305 | G45: CN HÀ NỘI - CÔNG TY CỔ PHẦN DỊCH VỤ THƯƠNG MẠI TỔNG HỢP WINCOMMERCE | I45: GM500 | J45: Gà muối 500g | K45: Túi | L45: 5 | M45: 111058 | N45: =L45*M45 -> 555290 | O45: =ROUND(N45*8%,0) -> 44423 | P45: =N45+O45 -> 599713 | Q45: MIENBAC | R45: WIN-HNI-LBN-4305
A46: 45481 | B46: BH2407/1418 | C46: 45491 | D46: 00035713 | E46: 4161265179 | F46: WIN4305 | G46: CN HÀ NỘI - CÔNG TY CỔ PHẦN DỊCH VỤ THƯƠNG MẠI TỔNG HỢP WINCOMMERCE | I46: CGM300 | J46: Chân giò heo muối 300g | K46: Túi | L46: 10 | M46: 73431 | N46: =L46*M46 -> 734310 | O46: =ROUND(N46*8%,0) -> 58745 | P46: =N46+O46 -> 793055 | Q46: MIENBAC | R46: WIN-HNI-LBN-4305
A47: 45482 | B47: BH2407/1217 | C47: 45491 | D47: 00035804 | E47: 4161303489 | F47: WIN3497 | G47: CN HÀ NỘI - CÔNG TY CỔ PHẦN DỊCH VỤ THƯƠNG MẠI TỔNG HỢP WINCOMMERCE | I47: GM500 | J47: Gà muối 500g | K47: Túi | L47: 5 | M47: 111058 | N47: =L47*M47 -> 555290 | O47: =ROUND(N47*8%,0) -> 44423 | P47: =N47+O47 -> 599713 | Q47: MIENBAC | R47: WIN-HNI-HMI-3497
A48: 45482 | B48: BH2407/1229 | C48: 45491 | D48: 00035816 | E48: 4161494193 | F48: WIN2078 | G48: CN HÀ NỘI - CÔNG TY CỔ PHẦN DỊCH VỤ THƯƠNG MẠI TỔNG HỢP WINCOMMERCE | I48: CGM300 | J48: Chân giò heo muối 300g | K48: Túi | L48: 10 | M48: 73431 | N48: =L48*M48 -> 734310 | O48: =ROUND(N48*8%,0) -> 58745 | P48: =N48+O48 -> 793055 | Q48: MIENBAC | R48: WIN-HNI-DDA-2078
A49: 45486 | B49: BH2329187 | C49: 45492 | D49: 00036652 | E49: 4161501253(6472) | F49: WIN-024 | G49: CHI NHÁNH BÌNH DƯƠNG - CÔNG TY CỔ PHẦN DỊCH VỤ THƯƠNG MẠI TỔNG HỢP WINCOMMERCE | H49: 0104918404-024 | I49: GM500 | J49: Gà muối 500g | K49: Túi | L49: 4 | M49: 111058 | N49: =L49*M49 -> 444232 | O49: =ROUND(N49*8%,0) -> 35539 | P49: =N49+O49 -> 479771 | Q49: MIENNAM | R49: WIN-BDG-00-024
A50: 45486 | B50: BH2329187 | C50: 45492 | D50: 00036652 | E50: 4161501253(6472) | F50: WIN-024 | G50: CHI NHÁNH BÌNH DƯƠNG - CÔNG TY CỔ PHẦN DỊCH VỤ THƯƠNG MẠI TỔNG HỢP WINCOMMERCE | H50: 0104918404-024 | I50: CGM300 | J50: Chân giò heo muối 300g | K50: Túi | L50: 4 | M50: 73431 | N50: =L50*M50 -> 293724 | O50: =ROUND(N50*8%,0) -> 23498 | P50: =N50+O50 -> 317222 | Q50: MIENNAM | R50: WIN-BDG-00-024
A51: 45486 | B51: BH2329172 | C51: 45492 | D51: 00036701 | E51: 4161473229 | F51: WIN3379 | G51: CN HCM - CÔNG TY CỔ PHẦN DỊCH VỤ THƯƠNG MẠI TỔNG HỢP WINCOMMERCE | I51: TH200 | J51: Tai heo muối 200g | K51: Túi | L51: 3 | M51: 55595 | N51: =L51*M51 -> 166785 | O51: =ROUND(N51*8%,0) -> 13343 | P51: =N51+O51 -> 180128 | Q51: MIENNAM | R51: WIN-HCM-BTH-3379
A52: 45486 | B52: BH2329172 | C52: 45492 | D52: 00036701 | E52: 4161473229 | F52: WIN3379 | G52: CN HCM - CÔNG TY CỔ PHẦN DỊCH VỤ THƯƠNG MẠI TỔNG HỢP WINCOMMERCE | I52: GM500 | J52: Gà muối 500g | K52: Túi | L52: 6 | M52: 111058 | N52: =L52*M52 -> 666348 | O52: =ROUND(N52*8%,0) -> 53308 | P52: =N52+O52 -> 719656 | Q52: MIENNAM | R52: WIN-HCM-BTH-3379
A53: 45489 | B53: BH2329367 | C53: 45492 | D53: 00036711 | E53: 4161515870 | F53: WIN2A25 | G53: 2A25 - WM+ HCM 437 Nguyễn Văn Tăng | I53: CGM300 | J53: Chân giò heo muối 300g | K53: Túi | L53: 5 | M53: 73431 | N53: =L53*M53 -> 367155 | O53: =ROUND(N53*8%,0) -> 29372 | P53: =N53+O53 -> 396527 | Q53: MIENNAM | R53: WIN-HCM-Q9-2A25
A54: 45489 | B54: BH2329367 | C54: 45492 | D54: 00036711 | E54: 4161515870 | F54: WIN2A25 | G54: 2A25 - WM+ HCM 437 Nguyễn Văn Tăng | I54: GM500 | J54: Gà muối 500g | K54: Túi | L54: 5 | M54: 111058 | N54: =L54*M54 -> 555290 | O54: =ROUND(N54*8%,0) -> 44423 | P54: =N54+O54 -> 599713 | Q54: MIENNAM | R54: WIN-HCM-Q9-2A25
A55: 45489 | B55: BH2329367 | C55: 45492 | D55: 00036711 | E55: 4161515870 | F55: WIN2A25 | G55: 2A25 - WM+ HCM 437 Nguyễn Văn Tăng | I55: TH200 | J55: Tai heo muối 200g | K55: Túi | L55: 5 | M55: 55595 | N55: =L55*M55 -> 277975 | O55: =ROUND(N55*8%,0) -> 22238 | P55: =N55+O55 -> 300213 | Q55: MIENNAM | R55: WIN-HCM-Q9-2A25
A56: 45488 | B56: BH2407/2304 | C56: 45498 | D56: 00037245 | E56: 4161592649 | F56: WIN4032 | G56: CN HÀ NỘI - CÔNG TY CỔ PHẦN DỊCH VỤ THƯƠNG MẠI TỔNG HỢP WINCOMMERCE | I56: CGM300 | J56: Chân giò heo muối 300g | K56: Túi | L56: 5 | M56: 73431 | N56: =L56*M56 -> 367155 | O56: =ROUND(N56*8%,0) -> 29372 | P56: =N56+O56 -> 396527 | Q56: MIENBAC | R56: WIN-HNI-TXN-4032
A57: 45492 | B57: BH2407/2733 | C57: 45498 | D57: 00037393 | E57: 4161661206 | F57: WIN1654 | G57: CN HÀ NỘI - CÔNG TY CỔ PHẦN DỊCH VỤ THƯƠNG MẠI TỔNG HỢP WINCOMMERCE | I57: MNH250 | J57: Mọc Nấm Hương 250g | K57: Túi | L57: 5 | M57: 46000 | N57: =L57*M57 -> 230000 | O57: =ROUND(N57*8%,0) -> 18400 | P57: =N57+O57 -> 248400 | Q57: MIENBAC | R57: WIN-HNI-HBT-1654
A58: 45492 | B58: BH2407/2733 | C58: 45498 | D58: 00037393 | E58: 4161661206 | F58: WIN1654 | G58: CN HÀ NỘI - CÔNG TY CỔ PHẦN DỊCH VỤ THƯƠNG MẠI TỔNG HỢP WINCOMMERCE | I58: GTLX250G | J58: Giò Tai Lưỡi Xào 250g | K58: Túi | L58: 5 | M58: 50182 | N58: =L58*M58 -> 250910 | O58: =ROUND(N58*8%,0) -> 20073 | P58: =N58+O58 -> 270983 | Q58: MIENBAC | R58: WIN-HNI-HBT-1654
A59: 45492 | B59: BH2407/2733 | C59: 45498 | D59: 00037393 | E59: 4161661206 | F59: WIN1654 | G59: CN HÀ NỘI - CÔNG TY CỔ PHẦN DỊCH VỤ THƯƠNG MẠI TỔNG HỢP WINCOMMERCE | I59: GTNH500 | J59: Giò tai nấm hương 500g | K59: Túi | L59: 4 | M59: 101989 | N59: =L59*M59 -> 407956 | O59: =ROUND(N59*8%,0) -> 32636 | P59: =N59+O59 -> 440592 | Q59: MIENBAC | R59: WIN-HNI-HBT-1654
A60: 45492 | B60: BH2407/2733 | C60: 45498 | D60: 00037393 | E60: 4161661206 | F60: WIN1654 | G60: CN HÀ NỘI - CÔNG TY CỔ PHẦN DỊCH VỤ THƯƠNG MẠI TỔNG HỢP WINCOMMERCE | I60: GXD500 | J60: Gà xì dầu 500g | K60: Túi | L60: 5 | M60: 111606 | N60: =L60*M60 -> 558030 | O60: =ROUND(N60*8%,0) -> 44642 | P60: =N60+O60 -> 602672 | Q60: MIENBAC | R60: WIN-HNI-HBT-1654
A61: 45492 | B61: BH2407/2733 | C61: 45498 | D61: 00037393 | E61: 4161661206 | F61: WIN1654 | G61: CN HÀ NỘI - CÔNG TY CỔ PHẦN DỊCH VỤ THƯƠNG MẠI TỔNG HỢP WINCOMMERCE | I61: CGXD150 | J61: Chân gà xì dầu 150g | K61: Túi | L61: 5 | M61: 31977 | N61: =L61*M61 -> 159885 | O61: =ROUND(N61*8%,0) -> 12791 | P61: =N61+O61 -> 172676 | Q61: MIENBAC | R61: WIN-HNI-HBT-1654
A62: 45492 | B62: BH2407/2733 | C62: 45498 | D62: 00037393 | E62: 4161661206 | F62: WIN1654 | G62: CN HÀ NỘI - CÔNG TY CỔ PHẦN DỊCH VỤ THƯƠNG MẠI TỔNG HỢP WINCOMMERCE | I62: CC300 | J62: Chả cốm 300g | K62: Túi | L62: 5 | M62: 74250 | N62: =L62*M62 -> 371250 | O62: =ROUND(N62*8%,0) -> 29700 | P62: =N62+O62 -> 400950 | Q62: MIENBAC | R62: WIN-HNI-HBT-1654
... A71: 45492 | B71: BH2407/2739 | C71: 45498 | D71: 00037399 | E71: 4161539997 | F71: WIN2014 | G71: CN HÀ NỘI - CÔNG TY CỔ PHẦN DỊCH VỤ THƯƠNG MẠI TỔNG HỢP WINCOMMERCE | I71: MNH250 | J71: Mọc Nấm Hương 250g | K71: Túi | L71: 5 | M71: 46000 | N71: =L71*M71 -> 230000 | O71: =ROUND(N71*8%,0) -> 18400 | P71: =N71+O71 -> 248400 | Q71: MIENBAC | R71: WIN-HNI-HBT-2014
A72: 45490 | B72: BH2407/2894 | C72: 45498 | D72: 00037885 | E72: 4161416313(5033)ĐN | F72: WIN-070 | G72: CHI NHÁNH QUẢNG TRỊ - CÔNG TY CỔ PHẦN DỊCH VỤ THƯƠNG MẠI TỔNG HỢP WINCOMMERCE | H72: 0104918404-070 | I72: CGM300 | J72: Chân giò heo muối 300g | K72: Túi | L72: 1 | M72: 73431 | N72: =L72*M72 -> 73431 | O72: =ROUND(N72*8%,0) -> 5874 | P72: =N72+O72 -> 79305 | Q72: MIENNAM | R72: WIN-QTI-00-070
A73: 45490 | B73: BH2407/2894 | C73: 45498 | D73: 00037885 | E73: 4161416313(5033)ĐN | F73: WIN-070 | G73: CHI NHÁNH QUẢNG TRỊ - CÔNG TY CỔ PHẦN DỊCH VỤ THƯƠNG MẠI TỔNG HỢP WINCOMMERCE | H73: 0104918404-070 | I73: TH200 | J73: Tai heo muối 200g | K73: Túi | L73: 2 | M73: 55595 | N73: =L73*M73 -> 111190 | O73: =ROUND(N73*8%,0) -> 8895 | P73: =N73+O73 -> 120085 | Q73: MIENNAM | R73: WIN-QTI-00-070
A74: 45490 | B74: BH2407/2894 | C74: 45498 | D74: 00037885 | E74: 4161416313(5033)ĐN | F74: WIN-070 | G74: CHI NHÁNH QUẢNG TRỊ - CÔNG TY CỔ PHẦN DỊCH VỤ THƯƠNG MẠI TỔNG HỢP WINCOMMERCE | H74: 0104918404-070 | I74: CN300 | J74: Chả nướng 300g | K74: Túi | L74: 2 | M74: 70950 | N74: =L74*M74 -> 141900 | O74: =ROUND(N74*8%,0) -> 11352 | P74: =N74+O74 -> 153252 | Q74: MIENNAM | R74: WIN-QTI-00-070
A75: 45490 | B75: BH2407/2894 | C75: 45498 | D75: 00037885 | E75: 4161416313(5033)ĐN | F75: WIN-070 | G75: CHI NHÁNH QUẢNG TRỊ - CÔNG TY CỔ PHẦN DỊCH VỤ THƯƠNG MẠI TỔNG HỢP WINCOMMERCE | H75: 0104918404-070 | I75: GXD500 | J75: Gà xì dầu 500g | K75: Túi | L75: 4 | M75: 111606 | N75: =L75*M75 -> 446424 | O75: =ROUND(N75*8%,0) -> 35714 | P75: =N75+O75 -> 482138 | Q75: MIENNAM | R75: WIN-QTI-00-070
A76: 45474 | B76: BH2407/3109 | C76: 45499 | D76: 00038256 | E76: 4160514938 (3518) | F76: WIN-003 | G76: CHI NHÁNH PHÚ THỌ - CÔNG TY CỔ PHẦN DỊCH VỤ THƯƠNG MẠI TỔNG HỢP WINCOMMERCE | H76: 0104918404-003 | I76: MNH250 | J76: Mọc Nấm Hương 250g | K76: Túi | L76: 2 | M76: 37720 | N76: =L76*M76 -> 75440 | O76: =ROUND(N76*8%,0) -> 6035 | P76: =N76+O76 -> 81475 | Q76: MIENBAC | R76: WIN-PTO-00-003
A77: 45474 | B77: BH2407/3109 | C77: 45499 | D77: 00038256 | E77: 4160514938 (3518) | F77: WIN-003 | G77: CHI NHÁNH PHÚ THỌ - CÔNG TY CỔ PHẦN DỊCH VỤ THƯƠNG MẠI TỔNG HỢP WINCOMMERCE | H77: 0104918404-003 | I77: CC300 | J77: Chả cốm 300g | K77: Túi | L77: 5 | M77: 74250 | N77: =L77*M77 -> 371250 | O77: =ROUND(N77*8%,0) -> 29700 | P77: =N77+O77 -> 400950 | Q77: MIENBAC | R77: WIN-PTO-00-003
A78: 45474 | B78: BH2407/3109 | C78: 45499 | D78: 00038256 | E78: 4160514938 (3518) | F78: WIN-003 | G78: CHI NHÁNH PHÚ THỌ - CÔNG TY CỔ PHẦN DỊCH VỤ THƯƠNG MẠI TỔNG HỢP WINCOMMERCE | H78: 0104918404-003 | I78: CN300 | J78: Chả nướng 300g | K78: Túi | L78: 5 | M78: 70950 | N78: =L78*M78 -> 354750 | O78: =ROUND(N78*8%,0) -> 28380 | P78: =N78+O78 -> 383130 | Q78: MIENBAC | R78: WIN-PTO-00-003
A79: 45509 | B79: BH2408/0426 | C79: 45512 | D79: 00041131 | E79: 4162229127(5234) | F79: WIN-016 | G79: CHI NHÁNH CẦN THƠ - CÔNG TY CỔ PHẦN DỊCH VỤ THƯƠNG MẠI TỔNG HỢP WINCOMMERCE | H79: 0104918404-016 | I79: CGM300 | J79: Chân giò heo muối 300g | K79: Túi | L79: 5 | M79: 73431 | N79: =L79*M79 -> 367155 | O79: =ROUND(N79*8%,0) -> 29372 | P79: =N79+O79 -> 396527 | Q79: MIENNAM | R79: WIN-CTO-01-016
A80: 45509 | B80: BH2408/0426 | C80: 45512 | D80: 00041131 | E80: 4162229127(5234) | F80: WIN-016 | G80: CHI NHÁNH CẦN THƠ - CÔNG TY CỔ PHẦN DỊCH VỤ THƯƠNG MẠI TỔNG HỢP WINCOMMERCE | H80: 0104918404-016 | I80: GM500 | J80: Gà muối 500g | K80: Túi | L80: 5 | M80: 111058 | N80: =L80*M80 -> 555290 | O80: =ROUND(N80*8%,0) -> 44423 | P80: =N80+O80 -> 599713 | Q80: MIENNAM | R80: WIN-CTO-01-016
A81: 45509 | B81: BH2408/0426 | C81: 45512 | D81: 00041131 | E81: 4162229127(5234) | F81: WIN-016 | G81: CHI NHÁNH CẦN THƠ - CÔNG TY CỔ PHẦN DỊCH VỤ THƯƠNG MẠI TỔNG HỢP WINCOMMERCE | H81: 0104918404-016 | I81: GL250 | J81: Giò lụa cây 250g | K81: Túi | L81: 5 | M81: 49500 | N81: =L81*M81 -> 247500 | O81: =ROUND(N81*8%,0) -> 19800 | P81: =N81+O81 -> 267300 | Q81: MIENNAM | R81: WIN-CTO-01-016
A82: 45509 | B82: BH2408/0426 | C82: 45512 | D82: 00041131 | E82: 4162229127(5234) | F82: WIN-016 | G82: CHI NHÁNH CẦN THƠ - CÔNG TY CỔ PHẦN DỊCH VỤ THƯƠNG MẠI TỔNG HỢP WINCOMMERCE | H82: 0104918404-016 | I82: CC300 | J82: Chả cốm 300g | K82: Túi | L82: 5 | M82: 74250 | N82: =L82*M82 -> 371250 | O82: =ROUND(N82*8%,0) -> 29700 | P82: =N82+O82 -> 400950 | Q82: MIENNAM | R82: WIN-CTO-01-016
A83: 45522 | B83: BH2408/3656 | C83: 45533 | D83: 00045390 | E83: 4162708922 | F83: WIN3990 | G83: CN HÀ NỘI - CÔNG TY CỔ PHẦN DỊCH VỤ THƯƠNG MẠI TỔNG HỢP WINCOMMERCE | I83: CGM300 | J83: Chân giò heo muối 300g | K83: Túi | L83: 5 | M83: 73431 | N83: =L83*M83 -> 367155 | O83: =ROUND(N83*8%,0) -> 29372 | P83: =N83+O83 -> 396527 | Q83: MIENBAC | R83: WIN-HNI-DAH-3990
A84: 45522 | B84: BH2408/3656 | C84: 45533 | D84: 00045390 | E84: 4162708922 | F84: WIN3990 | G84: CN HÀ NỘI - CÔNG TY CỔ PHẦN DỊCH VỤ THƯƠNG MẠI TỔNG HỢP WINCOMMERCE | I84: GM500 | J84: Gà muối 500g | K84: Túi | L84: 12 | M84: 111058 | N84: =L84*M84 -> 1332696 | O84: =ROUND(N84*8%,0) -> 106616 | P84: =N84+O84 -> 1439312 | Q84: MIENBAC | R84: WIN-HNI-DAH-3990
A85: 45522 | B85: BH2408/3942 | C85: 45533 | D85: 00045534 | E85: 4162790098 | F85: WIN6312 | G85: CHI NHÁNH HÀ NỘI - CÔNG TY CỔ PHẦN DỊCH VỤ THƯƠNG MẠI TỔNG HỢP WINCOMMERCE | I85: CGM300 | J85: Chân giò heo muối 300g | K85: Túi | L85: 11 | M85: 73431 | N85: =L85*M85 -> 807741 | O85: =ROUND(N85*8%,0) -> 64619 | P85: =N85+O85 -> 872360 | Q85: MIENBAC | R85: WIN-HNI-DAH-6312
A86: 45523 | B86: BH2408/3407 | C86: 45533 | D86: 00045587 | E86: 4162513665 | F86: WIN4125 | G86: CN HÀ NỘI - CÔNG TY CỔ PHẦN DỊCH VỤ THƯƠNG MẠI TỔNG HỢP WINCOMMERCE | I86: CGM300 | J86: Chân giò heo muối 300g | K86: Túi | L86: 2 | M86: 73431 | N86: =L86*M86 -> 146862 | O86: =ROUND(N86*8%,0) -> 11749 | P86: =N86+O86 -> 158611 | Q86: MIENBAC | R86: WIN-HNI-BDH-4125
A87: 45523 | B87: BH2408/3407 | C87: 45533 | D87: 00045587 | E87: 4162513665 | F87: WIN4125 | G87: CN HÀ NỘI - CÔNG TY CỔ PHẦN DỊCH VỤ THƯƠNG MẠI TỔNG HỢP WINCOMMERCE | I87: TH200 | J87: Tai heo muối 200g | K87: Túi | L87: 5 | M87: 55595 | N87: =L87*M87 -> 277975 | O87: =ROUND(N87*8%,0) -> 22238 | P87: =N87+O87 -> 300213 | Q87: MIENBAC | R87: WIN-HNI-BDH-4125
A88: 45523 | B88: BH2408/3407 | C88: 45533 | D88: 00045587 | E88: 4162513665 | F88: WIN4125 | G88: CN HÀ NỘI - CÔNG TY CỔ PHẦN DỊCH VỤ THƯƠNG MẠI TỔNG HỢP WINCOMMERCE | I88: CN300 | J88: Chả nướng 300g | K88: Túi | L88: 5 | M88: 70950 | N88: =L88*M88 -> 354750 | O88: =ROUND(N88*8%,0) -> 28380 | P88: =N88+O88 -> 383130 | Q88: MIENBAC | R88: WIN-HNI-BDH-4125
A89: 45523 | B89: BH2408/3407 | C89: 45533 | D89: 00045587 | E89: 4162513665 | F89: WIN4125 | G89: CN HÀ NỘI - CÔNG TY CỔ PHẦN DỊCH VỤ THƯƠNG MẠI TỔNG HỢP WINCOMMERCE | I89: CC300 | J89: Chả cốm 300g | K89: Túi | L89: 5 | M89: 74250 | N89: =L89*M89 -> 371250 | O89: =ROUND(N89*8%,0) -> 29700 | P89: =N89+O89 -> 400950 | Q89: MIENBAC | R89: WIN-HNI-BDH-4125
A90: 45523 | B90: BH2408/3407 | C90: 45533 | D90: 00045587 | E90: 4162513665 | F90: WIN4125 | G90: CN HÀ NỘI - CÔNG TY CỔ PHẦN DỊCH VỤ THƯƠNG MẠI TỔNG HỢP WINCOMMERCE | I90: GTLX250G | J90: Giò Tai Lưỡi Xào 250g | K90: Túi | L90: 5 | M90: 50182 | N90: =L90*M90 -> 250910 | O90: =ROUND(N90*8%,0) -> 20073 | P90: =N90+O90 -> 270983 | Q90: MIENBAC | R90: WIN-HNI-BDH-4125
A91: 45523 | B91: BH2408/3407 | C91: 45533 | D91: 00045587 | E91: 4162513665 | F91: WIN4125 | G91: CN HÀ NỘI - CÔNG TY CỔ PHẦN DỊCH VỤ THƯƠNG MẠI TỔNG HỢP WINCOMMERCE | I91: MNH250 | J91: Mọc Nấm Hương 250g | K91: Túi | L91: 2 | M91: 46000 | N91: =L91*M91 -> 92000 | O91: =ROUND(N91*8%,0) -> 7360 | P91: =N91+O91 -> 99360 | Q91: MIENBAC | R91: WIN-HNI-BDH-4125
A92: 45523 | B92: BH2408/3461 | C92: 45533 | D92: 00045596 | E92: 4162875170 | F92: WIN5585 | G92: CN HÀ NỘI - CÔNG TY CỔ PHẦN DỊCH VỤ THƯƠNG MẠI TỔNG HỢP WINCOMMERCE | I92: CGM300 | J92: Chân giò heo muối 300g | K92: Túi | L92: 10 | M92: 73431 | N92: =L92*M92 -> 734310 | O92: =ROUND(N92*8%,0) -> 58745 | P92: =N92+O92 -> 793055 | Q92: MIENBAC | R92: WIN-HNI-TXN-5585
A93: 45523 | B93: BH2408/3461 | C93: 45533 | D93: 00045596 | E93: 4162875170 | F93: WIN5585 | G93: CN HÀ NỘI - CÔNG TY CỔ PHẦN DỊCH VỤ THƯƠNG MẠI TỔNG HỢP WINCOMMERCE | I93: CC300 | J93: Chả cốm 300g | K93: Túi | L93: 5 | M93: 74250 | N93: =L93*M93 -> 371250 | O93: =ROUND(N93*8%,0) -> 29700 | P93: =N93+O93 -> 400950 | Q93: MIENBAC | R93: WIN-HNI-TXN-5585
A94: 45523 | B94: BH2408/3461 | C94: 45533 | D94: 00045596 | E94: 4162875170 | F94: WIN5585 | G94: CN HÀ NỘI - CÔNG TY CỔ PHẦN DỊCH VỤ THƯƠNG MẠI TỔNG HỢP WINCOMMERCE | I94: CN300 | J94: Chả nướng 300g | K94: Túi | L94: 3 | M94: 70950 | N94: =L94*M94 -> 212850 | O94: =ROUND(N94*8%,0) -> 17028 | P94: =N94+O94 -> 229878 | Q94: MIENBAC | R94: WIN-HNI-TXN-5585
... A105: 45527 | B105: BH2408/4477 | C105: 45533 | D105: 00045961 | E105: 4162513066 | F105: WIN2400 | G105: CN HÀ NỘI - CÔNG TY CỔ PHẦN DỊCH VỤ THƯƠNG MẠI TỔNG HỢP WINCOMMERCE | I105: GTLX250G | J105: Giò Tai Lưỡi Xào 250g | K105: Túi | L105: 5 | M105: 50182 | N105: =L105*M105 -> 250910 | O105: =ROUND(N105*8%,0) -> 20073 | P105: =N105+O105 -> 270983 | Q105: MIENBAC | R105: WIN-HNI-HBT-2400
A106: 45521 | B106: BH2408/3910 | C106: 45533 | D106: 00046296 | E106: 4162558428 (5889) | F106: WIN-095 | G106: CHI NHÁNH CAO BẰNG - CÔNG TY CỔ PHẦN DỊCH VỤ THƯƠNG MẠI TỔNG HỢP WINCOMMERCE | H106: 0104918404-095 | I106: CGM300 | J106: Chân giò heo muối 300g | K106: Túi | L106: 5 | M106: 73431 | N106: =L106*M106 -> 367155 | O106: =ROUND(N106*8%,0) -> 29372 | P106: =N106+O106 -> 396527 | Q106: MIENBAC | R106: WIN-CBG-01-095
A107: 45521 | B107: BH2408/3910 | C107: 45533 | D107: 00046296 | E107: 4162558428 (5889) | F107: WIN-095 | G107: CHI NHÁNH CAO BẰNG - CÔNG TY CỔ PHẦN DỊCH VỤ THƯƠNG MẠI TỔNG HỢP WINCOMMERCE | H107: 0104918404-095 | I107: GM500 | J107: Gà muối 500g | K107: Túi | L107: 5 | M107: 111058 | N107: =L107*M107 -> 555290 | O107: =ROUND(N107*8%,0) -> 44423 | P107: =N107+O107 -> 599713 | Q107: MIENBAC | R107: WIN-CBG-01-095
A108: 45521 | B108: BH2408/3910 | C108: 45533 | D108: 00046296 | E108: 4162558428 (5889) | F108: WIN-095 | G108: CHI NHÁNH CAO BẰNG - CÔNG TY CỔ PHẦN DỊCH VỤ THƯƠNG MẠI TỔNG HỢP WINCOMMERCE | H108: 0104918404-095 | I108: TH200 | J108: Tai heo muối 200g | K108: Túi | L108: 5 | M108: 55595 | N108: =L108*M108 -> 277975 | O108: =ROUND(N108*8%,0) -> 22238 | P108: =N108+O108 -> 300213 | Q108: MIENBAC | R108: WIN-CBG-01-095
A109: 45521 | B109: BH2408/3910 | C109: 45533 | D109: 00046296 | E109: 4162558428 (5889) | F109: WIN-095 | G109: CHI NHÁNH CAO BẰNG - CÔNG TY CỔ PHẦN DỊCH VỤ THƯƠNG MẠI TỔNG HỢP WINCOMMERCE | H109: 0104918404-095 | I109: GL250 | J109: Giò lụa cây 250g | K109: Túi | L109: 5 | M109: 49500 | N109: =L109*M109 -> 247500 | O109: =ROUND(N109*8%,0) -> 19800 | P109: =N109+O109 -> 267300 | Q109: MIENBAC | R109: WIN-CBG-01-095
A110: 45521 | B110: BH2408/3910 | C110: 45533 | D110: 00046296 | E110: 4162558428 (5889) | F110: WIN-095 | G110: CHI NHÁNH CAO BẰNG - CÔNG TY CỔ PHẦN DỊCH VỤ THƯƠNG MẠI TỔNG HỢP WINCOMMERCE | H110: 0104918404-095 | I110: GSG250 | J110: Giò sụn gà 250g | K110: Túi | L110: 5 | M110: 50400 | N110: =L110*M110 -> 252000 | O110: =ROUND(N110*8%,0) -> 20160 | P110: =N110+O110 -> 272160 | Q110: MIENBAC | R110: WIN-CBG-01-095
A111: 45521 | B111: BH2408/3910 | C111: 45533 | D111: 00046296 | E111: 4162558428 (5889) | F111: WIN-095 | G111: CHI NHÁNH CAO BẰNG - CÔNG TY CỔ PHẦN DỊCH VỤ THƯƠNG MẠI TỔNG HỢP WINCOMMERCE | H111: 0104918404-095 | I111: GTLX250G | J111: Giò Tai Lưỡi Xào 250g | K111: Túi | L111: 10 | M111: 50182 | N111: =L111*M111 -> 501820 | O111: =ROUND(N111*8%,0) -> 40146 | P111: =N111+O111 -> 541966 | Q111: MIENBAC | R111: WIN-CBG-01-095
A112: 45521 | B112: BH2408/3910 | C112: 45533 | D112: 00046296 | E112: 4162558428 (5889) | F112: WIN-095 | G112: CHI NHÁNH CAO BẰNG - CÔNG TY CỔ PHẦN DỊCH VỤ THƯƠNG MẠI TỔNG HỢP WINCOMMERCE | H112: 0104918404-095 | I112: MNH250 | J112: Mọc Nấm Hương 250g | K112: Túi | L112: 5 | M112: 46000 | N112: =L112*M112 -> 230000 | O112: =ROUND(N112*8%,0) -> 18400 | P112: =N112+O112 -> 248400 | Q112: MIENBAC | R112: WIN-CBG-01-095
A113: 45523 | B113: BH2408/3980 | C113: 45533 | D113: 00046330 | E113: 4162518518 (4979) | F113: WIN-058 | G113: CHI NHÁNH NGHỆ AN - CÔNG TY CỔ PHẦN DỊCH VỤ THƯƠNG MẠI TỔNG HỢP WINCOMMERCE | H113: 0104918404-058 | I113: CGM300 | J113: Chân giò heo muối 300g | K113: Túi | L113: 20 | M113: 73431 | N113: =L113*M113 -> 1468620 | O113: =ROUND(N113*8%,0) -> 117490 | P113: =N113+O113 -> 1586110 | Q113: MIENBAC | R113: WIN-NAN-01-058
A114: 45523 | B114: BH2408/3980 | C114: 45533 | D114: 00046330 | E114: 4162518518 (4979) | F114: WIN-058 | G114: CHI NHÁNH NGHỆ AN - CÔNG TY CỔ PHẦN DỊCH VỤ THƯƠNG MẠI TỔNG HỢP WINCOMMERCE | H114: 0104918404-058 | I114: GM500 | J114: Gà muối 500g | K114: Túi | L114: 10 | M114: 111058 | N114: =L114*M114 -> 1110580 | O114: =ROUND(N114*8%,0) -> 88846 | P114: =N114+O114 -> 1199426 | Q114: MIENBAC | R114: WIN-NAN-01-058
A115: 45523 | B115: BH2408/4062 | C115: 45533 | D115: 00046392 | E115: 4162552229 (5713) | F115: WIN-031 | G115: CHI NHÁNH BẮC NINH - CÔNG TY CỔ PHẦN DỊCH VỤ THƯƠNG MẠI TỔNG HỢP WINCOMMERCE | H115: 0104918404-031 | I115: GM500 | J115: Gà muối 500g | K115: Túi | L115: 15 | M115: 111058 | N115: =L115*M115 -> 1665870 | O115: =ROUND(N115*8%,0) -> 133270 | P115: =N115+O115 -> 1799140 | Q115: MIENBAC | R115: WIN-BNH-01-031
A116: 45523 | B116: BH2408/4062 | C116: 45533 | D116: 00046392 | E116: 4162552229 (5713) | F116: WIN-031 | G116: CHI NHÁNH BẮC NINH - CÔNG TY CỔ PHẦN DỊCH VỤ THƯƠNG MẠI TỔNG HỢP WINCOMMERCE | H116: 0104918404-031 | I116: CGM300 | J116: Chân giò heo muối 300g | K116: Túi | L116: 10 | M116: 73431 | N116: =L116*M116 -> 734310 | O116: =ROUND(N116*8%,0) -> 58745 | P116: =N116+O116 -> 793055 | Q116: MIENBAC | R116: WIN-BNH-01-031
A117: 45518 | B117: BH2408/3452 | C117: 45533 | D117: 00046663 | E117: 4162398826(6115)ĐN | F117: WIN-061 | G117: CHI NHÁNH QUẢNG NAM - CÔNG TY CỔ PHẦN DỊCH VỤ THƯƠNG MẠI TỔNG HỢP WINCOMMERCE | H117: 0104918404-061 | I117: CGM300 | J117: Chân giò heo muối 300g | K117: Túi | L117: 1 | M117: 73431 | N117: =L117*M117 -> 73431 | O117: =ROUND(N117*8%,0) -> 5874 | P117: =N117+O117 -> 79305 | Q117: MIENNAM | R117: WIN-QNM-00-061
... A122: 45527 | B122: BH2331306 | C122: 45534 | D122: 00046809 | E122: 4162981353(6096) | F122: WIN-024 | G122: CHI NHÁNH BÌNH DƯƠNG - CÔNG TY CỔ PHẦN DỊCH VỤ THƯƠNG MẠI TỔNG HỢP WINCOMMERCE | H122: 0104918404-024 | I122: TH200 | J122: Tai heo muối 200g | K122: Túi | L122: 4 | M122: 55595 | N122: =L122*M122 -> 222380 | O122: =ROUND(N122*8%,0) -> 17790 | P122: =N122+O122 -> 240170 | Q122: MIENNAM | R122: WIN-BDG-00-024
N123: =SUM(N2:N122) -> 51757638

Sheet Báo cáo (4)
A1: Ngày hạch toán | B1: Số chứng từ | C1: Ngày hóa đơn | D1: Số hóa đơn | E1: Diễn giải chung | F1: Mã khách hàng | G1: Tên khách hàng | H1: Mã số thuế | I1: Mã hàng | J1: Tên hàng | K1: ĐVT | L1: Tổng số lượng bán | M1: SL DC | N1: Đơn giá | O1: Doanh số bán LÚC ĐẦU | P1: DOANH SỐ BÁN SAU KHI ĐIỀU CHỈNH CHƯA TRỪ CÁC TỜ CHƯA XÁC NHẬN | Q1: Chiết khấu | R1: Số lượng trả lại | S1: Giá trị trả lại | T1: Mã nhân viên bán hàng | U1: Tỉnh/Thành phố | V1: Quận/Huyện | W1: Mã nhóm khách hàng | X1: Mã thống kê | Y1: Mã kho | Z1: Địa điểm giao hàng | AA1: Thông tin người liên hệ | AB1: DOANH SỐ BÁN SAU KHI ĐIỀU CHỈNH CÓ ĐÃ TRỪ CÁC TỜ CHƯA XÁC NHẬN | AE1: Số hóa đơn | AG1: Số hóa đơn điều chỉnh
A2: 45450 | B2: BH2406/00258 | C2: 45456 | D2: 00028825 | E2: 4160177182 | F2: win4146 | G2: CN HCM - wincommerce | I2: CGM300 | J2: Chân giò heo muối 300g | K2: Túi | L2: 3 | M2: 3 | N2: 73431 | O2: 220293 | P2: =M2*N2 -> 220293 | Q2: 0 | R2: 0 | S2: 0 | T2: SG004 | U2: Hồ Chí Minh | V2: Quận 8 | W2: MIENNAM;WIN | X2: WINCOMMERCE | Y2: K-HCM | AB2: 220293 | AC2: =VLOOKUP(AE2,Table1[[Ký hiệu]:[Hướng xli]],9,0) -> NCC check theo sheep data cửa hàng nhập kho điều chỉnh giảm toàn bộ HĐ cũ và xuất lại HĐ mới đúng số lượng | AD2: mục 03,05,07 wcm ko nhận hàng, mục 06 chỉ nhận 03 | AE2: 28825 | AF2: Đã điều chỉnh giảm về 0
A3: 45450 | B3: BH2406/00258 | C3: 45456 | D3: 00028825 | E3: 4160177182 | F3: win4146 | G3: CN HCM - wincommerce | I3: GM500 | J3: Gà muối 500g | K3: Túi | L3: 3 | M3: 3 | N3: 111058 | O3: 333174 | P3: =M3*N3 -> 333174 | Q3: 0 | R3: 0 | S3: 0 | T3: SG004 | U3: Hồ Chí Minh | V3: Quận 8 | W3: MIENNAM;WIN | X3: WINCOMMERCE | Y3: K-HCM | AB3: 333174 | AC3: =VLOOKUP(AE3,Table1[[Ký hiệu]:[Hướng xli]],9,0) -> NCC check theo sheep data cửa hàng nhập kho điều chỉnh giảm toàn bộ HĐ cũ và xuất lại HĐ mới đúng số lượng | AD3: mục 03,05,07 wcm ko nhận hàng, mục 06 chỉ nhận 03 | AE3: 28825 | AF3: Đã điều chỉnh giảm về 0
A4: 45450 | B4: BH2406/00258 | C4: 45456 | D4: 00028825 | E4: 4160177182 | F4: win4146 | G4: CN HCM - wincommerce | I4: TH200 | J4: Tai heo muối 200g | K4: Túi | L4: 3 | M4: 0 | N4: 55595 | O4: 166785 | P4: =M4*N4 -> 0 | Q4: 0 | R4: 0 | S4: 0 | T4: SG004 | U4: Hồ Chí Minh | V4: Quận 8 | W4: MIENNAM;WIN | X4: WINCOMMERCE | Y4: K-HCM | AB4: 0 | AC4: =VLOOKUP(AE4,Table1[[Ký hiệu]:[Hướng xli]],9,0) -> NCC check theo sheep data cửa hàng nhập kho điều chỉnh giảm toàn bộ HĐ cũ và xuất lại HĐ mới đúng số lượng | AD4: mục 03,05,07 wcm ko nhận hàng, mục 06 chỉ nhận 03 | AE4: 28825 | AF4: Đã điều chỉnh giảm về 0
A5: 45450 | B5: BH2406/00258 | C5: 45456 | D5: 00028825 | E5: 4160177182 | F5: win4146 | G5: CN HCM - wincommerce | I5: GL250 | J5: Giò lụa cây 250g | K5: Túi | L5: 3 | M5: 3 | N5: 44550 | O5: 133650 | P5: =M5*N5 -> 133650 | Q5: 0 | R5: 0 | S5: 0 | T5: SG004 | U5: Hồ Chí Minh | V5: Quận 8 | W5: MIENNAM;WIN | X5: WINCOMMERCE | Y5: K-HCM | AB5: 133650 | AC5: =VLOOKUP(AE5,Table1[[Ký hiệu]:[Hướng xli]],9,0) -> NCC check theo sheep data cửa hàng nhập kho điều chỉnh giảm toàn bộ HĐ cũ và xuất lại HĐ mới đúng số lượng | AD5: mục 03,05,07 wcm ko nhận hàng, mục 06 chỉ nhận 03 | AE5: 28825 | AF5: Đã điều chỉnh giảm về 0
A6: 45450 | B6: BH2406/00258 | C6: 45456 | D6: 00028825 | E6: 4160177182 | F6: win4146 | G6: CN HCM - wincommerce | I6: CN300 | J6: Chả nướng 300g | K6: Túi | L6: 3 | M6: 0 | N6: 70950 | O6: 212850 | P6: =M6*N6 -> 0 | Q6: 0 | R6: 0 | S6: 0 | T6: SG004 | U6: Hồ Chí Minh | V6: Quận 8 | W6: MIENNAM;WIN | X6: WINCOMMERCE | Y6: K-HCM | AB6: 0 | AC6: =VLOOKUP(AE6,Table1[[Ký hiệu]:[Hướng xli]],9,0) -> NCC check theo sheep data cửa hàng nhập kho điều chỉnh giảm toàn bộ HĐ cũ và xuất lại HĐ mới đúng số lượng | AD6: mục 03,05,07 wcm ko nhận hàng, mục 06 chỉ nhận 03 | AE6: 28825 | AF6: Đã điều chỉnh giảm về 0
A7: 45450 | B7: BH2406/00258 | C7: 45456 | D7: 00028825 | E7: 4160177182 | F7: win4146 | G7: CN HCM - wincommerce | I7: CC300 | J7: Chả cốm 300g | K7: Túi | L7: 6 | M7: 3 | N7: 59400 | O7: 356400 | P7: =M7*N7 -> 178200 | Q7: 0 | R7: 0 | S7: 0 | T7: SG004 | U7: Hồ Chí Minh | V7: Quận 8 | W7: MIENNAM;WIN | X7: WINCOMMERCE | Y7: K-HCM | AB7: 178200 | AC7: =VLOOKUP(AE7,Table1[[Ký hiệu]:[Hướng xli]],9,0) -> NCC check theo sheep data cửa hàng nhập kho điều chỉnh giảm toàn bộ HĐ cũ và xuất lại HĐ mới đúng số lượng | AD7: mục 03,05,07 wcm ko nhận hàng, mục 06 chỉ nhận 03 | AE7: 28825 | AF7: Đã điều chỉnh giảm về 0
A8: 45450 | B8: BH2406/00258 | C8: 45456 | D8: 00028825 | E8: 4160177182 | F8: win4146 | G8: CN HCM - wincommerce | I8: GTLX250G | J8: Giò Tai Lưỡi Xào 250g | K8: Túi | L8: 3 | M8: 0 | N8: 50182 | O8: 150546 | P8: =M8*N8 -> 0 | Q8: 0 | R8: 0 | S8: 0 | T8: SG004 | U8: Hồ Chí Minh | V8: Quận 8 | W8: MIENNAM;WIN | X8: WINCOMMERCE | Y8: K-HCM | AB8: 0 | AC8: =VLOOKUP(AE8,Table1[[Ký hiệu]:[Hướng xli]],9,0) -> NCC check theo sheep data cửa hàng nhập kho điều chỉnh giảm toàn bộ HĐ cũ và xuất lại HĐ mới đúng số lượng | AD8: mục 03,05,07 wcm ko nhận hàng, mục 06 chỉ nhận 03 | AE8: 28825 | AF8: Đã điều chỉnh giảm về 0
A9: 45450 | B9: BH2406/00258 | C9: 45456 | D9: 00028825 | E9: 4160177182 | F9: win4146 | G9: CN HCM - wincommerce | I9: MNH250 | J9: Mọc Nấm Hương 250g | K9: Túi | L9: 3 | M9: 3 | N9: 37720 | O9: 113160 | P9: =M9*N9 -> 113160 | Q9: 0 | R9: 0 | S9: 0 | T9: SG004 | U9: Hồ Chí Minh | V9: Quận 8 | W9: MIENNAM;WIN | X9: WINCOMMERCE | Y9: K-HCM | AB9: 113160 | AC9: =VLOOKUP(AE9,Table1[[Ký hiệu]:[Hướng xli]],9,0) -> NCC check theo sheep data cửa hàng nhập kho điều chỉnh giảm toàn bộ HĐ cũ và xuất lại HĐ mới đúng số lượng | AD9: mục 03,05,07 wcm ko nhận hàng, mục 06 chỉ nhận 03 | AE9: 28825 | AF9: Đã điều chỉnh giảm về 0
A10: 45474 | B10: BH2406/03543 | C10: 45477 | D10: 00032409 | E10: 4160781730 | F10: win6634 | G10: CN HÀ NỘI - wincommerce | I10: CGM300 | J10: Chân giò heo muối 300g | K10: Túi | L10: 5 | M10: 5 | N10: 58745 | O10: 293725 | P10: =M10*N10 -> 293725 | Q10: 0 | R10: 0 | S10: 0 | T10: HN004 | U10: Hà Nội | V10: Quận Hà Đông | W10: MIENBAC;WIN | X10: WINCOMMERCE | Y10: K-C6 | AB10: 0 | AC10: =VLOOKUP(AE10,Table1[[Ký hiệu]:[Hướng xli]],9,0) -> NCC điều chỉnh giảm toàn bộ HĐ | AD10: PO chưa nhập kho -> kế toán đang gửi CH chưa nhận được phản hồi | AE10: 32409 | AF10: Đã điều chỉnh giảm về 0
A11: 45474 | B11: BH2406/03543 | C11: 45477 | D11: 00032409 | E11: 4160781730 | F11: win6634 | G11: CN HÀ NỘI - wincommerce | I11: GM500 | J11: Gà muối 500g | K11: Túi | L11: 10 | M11: 10 | N11: 111058 | O11: 1110580 | P11: =M11*N11 -> 1110580 | Q11: 0 | R11: 0 | S11: 0 | T11: HN004 | U11: Hà Nội | V11: Quận Hà Đông | W11: MIENBAC;WIN | X11: WINCOMMERCE | Y11: K-C6 | AB11: 0 | AC11: =VLOOKUP(AE11,Table1[[Ký hiệu]:[Hướng xli]],9,0) -> NCC điều chỉnh giảm toàn bộ HĐ | AD11: PO chưa nhập kho -> kế toán đang gửi CH chưa nhận được phản hồi | AE11: 32409 | AF11: Đã điều chỉnh giảm về 0
A12: 45474 | B12: BH2406/03543 | C12: 45477 | D12: 00032409 | E12: 4160781730 | F12: win6634 | G12: CN HÀ NỘI - wincommerce | I12: MNH250 | J12: Mọc Nấm Hương 250g | K12: Túi | L12: 3 | M12: 3 | N12: 37720 | O12: 113160 | P12: =M12*N12 -> 113160 | Q12: 0 | R12: 0 | S12: 0 | T12: HN004 | U12: Hà Nội | V12: Quận Hà Đông | W12: MIENBAC;WIN | X12: WINCOMMERCE | Y12: K-C6 | AB12: 0 | AC12: =VLOOKUP(AE12,Table1[[Ký hiệu]:[Hướng xli]],9,0) -> NCC điều chỉnh giảm toàn bộ HĐ | AD12: PO chưa nhập kho -> kế toán đang gửi CH chưa nhận được phản hồi | AE12: 32409 | AF12: Đã điều chỉnh giảm về 0
A13: 45474 | B13: BH2406/03808 | C13: 45477 | D13: 00032471 | E13: 4160864944 | F13: win5509 | G13: CN HÀ NỘI - wincommerce | I13: CGM300 | J13: Chân giò heo muối 300g | K13: Túi | L13: 5 | M13: 5 | N13: 58745 | O13: 293725 | P13: =M13*N13 -> 293725 | Q13: 0 | R13: 0 | S13: 0 | T13: HN004 | U13: Hà Nội | V13: Huyện Hoài Đức | W13: MIENBAC;WIN | X13: WINCOMMERCE | AB13: 293725 | AC13: =VLOOKUP(AE13,Table1[[Ký hiệu]:[Hướng xli]],9,0) -> NCC check theo sheep data cửa hàng nhập kho điều chỉnh giảm toàn bộ HĐ cũ và xuất lại HĐ mới đúng số lượng | AD13: mục 02 wcm ko nhận hàng, bb không có ký nhận NCC tự làm việc với CH | AE13: 32471 | AF13: Đã điều chỉnh giảm về 0
A14: 45474 | B14: BH2406/03808 | C14: 45477 | D14: 00032471 | E14: 4160864944 | F14: win5509 | G14: CN HÀ NỘI - wincommerce | I14: GM500 | J14: Gà muối 500g | K14: Túi | L14: 3 | M14: 0 | N14: 111058 | O14: 333174 | P14: =M14*N14 -> 0 | Q14: 0 | R14: 0 | S14: 0 | T14: HN004 | U14: Hà Nội | V14: Huyện Hoài Đức | W14: MIENBAC;WIN | X14: WINCOMMERCE | AB14: 0 | AC14: =VLOOKUP(AE14,Table1[[Ký hiệu]:[Hướng xli]],9,0) -> NCC check theo sheep data cửa hàng nhập kho điều chỉnh giảm toàn bộ HĐ cũ và xuất lại HĐ mới đúng số lượng | AD14: mục 02 wcm ko nhận hàng, bb không có ký nhận NCC tự làm việc với CH | AE14: 32471 | AF14: Đã điều chỉnh giảm về 0
A15: 45474 | B15: BH2406/03808 | C15: 45477 | D15: 00032471 | E15: 4160864944 | F15: win5509 | G15: CN HÀ NỘI - wincommerce | I15: MNH250 | J15: Mọc Nấm Hương 250g | K15: Túi | L15: 5 | M15: 5 | N15: 46000 | O15: 230000 | P15: =M15*N15 -> 230000 | Q15: 0 | R15: 0 | S15: 0 | T15: HN004 | U15: Hà Nội | V15: Huyện Hoài Đức | W15: MIENBAC;WIN | X15: WINCOMMERCE | AB15: 230000 | AC15: =VLOOKUP(AE15,Table1[[Ký hiệu]:[Hướng xli]],9,0) -> NCC check theo sheep data cửa hàng nhập kho điều chỉnh giảm toàn bộ HĐ cũ và xuất lại HĐ mới đúng số lượng | AD15: mục 02 wcm ko nhận hàng, bb không có ký nhận NCC tự làm việc với CH | AE15: 32471 | AF15: Đã điều chỉnh giảm về 0
A16: 45474 | B16: BH2406/03808 | C16: 45477 | D16: 00032471 | E16: 4160864944 | F16: win5509 | G16: CN HÀ NỘI - wincommerce | I16: TH200 | J16: Tai heo muối 200g | K16: Túi | L16: 3 | M16: 3 | N16: 44476 | O16: 133428 | P16: =M16*N16 -> 133428 | Q16: 0 | R16: 0 | S16: 0 | T16: HN004 | U16: Hà Nội | V16: Huyện Hoài Đức | W16: MIENBAC;WIN | X16: WINCOMMERCE | AB16: 133428 | AC16: =VLOOKUP(AE16,Table1[[Ký hiệu]:[Hướng xli]],9,0) -> NCC check theo sheep data cửa hàng nhập kho điều chỉnh giảm toàn bộ HĐ cũ và xuất lại HĐ mới đúng số lượng | AD16: mục 02 wcm ko nhận hàng, bb không có ký nhận NCC tự làm việc với CH | AE16: 32471 | AF16: Đã điều chỉnh giảm về 0
A17: 45474 | B17: BH2406/03808 | C17: 45477 | D17: 00032471 | E17: 4160864944 | F17: win5509 | G17: CN HÀ NỘI - wincommerce | I17: GL250 | J17: Giò lụa cây 250g | K17: Túi | L17: 3 | M17: 3 | N17: 59400 | O17: 178200 | P17: =M17*N17 -> 178200 | Q17: 0 | R17: 0 | S17: 0 | T17: HN004 | U17: Hà Nội | V17: Huyện Hoài Đức | W17: MIENBAC;WIN | X17: WINCOMMERCE | AB17: 178200 | AC17: =VLOOKUP(AE17,Table1[[Ký hiệu]:[Hướng xli]],9,0) -> NCC check theo sheep data cửa hàng nhập kho điều chỉnh giảm toàn bộ HĐ cũ và xuất lại HĐ mới đúng số lượng | AD17: mục 02 wcm ko nhận hàng, bb không có ký nhận NCC tự làm việc với CH | AE17: 32471 | AF17: Đã điều chỉnh giảm về 0
A18: 45474 | B18: BH2406/03808 | C18: 45477 | D18: 00032471 | E18: 4160864944 | F18: win5509 | G18: CN HÀ NỘI - wincommerce | I18: GSG250 | J18: Giò sụn gà 250g | K18: Túi | L18: 3 | M18: 3 | N18: 61050 | O18: 183150 | P18: =M18*N18 -> 183150 | Q18: 0 | R18: 0 | S18: 0 | T18: HN004 | U18: Hà Nội | V18: Huyện Hoài Đức | W18: MIENBAC;WIN | X18: WINCOMMERCE | AB18: 183150 | AC18: =VLOOKUP(AE18,Table1[[Ký hiệu]:[Hướng xli]],9,0) -> NCC check theo sheep data cửa hàng nhập kho điều chỉnh giảm toàn bộ HĐ cũ và xuất lại HĐ mới đúng số lượng | AD18: mục 02 wcm ko nhận hàng, bb không có ký nhận NCC tự làm việc với CH | AE18: 32471 | AF18: Đã điều chỉnh giảm về 0
A19: 45474 | B19: BH2406/03417 | C19: 45477 | D19: 00032503 | E19: 4160833945 | F19: WIN4967 | G19: CN HÀ NỘI - CÔNG TY CỔ PHẦN DỊCH VỤ THƯƠNG MẠI TỔNG HỢP WINCOMMERCE | I19: CGM300 | J19: Chân giò heo muối 300g | K19: Túi | L19: 15 | M19: 15 | N19: 58745 | O19: 881175 | P19: =M19*N19 -> 881175 | Q19: 0 | R19: 0 | S19: 0 | T19: HN004 | U19: Hà Nội | V19: Quận Thanh Xuân | W19: MIENBAC;WIN | X19: WINCOMMERCE | Y19: K-C6 | AB19: 881175 | AC19: =VLOOKUP(AE19,Table1[[Ký hiệu]:[Hướng xli]],9,0) -> NCC check theo sheep data cửa hàng nhập kho điều chỉnh giảm toàn bộ HĐ cũ và xuất lại HĐ mới đúng số lượng | AD19: mục 02 wcm ko nhận hàng, bb không có ký nhận NCC tự làm việc với CH | AE19: 32503 | AF19: Đã điều chỉnh giảm về 0
A20: 45474 | B20: BH2406/03417 | C20: 45477 | D20: 00032503 | E20: 4160833945 | F20: WIN4967 | G20: CN HÀ NỘI - CÔNG TY CỔ PHẦN DỊCH VỤ THƯƠNG MẠI TỔNG HỢP WINCOMMERCE | I20: MNH250 | J20: Mọc Nấm Hương 250g | K20: Túi | L20: 5 | M20: 5 | N20: 46000 | O20: 230000 | P20: =M20*N20 -> 230000 | Q20: 0 | R20: 0 | S20: 0 | T20: HN004 | U20: Hà Nội | V20: Quận Thanh Xuân | W20: MIENBAC;WIN | X20: WINCOMMERCE | AB20: 230000 | AC20: =VLOOKUP(AE20,Table1[[Ký hiệu]:[Hướng xli]],9,0) -> NCC check theo sheep data cửa hàng nhập kho điều chỉnh giảm toàn bộ HĐ cũ và xuất lại HĐ mới đúng số lượng | AD20: mục 02 wcm ko nhận hàng, bb không có ký nhận NCC tự làm việc với CH | AE20: 32503 | AF20: Đã điều chỉnh giảm về 0
A21: 45474 | B21: BH2406/03482 | C21: 45477 | D21: 00032551 | E21: 4160822589 | F21: win4360 | G21: CN HÀ NỘI - wincommerce | I21: CGM300 | J21: Chân giò heo muối 300g | K21: Túi | L21: 6 | M21: 4 | N21: 58745 | O21: 352470 | P21: =M21*N21 -> 234980 | Q21: 0 | R21: 0 | S21: 0 | T21: HN003 | U21: Hà Nội | V21: Huyện Mê Linh | W21: MIENBAC;WIN | X21: WINCOMMERCE | Y21: K-C6 | AB21: 234980 | AC21: =VLOOKUP(AE21,Table1[[Ký hiệu]:[Hướng xli]],9,0) -> NCC check theo sheep data cửa hàng nhập kho điều chỉnh giảm toàn bộ HĐ cũ và xuất lại HĐ mới đúng số lượng | AD21: mục 01,02 chỉ nhập 04,06 biên bản không ký nhận ncc tự làm việc với CH | AE21: 32551 | AF21: Đã điều chỉnh giảm về 0
A22: 45474 | B22: BH2406/03482 | C22: 45477 | D22: 00032551 | E22: 4160822589 | F22: win4360 | G22: CN HÀ NỘI - wincommerce | I22: GM500 | J22: Gà muối 500g | K22: Túi | L22: 7 | M22: 6 | N22: 111058 | O22: 777406 | P22: =M22*N22 -> 666348 | Q22: 0 | R22: 0 | S22: 0 | T22: HN003 | U22: Hà Nội | V22: Huyện Mê Linh | W22: MIENBAC;WIN | X22: WINCOMMERCE | Y22: K-C6 | AB22: 666348 | AC22: =VLOOKUP(AE22,Table1[[Ký hiệu]:[Hướng xli]],9,0) -> NCC check theo sheep data cửa hàng nhập kho điều chỉnh giảm toàn bộ HĐ cũ và xuất lại HĐ mới đúng số lượng | AD22: mục 01,02 chỉ nhập 04,06 biên bản không ký nhận ncc tự làm việc với CH | AE22: 32551 | AF22: Đã điều chỉnh giảm về 0
A23: 45474 | B23: BH2406/03589 | C23: 45477 | D23: 00032714 | E23: 4160914201 | F23: win6738 | G23: CN HÀ NỘI - wincommerce | I23: CGM300 | J23: Chân giò heo muối 300g | K23: Túi | L23: 5 | M23: 5 | N23: 58745 | O23: 293725 | P23: =M23*N23 -> 293725 | Q23: 0 | R23: 0 | S23: 0 | T23: HN004 | U23: Hà Nội | V23: Quận Bắc Từ Liêm | W23: MIENBAC;WIN | X23: WINCOMMERCE | Y23: K-C6 | AB23: 0 | AC23: =VLOOKUP(AE23,Table1[[Ký hiệu]:[Hướng xli]],9,0) -> NCC điều chỉnh giảm toàn bộ HĐ | AD23: PO chưa nhập kho -> kế toán đang gửi CH chưa nhận được phản hồi | AE23: 32714 | AF23: Đã điều chỉnh giảm về 0
A24: 45474 | B24: BH2406/03589 | C24: 45477 | D24: 00032714 | E24: 4160914201 | F24: win6738 | G24: CN HÀ NỘI - wincommerce | I24: GM500 | J24: Gà muối 500g | K24: Túi | L24: 10 | M24: 10 | N24: 111058 | O24: 1110580 | P24: =M24*N24 -> 1110580 | Q24: 0 | R24: 0 | S24: 0 | T24: HN004 | U24: Hà Nội | V24: Quận Bắc Từ Liêm | W24: MIENBAC;WIN | X24: WINCOMMERCE | Y24: K-C6 | AB24: 0 | AC24: =VLOOKUP(AE24,Table1[[Ký hiệu]:[Hướng xli]],9,0) -> NCC điều chỉnh giảm toàn bộ HĐ | AD24: PO chưa nhập kho -> kế toán đang gửi CH chưa nhận được phản hồi | AE24: 32714 | AF24: Đã điều chỉnh giảm về 0
A25: 45474 | B25: BH2406/03589 | C25: 45477 | D25: 00032714 | E25: 4160914201 | F25: win6738 | G25: CN HÀ NỘI - wincommerce | I25: CN300 | J25: Chả nướng 300g | K25: Túi | L25: 3 | M25: 3 | N25: 70950 | O25: 212850 | P25: =M25*N25 -> 212850 | Q25: 0 | R25: 0 | S25: 0 | T25: HN004 | U25: Hà Nội | V25: Quận Bắc Từ Liêm | W25: MIENBAC;WIN | X25: WINCOMMERCE | Y25: K-C6 | AB25: 0 | AC25: =VLOOKUP(AE25,Table1[[Ký hiệu]:[Hướng xli]],9,0) -> NCC điều chỉnh giảm toàn bộ HĐ | AD25: PO chưa nhập kho -> kế toán đang gửi CH chưa nhận được phản hồi | AE25: 32714 | AF25: Đã điều chỉnh giảm về 0
A26: 45474 | B26: BH2406/03601 | C26: 45477 | D26: 00032723 | E26: 4160866190 | F26: WIN3168 | G26: CN HÀ NỘI - CÔNG TY CỔ PHẦN DỊCH VỤ THƯƠNG MẠI TỔNG HỢP WINCOMMERCE | I26: GM500 | J26: Gà muối 500g | K26: Túi | L26: 5 | M26: 5 | N26: 111058 | O26: 555290 | P26: =M26*N26 -> 555290 | Q26: 0 | R26: 0 | S26: 0 | T26: HN004 | U26: Hà Nội | V26: Quận Nam Từ Liêm | W26: MIENBAC;WIN | X26: WINCOMMERCE | Y26: K-C6 | AB26: 555290 | AC26: =VLOOKUP(AE26,Table1[[Ký hiệu]:[Hướng xli]],9,0) -> NCC check theo sheep data cửa hàng nhập kho điều chỉnh giảm toàn bộ HĐ cũ và xuất lại HĐ mới đúng số lượng | AD26: mục 03 wcm ko nhận hàng, bb không có ký nhận NCC tự làm việc với CH | AE26: 32723 | AF26: Đã điều chỉnh giảm về 0
A27: 45474 | B27: BH2406/03601 | C27: 45477 | D27: 00032723 | E27: 4160866190 | F27: WIN3168 | G27: CN HÀ NỘI - CÔNG TY CỔ PHẦN DỊCH VỤ THƯƠNG MẠI TỔNG HỢP WINCOMMERCE | I27: CGM300 | J27: Chân giò heo muối 300g | K27: Túi | L27: 10 | M27: 10 | N27: 58745 | O27: 587450 | P27: =M27*N27 -> 587450 | Q27: 0 | R27: 0 | S27: 0 | T27: HN004 | U27: Hà Nội | V27: Quận Nam Từ Liêm | W27: MIENBAC;WIN | X27: WINCOMMERCE | Y27: K-C6 | AB27: 587450 | AC27: =VLOOKUP(AE27,Table1[[Ký hiệu]:[Hướng xli]],9,0) -> NCC check theo sheep data cửa hàng nhập kho điều chỉnh giảm toàn bộ HĐ cũ và xuất lại HĐ mới đúng số lượng | AD27: mục 03 wcm ko nhận hàng, bb không có ký nhận NCC tự làm việc với CH | AE27: 32723 | AF27: Đã điều chỉnh giảm về 0
A28: 45474 | B28: BH2406/03601 | C28: 45477 | D28: 00032723 | E28: 4160866190 | F28: WIN3168 | G28: CN HÀ NỘI - CÔNG TY CỔ PHẦN DỊCH VỤ THƯƠNG MẠI TỔNG HỢP WINCOMMERCE | I28: MNH250 | J28: Mọc Nấm Hương 250g | K28: Túi | L28: 5 | M28: 0 | N28: 46000 | O28: 230000 | P28: =M28*N28 -> 0 | Q28: 0 | R28: 0 | S28: 0 | T28: HN004 | U28: Hà Nội | V28: Quận Nam Từ Liêm | W28: MIENBAC;WIN | X28: WINCOMMERCE | AB28: 0 | AC28: =VLOOKUP(AE28,Table1[[Ký hiệu]:[Hướng xli]],9,0) -> NCC check theo sheep data cửa hàng nhập kho điều chỉnh giảm toàn bộ HĐ cũ và xuất lại HĐ mới đúng số lượng | AD28: mục 03 wcm ko nhận hàng, bb không có ký nhận NCC tự làm việc với CH | AE28: 32723 | AF28: Đã điều chỉnh giảm về 0
A29: 45474 | B29: BH2406/03640 | C29: 45477 | D29: 00032754 | E29: 4161006279 | F29: win3291 | G29: CN HÀ NỘI - wincommerce | I29: CN300 | J29: Chả nướng 300g | K29: Túi | L29: 5 | M29: 3 | N29: 70950 | O29: 354750 | P29: =M29*N29 -> 212850 | Q29: 0 | R29: 0 | S29: 0 | T29: HN003 | U29: Hà Nội | V29: Huyện Thanh Trì | W29: MIENBAC;WIN | X29: WINCOMMERCE | Y29: K-C6 | AB29: 212850 | AC29: =VLOOKUP(AE29,Table1[[Ký hiệu]:[Hướng xli]],9,0) -> NCC check theo sheep data cửa hàng nhập kho điều chỉnh giảm toàn bộ HĐ cũ và xuất lại HĐ mới đúng số lượng | AD29: mục 01,02,03 chỉ nhập 03 biên bản không ký nhận ncc tự làm việc với CH | AE29: 32754 | AF29: Đã điều chỉnh giảm về 0
A30: 45474 | B30: BH2406/03640 | C30: 45477 | D30: 00032754 | E30: 4161006279 | F30: win3291 | G30: CN HÀ NỘI - wincommerce | I30: CC300 | J30: Chả cốm 300g | K30: Túi | L30: 4 | M30: 3 | N30: 74250 | O30: 297000 | P30: =M30*N30 -> 222750 | Q30: 0 | R30: 0 | S30: 0 | T30: HN003 | U30: Hà Nội | V30: Huyện Thanh Trì | W30: MIENBAC;WIN | X30: WINCOMMERCE | Y30: K-C6 | AB30: 222750 | AC30: =VLOOKUP(AE30,Table1[[Ký hiệu]:[Hướng xli]],9,0) -> NCC check theo sheep data cửa hàng nhập kho điều chỉnh giảm toàn bộ HĐ cũ và xuất lại HĐ mới đúng số lượng | AD30: mục 01,02,03 chỉ nhập 03 biên bản không ký nhận ncc tự làm việc với CH | AE30: 32754 | AF30: Đã điều chỉnh giảm về 0
A31: 45474 | B31: BH2406/03640 | C31: 45477 | D31: 00032754 | E31: 4161006279 | F31: win3291 | G31: CN HÀ NỘI - wincommerce | I31: MNH250 | J31: Mọc Nấm Hương 250g | K31: Túi | L31: 4 | M31: 3 | N31: 46000 | O31: 184000 | P31: =M31*N31 -> 138000 | Q31: 0 | R31: 0 | S31: 0 | T31: HN003 | U31: Hà Nội | V31: Huyện Thanh Trì | W31: MIENBAC;WIN | X31: WINCOMMERCE | Y31: K-C6 | AB31: 138000 | AC31: =VLOOKUP(AE31,Table1[[Ký hiệu]:[Hướng xli]],9,0) -> NCC check theo sheep data cửa hàng nhập kho điều chỉnh giảm toàn bộ HĐ cũ và xuất lại HĐ mới đúng số lượng | AD31: mục 01,02,03 chỉ nhập 03 biên bản không ký nhận ncc tự làm việc với CH | AE31: 32754 | AF31: Đã điều chỉnh giảm về 0
A32: 45474 | B32: BH2406/03736 | C32: 45477 | D32: 00032850 | E32: 4161073493 | F32: WIN3530 | G32: CN HÀ NỘI - CÔNG TY CỔ PHẦN DỊCH VỤ THƯƠNG MẠI TỔNG HỢP WINCOMMERCE | I32: GM500 | J32: Gà muối 500g | K32: Túi | L32: 3 | M32: 3 | N32: 111058 | O32: 333174 | P32: =M32*N32 -> 333174 | Q32: 0 | R32: 0 | S32: 0 | T32: HN008 | U32: Hà Nội | V32: Quận Thanh Xuân | W32: MIENBAC;WIN | X32: WINCOMMERCE | AB32: 0 | AC32: =VLOOKUP(AE32,Table1[[Ký hiệu]:[Hướng xli]],9,0) -> NCC điều chỉnh giảm toàn bộ HĐ | AD32: PO chưa nhập kho biên bản không có ký nhận ncc tự xli | AE32: 32850 | AF32: Đã điều chỉnh giảm về 0
A33: 45474 | B33: BH2406/03736 | C33: 45477 | D33: 00032850 | E33: 4161073493 | F33: WIN3530 | G33: CN HÀ NỘI - CÔNG TY CỔ PHẦN DỊCH VỤ THƯƠNG MẠI TỔNG HỢP WINCOMMERCE | I33: CGM300 | J33: Chân giò heo muối 300g | K33: Túi | L33: 10 | M33: 10 | N33: 58745 | O33: 587450 | P33: =M33*N33 -> 587450 | Q33: 0 | R33: 0 | S33: 0 | T33: HN008 | U33: Hà Nội | V33: Quận Thanh Xuân | W33: MIENBAC;WIN | X33: WINCOMMERCE | AB33: 0 | AC33: =VLOOKUP(AE33,Table1[[Ký hiệu]:[Hướng xli]],9,0) -> NCC điều chỉnh giảm toàn bộ HĐ | AD33: PO chưa nhập kho biên bản không có ký nhận ncc tự xli | AE33: 32850 | AF33: Đã điều chỉnh giảm về 0
A34: 45474 | B34: BH2406/03736 | C34: 45477 | D34: 00032850 | E34: 4161073493 | F34: WIN3530 | G34: CN HÀ NỘI - CÔNG TY CỔ PHẦN DỊCH VỤ THƯƠNG MẠI TỔNG HỢP WINCOMMERCE | I34: MNH250 | J34: Mọc Nấm Hương 250g | K34: Túi | L34: 5 | M34: 5 | N34: 46000 | O34: 230000 | P34: =M34*N34 -> 230000 | Q34: 0 | R34: 0 | S34: 0 | T34: HN008 | U34: Hà Nội | V34: Quận Thanh Xuân | W34: MIENBAC;WIN | X34: WINCOMMERCE | AB34: 0 | AC34: =VLOOKUP(AE34,Table1[[Ký hiệu]:[Hướng xli]],9,0) -> NCC điều chỉnh giảm toàn bộ HĐ | AD34: PO chưa nhập kho biên bản không có ký nhận ncc tự xli | AE34: 32850 | AF34: Đã điều chỉnh giảm về 0
A35: 45474 | B35: BH2406/03736 | C35: 45477 | D35: 00032850 | E35: 4161073493 | F35: WIN3530 | G35: CN HÀ NỘI - CÔNG TY CỔ PHẦN DỊCH VỤ THƯƠNG MẠI TỔNG HỢP WINCOMMERCE | I35: CC300 | J35: Chả cốm 300g | K35: Túi | L35: 5 | M35: 5 | N35: 59400 | O35: 297000 | P35: =M35*N35 -> 297000 | Q35: 0 | R35: 0 | S35: 0 | T35: HN008 | U35: Hà Nội | V35: Quận Thanh Xuân | W35: MIENBAC;WIN | X35: WINCOMMERCE | AB35: 0 | AC35: =VLOOKUP(AE35,Table1[[Ký hiệu]:[Hướng xli]],9,0) -> NCC điều chỉnh giảm toàn bộ HĐ | AD35: PO chưa nhập kho biên bản không có ký nhận ncc tự xli | AE35: 32850 | AF35: Đã điều chỉnh giảm về 0
A36: 45474 | B36: BH2406/03736 | C36: 45477 | D36: 00032850 | E36: 4161073493 | F36: WIN3530 | G36: CN HÀ NỘI - CÔNG TY CỔ PHẦN DỊCH VỤ THƯƠNG MẠI TỔNG HỢP WINCOMMERCE | I36: CN300 | J36: Chả nướng 300g | K36: Túi | L36: 5 | M36: 5 | N36: 70950 | O36: 354750 | P36: =M36*N36 -> 354750 | Q36: 0 | R36: 0 | S36: 0 | T36: HN008 | U36: Hà Nội | V36: Quận Thanh Xuân | W36: MIENBAC;WIN | X36: WINCOMMERCE | AB36: 0 | AC36: =VLOOKUP(AE36,Table1[[Ký hiệu]:[Hướng xli]],9,0) -> NCC điều chỉnh giảm toàn bộ HĐ | AD36: PO chưa nhập kho biên bản không có ký nhận ncc tự xli | AE36: 32850 | AF36: Đã điều chỉnh giảm về 0
A37: 45474 | B37: BH2406/03849 | C37: 45477 | D37: 00033303 | E37: 4160625979(1616)ĐN | F37: WIN-021 | G37: CHI NHÁNH THỪA THIÊN HUẾ - CÔNG TY CỔ PHẦN DỊCH VỤ THƯƠNG MẠI TỔNG HỢP WINCOMMERCE | H37: 0104918404-021 | I37: CGM300 | J37: Chân giò heo muối 300g | K37: Túi | L37: 6 | M37: 6 | N37: 58745 | O37: 352470 | P37: =M37*N37 -> 352470 | Q37: 0 | R37: 0 | S37: 0 | U37: Thừa Thiên - Huế | W37: MIENNAM;WIN | X37: WINCOMMERCE | Y37: K-HCM | AB37: 352470 | AC37: =VLOOKUP(AE37,Table1[[Ký hiệu]:[Hướng xli]],9,0) -> NCC xuất hđ điều chỉnh giảm toàn bộ HĐ -> xuất hđ mới đúng giá theo PO của wcm | AD37: mục 02 sai giá | AE37: 33303 | AF37: Đã điều chỉnh giảm về 0
A38: 45474 | B38: BH2406/03849 | C38: 45477 | D38: 00033303 | E38: 4160625979(1616)ĐN | F38: WIN-021 | G38: CHI NHÁNH THỪA THIÊN HUẾ - CÔNG TY CỔ PHẦN DỊCH VỤ THƯƠNG MẠI TỔNG HỢP WINCOMMERCE | H38: 0104918404-021 | I38: CC300 | J38: Chả cốm 300g | K38: Túi | L38: 6 | M38: 6 | N38: 74250 | O38: 445500 | P38: =M38*N38 -> 445500 | Q38: 0 | R38: 0 | S38: 0 | U38: Thừa Thiên - Huế | W38: MIENNAM;WIN | X38: WINCOMMERCE | Y38: K-HCM | AB38: 445500 | AC38: =VLOOKUP(AE38,Table1[[Ký hiệu]:[Hướng xli]],9,0) -> NCC xuất hđ điều chỉnh giảm toàn bộ HĐ -> xuất hđ mới đúng giá theo PO của wcm | AD38: mục 02 sai giá | AE38: 33303 | AF38: Đã điều chỉnh giảm về 0
A39: 45474 | B39: BH2328355 | C39: 45478 | D39: 00033477 | E39: 4161054396(3671) | F39: WIN-024 | G39: CHI NHÁNH BÌNH DƯƠNG - CÔNG TY CỔ PHẦN DỊCH VỤ THƯƠNG MẠI TỔNG HỢP WINCOMMERCE | H39: 0104918404-024 | I39: GM500 | J39: Gà muối 500g | K39: Túi | L39: 5 | M39: 5 | N39: 111058 | O39: 555290 | P39: =M39*N39 -> 555290 | Q39: 0 | R39: 0 | S39: 0 | U39: Bình Dương | W39: MIENNAM;WIN | X39: WINCOMMERCE | Y39: K-HCM | AB39: 0 | AC39: =VLOOKUP(AE39,Table1[[Ký hiệu]:[Hướng xli]],9,0) -> NCC điều chỉnh giảm toàn bộ HĐ | AD39: PO chưa nhập kho biên bản không có ký nhận ncc tự xli | AE39: 33477 | AF39: Đã điều chỉnh giảm về 0
A40: 45474 | B40: BH2328355 | C40: 45478 | D40: 00033477 | E40: 4161054396(3671) | F40: WIN-024 | G40: CHI NHÁNH BÌNH DƯƠNG - CÔNG TY CỔ PHẦN DỊCH VỤ THƯƠNG MẠI TỔNG HỢP WINCOMMERCE | H40: 0104918404-024 | I40: CGM300 | J40: Chân giò heo muối 300g | K40: Túi | L40: 3 | M40: 3 | N40: 58745 | O40: 176235 | P40: =M40*N40 -> 176235 | Q40: 0 | R40: 0 | S40: 0 | U40: Bình Dương | W40: MIENNAM;WIN | X40: WINCOMMERCE | Y40: K-HCM | AB40: 0 | AC40: =VLOOKUP(AE40,Table1[[Ký hiệu]:[Hướng xli]],9,0) -> NCC điều chỉnh giảm toàn bộ HĐ | AD40: PO chưa nhập kho biên bản không có ký nhận ncc tự xli | AE40: 33477 | AF40: Đã điều chỉnh giảm về 0
A41: 45474 | B41: BH2328355 | C41: 45478 | D41: 00033477 | E41: 4161054396(3671) | F41: WIN-024 | G41: CHI NHÁNH BÌNH DƯƠNG - CÔNG TY CỔ PHẦN DỊCH VỤ THƯƠNG MẠI TỔNG HỢP WINCOMMERCE | H41: 0104918404-024 | I41: TH200 | J41: Tai heo muối 200g | K41: Túi | L41: 3 | M41: 3 | N41: 55595 | O41: 166785 | P41: =M41*N41 -> 166785 | Q41: 0 | R41: 0 | S41: 0 | U41: Bình Dương | W41: MIENNAM;WIN | X41: WINCOMMERCE | Y41: K-HCM | AB41: 0 | AC41: =VLOOKUP(AE41,Table1[[Ký hiệu]:[Hướng xli]],9,0) -> NCC điều chỉnh giảm toàn bộ HĐ | AD41: PO chưa nhập kho biên bản không có ký nhận ncc tự xli | AE41: 33477 | AF41: Đã điều chỉnh giảm về 0
A42: 45474 | B42: BH2328355 | C42: 45478 | D42: 00033477 | E42: 4161054396(3671) | F42: WIN-024 | G42: CHI NHÁNH BÌNH DƯƠNG - CÔNG TY CỔ PHẦN DỊCH VỤ THƯƠNG MẠI TỔNG HỢP WINCOMMERCE | H42: 0104918404-024 | I42: CC300 | J42: Chả cốm 300g | K42: Túi | L42: 5 | M42: 5 | N42: 74250 | O42: 371250 | P42: =M42*N42 -> 371250 | Q42: 0 | R42: 0 | S42: 0 | U42: Bình Dương | W42: MIENNAM;WIN | X42: WINCOMMERCE | Y42: K-HCM | AB42: 0 | AC42: =VLOOKUP(AE42,Table1[[Ký hiệu]:[Hướng xli]],9,0) -> NCC điều chỉnh giảm toàn bộ HĐ | AD42: PO chưa nhập kho biên bản không có ký nhận ncc tự xli | AE42: 33477 | AF42: Đã điều chỉnh giảm về 0
A43: 45474 | B43: BH2328355 | C43: 45478 | D43: 00033477 | E43: 4161054396(3671) | F43: WIN-024 | G43: CHI NHÁNH BÌNH DƯƠNG - CÔNG TY CỔ PHẦN DỊCH VỤ THƯƠNG MẠI TỔNG HỢP WINCOMMERCE | H43: 0104918404-024 | I43: CN300 | J43: Chả nướng 300g | K43: Túi | L43: 3 | M43: 3 | N43: 70950 | O43: 212850 | P43: =M43*N43 -> 212850 | Q43: 0 | R43: 0 | S43: 0 | U43: Bình Dương | W43: MIENNAM;WIN | X43: WINCOMMERCE | Y43: K-HCM | AB43: 0 | AC43: =VLOOKUP(AE43,Table1[[Ký hiệu]:[Hướng xli]],9,0) -> NCC điều chỉnh giảm toàn bộ HĐ | AD43: PO chưa nhập kho biên bản không có ký nhận ncc tự xli | AE43: 33477 | AF43: Đã điều chỉnh giảm về 0
A44: 45474 | B44: BH2328355 | C44: 45478 | D44: 00033477 | E44: 4161054396(3671) | F44: WIN-024 | G44: CHI NHÁNH BÌNH DƯƠNG - CÔNG TY CỔ PHẦN DỊCH VỤ THƯƠNG MẠI TỔNG HỢP WINCOMMERCE | H44: 0104918404-024 | I44: MNH250 | J44: Mọc Nấm Hương 250g | K44: Túi | L44: 3 | M44: 3 | N44: 46000 | O44: 138000 | P44: =M44*N44 -> 138000 | Q44: 0 | R44: 0 | S44: 0 | U44: Bình Dương | W44: MIENNAM;WIN | X44: WINCOMMERCE | Y44: K-HCM | AB44: 0 | AC44: =VLOOKUP(AE44,Table1[[Ký hiệu]:[Hướng xli]],9,0) -> NCC điều chỉnh giảm toàn bộ HĐ | AD44: PO chưa nhập kho biên bản không có ký nhận ncc tự xli | AE44: 33477 | AF44: Đã điều chỉnh giảm về 0
A45: 45474 | B45: BH2328297 | C45: 45478 | D45: 00033499 | E45: 4161057982 | F45: WIN5086 | G45: CN HCM - CÔNG TY CỔ PHẦN DỊCH VỤ THƯƠNG MẠI TỔNG HỢP WINCOMMERCE | I45: CGM300 | J45: Chân giò heo muối 300g | K45: Túi | L45: 5 | M45: 5 | N45: 58745 | O45: 293725 | P45: =M45*N45 -> 293725 | Q45: 0 | R45: 0 | S45: 0 | T45: SG011 | U45: Hồ Chí Minh | V45: Thành phố Thủ Đức | W45: MIENNAM;WIN | X45: WINCOMMERCE | Y45: K-HCM | AB45: 293725 | AC45: =VLOOKUP(AE45,Table1[[Ký hiệu]:[Hướng xli]],9,0) -> NCC check theo sheep data cửa hàng nhập kho điều chỉnh giảm toàn bộ HĐ cũ và xuất lại HĐ mới đúng số lượng | AD45: mục 03 wcm ko nhận hàng, bb không có ký nhận NCC tự làm việc với CH | AE45: 33499 | AF45: Đã điều chỉnh giảm về 0
A46: 45474 | B46: BH2328297 | C46: 45478 | D46: 00033499 | E46: 4161057982 | F46: WIN5086 | G46: CN HCM - CÔNG TY CỔ PHẦN DỊCH VỤ THƯƠNG MẠI TỔNG HỢP WINCOMMERCE | I46: GTLX250G | J46: Giò Tai Lưỡi Xào 250g | K46: Túi | L46: 5 | M46: 5 | N46: 50182 | O46: 250910 | P46: =M46*N46 -> 250910 | Q46: 0 | R46: 0 | S46: 0 | T46: SG011 | U46: Hồ Chí Minh | V46: Thành phố Thủ Đức | W46: MIENNAM;WIN | X46: WINCOMMERCE | Y46: K-HCM | AB46: 250910 | AC46: =VLOOKUP(AE46,Table1[[Ký hiệu]:[Hướng xli]],9,0) -> NCC check theo sheep data cửa hàng nhập kho điều chỉnh giảm toàn bộ HĐ cũ và xuất lại HĐ mới đúng số lượng | AD46: mục 03 wcm ko nhận hàng, bb không có ký nhận NCC tự làm việc với CH | AE46: 33499 | AF46: Đã điều chỉnh giảm về 0
A47: 45474 | B47: BH2328297 | C47: 45478 | D47: 00033499 | E47: 4161057982 | F47: WIN5086 | G47: CN HCM - CÔNG TY CỔ PHẦN DỊCH VỤ THƯƠNG MẠI TỔNG HỢP WINCOMMERCE | I47: CC300 | J47: Chả cốm 300g | K47: Túi | L47: 5 | M47: 0 | N47: 74250 | O47: 371250 | P47: =M47*N47 -> 0 | Q47: 0 | R47: 0 | S47: 0 | T47: SG011 | U47: Hồ Chí Minh | V47: Thành phố Thủ Đức | W47: MIENNAM;WIN | X47: WINCOMMERCE | Y47: K-HCM | AB47: 0 | AC47: =VLOOKUP(AE47,Table1[[Ký hiệu]:[Hướng xli]],9,0) -> NCC check theo sheep data cửa hàng nhập kho điều chỉnh giảm toàn bộ HĐ cũ và xuất lại HĐ mới đúng số lượng | AD47: mục 03 wcm ko nhận hàng, bb không có ký nhận NCC tự làm việc với CH | AE47: 33499 | AF47: Đã điều chỉnh giảm về 0
A48: 45476 | B48: BH2407/0024 | C48: 45478 | D48: 00033536 | E48: 4161088758(3578) | F48: WIN-023 | G48: CHI NHÁNH ĐỒNG NAI - CÔNG TY CỔ PHẦN DỊCH VỤ THƯƠNG MẠI TỔNG HỢP WINCOMMERCE | H48: 0104918404-023 | I48: CGM300 | J48: Chân giò heo muối 300g | K48: Túi | L48: 3 | M48: 3 | N48: 58745 | O48: 176235 | P48: =M48*N48 -> 176235 | Q48: 0 | R48: 0 | S48: 0 | U48: Đồng Nai | W48: MIENNAM;WIN | X48: WINCOMMERCE | Y48: K-HCM | AB48: 0 | AC48: =VLOOKUP(AE48,Table1[[Ký hiệu]:[Hướng xli]],9,0) -> NCC điều chỉnh giảm toàn bộ HĐ | AD48: PO chưa nhập kho -> kế toán đang gửi CH chưa nhận được phản hồi | AE48: 33536 | AF48: Đã điều chỉnh giảm về 0
A49: 45476 | B49: BH2407/0024 | C49: 45478 | D49: 00033536 | E49: 4161088758(3578) | F49: WIN-023 | G49: CHI NHÁNH ĐỒNG NAI - CÔNG TY CỔ PHẦN DỊCH VỤ THƯƠNG MẠI TỔNG HỢP WINCOMMERCE | H49: 0104918404-023 | I49: GM500 | J49: Gà muối 500g | K49: Túi | L49: 3 | M49: 3 | N49: 111058 | O49: 333174 | P49: =M49*N49 -> 333174 | Q49: 0 | R49: 0 | S49: 0 | U49: Đồng Nai | W49: MIENNAM;WIN | X49: WINCOMMERCE | Y49: K-HCM | AB49: 0 | AC49: =VLOOKUP(AE49,Table1[[Ký hiệu]:[Hướng xli]],9,0) -> NCC điều chỉnh giảm toàn bộ HĐ | AD49: PO chưa nhập kho -> kế toán đang gửi CH chưa nhận được phản hồi | AE49: 33536 | AF49: Đã điều chỉnh giảm về 0
A50: 45476 | B50: BH2407/0024 | C50: 45478 | D50: 00033536 | E50: 4161088758(3578) | F50: WIN-023 | G50: CHI NHÁNH ĐỒNG NAI - CÔNG TY CỔ PHẦN DỊCH VỤ THƯƠNG MẠI TỔNG HỢP WINCOMMERCE | H50: 0104918404-023 | I50: TH200 | J50: Tai heo muối 200g | K50: Túi | L50: 3 | M50: 3 | N50: 55595 | O50: 166785 | P50: =M50*N50 -> 166785 | Q50: 0 | R50: 0 | S50: 0 | U50: Đồng Nai | W50: MIENNAM;WIN | X50: WINCOMMERCE | Y50: K-HCM | AB50: 0 | AC50: =VLOOKUP(AE50,Table1[[Ký hiệu]:[Hướng xli]],9,0) -> NCC điều chỉnh giảm toàn bộ HĐ | AD50: PO chưa nhập kho -> kế toán đang gửi CH chưa nhận được phản hồi | AE50: 33536 | AF50: Đã điều chỉnh giảm về 0
A51: 45476 | B51: BH2407/0024 | C51: 45478 | D51: 00033536 | E51: 4161088758(3578) | F51: WIN-023 | G51: CHI NHÁNH ĐỒNG NAI - CÔNG TY CỔ PHẦN DỊCH VỤ THƯƠNG MẠI TỔNG HỢP WINCOMMERCE | H51: 0104918404-023 | I51: GL250 | J51: Giò lụa cây 250g | K51: Túi | L51: 3 | M51: 3 | N51: 59400 | O51: 178200 | P51: =M51*N51 -> 178200 | Q51: 0 | R51: 0 | S51: 0 | U51: Đồng Nai | W51: MIENNAM;WIN | X51: WINCOMMERCE | Y51: K-HCM | AB51: 0 | AC51: =VLOOKUP(AE51,Table1[[Ký hiệu]:[Hướng xli]],9,0) -> NCC điều chỉnh giảm toàn bộ HĐ | AD51: PO chưa nhập kho -> kế toán đang gửi CH chưa nhận được phản hồi | AE51: 33536 | AF51: Đã điều chỉnh giảm về 0
A52: 45476 | B52: BH2407/0024 | C52: 45478 | D52: 00033536 | E52: 4161088758(3578) | F52: WIN-023 | G52: CHI NHÁNH ĐỒNG NAI - CÔNG TY CỔ PHẦN DỊCH VỤ THƯƠNG MẠI TỔNG HỢP WINCOMMERCE | H52: 0104918404-023 | I52: CN300 | J52: Chả nướng 300g | K52: Túi | L52: 3 | M52: 3 | N52: 70950 | O52: 212850 | P52: =M52*N52 -> 212850 | Q52: 0 | R52: 0 | S52: 0 | U52: Đồng Nai | W52: MIENNAM;WIN | X52: WINCOMMERCE | Y52: K-HCM | AB52: 0 | AC52: =VLOOKUP(AE52,Table1[[Ký hiệu]:[Hướng xli]],9,0) -> NCC điều chỉnh giảm toàn bộ HĐ | AD52: PO chưa nhập kho -> kế toán đang gửi CH chưa nhận được phản hồi | AE52: 33536 | AF52: Đã điều chỉnh giảm về 0
A53: 45476 | B53: BH2407/0024 | C53: 45478 | D53: 00033536 | E53: 4161088758(3578) | F53: WIN-023 | G53: CHI NHÁNH ĐỒNG NAI - CÔNG TY CỔ PHẦN DỊCH VỤ THƯƠNG MẠI TỔNG HỢP WINCOMMERCE | H53: 0104918404-023 | I53: CC300 | J53: Chả cốm 300g | K53: Túi | L53: 3 | M53: 3 | N53: 74250 | O53: 222750 | P53: =M53*N53 -> 222750 | Q53: 0 | R53: 0 | S53: 0 | U53: Đồng Nai | W53: MIENNAM;WIN | X53: WINCOMMERCE | Y53: K-HCM | AB53: 0 | AC53: =VLOOKUP(AE53,Table1[[Ký hiệu]:[Hướng xli]],9,0) -> NCC điều chỉnh giảm toàn bộ HĐ | AD53: PO chưa nhập kho -> kế toán đang gửi CH chưa nhận được phản hồi | AE53: 33536 | AF53: Đã điều chỉnh giảm về 0
A54: 45476 | B54: BH2407/0024 | C54: 45478 | D54: 00033536 | E54: 4161088758(3578) | F54: WIN-023 | G54: CHI NHÁNH ĐỒNG NAI - CÔNG TY CỔ PHẦN DỊCH VỤ THƯƠNG MẠI TỔNG HỢP WINCOMMERCE | H54: 0104918404-023 | I54: GTLX250G | J54: Giò Tai Lưỡi Xào 250g | K54: Túi | L54: 3 | M54: 3 | N54: 50182 | O54: 150546 | P54: =M54*N54 -> 150546 | Q54: 0 | R54: 0 | S54: 0 | U54: Đồng Nai | W54: MIENNAM;WIN | X54: WINCOMMERCE | Y54: K-HCM | AB54: 0 | AC54: =VLOOKUP(AE54,Table1[[Ký hiệu]:[Hướng xli]],9,0) -> NCC điều chỉnh giảm toàn bộ HĐ | AD54: PO chưa nhập kho -> kế toán đang gửi CH chưa nhận được phản hồi | AE54: 33536 | AF54: Đã điều chỉnh giảm về 0
A55: 45476 | B55: BH2407/0024 | C55: 45478 | D55: 00033536 | E55: 4161088758(3578) | F55: WIN-023 | G55: CHI NHÁNH ĐỒNG NAI - CÔNG TY CỔ PHẦN DỊCH VỤ THƯƠNG MẠI TỔNG HỢP WINCOMMERCE | H55: 0104918404-023 | I55: MNH250 | J55: Mọc Nấm Hương 250g | K55: Túi | L55: 3 | M55: 3 | N55: 46000 | O55: 138000 | P55: =M55*N55 -> 138000 | Q55: 0 | R55: 0 | S55: 0 | U55: Đồng Nai | W55: MIENNAM;WIN | X55: WINCOMMERCE | Y55: K-HCM | AB55: 0 | AC55: =VLOOKUP(AE55,Table1[[Ký hiệu]:[Hướng xli]],9,0) -> NCC điều chỉnh giảm toàn bộ HĐ | AD55: PO chưa nhập kho -> kế toán đang gửi CH chưa nhận được phản hồi | AE55: 33536 | AF55: Đã điều chỉnh giảm về 0
A56: 45474 | B56: BH2406/03931 | C56: 45478 | D56: 00033589 | E56: 4156926823 (4069) | F56: WIN-007 | G56: CHI NHÁNH QUẢNG NINH - CÔNG TY CỔ PHẦN DỊCH VỤ THƯƠNG MẠI TỔNG HỢP WINCOMMERCE | H56: 0104918404-007 | I56: CGM300 | J56: Chân giò heo muối 300g | K56: Túi | L56: 10 | M56: 10 | N56: 73431 | O56: 734310 | P56: =M56*N56 -> 734310 | Q56: 0 | R56: 0 | S56: 0 | U56: Quảng Ninh | W56: MIENBAC;WIN | X56: WINCOMMERCE | AB56: 0 | AC56: =VLOOKUP(AE56,Table1[[Ký hiệu]:[Hướng xli]],9,0) -> NCC điều chỉnh giảm toàn bộ HĐ | AD56: PO chưa nhập kho biên bản không có ký nhận ncc tự xli | AE56: 33589 | AF56: Đã điều chỉnh giảm về 0
A57: 45474 | B57: BH2407/0168 | C57: 45484 | D57: 00034194 | E57: 4160863888 | F57: win1569 | G57: CN HÀ NỘI - wincommerce | I57: CGM300 | J57: Chân giò heo muối 300g | K57: Túi | L57: 5 | M57: 5 | N57: 58745 | O57: 293725 | P57: =M57*N57 -> 293725 | Q57: 0 | R57: 0 | S57: 0 | T57: HN004 | U57: Hà Nội | V57: Huyện Đan Phượng | W57: MIENBAC;WIN | X57: WINCOMMERCE | Y57: K-C6 | AB57: 293725 | AC57: =VLOOKUP(AE57,Table1[[Ký hiệu]:[Hướng xli]],9,0) -> NCC check theo sheep data cửa hàng nhập kho điều chỉnh giảm toàn bộ HĐ cũ và xuất lại HĐ mới đúng số lượng | AD57: mục 03 wcm ko nhận hàng, bb không có ký nhận NCC tự làm việc với CH | AE57: 34194 | AF57: Đã điều chỉnh giảm về 0
A58: 45474 | B58: BH2407/0168 | C58: 45484 | D58: 00034194 | E58: 4160863888 | F58: win1569 | G58: CN HÀ NỘI - wincommerce | I58: CC300 | J58: Chả cốm 300g | K58: Túi | L58: 5 | M58: 5 | N58: 74250 | O58: 371250 | P58: =M58*N58 -> 371250 | Q58: 0 | R58: 0 | S58: 0 | T58: HN004 | U58: Hà Nội | V58: Huyện Đan Phượng | W58: MIENBAC;WIN | X58: WINCOMMERCE | Y58: K-C6 | AB58: 371250 | AC58: =VLOOKUP(AE58,Table1[[Ký hiệu]:[Hướng xli]],9,0) -> NCC check theo sheep data cửa hàng nhập kho điều chỉnh giảm toàn bộ HĐ cũ và xuất lại HĐ mới đúng số lượng | AD58: mục 03 wcm ko nhận hàng, bb không có ký nhận NCC tự làm việc với CH | AE58: 34194 | AF58: Đã điều chỉnh giảm về 0
A59: 45474 | B59: BH2407/0168 | C59: 45484 | D59: 00034194 | E59: 4160863888 | F59: win1569 | G59: CN HÀ NỘI - wincommerce | I59: GXD500 | J59: Gà xì dầu 500g | K59: Túi | L59: 5 | M59: 0 | N59: 111606 | O59: 558030 | P59: =M59*N59 -> 0 | Q59: 0 | R59: 0 | S59: 0 | T59: HN004 | U59: Hà Nội | V59: Huyện Đan Phượng | W59: MIENBAC;WIN | X59: WINCOMMERCE | Y59: K-C6 | AB59: 0 | AC59: =VLOOKUP(AE59,Table1[[Ký hiệu]:[Hướng xli]],9,0) -> NCC check theo sheep data cửa hàng nhập kho điều chỉnh giảm toàn bộ HĐ cũ và xuất lại HĐ mới đúng số lượng | AD59: mục 03 wcm ko nhận hàng, bb không có ký nhận NCC tự làm việc với CH | AE59: 34194 | AF59: Đã điều chỉnh giảm về 0
A60: 45474 | B60: BH2407/0156 | C60: 45484 | D60: 00034222 | E60: 4160937822 | F60: win6978 | G60: CN HÀ NỘI - wincommerce | I60: GM500 | J60: Gà muối 500g | K60: Túi | L60: 10 | M60: 10 | N60: 111058 | O60: 1110580 | P60: =M60*N60 -> 1110580 | Q60: 0 | R60: 0 | S60: 0 | T60: HN004 | U60: Hà Nội | V60: Huyện Hoài Đức | W60: MIENBAC;WIN | X60: WINCOMMERCE | Y60: K-C6 | AB60: 1110580 | AC60: =VLOOKUP(AE60,Table1[[Ký hiệu]:[Hướng xli]],9,0) -> NCC check theo sheep data cửa hàng nhập kho điều chỉnh giảm toàn bộ HĐ cũ và xuất lại HĐ mới đúng số lượng | AD60: mục 03 wcm ko nhận hàng, bb không có ký nhận NCC tự làm việc với CH | AE60: 34222 | AF60: Đã điều chỉnh giảm về 0
A61: 45474 | B61: BH2407/0156 | C61: 45484 | D61: 00034222 | E61: 4160937822 | F61: win6978 | G61: CN HÀ NỘI - wincommerce | I61: CGM300 | J61: Chân giò heo muối 300g | K61: Túi | L61: 10 | M61: 10 | N61: 58745 | O61: 587450 | P61: =M61*N61 -> 587450 | Q61: 0 | R61: 0 | S61: 0 | T61: HN004 | U61: Hà Nội | V61: Huyện Hoài Đức | W61: MIENBAC;WIN | X61: WINCOMMERCE | Y61: K-C6 | AB61: 587450 | AC61: =VLOOKUP(AE61,Table1[[Ký hiệu]:[Hướng xli]],9,0) -> NCC check theo sheep data cửa hàng nhập kho điều chỉnh giảm toàn bộ HĐ cũ và xuất lại HĐ mới đúng số lượng | AD61: mục 03 wcm ko nhận hàng, bb không có ký nhận NCC tự làm việc với CH | AE61: 34222 | AF61: Đã điều chỉnh giảm về 0
A62: 45474 | B62: BH2407/0156 | C62: 45484 | D62: 00034222 | E62: 4160937822 | F62: win6978 | G62: CN HÀ NỘI - wincommerce | I62: MNH250 | J62: Mọc Nấm Hương 250g | K62: Túi | L62: 5 | M62: 0 | N62: 46000 | O62: 230000 | P62: =M62*N62 -> 0 | Q62: 0 | R62: 0 | S62: 0 | T62: HN004 | U62: Hà Nội | V62: Huyện Hoài Đức | W62: MIENBAC;WIN | X62: WINCOMMERCE | AB62: 0 | AC62: =VLOOKUP(AE62,Table1[[Ký hiệu]:[Hướng xli]],9,0) -> NCC check theo sheep data cửa hàng nhập kho điều chỉnh giảm toàn bộ HĐ cũ và xuất lại HĐ mới đúng số lượng | AD62: mục 03 wcm ko nhận hàng, bb không có ký nhận NCC tự làm việc với CH | AE62: 34222 | AF62: Đã điều chỉnh giảm về 0
A63: 45475 | B63: BH2407/0425 | C63: 45484 | D63: 00034434 | E63: 4161266931 | F63: WIN4191 | G63: CN HÀ NỘI - CÔNG TY CỔ PHẦN DỊCH VỤ THƯƠNG MẠI TỔNG HỢP WINCOMMERCE | I63: GTLX250G | J63: Giò Tai Lưỡi Xào 250g | K63: Túi | L63: 10 | M63: 10 | N63: 50182 | O63: 501820 | P63: =M63*N63 -> 501820 | Q63: 0 | R63: 0 | S63: 0 | T63: HN003 | U63: Hà Nội | V63: Huyện Sóc Sơn | W63: MIENBAC; WIN | Y63: K-C6 | AB63: 501820 | AC63: =VLOOKUP(AE63,Table1[[Ký hiệu]:[Hướng xli]],9,0) -> NCC xuất hđ điều chỉnh giảm toàn bộ HĐ -> xuất hđ mới đúng giá theo PO của wcm | AD63: mục 02 sai giá | AE63: 34434 | AF63: Đã điều chỉnh giảm về 0
A64: 45475 | B64: BH2407/0425 | C64: 45484 | D64: 00034434 | E64: 4161266931 | F64: WIN4191 | G64: CN HÀ NỘI - CÔNG TY CỔ PHẦN DỊCH VỤ THƯƠNG MẠI TỔNG HỢP WINCOMMERCE | I64: GM500 | J64: Gà muối 500g | K64: Túi | L64: 20 | M64: 20 | N64: 111058 | O64: 2221160 | P64: =M64*N64 -> 2221160 | Q64: 0 | R64: 0 | S64: 0 | T64: HN003 | U64: Hà Nội | V64: Huyện Sóc Sơn | W64: MIENBAC; WIN | Y64: K-C6 | AB64: 2221160 | AC64: =VLOOKUP(AE64,Table1[[Ký hiệu]:[Hướng xli]],9,0) -> NCC xuất hđ điều chỉnh giảm toàn bộ HĐ -> xuất hđ mới đúng giá theo PO của wcm | AD64: mục 02 sai giá | AE64: 34434 | AF64: Đã điều chỉnh giảm về 0
A65: 45476 | B65: BH2407/0464 | C65: 45484 | D65: 00034470 | E65: 4161080915 | F65: win3210 | G65: CN HÀ NỘI - wincommerce | I65: CGM300 | J65: Chân giò heo muối 300g | K65: Túi | L65: 10 | M65: 10 | N65: 58745 | O65: 587450 | P65: =M65*N65 -> 587450 | Q65: 0 | R65: 0 | S65: 0 | T65: HN004 | U65: Hà Nội | V65: Quận Hà Đông | W65: MIENBAC;WIN | X65: WINCOMMERCE | Y65: K-C6 | AB65: 587450 | AC65: =VLOOKUP(AE65,Table1[[Ký hiệu]:[Hướng xli]],9,0) -> NCC check theo sheep data cửa hàng nhập kho điều chỉnh giảm toàn bộ HĐ cũ và xuất lại HĐ mới đúng số lượng | AD65: mục 03,04,05 wcm ko nhận hàng, bb không có ký nhận NCC tự làm việc với CH | AE65: 34470 | AF65: Đã điều chỉnh giảm về 0
A66: 45476 | B66: BH2407/0464 | C66: 45484 | D66: 00034470 | E66: 4161080915 | F66: win3210 | G66: CN HÀ NỘI - wincommerce | I66: GM500 | J66: Gà muối 500g | K66: Túi | L66: 10 | M66: 10 | N66: 111058 | O66: 1110580 | P66: =M66*N66 -> 1110580 | Q66: 0 | R66: 0 | S66: 0 | T66: HN004 | U66: Hà Nội | V66: Quận Hà Đông | W66: MIENBAC;WIN | X66: WINCOMMERCE | Y66: K-C6 | AB66: 1110580 | AC66: =VLOOKUP(AE66,Table1[[Ký hiệu]:[Hướng xli]],9,0) -> NCC check theo sheep data cửa hàng nhập kho điều chỉnh giảm toàn bộ HĐ cũ và xuất lại HĐ mới đúng số lượng | AD66: mục 03,04,05 wcm ko nhận hàng, bb không có ký nhận NCC tự làm việc với CH | AE66: 34470 | AF66: Đã điều chỉnh giảm về 0
A67: 45476 | B67: BH2407/0464 | C67: 45484 | D67: 00034470 | E67: 4161080915 | F67: win3210 | G67: CN HÀ NỘI - wincommerce | I67: CC300 | J67: Chả cốm 300g | K67: Túi | L67: 5 | M67: 0 | N67: 74250 | O67: 371250 | P67: =M67*N67 -> 0 | Q67: 0 | R67: 0 | S67: 0 | T67: HN004 | U67: Hà Nội | V67: Quận Hà Đông | W67: MIENBAC;WIN | X67: WINCOMMERCE | Y67: K-C6 | AB67: 0 | AC67: =VLOOKUP(AE67,Table1[[Ký hiệu]:[Hướng xli]],9,0) -> NCC check theo sheep data cửa hàng nhập kho điều chỉnh giảm toàn bộ HĐ cũ và xuất lại HĐ mới đúng số lượng | AD67: mục 03,04,05 wcm ko nhận hàng, bb không có ký nhận NCC tự làm việc với CH | AE67: 34470 | AF67: Đã điều chỉnh giảm về 0
A68: 45476 | B68: BH2407/0464 | C68: 45484 | D68: 00034470 | E68: 4161080915 | F68: win3210 | G68: CN HÀ NỘI - wincommerce | I68: GTLX250G | J68: Giò Tai Lưỡi Xào 250g | K68: Túi | L68: 5 | M68: 0 | N68: 50182 | O68: 250910 | P68: =M68*N68 -> 0 | Q68: 0 | R68: 0 | S68: 0 | T68: HN004 | U68: Hà Nội | V68: Quận Hà Đông | W68: MIENBAC;WIN | X68: WINCOMMERCE | Y68: K-C6 | AB68: 0 | AC68: =VLOOKUP(AE68,Table1[[Ký hiệu]:[Hướng xli]],9,0) -> NCC check theo sheep data cửa hàng nhập kho điều chỉnh giảm toàn bộ HĐ cũ và xuất lại HĐ mới đúng số lượng | AD68: mục 03,04,05 wcm ko nhận hàng, bb không có ký nhận NCC tự làm việc với CH | AE68: 34470 | AF68: Đã điều chỉnh giảm về 0
A69: 45476 | B69: BH2407/0464 | C69: 45484 | D69: 00034470 | E69: 4161080915 | F69: win3210 | G69: CN HÀ NỘI - wincommerce | I69: CN300 | J69: Chả nướng 300g | K69: Túi | L69: 5 | M69: 0 | N69: 70950 | O69: 354750 | P69: =M69*N69 -> 0 | Q69: 0 | R69: 0 | S69: 0 | T69: HN004 | U69: Hà Nội | V69: Quận Hà Đông | W69: MIENBAC;WIN | X69: WINCOMMERCE | Y69: K-C6 | AB69: 0 | AC69: =VLOOKUP(AE69,Table1[[Ký hiệu]:[Hướng xli]],9,0) -> NCC check theo sheep data cửa hàng nhập kho điều chỉnh giảm toàn bộ HĐ cũ và xuất lại HĐ mới đúng số lượng | AD69: mục 03,04,05 wcm ko nhận hàng, bb không có ký nhận NCC tự làm việc với CH | AE69: 34470 | AF69: Đã điều chỉnh giảm về 0
A70: 45478 | B70: BH2407/0812 | C70: 45484 | D70: 00034534 | E70: 4161172365 | F70: WIN5468 | G70: CN HÀ NỘI - CÔNG TY CỔ PHẦN DỊCH VỤ THƯƠNG MẠI TỔNG HỢP WINCOMMERCE | I70: CGM300 | J70: Chân giò heo muối 300g | K70: Túi | L70: 4 | M70: 4 | N70: 58745 | O70: 234980 | P70: =M70*N70 -> 234980 | Q70: 0 | R70: 0 | S70: 0 | T70: HN003 | U70: Hà Nội | V70: Quận Đống Đa | W70: MIENBAC;WIN | X70: WINCOMMERCE | Y70: K-C6 | AB70: 234980 | AC70: =VLOOKUP(AE70,Table1[[Ký hiệu]:[Hướng xli]],9,0) -> NCC check theo sheep data cửa hàng nhập kho điều chỉnh giảm toàn bộ HĐ cũ và xuất lại HĐ mới đúng số lượng | AD70: mục 02,03,04 wcm ko nhận hàng, bb không có ký nhận NCC tự làm việc với CH | AE70: 34534 | AF70: Đã điều chỉnh giảm về 0
A71: 45478 | B71: BH2407/0812 | C71: 45484 | D71: 00034534 | E71: 4161172365 | F71: WIN5468 | G71: CN HÀ NỘI - CÔNG TY CỔ PHẦN DỊCH VỤ THƯƠNG MẠI TỔNG HỢP WINCOMMERCE | I71: CN300 | J71: Chả nướng 300g | K71: Túi | L71: 2 | M71: 0 | N71: 70950 | O71: 141900 | P71: =M71*N71 -> 0 | Q71: 0 | R71: 0 | S71: 0 | T71: HN003 | U71: Hà Nội | V71: Quận Đống Đa | W71: MIENBAC;WIN | X71: WINCOMMERCE | Y71: K-C6 | AB71: 0 | AC71: =VLOOKUP(AE71,Table1[[Ký hiệu]:[Hướng xli]],9,0) -> NCC check theo sheep data cửa hàng nhập kho điều chỉnh giảm toàn bộ HĐ cũ và xuất lại HĐ mới đúng số lượng | AD71: mục 02,03,04 wcm ko nhận hàng, bb không có ký nhận NCC tự làm việc với CH | AE71: 34534 | AF71: Đã điều chỉnh giảm về 0
A72: 45478 | B72: BH2407/0812 | C72: 45484 | D72: 00034534 | E72: 4161172365 | F72: WIN5468 | G72: CN HÀ NỘI - CÔNG TY CỔ PHẦN DỊCH VỤ THƯƠNG MẠI TỔNG HỢP WINCOMMERCE | I72: GTLX250G | J72: Giò Tai Lưỡi Xào 250g | K72: Túi | L72: 5 | M72: 0 | N72: 50182 | O72: 250910 | P72: =M72*N72 -> 0 | Q72: 0 | R72: 0 | S72: 0 | T72: HN003 | U72: Hà Nội | V72: Quận Đống Đa | W72: MIENBAC;WIN | X72: WINCOMMERCE | Y72: K-C6 | AB72: 0 | AC72: =VLOOKUP(AE72,Table1[[Ký hiệu]:[Hướng xli]],9,0) -> NCC check theo sheep data cửa hàng nhập kho điều chỉnh giảm toàn bộ HĐ cũ và xuất lại HĐ mới đúng số lượng | AD72: mục 02,03,04 wcm ko nhận hàng, bb không có ký nhận NCC tự làm việc với CH | AE72: 34534 | AF72: Đã điều chỉnh giảm về 0
A73: 45478 | B73: BH2407/0812 | C73: 45484 | D73: 00034534 | E73: 4161172365 | F73: WIN5468 | G73: CN HÀ NỘI - CÔNG TY CỔ PHẦN DỊCH VỤ THƯƠNG MẠI TỔNG HỢP WINCOMMERCE | I73: MNH250 | J73: Mọc Nấm Hương 250g | K73: Túi | L73: 2 | M73: 0 | N73: 46000 | O73: 92000 | P73: =M73*N73 -> 0 | Q73: 0 | R73: 0 | S73: 0 | T73: HN003 | U73: Hà Nội | V73: Quận Đống Đa | W73: MIENBAC;WIN | X73: WINCOMMERCE | Y73: K-C6 | AB73: 0 | AC73: =VLOOKUP(AE73,Table1[[Ký hiệu]:[Hướng xli]],9,0) -> NCC check theo sheep data cửa hàng nhập kho điều chỉnh giảm toàn bộ HĐ cũ và xuất lại HĐ mới đúng số lượng | AD73: mục 02,03,04 wcm ko nhận hàng, bb không có ký nhận NCC tự làm việc với CH | AE73: 34534 | AF73: Đã điều chỉnh giảm về 0
A74: 45474 | B74: BH2407/0250 | C74: 45484 | D74: 00034686 | E74: 4160944840 (5135) | F74: WIN-072 | G74: CHI NHÁNH LÀO CAI - CÔNG TY CỔ PHẦN DỊCH VỤ THƯƠNG MẠI TỔNG HỢP WINCOMMERCE | H74: 0104918404-072 | I74: CGM300 | J74: Chân giò heo muối 300g | K74: Túi | L74: 5 | M74: 0 | N74: 58745 | O74: 293725 | P74: =M74*N74 -> 0 | Q74: 0 | R74: 0 | S74: 0 | U74: Lào Cai | W74: MIENBAC;WIN | X74: WINCOMMERCE | Y74: K-C6 | AB74: 0 | AC74: =VLOOKUP(AE74,Table1[[Ký hiệu]:[Hướng xli]],9,0) -> NCC check theo sheep data cửa hàng nhập kho điều chỉnh giảm toàn bộ HĐ cũ và xuất lại HĐ mới đúng số lượng | AD74: mục 01,02 wcm ko nhận hàng, bb không có ký nhận NCC tự làm việc với CH | AE74: 34686 | AF74: Đã điều chỉnh giảm về 0
A75: 45474 | B75: BH2407/0250 | C75: 45484 | D75: 00034686 | E75: 4160944840 (5135) | F75: WIN-072 | G75: CHI NHÁNH LÀO CAI - CÔNG TY CỔ PHẦN DỊCH VỤ THƯƠNG MẠI TỔNG HỢP WINCOMMERCE | H75: 0104918404-072 | I75: GTLX250G | J75: Giò Tai Lưỡi Xào 250g | K75: Túi | L75: 5 | M75: 0 | N75: 50182 | O75: 250910 | P75: =M75*N75 -> 0 | Q75: 0 | R75: 0 | S75: 0 | U75: Lào Cai | W75: MIENBAC;WIN | X75: WINCOMMERCE | Y75: K-C6 | AB75: 0 | AC75: =VLOOKUP(AE75,Table1[[Ký hiệu]:[Hướng xli]],9,0) -> NCC check theo sheep data cửa hàng nhập kho điều chỉnh giảm toàn bộ HĐ cũ và xuất lại HĐ mới đúng số lượng | AD75: mục 01,02 wcm ko nhận hàng, bb không có ký nhận NCC tự làm việc với CH | AE75: 34686 | AF75: Đã điều chỉnh giảm về 0
A76: 45474 | B76: BH2407/0250 | C76: 45484 | D76: 00034686 | E76: 4160944840 (5135) | F76: WIN-072 | G76: CHI NHÁNH LÀO CAI - CÔNG TY CỔ PHẦN DỊCH VỤ THƯƠNG MẠI TỔNG HỢP WINCOMMERCE | H76: 0104918404-072 | I76: MNH250 | J76: Mọc Nấm Hương 250g | K76: Túi | L76: 5 | M76: 5 | N76: 46000 | O76: 230000 | P76: =M76*N76 -> 230000 | Q76: 0 | R76: 0 | S76: 0 | U76: Lào Cai | W76: MIENBAC;WIN | X76: WINCOMMERCE | Y76: K-C6 | AB76: 230000 | AC76: =VLOOKUP(AE76,Table1[[Ký hiệu]:[Hướng xli]],9,0) -> NCC check theo sheep data cửa hàng nhập kho điều chỉnh giảm toàn bộ HĐ cũ và xuất lại HĐ mới đúng số lượng | AD76: mục 01,02 wcm ko nhận hàng, bb không có ký nhận NCC tự làm việc với CH | AE76: 34686 | AF76: Đã điều chỉnh giảm về 0
A77: 45479 | B77: BH2407/0618 | C77: 45484 | D77: 00034944 | E77: 4161024148 | F77: win4303 | G77: CN HCM - Wincommerce | I77: GL250 | J77: Giò lụa cây 250g | K77: Túi | L77: 4 | M77: 4 | N77: 59400 | O77: 237600 | P77: =M77*N77 -> 237600 | Q77: 0 | R77: 0 | S77: 0 | T77: SG005 | U77: Hồ Chí Minh | V77: Quận Tân Phú | W77: MIENNAM;WIN | X77: WINCOMMERCE | Y77: K-HCM | AB77: 0 | AC77: =VLOOKUP(AE77,Table1[[Ký hiệu]:[Hướng xli]],9,0) -> NCC điều chỉnh giảm toàn bộ HĐ | AD77: PO chưa nhập kho -> kế toán đang gửi CH chưa nhận được phản hồi | AE77: 34944 | AF77: Đã điều chỉnh giảm về 0
A78: 45479 | B78: BH2407/0618 | C78: 45484 | D78: 00034944 | E78: 4161024148 | F78: win4303 | G78: CN HCM - Wincommerce | I78: CN300 | J78: Chả nướng 300g | K78: Túi | L78: 4 | M78: 4 | N78: 70950 | O78: 283800 | P78: =M78*N78 -> 283800 | Q78: 0 | R78: 0 | S78: 0 | T78: SG005 | U78: Hồ Chí Minh | V78: Quận Tân Phú | W78: MIENNAM;WIN | X78: WINCOMMERCE | Y78: K-HCM | AB78: 0 | AC78: =VLOOKUP(AE78,Table1[[Ký hiệu]:[Hướng xli]],9,0) -> NCC điều chỉnh giảm toàn bộ HĐ | AD78: PO chưa nhập kho -> kế toán đang gửi CH chưa nhận được phản hồi | AE78: 34944 | AF78: Đã điều chỉnh giảm về 0
A79: 45479 | B79: BH2407/0618 | C79: 45484 | D79: 00034944 | E79: 4161024148 | F79: win4303 | G79: CN HCM - Wincommerce | I79: MNH250 | J79: Mọc Nấm Hương 250g | K79: Túi | L79: 8 | M79: 8 | N79: 46000 | O79: 368000 | P79: =M79*N79 -> 368000 | Q79: 0 | R79: 0 | S79: 0 | T79: SG005 | U79: Hồ Chí Minh | V79: Quận Tân Phú | W79: MIENNAM;WIN | X79: WINCOMMERCE | Y79: K-HCM | AB79: 0 | AC79: =VLOOKUP(AE79,Table1[[Ký hiệu]:[Hướng xli]],9,0) -> NCC điều chỉnh giảm toàn bộ HĐ | AD79: PO chưa nhập kho -> kế toán đang gửi CH chưa nhận được phản hồi | AE79: 34944 | AF79: Đã điều chỉnh giảm về 0
A80: 45481 | B80: BH2407/0621 | C80: 45484 | D80: 00034947 | E80: 4161235542 | F80: win3242 | G80: CN HCM - WINCOMMERCE | I80: CGM300 | J80: Chân giò heo muối 300g | K80: Túi | L80: 6 | M80: 6 | N80: 73431 | O80: 440586 | P80: =M80*N80 -> 440586 | Q80: 0 | R80: 0 | S80: 0 | T80: SG011 | U80: Hồ Chí Minh | V80: Thành phố Thủ Đức | W80: MIENNAM;WIN | X80: WINCOMMERCE | Y80: K-HCM | AB80: 0 | AC80: =VLOOKUP(AE80,Table1[[Ký hiệu]:[Hướng xli]],9,0) -> NCC điều chỉnh giảm toàn bộ HĐ | AD80: PO chưa nhập kho -> kế toán đang gửi CH chưa nhận được phản hồi | AE80: 34947 | AF80: Đã điều chỉnh giảm về 0
A81: 45481 | B81: BH2407/0621 | C81: 45484 | D81: 00034947 | E81: 4161235542 | F81: win3242 | G81: CN HCM - WINCOMMERCE | I81: GM500 | J81: Gà muối 500g | K81: Túi | L81: 6 | M81: 6 | N81: 111058 | O81: 666348 | P81: =M81*N81 -> 666348 | Q81: 0 | R81: 0 | S81: 0 | T81: SG011 | U81: Hồ Chí Minh | V81: Thành phố Thủ Đức | W81: MIENNAM;WIN | X81: WINCOMMERCE | Y81: K-HCM | AB81: 0 | AC81: =VLOOKUP(AE81,Table1[[Ký hiệu]:[Hướng xli]],9,0) -> NCC điều chỉnh giảm toàn bộ HĐ | AD81: PO chưa nhập kho -> kế toán đang gửi CH chưa nhận được phản hồi | AE81: 34947 | AF81: Đã điều chỉnh giảm về 0
A82: 45481 | B82: BH2407/0621 | C82: 45484 | D82: 00034947 | E82: 4161235542 | F82: win3242 | G82: CN HCM - WINCOMMERCE | I82: TH200 | J82: Tai heo muối 200g | K82: Túi | L82: 4 | M82: 4 | N82: 55595 | O82: 222380 | P82: =M82*N82 -> 222380 | Q82: 0 | R82: 0 | S82: 0 | T82: SG011 | U82: Hồ Chí Minh | V82: Thành phố Thủ Đức | W82: MIENNAM;WIN | X82: WINCOMMERCE | Y82: K-HCM | AB82: 0 | AC82: =VLOOKUP(AE82,Table1[[Ký hiệu]:[Hướng xli]],9,0) -> NCC điều chỉnh giảm toàn bộ HĐ | AD82: PO chưa nhập kho -> kế toán đang gửi CH chưa nhận được phản hồi | AE82: 34947 | AF82: Đã điều chỉnh giảm về 0
A83: 45481 | B83: BH2407/0621 | C83: 45484 | D83: 00034947 | E83: 4161235542 | F83: win3242 | G83: CN HCM - WINCOMMERCE | I83: CN300 | J83: Chả nướng 300g | K83: Túi | L83: 4 | M83: 4 | N83: 70950 | O83: 283800 | P83: =M83*N83 -> 283800 | Q83: 0 | R83: 0 | S83: 0 | T83: SG011 | U83: Hồ Chí Minh | V83: Thành phố Thủ Đức | W83: MIENNAM;WIN | X83: WINCOMMERCE | Y83: K-HCM | AB83: 0 | AC83: =VLOOKUP(AE83,Table1[[Ký hiệu]:[Hướng xli]],9,0) -> NCC điều chỉnh giảm toàn bộ HĐ | AD83: PO chưa nhập kho -> kế toán đang gửi CH chưa nhận được phản hồi | AE83: 34947 | AF83: Đã điều chỉnh giảm về 0
A84: 45481 | B84: BH2407/0621 | C84: 45484 | D84: 00034947 | E84: 4161235542 | F84: win3242 | G84: CN HCM - WINCOMMERCE | I84: CC300 | J84: Chả cốm 300g | K84: Túi | L84: 6 | M84: 6 | N84: 74250 | O84: 445500 | P84: =M84*N84 -> 445500 | Q84: 0 | R84: 0 | S84: 0 | T84: SG011 | U84: Hồ Chí Minh | V84: Thành phố Thủ Đức | W84: MIENNAM;WIN | X84: WINCOMMERCE | Y84: K-HCM | AB84: 0 | AC84: =VLOOKUP(AE84,Table1[[Ký hiệu]:[Hướng xli]],9,0) -> NCC điều chỉnh giảm toàn bộ HĐ | AD84: PO chưa nhập kho -> kế toán đang gửi CH chưa nhận được phản hồi | AE84: 34947 | AF84: Đã điều chỉnh giảm về 0
A85: 45481 | B85: BH2407/0621 | C85: 45484 | D85: 00034947 | E85: 4161235542 | F85: win3242 | G85: CN HCM - WINCOMMERCE | I85: GTLX250G | J85: Giò Tai Lưỡi Xào 250g | K85: Túi | L85: 4 | M85: 4 | N85: 50182 | O85: 200728 | P85: =M85*N85 -> 200728 | Q85: 0 | R85: 0 | S85: 0 | T85: SG011 | U85: Hồ Chí Minh | V85: Thành phố Thủ Đức | W85: MIENNAM;WIN | X85: WINCOMMERCE | Y85: K-HCM | AB85: 0 | AC85: =VLOOKUP(AE85,Table1[[Ký hiệu]:[Hướng xli]],9,0) -> NCC điều chỉnh giảm toàn bộ HĐ | AD85: PO chưa nhập kho -> kế toán đang gửi CH chưa nhận được phản hồi | AE85: 34947 | AF85: Đã điều chỉnh giảm về 0
A86: 45481 | B86: BH2407/0621 | C86: 45484 | D86: 00034947 | E86: 4161235542 | F86: win3242 | G86: CN HCM - WINCOMMERCE | I86: MNH250 | J86: Mọc Nấm Hương 250g | K86: Túi | L86: 4 | M86: 4 | N86: 46000 | O86: 184000 | P86: =M86*N86 -> 184000 | Q86: 0 | R86: 0 | S86: 0 | T86: SG011 | U86: Hồ Chí Minh | V86: Thành phố Thủ Đức | W86: MIENNAM;WIN | X86: WINCOMMERCE | Y86: K-HCM | AB86: 0 | AC86: =VLOOKUP(AE86,Table1[[Ký hiệu]:[Hướng xli]],9,0) -> NCC điều chỉnh giảm toàn bộ HĐ | AD86: PO chưa nhập kho -> kế toán đang gửi CH chưa nhận được phản hồi | AE86: 34947 | AF86: Đã điều chỉnh giảm về 0
A87: 45483 | B87: BH2329019 | C87: 45485 | D87: 00035127 | E87: 4161381861(3807) | F87: WIN-023 | G87: CHI NHÁNH ĐỒNG NAI - CÔNG TY CỔ PHẦN DỊCH VỤ THƯƠNG MẠI TỔNG HỢP WINCOMMERCE | H87: 0104918404-023 | I87: GM500 | J87: Gà muối 500g | K87: Túi | L87: 4 | M87: 4 | N87: 111058 | O87: 444232 | P87: =M87*N87 -> 444232 | Q87: 0 | R87: 0 | S87: 0 | U87: Đồng Nai | W87: MIENNAM;WIN | X87: WINCOMMERCE | Y87: K-HCM | AB87: 0 | AC87: =VLOOKUP(AE87,Table1[[Ký hiệu]:[Hướng xli]],9,0) -> NCC điều chỉnh giảm toàn bộ HĐ | AD87: PO chưa nhập kho -> kế toán đang gửi CH chưa nhận được phản hồi | AE87: 35127
A88: 45483 | B88: BH2329019 | C88: 45485 | D88: 00035127 | E88: 4161381861(3807) | F88: WIN-023 | G88: CHI NHÁNH ĐỒNG NAI - CÔNG TY CỔ PHẦN DỊCH VỤ THƯƠNG MẠI TỔNG HỢP WINCOMMERCE | H88: 0104918404-023 | I88: CGM300 | J88: Chân giò heo muối 300g | K88: Túi | L88: 4 | M88: 4 | N88: 73431 | O88: 293724 | P88: =M88*N88 -> 293724 | Q88: 0 | R88: 0 | S88: 0 | U88: Đồng Nai | W88: MIENNAM;WIN | X88: WINCOMMERCE | Y88: K-HCM | AB88: 0 | AC88: =VLOOKUP(AE88,Table1[[Ký hiệu]:[Hướng xli]],9,0) -> NCC điều chỉnh giảm toàn bộ HĐ | AD88: PO chưa nhập kho -> kế toán đang gửi CH chưa nhận được phản hồi | AE88: 35127
A89: 45483 | B89: BH2329019 | C89: 45485 | D89: 00035127 | E89: 4161381861(3807) | F89: WIN-023 | G89: CHI NHÁNH ĐỒNG NAI - CÔNG TY CỔ PHẦN DỊCH VỤ THƯƠNG MẠI TỔNG HỢP WINCOMMERCE | H89: 0104918404-023 | I89: GTLX250G | J89: Giò Tai Lưỡi Xào 250g | K89: Túi | L89: 4 | M89: 4 | N89: 50182 | O89: 200728 | P89: =M89*N89 -> 200728 | Q89: 0 | R89: 0 | S89: 0 | U89: Đồng Nai | W89: MIENNAM;WIN | X89: WINCOMMERCE | Y89: K-HCM | AB89: 0 | AC89: =VLOOKUP(AE89,Table1[[Ký hiệu]:[Hướng xli]],9,0) -> NCC điều chỉnh giảm toàn bộ HĐ | AD89: PO chưa nhập kho -> kế toán đang gửi CH chưa nhận được phản hồi | AE89: 35127
A90: 45477 | B90: BH2328638 | C90: 45485 | D90: 00035137 | E90: 4161216524(5756) | F90: WIN-024 | G90: CHI NHÁNH BÌNH DƯƠNG - CÔNG TY CỔ PHẦN DỊCH VỤ THƯƠNG MẠI TỔNG HỢP WINCOMMERCE | H90: 0104918404-024 | I90: GM500 | J90: Gà muối 500g | K90: Túi | L90: 4 | M90: 4 | N90: 111058 | O90: 444232 | P90: =M90*N90 -> 444232 | Q90: 0 | R90: 0 | S90: 0 | U90: Bình Dương | W90: MIENNAM;WIN | X90: WINCOMMERCE | Y90: K-HCM | AB90: 444232 | AC90: =VLOOKUP(AE90,Table1[[Ký hiệu]:[Hướng xli]],9,0) -> NCC check theo sheep data cửa hàng nhập kho điều chỉnh giảm toàn bộ HĐ cũ và xuất lại HĐ mới đúng số lượng | AD90: mục 04 wcm ko nhận hàng, bb không có ký nhận NCC tự làm việc với CH | AE90: 35137
A91: 45477 | B91: BH2328638 | C91: 45485 | D91: 00035137 | E91: 4161216524(5756) | F91: WIN-024 | G91: CHI NHÁNH BÌNH DƯƠNG - CÔNG TY CỔ PHẦN DỊCH VỤ THƯƠNG MẠI TỔNG HỢP WINCOMMERCE | H91: 0104918404-024 | I91: CGM300 | J91: Chân giò heo muối 300g | K91: Túi | L91: 8 | M91: 8 | N91: 58745 | O91: 469960 | P91: =M91*N91 -> 469960 | Q91: 0 | R91: 0 | S91: 0 | U91: Bình Dương | W91: MIENNAM;WIN | X91: WINCOMMERCE | Y91: K-HCM | AB91: 469960 | AC91: =VLOOKUP(AE91,Table1[[Ký hiệu]:[Hướng xli]],9,0) -> NCC check theo sheep data cửa hàng nhập kho điều chỉnh giảm toàn bộ HĐ cũ và xuất lại HĐ mới đúng số lượng | AD91: mục 04 wcm ko nhận hàng, bb không có ký nhận NCC tự làm việc với CH | AE91: 35137
A92: 45477 | B92: BH2328638 | C92: 45485 | D92: 00035137 | E92: 4161216524(5756) | F92: WIN-024 | G92: CHI NHÁNH BÌNH DƯƠNG - CÔNG TY CỔ PHẦN DỊCH VỤ THƯƠNG MẠI TỔNG HỢP WINCOMMERCE | H92: 0104918404-024 | I92: TH200 | J92: Tai heo muối 200g | K92: Túi | L92: 4 | M92: 4 | N92: 55595 | O92: 222380 | P92: =M92*N92 -> 222380 | Q92: 0 | R92: 0 | S92: 0 | U92: Bình Dương | W92: MIENNAM;WIN | X92: WINCOMMERCE | Y92: K-HCM | AB92: 222380 | AC92: =VLOOKUP(AE92,Table1[[Ký hiệu]:[Hướng xli]],9,0) -> NCC check theo sheep data cửa hàng nhập kho điều chỉnh giảm toàn bộ HĐ cũ và xuất lại HĐ mới đúng số lượng | AD92: mục 04 wcm ko nhận hàng, bb không có ký nhận NCC tự làm việc với CH | AE92: 35137
A93: 45477 | B93: BH2328638 | C93: 45485 | D93: 00035137 | E93: 4161216524(5756) | F93: WIN-024 | G93: CHI NHÁNH BÌNH DƯƠNG - CÔNG TY CỔ PHẦN DỊCH VỤ THƯƠNG MẠI TỔNG HỢP WINCOMMERCE | H93: 0104918404-024 | I93: CN300 | J93: Chả nướng 300g | K93: Túi | L93: 4 | M93: 0 | N93: 70950 | O93: 283800 | P93: =M93*N93 -> 0 | Q93: 0 | R93: 0 | S93: 0 | U93: Bình Dương | W93: MIENNAM;WIN | X93: WINCOMMERCE | Y93: K-HCM | AB93: 0 | AC93: =VLOOKUP(AE93,Table1[[Ký hiệu]:[Hướng xli]],9,0) -> NCC check theo sheep data cửa hàng nhập kho điều chỉnh giảm toàn bộ HĐ cũ và xuất lại HĐ mới đúng số lượng | AD93: mục 04 wcm ko nhận hàng, bb không có ký nhận NCC tự làm việc với CH | AE93: 35137
A94: 45477 | B94: BH2328642 | C94: 45485 | D94: 00035141 | E94: 4161186571(4092) | F94: WIN-024 | G94: CHI NHÁNH BÌNH DƯƠNG - CÔNG TY CỔ PHẦN DỊCH VỤ THƯƠNG MẠI TỔNG HỢP WINCOMMERCE | H94: 0104918404-024 | I94: GM500 | J94: Gà muối 500g | K94: Túi | L94: 6 | M94: 6 | N94: 111058 | O94: 666348 | P94: =M94*N94 -> 666348 | Q94: 0 | R94: 0 | S94: 0 | U94: Bình Dương | W94: MIENNAM;WIN | X94: WINCOMMERCE | Y94: K-HCM | AB94: 666348 | AC94: =VLOOKUP(AE94,Table1[[Ký hiệu]:[Hướng xli]],9,0) -> NCC check theo sheep data cửa hàng nhập kho điều chỉnh giảm toàn bộ HĐ cũ và xuất lại HĐ mới đúng số lượng | AD94: mục 02,03,06 wcm ko nhận hàng, bb không có ký nhận NCC tự làm việc với CH | AE94: 35141
A95: 45477 | B95: BH2328642 | C95: 45485 | D95: 00035141 | E95: 4161186571(4092) | F95: WIN-024 | G95: CHI NHÁNH BÌNH DƯƠNG - CÔNG TY CỔ PHẦN DỊCH VỤ THƯƠNG MẠI TỔNG HỢP WINCOMMERCE | H95: 0104918404-024 | I95: CC300 | J95: Chả cốm 300g | K95: Túi | L95: 4 | M95: 0 | N95: 74250 | O95: 297000 | P95: =M95*N95 -> 0 | Q95: 0 | R95: 0 | S95: 0 | U95: Bình Dương | W95: MIENNAM;WIN | X95: WINCOMMERCE | Y95: K-HCM | AB95: 0 | AC95: =VLOOKUP(AE95,Table1[[Ký hiệu]:[Hướng xli]],9,0) -> NCC check theo sheep data cửa hàng nhập kho điều chỉnh giảm toàn bộ HĐ cũ và xuất lại HĐ mới đúng số lượng | AD95: mục 02,03,06 wcm ko nhận hàng, bb không có ký nhận NCC tự làm việc với CH | AE95: 35141
A96: 45477 | B96: BH2328642 | C96: 45485 | D96: 00035141 | E96: 4161186571(4092) | F96: WIN-024 | G96: CHI NHÁNH BÌNH DƯƠNG - CÔNG TY CỔ PHẦN DỊCH VỤ THƯƠNG MẠI TỔNG HỢP WINCOMMERCE | H96: 0104918404-024 | I96: CN300 | J96: Chả nướng 300g | K96: Túi | L96: 4 | M96: 0 | N96: 70950 | O96: 283800 | P96: =M96*N96 -> 0 | Q96: 0 | R96: 0 | S96: 0 | U96: Bình Dương | W96: MIENNAM;WIN | X96: WINCOMMERCE | Y96: K-HCM | AB96: 0 | AC96: =VLOOKUP(AE96,Table1[[Ký hiệu]:[Hướng xli]],9,0) -> NCC check theo sheep data cửa hàng nhập kho điều chỉnh giảm toàn bộ HĐ cũ và xuất lại HĐ mới đúng số lượng | AD96: mục 02,03,06 wcm ko nhận hàng, bb không có ký nhận NCC tự làm việc với CH | AE96: 35141
A97: 45477 | B97: BH2328642 | C97: 45485 | D97: 00035141 | E97: 4161186571(4092) | F97: WIN-024 | G97: CHI NHÁNH BÌNH DƯƠNG - CÔNG TY CỔ PHẦN DỊCH VỤ THƯƠNG MẠI TỔNG HỢP WINCOMMERCE | H97: 0104918404-024 | I97: CGM300 | J97: Chân giò heo muối 300g | K97: Túi | L97: 6 | M97: 6 | N97: 58745 | O97: 352470 | P97: =M97*N97 -> 352470 | Q97: 0 | R97: 0 | S97: 0 | U97: Bình Dương | W97: MIENNAM;WIN | X97: WINCOMMERCE | Y97: K-HCM | AB97: 352470 | AC97: =VLOOKUP(AE97,Table1[[Ký hiệu]:[Hướng xli]],9,0) -> NCC check theo sheep data cửa hàng nhập kho điều chỉnh giảm toàn bộ HĐ cũ và xuất lại HĐ mới đúng số lượng | AD97: mục 02,03,06 wcm ko nhận hàng, bb không có ký nhận NCC tự làm việc với CH | AE97: 35141
A98: 45477 | B98: BH2328642 | C98: 45485 | D98: 00035141 | E98: 4161186571(4092) | F98: WIN-024 | G98: CHI NHÁNH BÌNH DƯƠNG - CÔNG TY CỔ PHẦN DỊCH VỤ THƯƠNG MẠI TỔNG HỢP WINCOMMERCE | H98: 0104918404-024 | I98: TH200 | J98: Tai heo muối 200g | K98: Túi | L98: 4 | M98: 4 | N98: 55595 | O98: 222380 | P98: =M98*N98 -> 222380 | Q98: 0 | R98: 0 | S98: 0 | U98: Bình Dương | W98: MIENNAM;WIN | X98: WINCOMMERCE | Y98: K-HCM | AB98: 222380 | AC98: =VLOOKUP(AE98,Table1[[Ký hiệu]:[Hướng xli]],9,0) -> NCC check theo sheep data cửa hàng nhập kho điều chỉnh giảm toàn bộ HĐ cũ và xuất lại HĐ mới đúng số lượng | AD98: mục 02,03,06 wcm ko nhận hàng, bb không có ký nhận NCC tự làm việc với CH | AE98: 35141
... A103: 45479 | B103: BH2328847 | C103: 45485 | D103: 00035148 | E103: 4161196508(2AG1) | F103: WIN-024 | G103: CHI NHÁNH BÌNH DƯƠNG - CÔNG TY CỔ PHẦN DỊCH VỤ THƯƠNG MẠI TỔNG HỢP WINCOMMERCE | H103: 0104918404-024 | I103: GSG250 | J103: Giò sụn gà 250g | K103: Túi | L103: 4 | M103: 0 | N103: 61050 | O103: 244200 | P103: =M103*N103 -> 0 | Q103: 0 | R103: 0 | S103: 0 | U103: Bình Dương | W103: MIENNAM;WIN | X103: WINCOMMERCE | Y103: K-HCM | AB103: 0 | AC103: =VLOOKUP(AE103,Table1[[Ký hiệu]:[Hướng xli]],9,0) -> NCC check theo sheep data cửa hàng nhập kho điều chỉnh giảm toàn bộ HĐ cũ và xuất lại HĐ mới đúng số lượng | AD103: mục 03,04 wcm ko nhận hàng, bb không có ký nhận NCC tự làm việc với CH | AE103: 35148
A104: 45479 | B104: BH2407/0977 | C104: 45491 | D104: 00035623 | E104: 4161284222 | F104: WIN5054 | G104: CN HÀ NỘI - CÔNG TY CỔ PHẦN DỊCH VỤ THƯƠNG MẠI TỔNG HỢP WINCOMMERCE | I104: CGM300 | J104: Chân giò heo muối 300g | K104: Túi | L104: 10 | M104: 10 | N104: 73431 | O104: 734310 | P104: =M104*N104 -> 734310 | Q104: 0 | R104: 0 | S104: 0 | T104: HN004 | U104: Hà Nội | V104: Quận Nam Từ Liêm | W104: MIENBAC;WIN | X104: WINCOMMERCE | Y104: K-C6 | AB104: 0 | AC104: =VLOOKUP(AE104,Table1[[Ký hiệu]:[Hướng xli]],9,0) -> NCC điều chỉnh giảm toàn bộ HĐ | AD104: PO chưa nhập kho -> kế toán đang gửi CH chưa nhận được phản hồi | AE104: 35623
...

Sheet Báo cáo Hương
A1: Ngày hạch toán | B1: Số chứng từ | C1: Ngày hóa đơn | D1: Số hóa đơn | E1: Diễn giải chung | F1: Mã khách hàng | G1: Tên khách hàng | H1: Mã số thuế | I1: Mã hàng | J1: Tên hàng | K1: ĐVT | L1: Tổng số lượng bán | M1: SL DC | N1: Đơn giá | O1: Doanh số bán LÚC ĐẦU | P1: DOANH SỐ BÁN SAU KHI ĐIỀU CHỈNH CHƯA TRỪ CÁC TỜ CHƯA XÁC NHẬN | Q1: Chiết khấu | R1: Số lượng trả lại | S1: Giá trị trả lại | T1: Mã nhân viên bán hàng | U1: Tỉnh/Thành phố | V1: Quận/Huyện | W1: Mã nhóm khách hàng | X1: Mã thống kê | Y1: Mã kho | Z1: Địa điểm giao hàng | AA1: Thông tin người liên hệ | AC1: DOANH SỐ BÁN SAU KHI ĐIỀU CHỈNH CÓ ĐÃ TRỪ CÁC TỜ CHƯA XÁC NHẬN | AF1: Số hóa đơn 2024 | AG1: Hướng xử lý NCC | AH1: Số hóa đơn điều chỉnh giảm về 0 | AI1: số hóa đơn xuất mới | AJ1: Hóa đơn thay thế do xuất sai giá | AK1: Hóa đơn điều chỉnh giảm về 0 do cửa hàng không nhập kho
A2: 45450 | B2: BH2406/00258 | C2: 45456 | D2: 00028825 | E2: 4160177182 | F2: win4146 | G2: CN HCM - wincommerce | I2: CGM300 | J2: Chân giò heo muối 300g | K2: Túi | L2: 3 | M2: 3 | N2: 73431 | O2: 220293 | P2: =M2*N2 -> 220293 | Q2: 0 | R2: 0 | S2: 0 | T2: SG004 | U2: Hồ Chí Minh | V2: Quận 8 | W2: MIENNAM;WIN | X2: WINCOMMERCE | Y2: K-HCM | AB2: =ROUND(O2*8%,0)+O2 -> 237916 | AC2: 220293 | AD2: =VLOOKUP(AF2,Table1[[Ký hiệu]:[Hướng xli]],9,0) -> NCC check theo sheep data cửa hàng nhập kho điều chỉnh giảm toàn bộ HĐ cũ và xuất lại HĐ mới đúng số lượng | AE2: mục 03,05,07 wcm ko nhận hàng, mục 06 chỉ nhận 03 | AF2: 28825 | AG2: Đã điều chỉnh giảm về 0 xuất lại theo thực nhận | AH2: 00001689 | AI2: 00060714
A3: 45450 | B3: BH2406/00258 | C3: 45456 | D3: 00028825 | E3: 4160177182 | F3: win4146 | G3: CN HCM - wincommerce | I3: GM500 | J3: Gà muối 500g | K3: Túi | L3: 3 | M3: 3 | N3: 111058 | O3: 333174 | P3: =M3*N3 -> 333174 | Q3: 0 | R3: 0 | S3: 0 | T3: SG004 | U3: Hồ Chí Minh | V3: Quận 8 | W3: MIENNAM;WIN | X3: WINCOMMERCE | Y3: K-HCM | AB3: =ROUND(O3*8%,0)+O3 -> 359828 | AC3: 333174 | AD3: =VLOOKUP(AF3,Table1[[Ký hiệu]:[Hướng xli]],9,0) -> NCC check theo sheep data cửa hàng nhập kho điều chỉnh giảm toàn bộ HĐ cũ và xuất lại HĐ mới đúng số lượng | AE3: mục 03,05,07 wcm ko nhận hàng, mục 06 chỉ nhận 03 | AF3: 28825 | AG3: Đã điều chỉnh giảm về 0 | AH3: 00001689 | AI3: 00060714
A4: 45450 | B4: BH2406/00258 | C4: 45456 | D4: 00028825 | E4: 4160177182 | F4: win4146 | G4: CN HCM - wincommerce | I4: TH200 | J4: Tai heo muối 200g | K4: Túi | L4: 3 | M4: 0 | N4: 55595 | O4: 166785 | P4: =M4*N4 -> 0 | Q4: 0 | R4: 0 | S4: 0 | T4: SG004 | U4: Hồ Chí Minh | V4: Quận 8 | W4: MIENNAM;WIN | X4: WINCOMMERCE | Y4: K-HCM | AB4: =ROUND(O4*8%,0)+O4 -> 180128 | AC4: 0 | AD4: =VLOOKUP(AF4,Table1[[Ký hiệu]:[Hướng xli]],9,0) -> NCC check theo sheep data cửa hàng nhập kho điều chỉnh giảm toàn bộ HĐ cũ và xuất lại HĐ mới đúng số lượng | AE4: mục 03,05,07 wcm ko nhận hàng, mục 06 chỉ nhận 03 | AF4: 28825 | AG4: Đã điều chỉnh giảm về 0 | AH4: 00001689 | AI4: 00060714
A5: 45450 | B5: BH2406/00258 | C5: 45456 | D5: 00028825 | E5: 4160177182 | F5: win4146 | G5: CN HCM - wincommerce | I5: GL250 | J5: Giò lụa cây 250g | K5: Túi | L5: 3 | M5: 3 | N5: 44550 | O5: 133650 | P5: =M5*N5 -> 133650 | Q5: 0 | R5: 0 | S5: 0 | T5: SG004 | U5: Hồ Chí Minh | V5: Quận 8 | W5: MIENNAM;WIN | X5: WINCOMMERCE | Y5: K-HCM | AB5: =ROUND(O5*8%,0)+O5 -> 144342 | AC5: 133650 | AD5: =VLOOKUP(AF5,Table1[[Ký hiệu]:[Hướng xli]],9,0) -> NCC check theo sheep data cửa hàng nhập kho điều chỉnh giảm toàn bộ HĐ cũ và xuất lại HĐ mới đúng số lượng | AE5: mục 03,05,07 wcm ko nhận hàng, mục 06 chỉ nhận 03 | AF5: 28825 | AG5: Đã điều chỉnh giảm về 0 | AH5: 00001689 | AI5: 00060714
A6: 45450 | B6: BH2406/00258 | C6: 45456 | D6: 00028825 | E6: 4160177182 | F6: win4146 | G6: CN HCM - wincommerce | I6: CN300 | J6: Chả nướng 300g | K6: Túi | L6: 3 | M6: 0 | N6: 70950 | O6: 212850 | P6: =M6*N6 -> 0 | Q6: 0 | R6: 0 | S6: 0 | T6: SG004 | U6: Hồ Chí Minh | V6: Quận 8 | W6: MIENNAM;WIN | X6: WINCOMMERCE | Y6: K-HCM | AB6: =ROUND(O6*8%,0)+O6 -> 229878 | AC6: 0 | AD6: =VLOOKUP(AF6,Table1[[Ký hiệu]:[Hướng xli]],9,0) -> NCC check theo sheep data cửa hàng nhập kho điều chỉnh giảm toàn bộ HĐ cũ và xuất lại HĐ mới đúng số lượng | AE6: mục 03,05,07 wcm ko nhận hàng, mục 06 chỉ nhận 03 | AF6: 28825 | AG6: Đã điều chỉnh giảm về 0 | AH6: 00001689 | AI6: 00060714
A7: 45450 | B7: BH2406/00258 | C7: 45456 | D7: 00028825 | E7: 4160177182 | F7: win4146 | G7: CN HCM - wincommerce | I7: CC300 | J7: Chả cốm 300g | K7: Túi | L7: 6 | M7: 3 | N7: 59400 | O7: 356400 | P7: =M7*N7 -> 178200 | Q7: 0 | R7: 0 | S7: 0 | T7: SG004 | U7: Hồ Chí Minh | V7: Quận 8 | W7: MIENNAM;WIN | X7: WINCOMMERCE | Y7: K-HCM | AB7: =ROUND(O7*8%,0)+O7 -> 384912 | AC7: 178200 | AD7: =VLOOKUP(AF7,Table1[[Ký hiệu]:[Hướng xli]],9,0) -> NCC check theo sheep data cửa hàng nhập kho điều chỉnh giảm toàn bộ HĐ cũ và xuất lại HĐ mới đúng số lượng | AE7: mục 03,05,07 wcm ko nhận hàng, mục 06 chỉ nhận 03 | AF7: 28825 | AG7: Đã điều chỉnh giảm về 0 | AH7: 00001689 | AI7: 00060714
A8: 45450 | B8: BH2406/00258 | C8: 45456 | D8: 00028825 | E8: 4160177182 | F8: win4146 | G8: CN HCM - wincommerce | I8: GTLX250G | J8: Giò Tai Lưỡi Xào 250g | K8: Túi | L8: 3 | M8: 0 | N8: 50182 | O8: 150546 | P8: =M8*N8 -> 0 | Q8: 0 | R8: 0 | S8: 0 | T8: SG004 | U8: Hồ Chí Minh | V8: Quận 8 | W8: MIENNAM;WIN | X8: WINCOMMERCE | Y8: K-HCM | AB8: =ROUND(O8*8%,0)+O8 -> 162590 | AC8: 0 | AD8: =VLOOKUP(AF8,Table1[[Ký hiệu]:[Hướng xli]],9,0) -> NCC check theo sheep data cửa hàng nhập kho điều chỉnh giảm toàn bộ HĐ cũ và xuất lại HĐ mới đúng số lượng | AE8: mục 03,05,07 wcm ko nhận hàng, mục 06 chỉ nhận 03 | AF8: 28825 | AG8: Đã điều chỉnh giảm về 0 | AH8: 00001689 | AI8: 00060714
A9: 45450 | B9: BH2406/00258 | C9: 45456 | D9: 00028825 | E9: 4160177182 | F9: win4146 | G9: CN HCM - wincommerce | I9: MNH250 | J9: Mọc Nấm Hương 250g | K9: Túi | L9: 3 | M9: 3 | N9: 37720 | O9: 113160 | P9: =M9*N9 -> 113160 | Q9: 0 | R9: 0 | S9: 0 | T9: SG004 | U9: Hồ Chí Minh | V9: Quận 8 | W9: MIENNAM;WIN | X9: WINCOMMERCE | Y9: K-HCM | AB9: =ROUND(O9*8%,0)+O9 -> 122213 | AC9: 113160 | AD9: =VLOOKUP(AF9,Table1[[Ký hiệu]:[Hướng xli]],9,0) -> NCC check theo sheep data cửa hàng nhập kho điều chỉnh giảm toàn bộ HĐ cũ và xuất lại HĐ mới đúng số lượng | AE9: mục 03,05,07 wcm ko nhận hàng, mục 06 chỉ nhận 03 | AF9: 28825 | AG9: Đã điều chỉnh giảm về 0 | AH9: 00001689 | AI9: 00060714
A10: 45474 | B10: BH2406/03543 | C10: 45477 | D10: 00032409 | E10: 4160781730 | F10: win6634 | G10: CN HÀ NỘI - wincommerce | I10: CGM300 | J10: Chân giò heo muối 300g | K10: Túi | L10: 5 | M10: 5 | N10: 58745 | O10: 293725 | P10: =M10*N10 -> 293725 | Q10: 0 | R10: 0 | S10: 0 | T10: HN004 | U10: Hà Nội | V10: Quận Hà Đông | W10: MIENBAC;WIN | X10: WINCOMMERCE | Y10: K-C6 | AB10: =ROUND(O10*8%,0)+O10 -> 317223 | AC10: 0 | AD10: =VLOOKUP(AF10,Table1[[Ký hiệu]:[Hướng xli]],9,0) -> NCC điều chỉnh giảm toàn bộ HĐ | AE10: PO chưa nhập kho -> kế toán đang gửi CH chưa nhận được phản hồi | AF10: 32409 | AG10: TÌM VÀ CUNG CẤP LẠI CHO WIN CHỨNG TỪ ĐÃ GIAO
A11: 45474 | B11: BH2406/03543 | C11: 45477 | D11: 00032409 | E11: 4160781730 | F11: win6634 | G11: CN HÀ NỘI - wincommerce | I11: GM500 | J11: Gà muối 500g | K11: Túi | L11: 10 | M11: 10 | N11: 111058 | O11: 1110580 | P11: =M11*N11 -> 1110580 | Q11: 0 | R11: 0 | S11: 0 | T11: HN004 | U11: Hà Nội | V11: Quận Hà Đông | W11: MIENBAC;WIN | X11: WINCOMMERCE | Y11: K-C6 | AB11: =ROUND(O11*8%,0)+O11 -> 1199426 | AC11: 0 | AD11: =VLOOKUP(AF11,Table1[[Ký hiệu]:[Hướng xli]],9,0) -> NCC điều chỉnh giảm toàn bộ HĐ | AE11: PO chưa nhập kho -> kế toán đang gửi CH chưa nhận được phản hồi | AF11: 32409 | AG11: TÌM VÀ CUNG CẤP LẠI CHO WIN CHỨNG TỪ ĐÃ GIAO
A12: 45474 | B12: BH2406/03543 | C12: 45477 | D12: 00032409 | E12: 4160781730 | F12: win6634 | G12: CN HÀ NỘI - wincommerce | I12: MNH250 | J12: Mọc Nấm Hương 250g | K12: Túi | L12: 3 | M12: 3 | N12: 37720 | O12: 113160 | P12: =M12*N12 -> 113160 | Q12: 0 | R12: 0 | S12: 0 | T12: HN004 | U12: Hà Nội | V12: Quận Hà Đông | W12: MIENBAC;WIN | X12: WINCOMMERCE | Y12: K-C6 | AB12: =ROUND(O12*8%,0)+O12 -> 122213 | AC12: 0 | AD12: =VLOOKUP(AF12,Table1[[Ký hiệu]:[Hướng xli]],9,0) -> NCC điều chỉnh giảm toàn bộ HĐ | AE12: PO chưa nhập kho -> kế toán đang gửi CH chưa nhận được phản hồi | AF12: 32409 | AG12: TÌM VÀ CUNG CẤP LẠI CHO WIN CHỨNG TỪ ĐÃ GIAO
A13: 45474 | B13: BH2406/03808 | C13: 45477 | D13: 00032471 | E13: 4160864944 | F13: win5509 | G13: CN HÀ NỘI - wincommerce | I13: CGM300 | J13: Chân giò heo muối 300g | K13: Túi | L13: 5 | M13: 5 | N13: 58745 | O13: 293725 | P13: =M13*N13 -> 293725 | Q13: 0 | R13: 0 | S13: 0 | T13: HN004 | U13: Hà Nội | V13: Huyện Hoài Đức | W13: MIENBAC;WIN | X13: WINCOMMERCE | AB13: =ROUND(O13*8%,0)+O13 -> 317223 | AC13: 293725 | AD13: =VLOOKUP(AF13,Table1[[Ký hiệu]:[Hướng xli]],9,0) -> NCC check theo sheep data cửa hàng nhập kho điều chỉnh giảm toàn bộ HĐ cũ và xuất lại HĐ mới đúng số lượng | AE13: mục 02 wcm ko nhận hàng, bb không có ký nhận NCC tự làm việc với CH | AF13: 32471 | AG13: Đã điều chỉnh giảm về 0 | AH13: 00001690 | AI13: 00060747
A14: 45474 | B14: BH2406/03808 | C14: 45477 | D14: 00032471 | E14: 4160864944 | F14: win5509 | G14: CN HÀ NỘI - wincommerce | I14: GM500 | J14: Gà muối 500g | K14: Túi | L14: 3 | M14: 0 | N14: 111058 | O14: 333174 | P14: =M14*N14 -> 0 | Q14: 0 | R14: 0 | S14: 0 | T14: HN004 | U14: Hà Nội | V14: Huyện Hoài Đức | W14: MIENBAC;WIN | X14: WINCOMMERCE | AB14: =ROUND(O14*8%,0)+O14 -> 359828 | AC14: 0 | AD14: =VLOOKUP(AF14,Table1[[Ký hiệu]:[Hướng xli]],9,0) -> NCC check theo sheep data cửa hàng nhập kho điều chỉnh giảm toàn bộ HĐ cũ và xuất lại HĐ mới đúng số lượng | AE14: mục 02 wcm ko nhận hàng, bb không có ký nhận NCC tự làm việc với CH | AF14: 32471 | AG14: Đã điều chỉnh giảm về 0 | AH14: 00001690 | AI14: 00060747
A15: 45474 | B15: BH2406/03808 | C15: 45477 | D15: 00032471 | E15: 4160864944 | F15: win5509 | G15: CN HÀ NỘI - wincommerce | I15: MNH250 | J15: Mọc Nấm Hương 250g | K15: Túi | L15: 5 | M15: 5 | N15: 46000 | O15: 230000 | P15: =M15*N15 -> 230000 | Q15: 0 | R15: 0 | S15: 0 | T15: HN004 | U15: Hà Nội | V15: Huyện Hoài Đức | W15: MIENBAC;WIN | X15: WINCOMMERCE | AB15: =ROUND(O15*8%,0)+O15 -> 248400 | AC15: 230000 | AD15: =VLOOKUP(AF15,Table1[[Ký hiệu]:[Hướng xli]],9,0) -> NCC check theo sheep data cửa hàng nhập kho điều chỉnh giảm toàn bộ HĐ cũ và xuất lại HĐ mới đúng số lượng | AE15: mục 02 wcm ko nhận hàng, bb không có ký nhận NCC tự làm việc với CH | AF15: 32471 | AG15: Đã điều chỉnh giảm về 0 | AH15: 00001690 | AI15: 00060747
A16: 45474 | B16: BH2406/03808 | C16: 45477 | D16: 00032471 | E16: 4160864944 | F16: win5509 | G16: CN HÀ NỘI - wincommerce | I16: TH200 | J16: Tai heo muối 200g | K16: Túi | L16: 3 | M16: 3 | N16: 44476 | O16: 133428 | P16: =M16*N16 -> 133428 | Q16: 0 | R16: 0 | S16: 0 | T16: HN004 | U16: Hà Nội | V16: Huyện Hoài Đức | W16: MIENBAC;WIN | X16: WINCOMMERCE | AB16: =ROUND(O16*8%,0)+O16 -> 144102 | AC16: 133428 | AD16: =VLOOKUP(AF16,Table1[[Ký hiệu]:[Hướng xli]],9,0) -> NCC check theo sheep data cửa hàng nhập kho điều chỉnh giảm toàn bộ HĐ cũ và xuất lại HĐ mới đúng số lượng | AE16: mục 02 wcm ko nhận hàng, bb không có ký nhận NCC tự làm việc với CH | AF16: 32471 | AG16: Đã điều chỉnh giảm về 0 | AH16: 00001690 | AI16: 00060747
A17: 45474 | B17: BH2406/03808 | C17: 45477 | D17: 00032471 | E17: 4160864944 | F17: win5509 | G17: CN HÀ NỘI - wincommerce | I17: GL250 | J17: Giò lụa cây 250g | K17: Túi | L17: 3 | M17: 3 | N17: 59400 | O17: 178200 | P17: =M17*N17 -> 178200 | Q17: 0 | R17: 0 | S17: 0 | T17: HN004 | U17: Hà Nội | V17: Huyện Hoài Đức | W17: MIENBAC;WIN | X17: WINCOMMERCE | AB17: =ROUND(O17*8%,0)+O17 -> 192456 | AC17: 178200 | AD17: =VLOOKUP(AF17,Table1[[Ký hiệu]:[Hướng xli]],9,0) -> NCC check theo sheep data cửa hàng nhập kho điều chỉnh giảm toàn bộ HĐ cũ và xuất lại HĐ mới đúng số lượng | AE17: mục 02 wcm ko nhận hàng, bb không có ký nhận NCC tự làm việc với CH | AF17: 32471 | AG17: Đã điều chỉnh giảm về 0 | AH17: 00001690 | AI17: 00060747
A18: 45474 | B18: BH2406/03808 | C18: 45477 | D18: 00032471 | E18: 4160864944 | F18: win5509 | G18: CN HÀ NỘI - wincommerce | I18: GSG250 | J18: Giò sụn gà 250g | K18: Túi | L18: 3 | M18: 3 | N18: 61050 | O18: 183150 | P18: =M18*N18 -> 183150 | Q18: 0 | R18: 0 | S18: 0 | T18: HN004 | U18: Hà Nội | V18: Huyện Hoài Đức | W18: MIENBAC;WIN | X18: WINCOMMERCE | AB18: =ROUND(O18*8%,0)+O18 -> 197802 | AC18: 183150 | AD18: =VLOOKUP(AF18,Table1[[Ký hiệu]:[Hướng xli]],9,0) -> NCC check theo sheep data cửa hàng nhập kho điều chỉnh giảm toàn bộ HĐ cũ và xuất lại HĐ mới đúng số lượng | AE18: mục 02 wcm ko nhận hàng, bb không có ký nhận NCC tự làm việc với CH | AF18: 32471 | AG18: Đã điều chỉnh giảm về 0 | AH18: 00001690 | AI18: 00060747
A19: 45474 | B19: BH2406/03417 | C19: 45477 | D19: 00032503 | E19: 4160833945 | F19: WIN4967 | G19: CN HÀ NỘI - CÔNG TY CỔ PHẦN DỊCH VỤ THƯƠNG MẠI TỔNG HỢP WINCOMMERCE | I19: CGM300 | J19: Chân giò heo muối 300g | K19: Túi | L19: 15 | M19: 15 | N19: 58745 | O19: 881175 | P19: =M19*N19 -> 881175 | Q19: 0 | R19: 0 | S19: 0 | T19: HN004 | U19: Hà Nội | V19: Quận Thanh Xuân | W19: MIENBAC;WIN | X19: WINCOMMERCE | Y19: K-C6 | AB19: =ROUND(O19*8%,0)+O19 -> 951669 | AC19: 881175 | AD19: =VLOOKUP(AF19,Table1[[Ký hiệu]:[Hướng xli]],9,0) -> NCC check theo sheep data cửa hàng nhập kho điều chỉnh giảm toàn bộ HĐ cũ và xuất lại HĐ mới đúng số lượng | AE19: mục 02 wcm ko nhận hàng, bb không có ký nhận NCC tự làm việc với CH | AF19: 32503 | AG19: Đã điều chỉnh giảm về 0 | AH19: 00001691 | AI19: 00060730 | AJ19: 00061610
A20: 45474 | B20: BH2406/03417 | C20: 45477 | D20: 00032503 | E20: 4160833945 | F20: WIN4967 | G20: CN HÀ NỘI - CÔNG TY CỔ PHẦN DỊCH VỤ THƯƠNG MẠI TỔNG HỢP WINCOMMERCE | I20: MNH250 | J20: Mọc Nấm Hương 250g | K20: Túi | L20: 5 | M20: 5 | N20: 46000 | O20: 230000 | P20: =M20*N20 -> 230000 | Q20: 0 | R20: 0 | S20: 0 | T20: HN004 | U20: Hà Nội | V20: Quận Thanh Xuân | W20: MIENBAC;WIN | X20: WINCOMMERCE | AB20: =ROUND(O20*8%,0)+O20 -> 248400 | AC20: 230000 | AD20: =VLOOKUP(AF20,Table1[[Ký hiệu]:[Hướng xli]],9,0) -> NCC check theo sheep data cửa hàng nhập kho điều chỉnh giảm toàn bộ HĐ cũ và xuất lại HĐ mới đúng số lượng | AE20: mục 02 wcm ko nhận hàng, bb không có ký nhận NCC tự làm việc với CH | AF20: 32503 | AG20: Đã điều chỉnh giảm về 0 | AH20: 00001691 | AI20: 00060730 | AJ20: 00061610
A21: 45474 | B21: BH2406/03482 | C21: 45477 | D21: 00032551 | E21: 4160822589 | F21: win4360 | G21: CN HÀ NỘI - wincommerce | I21: CGM300 | J21: Chân giò heo muối 300g | K21: Túi | L21: 6 | M21: 4 | N21: 58745 | O21: 352470 | P21: =M21*N21 -> 234980 | Q21: 0 | R21: 0 | S21: 0 | T21: HN003 | U21: Hà Nội | V21: Huyện Mê Linh | W21: MIENBAC;WIN | X21: WINCOMMERCE | Y21: K-C6 | AB21: =ROUND(O21*8%,0)+O21 -> 380668 | AC21: 234980 | AD21: =VLOOKUP(AF21,Table1[[Ký hiệu]:[Hướng xli]],9,0) -> NCC check theo sheep data cửa hàng nhập kho điều chỉnh giảm toàn bộ HĐ cũ và xuất lại HĐ mới đúng số lượng | AE21: mục 01,02 chỉ nhập 04,06 biên bản không ký nhận ncc tự làm việc với CH | AF21: 32551 | AG21: Đã điều chỉnh giảm về 0 | AH21: 00001692 | AI21: 00060731
A22: 45474 | B22: BH2406/03482 | C22: 45477 | D22: 00032551 | E22: 4160822589 | F22: win4360 | G22: CN HÀ NỘI - wincommerce | I22: GM500 | J22: Gà muối 500g | K22: Túi | L22: 7 | M22: 6 | N22: 111058 | O22: 777406 | P22: =M22*N22 -> 666348 | Q22: 0 | R22: 0 | S22: 0 | T22: HN003 | U22: Hà Nội | V22: Huyện Mê Linh | W22: MIENBAC;WIN | X22: WINCOMMERCE | Y22: K-C6 | AB22: =ROUND(O22*8%,0)+O22 -> 839598 | AC22: 666348 | AD22: =VLOOKUP(AF22,Table1[[Ký hiệu]:[Hướng xli]],9,0) -> NCC check theo sheep data cửa hàng nhập kho điều chỉnh giảm toàn bộ HĐ cũ và xuất lại HĐ mới đúng số lượng | AE22: mục 01,02 chỉ nhập 04,06 biên bản không ký nhận ncc tự làm việc với CH | AF22: 32551 | AG22: Đã điều chỉnh giảm về 0 | AH22: 00001692 | AI22: 00060731
A23: 45474 | B23: BH2406/03589 | C23: 45477 | D23: 00032714 | E23: 4160914201 | F23: win6738 | G23: CN HÀ NỘI - wincommerce | I23: CGM300 | J23: Chân giò heo muối 300g | K23: Túi | L23: 5 | M23: 5 | N23: 58745 | O23: 293725 | P23: =M23*N23 -> 293725 | Q23: 0 | R23: 0 | S23: 0 | T23: HN004 | U23: Hà Nội | V23: Quận Bắc Từ Liêm | W23: MIENBAC;WIN | X23: WINCOMMERCE | Y23: K-C6 | AB23: =ROUND(O23*8%,0)+O23 -> 317223 | AC23: 0 | AD23: =VLOOKUP(AF23,Table1[[Ký hiệu]:[Hướng xli]],9,0) -> NCC điều chỉnh giảm toàn bộ HĐ | AE23: PO chưa nhập kho -> kế toán đang gửi CH chưa nhận được phản hồi | AF23: 32714 | AG23: TÌM VÀ CUNG CẤP LẠI CHO WIN CHỨNG TỪ ĐÃ GIAO
A24: 45474 | B24: BH2406/03589 | C24: 45477 | D24: 00032714 | E24: 4160914201 | F24: win6738 | G24: CN HÀ NỘI - wincommerce | I24: GM500 | J24: Gà muối 500g | K24: Túi | L24: 10 | M24: 10 | N24: 111058 | O24: 1110580 | P24: =M24*N24 -> 1110580 | Q24: 0 | R24: 0 | S24: 0 | T24: HN004 | U24: Hà Nội | V24: Quận Bắc Từ Liêm | W24: MIENBAC;WIN | X24: WINCOMMERCE | Y24: K-C6 | AB24: =ROUND(O24*8%,0)+O24 -> 1199426 | AC24: 0 | AD24: =VLOOKUP(AF24,Table1[[Ký hiệu]:[Hướng xli]],9,0) -> NCC điều chỉnh giảm toàn bộ HĐ | AE24: PO chưa nhập kho -> kế toán đang gửi CH chưa nhận được phản hồi | AF24: 32714 | AG24: TÌM VÀ CUNG CẤP LẠI CHO WIN CHỨNG TỪ ĐÃ GIAO
A25: 45474 | B25: BH2406/03589 | C25: 45477 | D25: 00032714 | E25: 4160914201 | F25: win6738 | G25: CN HÀ NỘI - wincommerce | I25: CN300 | J25: Chả nướng 300g | K25: Túi | L25: 3 | M25: 3 | N25: 70950 | O25: 212850 | P25: =M25*N25 -> 212850 | Q25: 0 | R25: 0 | S25: 0 | T25: HN004 | U25: Hà Nội | V25: Quận Bắc Từ Liêm | W25: MIENBAC;WIN | X25: WINCOMMERCE | Y25: K-C6 | AB25: =ROUND(O25*8%,0)+O25 -> 229878 | AC25: 0 | AD25: =VLOOKUP(AF25,Table1[[Ký hiệu]:[Hướng xli]],9,0) -> NCC điều chỉnh giảm toàn bộ HĐ | AE25: PO chưa nhập kho -> kế toán đang gửi CH chưa nhận được phản hồi | AF25: 32714 | AG25: TÌM VÀ CUNG CẤP LẠI CHO WIN CHỨNG TỪ ĐÃ GIAO
A26: 45474 | B26: BH2406/03601 | C26: 45477 | D26: 00032723 | E26: 4160866190 | F26: WIN3168 | G26: CN HÀ NỘI - CÔNG TY CỔ PHẦN DỊCH VỤ THƯƠNG MẠI TỔNG HỢP WINCOMMERCE | I26: GM500 | J26: Gà muối 500g | K26: Túi | L26: 5 | M26: 5 | N26: 111058 | O26: 555290 | P26: =M26*N26 -> 555290 | Q26: 0 | R26: 0 | S26: 0 | T26: HN004 | U26: Hà Nội | V26: Quận Nam Từ Liêm | W26: MIENBAC;WIN | X26: WINCOMMERCE | Y26: K-C6 | AB26: =ROUND(O26*8%,0)+O26 -> 599713 | AC26: 555290 | AD26: =VLOOKUP(AF26,Table1[[Ký hiệu]:[Hướng xli]],9,0) -> NCC check theo sheep data cửa hàng nhập kho điều chỉnh giảm toàn bộ HĐ cũ và xuất lại HĐ mới đúng số lượng | AE26: mục 03 wcm ko nhận hàng, bb không có ký nhận NCC tự làm việc với CH | AF26: 32723 | AG26: Đã điều chỉnh giảm về 0 | AH26: 00001693 | AI26: 00060732
A27: 45474 | B27: BH2406/03601 | C27: 45477 | D27: 00032723 | E27: 4160866190 | F27: WIN3168 | G27: CN HÀ NỘI - CÔNG TY CỔ PHẦN DỊCH VỤ THƯƠNG MẠI TỔNG HỢP WINCOMMERCE | I27: CGM300 | J27: Chân giò heo muối 300g | K27: Túi | L27: 10 | M27: 10 | N27: 58745 | O27: 587450 | P27: =M27*N27 -> 587450 | Q27: 0 | R27: 0 | S27: 0 | T27: HN004 | U27: Hà Nội | V27: Quận Nam Từ Liêm | W27: MIENBAC;WIN | X27: WINCOMMERCE | Y27: K-C6 | AB27: =ROUND(O27*8%,0)+O27 -> 634446 | AC27: 587450 | AD27: =VLOOKUP(AF27,Table1[[Ký hiệu]:[Hướng xli]],9,0) -> NCC check theo sheep data cửa hàng nhập kho điều chỉnh giảm toàn bộ HĐ cũ và xuất lại HĐ mới đúng số lượng | AE27: mục 03 wcm ko nhận hàng, bb không có ký nhận NCC tự làm việc với CH | AF27: 32723 | AG27: Đã điều chỉnh giảm về 0 | AH27: 00001693 | AI27: 00060732
A28: 45474 | B28: BH2406/03601 | C28: 45477 | D28: 00032723 | E28: 4160866190 | F28: WIN3168 | G28: CN HÀ NỘI - CÔNG TY CỔ PHẦN DỊCH VỤ THƯƠNG MẠI TỔNG HỢP WINCOMMERCE | I28: MNH250 | J28: Mọc Nấm Hương 250g | K28: Túi | L28: 5 | M28: 0 | N28: 46000 | O28: 230000 | P28: =M28*N28 -> 0 | Q28: 0 | R28: 0 | S28: 0 | T28: HN004 | U28: Hà Nội | V28: Quận Nam Từ Liêm | W28: MIENBAC;WIN | X28: WINCOMMERCE | AB28: =ROUND(O28*8%,0)+O28 -> 248400 | AC28: 0 | AD28: =VLOOKUP(AF28,Table1[[Ký hiệu]:[Hướng xli]],9,0) -> NCC check theo sheep data cửa hàng nhập kho điều chỉnh giảm toàn bộ HĐ cũ và xuất lại HĐ mới đúng số lượng | AE28: mục 03 wcm ko nhận hàng, bb không có ký nhận NCC tự làm việc với CH | AF28: 32723 | AG28: Đã điều chỉnh giảm về 0 | AH28: 00001693 | AI28: 00060732
A29: 45474 | B29: BH2406/03640 | C29: 45477 | D29: 00032754 | E29: 4161006279 | F29: win3291 | G29: CN HÀ NỘI - wincommerce | I29: CN300 | J29: Chả nướng 300g | K29: Túi | L29: 5 | M29: 3 | N29: 70950 | O29: 354750 | P29: =M29*N29 -> 212850 | Q29: 0 | R29: 0 | S29: 0 | T29: HN003 | U29: Hà Nội | V29: Huyện Thanh Trì | W29: MIENBAC;WIN | X29: WINCOMMERCE | Y29: K-C6 | AB29: =ROUND(O29*8%,0)+O29 -> 383130 | AC29: 212850 | AD29: =VLOOKUP(AF29,Table1[[Ký hiệu]:[Hướng xli]],9,0) -> NCC check theo sheep data cửa hàng nhập kho điều chỉnh giảm toàn bộ HĐ cũ và xuất lại HĐ mới đúng số lượng | AE29: mục 01,02,03 chỉ nhập 03 biên bản không ký nhận ncc tự làm việc với CH | AF29: 32754 | AG29: Đã điều chỉnh giảm về 0 | AH29: 00001694 | AI29: 00060746
A30: 45474 | B30: BH2406/03640 | C30: 45477 | D30: 00032754 | E30: 4161006279 | F30: win3291 | G30: CN HÀ NỘI - wincommerce | I30: CC300 | J30: Chả cốm 300g | K30: Túi | L30: 4 | M30: 3 | N30: 74250 | O30: 297000 | P30: =M30*N30 -> 222750 | Q30: 0 | R30: 0 | S30: 0 | T30: HN003 | U30: Hà Nội | V30: Huyện Thanh Trì | W30: MIENBAC;WIN | X30: WINCOMMERCE | Y30: K-C6 | AB30: =ROUND(O30*8%,0)+O30 -> 320760 | AC30: 222750 | AD30: =VLOOKUP(AF30,Table1[[Ký hiệu]:[Hướng xli]],9,0) -> NCC check theo sheep data cửa hàng nhập kho điều chỉnh giảm toàn bộ HĐ cũ và xuất lại HĐ mới đúng số lượng | AE30: mục 01,02,03 chỉ nhập 03 biên bản không ký nhận ncc tự làm việc với CH | AF30: 32754 | AG30: Đã điều chỉnh giảm về 0 | AH30: 00001694 | AI30: 00060746
A31: 45474 | B31: BH2406/03640 | C31: 45477 | D31: 00032754 | E31: 4161006279 | F31: win3291 | G31: CN HÀ NỘI - wincommerce | I31: MNH250 | J31: Mọc Nấm Hương 250g | K31: Túi | L31: 4 | M31: 3 | N31: 46000 | O31: 184000 | P31: =M31*N31 -> 138000 | Q31: 0 | R31: 0 | S31: 0 | T31: HN003 | U31: Hà Nội | V31: Huyện Thanh Trì | W31: MIENBAC;WIN | X31: WINCOMMERCE | Y31: K-C6 | AB31: =ROUND(O31*8%,0)+O31 -> 198720 | AC31: 138000 | AD31: =VLOOKUP(AF31,Table1[[Ký hiệu]:[Hướng xli]],9,0) -> NCC check theo sheep data cửa hàng nhập kho điều chỉnh giảm toàn bộ HĐ cũ và xuất lại HĐ mới đúng số lượng | AE31: mục 01,02,03 chỉ nhập 03 biên bản không ký nhận ncc tự làm việc với CH | AF31: 32754 | AG31: Đã điều chỉnh giảm về 0 | AH31: 00001694 | AI31: 00060746
A32: 45474 | B32: BH2406/03736 | C32: 45477 | D32: 00032850 | E32: 4161073493 | F32: WIN3530 | G32: CN HÀ NỘI - CÔNG TY CỔ PHẦN DỊCH VỤ THƯƠNG MẠI TỔNG HỢP WINCOMMERCE | I32: GM500 | J32: Gà muối 500g | K32: Túi | L32: 3 | M32: 3 | N32: 111058 | O32: 333174 | P32: =M32*N32 -> 333174 | Q32: 0 | R32: 0 | S32: 0 | T32: HN008 | U32: Hà Nội | V32: Quận Thanh Xuân | W32: MIENBAC;WIN | X32: WINCOMMERCE | AB32: =ROUND(O32*8%,0)+O32 -> 359828 | AC32: 0 | AD32: =VLOOKUP(AF32,Table1[[Ký hiệu]:[Hướng xli]],9,0) -> NCC điều chỉnh giảm toàn bộ HĐ | AE32: PO chưa nhập kho biên bản không có ký nhận ncc tự xli | AF32: 32850 | AG32: TÌM VÀ CUNG CẤP LẠI CHO WIN CHỨNG TỪ ĐÃ GIAO
A33: 45474 | B33: BH2406/03736 | C33: 45477 | D33: 00032850 | E33: 4161073493 | F33: WIN3530 | G33: CN HÀ NỘI - CÔNG TY CỔ PHẦN DỊCH VỤ THƯƠNG MẠI TỔNG HỢP WINCOMMERCE | I33: CGM300 | J33: Chân giò heo muối 300g | K33: Túi | L33: 10 | M33: 10 | N33: 58745 | O33: 587450 | P33: =M33*N33 -> 587450 | Q33: 0 | R33: 0 | S33: 0 | T33: HN008 | U33: Hà Nội | V33: Quận Thanh Xuân | W33: MIENBAC;WIN | X33: WINCOMMERCE | AB33: =ROUND(O33*8%,0)+O33 -> 634446 | AC33: 0 | AD33: =VLOOKUP(AF33,Table1[[Ký hiệu]:[Hướng xli]],9,0) -> NCC điều chỉnh giảm toàn bộ HĐ | AE33: PO chưa nhập kho biên bản không có ký nhận ncc tự xli | AF33: 32850 | AG33: TÌM VÀ CUNG CẤP LẠI CHO WIN CHỨNG TỪ ĐÃ GIAO
A34: 45474 | B34: BH2406/03736 | C34: 45477 | D34: 00032850 | E34: 4161073493 | F34: WIN3530 | G34: CN HÀ NỘI - CÔNG TY CỔ PHẦN DỊCH VỤ THƯƠNG MẠI TỔNG HỢP WINCOMMERCE | I34: MNH250 | J34: Mọc Nấm Hương 250g | K34: Túi | L34: 5 | M34: 5 | N34: 46000 | O34: 230000 | P34: =M34*N34 -> 230000 | Q34: 0 | R34: 0 | S34: 0 | T34: HN008 | U34: Hà Nội | V34: Quận Thanh Xuân | W34: MIENBAC;WIN | X34: WINCOMMERCE | AB34: =ROUND(O34*8%,0)+O34 -> 248400 | AC34: 0 | AD34: =VLOOKUP(AF34,Table1[[Ký hiệu]:[Hướng xli]],9,0) -> NCC điều chỉnh giảm toàn bộ HĐ | AE34: PO chưa nhập kho biên bản không có ký nhận ncc tự xli | AF34: 32850 | AG34: TÌM VÀ CUNG CẤP LẠI CHO WIN CHỨNG TỪ ĐÃ GIAO
A35: 45474 | B35: BH2406/03736 | C35: 45477 | D35: 00032850 | E35: 4161073493 | F35: WIN3530 | G35: CN HÀ NỘI - CÔNG TY CỔ PHẦN DỊCH VỤ THƯƠNG MẠI TỔNG HỢP WINCOMMERCE | I35: CC300 | J35: Chả cốm 300g | K35: Túi | L35: 5 | M35: 5 | N35: 59400 | O35: 297000 | P35: =M35*N35 -> 297000 | Q35: 0 | R35: 0 | S35: 0 | T35: HN008 | U35: Hà Nội | V35: Quận Thanh Xuân | W35: MIENBAC;WIN | X35: WINCOMMERCE | AB35: =ROUND(O35*8%,0)+O35 -> 320760 | AC35: 0 | AD35: =VLOOKUP(AF35,Table1[[Ký hiệu]:[Hướng xli]],9,0) -> NCC điều chỉnh giảm toàn bộ HĐ | AE35: PO chưa nhập kho biên bản không có ký nhận ncc tự xli | AF35: 32850 | AG35: TÌM VÀ CUNG CẤP LẠI CHO WIN CHỨNG TỪ ĐÃ GIAO
A36: 45474 | B36: BH2406/03736 | C36: 45477 | D36: 00032850 | E36: 4161073493 | F36: WIN3530 | G36: CN HÀ NỘI - CÔNG TY CỔ PHẦN DỊCH VỤ THƯƠNG MẠI TỔNG HỢP WINCOMMERCE | I36: CN300 | J36: Chả nướng 300g | K36: Túi | L36: 5 | M36: 5 | N36: 70950 | O36: 354750 | P36: =M36*N36 -> 354750 | Q36: 0 | R36: 0 | S36: 0 | T36: HN008 | U36: Hà Nội | V36: Quận Thanh Xuân | W36: MIENBAC;WIN | X36: WINCOMMERCE | AB36: =ROUND(O36*8%,0)+O36 -> 383130 | AC36: 0 | AD36: =VLOOKUP(AF36,Table1[[Ký hiệu]:[Hướng xli]],9,0) -> NCC điều chỉnh giảm toàn bộ HĐ | AE36: PO chưa nhập kho biên bản không có ký nhận ncc tự xli | AF36: 32850 | AG36: TÌM VÀ CUNG CẤP LẠI CHO WIN CHỨNG TỪ ĐÃ GIAO
A37: 45474 | B37: BH2406/03849 | C37: 45477 | D37: 00033303 | E37: 4160625979(1616)ĐN | F37: WIN-021 | G37: CHI NHÁNH THỪA THIÊN HUẾ - CÔNG TY CỔ PHẦN DỊCH VỤ THƯƠNG MẠI TỔNG HỢP WINCOMMERCE | H37: 0104918404-021 | I37: CGM300 | J37: Chân giò heo muối 300g | K37: Túi | L37: 6 | M37: 6 | N37: 58745 | O37: 352470 | P37: =M37*N37 -> 352470 | Q37: 0 | R37: 0 | S37: 0 | U37: Thừa Thiên - Huế | W37: MIENNAM;WIN | X37: WINCOMMERCE | Y37: K-HCM | AB37: =ROUND(O37*8%,0)+O37 -> 380668 | AC37: 352470 | AD37: =VLOOKUP(AF37,Table1[[Ký hiệu]:[Hướng xli]],9,0) -> NCC xuất hđ điều chỉnh giảm toàn bộ HĐ -> xuất hđ mới đúng giá theo PO của wcm | AE37: mục 02 sai giá | AF37: 33303 | AG37: Đã điều chỉnh giảm về 0 | AH37: 00001695 | AI37: 00060715 | AJ37: 00061596
A38: 45474 | B38: BH2406/03849 | C38: 45477 | D38: 00033303 | E38: 4160625979(1616)ĐN | F38: WIN-021 | G38: CHI NHÁNH THỪA THIÊN HUẾ - CÔNG TY CỔ PHẦN DỊCH VỤ THƯƠNG MẠI TỔNG HỢP WINCOMMERCE | H38: 0104918404-021 | I38: CC300 | J38: Chả cốm 300g | K38: Túi | L38: 6 | M38: 6 | N38: 74250 | O38: 445500 | P38: =M38*N38 -> 445500 | Q38: 0 | R38: 0 | S38: 0 | U38: Thừa Thiên - Huế | W38: MIENNAM;WIN | X38: WINCOMMERCE | Y38: K-HCM | AB38: =ROUND(O38*8%,0)+O38 -> 481140 | AC38: 445500 | AD38: =VLOOKUP(AF38,Table1[[Ký hiệu]:[Hướng xli]],9,0) -> NCC xuất hđ điều chỉnh giảm toàn bộ HĐ -> xuất hđ mới đúng giá theo PO của wcm | AE38: mục 02 sai giá | AF38: 33303 | AG38: Đã điều chỉnh giảm về 0 | AH38: 00001695 | AI38: 00060715 | AJ38: 00061596
A39: 45474 | B39: BH2328355 | C39: 45478 | D39: 00033477 | E39: 4161054396(3671) | F39: WIN-024 | G39: CHI NHÁNH BÌNH DƯƠNG - CÔNG TY CỔ PHẦN DỊCH VỤ THƯƠNG MẠI TỔNG HỢP WINCOMMERCE | H39: 0104918404-024 | I39: GM500 | J39: Gà muối 500g | K39: Túi | L39: 5 | M39: 5 | N39: 111058 | O39: 555290 | P39: =M39*N39 -> 555290 | Q39: 0 | R39: 0 | S39: 0 | U39: Bình Dương | W39: MIENNAM;WIN | X39: WINCOMMERCE | Y39: K-HCM | AB39: =ROUND(O39*8%,0)+O39 -> 599713 | AC39: 0 | AD39: =VLOOKUP(AF39,Table1[[Ký hiệu]:[Hướng xli]],9,0) -> NCC điều chỉnh giảm toàn bộ HĐ | AE39: PO chưa nhập kho biên bản không có ký nhận ncc tự xli | AF39: 33477 | AG39: TÌM VÀ CUNG CẤP LẠI CHO WIN CHỨNG TỪ ĐÃ GIAO
A40: 45474 | B40: BH2328355 | C40: 45478 | D40: 00033477 | E40: 4161054396(3671) | F40: WIN-024 | G40: CHI NHÁNH BÌNH DƯƠNG - CÔNG TY CỔ PHẦN DỊCH VỤ THƯƠNG MẠI TỔNG HỢP WINCOMMERCE | H40: 0104918404-024 | I40: CGM300 | J40: Chân giò heo muối 300g | K40: Túi | L40: 3 | M40: 3 | N40: 58745 | O40: 176235 | P40: =M40*N40 -> 176235 | Q40: 0 | R40: 0 | S40: 0 | U40: Bình Dương | W40: MIENNAM;WIN | X40: WINCOMMERCE | Y40: K-HCM | AB40: =ROUND(O40*8%,0)+O40 -> 190334 | AC40: 0 | AD40: =VLOOKUP(AF40,Table1[[Ký hiệu]:[Hướng xli]],9,0) -> NCC điều chỉnh giảm toàn bộ HĐ | AE40: PO chưa nhập kho biên bản không có ký nhận ncc tự xli | AF40: 33477 | AG40: TÌM VÀ CUNG CẤP LẠI CHO WIN CHỨNG TỪ ĐÃ GIAO
A41: 45474 | B41: BH2328355 | C41: 45478 | D41: 00033477 | E41: 4161054396(3671) | F41: WIN-024 | G41: CHI NHÁNH BÌNH DƯƠNG - CÔNG TY CỔ PHẦN DỊCH VỤ THƯƠNG MẠI TỔNG HỢP WINCOMMERCE | H41: 0104918404-024 | I41: TH200 | J41: Tai heo muối 200g | K41: Túi | L41: 3 | M41: 3 | N41: 55595 | O41: 166785 | P41: =M41*N41 -> 166785 | Q41: 0 | R41: 0 | S41: 0 | U41: Bình Dương | W41: MIENNAM;WIN | X41: WINCOMMERCE | Y41: K-HCM | AB41: =ROUND(O41*8%,0)+O41 -> 180128 | AC41: 0 | AD41: =VLOOKUP(AF41,Table1[[Ký hiệu]:[Hướng xli]],9,0) -> NCC điều chỉnh giảm toàn bộ HĐ | AE41: PO chưa nhập kho biên bản không có ký nhận ncc tự xli | AF41: 33477 | AG41: TÌM VÀ CUNG CẤP LẠI CHO WIN CHỨNG TỪ ĐÃ GIAO
A42: 45474 | B42: BH2328355 | C42: 45478 | D42: 00033477 | E42: 4161054396(3671) | F42: WIN-024 | G42: CHI NHÁNH BÌNH DƯƠNG - CÔNG TY CỔ PHẦN DỊCH VỤ THƯƠNG MẠI TỔNG HỢP WINCOMMERCE | H42: 0104918404-024 | I42: CC300 | J42: Chả cốm 300g | K42: Túi | L42: 5 | M42: 5 | N42: 74250 | O42: 371250 | P42: =M42*N42 -> 371250 | Q42: 0 | R42: 0 | S42: 0 | U42: Bình Dương | W42: MIENNAM;WIN | X42: WINCOMMERCE | Y42: K-HCM | AB42: =ROUND(O42*8%,0)+O42 -> 400950 | AC42: 0 | AD42: =VLOOKUP(AF42,Table1[[Ký hiệu]:[Hướng xli]],9,0) -> NCC điều chỉnh giảm toàn bộ HĐ | AE42: PO chưa nhập kho biên bản không có ký nhận ncc tự xli | AF42: 33477 | AG42: TÌM VÀ CUNG CẤP LẠI CHO WIN CHỨNG TỪ ĐÃ GIAO
A43: 45474 | B43: BH2328355 | C43: 45478 | D43: 00033477 | E43: 4161054396(3671) | F43: WIN-024 | G43: CHI NHÁNH BÌNH DƯƠNG - CÔNG TY CỔ PHẦN DỊCH VỤ THƯƠNG MẠI TỔNG HỢP WINCOMMERCE | H43: 0104918404-024 | I43: CN300 | J43: Chả nướng 300g | K43: Túi | L43: 3 | M43: 3 | N43: 70950 | O43: 212850 | P43: =M43*N43 -> 212850 | Q43: 0 | R43: 0 | S43: 0 | U43: Bình Dương | W43: MIENNAM;WIN | X43: WINCOMMERCE | Y43: K-HCM | AB43: =ROUND(O43*8%,0)+O43 -> 229878 | AC43: 0 | AD43: =VLOOKUP(AF43,Table1[[Ký hiệu]:[Hướng xli]],9,0) -> NCC điều chỉnh giảm toàn bộ HĐ | AE43: PO chưa nhập kho biên bản không có ký nhận ncc tự xli | AF43: 33477 | AG43: TÌM VÀ CUNG CẤP LẠI CHO WIN CHỨNG TỪ ĐÃ GIAO
A44: 45474 | B44: BH2328355 | C44: 45478 | D44: 00033477 | E44: 4161054396(3671) | F44: WIN-024 | G44: CHI NHÁNH BÌNH DƯƠNG - CÔNG TY CỔ PHẦN DỊCH VỤ THƯƠNG MẠI TỔNG HỢP WINCOMMERCE | H44: 0104918404-024 | I44: MNH250 | J44: Mọc Nấm Hương 250g | K44: Túi | L44: 3 | M44: 3 | N44: 46000 | O44: 138000 | P44: =M44*N44 -> 138000 | Q44: 0 | R44: 0 | S44: 0 | U44: Bình Dương | W44: MIENNAM;WIN | X44: WINCOMMERCE | Y44: K-HCM | AB44: =ROUND(O44*8%,0)+O44 -> 149040 | AC44: 0 | AD44: =VLOOKUP(AF44,Table1[[Ký hiệu]:[Hướng xli]],9,0) -> NCC điều chỉnh giảm toàn bộ HĐ | AE44: PO chưa nhập kho biên bản không có ký nhận ncc tự xli | AF44: 33477 | AG44: TÌM VÀ CUNG CẤP LẠI CHO WIN CHỨNG TỪ ĐÃ GIAO
A45: 45474 | B45: BH2328297 | C45: 45478 | D45: 00033499 | E45: 4161057982 | F45: WIN5086 | G45: CN HCM - CÔNG TY CỔ PHẦN DỊCH VỤ THƯƠNG MẠI TỔNG HỢP WINCOMMERCE | I45: CGM300 | J45: Chân giò heo muối 300g | K45: Túi | L45: 5 | M45: 5 | N45: 58745 | O45: 293725 | P45: =M45*N45 -> 293725 | Q45: 0 | R45: 0 | S45: 0 | T45: SG011 | U45: Hồ Chí Minh | V45: Thành phố Thủ Đức | W45: MIENNAM;WIN | X45: WINCOMMERCE | Y45: K-HCM | AB45: =ROUND(O45*8%,0)+O45 -> 317223 | AC45: 293725 | AD45: =VLOOKUP(AF45,Table1[[Ký hiệu]:[Hướng xli]],9,0) -> NCC check theo sheep data cửa hàng nhập kho điều chỉnh giảm toàn bộ HĐ cũ và xuất lại HĐ mới đúng số lượng | AE45: mục 03 wcm ko nhận hàng, bb không có ký nhận NCC tự làm việc với CH | AF45: 33499 | AG45: Đã điều chỉnh giảm về 0 | AH45: 00001696 | AI45: 00060717
A46: 45474 | B46: BH2328297 | C46: 45478 | D46: 00033499 | E46: 4161057982 | F46: WIN5086 | G46: CN HCM - CÔNG TY CỔ PHẦN DỊCH VỤ THƯƠNG MẠI TỔNG HỢP WINCOMMERCE | I46: GTLX250G | J46: Giò Tai Lưỡi Xào 250g | K46: Túi | L46: 5 | M46: 5 | N46: 50182 | O46: 250910 | P46: =M46*N46 -> 250910 | Q46: 0 | R46: 0 | S46: 0 | T46: SG011 | U46: Hồ Chí Minh | V46: Thành phố Thủ Đức | W46: MIENNAM;WIN | X46: WINCOMMERCE | Y46: K-HCM | AB46: =ROUND(O46*8%,0)+O46 -> 270983 | AC46: 250910 | AD46: =VLOOKUP(AF46,Table1[[Ký hiệu]:[Hướng xli]],9,0) -> NCC check theo sheep data cửa hàng nhập kho điều chỉnh giảm toàn bộ HĐ cũ và xuất lại HĐ mới đúng số lượng | AE46: mục 03 wcm ko nhận hàng, bb không có ký nhận NCC tự làm việc với CH | AF46: 33499 | AG46: Đã điều chỉnh giảm về 0 | AH46: 00001696 | AI46: 00060717
A47: 45474 | B47: BH2328297 | C47: 45478 | D47: 00033499 | E47: 4161057982 | F47: WIN5086 | G47: CN HCM - CÔNG TY CỔ PHẦN DỊCH VỤ THƯƠNG MẠI TỔNG HỢP WINCOMMERCE | I47: CC300 | J47: Chả cốm 300g | K47: Túi | L47: 5 | M47: 0 | N47: 74250 | O47: 371250 | P47: =M47*N47 -> 0 | Q47: 0 | R47: 0 | S47: 0 | T47: SG011 | U47: Hồ Chí Minh | V47: Thành phố Thủ Đức | W47: MIENNAM;WIN | X47: WINCOMMERCE | Y47: K-HCM | AB47: =ROUND(O47*8%,0)+O47 -> 400950 | AC47: 0 | AD47: =VLOOKUP(AF47,Table1[[Ký hiệu]:[Hướng xli]],9,0) -> NCC check theo sheep data cửa hàng nhập kho điều chỉnh giảm toàn bộ HĐ cũ và xuất lại HĐ mới đúng số lượng | AE47: mục 03 wcm ko nhận hàng, bb không có ký nhận NCC tự làm việc với CH | AF47: 33499 | AG47: Đã điều chỉnh giảm về 0 | AH47: 00001696 | AI47: 00060717
A48: 45476 | B48: BH2407/0024 | C48: 45478 | D48: 00033536 | E48: 4161088758(3578) | F48: WIN-023 | G48: CHI NHÁNH ĐỒNG NAI - CÔNG TY CỔ PHẦN DỊCH VỤ THƯƠNG MẠI TỔNG HỢP WINCOMMERCE | H48: 0104918404-023 | I48: CGM300 | J48: Chân giò heo muối 300g | K48: Túi | L48: 3 | M48: 3 | N48: 58745 | O48: 176235 | P48: =M48*N48 -> 176235 | Q48: 0 | R48: 0 | S48: 0 | U48: Đồng Nai | W48: MIENNAM;WIN | X48: WINCOMMERCE | Y48: K-HCM | AB48: =ROUND(O48*8%,0)+O48 -> 190334 | AC48: 0 | AD48: =VLOOKUP(AF48,Table1[[Ký hiệu]:[Hướng xli]],9,0) -> NCC điều chỉnh giảm toàn bộ HĐ | AE48: PO chưa nhập kho -> kế toán đang gửi CH chưa nhận được phản hồi | AF48: 33536 | AG48: TÌM VÀ CUNG CẤP LẠI CHO WIN CHỨNG TỪ ĐÃ GIAO
A49: 45476 | B49: BH2407/0024 | C49: 45478 | D49: 00033536 | E49: 4161088758(3578) | F49: WIN-023 | G49: CHI NHÁNH ĐỒNG NAI - CÔNG TY CỔ PHẦN DỊCH VỤ THƯƠNG MẠI TỔNG HỢP WINCOMMERCE | H49: 0104918404-023 | I49: GM500 | J49: Gà muối 500g | K49: Túi | L49: 3 | M49: 3 | N49: 111058 | O49: 333174 | P49: =M49*N49 -> 333174 | Q49: 0 | R49: 0 | S49: 0 | U49: Đồng Nai | W49: MIENNAM;WIN | X49: WINCOMMERCE | Y49: K-HCM | AB49: =ROUND(O49*8%,0)+O49 -> 359828 | AC49: 0 | AD49: =VLOOKUP(AF49,Table1[[Ký hiệu]:[Hướng xli]],9,0) -> NCC điều chỉnh giảm toàn bộ HĐ | AE49: PO chưa nhập kho -> kế toán đang gửi CH chưa nhận được phản hồi | AF49: 33536 | AG49: TÌM VÀ CUNG CẤP LẠI CHO WIN CHỨNG TỪ ĐÃ GIAO
A50: 45476 | B50: BH2407/0024 | C50: 45478 | D50: 00033536 | E50: 4161088758(3578) | F50: WIN-023 | G50: CHI NHÁNH ĐỒNG NAI - CÔNG TY CỔ PHẦN DỊCH VỤ THƯƠNG MẠI TỔNG HỢP WINCOMMERCE | H50: 0104918404-023 | I50: TH200 | J50: Tai heo muối 200g | K50: Túi | L50: 3 | M50: 3 | N50: 55595 | O50: 166785 | P50: =M50*N50 -> 166785 | Q50: 0 | R50: 0 | S50: 0 | U50: Đồng Nai | W50: MIENNAM;WIN | X50: WINCOMMERCE | Y50: K-HCM | AB50: =ROUND(O50*8%,0)+O50 -> 180128 | AC50: 0 | AD50: =VLOOKUP(AF50,Table1[[Ký hiệu]:[Hướng xli]],9,0) -> NCC điều chỉnh giảm toàn bộ HĐ | AE50: PO chưa nhập kho -> kế toán đang gửi CH chưa nhận được phản hồi | AF50: 33536 | AG50: TÌM VÀ CUNG CẤP LẠI CHO WIN CHỨNG TỪ ĐÃ GIAO
A51: 45476 | B51: BH2407/0024 | C51: 45478 | D51: 00033536 | E51: 4161088758(3578) | F51: WIN-023 | G51: CHI NHÁNH ĐỒNG NAI - CÔNG TY CỔ PHẦN DỊCH VỤ THƯƠNG MẠI TỔNG HỢP WINCOMMERCE | H51: 0104918404-023 | I51: GL250 | J51: Giò lụa cây 250g | K51: Túi | L51: 3 | M51: 3 | N51: 59400 | O51: 178200 | P51: =M51*N51 -> 178200 | Q51: 0 | R51: 0 | S51: 0 | U51: Đồng Nai | W51: MIENNAM;WIN | X51: WINCOMMERCE | Y51: K-HCM | AB51: =ROUND(O51*8%,0)+O51 -> 192456 | AC51: 0 | AD51: =VLOOKUP(AF51,Table1[[Ký hiệu]:[Hướng xli]],9,0) -> NCC điều chỉnh giảm toàn bộ HĐ | AE51: PO chưa nhập kho -> kế toán đang gửi CH chưa nhận được phản hồi | AF51: 33536 | AG51: TÌM VÀ CUNG CẤP LẠI CHO WIN CHỨNG TỪ ĐÃ GIAO
A52: 45476 | B52: BH2407/0024 | C52: 45478 | D52: 00033536 | E52: 4161088758(3578) | F52: WIN-023 | G52: CHI NHÁNH ĐỒNG NAI - CÔNG TY CỔ PHẦN DỊCH VỤ THƯƠNG MẠI TỔNG HỢP WINCOMMERCE | H52: 0104918404-023 | I52: CN300 | J52: Chả nướng 300g | K52: Túi | L52: 3 | M52: 3 | N52: 70950 | O52: 212850 | P52: =M52*N52 -> 212850 | Q52: 0 | R52: 0 | S52: 0 | U52: Đồng Nai | W52: MIENNAM;WIN | X52: WINCOMMERCE | Y52: K-HCM | AB52: =ROUND(O52*8%,0)+O52 -> 229878 | AC52: 0 | AD52: =VLOOKUP(AF52,Table1[[Ký hiệu]:[Hướng xli]],9,0) -> NCC điều chỉnh giảm toàn bộ HĐ | AE52: PO chưa nhập kho -> kế toán đang gửi CH chưa nhận được phản hồi | AF52: 33536 | AG52: TÌM VÀ CUNG CẤP LẠI CHO WIN CHỨNG TỪ ĐÃ GIAO
A53: 45476 | B53: BH2407/0024 | C53: 45478 | D53: 00033536 | E53: 4161088758(3578) | F53: WIN-023 | G53: CHI NHÁNH ĐỒNG NAI - CÔNG TY CỔ PHẦN DỊCH VỤ THƯƠNG MẠI TỔNG HỢP WINCOMMERCE | H53: 0104918404-023 | I53: CC300 | J53: Chả cốm 300g | K53: Túi | L53: 3 | M53: 3 | N53: 74250 | O53: 222750 | P53: =M53*N53 -> 222750 | Q53: 0 | R53: 0 | S53: 0 | U53: Đồng Nai | W53: MIENNAM;WIN | X53: WINCOMMERCE | Y53: K-HCM | AB53: =ROUND(O53*8%,0)+O53 -> 240570 | AC53: 0 | AD53: =VLOOKUP(AF53,Table1[[Ký hiệu]:[Hướng xli]],9,0) -> NCC điều chỉnh giảm toàn bộ HĐ | AE53: PO chưa nhập kho -> kế toán đang gửi CH chưa nhận được phản hồi | AF53: 33536 | AG53: TÌM VÀ CUNG CẤP LẠI CHO WIN CHỨNG TỪ ĐÃ GIAO
A54: 45476 | B54: BH2407/0024 | C54: 45478 | D54: 00033536 | E54: 4161088758(3578) | F54: WIN-023 | G54: CHI NHÁNH ĐỒNG NAI - CÔNG TY CỔ PHẦN DỊCH VỤ THƯƠNG MẠI TỔNG HỢP WINCOMMERCE | H54: 0104918404-023 | I54: GTLX250G | J54: Giò Tai Lưỡi Xào 250g | K54: Túi | L54: 3 | M54: 3 | N54: 50182 | O54: 150546 | P54: =M54*N54 -> 150546 | Q54: 0 | R54: 0 | S54: 0 | U54: Đồng Nai | W54: MIENNAM;WIN | X54: WINCOMMERCE | Y54: K-HCM | AB54: =ROUND(O54*8%,0)+O54 -> 162590 | AC54: 0 | AD54: =VLOOKUP(AF54,Table1[[Ký hiệu]:[Hướng xli]],9,0) -> NCC điều chỉnh giảm toàn bộ HĐ | AE54: PO chưa nhập kho -> kế toán đang gửi CH chưa nhận được phản hồi | AF54: 33536 | AG54: TÌM VÀ CUNG CẤP LẠI CHO WIN CHỨNG TỪ ĐÃ GIAO
A55: 45476 | B55: BH2407/0024 | C55: 45478 | D55: 00033536 | E55: 4161088758(3578) | F55: WIN-023 | G55: CHI NHÁNH ĐỒNG NAI - CÔNG TY CỔ PHẦN DỊCH VỤ THƯƠNG MẠI TỔNG HỢP WINCOMMERCE | H55: 0104918404-023 | I55: MNH250 | J55: Mọc Nấm Hương 250g | K55: Túi | L55: 3 | M55: 3 | N55: 46000 | O55: 138000 | P55: =M55*N55 -> 138000 | Q55: 0 | R55: 0 | S55: 0 | U55: Đồng Nai | W55: MIENNAM;WIN | X55: WINCOMMERCE | Y55: K-HCM | AB55: =ROUND(O55*8%,0)+O55 -> 149040 | AC55: 0 | AD55: =VLOOKUP(AF55,Table1[[Ký hiệu]:[Hướng xli]],9,0) -> NCC điều chỉnh giảm toàn bộ HĐ | AE55: PO chưa nhập kho -> kế toán đang gửi CH chưa nhận được phản hồi | AF55: 33536 | AG55: TÌM VÀ CUNG CẤP LẠI CHO WIN CHỨNG TỪ ĐÃ GIAO
A56: 45474 | B56: BH2406/03931 | C56: 45478 | D56: 00033589 | E56: 4156926823 (4069) | F56: WIN-007 | G56: CHI NHÁNH QUẢNG NINH - CÔNG TY CỔ PHẦN DỊCH VỤ THƯƠNG MẠI TỔNG HỢP WINCOMMERCE | H56: 0104918404-007 | I56: CGM300 | J56: Chân giò heo muối 300g | K56: Túi | L56: 10 | M56: 10 | N56: 73431 | O56: 734310 | P56: =M56*N56 -> 734310 | Q56: 0 | R56: 0 | S56: 0 | U56: Quảng Ninh | W56: MIENBAC;WIN | X56: WINCOMMERCE | AB56: =ROUND(O56*8%,0)+O56 -> 793055 | AC56: 0 | AD56: =VLOOKUP(AF56,Table1[[Ký hiệu]:[Hướng xli]],9,0) -> NCC điều chỉnh giảm toàn bộ HĐ | AE56: PO chưa nhập kho biên bản không có ký nhận ncc tự xli | AF56: 33589 | AG56: TÌM VÀ CUNG CẤP LẠI CHO WIN CHỨNG TỪ ĐÃ GIAO
A57: 45474 | B57: BH2407/0168 | C57: 45484 | D57: 00034194 | E57: 4160863888 | F57: win1569 | G57: CN HÀ NỘI - wincommerce | I57: CGM300 | J57: Chân giò heo muối 300g | K57: Túi | L57: 5 | M57: 5 | N57: 58745 | O57: 293725 | P57: =M57*N57 -> 293725 | Q57: 0 | R57: 0 | S57: 0 | T57: HN004 | U57: Hà Nội | V57: Huyện Đan Phượng | W57: MIENBAC;WIN | X57: WINCOMMERCE | Y57: K-C6 | AB57: =ROUND(O57*8%,0)+O57 -> 317223 | AC57: 293725 | AD57: =VLOOKUP(AF57,Table1[[Ký hiệu]:[Hướng xli]],9,0) -> NCC check theo sheep data cửa hàng nhập kho điều chỉnh giảm toàn bộ HĐ cũ và xuất lại HĐ mới đúng số lượng | AE57: mục 03 wcm ko nhận hàng, bb không có ký nhận NCC tự làm việc với CH | AF57: 34194 | AG57: Đã điều chỉnh giảm về 0 | AH57: 00001697 | AI57: 00060738
A58: 45474 | B58: BH2407/0168 | C58: 45484 | D58: 00034194 | E58: 4160863888 | F58: win1569 | G58: CN HÀ NỘI - wincommerce | I58: CC300 | J58: Chả cốm 300g | K58: Túi | L58: 5 | M58: 5 | N58: 74250 | O58: 371250 | P58: =M58*N58 -> 371250 | Q58: 0 | R58: 0 | S58: 0 | T58: HN004 | U58: Hà Nội | V58: Huyện Đan Phượng | W58: MIENBAC;WIN | X58: WINCOMMERCE | Y58: K-C6 | AB58: =ROUND(O58*8%,0)+O58 -> 400950 | AC58: 371250 | AD58: =VLOOKUP(AF58,Table1[[Ký hiệu]:[Hướng xli]],9,0) -> NCC check theo sheep data cửa hàng nhập kho điều chỉnh giảm toàn bộ HĐ cũ và xuất lại HĐ mới đúng số lượng | AE58: mục 03 wcm ko nhận hàng, bb không có ký nhận NCC tự làm việc với CH | AF58: 34194 | AG58: Đã điều chỉnh giảm về 0 | AH58: 00001697 | AI58: 00060738
A59: 45474 | B59: BH2407/0168 | C59: 45484 | D59: 00034194 | E59: 4160863888 | F59: win1569 | G59: CN HÀ NỘI - wincommerce | I59: GXD500 | J59: Gà xì dầu 500g | K59: Túi | L59: 5 | M59: 0 | N59: 111606 | O59: 558030 | P59: =M59*N59 -> 0 | Q59: 0 | R59: 0 | S59: 0 | T59: HN004 | U59: Hà Nội | V59: Huyện Đan Phượng | W59: MIENBAC;WIN | X59: WINCOMMERCE | Y59: K-C6 | AB59: =ROUND(O59*8%,0)+O59 -> 602672 | AC59: 0 | AD59: =VLOOKUP(AF59,Table1[[Ký hiệu]:[Hướng xli]],9,0) -> NCC check theo sheep data cửa hàng nhập kho điều chỉnh giảm toàn bộ HĐ cũ và xuất lại HĐ mới đúng số lượng | AE59: mục 03 wcm ko nhận hàng, bb không có ký nhận NCC tự làm việc với CH | AF59: 34194 | AG59: Đã điều chỉnh giảm về 0 | AH59: 00001697 | AI59: 00060738
A60: 45474 | B60: BH2407/0156 | C60: 45484 | D60: 00034222 | E60: 4160937822 | F60: win6978 | G60: CN HÀ NỘI - wincommerce | I60: GM500 | J60: Gà muối 500g | K60: Túi | L60: 10 | M60: 10 | N60: 111058 | O60: 1110580 | P60: =M60*N60 -> 1110580 | Q60: 0 | R60: 0 | S60: 0 | T60: HN004 | U60: Hà Nội | V60: Huyện Hoài Đức | W60: MIENBAC;WIN | X60: WINCOMMERCE | Y60: K-C6 | AB60: =ROUND(O60*8%,0)+O60 -> 1199426 | AC60: 1110580 | AD60: =VLOOKUP(AF60,Table1[[Ký hiệu]:[Hướng xli]],9,0) -> NCC check theo sheep data cửa hàng nhập kho điều chỉnh giảm toàn bộ HĐ cũ và xuất lại HĐ mới đúng số lượng | AE60: mục 03 wcm ko nhận hàng, bb không có ký nhận NCC tự làm việc với CH | AF60: 34222 | AG60: Đã điều chỉnh giảm về 0 | AH60: 00001698 | AI60: 00060737
A61: 45474 | B61: BH2407/0156 | C61: 45484 | D61: 00034222 | E61: 4160937822 | F61: win6978 | G61: CN HÀ NỘI - wincommerce | I61: CGM300 | J61: Chân giò heo muối 300g | K61: Túi | L61: 10 | M61: 10 | N61: 58745 | O61: 587450 | P61: =M61*N61 -> 587450 | Q61: 0 | R61: 0 | S61: 0 | T61: HN004 | U61: Hà Nội | V61: Huyện Hoài Đức | W61: MIENBAC;WIN | X61: WINCOMMERCE | Y61: K-C6 | AB61: =ROUND(O61*8%,0)+O61 -> 634446 | AC61: 587450 | AD61: =VLOOKUP(AF61,Table1[[Ký hiệu]:[Hướng xli]],9,0) -> NCC check theo sheep data cửa hàng nhập kho điều chỉnh giảm toàn bộ HĐ cũ và xuất lại HĐ mới đúng số lượng | AE61: mục 03 wcm ko nhận hàng, bb không có ký nhận NCC tự làm việc với CH | AF61: 34222 | AG61: Đã điều chỉnh giảm về 0 | AH61: 00001698 | AI61: 00060737
A62: 45474 | B62: BH2407/0156 | C62: 45484 | D62: 00034222 | E62: 4160937822 | F62: win6978 | G62: CN HÀ NỘI - wincommerce | I62: MNH250 | J62: Mọc Nấm Hương 250g | K62: Túi | L62: 5 | M62: 0 | N62: 46000 | O62: 230000 | P62: =M62*N62 -> 0 | Q62: 0 | R62: 0 | S62: 0 | T62: HN004 | U62: Hà Nội | V62: Huyện Hoài Đức | W62: MIENBAC;WIN | X62: WINCOMMERCE | AB62: =ROUND(O62*8%,0)+O62 -> 248400 | AC62: 0 | AD62: =VLOOKUP(AF62,Table1[[Ký hiệu]:[Hướng xli]],9,0) -> NCC check theo sheep data cửa hàng nhập kho điều chỉnh giảm toàn bộ HĐ cũ và xuất lại HĐ mới đúng số lượng | AE62: mục 03 wcm ko nhận hàng, bb không có ký nhận NCC tự làm việc với CH | AF62: 34222 | AG62: Đã điều chỉnh giảm về 0 | AH62: 00001698 | AI62: 00060737
A63: 45475 | B63: BH2407/0425 | C63: 45484 | D63: 00034434 | E63: 4161266931 | F63: WIN4191 | G63: CN HÀ NỘI - CÔNG TY CỔ PHẦN DỊCH VỤ THƯƠNG MẠI TỔNG HỢP WINCOMMERCE | I63: GTLX250G | J63: Giò Tai Lưỡi Xào 250g | K63: Túi | L63: 10 | M63: 10 | N63: 50182 | O63: 501820 | P63: =M63*N63 -> 501820 | Q63: 0 | R63: 0 | S63: 0 | T63: HN003 | U63: Hà Nội | V63: Huyện Sóc Sơn | W63: MIENBAC; WIN | Y63: K-C6 | AB63: =ROUND(O63*8%,0)+O63 -> 541966 | AC63: 501820 | AD63: =VLOOKUP(AF63,Table1[[Ký hiệu]:[Hướng xli]],9,0) -> NCC xuất hđ điều chỉnh giảm toàn bộ HĐ -> xuất hđ mới đúng giá theo PO của wcm | AE63: mục 02 sai giá | AF63: 34434 | AG63: Đã điều chỉnh giảm về 0 | AH63: 00001699 | AI63: 00060736 | AJ63: 00061603
A64: 45475 | B64: BH2407/0425 | C64: 45484 | D64: 00034434 | E64: 4161266931 | F64: WIN4191 | G64: CN HÀ NỘI - CÔNG TY CỔ PHẦN DỊCH VỤ THƯƠNG MẠI TỔNG HỢP WINCOMMERCE | I64: GM500 | J64: Gà muối 500g | K64: Túi | L64: 20 | M64: 20 | N64: 111058 | O64: 2221160 | P64: =M64*N64 -> 2221160 | Q64: 0 | R64: 0 | S64: 0 | T64: HN003 | U64: Hà Nội | V64: Huyện Sóc Sơn | W64: MIENBAC; WIN | Y64: K-C6 | AB64: =ROUND(O64*8%,0)+O64 -> 2398853 | AC64: 2221160 | AD64: =VLOOKUP(AF64,Table1[[Ký hiệu]:[Hướng xli]],9,0) -> NCC xuất hđ điều chỉnh giảm toàn bộ HĐ -> xuất hđ mới đúng giá theo PO của wcm | AE64: mục 02 sai giá | AF64: 34434 | AG64: Đã điều chỉnh giảm về 0 | AH64: 00001699 | AI64: 00060736 | AJ64: 00061603
A65: 45476 | B65: BH2407/0464 | C65: 45484 | D65: 00034470 | E65: 4161080915 | F65: win3210 | G65: CN HÀ NỘI - wincommerce | I65: CGM300 | J65: Chân giò heo muối 300g | K65: Túi | L65: 10 | M65: 10 | N65: 58745 | O65: 587450 | P65: =M65*N65 -> 587450 | Q65: 0 | R65: 0 | S65: 0 | T65: HN004 | U65: Hà Nội | V65: Quận Hà Đông | W65: MIENBAC;WIN | X65: WINCOMMERCE | Y65: K-C6 | AB65: =ROUND(O65*8%,0)+O65 -> 634446 | AC65: 587450 | AD65: =VLOOKUP(AF65,Table1[[Ký hiệu]:[Hướng xli]],9,0) -> NCC check theo sheep data cửa hàng nhập kho điều chỉnh giảm toàn bộ HĐ cũ và xuất lại HĐ mới đúng số lượng | AE65: mục 03,04,05 wcm ko nhận hàng, bb không có ký nhận NCC tự làm việc với CH | AF65: 34470 | AG65: Đã điều chỉnh giảm về 0 | AH65: 00001700 | AI65: 00060729
A66: 45476 | B66: BH2407/0464 | C66: 45484 | D66: 00034470 | E66: 4161080915 | F66: win3210 | G66: CN HÀ NỘI - wincommerce | I66: GM500 | J66: Gà muối 500g | K66: Túi | L66: 10 | M66: 10 | N66: 111058 | O66: 1110580 | P66: =M66*N66 -> 1110580 | Q66: 0 | R66: 0 | S66: 0 | T66: HN004 | U66: Hà Nội | V66: Quận Hà Đông | W66: MIENBAC;WIN | X66: WINCOMMERCE | Y66: K-C6 | AB66: =ROUND(O66*8%,0)+O66 -> 1199426 | AC66: 1110580 | AD66: =VLOOKUP(AF66,Table1[[Ký hiệu]:[Hướng xli]],9,0) -> NCC check theo sheep data cửa hàng nhập kho điều chỉnh giảm toàn bộ HĐ cũ và xuất lại HĐ mới đúng số lượng | AE66: mục 03,04,05 wcm ko nhận hàng, bb không có ký nhận NCC tự làm việc với CH | AF66: 34470 | AG66: Đã điều chỉnh giảm về 0 | AH66: 00001700 | AI66: 00060729
A67: 45476 | B67: BH2407/0464 | C67: 45484 | D67: 00034470 | E67: 4161080915 | F67: win3210 | G67: CN HÀ NỘI - wincommerce | I67: CC300 | J67: Chả cốm 300g | K67: Túi | L67: 5 | M67: 0 | N67: 74250 | O67: 371250 | P67: =M67*N67 -> 0 | Q67: 0 | R67: 0 | S67: 0 | T67: HN004 | U67: Hà Nội | V67: Quận Hà Đông | W67: MIENBAC;WIN | X67: WINCOMMERCE | Y67: K-C6 | AB67: =ROUND(O67*8%,0)+O67 -> 400950 | AC67: 0 | AD67: =VLOOKUP(AF67,Table1[[Ký hiệu]:[Hướng xli]],9,0) -> NCC check theo sheep data cửa hàng nhập kho điều chỉnh giảm toàn bộ HĐ cũ và xuất lại HĐ mới đúng số lượng | AE67: mục 03,04,05 wcm ko nhận hàng, bb không có ký nhận NCC tự làm việc với CH | AF67: 34470 | AG67: Đã điều chỉnh giảm về 0 | AH67: 00001700 | AI67: 00060729
A68: 45476 | B68: BH2407/0464 | C68: 45484 | D68: 00034470 | E68: 4161080915 | F68: win3210 | G68: CN HÀ NỘI - wincommerce | I68: GTLX250G | J68: Giò Tai Lưỡi Xào 250g | K68: Túi | L68: 5 | M68: 0 | N68: 50182 | O68: 250910 | P68: =M68*N68 -> 0 | Q68: 0 | R68: 0 | S68: 0 | T68: HN004 | U68: Hà Nội | V68: Quận Hà Đông | W68: MIENBAC;WIN | X68: WINCOMMERCE | Y68: K-C6 | AB68: =ROUND(O68*8%,0)+O68 -> 270983 | AC68: 0 | AD68: =VLOOKUP(AF68,Table1[[Ký hiệu]:[Hướng xli]],9,0) -> NCC check theo sheep data cửa hàng nhập kho điều chỉnh giảm toàn bộ HĐ cũ và xuất lại HĐ mới đúng số lượng | AE68: mục 03,04,05 wcm ko nhận hàng, bb không có ký nhận NCC tự làm việc với CH | AF68: 34470 | AG68: Đã điều chỉnh giảm về 0 | AH68: 00001700 | AI68: 00060729
A69: 45476 | B69: BH2407/0464 | C69: 45484 | D69: 00034470 | E69: 4161080915 | F69: win3210 | G69: CN HÀ NỘI - wincommerce | I69: CN300 | J69: Chả nướng 300g | K69: Túi | L69: 5 | M69: 0 | N69: 70950 | O69: 354750 | P69: =M69*N69 -> 0 | Q69: 0 | R69: 0 | S69: 0 | T69: HN004 | U69: Hà Nội | V69: Quận Hà Đông | W69: MIENBAC;WIN | X69: WINCOMMERCE | Y69: K-C6 | AB69: =ROUND(O69*8%,0)+O69 -> 383130 | AC69: 0 | AD69: =VLOOKUP(AF69,Table1[[Ký hiệu]:[Hướng xli]],9,0) -> NCC check theo sheep data cửa hàng nhập kho điều chỉnh giảm toàn bộ HĐ cũ và xuất lại HĐ mới đúng số lượng | AE69: mục 03,04,05 wcm ko nhận hàng, bb không có ký nhận NCC tự làm việc với CH | AF69: 34470 | AG69: Đã điều chỉnh giảm về 0 | AH69: 00001700 | AI69: 00060729
A70: 45478 | B70: BH2407/0812 | C70: 45484 | D70: 00034534 | E70: 4161172365 | F70: WIN5468 | G70: CN HÀ NỘI - CÔNG TY CỔ PHẦN DỊCH VỤ THƯƠNG MẠI TỔNG HỢP WINCOMMERCE | I70: CGM300 | J70: Chân giò heo muối 300g | K70: Túi | L70: 4 | M70: 4 | N70: 58745 | O70: 234980 | P70: =M70*N70 -> 234980 | Q70: 0 | R70: 0 | S70: 0 | T70: HN003 | U70: Hà Nội | V70: Quận Đống Đa | W70: MIENBAC;WIN | X70: WINCOMMERCE | Y70: K-C6 | AB70: =ROUND(O70*8%,0)+O70 -> 253778 | AC70: 234980 | AD70: =VLOOKUP(AF70,Table1[[Ký hiệu]:[Hướng xli]],9,0) -> NCC check theo sheep data cửa hàng nhập kho điều chỉnh giảm toàn bộ HĐ cũ và xuất lại HĐ mới đúng số lượng | AE70: mục 02,03,04 wcm ko nhận hàng, bb không có ký nhận NCC tự làm việc với CH | AF70: 34534 | AG70: Đã điều chỉnh giảm về 0 | AH70: 00001701 | AI70: 00060739
A71: 45478 | B71: BH2407/0812 | C71: 45484 | D71: 00034534 | E71: 4161172365 | F71: WIN5468 | G71: CN HÀ NỘI - CÔNG TY CỔ PHẦN DỊCH VỤ THƯƠNG MẠI TỔNG HỢP WINCOMMERCE | I71: CN300 | J71: Chả nướng 300g | K71: Túi | L71: 2 | M71: 0 | N71: 70950 | O71: 141900 | P71: =M71*N71 -> 0 | Q71: 0 | R71: 0 | S71: 0 | T71: HN003 | U71: Hà Nội | V71: Quận Đống Đa | W71: MIENBAC;WIN | X71: WINCOMMERCE | Y71: K-C6 | AB71: =ROUND(O71*8%,0)+O71 -> 153252 | AC71: 0 | AD71: =VLOOKUP(AF71,Table1[[Ký hiệu]:[Hướng xli]],9,0) -> NCC check theo sheep data cửa hàng nhập kho điều chỉnh giảm toàn bộ HĐ cũ và xuất lại HĐ mới đúng số lượng | AE71: mục 02,03,04 wcm ko nhận hàng, bb không có ký nhận NCC tự làm việc với CH | AF71: 34534 | AG71: Đã điều chỉnh giảm về 0 | AH71: 00001701 | AI71: 00060739
A72: 45478 | B72: BH2407/0812 | C72: 45484 | D72: 00034534 | E72: 4161172365 | F72: WIN5468 | G72: CN HÀ NỘI - CÔNG TY CỔ PHẦN DỊCH VỤ THƯƠNG MẠI TỔNG HỢP WINCOMMERCE | I72: GTLX250G | J72: Giò Tai Lưỡi Xào 250g | K72: Túi | L72: 5 | M72: 0 | N72: 50182 | O72: 250910 | P72: =M72*N72 -> 0 | Q72: 0 | R72: 0 | S72: 0 | T72: HN003 | U72: Hà Nội | V72: Quận Đống Đa | W72: MIENBAC;WIN | X72: WINCOMMERCE | Y72: K-C6 | AB72: =ROUND(O72*8%,0)+O72 -> 270983 | AC72: 0 | AD72: =VLOOKUP(AF72,Table1[[Ký hiệu]:[Hướng xli]],9,0) -> NCC check theo sheep data cửa hàng nhập kho điều chỉnh giảm toàn bộ HĐ cũ và xuất lại HĐ mới đúng số lượng | AE72: mục 02,03,04 wcm ko nhận hàng, bb không có ký nhận NCC tự làm việc với CH | AF72: 34534 | AG72: Đã điều chỉnh giảm về 0 | AH72: 00001701 | AI72: 00060739
A73: 45478 | B73: BH2407/0812 | C73: 45484 | D73: 00034534 | E73: 4161172365 | F73: WIN5468 | G73: CN HÀ NỘI - CÔNG TY CỔ PHẦN DỊCH VỤ THƯƠNG MẠI TỔNG HỢP WINCOMMERCE | I73: MNH250 | J73: Mọc Nấm Hương 250g | K73: Túi | L73: 2 | M73: 0 | N73: 46000 | O73: 92000 | P73: =M73*N73 -> 0 | Q73: 0 | R73: 0 | S73: 0 | T73: HN003 | U73: Hà Nội | V73: Quận Đống Đa | W73: MIENBAC;WIN | X73: WINCOMMERCE | Y73: K-C6 | AB73: =ROUND(O73*8%,0)+O73 -> 99360 | AC73: 0 | AD73: =VLOOKUP(AF73,Table1[[Ký hiệu]:[Hướng xli]],9,0) -> NCC check theo sheep data cửa hàng nhập kho điều chỉnh giảm toàn bộ HĐ cũ và xuất lại HĐ mới đúng số lượng | AE73: mục 02,03,04 wcm ko nhận hàng, bb không có ký nhận NCC tự làm việc với CH | AF73: 34534 | AG73: Đã điều chỉnh giảm về 0 | AH73: 00001701 | AI73: 00060739
A74: 45474 | B74: BH2407/0250 | C74: 45484 | D74: 00034686 | E74: 4160944840 (5135) | F74: WIN-072 | G74: CHI NHÁNH LÀO CAI - CÔNG TY CỔ PHẦN DỊCH VỤ THƯƠNG MẠI TỔNG HỢP WINCOMMERCE | H74: 0104918404-072 | I74: CGM300 | J74: Chân giò heo muối 300g | K74: Túi | L74: 5 | M74: 0 | N74: 58745 | O74: 293725 | P74: =M74*N74 -> 0 | Q74: 0 | R74: 0 | S74: 0 | U74: Lào Cai | W74: MIENBAC;WIN | X74: WINCOMMERCE | Y74: K-C6 | AB74: =ROUND(O74*8%,0)+O74 -> 317223 | AC74: 0 | AD74: =VLOOKUP(AF74,Table1[[Ký hiệu]:[Hướng xli]],9,0) -> NCC check theo sheep data cửa hàng nhập kho điều chỉnh giảm toàn bộ HĐ cũ và xuất lại HĐ mới đúng số lượng | AE74: mục 01,02 wcm ko nhận hàng, bb không có ký nhận NCC tự làm việc với CH | AF74: 34686 | AG74: Đã điều chỉnh giảm về 0 | AH74: 00001702 | AI74: 00060744
A75: 45474 | B75: BH2407/0250 | C75: 45484 | D75: 00034686 | E75: 4160944840 (5135) | F75: WIN-072 | G75: CHI NHÁNH LÀO CAI - CÔNG TY CỔ PHẦN DỊCH VỤ THƯƠNG MẠI TỔNG HỢP WINCOMMERCE | H75: 0104918404-072 | I75: GTLX250G | J75: Giò Tai Lưỡi Xào 250g | K75: Túi | L75: 5 | M75: 0 | N75: 50182 | O75: 250910 | P75: =M75*N75 -> 0 | Q75: 0 | R75: 0 | S75: 0 | U75: Lào Cai | W75: MIENBAC;WIN | X75: WINCOMMERCE | Y75: K-C6 | AB75: =ROUND(O75*8%,0)+O75 -> 270983 | AC75: 0 | AD75: =VLOOKUP(AF75,Table1[[Ký hiệu]:[Hướng xli]],9,0) -> NCC check theo sheep data cửa hàng nhập kho điều chỉnh giảm toàn bộ HĐ cũ và xuất lại HĐ mới đúng số lượng | AE75: mục 01,02 wcm ko nhận hàng, bb không có ký nhận NCC tự làm việc với CH | AF75: 34686 | AG75: Đã điều chỉnh giảm về 0 | AH75: 00001702 | AI75: 00060744
A76: 45474 | B76: BH2407/0250 | C76: 45484 | D76: 00034686 | E76: 4160944840 (5135) | F76: WIN-072 | G76: CHI NHÁNH LÀO CAI - CÔNG TY CỔ PHẦN DỊCH VỤ THƯƠNG MẠI TỔNG HỢP WINCOMMERCE | H76: 0104918404-072 | I76: MNH250 | J76: Mọc Nấm Hương 250g | K76: Túi | L76: 5 | M76: 5 | N76: 46000 | O76: 230000 | P76: =M76*N76 -> 230000 | Q76: 0 | R76: 0 | S76: 0 | U76: Lào Cai | W76: MIENBAC;WIN | X76: WINCOMMERCE | Y76: K-C6 | AB76: =ROUND(O76*8%,0)+O76 -> 248400 | AC76: 230000 | AD76: =VLOOKUP(AF76,Table1[[Ký hiệu]:[Hướng xli]],9,0) -> NCC check theo sheep data cửa hàng nhập kho điều chỉnh giảm toàn bộ HĐ cũ và xuất lại HĐ mới đúng số lượng | AE76: mục 01,02 wcm ko nhận hàng, bb không có ký nhận NCC tự làm việc với CH | AF76: 34686 | AG76: Đã điều chỉnh giảm về 0 | AH76: 00001702 | AI76: 00060744
A77: 45479 | B77: BH2407/0618 | C77: 45484 | D77: 00034944 | E77: 4161024148 | F77: win4303 | G77: CN HCM - Wincommerce | I77: GL250 | J77: Giò lụa cây 250g | K77: Túi | L77: 4 | M77: 4 | N77: 59400 | O77: 237600 | P77: =M77*N77 -> 237600 | Q77: 0 | R77: 0 | S77: 0 | T77: SG005 | U77: Hồ Chí Minh | V77: Quận Tân Phú | W77: MIENNAM;WIN | X77: WINCOMMERCE | Y77: K-HCM | AB77: =ROUND(O77*8%,0)+O77 -> 256608 | AC77: 0 | AD77: =VLOOKUP(AF77,Table1[[Ký hiệu]:[Hướng xli]],9,0) -> NCC điều chỉnh giảm toàn bộ HĐ | AE77: PO chưa nhập kho -> kế toán đang gửi CH chưa nhận được phản hồi | AF77: 34944 | AG77: TÌM VÀ CUNG CẤP LẠI CHO WIN CHỨNG TỪ ĐÃ GIAO
A78: 45479 | B78: BH2407/0618 | C78: 45484 | D78: 00034944 | E78: 4161024148 | F78: win4303 | G78: CN HCM - Wincommerce | I78: CN300 | J78: Chả nướng 300g | K78: Túi | L78: 4 | M78: 4 | N78: 70950 | O78: 283800 | P78: =M78*N78 -> 283800 | Q78: 0 | R78: 0 | S78: 0 | T78: SG005 | U78: Hồ Chí Minh | V78: Quận Tân Phú | W78: MIENNAM;WIN | X78: WINCOMMERCE | Y78: K-HCM | AB78: =ROUND(O78*8%,0)+O78 -> 306504 | AC78: 0 | AD78: =VLOOKUP(AF78,Table1[[Ký hiệu]:[Hướng xli]],9,0) -> NCC điều chỉnh giảm toàn bộ HĐ | AE78: PO chưa nhập kho -> kế toán đang gửi CH chưa nhận được phản hồi | AF78: 34944 | AG78: TÌM VÀ CUNG CẤP LẠI CHO WIN CHỨNG TỪ ĐÃ GIAO
A79: 45479 | B79: BH2407/0618 | C79: 45484 | D79: 00034944 | E79: 4161024148 | F79: win4303 | G79: CN HCM - Wincommerce | I79: MNH250 | J79: Mọc Nấm Hương 250g | K79: Túi | L79: 8 | M79: 8 | N79: 46000 | O79: 368000 | P79: =M79*N79 -> 368000 | Q79: 0 | R79: 0 | S79: 0 | T79: SG005 | U79: Hồ Chí Minh | V79: Quận Tân Phú | W79: MIENNAM;WIN | X79: WINCOMMERCE | Y79: K-HCM | AB79: =ROUND(O79*8%,0)+O79 -> 397440 | AC79: 0 | AD79: =VLOOKUP(AF79,Table1[[Ký hiệu]:[Hướng xli]],9,0) -> NCC điều chỉnh giảm toàn bộ HĐ | AE79: PO chưa nhập kho -> kế toán đang gửi CH chưa nhận được phản hồi | AF79: 34944 | AG79: TÌM VÀ CUNG CẤP LẠI CHO WIN CHỨNG TỪ ĐÃ GIAO
A80: 45481 | B80: BH2407/0621 | C80: 45484 | D80: 00034947 | E80: 4161235542 | F80: win3242 | G80: CN HCM - WINCOMMERCE | I80: CGM300 | J80: Chân giò heo muối 300g | K80: Túi | L80: 6 | M80: 6 | N80: 73431 | O80: 440586 | P80: =M80*N80 -> 440586 | Q80: 0 | R80: 0 | S80: 0 | T80: SG011 | U80: Hồ Chí Minh | V80: Thành phố Thủ Đức | W80: MIENNAM;WIN | X80: WINCOMMERCE | Y80: K-HCM | AB80: =ROUND(O80*8%,0)+O80 -> 475833 | AC80: 0 | AD80: =VLOOKUP(AF80,Table1[[Ký hiệu]:[Hướng xli]],9,0) -> NCC điều chỉnh giảm toàn bộ HĐ | AE80: PO chưa nhập kho -> kế toán đang gửi CH chưa nhận được phản hồi | AF80: 34947 | AG80: TÌM VÀ CUNG CẤP LẠI CHO WIN CHỨNG TỪ ĐÃ GIAO
A81: 45481 | B81: BH2407/0621 | C81: 45484 | D81: 00034947 | E81: 4161235542 | F81: win3242 | G81: CN HCM - WINCOMMERCE | I81: GM500 | J81: Gà muối 500g | K81: Túi | L81: 6 | M81: 6 | N81: 111058 | O81: 666348 | P81: =M81*N81 -> 666348 | Q81: 0 | R81: 0 | S81: 0 | T81: SG011 | U81: Hồ Chí Minh | V81: Thành phố Thủ Đức | W81: MIENNAM;WIN | X81: WINCOMMERCE | Y81: K-HCM | AB81: =ROUND(O81*8%,0)+O81 -> 719656 | AC81: 0 | AD81: =VLOOKUP(AF81,Table1[[Ký hiệu]:[Hướng xli]],9,0) -> NCC điều chỉnh giảm toàn bộ HĐ | AE81: PO chưa nhập kho -> kế toán đang gửi CH chưa nhận được phản hồi | AF81: 34947 | AG81: TÌM VÀ CUNG CẤP LẠI CHO WIN CHỨNG TỪ ĐÃ GIAO
A82: 45481 | B82: BH2407/0621 | C82: 45484 | D82: 00034947 | E82: 4161235542 | F82: win3242 | G82: CN HCM - WINCOMMERCE | I82: TH200 | J82: Tai heo muối 200g | K82: Túi | L82: 4 | M82: 4 | N82: 55595 | O82: 222380 | P82: =M82*N82 -> 222380 | Q82: 0 | R82: 0 | S82: 0 | T82: SG011 | U82: Hồ Chí Minh | V82: Thành phố Thủ Đức | W82: MIENNAM;WIN | X82: WINCOMMERCE | Y82: K-HCM | AB82: =ROUND(O82*8%,0)+O82 -> 240170 | AC82: 0 | AD82: =VLOOKUP(AF82,Table1[[Ký hiệu]:[Hướng xli]],9,0) -> NCC điều chỉnh giảm toàn bộ HĐ | AE82: PO chưa nhập kho -> kế toán đang gửi CH chưa nhận được phản hồi | AF82: 34947 | AG82: TÌM VÀ CUNG CẤP LẠI CHO WIN CHỨNG TỪ ĐÃ GIAO
A83: 45481 | B83: BH2407/0621 | C83: 45484 | D83: 00034947 | E83: 4161235542 | F83: win3242 | G83: CN HCM - WINCOMMERCE | I83: CN300 | J83: Chả nướng 300g | K83: Túi | L83: 4 | M83: 4 | N83: 70950 | O83: 283800 | P83: =M83*N83 -> 283800 | Q83: 0 | R83: 0 | S83: 0 | T83: SG011 | U83: Hồ Chí Minh | V83: Thành phố Thủ Đức | W83: MIENNAM;WIN | X83: WINCOMMERCE | Y83: K-HCM | AB83: =ROUND(O83*8%,0)+O83 -> 306504 | AC83: 0 | AD83: =VLOOKUP(AF83,Table1[[Ký hiệu]:[Hướng xli]],9,0) -> NCC điều chỉnh giảm toàn bộ HĐ | AE83: PO chưa nhập kho -> kế toán đang gửi CH chưa nhận được phản hồi | AF83: 34947 | AG83: TÌM VÀ CUNG CẤP LẠI CHO WIN CHỨNG TỪ ĐÃ GIAO
A84: 45481 | B84: BH2407/0621 | C84: 45484 | D84: 00034947 | E84: 4161235542 | F84: win3242 | G84: CN HCM - WINCOMMERCE | I84: CC300 | J84: Chả cốm 300g | K84: Túi | L84: 6 | M84: 6 | N84: 74250 | O84: 445500 | P84: =M84*N84 -> 445500 | Q84: 0 | R84: 0 | S84: 0 | T84: SG011 | U84: Hồ Chí Minh | V84: Thành phố Thủ Đức | W84: MIENNAM;WIN | X84: WINCOMMERCE | Y84: K-HCM | AB84: =ROUND(O84*8%,0)+O84 -> 481140 | AC84: 0 | AD84: =VLOOKUP(AF84,Table1[[Ký hiệu]:[Hướng xli]],9,0) -> NCC điều chỉnh giảm toàn bộ HĐ | AE84: PO chưa nhập kho -> kế toán đang gửi CH chưa nhận được phản hồi | AF84: 34947 | AG84: TÌM VÀ CUNG CẤP LẠI CHO WIN CHỨNG TỪ ĐÃ GIAO
A85: 45481 | B85: BH2407/0621 | C85: 45484 | D85: 00034947 | E85: 4161235542 | F85: win3242 | G85: CN HCM - WINCOMMERCE | I85: GTLX250G | J85: Giò Tai Lưỡi Xào 250g | K85: Túi | L85: 4 | M85: 4 | N85: 50182 | O85: 200728 | P85: =M85*N85 -> 200728 | Q85: 0 | R85: 0 | S85: 0 | T85: SG011 | U85: Hồ Chí Minh | V85: Thành phố Thủ Đức | W85: MIENNAM;WIN | X85: WINCOMMERCE | Y85: K-HCM | AB85: =ROUND(O85*8%,0)+O85 -> 216786 | AC85: 0 | AD85: =VLOOKUP(AF85,Table1[[Ký hiệu]:[Hướng xli]],9,0) -> NCC điều chỉnh giảm toàn bộ HĐ | AE85: PO chưa nhập kho -> kế toán đang gửi CH chưa nhận được phản hồi | AF85: 34947 | AG85: TÌM VÀ CUNG CẤP LẠI CHO WIN CHỨNG TỪ ĐÃ GIAO
A86: 45481 | B86: BH2407/0621 | C86: 45484 | D86: 00034947 | E86: 4161235542 | F86: win3242 | G86: CN HCM - WINCOMMERCE | I86: MNH250 | J86: Mọc Nấm Hương 250g | K86: Túi | L86: 4 | M86: 4 | N86: 46000 | O86: 184000 | P86: =M86*N86 -> 184000 | Q86: 0 | R86: 0 | S86: 0 | T86: SG011 | U86: Hồ Chí Minh | V86: Thành phố Thủ Đức | W86: MIENNAM;WIN | X86: WINCOMMERCE | Y86: K-HCM | AB86: =ROUND(O86*8%,0)+O86 -> 198720 | AC86: 0 | AD86: =VLOOKUP(AF86,Table1[[Ký hiệu]:[Hướng xli]],9,0) -> NCC điều chỉnh giảm toàn bộ HĐ | AE86: PO chưa nhập kho -> kế toán đang gửi CH chưa nhận được phản hồi | AF86: 34947 | AG86: TÌM VÀ CUNG CẤP LẠI CHO WIN CHỨNG TỪ ĐÃ GIAO
A87: 45483 | B87: BH2329019 | C87: 45485 | D87: 00035127 | E87: 4161381861(3807) | F87: WIN-023 | G87: CHI NHÁNH ĐỒNG NAI - CÔNG TY CỔ PHẦN DỊCH VỤ THƯƠNG MẠI TỔNG HỢP WINCOMMERCE | H87: 0104918404-023 | I87: GM500 | J87: Gà muối 500g | K87: Túi | L87: 4 | M87: 4 | N87: 111058 | O87: 444232 | P87: =M87*N87 -> 444232 | Q87: 0 | R87: 0 | S87: 0 | U87: Đồng Nai | W87: MIENNAM;WIN | X87: WINCOMMERCE | Y87: K-HCM | AB87: =ROUND(O87*8%,0)+O87 -> 479771 | AC87: 0 | AD87: =VLOOKUP(AF87,Table1[[Ký hiệu]:[Hướng xli]],9,0) -> NCC điều chỉnh giảm toàn bộ HĐ | AE87: PO chưa nhập kho -> kế toán đang gửi CH chưa nhận được phản hồi | AF87: 35127 | AG87: TÌM VÀ CUNG CẤP LẠI CHO WIN CHỨNG TỪ ĐÃ GIAO
A88: 45483 | B88: BH2329019 | C88: 45485 | D88: 00035127 | E88: 4161381861(3807) | F88: WIN-023 | G88: CHI NHÁNH ĐỒNG NAI - CÔNG TY CỔ PHẦN DỊCH VỤ THƯƠNG MẠI TỔNG HỢP WINCOMMERCE | H88: 0104918404-023 | I88: CGM300 | J88: Chân giò heo muối 300g | K88: Túi | L88: 4 | M88: 4 | N88: 73431 | O88: 293724 | P88: =M88*N88 -> 293724 | Q88: 0 | R88: 0 | S88: 0 | U88: Đồng Nai | W88: MIENNAM;WIN | X88: WINCOMMERCE | Y88: K-HCM | AB88: =ROUND(O88*8%,0)+O88 -> 317222 | AC88: 0 | AD88: =VLOOKUP(AF88,Table1[[Ký hiệu]:[Hướng xli]],9,0) -> NCC điều chỉnh giảm toàn bộ HĐ | AE88: PO chưa nhập kho -> kế toán đang gửi CH chưa nhận được phản hồi | AF88: 35127 | AG88: TÌM VÀ CUNG CẤP LẠI CHO WIN CHỨNG TỪ ĐÃ GIAO
A89: 45483 | B89: BH2329019 | C89: 45485 | D89: 00035127 | E89: 4161381861(3807) | F89: WIN-023 | G89: CHI NHÁNH ĐỒNG NAI - CÔNG TY CỔ PHẦN DỊCH VỤ THƯƠNG MẠI TỔNG HỢP WINCOMMERCE | H89: 0104918404-023 | I89: GTLX250G | J89: Giò Tai Lưỡi Xào 250g | K89: Túi | L89: 4 | M89: 4 | N89: 50182 | O89: 200728 | P89: =M89*N89 -> 200728 | Q89: 0 | R89: 0 | S89: 0 | U89: Đồng Nai | W89: MIENNAM;WIN | X89: WINCOMMERCE | Y89: K-HCM | AB89: =ROUND(O89*8%,0)+O89 -> 216786 | AC89: 0 | AD89: =VLOOKUP(AF89,Table1[[Ký hiệu]:[Hướng xli]],9,0) -> NCC điều chỉnh giảm toàn bộ HĐ | AE89: PO chưa nhập kho -> kế toán đang gửi CH chưa nhận được phản hồi | AF89: 35127 | AG89: TÌM VÀ CUNG CẤP LẠI CHO WIN CHỨNG TỪ ĐÃ GIAO
A90: 45477 | B90: BH2328638 | C90: 45485 | D90: 00035137 | E90: 4161216524(5756) | F90: WIN-024 | G90: CHI NHÁNH BÌNH DƯƠNG - CÔNG TY CỔ PHẦN DỊCH VỤ THƯƠNG MẠI TỔNG HỢP WINCOMMERCE | H90: 0104918404-024 | I90: GM500 | J90: Gà muối 500g | K90: Túi | L90: 4 | M90: 4 | N90: 111058 | O90: 444232 | P90: =M90*N90 -> 444232 | Q90: 0 | R90: 0 | S90: 0 | U90: Bình Dương | W90: MIENNAM;WIN | X90: WINCOMMERCE | Y90: K-HCM | AB90: =ROUND(O90*8%,0)+O90 -> 479771 | AC90: 444232 | AD90: =VLOOKUP(AF90,Table1[[Ký hiệu]:[Hướng xli]],9,0) -> NCC check theo sheep data cửa hàng nhập kho điều chỉnh giảm toàn bộ HĐ cũ và xuất lại HĐ mới đúng số lượng | AE90: mục 04 wcm ko nhận hàng, bb không có ký nhận NCC tự làm việc với CH | AF90: 35137 | AG90: Đã điều chỉnh giảm về 0 | AH90: 00001703 | AI90: 00060718 | AJ90: C Mây báo cửa hàng đã hủy | AK90: 00001988
A91: 45477 | B91: BH2328638 | C91: 45485 | D91: 00035137 | E91: 4161216524(5756) | F91: WIN-024 | G91: CHI NHÁNH BÌNH DƯƠNG - CÔNG TY CỔ PHẦN DỊCH VỤ THƯƠNG MẠI TỔNG HỢP WINCOMMERCE | H91: 0104918404-024 | I91: CGM300 | J91: Chân giò heo muối 300g | K91: Túi | L91: 8 | M91: 8 | N91: 58745 | O91: 469960 | P91: =M91*N91 -> 469960 | Q91: 0 | R91: 0 | S91: 0 | U91: Bình Dương | W91: MIENNAM;WIN | X91: WINCOMMERCE | Y91: K-HCM | AB91: =ROUND(O91*8%,0)+O91 -> 507557 | AC91: 469960 | AD91: =VLOOKUP(AF91,Table1[[Ký hiệu]:[Hướng xli]],9,0) -> NCC check theo sheep data cửa hàng nhập kho điều chỉnh giảm toàn bộ HĐ cũ và xuất lại HĐ mới đúng số lượng | AE91: mục 04 wcm ko nhận hàng, bb không có ký nhận NCC tự làm việc với CH | AF91: 35137 | AG91: Đã điều chỉnh giảm về 0 | AH91: 00001703 | AI91: 00060718 | AJ91: C Mây báo cửa hàng đã hủy | AK91: 00001988
A92: 45477 | B92: BH2328638 | C92: 45485 | D92: 00035137 | E92: 4161216524(5756) | F92: WIN-024 | G92: CHI NHÁNH BÌNH DƯƠNG - CÔNG TY CỔ PHẦN DỊCH VỤ THƯƠNG MẠI TỔNG HỢP WINCOMMERCE | H92: 0104918404-024 | I92: TH200 | J92: Tai heo muối 200g | K92: Túi | L92: 4 | M92: 4 | N92: 55595 | O92: 222380 | P92: =M92*N92 -> 222380 | Q92: 0 | R92: 0 | S92: 0 | U92: Bình Dương | W92: MIENNAM;WIN | X92: WINCOMMERCE | Y92: K-HCM | AB92: =ROUND(O92*8%,0)+O92 -> 240170 | AC92: 222380 | AD92: =VLOOKUP(AF92,Table1[[Ký hiệu]:[Hướng xli]],9,0) -> NCC check theo sheep data cửa hàng nhập kho điều chỉnh giảm toàn bộ HĐ cũ và xuất lại HĐ mới đúng số lượng | AE92: mục 04 wcm ko nhận hàng, bb không có ký nhận NCC tự làm việc với CH | AF92: 35137 | AG92: Đã điều chỉnh giảm về 0 | AH92: 00001703 | AI92: 00060718 | AJ92: C Mây báo cửa hàng đã hủy | AK92: 00001988
A93: 45477 | B93: BH2328638 | C93: 45485 | D93: 00035137 | E93: 4161216524(5756) | F93: WIN-024 | G93: CHI NHÁNH BÌNH DƯƠNG - CÔNG TY CỔ PHẦN DỊCH VỤ THƯƠNG MẠI TỔNG HỢP WINCOMMERCE | H93: 0104918404-024 | I93: CN300 | J93: Chả nướng 300g | K93: Túi | L93: 4 | M93: 0 | N93: 70950 | O93: 283800 | P93: =M93*N93 -> 0 | Q93: 0 | R93: 0 | S93: 0 | U93: Bình Dương | W93: MIENNAM;WIN | X93: WINCOMMERCE | Y93: K-HCM | AB93: =ROUND(O93*8%,0)+O93 -> 306504 | AC93: 0 | AD93: =VLOOKUP(AF93,Table1[[Ký hiệu]:[Hướng xli]],9,0) -> NCC check theo sheep data cửa hàng nhập kho điều chỉnh giảm toàn bộ HĐ cũ và xuất lại HĐ mới đúng số lượng | AE93: mục 04 wcm ko nhận hàng, bb không có ký nhận NCC tự làm việc với CH | AF93: 35137 | AG93: Đã điều chỉnh giảm về 0 | AH93: 00001703 | AI93: 00060718 | AJ93: C Mây báo cửa hàng đã hủy | AK93: 00001988
A94: 45477 | B94: BH2328642 | C94: 45485 | D94: 00035141 | E94: 4161186571(4092) | F94: WIN-024 | G94: CHI NHÁNH BÌNH DƯƠNG - CÔNG TY CỔ PHẦN DỊCH VỤ THƯƠNG MẠI TỔNG HỢP WINCOMMERCE | H94: 0104918404-024 | I94: GM500 | J94: Gà muối 500g | K94: Túi | L94: 6 | M94: 6 | N94: 111058 | O94: 666348 | P94: =M94*N94 -> 666348 | Q94: 0 | R94: 0 | S94: 0 | U94: Bình Dương | W94: MIENNAM;WIN | X94: WINCOMMERCE | Y94: K-HCM | AB94: =ROUND(O94*8%,0)+O94 -> 719656 | AC94: 666348 | AD94: =VLOOKUP(AF94,Table1[[Ký hiệu]:[Hướng xli]],9,0) -> NCC check theo sheep data cửa hàng nhập kho điều chỉnh giảm toàn bộ HĐ cũ và xuất lại HĐ mới đúng số lượng | AE94: mục 02,03,06 wcm ko nhận hàng, bb không có ký nhận NCC tự làm việc với CH | AF94: 35141 | AG94: Đã điều chỉnh giảm về 0 | AH94: 00001704 | AI94: 00060719
A95: 45477 | B95: BH2328642 | C95: 45485 | D95: 00035141 | E95: 4161186571(4092) | F95: WIN-024 | G95: CHI NHÁNH BÌNH DƯƠNG - CÔNG TY CỔ PHẦN DỊCH VỤ THƯƠNG MẠI TỔNG HỢP WINCOMMERCE | H95: 0104918404-024 | I95: CC300 | J95: Chả cốm 300g | K95: Túi | L95: 4 | M95: 0 | N95: 74250 | O95: 297000 | P95: =M95*N95 -> 0 | Q95: 0 | R95: 0 | S95: 0 | U95: Bình Dương | W95: MIENNAM;WIN | X95: WINCOMMERCE | Y95: K-HCM | AB95: =ROUND(O95*8%,0)+O95 -> 320760 | AC95: 0 | AD95: =VLOOKUP(AF95,Table1[[Ký hiệu]:[Hướng xli]],9,0) -> NCC check theo sheep data cửa hàng nhập kho điều chỉnh giảm toàn bộ HĐ cũ và xuất lại HĐ mới đúng số lượng | AE95: mục 02,03,06 wcm ko nhận hàng, bb không có ký nhận NCC tự làm việc với CH | AF95: 35141 | AG95: Đã điều chỉnh giảm về 0 | AH95: 00001704 | AI95: 00060719
A96: 45477 | B96: BH2328642 | C96: 45485 | D96: 00035141 | E96: 4161186571(4092) | F96: WIN-024 | G96: CHI NHÁNH BÌNH DƯƠNG - CÔNG TY CỔ PHẦN DỊCH VỤ THƯƠNG MẠI TỔNG HỢP WINCOMMERCE | H96: 0104918404-024 | I96: CN300 | J96: Chả nướng 300g | K96: Túi | L96: 4 | M96: 0 | N96: 70950 | O96: 283800 | P96: =M96*N96 -> 0 | Q96: 0 | R96: 0 | S96: 0 | U96: Bình Dương | W96: MIENNAM;WIN | X96: WINCOMMERCE | Y96: K-HCM | AB96: =ROUND(O96*8%,0)+O96 -> 306504 | AC96: 0 | AD96: =VLOOKUP(AF96,Table1[[Ký hiệu]:[Hướng xli]],9,0) -> NCC check theo sheep data cửa hàng nhập kho điều chỉnh giảm toàn bộ HĐ cũ và xuất lại HĐ mới đúng số lượng | AE96: mục 02,03,06 wcm ko nhận hàng, bb không có ký nhận NCC tự làm việc với CH | AF96: 35141 | AG96: Đã điều chỉnh giảm về 0 | AH96: 00001704 | AI96: 00060719
A97: 45477 | B97: BH2328642 | C97: 45485 | D97: 00035141 | E97: 4161186571(4092) | F97: WIN-024 | G97: CHI NHÁNH BÌNH DƯƠNG - CÔNG TY CỔ PHẦN DỊCH VỤ THƯƠNG MẠI TỔNG HỢP WINCOMMERCE | H97: 0104918404-024 | I97: CGM300 | J97: Chân giò heo muối 300g | K97: Túi | L97: 6 | M97: 6 | N97: 58745 | O97: 352470 | P97: =M97*N97 -> 352470 | Q97: 0 | R97: 0 | S97: 0 | U97: Bình Dương | W97: MIENNAM;WIN | X97: WINCOMMERCE | Y97: K-HCM | AB97: =ROUND(O97*8%,0)+O97 -> 380668 | AC97: 352470 | AD97: =VLOOKUP(AF97,Table1[[Ký hiệu]:[Hướng xli]],9,0) -> NCC check theo sheep data cửa hàng nhập kho điều chỉnh giảm toàn bộ HĐ cũ và xuất lại HĐ mới đúng số lượng | AE97: mục 02,03,06 wcm ko nhận hàng, bb không có ký nhận NCC tự làm việc với CH | AF97: 35141 | AG97: Đã điều chỉnh giảm về 0 | AH97: 00001704 | AI97: 00060719
A98: 45477 | B98: BH2328642 | C98: 45485 | D98: 00035141 | E98: 4161186571(4092) | F98: WIN-024 | G98: CHI NHÁNH BÌNH DƯƠNG - CÔNG TY CỔ PHẦN DỊCH VỤ THƯƠNG MẠI TỔNG HỢP WINCOMMERCE | H98: 0104918404-024 | I98: TH200 | J98: Tai heo muối 200g | K98: Túi | L98: 4 | M98: 4 | N98: 55595 | O98: 222380 | P98: =M98*N98 -> 222380 | Q98: 0 | R98: 0 | S98: 0 | U98: Bình Dương | W98: MIENNAM;WIN | X98: WINCOMMERCE | Y98: K-HCM | AB98: =ROUND(O98*8%,0)+O98 -> 240170 | AC98: 222380 | AD98: =VLOOKUP(AF98,Table1[[Ký hiệu]:[Hướng xli]],9,0) -> NCC check theo sheep data cửa hàng nhập kho điều chỉnh giảm toàn bộ HĐ cũ và xuất lại HĐ mới đúng số lượng | AE98: mục 02,03,06 wcm ko nhận hàng, bb không có ký nhận NCC tự làm việc với CH | AF98: 35141 | AG98: Đã điều chỉnh giảm về 0 | AH98: 00001704 | AI98: 00060719
A99: 45477 | B99: BH2328642 | C99: 45485 | D99: 00035141 | E99: 4161186571(4092) | F99: WIN-024 | G99: CHI NHÁNH BÌNH DƯƠNG - CÔNG TY CỔ PHẦN DỊCH VỤ THƯƠNG MẠI TỔNG HỢP WINCOMMERCE | H99: 0104918404-024 | I99: GTLX250G | J99: Giò Tai Lưỡi Xào 250g | K99: Túi | L99: 4 | M99: 0 | N99: 50182 | O99: 200728 | P99: =M99*N99 -> 0 | Q99: 0 | R99: 0 | S99: 0 | U99: Bình Dương | W99: MIENNAM;WIN | X99: WINCOMMERCE | Y99: K-HCM | AB99: =ROUND(O99*8%,0)+O99 -> 216786 | AC99: 0 | AD99: =VLOOKUP(AF99,Table1[[Ký hiệu]:[Hướng xli]],9,0) -> NCC check theo sheep data cửa hàng nhập kho điều chỉnh giảm toàn bộ HĐ cũ và xuất lại HĐ mới đúng số lượng | AE99: mục 02,03,06 wcm ko nhận hàng, bb không có ký nhận NCC tự làm việc với CH | AF99: 35141 | AG99: Đã điều chỉnh giảm về 0 | AH99: 00001704 | AI99: 00060719
A100: 45479 | B100: BH2328847 | C100: 45485 | D100: 00035148 | E100: 4161196508(2AG1) | F100: WIN-024 | G100: CHI NHÁNH BÌNH DƯƠNG - CÔNG TY CỔ PHẦN DỊCH VỤ THƯƠNG MẠI TỔNG HỢP WINCOMMERCE | H100: 0104918404-024 | I100: GM500 | J100: Gà muối 500g | K100: Túi | L100: 4 | M100: 4 | N100: 88846 | O100: 355384 | P100: =M100*N100 -> 355384 | Q100: 0 | R100: 0 | S100: 0 | U100: Bình Dương | W100: MIENNAM;WIN | X100: WINCOMMERCE | Y100: K-HCM | AB100: =ROUND(O100*8%,0)+O100 -> 383815 | AC100: 355384 | AD100: =VLOOKUP(AF100,Table1[[Ký hiệu]:[Hướng xli]],9,0) -> NCC check theo sheep data cửa hàng nhập kho điều chỉnh giảm toàn bộ HĐ cũ và xuất lại HĐ mới đúng số lượng | AE100: mục 03,04 wcm ko nhận hàng, bb không có ký nhận NCC tự làm việc với CH | AF100: 35148 | AG100: Đã điều chỉnh giảm về 0 | AH100: 00001705 | AI100: 00060720
...

Sheet Báo cáo (5)
A1: Ngày hạch toán | B1: Số chứng từ | C1: Ngày hóa đơn | D1: Số hóa đơn | E1: Diễn giải chung | F1: Mã khách hàng | G1: Tên khách hàng | H1: Mã số thuế | I1: Mã hàng | J1: Tên hàng | K1: ĐVT | L1: Tổng số lượng bán | M1: SL DC | N1: Đơn giá | O1: Doanh số bán LÚC ĐẦU | P1: DOANH SỐ BÁN SAU KHI ĐIỀU CHỈNH CHƯA TRỪ CÁC TỜ CHƯA XÁC NHẬN | Q1: Chiết khấu | R1: Số lượng trả lại | S1: Giá trị trả lại | T1: Mã nhân viên bán hàng | U1: Tỉnh/Thành phố | V1: Quận/Huyện | W1: Mã nhóm khách hàng | X1: Mã thống kê | Y1: Mã kho | Z1: Địa điểm giao hàng | AA1: Thông tin người liên hệ | AC1: DOANH SỐ BÁN SAU KHI ĐIỀU CHỈNH CÓ ĐÃ TRỪ CÁC TỜ CHƯA XÁC NHẬN | AF1: Số hóa đơn 2024 | AG1: Hướng xử lý NCC | AH1: Số hóa đơn điều chỉnh giảm về 0 | AI1: số hóa đơn xuất mới | AJ1: Hóa đơn thay thế do xuất sai giá | AK1: Hóa đơn điều chỉnh giảm về 0 do cửa hàng không nhập kho
A2: 45450 | B2: BH2406/00258 | C2: 45456 | D2: 00028825 | E2: 4160177182 | F2: win4146 | G2: CN HCM - wincommerce | I2: CGM300 | J2: Chân giò heo muối 300g | K2: Túi | L2: 3 | M2: 3 | N2: 73431 | O2: 220293 | P2: =M2*N2 -> 220293 | Q2: 0 | R2: 0 | S2: 0 | T2: SG004 | U2: Hồ Chí Minh | V2: Quận 8 | W2: MIENNAM;WIN | X2: WINCOMMERCE | Y2: K-HCM | AB2: =ROUND(O2*8%,0)+O2 -> 237916 | AC2: 220293 | AD2: =VLOOKUP(AF2,Table1[[Ký hiệu]:[Hướng xli]],9,0) -> NCC check theo sheep data cửa hàng nhập kho điều chỉnh giảm toàn bộ HĐ cũ và xuất lại HĐ mới đúng số lượng | AE2: mục 03,05,07 wcm ko nhận hàng, mục 06 chỉ nhận 03 | AF2: 28825 | AG2: Đã điều chỉnh giảm về 0 xuất lại theo thực nhận | AH2: 00001689 | AI2: 00060714
A3: 45450 | B3: BH2406/00258 | C3: 45456 | D3: 00028825 | E3: 4160177182 | F3: win4146 | G3: CN HCM - wincommerce | I3: GM500 | J3: Gà muối 500g | K3: Túi | L3: 3 | M3: 3 | N3: 111058 | O3: 333174 | P3: =M3*N3 -> 333174 | Q3: 0 | R3: 0 | S3: 0 | T3: SG004 | U3: Hồ Chí Minh | V3: Quận 8 | W3: MIENNAM;WIN | X3: WINCOMMERCE | Y3: K-HCM | AB3: =ROUND(O3*8%,0)+O3 -> 359828 | AC3: 333174 | AD3: =VLOOKUP(AF3,Table1[[Ký hiệu]:[Hướng xli]],9,0) -> NCC check theo sheep data cửa hàng nhập kho điều chỉnh giảm toàn bộ HĐ cũ và xuất lại HĐ mới đúng số lượng | AE3: mục 03,05,07 wcm ko nhận hàng, mục 06 chỉ nhận 03 | AF3: 28825 | AG3: Đã điều chỉnh giảm về 0 | AH3: 00001689 | AI3: 00060714
A4: 45450 | B4: BH2406/00258 | C4: 45456 | D4: 00028825 | E4: 4160177182 | F4: win4146 | G4: CN HCM - wincommerce | I4: TH200 | J4: Tai heo muối 200g | K4: Túi | L4: 3 | M4: 0 | N4: 55595 | O4: 166785 | P4: =M4*N4 -> 0 | Q4: 0 | R4: 0 | S4: 0 | T4: SG004 | U4: Hồ Chí Minh | V4: Quận 8 | W4: MIENNAM;WIN | X4: WINCOMMERCE | Y4: K-HCM | AB4: =ROUND(O4*8%,0)+O4 -> 180128 | AC4: 0 | AD4: =VLOOKUP(AF4,Table1[[Ký hiệu]:[Hướng xli]],9,0) -> NCC check theo sheep data cửa hàng nhập kho điều chỉnh giảm toàn bộ HĐ cũ và xuất lại HĐ mới đúng số lượng | AE4: mục 03,05,07 wcm ko nhận hàng, mục 06 chỉ nhận 03 | AF4: 28825 | AG4: Đã điều chỉnh giảm về 0 | AH4: 00001689 | AI4: 00060714
A5: 45450 | B5: BH2406/00258 | C5: 45456 | D5: 00028825 | E5: 4160177182 | F5: win4146 | G5: CN HCM - wincommerce | I5: GL250 | J5: Giò lụa cây 250g | K5: Túi | L5: 3 | M5: 3 | N5: 44550 | O5: 133650 | P5: =M5*N5 -> 133650 | Q5: 0 | R5: 0 | S5: 0 | T5: SG004 | U5: Hồ Chí Minh | V5: Quận 8 | W5: MIENNAM;WIN | X5: WINCOMMERCE | Y5: K-HCM | AB5: =ROUND(O5*8%,0)+O5 -> 144342 | AC5: 133650 | AD5: =VLOOKUP(AF5,Table1[[Ký hiệu]:[Hướng xli]],9,0) -> NCC check theo sheep data cửa hàng nhập kho điều chỉnh giảm toàn bộ HĐ cũ và xuất lại HĐ mới đúng số lượng | AE5: mục 03,05,07 wcm ko nhận hàng, mục 06 chỉ nhận 03 | AF5: 28825 | AG5: Đã điều chỉnh giảm về 0 | AH5: 00001689 | AI5: 00060714
A6: 45450 | B6: BH2406/00258 | C6: 45456 | D6: 00028825 | E6: 4160177182 | F6: win4146 | G6: CN HCM - wincommerce | I6: CN300 | J6: Chả nướng 300g | K6: Túi | L6: 3 | M6: 0 | N6: 70950 | O6: 212850 | P6: =M6*N6 -> 0 | Q6: 0 | R6: 0 | S6: 0 | T6: SG004 | U6: Hồ Chí Minh | V6: Quận 8 | W6: MIENNAM;WIN | X6: WINCOMMERCE | Y6: K-HCM | AB6: =ROUND(O6*8%,0)+O6 -> 229878 | AC6: 0 | AD6: =VLOOKUP(AF6,Table1[[Ký hiệu]:[Hướng xli]],9,0) -> NCC check theo sheep data cửa hàng nhập kho điều chỉnh giảm toàn bộ HĐ cũ và xuất lại HĐ mới đúng số lượng | AE6: mục 03,05,07 wcm ko nhận hàng, mục 06 chỉ nhận 03 | AF6: 28825 | AG6: Đã điều chỉnh giảm về 0 | AH6: 00001689 | AI6: 00060714
A7: 45450 | B7: BH2406/00258 | C7: 45456 | D7: 00028825 | E7: 4160177182 | F7: win4146 | G7: CN HCM - wincommerce | I7: CC300 | J7: Chả cốm 300g | K7: Túi | L7: 6 | M7: 3 | N7: 59400 | O7: 356400 | P7: =M7*N7 -> 178200 | Q7: 0 | R7: 0 | S7: 0 | T7: SG004 | U7: Hồ Chí Minh | V7: Quận 8 | W7: MIENNAM;WIN | X7: WINCOMMERCE | Y7: K-HCM | AB7: =ROUND(O7*8%,0)+O7 -> 384912 | AC7: 178200 | AD7: =VLOOKUP(AF7,Table1[[Ký hiệu]:[Hướng xli]],9,0) -> NCC check theo sheep data cửa hàng nhập kho điều chỉnh giảm toàn bộ HĐ cũ và xuất lại HĐ mới đúng số lượng | AE7: mục 03,05,07 wcm ko nhận hàng, mục 06 chỉ nhận 03 | AF7: 28825 | AG7: Đã điều chỉnh giảm về 0 | AH7: 00001689 | AI7: 00060714
A8: 45450 | B8: BH2406/00258 | C8: 45456 | D8: 00028825 | E8: 4160177182 | F8: win4146 | G8: CN HCM - wincommerce | I8: GTLX250G | J8: Giò Tai Lưỡi Xào 250g | K8: Túi | L8: 3 | M8: 0 | N8: 50182 | O8: 150546 | P8: =M8*N8 -> 0 | Q8: 0 | R8: 0 | S8: 0 | T8: SG004 | U8: Hồ Chí Minh | V8: Quận 8 | W8: MIENNAM;WIN | X8: WINCOMMERCE | Y8: K-HCM | AB8: =ROUND(O8*8%,0)+O8 -> 162590 | AC8: 0 | AD8: =VLOOKUP(AF8,Table1[[Ký hiệu]:[Hướng xli]],9,0) -> NCC check theo sheep data cửa hàng nhập kho điều chỉnh giảm toàn bộ HĐ cũ và xuất lại HĐ mới đúng số lượng | AE8: mục 03,05,07 wcm ko nhận hàng, mục 06 chỉ nhận 03 | AF8: 28825 | AG8: Đã điều chỉnh giảm về 0 | AH8: 00001689 | AI8: 00060714
A9: 45450 | B9: BH2406/00258 | C9: 45456 | D9: 00028825 | E9: 4160177182 | F9: win4146 | G9: CN HCM - wincommerce | I9: MNH250 | J9: Mọc Nấm Hương 250g | K9: Túi | L9: 3 | M9: 3 | N9: 37720 | O9: 113160 | P9: =M9*N9 -> 113160 | Q9: 0 | R9: 0 | S9: 0 | T9: SG004 | U9: Hồ Chí Minh | V9: Quận 8 | W9: MIENNAM;WIN | X9: WINCOMMERCE | Y9: K-HCM | AB9: =ROUND(O9*8%,0)+O9 -> 122213 | AC9: 113160 | AD9: =VLOOKUP(AF9,Table1[[Ký hiệu]:[Hướng xli]],9,0) -> NCC check theo sheep data cửa hàng nhập kho điều chỉnh giảm toàn bộ HĐ cũ và xuất lại HĐ mới đúng số lượng | AE9: mục 03,05,07 wcm ko nhận hàng, mục 06 chỉ nhận 03 | AF9: 28825 | AG9: Đã điều chỉnh giảm về 0 | AH9: 00001689 | AI9: 00060714
A10: 45474 | B10: BH2406/03543 | C10: 45477 | D10: 00032409 | E10: 4160781730 | F10: win6634 | G10: CN HÀ NỘI - wincommerce | I10: CGM300 | J10: Chân giò heo muối 300g | K10: Túi | L10: 5 | M10: 5 | N10: 58745 | O10: 293725 | P10: =M10*N10 -> 293725 | Q10: 0 | R10: 0 | S10: 0 | T10: HN004 | U10: Hà Nội | V10: Quận Hà Đông | W10: MIENBAC;WIN | X10: WINCOMMERCE | Y10: K-C6 | AB10: =ROUND(O10*8%,0)+O10 -> 317223 | AC10: 0 | AD10: =VLOOKUP(AF10,Table1[[Ký hiệu]:[Hướng xli]],9,0) -> NCC điều chỉnh giảm toàn bộ HĐ | AE10: PO chưa nhập kho -> kế toán đang gửi CH chưa nhận được phản hồi | AF10: 32409 | AG10: TÌM VÀ CUNG CẤP LẠI CHO WIN CHỨNG TỪ ĐÃ GIAO
A11: 45474 | B11: BH2406/03543 | C11: 45477 | D11: 00032409 | E11: 4160781730 | F11: win6634 | G11: CN HÀ NỘI - wincommerce | I11: GM500 | J11: Gà muối 500g | K11: Túi | L11: 10 | M11: 10 | N11: 111058 | O11: 1110580 | P11: =M11*N11 -> 1110580 | Q11: 0 | R11: 0 | S11: 0 | T11: HN004 | U11: Hà Nội | V11: Quận Hà Đông | W11: MIENBAC;WIN | X11: WINCOMMERCE | Y11: K-C6 | AB11: =ROUND(O11*8%,0)+O11 -> 1199426 | AC11: 0 | AD11: =VLOOKUP(AF11,Table1[[Ký hiệu]:[Hướng xli]],9,0) -> NCC điều chỉnh giảm toàn bộ HĐ | AE11: PO chưa nhập kho -> kế toán đang gửi CH chưa nhận được phản hồi | AF11: 32409 | AG11: TÌM VÀ CUNG CẤP LẠI CHO WIN CHỨNG TỪ ĐÃ GIAO
A12: 45474 | B12: BH2406/03543 | C12: 45477 | D12: 00032409 | E12: 4160781730 | F12: win6634 | G12: CN HÀ NỘI - wincommerce | I12: MNH250 | J12: Mọc Nấm Hương 250g | K12: Túi | L12: 3 | M12: 3 | N12: 37720 | O12: 113160 | P12: =M12*N12 -> 113160 | Q12: 0 | R12: 0 | S12: 0 | T12: HN004 | U12: Hà Nội | V12: Quận Hà Đông | W12: MIENBAC;WIN | X12: WINCOMMERCE | Y12: K-C6 | AB12: =ROUND(O12*8%,0)+O12 -> 122213 | AC12: 0 | AD12: =VLOOKUP(AF12,Table1[[Ký hiệu]:[Hướng xli]],9,0) -> NCC điều chỉnh giảm toàn bộ HĐ | AE12: PO chưa nhập kho -> kế toán đang gửi CH chưa nhận được phản hồi | AF12: 32409 | AG12: TÌM VÀ CUNG CẤP LẠI CHO WIN CHỨNG TỪ ĐÃ GIAO
A13: 45474 | B13: BH2406/03808 | C13: 45477 | D13: 00032471 | E13: 4160864944 | F13: win5509 | G13: CN HÀ NỘI - wincommerce | I13: CGM300 | J13: Chân giò heo muối 300g | K13: Túi | L13: 5 | M13: 5 | N13: 58745 | O13: 293725 | P13: =M13*N13 -> 293725 | Q13: 0 | R13: 0 | S13: 0 | T13: HN004 | U13: Hà Nội | V13: Huyện Hoài Đức | W13: MIENBAC;WIN | X13: WINCOMMERCE | AB13: =ROUND(O13*8%,0)+O13 -> 317223 | AC13: 293725 | AD13: =VLOOKUP(AF13,Table1[[Ký hiệu]:[Hướng xli]],9,0) -> NCC check theo sheep data cửa hàng nhập kho điều chỉnh giảm toàn bộ HĐ cũ và xuất lại HĐ mới đúng số lượng | AE13: mục 02 wcm ko nhận hàng, bb không có ký nhận NCC tự làm việc với CH | AF13: 32471 | AG13: Đã điều chỉnh giảm về 0 | AH13: 00001690 | AI13: 00060747
A14: 45474 | B14: BH2406/03808 | C14: 45477 | D14: 00032471 | E14: 4160864944 | F14: win5509 | G14: CN HÀ NỘI - wincommerce | I14: GM500 | J14: Gà muối 500g | K14: Túi | L14: 3 | M14: 0 | N14: 111058 | O14: 333174 | P14: =M14*N14 -> 0 | Q14: 0 | R14: 0 | S14: 0 | T14: HN004 | U14: Hà Nội | V14: Huyện Hoài Đức | W14: MIENBAC;WIN | X14: WINCOMMERCE | AB14: =ROUND(O14*8%,0)+O14 -> 359828 | AC14: 0 | AD14: =VLOOKUP(AF14,Table1[[Ký hiệu]:[Hướng xli]],9,0) -> NCC check theo sheep data cửa hàng nhập kho điều chỉnh giảm toàn bộ HĐ cũ và xuất lại HĐ mới đúng số lượng | AE14: mục 02 wcm ko nhận hàng, bb không có ký nhận NCC tự làm việc với CH | AF14: 32471 | AG14: Đã điều chỉnh giảm về 0 | AH14: 00001690 | AI14: 00060747
A15: 45474 | B15: BH2406/03808 | C15: 45477 | D15: 00032471 | E15: 4160864944 | F15: win5509 | G15: CN HÀ NỘI - wincommerce | I15: MNH250 | J15: Mọc Nấm Hương 250g | K15: Túi | L15: 5 | M15: 5 | N15: 46000 | O15: 230000 | P15: =M15*N15 -> 230000 | Q15: 0 | R15: 0 | S15: 0 | T15: HN004 | U15: Hà Nội | V15: Huyện Hoài Đức | W15: MIENBAC;WIN | X15: WINCOMMERCE | AB15: =ROUND(O15*8%,0)+O15 -> 248400 | AC15: 230000 | AD15: =VLOOKUP(AF15,Table1[[Ký hiệu]:[Hướng xli]],9,0) -> NCC check theo sheep data cửa hàng nhập kho điều chỉnh giảm toàn bộ HĐ cũ và xuất lại HĐ mới đúng số lượng | AE15: mục 02 wcm ko nhận hàng, bb không có ký nhận NCC tự làm việc với CH | AF15: 32471 | AG15: Đã điều chỉnh giảm về 0 | AH15: 00001690 | AI15: 00060747
A16: 45474 | B16: BH2406/03808 | C16: 45477 | D16: 00032471 | E16: 4160864944 | F16: win5509 | G16: CN HÀ NỘI - wincommerce | I16: TH200 | J16: Tai heo muối 200g | K16: Túi | L16: 3 | M16: 3 | N16: 44476 | O16: 133428 | P16: =M16*N16 -> 133428 | Q16: 0 | R16: 0 | S16: 0 | T16: HN004 | U16: Hà Nội | V16: Huyện Hoài Đức | W16: MIENBAC;WIN | X16: WINCOMMERCE | AB16: =ROUND(O16*8%,0)+O16 -> 144102 | AC16: 133428 | AD16: =VLOOKUP(AF16,Table1[[Ký hiệu]:[Hướng xli]],9,0) -> NCC check theo sheep data cửa hàng nhập kho điều chỉnh giảm toàn bộ HĐ cũ và xuất lại HĐ mới đúng số lượng | AE16: mục 02 wcm ko nhận hàng, bb không có ký nhận NCC tự làm việc với CH | AF16: 32471 | AG16: Đã điều chỉnh giảm về 0 | AH16: 00001690 | AI16: 00060747
A17: 45474 | B17: BH2406/03808 | C17: 45477 | D17: 00032471 | E17: 4160864944 | F17: win5509 | G17: CN HÀ NỘI - wincommerce | I17: GL250 | J17: Giò lụa cây 250g | K17: Túi | L17: 3 | M17: 3 | N17: 59400 | O17: 178200 | P17: =M17*N17 -> 178200 | Q17: 0 | R17: 0 | S17: 0 | T17: HN004 | U17: Hà Nội | V17: Huyện Hoài Đức | W17: MIENBAC;WIN | X17: WINCOMMERCE | AB17: =ROUND(O17*8%,0)+O17 -> 192456 | AC17: 178200 | AD17: =VLOOKUP(AF17,Table1[[Ký hiệu]:[Hướng xli]],9,0) -> NCC check theo sheep data cửa hàng nhập kho điều chỉnh giảm toàn bộ HĐ cũ và xuất lại HĐ mới đúng số lượng | AE17: mục 02 wcm ko nhận hàng, bb không có ký nhận NCC tự làm việc với CH | AF17: 32471 | AG17: Đã điều chỉnh giảm về 0 | AH17: 00001690 | AI17: 00060747
A18: 45474 | B18: BH2406/03808 | C18: 45477 | D18: 00032471 | E18: 4160864944 | F18: win5509 | G18: CN HÀ NỘI - wincommerce | I18: GSG250 | J18: Giò sụn gà 250g | K18: Túi | L18: 3 | M18: 3 | N18: 61050 | O18: 183150 | P18: =M18*N18 -> 183150 | Q18: 0 | R18: 0 | S18: 0 | T18: HN004 | U18: Hà Nội | V18: Huyện Hoài Đức | W18: MIENBAC;WIN | X18: WINCOMMERCE | AB18: =ROUND(O18*8%,0)+O18 -> 197802 | AC18: 183150 | AD18: =VLOOKUP(AF18,Table1[[Ký hiệu]:[Hướng xli]],9,0) -> NCC check theo sheep data cửa hàng nhập kho điều chỉnh giảm toàn bộ HĐ cũ và xuất lại HĐ mới đúng số lượng | AE18: mục 02 wcm ko nhận hàng, bb không có ký nhận NCC tự làm việc với CH | AF18: 32471 | AG18: Đã điều chỉnh giảm về 0 | AH18: 00001690 | AI18: 00060747
A19: 45474 | B19: BH2406/03417 | C19: 45477 | D19: 00032503 | E19: 4160833945 | F19: WIN4967 | G19: CN HÀ NỘI - CÔNG TY CỔ PHẦN DỊCH VỤ THƯƠNG MẠI TỔNG HỢP WINCOMMERCE | I19: CGM300 | J19: Chân giò heo muối 300g | K19: Túi | L19: 15 | M19: 15 | N19: 58745 | O19: 881175 | P19: =M19*N19 -> 881175 | Q19: 0 | R19: 0 | S19: 0 | T19: HN004 | U19: Hà Nội | V19: Quận Thanh Xuân | W19: MIENBAC;WIN | X19: WINCOMMERCE | Y19: K-C6 | AB19: =ROUND(O19*8%,0)+O19 -> 951669 | AC19: 881175 | AD19: =VLOOKUP(AF19,Table1[[Ký hiệu]:[Hướng xli]],9,0) -> NCC check theo sheep data cửa hàng nhập kho điều chỉnh giảm toàn bộ HĐ cũ và xuất lại HĐ mới đúng số lượng | AE19: mục 02 wcm ko nhận hàng, bb không có ký nhận NCC tự làm việc với CH | AF19: 32503 | AG19: Đã điều chỉnh giảm về 0 | AH19: 00001691 | AI19: 00060730 | AJ19: 00061610
A20: 45474 | B20: BH2406/03417 | C20: 45477 | D20: 00032503 | E20: 4160833945 | F20: WIN4967 | G20: CN HÀ NỘI - CÔNG TY CỔ PHẦN DỊCH VỤ THƯƠNG MẠI TỔNG HỢP WINCOMMERCE | I20: MNH250 | J20: Mọc Nấm Hương 250g | K20: Túi | L20: 5 | M20: 5 | N20: 46000 | O20: 230000 | P20: =M20*N20 -> 230000 | Q20: 0 | R20: 0 | S20: 0 | T20: HN004 | U20: Hà Nội | V20: Quận Thanh Xuân | W20: MIENBAC;WIN | X20: WINCOMMERCE | AB20: =ROUND(O20*8%,0)+O20 -> 248400 | AC20: 230000 | AD20: =VLOOKUP(AF20,Table1[[Ký hiệu]:[Hướng xli]],9,0) -> NCC check theo sheep data cửa hàng nhập kho điều chỉnh giảm toàn bộ HĐ cũ và xuất lại HĐ mới đúng số lượng | AE20: mục 02 wcm ko nhận hàng, bb không có ký nhận NCC tự làm việc với CH | AF20: 32503 | AG20: Đã điều chỉnh giảm về 0 | AH20: 00001691 | AI20: 00060730 | AJ20: 00061610
A21: 45474 | B21: BH2406/03482 | C21: 45477 | D21: 00032551 | E21: 4160822589 | F21: win4360 | G21: CN HÀ NỘI - wincommerce | I21: CGM300 | J21: Chân giò heo muối 300g | K21: Túi | L21: 6 | M21: 4 | N21: 58745 | O21: 352470 | P21: =M21*N21 -> 234980 | Q21: 0 | R21: 0 | S21: 0 | T21: HN003 | U21: Hà Nội | V21: Huyện Mê Linh | W21: MIENBAC;WIN | X21: WINCOMMERCE | Y21: K-C6 | AB21: =ROUND(O21*8%,0)+O21 -> 380668 | AC21: 234980 | AD21: =VLOOKUP(AF21,Table1[[Ký hiệu]:[Hướng xli]],9,0) -> NCC check theo sheep data cửa hàng nhập kho điều chỉnh giảm toàn bộ HĐ cũ và xuất lại HĐ mới đúng số lượng | AE21: mục 01,02 chỉ nhập 04,06 biên bản không ký nhận ncc tự làm việc với CH | AF21: 32551 | AG21: Đã điều chỉnh giảm về 0 | AH21: 00001692 | AI21: 00060731
A22: 45474 | B22: BH2406/03482 | C22: 45477 | D22: 00032551 | E22: 4160822589 | F22: win4360 | G22: CN HÀ NỘI - wincommerce | I22: GM500 | J22: Gà muối 500g | K22: Túi | L22: 7 | M22: 6 | N22: 111058 | O22: 777406 | P22: =M22*N22 -> 666348 | Q22: 0 | R22: 0 | S22: 0 | T22: HN003 | U22: Hà Nội | V22: Huyện Mê Linh | W22: MIENBAC;WIN | X22: WINCOMMERCE | Y22: K-C6 | AB22: =ROUND(O22*8%,0)+O22 -> 839598 | AC22: 666348 | AD22: =VLOOKUP(AF22,Table1[[Ký hiệu]:[Hướng xli]],9,0) -> NCC check theo sheep data cửa hàng nhập kho điều chỉnh giảm toàn bộ HĐ cũ và xuất lại HĐ mới đúng số lượng | AE22: mục 01,02 chỉ nhập 04,06 biên bản không ký nhận ncc tự làm việc với CH | AF22: 32551 | AG22: Đã điều chỉnh giảm về 0 | AH22: 00001692 | AI22: 00060731
A23: 45474 | B23: BH2406/03589 | C23: 45477 | D23: 00032714 | E23: 4160914201 | F23: win6738 | G23: CN HÀ NỘI - wincommerce | I23: CGM300 | J23: Chân giò heo muối 300g | K23: Túi | L23: 5 | M23: 5 | N23: 58745 | O23: 293725 | P23: =M23*N23 -> 293725 | Q23: 0 | R23: 0 | S23: 0 | T23: HN004 | U23: Hà Nội | V23: Quận Bắc Từ Liêm | W23: MIENBAC;WIN | X23: WINCOMMERCE | Y23: K-C6 | AB23: =ROUND(O23*8%,0)+O23 -> 317223 | AC23: 0 | AD23: =VLOOKUP(AF23,Table1[[Ký hiệu]:[Hướng xli]],9,0) -> NCC điều chỉnh giảm toàn bộ HĐ | AE23: PO chưa nhập kho -> kế toán đang gửi CH chưa nhận được phản hồi | AF23: 32714 | AG23: TÌM VÀ CUNG CẤP LẠI CHO WIN CHỨNG TỪ ĐÃ GIAO
A24: 45474 | B24: BH2406/03589 | C24: 45477 | D24: 00032714 | E24: 4160914201 | F24: win6738 | G24: CN HÀ NỘI - wincommerce | I24: GM500 | J24: Gà muối 500g | K24: Túi | L24: 10 | M24: 10 | N24: 111058 | O24: 1110580 | P24: =M24*N24 -> 1110580 | Q24: 0 | R24: 0 | S24: 0 | T24: HN004 | U24: Hà Nội | V24: Quận Bắc Từ Liêm | W24: MIENBAC;WIN | X24: WINCOMMERCE | Y24: K-C6 | AB24: =ROUND(O24*8%,0)+O24 -> 1199426 | AC24: 0 | AD24: =VLOOKUP(AF24,Table1[[Ký hiệu]:[Hướng xli]],9,0) -> NCC điều chỉnh giảm toàn bộ HĐ | AE24: PO chưa nhập kho -> kế toán đang gửi CH chưa nhận được phản hồi | AF24: 32714 | AG24: TÌM VÀ CUNG CẤP LẠI CHO WIN CHỨNG TỪ ĐÃ GIAO
A25: 45474 | B25: BH2406/03589 | C25: 45477 | D25: 00032714 | E25: 4160914201 | F25: win6738 | G25: CN HÀ NỘI - wincommerce | I25: CN300 | J25: Chả nướng 300g | K25: Túi | L25: 3 | M25: 3 | N25: 70950 | O25: 212850 | P25: =M25*N25 -> 212850 | Q25: 0 | R25: 0 | S25: 0 | T25: HN004 | U25: Hà Nội | V25: Quận Bắc Từ Liêm | W25: MIENBAC;WIN | X25: WINCOMMERCE | Y25: K-C6 | AB25: =ROUND(O25*8%,0)+O25 -> 229878 | AC25: 0 | AD25: =VLOOKUP(AF25,Table1[[Ký hiệu]:[Hướng xli]],9,0) -> NCC điều chỉnh giảm toàn bộ HĐ | AE25: PO chưa nhập kho -> kế toán đang gửi CH chưa nhận được phản hồi | AF25: 32714 | AG25: TÌM VÀ CUNG CẤP LẠI CHO WIN CHỨNG TỪ ĐÃ GIAO
A26: 45474 | B26: BH2406/03601 | C26: 45477 | D26: 00032723 | E26: 4160866190 | F26: WIN3168 | G26: CN HÀ NỘI - CÔNG TY CỔ PHẦN DỊCH VỤ THƯƠNG MẠI TỔNG HỢP WINCOMMERCE | I26: GM500 | J26: Gà muối 500g | K26: Túi | L26: 5 | M26: 5 | N26: 111058 | O26: 555290 | P26: =M26*N26 -> 555290 | Q26: 0 | R26: 0 | S26: 0 | T26: HN004 | U26: Hà Nội | V26: Quận Nam Từ Liêm | W26: MIENBAC;WIN | X26: WINCOMMERCE | Y26: K-C6 | AB26: =ROUND(O26*8%,0)+O26 -> 599713 | AC26: 555290 | AD26: =VLOOKUP(AF26,Table1[[Ký hiệu]:[Hướng xli]],9,0) -> NCC check theo sheep data cửa hàng nhập kho điều chỉnh giảm toàn bộ HĐ cũ và xuất lại HĐ mới đúng số lượng | AE26: mục 03 wcm ko nhận hàng, bb không có ký nhận NCC tự làm việc với CH | AF26: 32723 | AG26: Đã điều chỉnh giảm về 0 | AH26: 00001693 | AI26: 00060732
A27: 45474 | B27: BH2406/03601 | C27: 45477 | D27: 00032723 | E27: 4160866190 | F27: WIN3168 | G27: CN HÀ NỘI - CÔNG TY CỔ PHẦN DỊCH VỤ THƯƠNG MẠI TỔNG HỢP WINCOMMERCE | I27: CGM300 | J27: Chân giò heo muối 300g | K27: Túi | L27: 10 | M27: 10 | N27: 58745 | O27: 587450 | P27: =M27*N27 -> 587450 | Q27: 0 | R27: 0 | S27: 0 | T27: HN004 | U27: Hà Nội | V27: Quận Nam Từ Liêm | W27: MIENBAC;WIN | X27: WINCOMMERCE | Y27: K-C6 | AB27: =ROUND(O27*8%,0)+O27 -> 634446 | AC27: 587450 | AD27: =VLOOKUP(AF27,Table1[[Ký hiệu]:[Hướng xli]],9,0) -> NCC check theo sheep data cửa hàng nhập kho điều chỉnh giảm toàn bộ HĐ cũ và xuất lại HĐ mới đúng số lượng | AE27: mục 03 wcm ko nhận hàng, bb không có ký nhận NCC tự làm việc với CH | AF27: 32723 | AG27: Đã điều chỉnh giảm về 0 | AH27: 00001693 | AI27: 00060732
A28: 45474 | B28: BH2406/03601 | C28: 45477 | D28: 00032723 | E28: 4160866190 | F28: WIN3168 | G28: CN HÀ NỘI - CÔNG TY CỔ PHẦN DỊCH VỤ THƯƠNG MẠI TỔNG HỢP WINCOMMERCE | I28: MNH250 | J28: Mọc Nấm Hương 250g | K28: Túi | L28: 5 | M28: 0 | N28: 46000 | O28: 230000 | P28: =M28*N28 -> 0 | Q28: 0 | R28: 0 | S28: 0 | T28: HN004 | U28: Hà Nội | V28: Quận Nam Từ Liêm | W28: MIENBAC;WIN | X28: WINCOMMERCE | AB28: =ROUND(O28*8%,0)+O28 -> 248400 | AC28: 0 | AD28: =VLOOKUP(AF28,Table1[[Ký hiệu]:[Hướng xli]],9,0) -> NCC check theo sheep data cửa hàng nhập kho điều chỉnh giảm toàn bộ HĐ cũ và xuất lại HĐ mới đúng số lượng | AE28: mục 03 wcm ko nhận hàng, bb không có ký nhận NCC tự làm việc với CH | AF28: 32723 | AG28: Đã điều chỉnh giảm về 0 | AH28: 00001693 | AI28: 00060732
A29: 45474 | B29: BH2406/03640 | C29: 45477 | D29: 00032754 | E29: 4161006279 | F29: win3291 | G29: CN HÀ NỘI - wincommerce | I29: CN300 | J29: Chả nướng 300g | K29: Túi | L29: 5 | M29: 3 | N29: 70950 | O29: 354750 | P29: =M29*N29 -> 212850 | Q29: 0 | R29: 0 | S29: 0 | T29: HN003 | U29: Hà Nội | V29: Huyện Thanh Trì | W29: MIENBAC;WIN | X29: WINCOMMERCE | Y29: K-C6 | AB29: =ROUND(O29*8%,0)+O29 -> 383130 | AC29: 212850 | AD29: =VLOOKUP(AF29,Table1[[Ký hiệu]:[Hướng xli]],9,0) -> NCC check theo sheep data cửa hàng nhập kho điều chỉnh giảm toàn bộ HĐ cũ và xuất lại HĐ mới đúng số lượng | AE29: mục 01,02,03 chỉ nhập 03 biên bản không ký nhận ncc tự làm việc với CH | AF29: 32754 | AG29: Đã điều chỉnh giảm về 0 | AH29: 00001694 | AI29: 00060746
A30: 45474 | B30: BH2406/03640 | C30: 45477 | D30: 00032754 | E30: 4161006279 | F30: win3291 | G30: CN HÀ NỘI - wincommerce | I30: CC300 | J30: Chả cốm 300g | K30: Túi | L30: 4 | M30: 3 | N30: 74250 | O30: 297000 | P30: =M30*N30 -> 222750 | Q30: 0 | R30: 0 | S30: 0 | T30: HN003 | U30: Hà Nội | V30: Huyện Thanh Trì | W30: MIENBAC;WIN | X30: WINCOMMERCE | Y30: K-C6 | AB30: =ROUND(O30*8%,0)+O30 -> 320760 | AC30: 222750 | AD30: =VLOOKUP(AF30,Table1[[Ký hiệu]:[Hướng xli]],9,0) -> NCC check theo sheep data cửa hàng nhập kho điều chỉnh giảm toàn bộ HĐ cũ và xuất lại HĐ mới đúng số lượng | AE30: mục 01,02,03 chỉ nhập 03 biên bản không ký nhận ncc tự làm việc với CH | AF30: 32754 | AG30: Đã điều chỉnh giảm về 0 | AH30: 00001694 | AI30: 00060746
A31: 45474 | B31: BH2406/03640 | C31: 45477 | D31: 00032754 | E31: 4161006279 | F31: win3291 | G31: CN HÀ NỘI - wincommerce | I31: MNH250 | J31: Mọc Nấm Hương 250g | K31: Túi | L31: 4 | M31: 3 | N31: 46000 | O31: 184000 | P31: =M31*N31 -> 138000 | Q31: 0 | R31: 0 | S31: 0 | T31: HN003 | U31: Hà Nội | V31: Huyện Thanh Trì | W31: MIENBAC;WIN | X31: WINCOMMERCE | Y31: K-C6 | AB31: =ROUND(O31*8%,0)+O31 -> 198720 | AC31: 138000 | AD31: =VLOOKUP(AF31,Table1[[Ký hiệu]:[Hướng xli]],9,0) -> NCC check theo sheep data cửa hàng nhập kho điều chỉnh giảm toàn bộ HĐ cũ và xuất lại HĐ mới đúng số lượng | AE31: mục 01,02,03 chỉ nhập 03 biên bản không ký nhận ncc tự làm việc với CH | AF31: 32754 | AG31: Đã điều chỉnh giảm về 0 | AH31: 00001694 | AI31: 00060746
A32: 45474 | B32: BH2406/03736 | C32: 45477 | D32: 00032850 | E32: 4161073493 | F32: WIN3530 | G32: CN HÀ NỘI - CÔNG TY CỔ PHẦN DỊCH VỤ THƯƠNG MẠI TỔNG HỢP WINCOMMERCE | I32: GM500 | J32: Gà muối 500g | K32: Túi | L32: 3 | M32: 3 | N32: 111058 | O32: 333174 | P32: =M32*N32 -> 333174 | Q32: 0 | R32: 0 | S32: 0 | T32: HN008 | U32: Hà Nội | V32: Quận Thanh Xuân | W32: MIENBAC;WIN | X32: WINCOMMERCE | AB32: =ROUND(O32*8%,0)+O32 -> 359828 | AC32: 0 | AD32: =VLOOKUP(AF32,Table1[[Ký hiệu]:[Hướng xli]],9,0) -> NCC điều chỉnh giảm toàn bộ HĐ | AE32: PO chưa nhập kho biên bản không có ký nhận ncc tự xli | AF32: 32850 | AG32: TÌM VÀ CUNG CẤP LẠI CHO WIN CHỨNG TỪ ĐÃ GIAO
A33: 45474 | B33: BH2406/03736 | C33: 45477 | D33: 00032850 | E33: 4161073493 | F33: WIN3530 | G33: CN HÀ NỘI - CÔNG TY CỔ PHẦN DỊCH VỤ THƯƠNG MẠI TỔNG HỢP WINCOMMERCE | I33: CGM300 | J33: Chân giò heo muối 300g | K33: Túi | L33: 10 | M33: 10 | N33: 58745 | O33: 587450 | P33: =M33*N33 -> 587450 | Q33: 0 | R33: 0 | S33: 0 | T33: HN008 | U33: Hà Nội | V33: Quận Thanh Xuân | W33: MIENBAC;WIN | X33: WINCOMMERCE | AB33: =ROUND(O33*8%,0)+O33 -> 634446 | AC33: 0 | AD33: =VLOOKUP(AF33,Table1[[Ký hiệu]:[Hướng xli]],9,0) -> NCC điều chỉnh giảm toàn bộ HĐ | AE33: PO chưa nhập kho biên bản không có ký nhận ncc tự xli | AF33: 32850 | AG33: TÌM VÀ CUNG CẤP LẠI CHO WIN CHỨNG TỪ ĐÃ GIAO
A34: 45474 | B34: BH2406/03736 | C34: 45477 | D34: 00032850 | E34: 4161073493 | F34: WIN3530 | G34: CN HÀ NỘI - CÔNG TY CỔ PHẦN DỊCH VỤ THƯƠNG MẠI TỔNG HỢP WINCOMMERCE | I34: MNH250 | J34: Mọc Nấm Hương 250g | K34: Túi | L34: 5 | M34: 5 | N34: 46000 | O34: 230000 | P34: =M34*N34 -> 230000 | Q34: 0 | R34: 0 | S34: 0 | T34: HN008 | U34: Hà Nội | V34: Quận Thanh Xuân | W34: MIENBAC;WIN | X34: WINCOMMERCE | AB34: =ROUND(O34*8%,0)+O34 -> 248400 | AC34: 0 | AD34: =VLOOKUP(AF34,Table1[[Ký hiệu]:[Hướng xli]],9,0) -> NCC điều chỉnh giảm toàn bộ HĐ | AE34: PO chưa nhập kho biên bản không có ký nhận ncc tự xli | AF34: 32850 | AG34: TÌM VÀ CUNG CẤP LẠI CHO WIN CHỨNG TỪ ĐÃ GIAO
A35: 45474 | B35: BH2406/03736 | C35: 45477 | D35: 00032850 | E35: 4161073493 | F35: WIN3530 | G35: CN HÀ NỘI - CÔNG TY CỔ PHẦN DỊCH VỤ THƯƠNG MẠI TỔNG HỢP WINCOMMERCE | I35: CC300 | J35: Chả cốm 300g | K35: Túi | L35: 5 | M35: 5 | N35: 59400 | O35: 297000 | P35: =M35*N35 -> 297000 | Q35: 0 | R35: 0 | S35: 0 | T35: HN008 | U35: Hà Nội | V35: Quận Thanh Xuân | W35: MIENBAC;WIN | X35: WINCOMMERCE | AB35: =ROUND(O35*8%,0)+O35 -> 320760 | AC35: 0 | AD35: =VLOOKUP(AF35,Table1[[Ký hiệu]:[Hướng xli]],9,0) -> NCC điều chỉnh giảm toàn bộ HĐ | AE35: PO chưa nhập kho biên bản không có ký nhận ncc tự xli | AF35: 32850 | AG35: TÌM VÀ CUNG CẤP LẠI CHO WIN CHỨNG TỪ ĐÃ GIAO
A36: 45474 | B36: BH2406/03736 | C36: 45477 | D36: 00032850 | E36: 4161073493 | F36: WIN3530 | G36: CN HÀ NỘI - CÔNG TY CỔ PHẦN DỊCH VỤ THƯƠNG MẠI TỔNG HỢP WINCOMMERCE | I36: CN300 | J36: Chả nướng 300g | K36: Túi | L36: 5 | M36: 5 | N36: 70950 | O36: 354750 | P36: =M36*N36 -> 354750 | Q36: 0 | R36: 0 | S36: 0 | T36: HN008 | U36: Hà Nội | V36: Quận Thanh Xuân | W36: MIENBAC;WIN | X36: WINCOMMERCE | AB36: =ROUND(O36*8%,0)+O36 -> 383130 | AC36: 0 | AD36: =VLOOKUP(AF36,Table1[[Ký hiệu]:[Hướng xli]],9,0) -> NCC điều chỉnh giảm toàn bộ HĐ | AE36: PO chưa nhập kho biên bản không có ký nhận ncc tự xli | AF36: 32850 | AG36: TÌM VÀ CUNG CẤP LẠI CHO WIN CHỨNG TỪ ĐÃ GIAO
A37: 45474 | B37: BH2406/03849 | C37: 45477 | D37: 00033303 | E37: 4160625979(1616)ĐN | F37: WIN-021 | G37: CHI NHÁNH THỪA THIÊN HUẾ - CÔNG TY CỔ PHẦN DỊCH VỤ THƯƠNG MẠI TỔNG HỢP WINCOMMERCE | H37: 0104918404-021 | I37: CGM300 | J37: Chân giò heo muối 300g | K37: Túi | L37: 6 | M37: 6 | N37: 58745 | O37: 352470 | P37: =M37*N37 -> 352470 | Q37: 0 | R37: 0 | S37: 0 | U37: Thừa Thiên - Huế | W37: MIENNAM;WIN | X37: WINCOMMERCE | Y37: K-HCM | AB37: =ROUND(O37*8%,0)+O37 -> 380668 | AC37: 352470 | AD37: =VLOOKUP(AF37,Table1[[Ký hiệu]:[Hướng xli]],9,0) -> NCC xuất hđ điều chỉnh giảm toàn bộ HĐ -> xuất hđ mới đúng giá theo PO của wcm | AE37: mục 02 sai giá | AF37: 33303 | AG37: Đã điều chỉnh giảm về 0 | AH37: 00001695 | AI37: 00060715 | AJ37: 00061596
A38: 45474 | B38: BH2406/03849 | C38: 45477 | D38: 00033303 | E38: 4160625979(1616)ĐN | F38: WIN-021 | G38: CHI NHÁNH THỪA THIÊN HUẾ - CÔNG TY CỔ PHẦN DỊCH VỤ THƯƠNG MẠI TỔNG HỢP WINCOMMERCE | H38: 0104918404-021 | I38: CC300 | J38: Chả cốm 300g | K38: Túi | L38: 6 | M38: 6 | N38: 74250 | O38: 445500 | P38: =M38*N38 -> 445500 | Q38: 0 | R38: 0 | S38: 0 | U38: Thừa Thiên - Huế | W38: MIENNAM;WIN | X38: WINCOMMERCE | Y38: K-HCM | AB38: =ROUND(O38*8%,0)+O38 -> 481140 | AC38: 445500 | AD38: =VLOOKUP(AF38,Table1[[Ký hiệu]:[Hướng xli]],9,0) -> NCC xuất hđ điều chỉnh giảm toàn bộ HĐ -> xuất hđ mới đúng giá theo PO của wcm | AE38: mục 02 sai giá | AF38: 33303 | AG38: Đã điều chỉnh giảm về 0 | AH38: 00001695 | AI38: 00060715 | AJ38: 00061596
