Workbook

Sheet Cần xuất
A1: Ngày hạch toán | B1: Số chứng từ | C1: Ngày hóa đơn | D1: Số hóa đơn | E1: Diễn giải chung | F1: Mã khách hàng | G1: Tên khách hàng | H1: Mã số thuế | I1: Mã hàng | J1: Tên hàng | K1: ĐVT | L1: SL XUẤT ĐIỀU CHỈNH | M1: Đơn giá | N1: TIỀN CHƯA VAT | O1: VAT | P1: TỔNG TIỀN
A2: 45450 | B2: BH2406/00258 | C2: 45456 | D2: 00028825 | E2: 4160177182 | F2: win4146 | G2: CN HCM - wincommerce | I2: CGM300 | J2: Chân giò heo muối 300g | K2: Túi | L2: 3 | M2: 73431 | N2: =L2*M2 -> 220293 | O2: =ROUND(N2*8%,0) -> 17623 | P2: =N2+O2 -> 237916 | Q2: MIENNAM | R2: WIN-HCM-Q8-4146
A3: 45450 | B3: BH2406/00258 | C3: 45456 | D3: 00028825 | E3: 4160177182 | F3: win4146 | G3: CN HCM - wincommerce | I3: GM500 | J3: Gà muối 500g | K3: Túi | L3: 3 | M3: 111058 | N3: =L3*M3 -> 333174 | O3: =ROUND(N3*8%,0) -> 26654 | P3: =N3+O3 -> 359828 | Q3: MIENNAM | R3: WIN-HCM-Q8-4146
A4: 45450 | B4: BH2406/00258 | C4: 45456 | D4: 00028825 | E4: 4160177182 | F4: win4146 | G4: CN HCM - wincommerce | I4: GL250 | J4: Giò lụa cây 250g | K4: Túi | L4: 3 | M4: 44550 | N4: =L4*M4 -> 133650 | O4: =ROUND(N4*8%,0) -> 10692 | P4: =N4+O4 -> 144342 | Q4: MIENNAM | R4: WIN-HCM-Q8-4146
A5: 45450 | B5: BH2406/00258 | C5: 45456 | D5: 00028825 | E5: 4160177182 | F5: win4146 | G5: CN HCM - wincommerce | I5: CC300 | J5: Chả cốm 300g | K5: Túi | L5: 3 | M5: 59400 | N5: =L5*M5 -> 178200 | O5: =ROUND(N5*8%,0) -> 14256 | P5: =N5+O5 -> 192456 | Q5: MIENNAM | R5: WIN-HCM-Q8-4146
A6: 45450 | B6: BH2406/00258 | C6: 45456 | D6: 00028825 | E6: 4160177182 | F6: win4146 | G6: CN HCM - wincommerce | I6: MNH250 | J6: Mọc Nấm Hương 250g | K6: Túi | L6: 3 | M6: 37720 | N6: =L6*M6 -> 113160 | O6: =ROUND(N6*8%,0) -> 9053 | P6: =N6+O6 -> 122213 | Q6: MIENNAM | R6: WIN-HCM-Q8-4146
A7: 45474 | B7: BH2406/03808 | C7: 45477 | D7: 00032471 | E7: 4160864944 | F7: win5509 | G7: CN HÀ NỘI - wincommerce | I7: CGM300 | J7: Chân giò heo muối 300g | K7: Túi | L7: 5 | M7: 58745 | N7: =L7*M7 -> 293725 | O7: =ROUND(N7*8%,0) -> 23498 | P7: =N7+O7 -> 317223 | Q7: MIENBAC | R7: WIN-HNI-HDC-5509
A8: 45474 | B8: BH2406/03808 | C8: 45477 | D8: 00032471 | E8: 4160864944 | F8: win5509 | G8: CN HÀ NỘI - wincommerce | I8: MNH250 | J8: Mọc Nấm Hương 250g | K8: Túi | L8: 5 | M8: 46000 | N8: =L8*M8 -> 230000 | O8: =ROUND(N8*8%,0) -> 18400 | P8: =N8+O8 -> 248400 | Q8: MIENBAC | R8: WIN-HNI-HDC-5509
A9: 45474 | B9: BH2406/03808 | C9: 45477 | D9: 00032471 | E9: 4160864944 | F9: win5509 | G9: CN HÀ NỘI - wincommerce | I9: TH200 | J9: Tai heo muối 200g | K9: Túi | L9: 3 | M9: 44476 | N9: =L9*M9 -> 133428 | O9: =ROUND(N9*8%,0) -> 10674 | P9: =N9+O9 -> 144102 | Q9: MIENBAC | R9: WIN-HNI-HDC-5509
A10: 45474 | B10: BH2406/03808 | C10: 45477 | D10: 00032471 | E10: 4160864944 | F10: win5509 | G10: CN HÀ NỘI - wincommerce | I10: GL250 | J10: Giò lụa cây 250g | K10: Túi | L10: 3 | M10: 59400 | N10: =L10*M10 -> 178200 | O10: =ROUND(N10*8%,0) -> 14256 | P10: =N10+O10 -> 192456 | Q10: MIENBAC | R10: WIN-HNI-HDC-5509
A11: 45474 | B11: BH2406/03808 | C11: 45477 | D11: 00032471 | E11: 4160864944 | F11: win5509 | G11: CN HÀ NỘI - wincommerce | I11: GSG250 | J11: Giò sụn gà 250g | K11: Túi | L11: 3 | M11: 61050 | N11: =L11*M11 -> 183150 | O11: =ROUND(N11*8%,0) -> 14652 | P11: =N11+O11 -> 197802 | Q11: MIENBAC | R11: WIN-HNI-HDC-5509
A12: 45474 | B12: BH2406/03417 | C12: 45477 | D12: 00032503 | E12: 4160833945 | F12: WIN4967 | G12: CN HÀ NỘI - CÔNG TY CỔ PHẦN DỊCH VỤ THƯƠNG MẠI TỔNG HỢP WINCOMMERCE | I12: CGM300 | J12: Chân giò heo muối 300g | K12: Túi | L12: 15 | M12: 58745 | N12: =L12*M12 -> 881175 | O12: =ROUND(N12*8%,0) -> 70494 | P12: =N12+O12 -> 951669 | Q12: MIENBAC | R12: WIN-HNI-TXN-4967
A13: 45474 | B13: BH2406/03417 | C13: 45477 | D13: 00032503 | E13: 4160833945 | F13: WIN4967 | G13: CN HÀ NỘI - CÔNG TY CỔ PHẦN DỊCH VỤ THƯƠNG MẠI TỔNG HỢP WINCOMMERCE | I13: MNH250 | J13: Mọc Nấm Hương 250g | K13: Túi | L13: 5 | M13: 46000 | N13: =L13*M13 -> 230000 | O13: =ROUND(N13*8%,0) -> 18400 | P13: =N13+O13 -> 248400 | Q13: MIENBAC | R13: WIN-HNI-TXN-4967
... A20: 45474 | B20: BH2406/03640 | C20: 45477 | D20: 00032754 | E20: 4161006279 | F20: win3291 | G20: CN HÀ NỘI - wincommerce | I20: MNH250 | J20: Mọc Nấm Hương 250g | K20: Túi | L20: 3 | M20: 46000 | N20: =L20*M20 -> 138000 | O20: =ROUND(N20*8%,0) -> 11040 | P20: =N20+O20 -> 149040 | Q20: MIENBAC | R20: WIN-HNI-TTI-3291
A21: 45474 | B21: BH2406/03849 | C21: 45477 | D21: 00033303 | E21: 4160625979(1616)ĐN | F21: WIN-021 | G21: CHI NHÁNH THỪA THIÊN HUẾ - CÔNG TY CỔ PHẦN DỊCH VỤ THƯƠNG MẠI TỔNG HỢP WINCOMMERCE | H21: 0104918404-021 | I21: CGM300 | J21: Chân giò heo muối 300g | K21: Túi | L21: 6 | M21: 58745 | N21: =L21*M21 -> 352470 | O21: =ROUND(N21*8%,0) -> 28198 | P21: =N21+O21 -> 380668 | Q21: MIENNAM | R21: WIN-HUE-00-021
A22: 45474 | B22: BH2406/03849 | C22: 45477 | D22: 00033303 | E22: 4160625979(1616)ĐN | F22: WIN-021 | G22: CHI NHÁNH THỪA THIÊN HUẾ - CÔNG TY CỔ PHẦN DỊCH VỤ THƯƠNG MẠI TỔNG HỢP WINCOMMERCE | H22: 0104918404-021 | I22: CC300 | J22: Chả cốm 300g | K22: Túi | L22: 6 | M22: 74250 | N22: =L22*M22 -> 445500 | O22: =ROUND(N22*8%,0) -> 35640 | P22: =N22+O22 -> 481140 | Q22: MIENNAM | R22: WIN-HUE-00-021
A23: 45474 | B23: BH2328297 | C23: 45478 | D23: 00033499 | E23: 4161057982 | F23: WIN5086 | G23: CN HCM - CÔNG TY CỔ PHẦN DỊCH VỤ THƯƠNG MẠI TỔNG HỢP WINCOMMERCE | I23: CGM300 | J23: Chân giò heo muối 300g | K23: Túi | L23: 5 | M23: 58745 | N23: =L23*M23 -> 293725 | O23: =ROUND(N23*8%,0) -> 23498 | P23: =N23+O23 -> 317223 | Q23: MIENNAM | R23: WIN-HCM-Q9-5086
A24: 45474 | B24: BH2328297 | C24: 45478 | D24: 00033499 | E24: 4161057982 | F24: WIN5086 | G24: CN HCM - CÔNG TY CỔ PHẦN DỊCH VỤ THƯƠNG MẠI TỔNG HỢP WINCOMMERCE | I24: GTLX250G | J24: Giò Tai Lưỡi Xào 250g | K24: Túi | L24: 5 | M24: 50182 | N24: =L24*M24 -> 250910 | O24: =ROUND(N24*8%,0) -> 20073 | P24: =N24+O24 -> 270983 | Q24: MIENNAM | R24: WIN-HCM-Q9-5086
A25: 45474 | B25: BH2407/0168 | C25: 45484 | D25: 00034194 | E25: 4160863888 | F25: win1569 | G25: CN HÀ NỘI - wincommerce | I25: CGM300 | J25: Chân giò heo muối 300g | K25: Túi | L25: 5 | M25: 58745 | N25: =L25*M25 -> 293725 | O25: =ROUND(N25*8%,0) -> 23498 | P25: =N25+O25 -> 317223 | Q25: MIENBAC | R25: WIN-HNI-DPG-1569
A26: 45474 | B26: BH2407/0168 | C26: 45484 | D26: 00034194 | E26: 4160863888 | F26: win1569 | G26: CN HÀ NỘI - wincommerce | I26: CC300 | J26: Chả cốm 300g | K26: Túi | L26: 5 | M26: 74250 | N26: =L26*M26 -> 371250 | O26: =ROUND(N26*8%,0) -> 29700 | P26: =N26+O26 -> 400950 | Q26: MIENBAC | R26: WIN-HNI-DPG-1569
A27: 45474 | B27: BH2407/0156 | C27: 45484 | D27: 00034222 | E27: 4160937822 | F27: win6978 | G27: CN HÀ NỘI - wincommerce | I27: GM500 | J27: Gà muối 500g | K27: Túi | L27: 10 | M27: 111058 | N27: =L27*M27 -> 1110580 | O27: =ROUND(N27*8%,0) -> 88846 | P27: =N27+O27 -> 1199426 | Q27: MIENBAC | R27: WIN-HNI-HDC-6978
A28: 45474 | B28: BH2407/0156 | C28: 45484 | D28: 00034222 | E28: 4160937822 | F28: win6978 | G28: CN HÀ NỘI - wincommerce | I28: CGM300 | J28: Chân giò heo muối 300g | K28: Túi | L28: 10 | M28: 58745 | N28: =L28*M28 -> 587450 | O28: =ROUND(N28*8%,0) -> 46996 | P28: =N28+O28 -> 634446 | Q28: MIENBAC | R28: WIN-HNI-HDC-6978
A29: 45475 | B29: BH2407/0425 | C29: 45484 | D29: 00034434 | E29: 4161266931 | F29: WIN4191 | G29: CN HÀ NỘI - CÔNG TY CỔ PHẦN DỊCH VỤ THƯƠNG MẠI TỔNG HỢP WINCOMMERCE | I29: GTLX250G | J29: Giò Tai Lưỡi Xào 250g | K29: Túi | L29: 10 | M29: 50182 | N29: =L29*M29 -> 501820 | O29: =ROUND(N29*8%,0) -> 40146 | P29: =N29+O29 -> 541966 | Q29: MIENBAC | R29: WIN-HNI-SSN-4191
A30: 45475 | B30: BH2407/0425 | C30: 45484 | D30: 00034434 | E30: 4161266931 | F30: WIN4191 | G30: CN HÀ NỘI - CÔNG TY CỔ PHẦN DỊCH VỤ THƯƠNG MẠI TỔNG HỢP WINCOMMERCE | I30: GM500 | J30: Gà muối 500g | K30: Túi | L30: 20 | M30: 111058 | N30: =L30*M30 -> 2221160 | O30: =ROUND(N30*8%,0) -> 177693 | P30: =N30+O30 -> 2398853 | Q30: MIENBAC | R30: WIN-HNI-SSN-4191
A31: 45476 | B31: BH2407/0464 | C31: 45484 | D31: 00034470 | E31: 4161080915 | F31: win3210 | G31: CN HÀ NỘI - wincommerce | I31: CGM300 | J31: Chân giò heo muối 300g | K31: Túi | L31: 10 | M31: 58745 | N31: =L31*M31 -> 587450 | O31: =ROUND(N31*8%,0) -> 46996 | P31: =N31+O31 -> 634446 | Q31: MIENBAC | R31: WIN-HNI-HDG-3210
A32: 45476 | B32: BH2407/0464 | C32: 45484 | D32: 00034470 | E32: 4161080915 | F32: win3210 | G32: CN HÀ NỘI - wincommerce | I32: GM500 | J32: Gà muối 500g | K32: Túi | L32: 10 | M32: 111058 | N32: =L32*M32 -> 1110580 | O32: =ROUND(N32*8%,0) -> 88846 | P32: =N32+O32 -> 1199426 | Q32: MIENBAC | R32: WIN-HNI-HDG-3210
A33: 45478 | B33: BH2407/0812 | C33: 45484 | D33: 00034534 | E33: 4161172365 | F33: WIN5468 | G33: CN HÀ NỘI - CÔNG TY CỔ PHẦN DỊCH VỤ THƯƠNG MẠI TỔNG HỢP WINCOMMERCE | I33: CGM300 | J33: Chân giò heo muối 300g | K33: Túi | L33: 4 | M33: 58745 | N33: =L33*M33 -> 234980 | O33: =ROUND(N33*8%,0) -> 18798 | P33: =N33+O33 -> 253778 | Q33: MIENBAC | R33: WIN-HNI-DDA-5468
A34: 45474 | B34: BH2407/0250 | C34: 45484 | D34: 00034686 | E34: 4160944840 (5135) | F34: WIN-072 | G34: CHI NHÁNH LÀO CAI - CÔNG TY CỔ PHẦN DỊCH VỤ THƯƠNG MẠI TỔNG HỢP WINCOMMERCE | H34: 0104918404-072 | I34: MNH250 | J34: Mọc Nấm Hương 250g | K34: Túi | L34: 5 | M34: 46000 | N34: =L34*M34 -> 230000 | O34: =ROUND(N34*8%,0) -> 18400 | P34: =N34+O34 -> 248400 | Q34: MIENBAC | R34: WIN-LCI-01-072
A35: 45477 | B35: BH2328638 | C35: 45485 | D35: 00035137 | E35: 4161216524(5756) | F35: WIN-024 | G35: CHI NHÁNH BÌNH DƯƠNG - CÔNG TY CỔ PHẦN DỊCH VỤ THƯƠNG MẠI TỔNG HỢP WINCOMMERCE | H35: 0104918404-024 | I35: GM500 | J35: Gà muối 500g | K35: Túi | L35: 4 | M35: 111058 | N35: =L35*M35 -> 444232 | O35: =ROUND(N35*8%,0) -> 35539 | P35: =N35+O35 -> 479771 | Q35: MIENNAM | R35: WIN-BDG-00-024
A36: 45477 | B36: BH2328638 | C36: 45485 | D36: 00035137 | E36: 4161216524(5756) | F36: WIN-024 | G36: CHI NHÁNH BÌNH DƯƠNG - CÔNG TY CỔ PHẦN DỊCH VỤ THƯƠNG MẠI TỔNG HỢP WINCOMMERCE | H36: 0104918404-024 | I36: CGM300 | J36: Chân giò heo muối 300g | K36: Túi | L36: 8 | M36: 58745 | N36: =L36*M36 -> 469960 | O36: =ROUND(N36*8%,0) -> 37597 | P36: =N36+O36 -> 507557 | Q36: MIENNAM | R36: WIN-BDG-00-024
A37: 45477 | B37: BH2328638 | C37: 45485 | D37: 00035137 | E37: 4161216524(5756) | F37: WIN-024 | G37: CHI NHÁNH BÌNH DƯƠNG - CÔNG TY CỔ PHẦN DỊCH VỤ THƯƠNG MẠI TỔNG HỢP WINCOMMERCE | H37: 0104918404-024 | I37: TH200 | J37: Tai heo muối 200g | K37: Túi | L37: 4 | M37: 55595 | N37: =L37*M37 -> 222380 | O37: =ROUND(N37*8%,0) -> 17790 | P37: =N37+O37 -> 240170 | Q37: MIENNAM | R37: WIN-BDG-00-024
A38: 45477 | B38: BH2328642 | C38: 45485 | D38: 00035141 | E38: 4161186571(4092) | F38: WIN-024 | G38: CHI NHÁNH BÌNH DƯƠNG - CÔNG TY CỔ PHẦN DỊCH VỤ THƯƠNG MẠI TỔNG HỢP WINCOMMERCE | H38: 0104918404-024 | I38: GM500 | J38: Gà muối 500g | K38: Túi | L38: 6 | M38: 111058 | N38: =L38*M38 -> 666348 | O38: =ROUND(N38*8%,0) -> 53308 | P38: =N38+O38 -> 719656 | Q38: MIENNAM | R38: WIN-BDG-00-024
A39: 45477 | B39: BH2328642 | C39: 45485 | D39: 00035141 | E39: 4161186571(4092) | F39: WIN-024 | G39: CHI NHÁNH BÌNH DƯƠNG - CÔNG TY CỔ PHẦN DỊCH VỤ THƯƠNG MẠI TỔNG HỢP WINCOMMERCE | H39: 0104918404-024 | I39: CGM300 | J39: Chân giò heo muối 300g | K39: Túi | L39: 6 | M39: 58745 | N39: =L39*M39 -> 352470 | O39: =ROUND(N39*8%,0) -> 28198 | P39: =N39+O39 -> 380668 | Q39: MIENNAM | R39: WIN-BDG-00-024
A40: 45477 | B40: BH2328642 | C40: 45485 | D40: 00035141 | E40: 4161186571(4092) | F40: WIN-024 | G40: CHI NHÁNH BÌNH DƯƠNG - CÔNG TY CỔ PHẦN DỊCH VỤ THƯƠNG MẠI TỔNG HỢP WINCOMMERCE | H40: 0104918404-024 | I40: TH200 | J40: Tai heo muối 200g | K40: Túi | L40: 4 | M40: 55595 | N40: =L40*M40 -> 222380 | O40: =ROUND(N40*8%,0) -> 17790 | P40: =N40+O40 -> 240170 | Q40: MIENNAM | R40: WIN-BDG-00-024
A41: 45479 | B41: BH2328847 | C41: 45485 | D41: 00035148 | E41: 4161196508(2AG1) | F41: WIN-024 | G41: CHI NHÁNH BÌNH DƯƠNG - CÔNG TY CỔ PHẦN DỊCH VỤ THƯƠNG MẠI TỔNG HỢP WINCOMMERCE | H41: 0104918404-024 | I41: GM500 | J41: Gà muối 500g | K41: Túi | L41: 4 | M41: 88846 | N41: =L41*M41 -> 355384 | O41: =ROUND(N41*8%,0) -> 28431 | P41: =N41+O41 -> 383815 | Q41: MIENNAM | R41: WIN-BDG-00-024
A42: 45479 | B42: BH2328847 | C42: 45485 | D42: 00035148 | E42: 4161196508(2AG1) | F42: WIN-024 | G42: CHI NHÁNH BÌNH DƯƠNG - CÔNG TY CỔ PHẦN DỊCH VỤ THƯƠNG MẠI TỔNG HỢP WINCOMMERCE | H42: 0104918404-024 | I42: CGM300 | J42: Chân giò heo muối 300g | K42: Túi | L42: 5 | M42: 58745 | N42: =L42*M42 -> 293725 | O42: =ROUND(N42*8%,0) -> 23498 | P42: =N42+O42 -> 317223 | Q42: MIENNAM | R42: WIN-BDG-00-024
A43: 45479 | B43: BH2407/1012 | C43: 45491 | D43: 00035658 | E43: 4161299746 | F43: win4167 | G43: CN HÀ NỘI - wincommerce | I43: CC300 | J43: Chả cốm 300g | K43: Túi | L43: 5 | M43: 74250 | N43: =L43*M43 -> 371250 | O43: =ROUND(N43*8%,0) -> 29700 | P43: =N43+O43 -> 400950 | Q43: MIENBAC | R43: WIN-HNI-QOI-4167
A44: 45479 | B44: BH2407/1012 | C44: 45491 | D44: 00035658 | E44: 4161299746 | F44: win4167 | G44: CN HÀ NỘI - wincommerce | I44: GTLX250G | J44: Giò Tai Lưỡi Xào 250g | K44: Túi | L44: 5 | M44: 50182 | N44: =L44*M44 -> 250910 | O44: =ROUND(N44*8%,0) -> 20073 | P44: =N44+O44 -> 270983 | Q44: MIENBAC | R44: WIN-HNI-QOI-4167
A45: 45481 | B45: BH2407/1418 | C45: 45491 | D45: 00035713 | E45: 4161265179 | F45: WIN4305 | G45: CN HÀ NỘI - CÔNG TY CỔ PHẦN DỊCH VỤ THƯƠNG MẠI TỔNG HỢP WINCOMMERCE | I45: GM500 | J45: Gà muối 500g | K45: Túi | L45: 5 | M45: 111058 | N45: =L45*M45 -> 555290 | O45: =ROUND(N45*8%,0) -> 44423 | P45: =N45+O45 -> 599713 | Q45: MIENBAC | R45: WIN-HNI-LBN-4305
A46: 45481 | B46: BH2407/1418 | C46: 45491 | D46: 00035713 | E46: 4161265179 | F46: WIN4305 | G46: CN HÀ NỘI - CÔNG TY CỔ PHẦN DỊCH VỤ THƯƠNG MẠI TỔNG HỢP WINCOMMERCE | I46: CGM300 | J46: Chân giò heo muối 300g | K46: Túi | L46: 10 | M46: 73431 | N46: =L46*M46 -> 734310 | O46: =ROUND(N46*8%,0) -> 58745 | P46: =N46+O46 -> 793055 | Q46: MIENBAC | R46: WIN-HNI-LBN-4305
...

Sheet Báo cáo (4)
A1: Ngày hạch toán | B1: Số chứng từ | C1: Ngày hóa đơn | D1: Số hóa đơn | E1: Diễn giải chung | F1: Mã khách hàng | G1: Tên khách hàng | H1: Mã số thuế | I1: Mã hàng | J1: Tên hàng | K1: ĐVT | L1: Tổng số lượng bán | M1: SL DC | N1: Đơn giá | O1: Doanh số bán LÚC ĐẦU | P1: DOANH SỐ BÁN SAU KHI ĐIỀU CHỈNH CHƯA TRỪ CÁC TỜ CHƯA XÁC NHẬN | Q1: Chiết khấu | R1: Số lượng trả lại | S1: Giá trị trả lại | T1: Mã nhân viên bán hàng | U1: Tỉnh/Thành phố | V1: Quận/Huyện | W1: Mã nhóm khách hàng | X1: Mã thống kê | Y1: Mã kho | Z1: Địa điểm giao hàng | AA1: Thông tin người liên hệ | AB1: DOANH SỐ BÁN SAU KHI ĐIỀU CHỈNH CÓ ĐÃ TRỪ CÁC TỜ CHƯA XÁC NHẬN | AE1: Số hóa đơn | AG1: Số hóa đơn điều chỉnh
A2: 45450 | B2: BH2406/00258 | C2: 45456 | D2: 00028825 | E2: 4160177182 | F2: win4146 | G2: CN HCM - wincommerce | I2: CGM300 | J2: Chân giò heo muối 300g | K2: Túi | L2: 3 | M2: 3 | N2: 73431 | O2: 220293 | P2: =M2*N2 -> 220293 | Q2: 0 | R2: 0 | S2: 0 | T2: SG004 | U2: Hồ Chí Minh | V2: Quận 8 | W2: MIENNAM;WIN | X2: WINCOMMERCE | Y2: K-HCM | AB2: 220293 | AC2: =VLOOKUP(AE2,Table1[[Ký hiệu]:[Hướng xli]],9,0) -> NCC check theo sheep data cửa hàng nhập kho điều chỉnh giảm toàn bộ HĐ cũ và xuất lại HĐ mới đúng số lượng | AD2: mục 03,05,07 wcm ko nhận hàng, mục 06 chỉ nhận 03 | AE2: 28825 | AF2: Đã điều chỉnh giảm về 0
A3: 45450 | B3: BH2406/00258 | C3: 45456 | D3: 00028825 | E3: 4160177182 | F3: win4146 | G3: CN HCM - wincommerce | I3: GM500 | J3: Gà muối 500g | K3: Túi | L3: 3 | M3: 3 | N3: 111058 | O3: 333174 | P3: =M3*N3 -> 333174 | Q3: 0 | R3: 0 | S3: 0 | T3: SG004 | U3: Hồ Chí Minh | V3: Quận 8 | W3: MIENNAM;WIN | X3: WINCOMMERCE | Y3: K-HCM | AB3: 333174 | AC3: =VLOOKUP(AE3,Table1[[Ký hiệu]:[Hướng xli]],9,0) -> NCC check theo sheep data cửa hàng nhập kho điều chỉnh giảm toàn bộ HĐ cũ và xuất lại HĐ mới đúng số lượng | AD3: mục 03,05,07 wcm ko nhận hàng, mục 06 chỉ nhận 03 | AE3: 28825 | AF3: Đã điều chỉnh giảm về 0
A4: 45450 | B4: BH2406/00258 | C4: 45456 | D4: 00028825 | E4: 4160177182 | F4: win4146 | G4: CN HCM - wincommerce | I4: TH200 | J4: Tai heo muối 200g | K4: Túi | L4: 3 | M4: 0 | N4: 55595 | O4: 166785 | P4: =M4*N4 -> 0 | Q4: 0 | R4: 0 | S4: 0 | T4: SG004 | U4: Hồ Chí Minh | V4: Quận 8 | W4: MIENNAM;WIN | X4: WINCOMMERCE | Y4: K-HCM | AB4: 0 | AC4: =VLOOKUP(AE4,Table1[[Ký hiệu]:[Hướng xli]],9,0) -> NCC check theo sheep data cửa hàng nhập kho điều chỉnh giảm toàn bộ HĐ cũ và xuất lại HĐ mới đúng số lượng | AD4: mục 03,05,07 wcm ko nhận hàng, mục 06 chỉ nhận 03 | AE4: 28825 | AF4: Đã điều chỉnh giảm về 0
A5: 45450 | B5: BH2406/00258 | C5: 45456 | D5: 00028825 | E5: 4160177182 | F5: win4146 | G5: CN HCM - wincommerce | I5: GL250 | J5: Giò lụa cây 250g | K5: Túi | L5: 3 | M5: 3 | N5: 44550 | O5: 133650 | P5: =M5*N5 -> 133650 | Q5: 0 | R5: 0 | S5: 0 | T5: SG004 | U5: Hồ Chí Minh | V5: Quận 8 | W5: MIENNAM;WIN | X5: WINCOMMERCE | Y5: K-HCM | AB5: 133650 | AC5: =VLOOKUP(AE5,Table1[[Ký hiệu]:[Hướng xli]],9,0) -> NCC check theo sheep data cửa hàng nhập kho điều chỉnh giảm toàn bộ HĐ cũ và xuất lại HĐ mới đúng số lượng | AD5: mục 03,05,07 wcm ko nhận hàng, mục 06 chỉ nhận 03 | AE5: 28825 | AF5: Đã điều chỉnh giảm về 0
A6: 45450 | B6: BH2406/00258 | C6: 45456 | D6: 00028825 | E6: 4160177182 | F6: win4146 | G6: CN HCM - wincommerce | I6: CN300 | J6: Chả nướng 300g | K6: Túi | L6: 3 | M6: 0 | N6: 70950 | O6: 212850 | P6: =M6*N6 -> 0 | Q6: 0 | R6: 0 | S6: 0 | T6: SG004 | U6: Hồ Chí Minh | V6: Quận 8 | W6: MIENNAM;WIN | X6: WINCOMMERCE | Y6: K-HCM | AB6: 0 | AC6: =VLOOKUP(AE6,Table1[[Ký hiệu]:[Hướng xli]],9,0) -> NCC check theo sheep data cửa hàng nhập kho điều chỉnh giảm toàn bộ HĐ cũ và xuất lại HĐ mới đúng số lượng | AD6: mục 03,05,07 wcm ko nhận hàng, mục 06 chỉ nhận 03 | AE6: 28825 | AF6: Đã điều chỉnh giảm về 0
A7: 45450 | B7: BH2406/00258 | C7: 45456 | D7: 00028825 | E7: 4160177182 | F7: win4146 | G7: CN HCM - wincommerce | I7: CC300 | J7: Chả cốm 300g | K7: Túi | L7: 6 | M7: 3 | N7: 59400 | O7: 356400 | P7: =M7*N7 -> 178200 | Q7: 0 | R7: 0 | S7: 0 | T7: SG004 | U7: Hồ Chí Minh | V7: Quận 8 | W7: MIENNAM;WIN | X7: WINCOMMERCE | Y7: K-HCM | AB7: 178200 | AC7: =VLOOKUP(AE7,Table1[[Ký hiệu]:[Hướng xli]],9,0) -> NCC check theo sheep data cửa hàng nhập kho điều chỉnh giảm toàn bộ HĐ cũ và xuất lại HĐ mới đúng số lượng | AD7: mục 03,05,07 wcm ko nhận hàng, mục 06 chỉ nhận 03 | AE7: 28825 | AF7: Đã điều chỉnh giảm về 0
A8: 45450 | B8: BH2406/00258 | C8: 45456 | D8: 00028825 | E8: 4160177182 | F8: win4146 | G8: CN HCM - wincommerce | I8: GTLX250G | J8: Giò Tai Lưỡi Xào 250g | K8: Túi | L8: 3 | M8: 0 | N8: 50182 | O8: 150546 | P8: =M8*N8 -> 0 | Q8: 0 | R8: 0 | S8: 0 | T8: SG004 | U8: Hồ Chí Minh | V8: Quận 8 | W8: MIENNAM;WIN | X8: WINCOMMERCE | Y8: K-HCM | AB8: 0 | AC8: =VLOOKUP(AE8,Table1[[Ký hiệu]:[Hướng xli]],9,0) -> NCC check theo sheep data cửa hàng nhập kho điều chỉnh giảm toàn bộ HĐ cũ và xuất lại HĐ mới đúng số lượng | AD8: mục 03,05,07 wcm ko nhận hàng, mục 06 chỉ nhận 03 | AE8: 28825 | AF8: Đã điều chỉnh giảm về 0
A9: 45450 | B9: BH2406/00258 | C9: 45456 | D9: 00028825 | E9: 4160177182 | F9: win4146 | G9: CN HCM - wincommerce | I9: MNH250 | J9: Mọc Nấm Hương 250g | K9: Túi | L9: 3 | M9: 3 | N9: 37720 | O9: 113160 | P9: =M9*N9 -> 113160 | Q9: 0 | R9: 0 | S9: 0 | T9: SG004 | U9: Hồ Chí Minh | V9: Quận 8 | W9: MIENNAM;WIN | X9: WINCOMMERCE | Y9: K-HCM | AB9: 113160 | AC9: =VLOOKUP(AE9,Table1[[Ký hiệu]:[Hướng xli]],9,0) -> NCC check theo sheep data cửa hàng nhập kho điều chỉnh giảm toàn bộ HĐ cũ và xuất lại HĐ mới đúng số lượng | AD9: mục 03,05,07 wcm ko nhận hàng, mục 06 chỉ nhận 03 | AE9: 28825 | AF9: Đã điều chỉnh giảm về 0
A10: 45474 | B10: BH2406/03543 | C10: 45477 | D10: 00032409 | E10: 4160781730 | F10: win6634 | G10: CN HÀ NỘI - wincommerce | I10: CGM300 | J10: Chân giò heo muối 300g | K10: Túi | L10: 5 | M10: 5 | N10: 58745 | O10: 293725 | P10: =M10*N10 -> 293725 | Q10: 0 | R10: 0 | S10: 0 | T10: HN004 | U10: Hà Nội | V10: Quận Hà Đông | W10: MIENBAC;WIN | X10: WINCOMMERCE | Y10: K-C6 | AB10: 0 | AC10: =VLOOKUP(AE10,Table1[[Ký hiệu]:[Hướng xli]],9,0) -> NCC điều chỉnh giảm toàn bộ HĐ | AD10: PO chưa nhập kho -> kế toán đang gửi CH chưa nhận được phản hồi | AE10: 32409 | AF10: Đã điều chỉnh giảm về 0
A11: 45474 | B11: BH2406/03543 | C11: 45477 | D11: 00032409 | E11: 4160781730 | F11: win6634 | G11: CN HÀ NỘI - wincommerce | I11: GM500 | J11: Gà muối 500g | K11: Túi | L11: 10 | M11: 10 | N11: 111058 | O11: 1110580 | P11: =M11*N11 -> 1110580 | Q11: 0 | R11: 0 | S11: 0 | T11: HN004 | U11: Hà Nội | V11: Quận Hà Đông | W11: MIENBAC;WIN | X11: WINCOMMERCE | Y11: K-C6 | AB11: 0 | AC11: =VLOOKUP(AE11,Table1[[Ký hiệu]:[Hướng xli]],9,0) -> NCC điều chỉnh giảm toàn bộ HĐ | AD11: PO chưa nhập kho -> kế toán đang gửi CH chưa nhận được phản hồi | AE11: 32409 | AF11: Đã điều chỉnh giảm về 0
A12: 45474 | B12: BH2406/03543 | C12: 45477 | D12: 00032409 | E12: 4160781730 | F12: win6634 | G12: CN HÀ NỘI - wincommerce | I12: MNH250 | J12: Mọc Nấm Hương 250g | K12: Túi | L12: 3 | M12: 3 | N12: 37720 | O12: 113160 | P12: =M12*N12 -> 113160 | Q12: 0 | R12: 0 | S12: 0 | T12: HN004 | U12: Hà Nội | V12: Quận Hà Đông | W12: MIENBAC;WIN | X12: WINCOMMERCE | Y12: K-C6 | AB12: 0 | AC12: =VLOOKUP(AE12,Table1[[Ký hiệu]:[Hướng xli]],9,0) -> NCC điều chỉnh giảm toàn bộ HĐ | AD12: PO chưa nhập kho -> kế toán đang gửi CH chưa nhận được phản hồi | AE12: 32409 | AF12: Đã điều chỉnh giảm về 0
A13: 45474 | B13: BH2406/03808 | C13: 45477 | D13: 00032471 | E13: 4160864944 | F13: win5509 | G13: CN HÀ NỘI - wincommerce | I13: CGM300 | J13: Chân giò heo muối 300g | K13: Túi | L13: 5 | M13: 5 | N13: 58745 | O13: 293725 | P13: =M13*N13 -> 293725 | Q13: 0 | R13: 0 | S13: 0 | T13: HN004 | U13: Hà Nội | V13: Huyện Hoài Đức | W13: MIENBAC;WIN | X13: WINCOMMERCE | AB13: 293725 | AC13: =VLOOKUP(AE13,Table1[[Ký hiệu]:[Hướng xli]],9,0) -> NCC check theo sheep data cửa hàng nhập kho điều chỉnh giảm toàn bộ HĐ cũ và xuất lại HĐ mới đúng số lượng | AD13: mục 02 wcm ko nhận hàng, bb không có ký nhận NCC tự làm việc với CH | AE13: 32471 | AF13: Đã điều chỉnh giảm về 0
A14: 45474 | B14: BH2406/03808 | C14: 45477 | D14: 00032471 | E14: 4160864944 | F14: win5509 | G14: CN HÀ NỘI - wincommerce | I14: GM500 | J14: Gà muối 500g | K14: Túi | L14: 3 | M14: 0 | N14: 111058 | O14: 333174 | P14: =M14*N14 -> 0 | Q14: 0 | R14: 0 | S14: 0 | T14: HN004 | U14: Hà Nội | V14: Huyện Hoài Đức | W14: MIENBAC;WIN | X14: WINCOMMERCE | AB14: 0 | AC14: =VLOOKUP(AE14,Table1[[Ký hiệu]:[Hướng xli]],9,0) -> NCC check theo sheep data cửa hàng nhập kho điều chỉnh giảm toàn bộ HĐ cũ và xuất lại HĐ mới đúng số lượng | AD14: mục 02 wcm ko nhận hàng, bb không có ký nhận NCC tự làm việc với CH | AE14: 32471 | AF14: Đã điều chỉnh giảm về 0
A15: 45474 | B15: BH2406/03808 | C15: 45477 | D15: 00032471 | E15: 4160864944 | F15: win5509 | G15: CN HÀ NỘI - wincommerce | I15: MNH250 | J15: Mọc Nấm Hương 250g | K15: Túi | L15: 5 | M15: 5 | N15: 46000 | O15: 230000 | P15: =M15*N15 -> 230000 | Q15: 0 | R15: 0 | S15: 0 | T15: HN004 | U15: Hà Nội | V15: Huyện Hoài Đức | W15: MIENBAC;WIN | X15: WINCOMMERCE | AB15: 230000 | AC15: =VLOOKUP(AE15,Table1[[Ký hiệu]:[Hướng xli]],9,0) -> NCC check theo sheep data cửa hàng nhập kho điều chỉnh giảm toàn bộ HĐ cũ và xuất lại HĐ mới đúng số lượng | AD15: mục 02 wcm ko nhận hàng, bb không có ký nhận NCC tự làm việc với CH | AE15: 32471 | AF15: Đã điều chỉnh giảm về 0
A16: 45474 | B16: BH2406/03808 | C16: 45477 | D16: 00032471 | E16: 4160864944 | F16: win5509 | G16: CN HÀ NỘI - wincommerce | I16: TH200 | J16: Tai heo muối 200g | K16: Túi | L16: 3 | M16: 3 | N16: 44476 | O16: 133428 | P16: =M16*N16 -> 133428 | Q16: 0 | R16: 0 | S16: 0 | T16: HN004 | U16: Hà Nội | V16: Huyện Hoài Đức | W16: MIENBAC;WIN | X16: WINCOMMERCE | AB16: 133428 | AC16: =VLOOKUP(AE16,Table1[[Ký hiệu]:[Hướng xli]],9,0) -> NCC check theo sheep data cửa hàng nhập kho điều chỉnh giảm toàn bộ HĐ cũ và xuất lại HĐ mới đúng số lượng | AD16: mục 02 wcm ko nhận hàng, bb không có ký nhận NCC tự làm việc với CH | AE16: 32471 | AF16: Đã điều chỉnh giảm về 0
A17: 45474 | B17: BH2406/03808 | C17: 45477 | D17: 00032471 | E17: 4160864944 | F17: win5509 | G17: CN HÀ NỘI - wincommerce | I17: GL250 | J17: Giò lụa cây 250g | K17: Túi | L17: 3 | M17: 3 | N17: 59400 | O17: 178200 | P17: =M17*N17 -> 178200 | Q17: 0 | R17: 0 | S17: 0 | T17: HN004 | U17: Hà Nội | V17: Huyện Hoài Đức | W17: MIENBAC;WIN | X17: WINCOMMERCE | AB17: 178200 | AC17: =VLOOKUP(AE17,Table1[[Ký hiệu]:[Hướng xli]],9,0) -> NCC check theo sheep data cửa hàng nhập kho điều chỉnh giảm toàn bộ HĐ cũ và xuất lại HĐ mới đúng số lượng | AD17: mục 02 wcm ko nhận hàng, bb không có ký nhận NCC tự làm việc với CH | AE17: 32471 | AF17: Đã điều chỉnh giảm về 0
A18: 45474 | B18: BH2406/03808 | C18: 45477 | D18: 00032471 | E18: 4160864944 | F18: win5509 | G18: CN HÀ NỘI - wincommerce | I18: GSG250 | J18: Giò sụn gà 250g | K18: Túi | L18: 3 | M18: 3 | N18: 61050 | O18: 183150 | P18: =M18*N18 -> 183150 | Q18: 0 | R18: 0 | S18: 0 | T18: HN004 | U18: Hà Nội | V18: Huyện Hoài Đức | W18: MIENBAC;WIN | X18: WINCOMMERCE | AB18: 183150 | AC18: =VLOOKUP(AE18,Table1[[Ký hiệu]:[Hướng xli]],9,0) -> NCC check theo sheep data cửa hàng nhập kho điều chỉnh giảm toàn bộ HĐ cũ và xuất lại HĐ mới đúng số lượng | AD18: mục 02 wcm ko nhận hàng, bb không có ký nhận NCC tự làm việc với CH | AE18: 32471 | AF18: Đã điều chỉnh giảm về 0
A19: 45474 | B19: BH2406/03417 | C19: 45477 | D19: 00032503 | E19: 4160833945 | F19: WIN4967 | G19: CN HÀ NỘI - CÔNG TY CỔ PHẦN DỊCH VỤ THƯƠNG MẠI TỔNG HỢP WINCOMMERCE | I19: CGM300 | J19: Chân giò heo muối 300g | K19: Túi | L19: 15 | M19: 15 | N19: 58745 | O19: 881175 | P19: =M19*N19 -> 881175 | Q19: 0 | R19: 0 | S19: 0 | T19: HN004 | U19: Hà Nội | V19: Quận Thanh Xuân | W19: MIENBAC;WIN | X19: WINCOMMERCE | Y19: K-C6 | AB19: 881175 | AC19: =VLOOKUP(AE19,Table1[[Ký hiệu]:[Hướng xli]],9,0) -> NCC check theo sheep data cửa hàng nhập kho điều chỉnh giảm toàn bộ HĐ cũ và xuất lại HĐ mới đúng số lượng | AD19: mục 02 wcm ko nhận hàng, bb không có ký nhận NCC tự làm việc với CH | AE19: 32503 | AF19: Đã điều chỉnh giảm về 0
A20: 45474 | B20: BH2406/03417 | C20: 45477 | D20: 00032503 | E20: 4160833945 | F20: WIN4967 | G20: CN HÀ NỘI - CÔNG TY CỔ PHẦN DỊCH VỤ THƯƠNG MẠI TỔNG HỢP WINCOMMERCE | I20: MNH250 | J20: Mọc Nấm Hương 250g | K20: Túi | L20: 5 | M20: 5 | N20: 46000 | O20: 230000 | P20: =M20*N20 -> 230000 | Q20: 0 | R20: 0 | S20: 0 | T20: HN004 | U20: Hà Nội | V20: Quận Thanh Xuân | W20: MIENBAC;WIN | X20: WINCOMMERCE | AB20: 230000 | AC20: =VLOOKUP(AE20,Table1[[Ký hiệu]:[Hướng xli]],9,0) -> NCC check theo sheep data cửa hàng nhập kho điều chỉnh giảm toàn bộ HĐ cũ và xuất lại HĐ mới đúng số lượng | AD20: mục 02 wcm ko nhận hàng, bb không có ký nhận NCC tự làm việc với CH | AE20: 32503 | AF20: Đã điều chỉnh giảm về 0
A21: 45474 | B21: BH2406/03482 | C21: 45477 | D21: 00032551 | E21: 4160822589 | F21: win4360 | G21: CN HÀ NỘI - wincommerce | I21: CGM300 | J21: Chân giò heo muối 300g | K21: Túi | L21: 6 | M21: 4 | N21: 58745 | O21: 352470 | P21: =M21*N21 -> 234980 | Q21: 0 | R21: 0 | S21: 0 | T21: HN003 | U21: Hà Nội | V21: Huyện Mê Linh | W21: MIENBAC;WIN | X21: WINCOMMERCE | Y21: K-C6 | AB21: 234980 | AC21: =VLOOKUP(AE21,Table1[[Ký hiệu]:[Hướng xli]],9,0) -> NCC check theo sheep data cửa hàng nhập kho điều chỉnh giảm toàn bộ HĐ cũ và xuất lại HĐ mới đúng số lượng | AD21: mục 01,02 chỉ nhập 04,06 biên bản không ký nhận ncc tự làm việc với CH | AE21: 32551 | AF21: Đã điều chỉnh giảm về 0
A22: 45474 | B22: BH2406/03482 | C22: 45477 | D22: 00032551 | E22: 4160822589 | F22: win4360 | G22: CN HÀ NỘI - wincommerce | I22: GM500 | J22: Gà muối 500g | K22: Túi | L22: 7 | M22: 6 | N22: 111058 | O22: 777406 | P22: =M22*N22 -> 666348 | Q22: 0 | R22: 0 | S22: 0 | T22: HN003 | U22: Hà Nội | V22: Huyện Mê Linh | W22: MIENBAC;WIN | X22: WINCOMMERCE | Y22: K-C6 | AB22: 666348 | AC22: =VLOOKUP(AE22,Table1[[Ký hiệu]:[Hướng xli]],9,0) -> NCC check theo sheep data cửa hàng nhập kho điều chỉnh giảm toàn bộ HĐ cũ và xuất lại HĐ mới đúng số lượng | AD22: mục 01,02 chỉ nhập 04,06 biên bản không ký nhận ncc tự làm việc với CH | AE22: 32551 | AF22: Đã điều chỉnh giảm về 0
A23: 45474 | B23: BH2406/03589 | C23: 45477 | D23: 00032714 | E23: 4160914201 | F23: win6738 | G23: CN HÀ NỘI - wincommerce | I23: CGM300 | J23: Chân giò heo muối 300g | K23: Túi | L23: 5 | M23: 5 | N23: 58745 | O23: 293725 | P23: =M23*N23 -> 293725 | Q23: 0 | R23: 0 | S23: 0 | T23: HN004 | U23: Hà Nội | V23: Quận Bắc Từ Liêm | W23: MIENBAC;WIN | X23: WINCOMMERCE | Y23: K-C6 | AB23: 0 | AC23: =VLOOKUP(AE23,Table1[[Ký hiệu]:[Hướng xli]],9,0) -> NCC điều chỉnh giảm toàn bộ HĐ | AD23: PO chưa nhập kho -> kế toán đang gửi CH chưa nhận được phản hồi | AE23: 32714 | AF23: Đã điều chỉnh giảm về 0
A24: 45474 | B24: BH2406/03589 | C24: 45477 | D24: 00032714 | E24: 4160914201 | F24: win6738 | G24: CN HÀ NỘI - wincommerce | I24: GM500 | J24: Gà muối 500g | K24: Túi | L24: 10 | M24: 10 | N24: 111058 | O24: 1110580 | P24: =M24*N24 -> 1110580 | Q24: 0 | R24: 0 | S24: 0 | T24: HN004 | U24: Hà Nội | V24: Quận Bắc Từ Liêm | W24: MIENBAC;WIN | X24: WINCOMMERCE | Y24: K-C6 | AB24: 0 | AC24: =VLOOKUP(AE24,Table1[[Ký hiệu]:[Hướng xli]],9,0) -> NCC điều chỉnh giảm toàn bộ HĐ | AD24: PO chưa nhập kho -> kế toán đang gửi CH chưa nhận được phản hồi | AE24: 32714 | AF24: Đã điều chỉnh giảm về 0
A25: 45474 | B25: BH2406/03589 | C25: 45477 | D25: 00032714 | E25: 4160914201 | F25: win6738 | G25: CN HÀ NỘI - wincommerce | I25: CN300 | J25: Chả nướng 300g | K25: Túi | L25: 3 | M25: 3 | N25: 70950 | O25: 212850 | P25: =M25*N25 -> 212850 | Q25: 0 | R25: 0 | S25: 0 | T25: HN004 | U25: Hà Nội | V25: Quận Bắc Từ Liêm | W25: MIENBAC;WIN | X25: WINCOMMERCE | Y25: K-C6 | AB25: 0 | AC25: =VLOOKUP(AE25,Table1[[Ký hiệu]:[Hướng xli]],9,0) -> NCC điều chỉnh giảm toàn bộ HĐ | AD25: PO chưa nhập kho -> kế toán đang gửi CH chưa nhận được phản hồi | AE25: 32714 | AF25: Đã điều chỉnh giảm về 0
A26: 45474 | B26: BH2406/03601 | C26: 45477 | D26: 00032723 | E26: 4160866190 | F26: WIN3168 | G26: CN HÀ NỘI - CÔNG TY CỔ PHẦN DỊCH VỤ THƯƠNG MẠI TỔNG HỢP WINCOMMERCE | I26: GM500 | J26: Gà muối 500g | K26: Túi | L26: 5 | M26: 5 | N26: 111058 | O26: 555290 | P26: =M26*N26 -> 555290 | Q26: 0 | R26: 0 | S26: 0 | T26: HN004 | U26: Hà Nội | V26: Quận Nam Từ Liêm | W26: MIENBAC;WIN | X26: WINCOMMERCE | Y26: K-C6 | AB26: 555290 | AC26: =VLOOKUP(AE26,Table1[[Ký hiệu]:[Hướng xli]],9,0) -> NCC check theo sheep data cửa hàng nhập kho điều chỉnh giảm toàn bộ HĐ cũ và xuất lại HĐ mới đúng số lượng | AD26: mục 03 wcm ko nhận hàng, bb không có ký nhận NCC tự làm việc với CH | AE26: 32723 | AF26: Đã điều chỉnh giảm về 0
A27: 45474 | B27: BH2406/03601 | C27: 45477 | D27: 00032723 | E27: 4160866190 | F27: WIN3168 | G27: CN HÀ NỘI - CÔNG TY CỔ PHẦN DỊCH VỤ THƯƠNG MẠI TỔNG HỢP WINCOMMERCE | I27: CGM300 | J27: Chân giò heo muối 300g | K27: Túi | L27: 10 | M27: 10 | N27: 58745 | O27: 587450 | P27: =M27*N27 -> 587450 | Q27: 0 | R27: 0 | S27: 0 | T27: HN004 | U27: Hà Nội | V27: Quận Nam Từ Liêm | W27: MIENBAC;WIN | X27: WINCOMMERCE | Y27: K-C6 | AB27: 587450 | AC27: =VLOOKUP(AE27,Table1[[Ký hiệu]:[Hướng xli]],9,0) -> NCC check theo sheep data cửa hàng nhập kho điều chỉnh giảm toàn bộ HĐ cũ và xuất lại HĐ mới đúng số lượng | AD27: mục 03 wcm ko nhận hàng, bb không có ký nhận NCC tự làm việc với CH | AE27: 32723 | AF27: Đã điều chỉnh giảm về 0
A28: 45474 | B28: BH2406/03601 | C28: 45477 | D28: 00032723 | E28: 4160866190 | F28: WIN3168 | G28: CN HÀ NỘI - CÔNG TY CỔ PHẦN DỊCH VỤ THƯƠNG MẠI TỔNG HỢP WINCOMMERCE | I28: MNH250 | J28: Mọc Nấm Hương 250g | K28: Túi | L28: 5 | M28: 0 | N28: 46000 | O28: 230000 | P28: =M28*N28 -> 0 | Q28: 0 | R28: 0 | S28: 0 | T28: HN004 | U28: Hà Nội | V28: Quận Nam Từ Liêm | W28: MIENBAC;WIN | X28: WINCOMMERCE | AB28: 0 | AC28: =VLOOKUP(AE28,Table1[[Ký hiệu]:[Hướng xli]],9,0) -> NCC check theo sheep data cửa hàng nhập kho điều chỉnh giảm toàn bộ HĐ cũ và xuất lại HĐ mới đúng số lượng | AD28: mục 03 wcm ko nhận hàng, bb không có ký nhận NCC tự làm việc với CH | AE28: 32723 | AF28: Đã điều chỉnh giảm về 0
A29: 45474 | B29: BH2406/03640 | C29: 45477 | D29: 00032754 | E29: 4161006279 | F29: win3291 | G29: CN HÀ NỘI - wincommerce | I29: CN300 | J29: Chả nướng 300g | K29: Túi | L29: 5 | M29: 3 | N29: 70950 | O29: 354750 | P29: =M29*N29 -> 212850 | Q29: 0 | R29: 0 | S29: 0 | T29: HN003 | U29: Hà Nội | V29: Huyện Thanh Trì | W29: MIENBAC;WIN | X29: WINCOMMERCE | Y29: K-C6 | AB29: 212850 | AC29: =VLOOKUP(AE29,Table1[[Ký hiệu]:[Hướng xli]],9,0) -> NCC check theo sheep data cửa hàng nhập kho điều chỉnh giảm toàn bộ HĐ cũ và xuất lại HĐ mới đúng số lượng | AD29: mục 01,02,03 chỉ nhập 03 biên bản không ký nhận ncc tự làm việc với CH | AE29: 32754 | AF29: Đã điều chỉnh giảm về 0
A30: 45474 | B30: BH2406/03640 | C30: 45477 | D30: 00032754 | E30: 4161006279 | F30: win3291 | G30: CN HÀ NỘI - wincommerce | I30: CC300 | J30: Chả cốm 300g | K30: Túi | L30: 4 | M30: 3 | N30: 74250 | O30: 297000 | P30: =M30*N30 -> 222750 | Q30: 0 | R30: 0 | S30: 0 | T30: HN003 | U30: Hà Nội | V30: Huyện Thanh Trì | W30: MIENBAC;WIN | X30: WINCOMMERCE | Y30: K-C6 | AB30: 222750 | AC30: =VLOOKUP(AE30,Table1[[Ký hiệu]:[Hướng xli]],9,0) -> NCC check theo sheep data cửa hàng nhập kho điều chỉnh giảm toàn bộ HĐ cũ và xuất lại HĐ mới đúng số lượng | AD30: mục 01,02,03 chỉ nhập 03 biên bản không ký nhận ncc tự làm việc với CH | AE30: 32754 | AF30: Đã điều chỉnh giảm về 0
A31: 45474 | B31: BH2406/03640 | C31: 45477 | D31: 00032754 | E31: 4161006279 | F31: win3291 | G31: CN HÀ NỘI - wincommerce | I31: MNH250 | J31: Mọc Nấm Hương 250g | K31: Túi | L31: 4 | M31: 3 | N31: 46000 | O31: 184000 | P31: =M31*N31 -> 138000 | Q31: 0 | R31: 0 | S31: 0 | T31: HN003 | U31: Hà Nội | V31: Huyện Thanh Trì | W31: MIENBAC;WIN | X31: WINCOMMERCE | Y31: K-C6 | AB31: 138000 | AC31: =VLOOKUP(AE31,Table1[[Ký hiệu]:[Hướng xli]],9,0) -> NCC check theo sheep data cửa hàng nhập kho điều chỉnh giảm toàn bộ HĐ cũ và xuất lại HĐ mới đúng số lượng | AD31: mục 01,02,03 chỉ nhập 03 biên bản không ký nhận ncc tự làm việc với CH | AE31: 32754 | AF31: Đã điều chỉnh giảm về 0
A32: 45474 | B32: BH2406/03736 | C32: 45477 | D32: 00032850 | E32: 4161073493 | F32: WIN3530 | G32: CN HÀ NỘI - CÔNG TY CỔ PHẦN DỊCH VỤ THƯƠNG MẠI TỔNG HỢP WINCOMMERCE | I32: GM500 | J32: Gà muối 500g | K32: Túi | L32: 3 | M32: 3 | N32: 111058 | O32: 333174 | P32: =M32*N32 -> 333174 | Q32: 0 | R32: 0 | S32: 0 | T32: HN008 | U32: Hà Nội | V32: Quận Thanh Xuân | W32: MIENBAC;WIN | X32: WINCOMMERCE | AB32: 0 | AC32: =VLOOKUP(AE32,Table1[[Ký hiệu]:[Hướng xli]],9,0) -> NCC điều chỉnh giảm toàn bộ HĐ | AD32: PO chưa nhập kho biên bản không có ký nhận ncc tự xli | AE32: 32850 | AF32: Đã điều chỉnh giảm về 0
A33: 45474 | B33: BH2406/03736 | C33: 45477 | D33: 00032850 | E33: 4161073493 | F33: WIN3530 | G33: CN HÀ NỘI - CÔNG TY CỔ PHẦN DỊCH VỤ THƯƠNG MẠI TỔNG HỢP WINCOMMERCE | I33: CGM300 | J33: Chân giò heo muối 300g | K33: Túi | L33: 10 | M33: 10 | N33: 58745 | O33: 587450 | P33: =M33*N33 -> 587450 | Q33: 0 | R33: 0 | S33: 0 | T33: HN008 | U33: Hà Nội | V33: Quận Thanh Xuân | W33: MIENBAC;WIN | X33: WINCOMMERCE | AB33: 0 | AC33: =VLOOKUP(AE33,Table1[[Ký hiệu]:[Hướng xli]],9,0) -> NCC điều chỉnh giảm toàn bộ HĐ | AD33: PO chưa nhập kho biên bản không có ký nhận ncc tự xli | AE33: 32850 | AF33: Đã điều chỉnh giảm về 0
A34: 45474 | B34: BH2406/03736 | C34: 45477 | D34: 00032850 | E34: 4161073493 | F34: WIN3530 | G34: CN HÀ NỘI - CÔNG TY CỔ PHẦN DỊCH VỤ THƯƠNG MẠI TỔNG HỢP WINCOMMERCE | I34: MNH250 | J34: Mọc Nấm Hương 250g | K34: Túi | L34: 5 | M34: 5 | N34: 46000 | O34: 230000 | P34: =M34*N34 -> 230000 | Q34: 0 | R34: 0 | S34: 0 | T34: HN008 | U34: Hà Nội | V34: Quận Thanh Xuân | W34: MIENBAC;WIN | X34: WINCOMMERCE | AB34: 0 | AC34: =VLOOKUP(AE34,Table1[[Ký hiệu]:[Hướng xli]],9,0) -> NCC điều chỉnh giảm toàn bộ HĐ | AD34: PO chưa nhập kho biên bản không có ký nhận ncc tự xli | AE34: 32850 | AF34: Đã điều chỉnh giảm về 0
A35: 45474 | B35: BH2406/03736 | C35: 45477 | D35: 00032850 | E35: 4161073493 | F35: WIN3530 | G35: CN HÀ NỘI - CÔNG TY CỔ PHẦN DỊCH VỤ THƯƠNG MẠI TỔNG HỢP WINCOMMERCE | I35: CC300 | J35: Chả cốm 300g | K35: Túi | L35: 5 | M35: 5 | N35: 59400 | O35: 297000 | P35: =M35*N35 -> 297000 | Q35: 0 | R35: 0 | S35: 0 | T35: HN008 | U35: Hà Nội | V35: Quận Thanh Xuân | W35: MIENBAC;WIN | X35: WINCOMMERCE | AB35: 0 | AC35: =VLOOKUP(AE35,Table1[[Ký hiệu]:[Hướng xli]],9,0) -> NCC điều chỉnh giảm toàn bộ HĐ | AD35: PO chưa nhập kho biên bản không có ký nhận ncc tự xli | AE35: 32850 | AF35: Đã điều chỉnh giảm về 0
A36: 45474 | B36: BH2406/03736 | C36: 45477 | D36: 00032850 | E36: 4161073493 | F36: WIN3530 | G36: CN HÀ NỘI - CÔNG TY CỔ PHẦN DỊCH VỤ THƯƠNG MẠI TỔNG HỢP WINCOMMERCE | I36: CN300 | J36: Chả nướng 300g | K36: Túi | L36: 5 | M36: 5 | N36: 70950 | O36: 354750 | P36: =M36*N36 -> 354750 | Q36: 0 | R36: 0 | S36: 0 | T36: HN008 | U36: Hà Nội | V36: Quận Thanh Xuân | W36: MIENBAC;WIN | X36: WINCOMMERCE | AB36: 0 | AC36: =VLOOKUP(AE36,Table1[[Ký hiệu]:[Hướng xli]],9,0) -> NCC điều chỉnh giảm toàn bộ HĐ | AD36: PO chưa nhập kho biên bản không có ký nhận ncc tự xli | AE36: 32850 | AF36: Đã điều chỉnh giảm về 0
A37: 45474 | B37: BH2406/03849 | C37: 45477 | D37: 00033303 | E37: 4160625979(1616)ĐN | F37: WIN-021 | G37: CHI NHÁNH THỪA THIÊN HUẾ - CÔNG TY CỔ PHẦN DỊCH VỤ THƯƠNG MẠI TỔNG HỢP WINCOMMERCE | H37: 0104918404-021 | I37: CGM300 | J37: Chân giò heo muối 300g | K37: Túi | L37: 6 | M37: 6 | N37: 58745 | O37: 352470 | P37: =M37*N37 -> 352470 | Q37: 0 | R37: 0 | S37: 0 | U37: Thừa Thiên - Huế | W37: MIENNAM;WIN | X37: WINCOMMERCE | Y37: K-HCM | AB37: 352470 | AC37: =VLOOKUP(AE37,Table1[[Ký hiệu]:[Hướng xli]],9,0) -> NCC xuất hđ điều chỉnh giảm toàn bộ HĐ -> xuất hđ mới đúng giá theo PO của wcm | AD37: mục 02 sai giá | AE37: 33303 | AF37: Đã điều chỉnh giảm về 0
A38: 45474 | B38: BH2406/03849 | C38: 45477 | D38: 00033303 | E38: 4160625979(1616)ĐN | F38: WIN-021 | G38: CHI NHÁNH THỪA THIÊN HUẾ - CÔNG TY CỔ PHẦN DỊCH VỤ THƯƠNG MẠI TỔNG HỢP WINCOMMERCE | H38: 0104918404-021 | I38: CC300 | J38: Chả cốm 300g | K38: Túi | L38: 6 | M38: 6 | N38: 74250 | O38: 445500 | P38: =M38*N38 -> 445500 | Q38: 0 | R38: 0 | S38: 0 | U38: Thừa Thiên - Huế | W38: MIENNAM;WIN | X38: WINCOMMERCE | Y38: K-HCM | AB38: 445500 | AC38: =VLOOKUP(AE38,Table1[[Ký hiệu]:[Hướng xli]],9,0) -> NCC xuất hđ điều chỉnh giảm toàn bộ HĐ -> xuất hđ mới đúng giá theo PO của wcm | AD38: mục 02 sai giá | AE38: 33303 | AF38: Đã điều chỉnh giảm về 0
A39: 45474 | B39: BH2328355 | C39: 45478 | D39: 00033477 | E39: 4161054396(3671) | F39: WIN-024 | G39: CHI NHÁNH BÌNH DƯƠNG - CÔNG TY CỔ PHẦN DỊCH VỤ THƯƠNG MẠI TỔNG HỢP WINCOMMERCE | H39: 0104918404-024 | I39: GM500 | J39: Gà muối 500g | K39: Túi | L39: 5 | M39: 5 | N39: 111058 | O39: 555290 | P39: =M39*N39 -> 555290 | Q39: 0 | R39: 0 | S39: 0 | U39: Bình Dương | W39: MIENNAM;WIN | X39: WINCOMMERCE | Y39: K-HCM | AB39: 0 | AC39: =VLOOKUP(AE39,Table1[[Ký hiệu]:[Hướng xli]],9,0) -> NCC điều chỉnh giảm toàn bộ HĐ | AD39: PO chưa nhập kho biên bản không có ký nhận ncc tự xli | AE39: 33477 | AF39: Đã điều chỉnh giảm về 0
A40: 45474 | B40: BH2328355 | C40: 45478 | D40: 00033477 | E40: 4161054396(3671) | F40: WIN-024 | G40: CHI NHÁNH BÌNH DƯƠNG - CÔNG TY CỔ PHẦN DỊCH VỤ THƯƠNG MẠI TỔNG HỢP WINCOMMERCE | H40: 0104918404-024 | I40: CGM300 | J40: Chân giò heo muối 300g | K40: Túi | L40: 3 | M40: 3 | N40: 58745 | O40: 176235 | P40: =M40*N40 -> 176235 | Q40: 0 | R40: 0 | S40: 0 | U40: Bình Dương | W40: MIENNAM;WIN | X40: WINCOMMERCE | Y40: K-HCM | AB40: 0 | AC40: =VLOOKUP(AE40,Table1[[Ký hiệu]:[Hướng xli]],9,0) -> NCC điều chỉnh giảm toàn bộ HĐ | AD40: PO chưa nhập kho biên bản không có ký nhận ncc tự xli | AE40: 33477 | AF40: Đã điều chỉnh giảm về 0
...

Sheet Báo cáo Hương
A1: Ngày hạch toán | B1: Số chứng từ | C1: Ngày hóa đơn | D1: Số hóa đơn | E1: Diễn giải chung | F1: Mã khách hàng | G1: Tên khách hàng | H1: Mã số thuế | I1: Mã hàng | J1: Tên hàng | K1: ĐVT | L1: Tổng số lượng bán | M1: SL DC | N1: Đơn giá | O1: Doanh số bán LÚC ĐẦU | P1: DOANH SỐ BÁN SAU KHI ĐIỀU CHỈNH CHƯA TRỪ CÁC TỜ CHƯA XÁC NHẬN | Q1: Chiết khấu | R1: Số lượng trả lại | S1: Giá trị trả lại | T1: Mã nhân viên bán hàng | U1: Tỉnh/Thành phố | V1: Quận/Huyện | W1: Mã nhóm khách hàng | X1: Mã thống kê | Y1: Mã kho | Z1: Địa điểm giao hàng | AA1: Thông tin người liên hệ | AC1: DOANH SỐ BÁN SAU KHI ĐIỀU CHỈNH CÓ ĐÃ TRỪ CÁC TỜ CHƯA XÁC NHẬN | AF1: Số hóa đơn 2024 | AG1: Hướng xử lý NCC | AH1: Số hóa đơn điều chỉnh giảm về 0 | AI1: số hóa đơn xuất mới | AJ1: Hóa đơn thay thế do xuất sai giá | AK1: Hóa đơn điều chỉnh giảm về 0 do cửa hàng không nhập kho
A2: 45450 | B2: BH2406/00258 | C2: 45456 | D2: 00028825 | E2: 4160177182 | F2: win4146 | G2: CN HCM - wincommerce | I2: CGM300 | J2: Chân giò heo muối 300g | K2: Túi | L2: 3 | M2: 3 | N2: 73431 | O2: 220293 | P2: =M2*N2 -> 220293 | Q2: 0 | R2: 0 | S2: 0 | T2: SG004 | U2: Hồ Chí Minh | V2: Quận 8 | W2: MIENNAM;WIN | X2: WINCOMMERCE | Y2: K-HCM | AB2: =ROUND(O2*8%,0)+O2 -> 237916 | AC2: 220293 | AD2: =VLOOKUP(AF2,Table1[[Ký hiệu]:[Hướng xli]],9,0) -> NCC check theo sheep data cửa hàng nhập kho điều chỉnh giảm toàn bộ HĐ cũ và xuất lại HĐ mới đúng số lượng | AE2: mục 03,05,07 wcm ko nhận hàng, mục 06 chỉ nhận 03 | AF2: 28825 | AG2: Đã điều chỉnh giảm về 0 xuất lại theo thực nhận | AH2: 00001689 | AI2: 00060714
A3: 45450 | B3: BH2406/00258 | C3: 45456 | D3: 00028825 | E3: 4160177182 | F3: win4146 | G3: CN HCM - wincommerce | I3: GM500 | J3: Gà muối 500g | K3: Túi | L3: 3 | M3: 3 | N3: 111058 | O3: 333174 | P3: =M3*N3 -> 333174 | Q3: 0 | R3: 0 | S3: 0 | T3: SG004 | U3: Hồ Chí Minh | V3: Quận 8 | W3: MIENNAM;WIN | X3: WINCOMMERCE | Y3: K-HCM | AB3: =ROUND(O3*8%,0)+O3 -> 359828 | AC3: 333174 | AD3: =VLOOKUP(AF3,Table1[[Ký hiệu]:[Hướng xli]],9,0) -> NCC check theo sheep data cửa hàng nhập kho điều chỉnh giảm toàn bộ HĐ cũ và xuất lại HĐ mới đúng số lượng | AE3: mục 03,05,07 wcm ko nhận hàng, mục 06 chỉ nhận 03 | AF3: 28825 | AG3: Đã điều chỉnh giảm về 0 | AH3: 00001689 | AI3: 00060714
A4: 45450 | B4: BH2406/00258 | C4: 45456 | D4: 00028825 | E4: 4160177182 | F4: win4146 | G4: CN HCM - wincommerce | I4: TH200 | J4: Tai heo muối 200g | K4: Túi | L4: 3 | M4: 0 | N4: 55595 | O4: 166785 | P4: =M4*N4 -> 0 | Q4: 0 | R4: 0 | S4: 0 | T4: SG004 | U4: Hồ Chí Minh | V4: Quận 8 | W4: MIENNAM;WIN | X4: WINCOMMERCE | Y4: K-HCM | AB4: =ROUND(O4*8%,0)+O4 -> 180128 | AC4: 0 | AD4: =VLOOKUP(AF4,Table1[[Ký hiệu]:[Hướng xli]],9,0) -> NCC check theo sheep data cửa hàng nhập kho điều chỉnh giảm toàn bộ HĐ cũ và xuất lại HĐ mới đúng số lượng | AE4: mục 03,05,07 wcm ko nhận hàng, mục 06 chỉ nhận 03 | AF4: 28825 | AG4: Đã điều chỉnh giảm về 0 | AH4: 00001689 | AI4: 00060714
A5: 45450 | B5: BH2406/00258 | C5: 45456 | D5: 00028825 | E5: 4160177182 | F5: win4146 | G5: CN HCM - wincommerce | I5: GL250 | J5: Giò lụa cây 250g | K5: Túi | L5: 3 | M5: 3 | N5: 44550 | O5: 133650 | P5: =M5*N5 -> 133650 | Q5: 0 | R5: 0 | S5: 0 | T5: SG004 | U5: Hồ Chí Minh | V5: Quận 8 | W5: MIENNAM;WIN | X5: WINCOMMERCE | Y5: K-HCM | AB5: =ROUND(O5*8%,0)+O5 -> 144342 | AC5: 133650 | AD5: =VLOOKUP(AF5,Table1[[Ký hiệu]:[Hướng xli]],9,0) -> NCC check theo sheep data cửa hàng nhập kho điều chỉnh giảm toàn bộ HĐ cũ và xuất lại HĐ mới đúng số lượng | AE5: mục 03,05,07 wcm ko nhận hàng, mục 06 chỉ nhận 03 | AF5: 28825 | AG5: Đã điều chỉnh giảm về 0 | AH5: 00001689 | AI5: 00060714
A6: 45450 | B6: BH2406/00258 | C6: 45456 | D6: 00028825 | E6: 4160177182 | F6: win4146 | G6: CN HCM - wincommerce | I6: CN300 | J6: Chả nướng 300g | K6: Túi | L6: 3 | M6: 0 | N6: 70950 | O6: 212850 | P6: =M6*N6 -> 0 | Q6: 0 | R6: 0 | S6: 0 | T6: SG004 | U6: Hồ Chí Minh | V6: Quận 8 | W6: MIENNAM;WIN | X6: WINCOMMERCE | Y6: K-HCM | AB6: =ROUND(O6*8%,0)+O6 -> 229878 | AC6: 0 | AD6: =VLOOKUP(AF6,Table1[[Ký hiệu]:[Hướng xli]],9,0) -> NCC check theo sheep data cửa hàng nhập kho điều chỉnh giảm toàn bộ HĐ cũ và xuất lại HĐ mới đúng số lượng | AE6: mục 03,05,07 wcm ko nhận hàng, mục 06 chỉ nhận 03 | AF6: 28825 | AG6: Đã điều chỉnh giảm về 0 | AH6: 00001689 | AI6: 00060714
A7: 45450 | B7: BH2406/00258 | C7: 45456 | D7: 00028825 | E7: 4160177182 | F7: win4146 | G7: CN HCM - wincommerce | I7: CC300 | J7: Chả cốm 300g | K7: Túi | L7: 6 | M7: 3 | N7: 59400 | O7: 356400 | P7: =M7*N7 -> 178200 | Q7: 0 | R7: 0 | S7: 0 | T7: SG004 | U7: Hồ Chí Minh | V7: Quận 8 | W7: MIENNAM;WIN | X7: WINCOMMERCE | Y7: K-HCM | AB7: =ROUND(O7*8%,0)+O7 -> 384912 | AC7: 178200 | AD7: =VLOOKUP(AF7,Table1[[Ký hiệu]:[Hướng xli]],9,0) -> NCC check theo sheep data cửa hàng nhập kho điều chỉnh giảm toàn bộ HĐ cũ và xuất lại HĐ mới đúng số lượng | AE7: mục 03,05,07 wcm ko nhận hàng, mục 06 chỉ nhận 03 | AF7: 28825 | AG7: Đã điều chỉnh giảm về 0 | AH7: 00001689 | AI7: 00060714
A8: 45450 | B8: BH2406/00258 | C8: 45456 | D8: 00028825 | E8: 4160177182 | F8: win4146 | G8: CN HCM - wincommerce | I8: GTLX250G | J8: Giò Tai Lưỡi Xào 250g | K8: Túi | L8: 3 | M8: 0 | N8: 50182 | O8: 150546 | P8: =M8*N8 -> 0 | Q8: 0 | R8: 0 | S8: 0 | T8: SG004 | U8: Hồ Chí Minh | V8: Quận 8 | W8: MIENNAM;WIN | X8: WINCOMMERCE | Y8: K-HCM | AB8: =ROUND(O8*8%,0)+O8 -> 162590 | AC8: 0 | AD8: =VLOOKUP(AF8,Table1[[Ký hiệu]:[Hướng xli]],9,0) -> NCC check theo sheep data cửa hàng nhập kho điều chỉnh giảm toàn bộ HĐ cũ và xuất lại HĐ mới đúng số lượng | AE8: mục 03,05,07 wcm ko nhận hàng, mục 06 chỉ nhận 03 | AF8: 28825 | AG8: Đã điều chỉnh giảm về 0 | AH8: 00001689 | AI8: 00060714
A9: 45450 | B9: BH2406/00258 | C9: 45456 | D9: 00028825 | E9: 4160177182 | F9: win4146 | G9: CN HCM - wincommerce | I9: MNH250 | J9: Mọc Nấm Hương 250g | K9: Túi | L9: 3 | M9: 3 | N9: 37720 | O9: 113160 | P9: =M9*N9 -> 113160 | Q9: 0 | R9: 0 | S9: 0 | T9: SG004 | U9: Hồ Chí Minh | V9: Quận 8 | W9: MIENNAM;WIN | X9: WINCOMMERCE | Y9: K-HCM | AB9: =ROUND(O9*8%,0)+O9 -> 122213 | AC9: 113160 | AD9: =VLOOKUP(AF9,Table1[[Ký hiệu]:[Hướng xli]],9,0) -> NCC check theo sheep data cửa hàng nhập kho điều chỉnh giảm toàn bộ HĐ cũ và xuất lại HĐ mới đúng số lượng | AE9: mục 03,05,07 wcm ko nhận hàng, mục 06 chỉ nhận 03 | AF9: 28825 | AG9: Đã điều chỉnh giảm về 0 | AH9: 00001689 | AI9: 00060714
A10: 45474 | B10: BH2406/03543 | C10: 45477 | D10: 00032409 | E10: 4160781730 | F10: win6634 | G10: CN HÀ NỘI - wincommerce | I10: CGM300 | J10: Chân giò heo muối 300g | K10: Túi | L10: 5 | M10: 5 | N10: 58745 | O10: 293725 | P10: =M10*N10 -> 293725 | Q10: 0 | R10: 0 | S10: 0 | T10: HN004 | U10: Hà Nội | V10: Quận Hà Đông | W10: MIENBAC;WIN | X10: WINCOMMERCE | Y10: K-C6 | AB10: =ROUND(O10*8%,0)+O10 -> 317223 | AC10: 0 | AD10: =VLOOKUP(AF10,Table1[[Ký hiệu]:[Hướng xli]],9,0) -> NCC điều chỉnh giảm toàn bộ HĐ | AE10: PO chưa nhập kho -> kế toán đang gửi CH chưa nhận được phản hồi | AF10: 32409 | AG10: TÌM VÀ CUNG CẤP LẠI CHO WIN CHỨNG TỪ ĐÃ GIAO
A11: 45474 | B11: BH2406/03543 | C11: 45477 | D11: 00032409 | E11: 4160781730 | F11: win6634 | G11: CN HÀ NỘI - wincommerce | I11: GM500 | J11: Gà muối 500g | K11: Túi | L11: 10 | M11: 10 | N11: 111058 | O11: 1110580 | P11: =M11*N11 -> 1110580 | Q11: 0 | R11: 0 | S11: 0 | T11: HN004 | U11: Hà Nội | V11: Quận Hà Đông | W11: MIENBAC;WIN | X11: WINCOMMERCE | Y11: K-C6 | AB11: =ROUND(O11*8%,0)+O11 -> 1199426 | AC11: 0 | AD11: =VLOOKUP(AF11,Table1[[Ký hiệu]:[Hướng xli]],9,0) -> NCC điều chỉnh giảm toàn bộ HĐ | AE11: PO chưa nhập kho -> kế toán đang gửi CH chưa nhận được phản hồi | AF11: 32409 | AG11: TÌM VÀ CUNG CẤP LẠI CHO WIN CHỨNG TỪ ĐÃ GIAO
A12: 45474 | B12: BH2406/03543 | C12: 45477 | D12: 00032409 | E12: 4160781730 | F12: win6634 | G12: CN HÀ NỘI - wincommerce | I12: MNH250 | J12: Mọc Nấm Hương 250g | K12: Túi | L12: 3 | M12: 3 | N12: 37720 | O12: 113160 | P12: =M12*N12 -> 113160 | Q12: 0 | R12: 0 | S12: 0 | T12: HN004 | U12: Hà Nội | V12: Quận Hà Đông | W12: MIENBAC;WIN | X12: WINCOMMERCE | Y12: K-C6 | AB12: =ROUND(O12*8%,0)+O12 -> 122213 | AC12: 0 | AD12: =VLOOKUP(AF12,Table1[[Ký hiệu]:[Hướng xli]],9,0) -> NCC điều chỉnh giảm toàn bộ HĐ | AE12: PO chưa nhập kho -> kế toán đang gửi CH chưa nhận được phản hồi | AF12: 32409 | AG12: TÌM VÀ CUNG CẤP LẠI CHO WIN CHỨNG TỪ ĐÃ GIAO
A13: 45474 | B13: BH2406/03808 | C13: 45477 | D13: 00032471 | E13: 4160864944 | F13: win5509 | G13: CN HÀ NỘI - wincommerce | I13: CGM300 | J13: Chân giò heo muối 300g | K13: Túi | L13: 5 | M13: 5 | N13: 58745 | O13: 293725 | P13: =M13*N13 -> 293725 | Q13: 0 | R13: 0 | S13: 0 | T13: HN004 | U13: Hà Nội | V13: Huyện Hoài Đức | W13: MIENBAC;WIN | X13: WINCOMMERCE | AB13: =ROUND(O13*8%,0)+O13 -> 317223 | AC13: 293725 | AD13: =VLOOKUP(AF13,Table1[[Ký hiệu]:[Hướng xli]],9,0) -> NCC check theo sheep data cửa hàng nhập kho điều chỉnh giảm toàn bộ HĐ cũ và xuất lại HĐ mới đúng số lượng | AE13: mục 02 wcm ko nhận hàng, bb không có ký nhận NCC tự làm việc với CH | AF13: 32471 | AG13: Đã điều chỉnh giảm về 0 | AH13: 00001690 | AI13: 00060747
A14: 45474 | B14: BH2406/03808 | C14: 45477 | D14: 00032471 | E14: 4160864944 | F14: win5509 | G14: CN HÀ NỘI - wincommerce | I14: GM500 | J14: Gà muối 500g | K14: Túi | L14: 3 | M14: 0 | N14: 111058 | O14: 333174 | P14: =M14*N14 -> 0 | Q14: 0 | R14: 0 | S14: 0 | T14: HN004 | U14: Hà Nội | V14: Huyện Hoài Đức | W14: MIENBAC;WIN | X14: WINCOMMERCE | AB14: =ROUND(O14*8%,0)+O14 -> 359828 | AC14: 0 | AD14: =VLOOKUP(AF14,Table1[[Ký hiệu]:[Hướng xli]],9,0) -> NCC check theo sheep data cửa hàng nhập kho điều chỉnh giảm toàn bộ HĐ cũ và xuất lại HĐ mới đúng số lượng | AE14: mục 02 wcm ko nhận hàng, bb không có ký nhận NCC tự làm việc với CH | AF14: 32471 | AG14: Đã điều chỉnh giảm về 0 | AH14: 00001690 | AI14: 00060747
A15: 45474 | B15: BH2406/03808 | C15: 45477 | D15: 00032471 | E15: 4160864944 | F15: win5509 | G15: CN HÀ NỘI - wincommerce | I15: MNH250 | J15: Mọc Nấm Hương 250g | K15: Túi | L15: 5 | M15: 5 | N15: 46000 | O15: 230000 | P15: =M15*N15 -> 230000 | Q15: 0 | R15: 0 | S15: 0 | T15: HN004 | U15: Hà Nội | V15: Huyện Hoài Đức | W15: MIENBAC;WIN | X15: WINCOMMERCE | AB15: =ROUND(O15*8%,0)+O15 -> 248400 | AC15: 230000 | AD15: =VLOOKUP(AF15,Table1[[Ký hiệu]:[Hướng xli]],9,0) -> NCC check theo sheep data cửa hàng nhập kho điều chỉnh giảm toàn bộ HĐ cũ và xuất lại HĐ mới đúng số lượng | AE15: mục 02 wcm ko nhận hàng, bb không có ký nhận NCC tự làm việc với CH | AF15: 32471 | AG15: Đã điều chỉnh giảm về 0 | AH15: 00001690 | AI15: 00060747
A16: 45474 | B16: BH2406/03808 | C16: 45477 | D16: 00032471 | E16: 4160864944 | F16: win5509 | G16: CN HÀ NỘI - wincommerce | I16: TH200 | J16: Tai heo muối 200g | K16: Túi | L16: 3 | M16: 3 | N16: 44476 | O16: 133428 | P16: =M16*N16 -> 133428 | Q16: 0 | R16: 0 | S16: 0 | T16: HN004 | U16: Hà Nội | V16: Huyện Hoài Đức | W16: MIENBAC;WIN | X16: WINCOMMERCE | AB16: =ROUND(O16*8%,0)+O16 -> 144102 | AC16: 133428 | AD16: =VLOOKUP(AF16,Table1[[Ký hiệu]:[Hướng xli]],9,0) -> NCC check theo sheep data cửa hàng nhập kho điều chỉnh giảm toàn bộ HĐ cũ và xuất lại HĐ mới đúng số lượng | AE16: mục 02 wcm ko nhận hàng, bb không có ký nhận NCC tự làm việc với CH | AF16: 32471 | AG16: Đã điều chỉnh giảm về 0 | AH16: 00001690 | AI16: 00060747
A17: 45474 | B17: BH2406/03808 | C17: 45477 | D17: 00032471 | E17: 4160864944 | F17: win5509 | G17: CN HÀ NỘI - wincommerce | I17: GL250 | J17: Giò lụa cây 250g | K17: Túi | L17: 3 | M17: 3 | N17: 59400 | O17: 178200 | P17: =M17*N17 -> 178200 | Q17: 0 | R17: 0 | S17: 0 | T17: HN004 | U17: Hà Nội | V17: Huyện Hoài Đức | W17: MIENBAC;WIN | X17: WINCOMMERCE | AB17: =ROUND(O17*8%,0)+O17 -> 192456 | AC17: 178200 | AD17: =VLOOKUP(AF17,Table1[[Ký hiệu]:[Hướng xli]],9,0) -> NCC check theo sheep data cửa hàng nhập kho điều chỉnh giảm toàn bộ HĐ cũ và xuất lại HĐ mới đúng số lượng | AE17: mục 02 wcm ko nhận hàng, bb không có ký nhận NCC tự làm việc với CH | AF17: 32471 | AG17: Đã điều chỉnh giảm về 0 | AH17: 00001690 | AI17: 00060747
A18: 45474 | B18: BH2406/03808 | C18: 45477 | D18: 00032471 | E18: 4160864944 | F18: win5509 | G18: CN HÀ NỘI - wincommerce | I18: GSG250 | J18: Giò sụn gà 250g | K18: Túi | L18: 3 | M18: 3 | N18: 61050 | O18: 183150 | P18: =M18*N18 -> 183150 | Q18: 0 | R18: 0 | S18: 0 | T18: HN004 | U18: Hà Nội | V18: Huyện Hoài Đức | W18: MIENBAC;WIN | X18: WINCOMMERCE | AB18: =ROUND(O18*8%,0)+O18 -> 197802 | AC18: 183150 | AD18: =VLOOKUP(AF18,Table1[[Ký hiệu]:[Hướng xli]],9,0) -> NCC check theo sheep data cửa hàng nhập kho điều chỉnh giảm toàn bộ HĐ cũ và xuất lại HĐ mới đúng số lượng | AE18: mục 02 wcm ko nhận hàng, bb không có ký nhận NCC tự làm việc với CH | AF18: 32471 | AG18: Đã điều chỉnh giảm về 0 | AH18: 00001690 | AI18: 00060747
A19: 45474 | B19: BH2406/03417 | C19: 45477 | D19: 00032503 | E19: 4160833945 | F19: WIN4967 | G19: CN HÀ NỘI - CÔNG TY CỔ PHẦN DỊCH VỤ THƯƠNG MẠI TỔNG HỢP WINCOMMERCE | I19: CGM300 | J19: Chân giò heo muối 300g | K19: Túi | L19: 15 | M19: 15 | N19: 58745 | O19: 881175 | P19: =M19*N19 -> 881175 | Q19: 0 | R19: 0 | S19: 0 | T19: HN004 | U19: Hà Nội | V19: Quận Thanh Xuân | W19: MIENBAC;WIN | X19: WINCOMMERCE | Y19: K-C6 | AB19: =ROUND(O19*8%,0)+O19 -> 951669 | AC19: 881175 | AD19: =VLOOKUP(AF19,Table1[[Ký hiệu]:[Hướng xli]],9,0) -> NCC check theo sheep data cửa hàng nhập kho điều chỉnh giảm toàn bộ HĐ cũ và xuất lại HĐ mới đúng số lượng | AE19: mục 02 wcm ko nhận hàng, bb không có ký nhận NCC tự làm việc với CH | AF19: 32503 | AG19: Đã điều chỉnh giảm về 0 | AH19: 00001691 | AI19: 00060730 | AJ19: 00061610
A20: 45474 | B20: BH2406/03417 | C20: 45477 | D20: 00032503 | E20: 4160833945 | F20: WIN4967 | G20: CN HÀ NỘI - CÔNG TY CỔ PHẦN DỊCH VỤ THƯƠNG MẠI TỔNG HỢP WINCOMMERCE | I20: MNH250 | J20: Mọc Nấm Hương 250g | K20: Túi | L20: 5 | M20: 5 | N20: 46000 | O20: 230000 | P20: =M20*N20 -> 230000 | Q20: 0 | R20: 0 | S20: 0 | T20: HN004 | U20: Hà Nội | V20: Quận Thanh Xuân | W20: MIENBAC;WIN | X20: WINCOMMERCE | AB20: =ROUND(O20*8%,0)+O20 -> 248400 | AC20: 230000 | AD20: =VLOOKUP(AF20,Table1[[Ký hiệu]:[Hướng xli]],9,0) -> NCC check theo sheep data cửa hàng nhập kho điều chỉnh giảm toàn bộ HĐ cũ và xuất lại HĐ mới đúng số lượng | AE20: mục 02 wcm ko nhận hàng, bb không có ký nhận NCC tự làm việc với CH | AF20: 32503 | AG20: Đã điều chỉnh giảm về 0 | AH20: 00001691 | AI20: 00060730 | AJ20: 00061610
A21: 45474 | B21: BH2406/03482 | C21: 45477 | D21: 00032551 | E21: 4160822589 | F21: win4360 | G21: CN HÀ NỘI - wincommerce | I21: CGM300 | J21: Chân giò heo muối 300g | K21: Túi | L21: 6 | M21: 4 | N21: 58745 | O21: 352470 | P21: =M21*N21 -> 234980 | Q21: 0 | R21: 0 | S21: 0 | T21: HN003 | U21: Hà Nội | V21: Huyện Mê Linh | W21: MIENBAC;WIN | X21: WINCOMMERCE | Y21: K-C6 | AB21: =ROUND(O21*8%,0)+O21 -> 380668 | AC21: 234980 | AD21: =VLOOKUP(AF21,Table1[[Ký hiệu]:[Hướng xli]],9,0) -> NCC check theo sheep data cửa hàng nhập kho điều chỉnh giảm toàn bộ HĐ cũ và xuất lại HĐ mới đúng số lượng | AE21: mục 01,02 chỉ nhập 04,06 biên bản không ký nhận ncc tự làm việc với CH | AF21: 32551 | AG21: Đã điều chỉnh giảm về 0 | AH21: 00001692 | AI21: 00060731
A22: 45474 | B22: BH2406/03482 | C22: 45477 | D22: 00032551 | E22: 4160822589 | F22: win4360 | G22: CN HÀ NỘI - wincommerce | I22: GM500 | J22: Gà muối 500g | K22: Túi | L22: 7 | M22: 6 | N22: 111058 | O22: 777406 | P22: =M22*N22 -> 666348 | Q22: 0 | R22: 0 | S22: 0 | T22: HN003 | U22: Hà Nội | V22: Huyện Mê Linh | W22: MIENBAC;WIN | X22: WINCOMMERCE | Y22: K-C6 | AB22: =ROUND(O22*8%,0)+O22 -> 839598 | AC22: 666348 | AD22: =VLOOKUP(AF22,Table1[[Ký hiệu]:[Hướng xli]],9,0) -> NCC check theo sheep data cửa hàng nhập kho điều chỉnh giảm toàn bộ HĐ cũ và xuất lại HĐ mới đúng số lượng | AE22: mục 01,02 chỉ nhập 04,06 biên bản không ký nhận ncc tự làm việc với CH | AF22: 32551 | AG22: Đã điều chỉnh giảm về 0 | AH22: 00001692 | AI22: 00060731
A23: 45474 | B23: BH2406/03589 | C23: 45477 | D23: 00032714 | E23: 4160914201 | F23: win6738 | G23: CN HÀ NỘI - wincommerce | I23: CGM300 | J23: Chân giò heo muối 300g | K23: Túi | L23: 5 | M23: 5 | N23: 58745 | O23: 293725 | P23: =M23*N23 -> 293725 | Q23: 0 | R23: 0 | S23: 0 | T23: HN004 | U23: Hà Nội | V23: Quận Bắc Từ Liêm | W23: MIENBAC;WIN | X23: WINCOMMERCE | Y23: K-C6 | AB23: =ROUND(O23*8%,0)+O23 -> 317223 | AC23: 0 | AD23: =VLOOKUP(AF23,Table1[[Ký hiệu]:[Hướng xli]],9,0) -> NCC điều chỉnh giảm toàn bộ HĐ | AE23: PO chưa nhập kho -> kế toán đang gửi CH chưa nhận được phản hồi | AF23: 32714 | AG23: TÌM VÀ CUNG CẤP LẠI CHO WIN CHỨNG TỪ ĐÃ GIAO
A24: 45474 | B24: BH2406/03589 | C24: 45477 | D24: 00032714 | E24: 4160914201 | F24: win6738 | G24: CN HÀ NỘI - wincommerce | I24: GM500 | J24: Gà muối 500g | K24: Túi | L24: 10 | M24: 10 | N24: 111058 | O24: 1110580 | P24: =M24*N24 -> 1110580 | Q24: 0 | R24: 0 | S24: 0 | T24: HN004 | U24: Hà Nội | V24: Quận Bắc Từ Liêm | W24: MIENBAC;WIN | X24: WINCOMMERCE | Y24: K-C6 | AB24: =ROUND(O24*8%,0)+O24 -> 1199426 | AC24: 0 | AD24: =VLOOKUP(AF24,Table1[[Ký hiệu]:[Hướng xli]],9,0) -> NCC điều chỉnh giảm toàn bộ HĐ | AE24: PO chưa nhập kho -> kế toán đang gửi CH chưa nhận được phản hồi | AF24: 32714 | AG24: TÌM VÀ CUNG CẤP LẠI CHO WIN CHỨNG TỪ ĐÃ GIAO
A25: 45474 | B25: BH2406/03589 | C25: 45477 | D25: 00032714 | E25: 4160914201 | F25: win6738 | G25: CN HÀ NỘI - wincommerce | I25: CN300 | J25: Chả nướng 300g | K25: Túi | L25: 3 | M25: 3 | N25: 70950 | O25: 212850 | P25: =M25*N25 -> 212850 | Q25: 0 | R25: 0 | S25: 0 | T25: HN004 | U25: Hà Nội | V25: Quận Bắc Từ Liêm | W25: MIENBAC;WIN | X25: WINCOMMERCE | Y25: K-C6 | AB25: =ROUND(O25*8%,0)+O25 -> 229878 | AC25: 0 | AD25: =VLOOKUP(AF25,Table1[[Ký hiệu]:[Hướng xli]],9,0) -> NCC điều chỉnh giảm toàn bộ HĐ | AE25: PO chưa nhập kho -> kế toán đang gửi CH chưa nhận được phản hồi | AF25: 32714 | AG25: TÌM VÀ CUNG CẤP LẠI CHO WIN CHỨNG TỪ ĐÃ GIAO
A26: 45474 | B26: BH2406/03601 | C26: 45477 | D26: 00032723 | E26: 4160866190 | F26: WIN3168 | G26: CN HÀ NỘI - CÔNG TY CỔ PHẦN DỊCH VỤ THƯƠNG MẠI TỔNG HỢP WINCOMMERCE | I26: GM500 | J26: Gà muối 500g | K26: Túi | L26: 5 | M26: 5 | N26: 111058 | O26: 555290 | P26: =M26*N26 -> 555290 | Q26: 0 | R26: 0 | S26: 0 | T26: HN004 | U26: Hà Nội | V26: Quận Nam Từ Liêm | W26: MIENBAC;WIN | X26: WINCOMMERCE | Y26: K-C6 | AB26: =ROUND(O26*8%,0)+O26 -> 599713 | AC26: 555290 | AD26: =VLOOKUP(AF26,Table1[[Ký hiệu]:[Hướng xli]],9,0) -> NCC check theo sheep data cửa hàng nhập kho điều chỉnh giảm toàn bộ HĐ cũ và xuất lại HĐ mới đúng số lượng | AE26: mục 03 wcm ko nhận hàng, bb không có ký nhận NCC tự làm việc với CH | AF26: 32723 | AG26: Đã điều chỉnh giảm về 0 | AH26: 00001693 | AI26: 00060732
A27: 45474 | B27: BH2406/03601 | C27: 45477 | D27: 00032723 | E27: 4160866190 | F27: WIN3168 | G27: CN HÀ NỘI - CÔNG TY CỔ PHẦN DỊCH VỤ THƯƠNG MẠI TỔNG HỢP WINCOMMERCE | I27: CGM300 | J27: Chân giò heo muối 300g | K27: Túi | L27: 10 | M27: 10 | N27: 58745 | O27: 587450 | P27: =M27*N27 -> 587450 | Q27: 0 | R27: 0 | S27: 0 | T27: HN004 | U27: Hà Nội | V27: Quận Nam Từ Liêm | W27: MIENBAC;WIN | X27: WINCOMMERCE | Y27: K-C6 | AB27: =ROUND(O27*8%,0)+O27 -> 634446 | AC27: 587450 | AD27: =VLOOKUP(AF27,Table1[[Ký hiệu]:[Hướng xli]],9,0) -> NCC check theo sheep data cửa hàng nhập kho điều chỉnh giảm toàn bộ HĐ cũ và xuất lại HĐ mới đúng số lượng | AE27: mục 03 wcm ko nhận hàng, bb không có ký nhận NCC tự làm việc với CH | AF27: 32723 | AG27: Đã điều chỉnh giảm về 0 | AH27: 00001693 | AI27: 00060732
A28: 45474 | B28: BH2406/03601 | C28: 45477 | D28: 00032723 | E28: 4160866190 | F28: WIN3168 | G28: CN HÀ NỘI - CÔNG TY CỔ PHẦN DỊCH VỤ THƯƠNG MẠI TỔNG HỢP WINCOMMERCE | I28: MNH250 | J28: Mọc Nấm Hương 250g | K28: Túi | L28: 5 | M28: 0 | N28: 46000 | O28: 230000 | P28: =M28*N28 -> 0 | Q28: 0 | R28: 0 | S28: 0 | T28: HN004 | U28: Hà Nội | V28: Quận Nam Từ Liêm | W28: MIENBAC;WIN | X28: WINCOMMERCE | AB28: =ROUND(O28*8%,0)+O28 -> 248400 | AC28: 0 | AD28: =VLOOKUP(AF28,Table1[[Ký hiệu]:[Hướng xli]],9,0) -> NCC check theo sheep data cửa hàng nhập kho điều chỉnh giảm toàn bộ HĐ cũ và xuất lại HĐ mới đúng số lượng | AE28: mục 03 wcm ko nhận hàng, bb không có ký nhận NCC tự làm việc với CH | AF28: 32723 | AG28: Đã điều chỉnh giảm về 0 | AH28: 00001693 | AI28: 00060732
