Workbook
Name _1400B: #REF!
Name _1400B: #REF!
Name _1400B: #REF!
Name _1400B: #REF!
Name _1400B: #REF!
Name _1400B: #REF!
Name _1400B: #REF!
Name _1400B: #REF!
Name _1400B: #REF!
Name _1400B: #REF!
Name _1400B: #REF!
Name _1400B: #REF!
Name _1400B: #REF!
Name _1400B: #REF!
Name _1400B: #REF!
Name _1400B: #REF!
Name _1400B: #REF!
Name _1400B: #REF!
Name _1400B: #REF!
Name _1400B: #REF!
Name _1400B: #REF!
Name _1400B: #REF!
Name _1400B: #REF!
Name _1400B: #REF!
Name _403: #REF!
Name _403: #REF!
Name _403: #REF!
Name _403: #REF!
Name _403: #REF!
Name _403: #REF!
Name _403: #REF!
Name _403: #REF!
Name _403: #REF!
Name _403: #REF!
Name _403: #REF!
Name _403: #REF!
Name _403: #REF!
Name _403: #REF!
Name _403: #REF!
Name _403: #REF!
Name _403: #REF!
Name _403: #REF!
Name _403: #REF!
Name _403: #REF!
Name _403: #REF!
Name _403: #REF!
Name _403: #REF!
Name _403: #REF!
Name _403B: #REF!
Name _403B: #REF!
Name _403B: #REF!
Name _403B: #REF!
Name _403B: #REF!
Name _403B: #REF!
Name _403B: #REF!
Name _403B: #REF!
Name _403B: #REF!
Name _403B: #REF!
Name _403B: #REF!
Name _403B: #REF!

Sheet NGAY 01-12
A1: XE 1 - GÀ
B2: 1 | C2: 2 | D2: 3 | E2: 4 | F2: 5 | G2: 6 | H2: 7 | I2: 8 | J2: 9 | K2: 10
A3: 1 | B3: 15.2 | C3: 15.1 | D3: 15.2 | E3: 14.8 | F3: 15.2 | G3: 15.5 | H3: 15.5 | I3: 15.3 | J3: 15.4 | K3: 15.4
A4: 2 | B4: 15.4 | C4: 15.2 | D4: 15.3 | E4: 14.9 | F4: 15 | G4: 15.1 | H4: 15.6 | I4: 15.4 | J4: 15.3 | K4: 15.1
A5: 3 | B5: 15.3 | C5: 15.3 | D5: 15.5 | E5: 15.2 | F5: 15.1 | G5: 15 | H5: 15.3 | I5: 15.1 | J5: 15.1 | K5: 15
A6: 4 | B6: 15.3 | C6: 15.2 | D6: 15.3 | E6: 15.1 | F6: 15.3 | G6: 15.1 | H6: 15.3 | I6: 15.5 | J6: 0.15 | K6: 15
A7: 5 | B7: 15.6 | C7: 15.1 | D7: 15.3 | E7: 15.7 | F7: 15.3 | G7: 15.5 | H7: 15.3 | I7: 15.3 | J7: 15.4 | K7: 15.8
A8: 6 | B8: 15 | C8: 15.1 | D8: 15.2 | E8: 15.1 | F8: 15.4 | G8: 15.3 | H8: 15.5 | I8: 15.3 | J8: 15.4 | K8: 15
A9: 7 | B9: 15.2 | C9: 15.3 | D9: 15.3 | E9: 15.5 | F9: 15.4 | G9: 15.3 | H9: 15.4 | I9: 15.3 | J9: 15.3 | K9: 15.2
A10: 8 | B10: 15.2 | C10: 15.3 | D10: 15.3 | E10: 15.4 | F10: 15.1 | G10: 15.3 | H10: 15.2 | I10: 15.1 | J10: 15.3 | K10: 15.4
A11: 9 | B11: 15.3 | C11: 15.2 | D11: 15.3 | E11: 15.3 | F11: 15.3 | G11: 15.3 | H11: 15.5 | I11: 15.1 | J11: 15.3 | K11: 14.9
A12: 10 | B12: 15.4 | C12: 15.2 | D12: 15 | E12: 15.3 | F12: 15.5 | G12: 15 | H12: 15.2 | I12: 15.1 | J12: 15.4 | K12: 15.2
I14: TỔNG | K14: =+SUM(B3:K12) -> 1511.25
A15: XE 2 - GIÒ
B16: 1 | C16: 2 | D16: 3 | E16: 4 | F16: 5 | G16: 6 | H16: 7 | I16: 8 | J16: 9 | K16: 10
A17: 1 | B17: 19.14 | C17: 18.48 | D17: 18.52 | E17: 17.38 | F17: 18.88 | G17: 18.24 | H17: 17.38 | I17: 17.48 | J17: 17.34 | K17: 17.92
A18: 2 | B18: 18.92 | C18: 20.16 | D18: 18.7 | E18: 18.38 | F18: 17.58 | G18: 18.18 | H18: 17.98 | I18: 18.48 | J18: 17.3 | K18: 17.56
A19: 3 | B19: 20.06 | C19: 18.38 | D19: 18.5 | E19: 17.32 | F19: 18.2 | G19: 18.6 | H19: 17.98 | I19: 17.4 | J19: 17.18 | K19: 18.34
A20: 4 | B20: 19.24 | C20: 17.52 | D20: 17.7 | E20: 19.08 | F20: 17.82 | G20: 17.86 | H20: 17.1 | I20: 17.96 | J20: 17.78 | K20: 18.5
A21: 5 | B21: 18.54 | C21: 17.46 | D21: 18.76 | E21: 18.14 | F21: 17.92 | G21: 18.64 | H21: 17.38 | I21: 17.82 | J21: 17 | K21: 17.8
A22: 6 | B22: 19.52 | C22: 18.32 | D22: 18.98 | E22: 18.14 | F22: 18.44 | G22: 18 | H22: 17.3 | I22: 18.44 | J22: 17.64 | K22: 18.42
A23: 7 | B23: 17.08 | C23: 19.44 | D23: 17.96 | E23: 19.48 | F23: 18.22 | G23: 18.12 | H23: 18.48 | I23: 17.76 | J23: 17.68 | K23: 17.44
A24: 8 | B24: 18.58 | C24: 20.54 | D24: 17.88 | E24: 17.36 | F24: 18.9 | G24: 17.46 | H24: 17.74 | I24: 18 | J24: 17.88 | K24: 18.12
A25: 9 | B25: 17.38 | C25: 19.48 | D25: 18.14 | E25: 17.78 | F25: 18.12 | G25: 18.04 | H25: 17.2 | I25: 17.54 | J25: 17.86 | K25: 18.08
A26: 10 | B26: 19.26 | C26: 17.68 | D26: 18.84 | E26: 17.16 | F26: 18 | G26: 17.62 | H26: 18.38 | I26: 18.42 | J26: 17.26 | K26: 18.36
I28: TỔNG | K28: =+SUM(B17:K26) -> 1813.9
A29: XE 3 - GIÒ
B30: 1 | C30: 2 | D30: 3 | E30: 4 | F30: 5 | G30: 6 | H30: 7 | I30: 8 | J30: 9 | K30: 10
A31: 1 | B31: 18.9 | C31: 17.9 | D31: 17.44 | E31: 18.36
A32: 2 | B32: 17.62 | C32: 17.42 | D32: 17.24 | E32: 17.6
A33: 3 | B33: 17.46 | C33: 18.04 | D33: 18.68 | E33: 18.38
A34: 4 | B34: 18.64 | C34: 17.22 | D34: 17.34 | E34: 17.68
A35: 5 | B35: 18 | C35: 18.2 | D35: 18.24 | E35: 17.82
A36: 6 | B36: 17.72 | C36: 17.96 | D36: 17.52 | E36: 17.44
A37: 7 | B37: 17.76 | C37: 18.02 | D37: 17.92 | E37: 18.36
A38: 8 | B38: 18.18 | C38: 17.82 | D38: 18.8 | E38: 18.4
A39: 9 | B39: 17.48 | C39: 17.28 | D39: 17.92 | E39: 18.24
A40: 10 | B40: 17.76 | C40: 17.06 | D40: 19.22 | E40: 17.58
I42: TỔNG | K42: =+SUM(B31:K40) -> 716.62
A43: XE 4 - GÀ
B44: 1 | C44: 2 | D44: 3 | E44: 4 | F44: 5 | G44: 6 | H44: 7 | I44: 8 | J44: 9 | K44: 10
A45: 1
A46: 2
A47: 3
A48: 4
A49: 5
A50: 6
A51: 7
A52: 8
A53: 9
A54: 10
I56: TỔNG | K56: =+SUM(B45:K54) -> 0
A57: XE 5 - GÀ
B58: 1 | C58: 2 | D58: 3 | E58: 4 | F58: 5 | G58: 6 | H58: 7 | I58: 8 | J58: 9 | K58: 10
A59: 1
A60: 2
A61: 3
A62: 4
A63: 5
A64: 6
A65: 7
A66: 8
A67: 9
A68: 10
I70: TỔNG | K70: =+SUM(B59:K68) -> 0

Sheet NGAY 02-12
A1: XE 1 - GÀ
B2: 1 | C2: 2 | D2: 3 | E2: 4 | F2: 5 | G2: 6 | H2: 7 | I2: 8 | J2: 9 | K2: 10
A3: 1 | B3: 15.5 | C3: 15.2 | D3: 15.8 | E3: 15.4 | F3: 15.4 | G3: 15.1 | H3: 15.4 | I3: 15 | J3: 15 | K3: 15.1
A4: 2 | B4: 15.1 | C4: 15.5 | D4: 15.1 | E4: 15.5 | F4: 15.7 | G4: 15.3 | H4: 15.3 | I4: 15.3 | J4: 15.1 | K4: 15.2
A5: 3 | B5: 15.4 | C5: 15.4 | D5: 15.4 | E5: 15.4 | F5: 15 | G5: 15.7 | H5: 15.6 | I5: 15 | J5: 15.4 | K5: 15.2
A6: 4 | B6: 15.3 | C6: 15.3 | D6: 15 | E6: 15.4 | F6: 15.6 | G6: 15.6 | H6: 15.1 | I6: 15.1 | J6: 15 | K6: 15.3
A7: 5 | B7: 15.1 | C7: 15.3 | D7: 15.4 | E7: 15.5 | F7: 15.2 | G7: 15 | H7: 15.3 | I7: 15.1 | J7: 15.2 | K7: 15.4
A8: 6 | B8: 15.5 | C8: 15 | D8: 15.5 | E8: 15.2 | F8: 15 | G8: 15.3 | H8: 15.3 | I8: 15.3 | J8: 15 | K8: 14.6
A9: 7 | B9: 15.2 | C9: 15.3 | D9: 15.4 | E9: 15.1 | F9: 15.5 | G9: 15.2 | H9: 15.3 | I9: 15.3 | J9: 15.9 | K9: 14.9
A10: 8 | B10: 15.3 | C10: 15.5 | D10: 15.4 | E10: 15.6 | F10: 15.4 | G10: 15.3 | H10: 15.1 | I10: 15.3 | J10: 15.3 | K10: 15.1
A11: 9 | B11: 15 | C11: 15.4 | D11: 15.2 | E11: 15.3 | F11: 15.1 | G11: 15.4 | H11: 15.3 | I11: 15.3 | J11: 15.3 | K11: 15.1
A12: 10 | B12: 15.5 | C12: 15.4 | D12: 15 | E12: 15.4 | F12: 15.1 | G12: 15 | H12: 15.4 | I12: 15.2 | J12: 15.3 | K12: 15
I14: TỔNG | K14: =+SUM(B3:K12) -> 1527.5
A15: XE 2 - GIÒ
B16: 1 | C16: 2 | D16: 3 | E16: 4 | F16: 5 | G16: 6 | H16: 7 | I16: 8 | J16: 9 | K16: 10
A17: 1 | B17: 19.14 | C17: 18.48 | D17: 18.52 | E17: 17.38 | F17: 18.88 | G17: 18.24 | H17: 17.38 | I17: 17.48 | J17: 17.34 | K17: 17.92
A18: 2 | B18: 18.92 | C18: 20.16 | D18: 18.7 | E18: 18.38 | F18: 17.88 | G18: 18.18 | H18: 17.98 | I18: 18.48 | J18: 17.3 | K18: 17.56
A19: 3 | B19: 20.06 | C19: 18.38 | D19: 18.5 | E19: 17.32 | F19: 18.2 | G19: 18.6 | H19: 17.98 | I19: 17.4 | J19: 17.18 | K19: 18.34
A20: 4 | B20: 19.24 | C20: 17.52 | D20: 17.7 | E20: 19.08 | F20: 17.82 | G20: 17.86 | H20: 17.1 | I20: 17.96 | J20: 17.78 | K20: 18.5
A21: 5 | B21: 18.54 | C21: 17.46 | D21: 18.76 | E21: 18.14 | F21: 17.92 | G21: 18.64 | H21: 17.38 | I21: 17.82 | J21: 17 | K21: 17.8
A22: 6 | B22: 19.52 | C22: 18.32 | D22: 18.98 | E22: 18.14 | F22: 18.44 | G22: 18 | H22: 17.3 | I22: 18.44 | J22: 17.64 | K22: 18.42
A23: 7 | B23: 17.08 | C23: 19.44 | D23: 17.96 | E23: 19.48 | F23: 18.22 | G23: 18.12 | H23: 18.48 | I23: 17.76 | J23: 17.68 | K23: 17.44
A24: 8 | B24: 18.58 | C24: 20.54 | D24: 17.88 | E24: 17.36 | F24: 18.9 | G24: 17.46 | H24: 17.74 | I24: 18 | J24: 17.88 | K24: 18.12
A25: 9 | B25: 17.38 | C25: 19.48 | D25: 18.14 | E25: 17.78 | F25: 18.12 | G25: 18.04 | H25: 17.2 | I25: 17.54 | J25: 17.86 | K25: 18.08
A26: 10 | B26: 19.26 | C26: 17.68 | D26: 18.84 | E26: 17.16 | F26: 18 | G26: 17.62 | H26: 18.38 | I26: 18.42 | J26: 17.26 | K26: 18.36
I28: TỔNG | K28: =+SUM(B17:K26) -> 1814.2
A29: XE 3 - GIÒ
B30: 1 | C30: 2 | D30: 3 | E30: 4 | F30: 5 | G30: 6 | H30: 7 | I30: 8 | J30: 9 | K30: 10
A31: 1 | B31: 18.9 | C31: 17.9 | D31: 17.44 | E31: 18.36
A32: 2 | B32: 17.62 | C32: 17.42 | D32: 17.24 | E32: 17.6
A33: 3 | B33: 17.46 | C33: 18.04 | D33: 18.68 | E33: 18.38
A34: 4 | B34: 18.64 | C34: 17.22 | D34: 17.34 | E34: 17.68
A35: 5 | B35: 18 | C35: 18.2 | D35: 18.24 | E35: 17.82
A36: 6 | B36: 17.72 | C36: 17.96 | D36: 17.52 | E36: 17.77
A37: 7 | B37: 17.76 | C37: 18.02 | D37: 17.92 | E37: 18.36
A38: 8 | B38: 18.18 | C38: 17.82 | D38: 18.8 | E38: 18.4
A39: 9 | B39: 17.48 | C39: 17.28 | D39: 17.92 | E39: 18.24
A40: 10 | B40: 17.76 | C40: 17.06 | D40: 19.22 | E40: 17.58
I42: TỔNG | K42: =+SUM(B31:K40) -> 716.95
A43: XE 4 - GÀ
B44: 1 | C44: 2 | D44: 3 | E44: 4 | F44: 5 | G44: 6 | H44: 7 | I44: 8 | J44: 9 | K44: 10
A45: 1 | B45: 15.2 | C45: 15 | D45: 15.3 | E45: 15 | F45: 15.2 | G45: 15.6 | H45: 15.3 | I45: 15.1 | J45: 14.9 | K45: 15.2
A46: 2 | B46: 15 | C46: 15 | D46: 15.2 | E46: 15.3 | F46: 15.3 | G46: 15.2 | H46: 15.2 | I46: 15.3 | J46: 14.9 | K46: 15.3
A47: 3 | B47: 15.1 | C47: 15.7 | D47: 15.1 | E47: 15.1 | F47: 15.2 | G47: 15.3 | H47: 15.4 | I47: 15.1 | J47: 14.9 | K47: 15.1
A48: 4 | B48: 15.1 | C48: 15.1 | D48: 15 | E48: 15.1 | F48: 15.1 | G48: 15.3 | H48: 15.2 | I48: 15.9 | J48: 14.9 | K48: 15.1
A49: 5 | B49: 15.2 | C49: 15 | D49: 15.4 | E49: 15.3 | F49: 15.3 | G49: 15.3 | H49: 15.3 | I49: 15.1 | J49: 14 | K49: 15
A50: 6 | B50: 15.3 | C50: 15.4 | D50: 15.1 | E50: 15.4 | F50: 15.4 | G50: 15.2 | H50: 15.4 | I50: 15.8 | J50: 15.1 | K50: 15.8
A51: 7 | B51: 15.1 | C51: 15.3 | D51: 15.2 | E51: 15.4 | F51: 15.5 | G51: 15.4 | H51: 15.3 | I51: 15.5 | J51: 15.5 | K51: 15.5
A52: 8 | B52: 15.2 | C52: 15 | D52: 15.2 | E52: 5.3 | F52: 15.3 | G52: 15.2 | H52: 15.2 | I52: 15.3 | J52: 15.3 | K52: 15.1
A53: 9 | B53: 15.4 | C53: 15.6 | D53: 15.2 | E53: 15.3 | F53: 15.5 | G53: 15.6 | H53: 15.7 | I53: 15.1 | J53: 15.7 | K53: 15.2
A54: 10 | B54: 15.5 | C54: 15.2 | D54: 15.8 | E54: 15.6 | F54: 15.2 | G54: 15.1 | H54: 15 | I54: 15.5 | J54: 15.3 | K54: 15
I56: TỔNG | K56: =+SUM(B45:K54) -> 1515.4
A57: XE 5 - GÀ
B58: 1 | C58: 2 | D58: 3 | E58: 4 | F58: 5 | G58: 6 | H58: 7 | I58: 8 | J58: 9 | K58: 10
A59: 1 | B59: 15.4 | C59: 15.3 | D59: 15.6 | E59: 15.1 | F59: 15.6 | G59: 14.9 | H59: 15.4 | I59: 15.6 | J59: 15.4 | K59: 15.2
A60: 2 | B60: 15 | C60: 15.4 | D60: 15.4 | E60: 15.2 | F60: 15.5 | G60: 14.9 | H60: 15.2 | I60: 15.3 | J60: 15.5 | K60: 15.8
A61: 3 | B61: 15.2 | C61: 15.2 | D61: 15.1 | E61: 15 | F61: 15.3 | G61: 15.2 | H61: 15.1 | I61: 15.2 | J61: 15.1 | K61: 15.3
A62: 4 | B62: 15.4 | C62: 15.5 | D62: 15.3 | E62: 15.3 | F62: 15.7 | G62: 15.1 | H62: 15.2 | I62: 15.4 | J62: 15.5 | K62: 15.6
A63: 5 | B63: 15.3 | C63: 15.3 | D63: 15.3 | E63: 15 | F63: 15.1 | G63: 15.5 | H63: 15 | I63: 15.1 | J63: 15.3 | K63: 15.1
A64: 6 | B64: 15.3 | C64: 15 | D64: 15.2 | E64: 15.4 | F64: 15.3 | G64: 15 | H64: 15.2 | I64: 15.1 | J64: 15.1 | K64: 15
A65: 7 | B65: 15.5 | C65: 15.1 | D65: 15.3 | E65: 15.1 | F65: 15.1 | G65: 15.3 | H65: 15.4 | I65: 15.1 | J65: 15.2 | K65: 15.4
A66: 8 | B66: 15.2 | C66: 15.2 | D66: 15.1 | E66: 15.3 | F66: 15.2 | G66: 15.2 | H66: 15.1 | I66: 15.2 | J66: 15.5 | K66: 15.2
A67: 9 | B67: 15.3 | C67: 15.3 | D67: 15.3 | E67: 15.2 | F67: 15.6 | G67: 15.1 | H67: 15.3 | I67: 15.8 | J67: 15.2 | K67: 15.4
A68: 10 | B68: 15.3 | C68: 15.2 | D68: 15.2 | E68: 15.4 | F68: 15.3 | G68: 15.2 | H68: 15 | I68: 15 | J68: 15.3 | K68: 15
I70: TỔNG | K70: =+SUM(B59:K68) -> 1526.1

Sheet NGAY 03-12
A1: XE 1 - GIÒ
B2: 1 | C2: 2 | D2: 3 | E2: 4 | F2: 5 | G2: 6 | H2: 7 | I2: 8 | J2: 9 | K2: 10
A3: 1 | B3: 17.92 | C3: 17.72 | D3: 18.36 | E3: 17.72 | F3: 17.08 | G3: 17.92 | H3: 17.7
A4: 2 | B4: 17.54 | C4: 17.68 | D4: 17.84 | E4: 17.14 | F4: 18.06 | G4: 17.76 | H4: 18.14
A5: 3 | B5: 17.7 | C5: 17.4 | D5: 17.44 | E5: 17.6 | F5: 17.98 | G5: 17.96 | H5: 18.04
A6: 4 | B6: 17.82 | C6: 17.76 | D6: 17.92 | E6: 17.24 | F6: 17.8 | G6: 18.32 | H6: 18.22
A7: 5 | B7: 17.3 | C7: 18.02 | D7: 17.16 | E7: 17.34 | F7: 17.12 | G7: 17.88 | H7: 17.06
A8: 6 | B8: 17.58 | C8: 17.64 | D8: 17.72 | E8: 18.46 | F8: 18.62 | G8: 18.6 | H8: 17.56
A9: 7 | B9: 17.92 | C9: 17.36 | D9: 17.9 | E9: 18.1 | F9: 17.96 | G9: 18.82 | H9: 18.86
A10: 8 | B10: 17.38 | C10: 17.76 | D10: 17.28 | E10: 18.14 | F10: 18.82 | G10: 18.32 | H10: 17.68
A11: 9 | B11: 17.58 | C11: 17.26 | D11: 17.34 | E11: 18.84 | F11: 18.76 | G11: 18.68 | H11: 18.96
A12: 10 | B12: 17.62 | C12: 17.68 | D12: 17.8 | E12: 17.44 | F12: 18.6 | G12: 17.32 | H12: 18.96
I14: TỔNG | K14: =+SUM(B3:K12) -> 1250.98
A15: XE 2 - GIÒ
B16: 1 | C16: 2 | D16: 3 | E16: 4 | F16: 5 | G16: 6 | H16: 7 | I16: 8 | J16: 9 | K16: 10
A17: 1 | B17: 24.92 | C17: 24.1 | D17: 24.24 | E17: 24.98 | F17: 23.94
A18: 2 | B18: 25.48 | C18: 25.78 | D18: 24.74 | E18: 24.76 | F18: 25.14
A19: 3 | B19: 24.56 | C19: 24.46 | D19: 24.8 | E19: 24.24 | F19: 23.9
A20: 4 | B20: 24.78 | C20: 24.46 | D20: 24.2 | E20: 24.54 | F20: 24.22
A21: 5 | B21: 24.42 | C21: 24.64 | D21: 24.66 | E21: 24.26 | F21: 24.7
A22: 6 | B22: 24.4 | C22: 24.52 | D22: 24.44 | E22: 24 | F22: 25.24
A23: 7 | B23: 24.34 | C23: 24.64 | D23: 23.79 | E23: 23.58 | F23: 23.32
A24: 8 | B24: 24.54 | C24: 24.3 | D24: 24.96 | E24: 25.02 | F24: 23.24
A25: 9 | B25: 25.58 | C25: 24.54 | D25: 24.26 | E25: 24.42 | F25: 23.92
A26: 10 | B26: 24.72 | C26: 25.36 | D26: 25.38 | E26: 25.04 | F26: 24.32
I28: TỔNG | K28: =+SUM(B17:K26) -> 1226.79
A29: XE 3
B30: 1 | C30: 2 | D30: 3 | E30: 4 | F30: 5 | G30: 6 | H30: 7 | I30: 8 | J30: 9 | K30: 10
A31: 1
A32: 2
A33: 3
A34: 4
A35: 5
A36: 6
A37: 7
A38: 8
A39: 9
A40: 10
I42: TỔNG | K42: =+SUM(B31:K40) -> 0
A43: XE 4
B44: 1 | C44: 2 | D44: 3 | E44: 4 | F44: 5 | G44: 6 | H44: 7 | I44: 8 | J44: 9 | K44: 10
A45: 1
A46: 2
A47: 3
A48: 4
A49: 5
A50: 6
A51: 7
A52: 8
A53: 9
A54: 10
I56: TỔNG | K56: =+SUM(B45:K54) -> 0

Sheet NGAY 04-12
A1: XE 1 - GÀ
B2: 1 | C2: 2 | D2: 3 | E2: 4 | F2: 5 | G2: 6 | H2: 7 | I2: 8 | J2: 9 | K2: 10
A3: 1 | B3: 15.2 | C3: 15.4 | D3: 15.4 | E3: 15.5 | F3: 15.2 | G3: 15.4 | H3: 15.5 | I3: 15.4 | J3: 15.1 | K3: 14.9
A4: 2 | B4: 15.3 | C4: 15.4 | D4: 15.2 | E4: 15.4 | F4: 15 | G4: 15.2 | H4: 15 | I4: 15.5 | J4: 15.1 | K4: 14.8
A5: 3 | B5: 15.3 | C5: 15.5 | D5: 15.4 | E5: 15.6 | F5: 15.1 | G5: 15.1 | H5: 15.2 | I5: 15 | J5: 15.1 | K5: 14.9
A6: 4 | B6: 15.1 | C6: 15.4 | D6: 15.3 | E6: 15.6 | F6: 15.6 | G6: 15.3 | H6: 15.4 | I6: 15.2 | J6: 15.2 | K6: 14.9
A7: 5 | B7: 15.5 | C7: 15.3 | D7: 15.5 | E7: 15.2 | F7: 15.3 | G7: 15.4 | H7: 15.5 | I7: 15.6 | J7: 15.1 | K7: 14.9
A8: 6 | B8: 15.3 | C8: 15.2 | D8: 15.1 | E8: 15 | F8: 15.1 | G8: 15.4 | H8: 15.2 | I8: 15.2 | J8: 15.1 | K8: 14.9
A9: 7 | B9: 15.4 | C9: 15.6 | D9: 15.3 | E9: 15.3 | F9: 15.4 | G9: 15.1 | H9: 15.1 | I9: 15.2 | J9: 15.2 | K9: 15.1
A10: 8 | B10: 15.6 | C10: 15.4 | D10: 15.3 | E10: 15.1 | F10: 15.3 | G10: 15.5 | H10: 15.1 | I10: 15.2 | J10: 15.1 | K10: 15.4
A11: 9 | B11: 15.1 | C11: 15.5 | D11: 15.4 | E11: 15.3 | F11: 15.1 | G11: 15.2 | H11: 15.2 | I11: 15 | J11: 15.2 | K11: 15.3
A12: 10 | B12: 15.3 | C12: 15 | D12: 15 | E12: 15.2 | F12: 15.5 | G12: 15.1 | H12: 15.3 | I12: 15.3 | J12: 15.1 | K12: 15
I14: TỔNG | K14: =+SUM(B3:K12) -> 1524.7
A15: XE 2 - GIÒ
B16: 1 | C16: 2 | D16: 3 | E16: 4 | F16: 5 | G16: 6 | H16: 7 | I16: 8 | J16: 9 | K16: 10
A17: 1
A18: 2
A19: 3
A20: 4
A21: 5
A22: 6
A23: 7
A24: 8
A25: 9
A26: 10
I28: TỔNG | K28: =+SUM(B17:K26) -> 0
A29: XE 3 - GIÒ
B30: 1 | C30: 2 | D30: 3 | E30: 4 | F30: 5 | G30: 6 | H30: 7 | I30: 8 | J30: 9 | K30: 10
A31: 1
A32: 2
A33: 3
A34: 4
A35: 5
A36: 6
A37: 7
A38: 8
A39: 9
A40: 10
I42: TỔNG | K42: =+SUM(B31:K40) -> 0
A43: XE 4 - GÀ
B44: 1 | C44: 2 | D44: 3 | E44: 4 | F44: 5 | G44: 6 | H44: 7 | I44: 8 | J44: 9 | K44: 10
A45: 1
A46: 2
A47: 3
A48: 4
A49: 5
A50: 6
A51: 7
A52: 8
A53: 9
A54: 10
I56: TỔNG | K56: =+SUM(B45:K54) -> 0
A57: XE 5 - GÀ
B58: 1 | C58: 2 | D58: 3 | E58: 4 | F58: 5 | G58: 6 | H58: 7 | I58: 8 | J58: 9 | K58: 10
A59: 1
A60: 2
A61: 3
A62: 4
A63: 5
A64: 6
A65: 7
A66: 8
A67: 9
A68: 10
I70: TỔNG | K70: =+SUM(B59:K68) -> 0

Sheet NGAY 05-12
A1: XE 1 - GÀ
B2: 1 | C2: 2 | D2: 3 | E2: 4 | F2: 5 | G2: 6 | H2: 7 | I2: 8 | J2: 9 | K2: 10
A3: 1 | B3: 15.1 | C3: 15.6 | D3: 15.3 | E3: 15 | F3: 15.1 | G3: 15.1 | H3: 15.3 | I3: 15 | J3: 15.2 | K3: 14.9
A4: 2 | B4: 15.1 | C4: 15.6 | D4: 15.1 | E4: 15.2 | F4: 15.1 | G4: 15.4 | H4: 15.2 | I4: 15.3 | J4: 15.1 | K4: 14.9
A5: 3 | B5: 15 | C5: 15.2 | D5: 15.2 | E5: 15.1 | F5: 15 | G5: 15.1 | H5: 15.2 | I5: 15.1 | J5: 15.1 | K5: 15.2
A6: 4 | B6: 15.5 | C6: 15.3 | D6: 15.8 | E6: 15.5 | F6: 15.1 | G6: 15 | H6: 15.7 | I6: 15.9 | J6: 15.3 | K6: 14.9
A7: 5 | B7: 15.4 | C7: 15.3 | D7: 15.3 | E7: 15.2 | F7: 15.3 | G7: 15.3 | H7: 15.1 | I7: 15.4 | J7: 15.1 | K7: 14.8
A8: 6 | B8: 15.2 | C8: 15 | D8: 15.1 | E8: 15.1 | F8: 15.2 | G8: 15.2 | H8: 15.1 | I8: 15.2 | J8: 15.1 | K8: 14.9
A9: 7 | B9: 15.3 | C9: 15.2 | D9: 15.2 | E9: 15.1 | F9: 15.1 | G9: 15.5 | H9: 15 | I9: 15.2 | J9: 15.3 | K9: 14.9
A10: 8 | B10: 15.1 | C10: 15.3 | D10: 15.4 | E10: 15 | F10: 15.2 | G10: 15.1 | H10: 15.3 | I10: 15.2 | J10: 15.3 | K10: 14.9
A11: 9 | B11: 15.2 | C11: 15.2 | D11: 15.2 | E11: 15.3 | F11: 15.2 | G11: 15.1 | H11: 15 | I11: 15.3 | J11: 14.8 | K11: 14.9
A12: 10 | B12: 15.3 | C12: 15.4 | D12: 15.2 | E12: 15.2 | F12: 15.2 | G12: 15.1 | H12: 15 | I12: 15.1 | J12: 14.9 | K12: 14.9
I14: TỔNG | K14: =+SUM(B3:K12) -> 1518.2
A15: XE 2 - GIÒ
B16: 1 | C16: 2 | D16: 3 | E16: 4 | F16: 5 | G16: 6 | H16: 7 | I16: 8 | J16: 9 | K16: 10 | L16: 11
A17: 1 | B17: 17.82 | C17: 18.82 | D17: 17.5 | E17: 17.4 | F17: 17.76 | G17: 17.7 | H17: 17.82 | I17: 17.74 | J17: 17.76 | K17: 17.74 | L17: 17.62
A18: 2 | B18: 17.98 | C18: 18.44 | D18: 17.26 | E18: 17.3 | F18: 17.22 | G18: 17.22 | H18: 18.06 | I18: 17.7 | J18: 17.24 | K18: 17.78 | L18: 17.1
A19: 3 | B19: 17.88 | C19: 18.22 | D19: 17.5 | E19: 18.28 | F19: 18.12 | G19: 17.2 | H19: 17.62 | I19: 17.32 | J19: 17.98 | K19: 18.36 | L19: 17.9
A20: 4 | B20: 17.82 | C20: 17.4 | D20: 17.94 | E20: 18.04 | F20: 17.46 | G20: 17.2 | H20: 17.18 | I20: 17.1 | J20: 17.44 | K20: 18.56 | L20: 17.92
A21: 5 | B21: 18.38 | C21: 18.38 | D21: 17.6 | E21: 18.24 | F21: 17.48 | G21: 17.02 | H21: 17.52 | I21: 17.96 | J21: 17.18 | K21: 17.92 | L21: 17.4
A22: 6 | B22: 18.24 | C22: 17.84 | D22: 17.76 | E22: 17.1 | F22: 17.36 | G22: 17.74 | H22: 17.9 | I22: 17.46 | J22: 17.96 | K22: 17.18
A23: 7 | B23: 17.58 | C23: 18.08 | D23: 18.36 | E23: 17.26 | F23: 17.62 | G23: 17.56 | H23: 17.58 | I23: 17.86 | J23: 17.82 | K23: 17.14
A24: 8 | B24: 17.38 | C24: 17.38 | D24: 17.82 | E24: 17.06 | F24: 17.9 | G24: 17.7 | H24: 17.68 | I24: 17.23 | J24: 17.94 | K24: 17.92
A25: 9 | B25: 18.32 | C25: 18.18 | D25: 17.3 | E25: 18.48 | F25: 18.06 | G25: 18.6 | H25: 17.24 | I25: 17.56 | J25: 17.6 | K25: 17.54
A26: 10 | B26: 18.72 | C26: 17.44 | D26: 18.38 | E26: 18.58 | F26: 17.78 | G26: 17.8 | H26: 17.94 | I26: 17.26 | J26: 18.34 | K26: 17.48
I28: TỔNG | K28: =+SUM(B17:L26) -> 1862.51
A29: XE 3 - GIÒ
B30: 1 | C30: 2 | D30: 3 | E30: 4 | F30: 5 | G30: 6 | H30: 7 | I30: 8 | J30: 9 | K30: 10 | L30: 11
A31: 1 | B31: 17.4 | C31: 17.2 | D31: 17.7 | E31: 17.36 | F31: 17.98 | G31: 17.04 | H31: 18.58 | I31: 17.56 | J31: 18.6 | K31: 17.58 | L31: 19.74
A32: 2 | B32: 17.42 | C32: 17.42 | D32: 17.8 | E32: 17.88 | F32: 17.62 | G32: 17.6 | H32: 17.4 | I32: 17.4 | J32: 17.4 | K32: 18.38 | L32: 18.9
A33: 3 | B33: 17.4 | C33: 17.56 | D33: 17.24 | E33: 17.9 | F33: 17.4 | G33: 17.8 | H33: 17.82 | I33: 17.8 | J33: 18.74 | K33: 19.34 | L33: 18.68
A34: 4 | B34: 17.4 | C34: 17.8 | D34: 17.2 | E34: 17.58 | F34: 17.34 | G34: 17.4 | H34: 17.38 | I34: 17.98 | J34: 18.52 | K34: 18.2 | L34: 18.34
A35: 5 | B35: 17.26 | C35: 17.6 | D35: 17.8 | E35: 17.78 | F35: 18.46 | G35: 17.8 | H35: 17.22 | I35: 17.32 | J35: 18 | K35: 18.4 | L35: 18.4
A36: 6 | B36: 17.34 | C36: 17.94 | D36: 17.84 | E36: 17.3 | F36: 18.16 | G36: 17.92 | H36: 17.2 | I36: 18.6 | J36: 20.6 | K36: 17.18
A37: 7 | B37: 18.76 | C37: 17.6 | D37: 21.48 | E37: 17.6 | F37: 17.32 | G37: 17.56 | H37: 19.96 | I37: 17.52 | J37: 17.52 | K37: 18.8
A38: 8 | B38: 17.14 | C38: 18.1 | D38: 17.4 | E38: 18.5 | F38: 17.3 | G38: 17.3 | H38: 18.4 | I38: 18.6 | J38: 17.6 | K38: 18.24
A39: 9 | B39: 17.4 | C39: 17.5 | D39: 17.8 | E39: 17.2 | F39: 17.2 | G39: 17 | H39: 18.96 | I39: 18.66 | J39: 17.8 | K39: 17.56
A40: 10 | B40: 17.56 | C40: 17.6 | D40: 17.82 | E40: 17.12 | F40: 17.36 | G40: 17 | H40: 17.68 | I40: 17.4 | J40: 18.98 | K40: 17.4
I42: TỔNG | K42: =+SUM(B31:L40) -> 1876.6
A43: XE 4
B44: 1 | C44: 2 | D44: 3 | E44: 4 | F44: 5 | G44: 6 | H44: 7 | I44: 8 | J44: 9 | K44: 10
A45: 1
A46: 2
A47: 3
A48: 4
A49: 5
A50: 6
A51: 7
A52: 8
A53: 9
A54: 10
I56: TỔNG | K56: =+SUM(B45:K54) -> 0

Sheet NGAY 06-12
A1: XE 1 - GÀ
B2: 1 | C2: 2 | D2: 3 | E2: 4 | F2: 5 | G2: 6 | H2: 7 | I2: 8 | J2: 9 | K2: 10
A3: 1 | B3: 15.2 | C3: 14.8 | D3: 15 | E3: 15.1 | F3: 14.9 | G3: 15 | H3: 14.9 | I3: 15 | J3: 15 | K3: 14.7
A4: 2 | B4: 15.2 | C4: 14.8 | D4: 15 | E4: 15.2 | F4: 15 | G4: 15.1 | H4: 14.8 | I4: 15.5 | J4: 15.2 | K4: 15.2
A5: 3 | B5: 15.2 | C5: 14.9 | D5: 15.1 | E5: 15.2 | F5: 15.2 | G5: 15.3 | H5: 14.9 | I5: 15.6 | J5: 15.4 | K5: 15.2
A6: 4 | B6: 15.1 | C6: 14.9 | D6: 15.7 | E6: 15.1 | F6: 15.3 | G6: 15.6 | H6: 14.8 | I6: 15 | J6: 15.2 | K6: 15
A7: 5 | B7: 15.2 | C7: 14.9 | D7: 15 | E7: 15.1 | F7: 15 | G7: 15.3 | H7: 14.9 | I7: 15 | J7: 15 | K7: 15.3
A8: 6 | B8: 15 | C8: 14.9 | D8: 15.3 | E8: 15.8 | F8: 15.1 | G8: 15 | H8: 14.9 | I8: 15.5 | J8: 15.8 | K8: 14.8
A9: 7 | B9: 15 | C9: 14.9 | D9: 15.2 | E9: 15.2 | F9: 15.2 | G9: 15.5 | H9: 14.9 | I9: 15.1 | J9: 15.1 | K9: 15.1
A10: 8 | B10: 15.1 | C10: 14.9 | D10: 15.1 | E10: 15.2 | F10: 15.3 | G10: 15.4 | H10: 14.8 | I10: 15.2 | J10: 15 | K10: 15.1
A11: 9 | B11: 15.1 | C11: 14.8 | D11: 15 | E11: 15.1 | F11: 15.4 | G11: 15.2 | H11: 14.9 | I11: 15 | J11: 15.2 | K11: 15.1
A12: 10 | B12: 15.2 | C12: 15.9 | D12: 15 | E12: 15.2 | F12: 15.2 | G12: 15.3 | H12: 15 | I12: 15.1 | J12: 15.3 | K12: 15
I14: TỔNG | K14: =+SUM(B3:K12) -> 1512.4
A15: XE 2
B16: 1 | C16: 2 | D16: 3 | E16: 4 | F16: 5 | G16: 6 | H16: 7 | I16: 8 | J16: 9 | K16: 10
A17: 1
A18: 2
A19: 3
A20: 4
A21: 5
A22: 6
A23: 7
A24: 8
A25: 9
A26: 10
I28: TỔNG | K28: =+SUM(B17:M26) -> 0
A29: XE 3
B30: 1 | C30: 2 | D30: 3 | E30: 4 | F30: 5 | G30: 6 | H30: 7 | I30: 8 | J30: 9 | K30: 10
A31: 1
A32: 2
A33: 3
A34: 4
A35: 5
A36: 6
A37: 7
A38: 8
A39: 9
A40: 10
I42: TỔNG | K42: =+SUM(B31:K40) -> 0

Sheet NGAY 08-12
A1: XE 1 - GÀ
B2: 1 | C2: 2 | D2: 3 | E2: 4 | F2: 5 | G2: 6 | H2: 7 | I2: 8 | J2: 9 | K2: 10
A3: 1 | B3: 14.26 | C3: 15 | D3: 14.08 | E3: 14.04 | F3: 14.18 | G3: 14.12 | H3: 15.1 | I3: 14.3 | J3: 14.16 | K3: 15.1
A4: 2 | B4: 14.12 | C4: 14.08 | D4: 14.18 | E4: 14.18 | F4: 14.2 | G4: 14.26 | H4: 14.18 | I4: 14.22 | J4: 14.2 | K4: 14.32
A5: 3 | B5: 14.1 | C5: 14.2 | D5: 14.22 | E5: 14.2 | F5: 13.96 | G5: 14.3 | H5: 14.72 | I5: 14.14 | J5: 14.18 | K5: 14.3
A6: 4 | B6: 14 | C6: 14.16 | D6: 14.1 | E6: 14.16 | F6: 14.58 | G6: 14.08 | H6: 13.96 | I6: 14.18 | J6: 14.12 | K6: 14.12
A7: 5 | B7: 14.18 | C7: 13.98 | D7: 14.38 | E7: 14.98 | F7: 14.62 | G7: 14.12 | H7: 14.18 | I7: 14.9 | J7: 14.02 | K7: 14.18
A8: 6 | B8: 14.06 | C8: 14.02 | D8: 14.42 | E8: 14.3 | F8: 15.1 | G8: 14.22 | H8: 14 | I8: 15.1 | J8: 14.68 | K8: 14.16
A9: 7 | B9: 14.22 | C9: 13.94 | D9: 14.2 | E9: 14.36 | F9: 15.14 | G9: 14.16 | H9: 14.36 | I9: 14.3 | J9: 14.9 | K9: 14.04
A10: 8 | B10: 14.2 | C10: 14.28 | D10: 14.16 | E10: 14.28 | F10: 15.28 | G10: 14.08 | H10: 15.1 | I10: 14.28 | J10: 15 | K10: 14.1
A11: 9 | B11: 14.18 | C11: 14.3 | D11: 14.1 | E11: 14.56 | F11: 14.36 | G11: 14.1 | H11: 14.12 | I11: 14.14 | J11: 14.28 | K11: 14.02
A12: 10 | B12: 14.26 | C12: 14.12 | D12: 15.03 | E12: 14.3 | F12: 14.2 | G12: 14.3 | H12: 14.28 | I12: 14.1 | J12: 14.12 | K12: 14.4
I14: TỔNG | K14: =+SUM(B3:K12) -> 1431.31
A15: XE 2
B16: 1 | C16: 2 | D16: 3 | E16: 4 | F16: 5 | G16: 6 | H16: 7 | I16: 8 | J16: 9 | K16: 10
A17: 1
A18: 2
A19: 3
A20: 4
A21: 5
A22: 6
A23: 7
A24: 8
A25: 9
A26: 10
I28: TỔNG | K28: =+SUM(B17:M26) -> 0
A29: XE 3
B30: 1 | C30: 2 | D30: 3 | E30: 4 | F30: 5 | G30: 6 | H30: 7 | I30: 8 | J30: 9 | K30: 10
A31: 1
A32: 2
A33: 3
A34: 4
A35: 5
A36: 6
A37: 7
A38: 8
A39: 9
A40: 10
I42: TỔNG | K42: =+SUM(B31:K40) -> 0

Sheet NGAY 10-12
A1: XE 1 - GÀ
B2: 1 | C2: 2 | D2: 3 | E2: 4 | F2: 5 | G2: 6 | H2: 7 | I2: 8 | J2: 9 | K2: 10
A3: 1 | B3: 15.3 | C3: 15.3 | D3: 15 | E3: 14.7 | F3: 14.8 | G3: 15.3 | H3: 15.3 | I3: 15.3 | J3: 15.3 | K3: 14.9
A4: 2 | B4: 14.4 | C4: 15.6 | D4: 15.5 | E4: 14.9 | F4: 15.4 | G4: 15 | H4: 15.2 | I4: 15 | J4: 15.1 | K4: 14.9
A5: 3 | B5: 14.3 | C5: 15.2 | D5: 15.3 | E5: 14.9 | F5: 15 | G5: 15.4 | H5: 15.2 | I5: 15.3 | J5: 15.1 | K5: 15.5
A6: 4 | B6: 15 | C6: 15.3 | D6: 15.3 | E6: 14.9 | F6: 15.4 | G6: 15.2 | H6: 15.4 | I6: 15 | J6: 15.5 | K6: 15.1
A7: 5 | B7: 15.2 | C7: 15.3 | D7: 15.1 | E7: 14.8 | F7: 15.3 | G7: 15.4 | H7: 13.2 | I7: 15.2 | J7: 14.9 | K7: 15.1
A8: 6 | B8: 15.1 | C8: 15.7 | D8: 15 | E8: 15.5 | F8: 15.1 | G8: 15 | H8: 15.3 | I8: 15.5 | J8: 15.3 | K8: 15.3
A9: 7 | B9: 15.3 | C9: 15.3 | D9: 15.1 | E9: 15 | F9: 15.5 | G9: 15.5 | H9: 15.3 | I9: 15.4 | J9: 15.4 | K9: 15
A10: 8 | B10: 15.1 | C10: 15.2 | D10: 15.1 | E10: 15.4 | F10: 15.2 | G10: 15.3 | H10: 15.2 | I10: 15.4 | J10: 15.4 | K10: 14.9
A11: 9 | B11: 15.3 | C11: 15 | D11: 15.3 | E11: 15.1 | F11: 15.2 | G11: 15.3 | H11: 15 | I11: 15.5 | J11: 15 | K11: 15
A12: 10 | B12: 15.3 | C12: 15 | D12: 15.2 | E12: 15.2 | F12: 15.2 | G12: 15 | H12: 15.3 | I12: 15.5 | J12: 15.1 | K12: 15.4
I14: TỔNG | K14: =+SUM(B3:K12) -> 1516.7
A15: XE 2 - GIÒ
B16: 1 | C16: 2 | D16: 3 | E16: 4 | F16: 5 | G16: 6 | H16: 7 | I16: 8 | J16: 9 | K16: 10
A17: 1 | B17: 18.86 | C17: 17.36 | D17: 17.66 | E17: 17.84 | F17: 17.76 | G17: 18.78 | H17: 18.9 | I17: 17.9 | J17: 17.78 | K17: 17.68
A18: 2 | B18: 18.38 | C18: 17.76 | D18: 18.02 | E18: 17.12 | F18: 17.6 | G18: 20.24 | H18: 17.86 | I18: 17.62 | J18: 18.58 | K18: 17.76
A19: 3 | B19: 17.58 | C19: 18.02 | D19: 18.88 | E19: 18.86 | F19: 18.08 | G19: 18.6 | H19: 18.54 | I19: 17.28 | J19: 17.8 | K19: 17.5
A20: 4 | B20: 19.12 | C20: 17.94 | D20: 18.22 | E20: 18.02 | F20: 18.2 | G20: 17.9 | H20: 18.86 | I20: 17.48 | J20: 17.28 | K20: 17.6
A21: 5 | B21: 18.4 | C21: 19 | D21: 18.08 | E21: 19.42 | F21: 17.32 | G21: 18.36 | H21: 17.04 | I21: 17.74 | J21: 17.1 | K21: 17.46
A22: 6 | B22: 18.94 | C22: 19.62 | D22: 18.16 | E22: 18.26 | F22: 17.9 | G22: 17.54 | H22: 18.04 | I22: 19.24 | J22: 17.84 | K22: 17.76
A23: 7 | B23: 17.48 | C23: 18.16 | D23: 18.08 | E23: 17.28 | F23: 18 | G23: 18.3 | H23: 18.72 | I23: 17.22 | J23: 17.28 | K23: 17.8
A24: 8 | B24: 18.5 | C24: 17.54 | D24: 17.76 | E24: 18.66 | F24: 17.58 | G24: 19 | H24: 17.02 | I24: 18.42 | J24: 17.74 | K24: 17.52
A25: 9 | B25: 19.64 | C25: 18.36 | D25: 18.22 | E25: 17.02 | F25: 17.72 | G25: 18.68 | H25: 17.64 | I25: 18.32 | J25: 18.06 | K25: 17.3
A26: 10 | B26: 18.12 | C26: 18.36 | D26: 18.12 | E26: 18.42 | F26: 17.04 | G26: 17.48 | H26: 17.88 | I26: 17.72 | J26: 17 | K26: 18.1
I28: TỔNG | K28: =+SUM(B17:K26) -> 1803.7
A29: XE 3 - GIÒ
B30: 1 | C30: 2 | D30: 3 | E30: 4 | F30: 5 | G30: 6 | H30: 7 | I30: 8 | J30: 9 | K30: 10
A31: 1 | B31: 17.7 | C31: 18.02 | D31: 17.98 | E31: 18.14 | F31: 17.06 | G31: 18.08 | H31: 17.76 | I31: 17.44
A32: 2 | B32: 18.52 | C32: 17.88 | D32: 18.24 | E32: 17.76 | F32: 18.82 | G32: 19.22 | H32: 17.6 | I32: 17.66
A33: 3 | B33: 18.42 | C33: 18.02 | D33: 17.86 | E33: 17.12 | F33: 18.22 | G33: 18.12 | H33: 19.52 | I33: 17.4
A34: 4 | B34: 18.48 | C34: 17.68 | D34: 17.9 | E34: 17.8 | F34: 17.86 | G34: 19.04 | H34: 17.8 | I34: 17.36
A35: 5 | B35: 17.7 | C35: 18.22 | D35: 18.2 | E35: 17.7 | F35: 19.04 | G35: 17.66 | H35: 17.48 | I35: 17.9
A36: 6 | B36: 18.16 | C36: 18.82 | D36: 17.94 | E36: 17.64 | F36: 17.18 | G36: 18.38 | H36: 18.58 | I36: 17.98
A37: 7 | B37: 17.2 | C37: 18.12 | D37: 17.54 | E37: 19.12 | F37: 18.86 | G37: 18.28 | H37: 17.02
A38: 8 | B38: 18.2 | C38: 17.98 | D38: 17.12 | E38: 19.5 | F38: 18.64 | G38: 17.5 | H38: 17.16
A39: 9 | B39: 17.82 | C39: 18.28 | D39: 17.74 | E39: 18.26 | F39: 17.28 | G39: 18.88 | H39: 17.84
A40: 10 | B40: 18.22 | C40: 17.86 | D40: 18.02 | E40: 18.04 | F40: 18.2 | G40: 18.6 | H40: 17.24
I42: TỔNG | K42: =+SUM(B31:K40) -> 1369.58
A43: XE 4 - GÀ
B44: 1 | C44: 2 | D44: 3 | E44: 4 | F44: 5 | G44: 6 | H44: 7 | I44: 8 | J44: 9 | K44: 10
A45: 1 | B45: 15.2 | C45: 15 | D45: 15.1 | E45: 15.1
A46: 2 | B46: 15.1 | C46: 15.8 | D46: 15 | E46: 15
A47: 3 | B47: 14.8 | C47: 15.1 | D47: 15 | E47: 15.2
A48: 4 | B48: 16.1 | C48: 15 | D48: 15.2 | E48: 14.9
A49: 5 | B49: 14.8 | C49: 15.1 | D49: 15.2 | E49: 15.1
A50: 6 | B50: 15 | C50: 15.4 | D50: 15 | E50: 13.8
A51: 7 | B51: 15.3 | C51: 15.1 | D51: 15.2 | E51: 14
A52: 8 | B52: 15.2 | C52: 14.9 | D52: 15.2 | E52: 14.2
A53: 9 | B53: 15.7 | C53: 15 | D53: 15.1 | E53: 13.7
A54: 10 | B54: 15.1 | C54: 14.8 | D54: 15.2 | E54: 14.1
I56: TỔNG | K56: =+SUM(B45:K54) -> 599.8
A57: XE 5 - GÀ
B58: 1 | C58: 2 | D58: 3 | E58: 4 | F58: 5 | G58: 6 | H58: 7 | I58: 8 | J58: 9 | K58: 10
A59: 1
A60: 2
A61: 3
A62: 4
A63: 5
A64: 6
A65: 7
A66: 8
A67: 9
A68: 10
I70: TỔNG | K70: =+SUM(B59:K68) -> 0

Sheet NGAY 12-12
A1: XE 1
B2: 1 | C2: 2 | D2: 3 | E2: 4 | F2: 5 | G2: 6 | H2: 7 | I2: 8 | J2: 9 | K2: 10
A3: 1
A4: 2
A5: 3
A6: 4
A7: 5
A8: 6
A9: 7
A10: 8
A11: 9
A12: 10
I14: TỔNG | K14: =+SUM(B3:K12) -> 0
A15: XE 2 - GÀ
B16: 1 | C16: 2 | D16: 3 | E16: 4 | F16: 5 | G16: 6 | H16: 7 | I16: 8 | J16: 9 | K16: 10
A17: 1 | B17: 14.64 | C17: 14.44 | D17: 13.62 | E17: 14.62 | F17: 14.36 | G17: 13.94 | H17: 15 | I17: 15.06 | J17: 14.7 | K17: 14.2
A18: 2 | B18: 14.9 | C18: 14.68 | D18: 14.08 | E18: 14.9 | F18: 14.68 | G18: 15.02 | H18: 14.66 | I18: 14.86 | J18: 14.58 | K18: 14.56
A19: 3 | B19: 14.58 | C19: 14.54 | D19: 14.02 | E19: 14.82 | F19: 14.24 | G19: 14.28 | H19: 14.42 | I19: 14.58 | J19: 14.38 | K19: 14.02
A20: 4 | B20: 14.84 | C20: 14.48 | D20: 13.68 | E20: 14.26 | F20: 14.84 | G20: 14.84 | H20: 14.84 | I20: 13.94 | J20: 14.04 | K20: 14.34
A21: 5 | B21: 14.04 | C21: 14.48 | D21: 15.08 | E21: 14.14 | F21: 14.7 | G21: 14.64 | H21: 14.44 | I21: 14.2 | J21: 14.2 | K21: 14.78
A22: 6 | B22: 14.54 | C22: 14.16 | D22: 14.66 | E22: 14.18 | F22: 14.24 | G22: 14.6 | H22: 14.32 | I22: 14.22 | J22: 14.58 | K22: 14.94
A23: 7 | B23: 14.4 | C23: 14.94 | D23: 14.8 | E23: 13.28 | F23: 14.2 | G23: 14.28 | H23: 14.44 | I23: 14.62 | J23: 15.14 | K23: 14.4
A24: 8 | B24: 14.62 | C24: 14.94 | D24: 14.06 | E24: 14.48 | F24: 14.52 | G24: 14.74 | H24: 14.56 | I24: 14.4 | J24: 14.14 | K24: 14.74
A25: 9 | B25: 14.8 | C25: 14.46 | D25: 14.2 | E25: 14.42 | F25: 14.08 | G25: 14.7 | H25: 14.4 | I25: 14.22 | J25: 15.14 | K25: 14.66
A26: 10 | B26: 14.72 | C26: 14.66 | D26: 14.48 | E26: 14.34 | F26: 14.48 | G26: 14.7 | H26: 14.96 | I26: 14.54 | J26: 14.9 | K26: 14.9
I28: TỔNG | K28: =+SUM(B17:K26) -> 1450.08
A29: XE 3 - GÀ
B30: 1 | C30: 2 | D30: 3 | E30: 4 | F30: 5 | G30: 6 | H30: 7 | I30: 8 | J30: 9 | K30: 10
A31: 1 | B31: 14.56 | C31: 14.78 | D31: 15.08 | E31: 14.72 | F31: 14.58 | G31: 13.6 | H31: 15.08 | I31: 15.3 | J31: 15.88 | K31: 15.58
A32: 2 | B32: 14.32 | C32: 14.98 | D32: 13.92 | E32: 13.88 | F32: 13.86 | G32: 14.28 | H32: 14.26 | I32: 15.22 | J32: 15.62 | K32: 15.08
A33: 3 | B33: 14.52 | C33: 14.2 | D33: 13.96 | E33: 14.41 | F33: 14.2 | G33: 14.82 | H33: 14.76 | I33: 14.72 | J33: 15 | K33: 15.58
A34: 4 | B34: 14.26 | C34: 14.92 | D34: 15 | E34: 14.64 | F34: 14.64 | G34: 14.48 | H34: 15.64 | I34: 14.46 | J34: 15.38 | K34: 15.24
A35: 5 | B35: 14.66 | C35: 14.52 | D35: 13.68 | E35: 14.52 | F35: 14.14 | G35: 14.58 | H35: 14.62 | I35: 14.62 | J35: 15.6 | K35: 15.3
A36: 6 | B36: 14.98 | C36: 14.32 | D36: 13.8 | E36: 14.76 | F36: 14.68 | G36: 14.56 | H36: 14.76 | I36: 14.72 | J36: 15.54 | K36: 15.62
A37: 7 | B37: 14.72 | C37: 14.86 | D37: 14.76 | E37: 14.4 | F37: 14.81 | G37: 14.42 | H37: 14.26 | I37: 15.8 | J37: 15.3 | K37: 15.62
A38: 8 | B38: 14.26 | C38: 14.06 | D38: 14.64 | E38: 14.86 | F38: 14.2 | G38: 14.86 | H38: 14.66 | I38: 14.84 | J38: 15.2 | K38: 15
A39: 9 | B39: 14.66 | C39: 14.82 | D39: 14.9 | E39: 14.6 | F39: 14.22 | G39: 15.28 | H39: 15.84 | I39: 14.1 | J39: 15.32 | K39: 15
A40: 10 | B40: 14.72 | C40: 14.86 | D40: 14.9 | E40: 14.82 | F40: 14.32 | G40: 14.98 | H40: 14.26 | I40: 15.16 | J40: 15.92 | K40: 15.56
I42: TỔNG | K42: =+SUM(B31:K40) -> 1477.16

Sheet NGAY 15-12
A1: XE 1 - GÀ
B2: 1 | C2: 2 | D2: 3 | E2: 4 | F2: 5 | G2: 6 | H2: 7 | I2: 8 | J2: 9 | K2: 10
A3: 1 | B3: 15.14 | C3: 14.58 | D3: 13.44 | E3: 14.44 | F3: 14.6 | G3: 13.92 | H3: 14.54 | I3: 14.34 | J3: 15 | K3: 14.76
A4: 2 | B4: 16.08 | C4: 14.72 | D4: 14.9 | E4: 14.36 | F4: 13.54 | G4: 14.68 | H4: 13.84 | I4: 14.34 | J4: 16.18 | K4: 14.32
A5: 3 | B5: 15.12 | C5: 14.88 | D5: 14.84 | E5: 14.32 | F5: 14.54 | G5: 14.58 | H5: 13.76 | I5: 14.5 | J5: 15 | K5: 14.44
A6: 4 | B6: 15.3 | C6: 14.5 | D6: 14 | E6: 14.7 | F6: 14.92 | G6: 14.04 | H6: 14.02 | I6: 14.56 | J6: 14.44 | K6: 14.7
A7: 5 | B7: 15.16 | C7: 14.96 | D7: 14.48 | E7: 14.34 | F7: 14.94 | G7: 14.38 | H7: 14.18 | I7: 14.98 | J7: 14.7 | K7: 13.26
A8: 6 | B8: 15 | C8: 14.38 | D8: 14.3 | E8: 14.36 | F8: 14.26 | G8: 14.38 | H8: 14.48 | I8: 14.12 | J8: 14.24 | K8: 14.18
A9: 7 | B9: 15.02 | C9: 14.34 | D9: 14.5 | E9: 14.6 | F9: 14.78 | G9: 14.78 | H9: 14.22 | I9: 14.86 | J9: 14.42 | K9: 14
A10: 8 | B10: 15.06 | C10: 14.72 | D10: 14.47 | E10: 14.48 | F10: 14.1 | G10: 14.26 | H10: 14.72 | I10: 14.26 | J10: 14.16 | K10: 15.24
A11: 9 | B11: 15.78 | C11: 14.02 | D11: 14.44 | E11: 14.68 | F11: 14.4 | G11: 14.4 | H11: 14.54 | I11: 14.44 | J11: 14.62 | K11: 14.52
A12: 10 | B12: 15.5 | C12: 14.86 | D12: 14.06 | E12: 14.3 | F12: 14.96 | G12: 13.6 | H12: 14.56 | I12: 14.76 | J12: 13.66 | K12: 14.62
I14: TỔNG | K14: =+SUM(B3:K12) -> 1453.67
A15: XE 2
B16: 1 | C16: 2 | D16: 3 | E16: 4 | F16: 5 | G16: 6 | H16: 7 | I16: 8 | J16: 9 | K16: 10
A17: 1
A18: 2
A19: 3
A20: 4
A21: 5
A22: 6
A23: 7
A24: 8
A25: 9
A26: 10
I28: TỔNG | K28: =+SUM(B17:K26) -> 0
A29: XE 3
B30: 1 | C30: 2 | D30: 3 | E30: 4 | F30: 5 | G30: 6 | H30: 7 | I30: 8 | J30: 9 | K30: 10
A31: 1
A32: 2
A33: 3
A34: 4
A35: 5
A36: 6
A37: 7
A38: 8
A39: 9
A40: 10
I42: TỔNG | K42: =+SUM(B31:K40) -> 0

Sheet NGAY 17-12
A1: XE 1
B2: 1 | C2: 2 | D2: 3 | E2: 4 | F2: 5 | G2: 6 | H2: 7 | I2: 8 | J2: 9 | K2: 10
A3: 1
A4: 2
A5: 3
A6: 4
A7: 5
A8: 6
A9: 7
A10: 8
A11: 9
A12: 10
I14: TỔNG | K14: =+SUM(B3:K12) -> 0
A15: XE 2 - GÀ
B16: 1 | C16: 2 | D16: 3 | E16: 4 | F16: 5 | G16: 6 | H16: 7 | I16: 8 | J16: 9 | K16: 10
A17: 1 | B17: 15.6 | C17: 14.98 | D17: 14.7 | E17: 14.88 | F17: 13.82 | G17: 13.98 | H17: 13.56 | I17: 14.24 | J17: 14.78 | K17: 15.56
A18: 2 | B18: 15.72 | C18: 15 | D18: 15.54 | E18: 14.7 | F18: 14.6 | G18: 13.56 | H18: 13.9 | I18: 14.8 | J18: 14.46 | K18: 13.96
A19: 3 | B19: 14.84 | C19: 16.28 | D19: 14.7 | E19: 15 | F19: 13.24 | G19: 13.96 | H19: 13.2 | I19: 14.8 | J19: 14.04 | K19: 14.94
A20: 4 | B20: 14.98 | C20: 15.76 | D20: 14.3 | E20: 14.92 | F20: 13.48 | G20: 13.16 | H20: 13.46 | I20: 14.36 | J20: 13.9 | K20: 14.84
A21: 5 | B21: 14.7 | C21: 15 | D21: 14.8 | E21: 14.66 | F21: 13.2 | G21: 12.56 | H21: 13.7 | I21: 14.42 | J21: 14.24 | K21: 14.72
A22: 6 | B22: 14.5 | C22: 14.14 | D22: 14.2 | E22: 14.66 | F22: 13.96 | G22: 13.5 | H22: 14.44 | I22: 14.34 | J22: 14.86 | K22: 14.54
A23: 7 | B23: 14 | C23: 13.94 | D23: 15 | E23: 14.4 | F23: 13.4 | G23: 13.6 | H23: 14.36 | I23: 14.76 | J23: 14.34 | K23: 14.83
A24: 8 | B24: 14.7 | C24: 14.82 | D24: 15.22 | E24: 14.52 | F24: 13.4 | G24: 13.84 | H24: 14.72 | I24: 15 | J24: 14.8 | K24: 14.14
A25: 9 | B25: 15.8 | C25: 14.2 | D25: 15.32 | E25: 14.3 | F25: 13.62 | G25: 13.28 | H25: 14.48 | I25: 15.16 | J25: 14.2 | K25: 13.9
A26: 10 | B26: 16 | C26: 13.86 | D26: 14.9 | E26: 14.74 | F26: 13.56 | G26: 13.92 | H26: 14.22 | I26: 14.34 | J26: 14.34 | K26: 14.76
A27: 11 | B27: 14.7 | C27: 14.94 | D27: 14.98 | E27: 14.36 | F27: 13.56 | G27: 13.68 | H27: 14.66 | I27: 13.9 | J27: 15 | K27: 14.26
I29: TỔNG | K29: =+SUM(B17:K27) -> 1586.37
A30: XE 3
B31: 1 | C31: 2 | D31: 3 | E31: 4 | F31: 5 | G31: 6 | H31: 7 | I31: 8 | J31: 9 | K31: 10
A32: 1
A33: 2
A34: 3
A35: 4
A36: 5
A37: 6
A38: 7
A39: 8
A40: 9
A41: 10
I43: TỔNG | K43: =+SUM(B32:K41) -> 0

Sheet NGAY 19-12
A1: XE 1
B2: 1 | C2: 2 | D2: 3 | E2: 4 | F2: 5 | G2: 6 | H2: 7 | I2: 8 | J2: 9 | K2: 10
A3: 1 | B3: 13.92 | C3: 14.42 | D3: 14.5 | E3: 14.66 | F3: 15 | G3: 14.86 | H3: 14.46 | I3: 15.68 | J3: 14.8 | K3: 15.24
A4: 2 | B4: 14.4 | C4: 14.14 | D4: 14.02 | E4: 14.22 | F4: 14.5 | G4: 14.18 | H4: 13.98 | I4: 15.26 | J4: 14.24
A5: 3 | B5: 15 | C5: 14.72 | D5: 14.14 | E5: 14.18 | F5: 14.28 | G5: 14.44 | H5: 14.16 | I5: 14.44 | J5: 14.58
A6: 4 | B6: 14.78 | C6: 14.18 | D6: 13.84 | E6: 13.9 | F6: 14.34 | G6: 14.36 | H6: 14.28 | I6: 14.06 | J6: 14
A7: 5 | B7: 14.52 | C7: 14 | D7: 15.02 | E7: 14.74 | F7: 14.56 | G7: 14.08 | H7: 14.24 | I7: 14.58 | J7: 14.7
A8: 6 | B8: 14.4 | C8: 14.6 | D8: 14.28 | E8: 14.36 | F8: 14.64 | G8: 14.82 | H8: 13.84 | I8: 15 | J8: 14.42
A9: 7 | B9: 14.06 | C9: 14.4 | D9: 14.16 | E9: 14.92 | F9: 15 | G9: 13.82 | H9: 14.7 | I9: 15.04 | J9: 14.66
A10: 8 | B10: 14.32 | C10: 14.36 | D10: 14.3 | E10: 14.48 | F10: 14.78 | G10: 13.82 | H10: 14.38 | I10: 15.04 | J10: 15.56
A11: 9 | B11: 14.64 | C11: 14.22 | D11: 14.2 | E11: 13.54 | F11: 14.14 | G11: 14.28 | H11: 14.66 | I11: 14.46 | J11: 13.74
A12: 10 | B12: 15.12 | C12: 14.32 | D12: 14.58 | E12: 14.56 | F12: 14.16 | G12: 14.58 | H12: 14.96 | I12: 15.22 | J12: 14.18
A13: 11 | B13: 14.78 | C13: 14.66 | D13: 14.3 | E13: 15.38 | F13: 13.98 | G13: 14.32 | H13: 14.34 | I13: 14.32 | J13: 15.1
I15: TỔNG | K15: =+SUM(B3:K13) -> 1447.5
A16: XE 2 - GÀ
B17: 1 | C17: 2 | D17: 3 | E17: 4 | F17: 5 | G17: 6 | H17: 7 | I17: 8 | J17: 9 | K17: 10
A18: 1
A19: 2
A20: 3
A21: 4
A22: 5
A23: 6
A24: 7
A25: 8
A26: 9
A27: 10
A28: 11
I30: TỔNG | K30: =+SUM(B18:K28) -> 0
A31: XE 3
B32: 1 | C32: 2 | D32: 3 | E32: 4 | F32: 5 | G32: 6 | H32: 7 | I32: 8 | J32: 9 | K32: 10
A33: 1
A34: 2
A35: 3
A36: 4
A37: 5
A38: 6
A39: 7
A40: 8
A41: 9
A42: 10
I44: TỔNG | K44: =+SUM(B33:K42) -> 0

Sheet NGAY 22-12
A1: XE 1 - GÀ
B2: 1 | C2: 2 | D2: 3 | E2: 4 | F2: 5 | G2: 6 | H2: 7 | I2: 8 | J2: 9 | K2: 10
A3: 1 | B3: 13.2 | C3: 12.04 | D3: 12.12 | E3: 13.58 | F3: 14.76 | G3: 13.8 | H3: 14.94 | I3: 14.92 | J3: 14.32 | K3: 14.04
A4: 2 | B4: 13.86 | C4: 14.36 | D4: 13.06 | E4: 13.2 | F4: 14.4 | G4: 13.8 | H4: 14.44 | I4: 14.36 | J4: 14.94 | K4: 14.48
A5: 3 | B5: 13.86 | C5: 14.3 | D5: 13.64 | E5: 12.86 | F5: 14.4 | G5: 13.04 | H5: 14.72 | I5: 14.42 | J5: 14.26 | K5: 14
A6: 4 | B6: 14.32 | C6: 13.8 | D6: 13.68 | E6: 13.58 | F6: 14.32 | G6: 13.86 | H6: 14.88 | I6: 14.94 | J6: 14.86 | K6: 15.3
A7: 5 | B7: 13.26 | C7: 14.92 | D7: 13.06 | E7: 15.22 | F7: 14.64 | G7: 15.12 | H7: 14.38 | I7: 13.88 | J7: 14.5 | K7: 14.86
A8: 6 | B8: 13.52 | C8: 14.6 | D8: 13.96 | E8: 14.48 | F8: 13.98 | G8: 14.2 | H8: 14.78 | I8: 14.6 | J8: 13.92 | K8: 14.72
A9: 7 | B9: 14.44 | C9: 15.3 | D9: 12.22 | E9: 14.24 | F9: 14.3 | G9: 14.64 | H9: 14.78 | I9: 14.06 | J9: 14.5 | K9: 15.6
A10: 8 | B10: 14.58 | C10: 13.88 | D10: 13.02 | E10: 14.6 | F10: 14.36 | G10: 14.1 | H10: 13.98 | I10: 14.98 | J10: 14.56 | K10: 14.3
A11: 9 | B11: 12.58 | C11: 15.14 | D11: 12.4 | E11: 14.4 | F11: 14.92 | G11: 14.18 | H11: 14.34 | I11: 14.68 | J11: 14.12 | K11: 14.2
A12: 10 | B12: 13.58 | C12: 13.82 | D12: 11.68 | E12: 14.4 | F12: 14.78 | G12: 14.52 | H12: 14.92 | I12: 14.96 | J12: 14.54 | K12: 14.34
I14: TỔNG | K14: =+SUM(B3:K12) -> 1417.2
A15: XE 2 - Mỡ
B16: 1 | C16: 2 | D16: 3 | E16: 4 | F16: 5 | G16: 6 | H16: 7 | I16: 8 | J16: 9 | K16: 10
A17: 1 | B17: 23.22 | C17: 23.7 | D17: 24.34 | E17: 25.12 | F17: 24.22
A18: 2 | B18: 26.06 | C18: 25.02 | D18: 24.36 | E18: 25 | F18: 24.78
A19: 3 | B19: 24.64 | C19: 24.8 | D19: 24.62 | E19: 24.6 | F19: 24.7
A20: 4 | B20: 24.6 | C20: 23.48 | D20: 24.92 | E20: 24.18 | F20: 23.66
A21: 5 | B21: 24.58 | C21: 24.42 | D21: 24.52 | E21: 25.6 | F21: 24.66
A22: 6 | B22: 24.62 | C22: 24.4 | D22: 24.44 | E22: 24.48 | F22: 24.46
A23: 7 | B23: 24.48 | C23: 24.58 | D23: 25.14 | E23: 23.86 | F23: 24.48
A24: 8 | B24: 24.2 | C24: 24.74 | D24: 24.48 | E24: 22.9 | F24: 23.76
A25: 9 | B25: 26.76 | C25: 24.5 | D25: 24.02 | E25: 24.12 | F25: 22.72
A26: 10 | B26: 26.34 | C26: 23.62 | D26: 25.36 | E26: 25.18 | F26: 24.34
A27: 11
I29: TỔNG | K29: =+SUM(B17:K27) -> 1225.78
A30: XE 3
B31: 1 | C31: 2 | D31: 3 | E31: 4 | F31: 5 | G31: 6 | H31: 7 | I31: 8 | J31: 9 | K31: 10
A32: 1
A33: 2
A34: 3
A35: 4
A36: 5
A37: 6
A38: 7
A39: 8
A40: 9
A41: 10
I43: TỔNG | K43: =+SUM(B32:K41) -> 0

Sheet NGAY 25-12
A1: XE 1 - GÀ
B2: 1 | C2: 2 | D2: 3 | E2: 4 | F2: 5 | G2: 6 | H2: 7 | I2: 8 | J2: 9 | K2: 10
A3: 1 | B3: 15.86 | C3: 15.14 | D3: 14.4 | E3: 16.12 | F3: 14.14 | G3: 14.4 | H3: 14.86 | I3: 13.54 | J3: 14.46 | K3: 13.38
A4: 2 | B4: 15.06 | C4: 15.14 | D4: 15.84 | E4: 17.38 | F4: 13.9 | G4: 14.56 | H4: 14.56 | I4: 13.94 | J4: 12.22 | K4: 13.8
A5: 3 | B5: 14.96 | C5: 15.34 | D5: 14.94 | E5: 17.18 | F5: 14.64 | G5: 14.42 | H5: 14.72 | I5: 13.06 | J5: 13.42 | K5: 12.98
A6: 4 | B6: 15.3 | C6: 15.66 | D6: 13.72 | E6: 16.12 | F6: 14.34 | G6: 14.42 | H6: 14.28 | I6: 14.62 | J6: 12.24 | K6: 13.96
A7: 5 | B7: 14.4 | C7: 14.98 | D7: 16.6 | E7: 16.36 | F7: 14.64 | G7: 14.56 | H7: 14.78 | I7: 15.48 | J7: 12.54 | K7: 13.48
A8: 6 | B8: 14.7 | C8: 14.56 | D8: 17 | E8: 13.84 | F8: 14.6 | G8: 14.52 | H8: 14.32 | I8: 14.4 | J8: 13.64 | K8: 13.64
A9: 7 | B9: 15.5 | C9: 15.08 | D9: 15.84 | E9: 14.5 | F9: 14.84 | G9: 14.4 | H9: 14.08 | I9: 12.46 | J9: 12.58 | K9: 13.96
A10: 8 | B10: 15.46 | C10: 16.76 | D10: 15.28 | E10: 14.54 | F10: 14.14 | G10: 14.28 | H10: 14.18 | I10: 13.66 | J10: 13.78 | K10: 12.72
A11: 9 | B11: 15.16 | C11: 14.82 | D11: 15.02 | E11: 14.36 | F11: 14.56 | G11: 14.48 | H11: 14.46 | I11: 14.62 | J11: 13.54 | K11: 13.72
A12: 10 | B12: 14.34 | C12: 14.82 | D12: 14.76 | E12: 14.66 | F12: 14.9 | G12: 14.34 | H12: 14.84 | I12: 12.27 | J12: 13.06 | K12: 13.6
I14: TỔNG | K14: =+SUM(B3:K12) -> 1450.43
A15: XE 2 - Mỡ
B16: 1 | C16: 2 | D16: 3 | E16: 4 | F16: 5 | G16: 6 | H16: 7 | I16: 8 | J16: 9 | K16: 10
A17: 1
A18: 2
A19: 3
A20: 4
A21: 5
A22: 6
A23: 7
A24: 8
A25: 9
A26: 10
A27: 11
I29: TỔNG | K29: =+SUM(B17:K27) -> 0
A30: XE 3
B31: 1 | C31: 2 | D31: 3 | E31: 4 | F31: 5 | G31: 6 | H31: 7 | I31: 8 | J31: 9 | K31: 10
A32: 1
A33: 2
A34: 3
A35: 4
A36: 5
A37: 6
A38: 7
A39: 8
A40: 9
A41: 10
I43: TỔNG | K43: =+SUM(B32:K41) -> 0

Sheet NGAY 26-12
A1: XE 1 - GÀ
B2: 1 | C2: 2 | D2: 3 | E2: 4 | F2: 5 | G2: 6 | H2: 7 | I2: 8 | J2: 9 | K2: 10
A3: 1 | B3: 14.94 | C3: 14.14 | D3: 15.22 | E3: 14.88 | F3: 14.58 | G3: 14.68 | H3: 14.78 | I3: 13.74 | J3: 13.74 | K3: 13.1
A4: 2 | B4: 14.34 | C4: 14.4 | D4: 14.82 | E4: 15.72 | F4: 14.06 | G4: 14.66 | H4: 14.58 | I4: 12.9 | J4: 13.96 | K4: 12.68
A5: 3 | B5: 14.4 | C5: 15.14 | D5: 14.9 | E5: 14.34 | F5: 15.08 | G5: 14.7 | H5: 14.7 | I5: 12.56 | J5: 13.78 | K5: 13.44
A6: 4 | B6: 14.32 | C6: 14.92 | D6: 15.94 | E6: 14.74 | F6: 14.62 | G6: 14.86 | H6: 13.88 | I6: 12.96 | J6: 13.58 | K6: 13.62
A7: 5 | B7: 14.98 | C7: 14.66 | D7: 14.04 | E7: 15.78 | F7: 14.14 | G7: 14.7 | H7: 13.68 | I7: 13.7 | J7: 13.82 | K7: 13.96
A8: 6 | B8: 14.76 | C8: 14.48 | D8: 14.06 | E8: 15.18 | F8: 14.86 | G8: 14.54 | H8: 15.24 | I8: 13.4 | J8: 12.88 | K8: 14.18
A9: 7 | B9: 14.46 | C9: 14.44 | D9: 14.66 | E9: 14.45 | F9: 14.34 | G9: 14.96 | H9: 15.04 | I9: 13.44 | J9: 13.06 | K9: 14.22
A10: 8 | B10: 14.76 | C10: 15.28 | D10: 15.1 | E10: 13.32 | F10: 14.34 | G10: 14.68 | H10: 14.76 | I10: 13.18 | J10: 13.68 | K10: 14.34
A11: 9 | B11: 15.32 | C11: 14.94 | D11: 15.22 | E11: 14.6 | F11: 14.44 | G11: 14.76 | H11: 14.74 | I11: 12.08 | J11: 13.9 | K11: 14.36
A12: 10 | B12: 14.56 | C12: 14.64 | D12: 15.36 | E12: 14.86 | F12: 15.06 | G12: 14.32 | H12: 14.34 | I12: 13.64 | J12: 13.48 | K12: 14.62
I14: TỔNG | K14: =+SUM(B3:K12) -> 1435.19
A15: XE 2
B16: 1 | C16: 2 | D16: 3 | E16: 4 | F16: 5 | G16: 6 | H16: 7 | I16: 8 | J16: 9 | K16: 10
A17: 1 | B17: 14.6 | C17: 14.84 | D17: 14.74 | E17: 14.08 | F17: 15.1 | G17: 13.5 | H17: 14.82 | I17: 15.24 | J17: 14.62 | K17: 14.98
A18: 2 | B18: 14.56 | C18: 14.54 | D18: 14.78 | E18: 14.92 | F18: 15.94 | G18: 13.58 | H18: 15.1 | I18: 13.64 | J18: 14.84 | K18: 14.66
A19: 3 | B19: 14.64 | C19: 14.8 | D19: 14.26 | E19: 14.6 | F19: 15.38 | G19: 14.36 | H19: 15.12 | I19: 14.2 | J19: 14.64 | K19: 14.16
A20: 4 | B20: 17.02 | C20: 14.66 | D20: 14.22 | E20: 14.24 | F20: 17.52 | G20: 15.26 | H20: 14.62 | I20: 14.7 | J20: 15.22 | K20: 13.66
A21: 5 | B21: 14.76 | C21: 14.72 | D21: 14.18 | E21: 14.7 | F21: 15.22 | G21: 14.68 | H21: 15.44 | I21: 14.3 | J21: 14.86 | K21: 13.86
A22: 6 | B22: 14.66 | C22: 14.52 | D22: 14.52 | E22: 14.32 | F22: 15.18 | G22: 14.64 | H22: 14.04 | I22: 14.52 | J22: 14.18 | K22: 15.32
A23: 7 | B23: 14.18 | C23: 14.84 | D23: 14.4 | E23: 14.72 | F23: 14.44 | G23: 15.26 | H23: 15.7 | I23: 14.6 | J23: 14.88 | K23: 14.34
A24: 8 | B24: 15.18 | C24: 14.4 | D24: 14.84 | E24: 14.6 | F24: 14.98 | G24: 15.38 | H24: 15.38 | I24: 14.5 | J24: 14.68 | K24: 14.88
A25: 9 | B25: 13.9 | C25: 14.4 | D25: 14.84 | E25: 13.44 | F25: 14.02 | G25: 14.52 | H25: 13.88 | I25: 14.48 | J25: 14.8 | K25: 14.86
A26: 10 | B26: 14.48 | C26: 15.38 | D26: 13.9 | E26: 14.84 | F26: 14.28 | G26: 14.82 | H26: 14.84 | I26: 15.12 | J26: 14.64 | K26: 14.28
A27: 11
I29: TỔNG | K29: =+SUM(B17:K27) -> 1468.88
A30: XE 3
B31: 1 | C31: 2 | D31: 3 | E31: 4 | F31: 5 | G31: 6 | H31: 7 | I31: 8 | J31: 9 | K31: 10
A32: 1
A33: 2
A34: 3
A35: 4
A36: 5
A37: 6
A38: 7
A39: 8
A40: 9
A41: 10
I43: TỔNG | K43: =+SUM(B32:K41) -> 0

Sheet NGAY 29-12
A1: XE 1
B2: 1 | C2: 2 | D2: 3 | E2: 4 | F2: 5 | G2: 6 | H2: 7 | I2: 8 | J2: 9 | K2: 10
A3: 1 | B3: 14.18 | C3: 14.72 | D3: 13.04 | E3: 13.38 | F3: 12.54 | G3: 14.18 | H3: 14.52 | I3: 14.94 | J3: 14.52 | K3: 14.9
A4: 2 | B4: 14.34 | C4: 13.98 | D4: 14.96 | E4: 12.8 | F4: 12.84 | G4: 13.8 | H4: 14.88 | I4: 15 | J4: 14.36 | K4: 14.68
A5: 3 | B5: 14.4 | C5: 15.06 | D5: 13.48 | E5: 13.84 | F5: 14.14 | G5: 14.24 | H5: 14.44 | I5: 14.88 | J5: 14.62 | K5: 14.74
A6: 4 | B6: 13.86 | C6: 13.54 | D6: 13.64 | E6: 13.08 | F6: 13.52 | G6: 14.2 | H6: 15.7 | I6: 14.48 | J6: 15.2 | K6: 14.3
A7: 5 | B7: 17.5 | C7: 14.8 | D7: 12.66 | E7: 14.04 | F7: 12.7 | G7: 14.94 | H7: 15.22 | I7: 14.44 | J7: 14.38 | K7: 14.4
A8: 6 | B8: 14.18 | C8: 14.46 | D8: 14.5 | E8: 13.12 | F8: 13.94 | G8: 14.52 | H8: 14.58 | I8: 14.32 | J8: 15.14 | K8: 14.34
A9: 7 | B9: 14.72 | C9: 15.06 | D9: 14.6 | E9: 12.32 | F9: 12.48 | G9: 15 | H9: 14.44 | I9: 14.48 | J9: 15.02 | K9: 14.38
A10: 8 | B10: 14.82 | C10: 13.84 | D10: 14.4 | E10: 12.82 | F10: 13.76 | G10: 14.26 | H10: 14.48 | I10: 14.7 | J10: 14.24 | K10: 13.9
A11: 9 | B11: 14.42 | C11: 12.74 | D11: 12.04 | E11: 13.78 | F11: 13.38 | G11: 14.38 | H11: 14.44 | I11: 14.18 | J11: 14.78 | K11: 13.76
A12: 10 | B12: 14.52 | C12: 14.72 | D12: 12.82 | E12: 13.92 | F12: 14.12 | G12: 15.42 | H12: 13.98 | I12: 14.3 | J12: 14.34 | K12: 14.62
I14: TỔNG | K14: =+SUM(B3:K12) -> 1420.48
A15: XE 2
B16: 1 | C16: 2 | D16: 3 | E16: 4 | F16: 5 | G16: 6 | H16: 7 | I16: 8 | J16: 9 | K16: 10
A17: 1 | B17: 14.42 | C17: 14.58 | D17: 14.64 | E17: 14.36 | F17: 14.52 | G17: 14.4 | H17: 15.16 | I17: 14.5 | J17: 14.6 | K17: 14.32
A18: 2 | B18: 14.3 | C18: 14.62 | D18: 14.36 | E18: 15.22 | F18: 15.42 | G18: 14.3 | H18: 14.12 | I18: 14.36 | J18: 14.94 | K18: 14.08
A19: 3 | B19: 14.1 | C19: 14.6 | D19: 14.46 | E19: 14.22 | F19: 14.08 | G19: 14 | H19: 15.04 | I19: 13.9 | J19: 14.5 | K19: 14.94
A20: 4 | B20: 14.28 | C20: 14.4 | D20: 14.1 | E20: 14.54 | F20: 14.04 | G20: 14.34 | H20: 14.5 | I20: 15.18 | J20: 14.82 | K20: 14.58
A21: 5 | B21: 14.16 | C21: 14.86 | D21: 14.24 | E21: 14.96 | F21: 14.8 | G21: 15.08 | H21: 14.84 | I21: 14.56 | J21: 14.14 | K21: 13.9
A22: 6 | B22: 14.7 | C22: 14.5 | D22: 14.14 | E22: 14.24 | F22: 14.8 | G22: 14.28 | H22: 14.86 | I22: 14.4 | J22: 14.02 | K22: 14.88
A23: 7 | B23: 14.86 | C23: 13.72 | D23: 13.82 | E23: 14.6 | F23: 14.68 | G23: 13.86 | H23: 14.7 | I23: 14.84 | J23: 14.5 | K23: 14.34
A24: 8 | B24: 15.06 | C24: 14.74 | D24: 14.02 | E24: 14.54 | F24: 14.48 | G24: 15.04 | H24: 13.48 | I24: 15.06 | J24: 14.6 | K24: 14.14
A25: 9 | B25: 14.54 | C25: 14.34 | D25: 14.42 | E25: 14.5 | F25: 15 | G25: 13.88 | H25: 14.24 | I25: 14.76 | J25: 14.74 | K25: 14.16
A26: 10 | B26: 13.46 | C26: 14.38 | D26: 14.9 | E26: 14.48 | F26: 13.64 | G26: 14.92 | H26: 14.7 | I26: 14.22 | J26: 14.72 | K26: 14.72
A27: 11
I29: TỔNG | K29: =+SUM(B17:K27) -> 1448
A30: XE 3
B31: 1 | C31: 2 | D31: 3 | E31: 4 | F31: 5 | G31: 6 | H31: 7 | I31: 8 | J31: 9 | K31: 10
A32: 1
A33: 2
A34: 3
A35: 4
A36: 5
A37: 6
A38: 7
A39: 8
A40: 9
A41: 10
I43: TỔNG | K43: =+SUM(B32:K41) -> 0

Sheet NGAY 31-12
A1: XE 1 - GÀ
B2: 1 | C2: 2 | D2: 3 | E2: 4 | F2: 5 | G2: 6 | H2: 7 | I2: 8 | J2: 9 | K2: 10
A3: 1 | B3: 25.4 | C3: 24.76 | D3: 24.34 | E3: 25.68 | F3: 24.16
A4: 2 | B4: 24.18 | C4: 26.2 | D4: 24.42 | E4: 25.8 | F4: 25.24
A5: 3 | B5: 24.38 | C5: 24.42 | D5: 24.38 | E5: 24.44 | F5: 24.24
A6: 4 | B6: 23.24 | C6: 24.1 | D6: 24.08 | E6: 24.8 | F6: 23.9
A7: 5 | B7: 24.88 | C7: 23.38 | D7: 24.44 | E7: 24.28 | F7: 25.24
A8: 6 | B8: 25.98 | C8: 24.46 | D8: 24.72 | E8: 24.32 | F8: 24.76
A9: 7 | B9: 23.8 | C9: 24.42 | D9: 25.4 | E9: 24.33 | F9: 24.54
A10: 8 | B10: 23.66 | C10: 24.4 | D10: 25 | E10: 24.48 | F10: 24.26
A11: 9 | B11: 24.32 | C11: 24.22 | D11: 24.26 | E11: 24.56 | F11: 24.54
A12: 10 | B12: 23.28 | C12: 25.28 | D12: 24.4 | E12: 24.5 | F12: 24.4
I14: TỔNG | K14: =+SUM(B3:K12) -> 1226.67
A15: XE 2 - Mỡ
B16: 1 | C16: 2 | D16: 3 | E16: 4 | F16: 5 | G16: 6 | H16: 7 | I16: 8 | J16: 9 | K16: 10
A17: 1
A18: 2
A19: 3
A20: 4
A21: 5
A22: 6
A23: 7
A24: 8
A25: 9
A26: 10
A27: 11
I29: TỔNG | K29: =+SUM(B17:K27) -> 0
A30: XE 3
B31: 1 | C31: 2 | D31: 3 | E31: 4 | F31: 5 | G31: 6 | H31: 7 | I31: 8 | J31: 9 | K31: 10
A32: 1
A33: 2
A34: 3
A35: 4
A36: 5
A37: 6
A38: 7
A39: 8
A40: 9
A41: 10
I43: TỔNG | K43: =+SUM(B32:K41) -> 0

Sheet NGAY 02-01
A1: XE 1 - GÀ
B2: 1 | C2: 2 | D2: 3 | E2: 4 | F2: 5 | G2: 6 | H2: 7 | I2: 8 | J2: 9 | K2: 10
A3: 1 | B3: 14.56 | C3: 13.88 | D3: 15.32 | E3: 14.08 | F3: 13.1 | G3: 11.64 | H3: 13.48 | I3: 15.08 | J3: 13.5 | K3: 14.72
A4: 2 | B4: 14.96 | C4: 15.3 | D4: 13.84 | E4: 14.6 | F4: 13.56 | G4: 13.1 | H4: 13.66 | I4: 12 | J4: 15.08 | K4: 14.52
A5: 3 | B5: 14 | C5: 14.66 | D5: 13.98 | E5: 13 | F5: 13.94 | G5: 13.54 | H5: 13.78 | I5: 15.3 | J5: 15.16 | K5: 14.08
A6: 4 | B6: 15.12 | C6: 14.24 | D6: 14.52 | E6: 14.5 | F6: 13.5 | G6: 13.48 | H6: 12.86 | I6: 15.3 | J6: 14.74 | K6: 14.8
A7: 5 | B7: 14.26 | C7: 14.56 | D7: 14.74 | E7: 13.8 | F7: 13.38 | G7: 13.54 | H7: 13.46 | I7: 14.9 | J7: 14.4 | K7: 14.36
A8: 6 | B8: 14.4 | C8: 14.28 | D8: 14.44 | E8: 13.64 | F8: 12.14 | G8: 12.98 | H8: 12.16 | I8: 15.2 | J8: 15.28 | K8: 15.28
A9: 7 | B9: 14.16 | C9: 15.78 | D9: 14.74 | E9: 13.5 | F9: 13.68 | G9: 13.3 | H9: 13.71 | I9: 14.22 | J9: 14.04 | K9: 14.78
A10: 8 | B10: 14.24 | C10: 15.08 | D10: 14.86 | E10: 12.56 | F10: 13.36 | G10: 13.54 | H10: 13.22 | I10: 14.04 | J10: 14.78 | K10: 14.92
A11: 9 | B11: 15.36 | C11: 14.66 | D11: 15.08 | E11: 11.92 | F11: 13.66 | G11: 13.42 | H11: 12.34 | I11: 15 | J11: 14.24 | K11: 14.32
A12: 10 | B12: 14.68 | C12: 14.74 | D12: 15.02 | E12: 13.02 | F12: 13.12 | G12: 13.82 | H12: 14.46 | I12: 15.48 | J12: 14.34 | K12: 14.6
I14: TỔNG | K14: =+SUM(B3:K12) -> 1411.47
A15: XE 2 - Gà Nhỏ
B16: 1 | C16: 2 | D16: 3 | E16: 4 | F16: 5 | G16: 6 | H16: 7 | I16: 8 | J16: 9 | K16: 10
A17: 1 | B17: 14.2 | C17: 14 | D17: 13.4 | E17: 14.2 | F17: 13.8
A18: 2 | B18: 14.1 | C18: 14.1 | D18: 14.3 | E18: 13.5 | F18: 13.9
A19: 3 | B19: 13.7 | C19: 13.6 | D19: 13.4 | E19: 14 | F19: 14.4
A20: 4 | B20: 13.5 | C20: 13.5 | D20: 13.7 | E20: 13.9 | F20: 13.9
A21: 5 | B21: 13.3 | C21: 13.6 | D21: 15.4 | E21: 13.9 | F21: 14
A22: 6 | B22: 13.7 | C22: 13.8 | D22: 13.3 | E22: 14 | F22: 13.8
A23: 7 | B23: 13.4 | C23: 13.6 | D23: 13.8 | E23: 13.7
A24: 8 | B24: 13.2 | C24: 13.9 | D24: 13.8 | E24: 14.1
A25: 9 | B25: 13.8 | C25: 14 | D25: 14 | E25: 13.8
A26: 10 | B26: 15 | C26: 13.5 | D26: 13.7 | E26: 14
A27: 11 | B27: 13.4 | C27: 13.5 | D27: 14.5 | E27: 13.8
I29: TỔNG | K29: =+SUM(B17:K27) -> 692.4
A30: XE 3
B31: 1 | C31: 2 | D31: 3 | E31: 4 | F31: 5 | G31: 6 | H31: 7 | I31: 8 | J31: 9 | K31: 10
A32: 1 | B32: 14.74 | C32: 13.84 | D32: 15.28 | E32: 16.34 | F32: 14.48 | G32: 14.78 | H32: 15.12 | I32: 13.76 | J32: 13.1 | K32: 13.8
A33: 2 | B33: 15.04 | C33: 14.82 | D33: 14.62 | E33: 15.54 | F33: 14.54 | G33: 14.76 | H33: 14.9 | I33: 12.18 | J33: 12.76 | K33: 12.3
A34: 3 | B34: 14.22 | C34: 15.08 | D34: 14.4 | E34: 16.36 | F34: 14.82 | G34: 14.94 | H34: 14.54 | I34: 13.64 | J34: 13.1 | K34: 13.66
A35: 4 | B35: 14.38 | C35: 14.64 | D35: 15.1 | E35: 15.94 | F35: 14.36 | G35: 14.5 | H35: 13.72 | I35: 13.64 | J35: 13.76 | K35: 15.66
A36: 5 | B36: 13.36 | C36: 14.48 | D36: 15.4 | E36: 16.18 | F36: 14.78 | G36: 15 | H36: 14.48 | I36: 13.22 | J36: 13.62 | K36: 12.46
A37: 6 | B37: 13.68 | C37: 14.04 | D37: 14.28 | E37: 13.72 | F37: 14.24 | G37: 14.56 | H37: 14.68 | I37: 13.32 | J37: 13.3 | K37: 12.42
A38: 7 | B38: 13.76 | C38: 14.58 | D38: 15.88 | E38: 14.3 | F38: 14.66 | G38: 14.94 | H38: 14.56 | I38: 13.6 | J38: 13.56 | K38: 13.3
A39: 8 | B39: 14.92 | C39: 14.76 | D39: 14.8 | E39: 14.48 | F39: 14.66 | G39: 14.82 | H39: 14.2 | I39: 13.58 | J39: 12.74 | K39: 12.8
A40: 9 | B40: 14.4 | C40: 14.82 | D40: 15.58 | E40: 14.58 | F40: 14.52 | G40: 13.62 | H40: 15.08 | I40: 13.7 | J40: 12.38 | K40: 13.2
A41: 10 | B41: 14.22 | C41: 14.92 | D41: 16.82 | E41: 15 | F41: 14.64 | G41: 14.7 | H41: 15 | I41: 13.52 | J41: 13.1 | K41: 13.6
I43: TỔNG | K43: =+SUM(B32:K41) -> 1430.68

Sheet NGAY 05-01
A1: XE 1 - GÀ
B2: 1 | C2: 2 | D2: 3 | E2: 4 | F2: 5 | G2: 6 | H2: 7 | I2: 8 | J2: 9 | K2: 10
A3: 1 | B3: 14.98 | C3: 14.3 | D3: 14.16 | E3: 14.82 | F3: 16.7 | G3: 15.42 | H3: 14.38 | I3: 14.72 | J3: 14.6 | K3: 13.74
A4: 2 | B4: 14.1 | C4: 14.34 | D4: 14.02 | E4: 14.72 | F4: 15.82 | G4: 14.14 | H4: 14.78 | I4: 15.58 | J4: 14.58 | K4: 14.68
A5: 3 | B5: 14.86 | C5: 14.34 | D5: 14.9 | E5: 14.3 | F5: 16.9 | G5: 14.54 | H5: 14.8 | I5: 15.16 | J5: 14.14 | K5: 14.36
A6: 4 | B6: 13.76 | C6: 14.34 | D6: 14.66 | E6: 14.86 | F6: 15.26 | G6: 14.4 | H6: 14.88 | I6: 16.26 | J6: 14.32 | K6: 15.04
A7: 5 | B7: 14.56 | C7: 13.96 | D7: 14.96 | E7: 14.44 | F7: 16.34 | G7: 14.1 | H7: 15.82 | I7: 14.82 | J7: 14.94 | K7: 14.48
A8: 6 | B8: 14.76 | C8: 13.64 | D8: 14.54 | E8: 15.78 | F8: 16.28 | G8: 14.8 | H8: 14.4 | I8: 15.42 | J8: 14.36 | K8: 13.96
A9: 7 | B9: 14.62 | C9: 14.54 | D9: 14.58 | E9: 14.1 | F9: 15.86 | G9: 16.36 | H9: 14.86 | I9: 14.48 | J9: 14.52 | K9: 14.78
A10: 8 | B10: 14.82 | C10: 14.24 | D10: 14.98 | E10: 14.56 | F10: 14.6 | G10: 14.44 | H10: 14.58 | I10: 14.62 | J10: 13.98 | K10: 14.36
A11: 9 | B11: 13.8 | C11: 14.48 | D11: 14.94 | E11: 16.08 | F11: 16.34 | G11: 14.28 | H11: 15 | I11: 15.3 | J11: 14.14 | K11: 13.86
A12: 10 | B12: 14.72 | C12: 14.66 | D12: 14.78 | E12: 15.66 | F12: 14.18 | G12: 15.06 | H12: 16.06 | I12: 14.26 | J12: 15.02 | K12: 14.26
I14: TỔNG | K14: =+SUM(B3:K12) -> 1477.78
A15: XE 2
B16: 1 | C16: 2 | D16: 3 | E16: 4 | F16: 5 | G16: 6 | H16: 7 | I16: 8 | J16: 9 | K16: 10
A17: 1 | B17: 14.38 | C17: 14.78 | D17: 13.94 | E17: 13.98 | F17: 14.44 | G17: 14.18 | H17: 14.62 | I17: 14.98 | J17: 12.96 | K17: 12.54
A18: 2 | B18: 14.24 | C18: 14.96 | D18: 14.56 | E18: 14.38 | F18: 14.02 | G18: 14.46 | H18: 14.62 | I18: 14.8 | J18: 14.92 | K18: 15.22
A19: 3 | B19: 14.94 | C19: 14.14 | D19: 14.68 | E19: 15 | F19: 13.36 | G19: 14.5 | H19: 14.3 | I19: 15 | J19: 14.88 | K19: 14.4
A20: 4 | B20: 13.9 | C20: 14.34 | D20: 14.22 | E20: 14.66 | F20: 14.6 | G20: 14.3 | H20: 14.72 | I20: 14.02 | J20: 14.86 | K20: 14.76
A21: 5 | B21: 14.7 | C21: 14.72 | D21: 14.66 | E21: 13.94 | F21: 13.92 | G21: 14.4 | H21: 14.72 | I21: 14.96 | J21: 14.94 | K21: 14.8
A22: 6 | B22: 14.66 | C22: 15.08 | D22: 15.06 | E22: 14.76 | F22: 14.86 | G22: 14.18 | H22: 15.58 | I22: 15.5 | J22: 14.62 | K22: 12.5
A23: 7 | B23: 14.5 | C23: 13.98 | D23: 14.52 | E23: 14.56 | F23: 13.8 | G23: 14.48 | H23: 14.86 | I23: 15.3 | J23: 14.58 | K23: 14.82
A24: 8 | B24: 16.18 | C24: 14.66 | D24: 14.52 | E24: 15.4 | F24: 13.96 | G24: 14.7 | H24: 14.98 | I24: 13.82 | J24: 14.94 | K24: 15.12
A25: 9 | B25: 14.36 | C25: 16.08 | D25: 14.28 | E25: 14.4 | F25: 13.76 | G25: 13.82 | H25: 15.48 | I25: 14.98 | J25: 14.7 | K25: 15.32
A26: 10 | B26: 16.06 | C26: 14.2 | D26: 15.48 | E26: 14.32 | F26: 15.02 | G26: 14.5 | H26: 14.9 | I26: 12 | J26: 13.68 | K26: 13.96
A27: 11
I29: TỔNG | K29: =+SUM(B17:K27) -> 1454.1
A30: XE 3
B31: 1 | C31: 2 | D31: 3 | E31: 4 | F31: 5 | G31: 6 | H31: 7 | I31: 8 | J31: 9 | K31: 10
A32: 1
A33: 2
A34: 3
A35: 4
A36: 5
A37: 6
A38: 7
A39: 8
A40: 9
A41: 10
I43: TỔNG | K43: =+SUM(B32:K41) -> 0

Sheet NGAY 06-01
A1: XE 1 - GÀ
B2: 1 | C2: 2 | D2: 3 | E2: 4 | F2: 5 | G2: 6 | H2: 7 | I2: 8 | J2: 9 | K2: 10
A3: 1 | B3: 14.82 | C3: 15.5 | D3: 14.44 | E3: 14.6 | F3: 14.76 | G3: 15.24 | H3: 14.82 | I3: 15.32 | J3: 14.82 | K3: 15.22
A4: 2 | B4: 15.12 | C4: 12.8 | D4: 14.48 | E4: 14.72 | F4: 15.42 | G4: 15.16 | H4: 15.5 | I4: 14.74 | J4: 15.22 | K4: 15
A5: 3 | B5: 15.02 | C5: 14.68 | D5: 14.68 | E5: 14.98 | F5: 14.74 | G5: 15.4 | H5: 15.3 | I5: 15.24 | J5: 15.02 | K5: 14.86
A6: 4 | B6: 15.96 | C6: 15 | D6: 14.86 | E6: 15.24 | F6: 14.66 | G6: 14.52 | H6: 16.62 | I6: 14.92 | J6: 14.74 | K6: 14.72
A7: 5 | B7: 14 | C7: 14.62 | D7: 14.94 | E7: 15.14 | F7: 14.68 | G7: 14.82 | H7: 15.28 | I7: 14.86 | J7: 15.24 | K7: 14.92
A8: 6 | B8: 15.56 | C8: 14.78 | D8: 15 | E8: 14.24 | F8: 15.34 | G8: 15.36 | H8: 15.24 | I8: 14.38 | J8: 15.3 | K8: 15.46
A9: 7 | B9: 15.7 | C9: 14.66 | D9: 14.94 | E9: 15.3 | F9: 14.5 | G9: 15.18 | H9: 14.3 | I9: 15.1 | J9: 14.96 | K9: 15.38
A10: 8 | B10: 14.74 | C10: 14.78 | D10: 14.44 | E10: 15.38 | F10: 15.26 | G10: 15.36 | H10: 14.5 | I10: 15.12 | J10: 14.92 | K10: 15.02
A11: 9 | B11: 15 | C11: 15.02 | D11: 15.02 | E11: 15.14 | F11: 15.62 | G11: 15.34 | H11: 14.98 | I11: 15.3 | J11: 14.48 | K11: 14.46
A12: 10 | B12: 14.48 | C12: 14.04 | D12: 14.64 | E12: 15.36 | F12: 14.64 | G12: 14.6 | H12: 15.3 | I12: 15.34 | J12: 15.22 | K12: 15.16
I14: TỔNG | K14: =+SUM(B3:K12) -> 1496.7
A15: XE 2 - Mỡ
B16: 1 | C16: 2 | D16: 3 | E16: 4 | F16: 5 | G16: 6 | H16: 7 | I16: 8 | J16: 9 | K16: 10
A17: 1
A18: 2
A19: 3
A20: 4
A21: 5
A22: 6
A23: 7
A24: 8
A25: 9
A26: 10
A27: 11
I29: TỔNG | K29: =+SUM(B17:K27) -> 0
A30: XE 3
B31: 1 | C31: 2 | D31: 3 | E31: 4 | F31: 5 | G31: 6 | H31: 7 | I31: 8 | J31: 9 | K31: 10
A32: 1 | B32: 14.76 | C32: 14.92 | D32: 14.98 | E32: 12.21 | F32: 15.2 | G32: 15.12 | H32: 15.02 | I32: 15.02 | J32: 15.52 | K32: 13.14
A33: 2 | B33: 14.74 | C33: 15.28 | D33: 15.24 | E33: 15.46 | F33: 15.02 | G33: 16 | H33: 15.36 | I33: 15.24 | J33: 15.241 | K33: 13.3
A34: 3 | B34: 14.8 | C34: 14.74 | D34: 15.08 | E34: 14.68 | F34: 15.26 | G34: 14.52 | H34: 15.14 | I34: 15.44 | J34: 13.36 | K34: 15.16
A35: 4 | B35: 14.82 | C35: 14.88 | D35: 15.34 | E35: 15.02 | F35: 14.58 | G35: 14.7 | H35: 15.42 | I35: 14.94 | J35: 14.94 | K35: 12.32
A36: 5 | B36: 14.86 | C36: 15.28 | D36: 14.04 | E36: 14.04 | F36: 15.04 | G36: 14.66 | H36: 14.48 | I36: 15.36 | J36: 14.6 | K36: 12.74
A37: 6 | B37: 15.22 | C37: 16.02 | D37: 14.98 | E37: 15.04 | F37: 14.84 | G37: 15.42 | H37: 15.3 | I37: 15.12 | J37: 13.02 | K37: 12.64
A38: 7 | B38: 15.18 | C38: 15.22 | D38: 14.66 | E38: 14.08 | F38: 14.9 | G38: 15.04 | H38: 14.9 | I38: 15.22 | J38: 12.92 | K38: 14.68
A39: 8 | B39: 15.14 | C39: 14.42 | D39: 15.16 | E39: 15.36 | F39: 15.5 | G39: 15.26 | H39: 14.68 | I39: 15.2 | J39: 12.88 | K39: 13.24
A40: 9 | B40: 15 | C40: 15.22 | D40: 14.44 | E40: 14.04 | F40: 15.28 | G40: 15.32 | H40: 15.12 | I40: 14.88 | J40: 14.94 | K40: 13.24
A41: 10 | B41: 14.9 | C41: 15.24 | D41: 14.78 | E41: 14.98 | F41: 15.4 | G41: 15.48 | H41: 14.94 | I41: 15 | J41: 14.76 | K41: 12.72
I43: TỔNG | K43: =+SUM(B32:K41) -> 1473.931

Sheet NGAY 07-01
A1: XE 1 - GÀ
B2: 1 | C2: 2 | D2: 3 | E2: 4 | F2: 5 | G2: 6 | H2: 7 | I2: 8 | J2: 9 | K2: 10
A3: 1 | B3: 16.46 | C3: 15.04 | D3: 14.76 | E3: 13.66 | F3: 13.14 | G3: 13.16 | H3: 15.58 | I3: 15.52 | J3: 14.1 | K3: 15.22
A4: 2 | B4: 15.82 | C4: 16.52 | D4: 14.54 | E4: 14.18 | F4: 12.42 | G4: 12.22 | H4: 15.12 | I4: 14.82 | J4: 15 | K4: 13.58
A5: 3 | B5: 15.26 | C5: 14.36 | D5: 15.48 | E5: 13.42 | F5: 12.24 | G5: 12.94 | H5: 14.76 | I5: 14.9 | J5: 15.46 | K5: 14.84
A6: 4 | B6: 15.22 | C6: 15.32 | D6: 13.74 | E6: 13.9 | F6: 13.26 | G6: 14.78 | H6: 15.06 | I6: 14.18 | J6: 15.38 | K6: 14.86
A7: 5 | B7: 13.76 | C7: 14.92 | D7: 15.36 | E7: 14.82 | F7: 12.58 | G7: 15.34 | H7: 14.46 | I7: 14.9 | J7: 14.76 | K7: 14.96
A8: 6 | B8: 14.3 | C8: 15 | D8: 15.14 | E8: 13 | F8: 12.46 | G8: 15.04 | H8: 15.5 | I8: 15.06 | J8: 14.24 | K8: 15.48
A9: 7 | B9: 14.52 | C9: 13.78 | D9: 14.16 | E9: 13.02 | F9: 12.48 | G9: 15.22 | H9: 15.32 | I9: 14.48 | J9: 14.74 | K9: 14.14
A10: 8 | B10: 14.36 | C10: 13.86 | D10: 13.32 | E10: 12.72 | F10: 12.1 | G10: 14.72 | H10: 13.9 | I10: 14.7 | J10: 14.58 | K10: 15.2
A11: 9 | B11: 15.38 | C11: 14.14 | D11: 15.3 | E11: 11.9 | F11: 12.3 | G11: 15.44 | H11: 14.92 | I11: 14.96 | J11: 15.2 | K11: 14.14
A12: 10 | B12: 15.4 | C12: 13.68 | D12: 14.26 | E12: 11.54 | F12: 12.42 | G12: 13.9 | H12: 15.44 | I12: 15.08 | J12: 15.04 | K12: 15.42
I14: TỔNG | K14: =+SUM(B3:K12) -> 1438.48
A15: XE 2 - Mỡ
B16: 1 | C16: 2 | D16: 3 | E16: 4 | F16: 5 | G16: 6 | H16: 7 | I16: 8 | J16: 9 | K16: 10
A17: 1 | B17: 24.4 | C17: 24.76 | D17: 24.16 | E17: 24.34 | F17: 24.34
A18: 2 | B18: 23.36 | C18: 26.2 | D18: 25.24 | E18: 24.42 | F18: 24.42
A19: 3 | B19: 25.24 | C19: 24.42 | D19: 23.9 | E19: 24.38 | F19: 24.44
A20: 4 | B20: 25.4 | C20: 24.8 | D20: 25.24 | E20: 24.08 | F20: 23.38
A21: 5 | B21: 24.4 | C21: 24.32 | D21: 24.76 | E21: 24.44 | F21: 23.28
A22: 6 | B22: 23.66 | C22: 24.28 | D22: 24.54 | E22: 24.72 | F22: 25.98
A23: 7 | B23: 24.32 | C23: 24.33 | D23: 24.4 | E23: 25.4 | F23: 23.9
A24: 8 | B24: 25.4 | C24: 24.48 | D24: 24.32 | E24: 24.26 | F24: 24.54
A25: 9 | B25: 24.88 | C25: 24.56 | D25: 24.56 | E25: 24.22 | F25: 24.4
A26: 10 | B26: 24.32 | C26: 24.5 | D26: 24.5 | E26: 25.28 | F26: 25.4
A27: 11
I29: TỔNG | K29: =+SUM(B17:K27) -> 1227.27
A30: XE 3
B31: 1 | C31: 2 | D31: 3 | E31: 4 | F31: 5 | G31: 6 | H31: 7 | I31: 8 | J31: 9 | K31: 10
A32: 1
A33: 2
A34: 3
A35: 4
A36: 5
A37: 6
A38: 7
A39: 8
A40: 9
A41: 10
I43: TỔNG | K43: =+SUM(B32:K41) -> 0

Sheet NGAY 09-01
A1: XE 1 - GÀ
B2: 1 | C2: 2 | D2: 3 | E2: 4 | F2: 5 | G2: 6 | H2: 7 | I2: 8 | J2: 9 | K2: 10
A3: 1 | B3: 15.36 | C3: 15.22 | D3: 15.38 | E3: 15 | F3: 12.92 | G3: 13.24 | H3: 14.84 | I3: 15.38 | J3: 12.5 | K3: 12.64
A4: 2 | B4: 15.84 | C4: 14.9 | D4: 14.8 | E4: 15.22 | F4: 14.72 | G4: 13.7 | H4: 13.8 | I4: 12.22 | J4: 13.02 | K4: 12.96
A5: 3 | B5: 15.36 | C5: 15.18 | D5: 15.32 | E5: 14.56 | F5: 14.86 | G5: 13.24 | H5: 12.78 | I5: 12.24 | J5: 12.68 | K5: 12.82
A6: 4 | B6: 15.2 | C6: 14.56 | D6: 15.36 | E6: 15.2 | F6: 13.1 | G6: 13.08 | H6: 14.44 | I6: 12.72 | J6: 12.7 | K6: 14.46
A7: 5 | B7: 14.18 | C7: 15 | D7: 15.2 | E7: 15.08 | F7: 15.46 | G7: 13.24 | H7: 15 | I7: 12.5 | J7: 12.34 | K7: 15.2
A8: 6 | B8: 15.08 | C8: 14.6 | D8: 14.98 | E8: 15.3 | F8: 12.4 | G8: 13.24 | H8: 15.2 | I8: 13 | J8: 13.38 | K8: 15.02
A9: 7 | B9: 14.98 | C9: 15.3 | D9: 15.3 | E9: 15.24 | F9: 15.84 | G9: 14.24 | H9: 14.6 | I9: 12.86 | J9: 12.4 | K9: 14.68
A10: 8 | B10: 14.66 | C10: 15.5 | D10: 14.4 | E10: 15.32 | F10: 15.46 | G10: 14.56 | H10: 12.62 | I10: 12.96 | J10: 13.3 | K10: 15.12
A11: 9 | B11: 15.56 | C11: 14.3 | D11: 15.22 | E11: 15.14 | F11: 12.96 | G11: 14.86 | H11: 14.26 | I11: 13.04 | J11: 12.48 | K11: 14.78
A12: 10 | B12: 14.84 | C12: 15.08 | D12: 14.62 | E12: 14.94 | F12: 12.42 | G12: 14.9 | H12: 12.68 | I12: 12.54 | J12: 13.24 | K12: 15.34
I14: TỔNG | K14: =+SUM(B3:K12) -> 1421.46
A15: XE 2 - Mỡ
B16: 1 | C16: 2 | D16: 3 | E16: 4 | F16: 5 | G16: 6 | H16: 7 | I16: 8 | J16: 9 | K16: 10
A17: 1
A18: 2
A19: 3
A20: 4
A21: 5
A22: 6
A23: 7
A24: 8
A25: 9
A26: 10
A27: 11
I29: TỔNG | K29: =+SUM(B17:K27) -> 0
A30: XE 3
B31: 1 | C31: 2 | D31: 3 | E31: 4 | F31: 5 | G31: 6 | H31: 7 | I31: 8 | J31: 9 | K31: 10
A32: 1
A33: 2
A34: 3
A35: 4
A36: 5
A37: 6
A38: 7
A39: 8
A40: 9
A41: 10
I43: TỔNG | K43: =+SUM(B32:K41) -> 0

Sheet NGAY 10-01
A1: XE 1 - GÀ
B2: 1 | C2: 2 | D2: 3 | E2: 4 | F2: 5 | G2: 6 | H2: 7 | I2: 8 | J2: 9 | K2: 10
A3: 1 | B3: 15.78 | C3: 16.12 | D3: 16.28 | E3: 15.14 | F3: 15.12 | G3: 15.32 | H3: 14.92 | I3: 15.06 | J3: 14.66 | K3: 14.08
A4: 2 | B4: 16.7 | C4: 16 | D4: 15.84 | E4: 15.68 | F4: 15.4 | G4: 15.14 | H4: 15.366 | I4: 15.52 | J4: 15.18 | K4: 14.8
A5: 3 | B5: 16.2 | C5: 15.68 | D5: 16.24 | E5: 15.7 | F5: 14.86 | G5: 15.42 | H5: 15.64 | I5: 15.38 | J5: 14.52 | K5: 14.58
A6: 4 | B6: 15.72 | C6: 15.2 | D6: 14.44 | E6: 16.28 | F6: 15.82 | G6: 16.02 | H6: 15.3 | I6: 14.58 | J6: 14.98 | K6: 15
A7: 5 | B7: 15.7 | C7: 15.88 | D7: 15.28 | E7: 15.24 | F7: 15.1 | G7: 15 | H7: 16.22 | I7: 14.6 | J7: 14.26 | K7: 15.38
A8: 6 | B8: 15.96 | C8: 17.36 | D8: 15.66 | E8: 16.72 | F8: 14.82 | G8: 15.78 | H8: 16.04 | I8: 14.68 | J8: 15.32 | K8: 15.5
A9: 7 | B9: 16.12 | C9: 16.7 | D9: 14.48 | E9: 16.34 | F9: 15 | G9: 14.92 | H9: 15.4 | I9: 15.32 | J9: 14.84 | K9: 15.2
A10: 8 | B10: 15.74 | C10: 15.48 | D10: 17.16 | E10: 14.44 | F10: 14.94 | G10: 15.4 | H10: 15.68 | I10: 15.3 | J10: 15.48 | K10: 14.8
A11: 9 | B11: 15.66 | C11: 15.5 | D11: 14.14 | E11: 15.34 | F11: 15.8 | G11: 14.46 | H11: 14.88 | I11: 14.9 | J11: 15.04 | K11: 14.84
A12: 10 | B12: 15.7 | C12: 16.44 | D12: 16.3 | E12: 15.02 | F12: 14.62 | G12: 14.66 | H12: 14.36 | I12: 15.34 | J12: 15.02 | K12: 15.2
I14: TỔNG | K14: =+SUM(B3:K12) -> 1538.126
A15: XE 2 -
B16: 1 | C16: 2 | D16: 3 | E16: 4 | F16: 5 | G16: 6 | H16: 7 | I16: 8 | J16: 9 | K16: 10
A17: 1 | B17: 12.86 | C17: 13.26 | D17: 12.6 | E17: 12.3 | F17: 15.68 | G17: 15.06 | H17: 15.24 | I17: 14.34 | J17: 14.34 | K17: 15.28
A18: 2 | B18: 12.98 | C18: 12.74 | D18: 13.22 | E18: 12.14 | F18: 14.37 | G18: 14.58 | H18: 14.88 | I18: 14.04 | J18: 15.36 | K18: 14.08
A19: 3 | B19: 12.36 | C19: 13.36 | D19: 13.72 | E19: 15.1 | F19: 15.18 | G19: 13.92 | H19: 15.08 | I19: 15.08 | J19: 14.74
A20: 4 | B20: 12.6 | C20: 12.84 | D20: 12.58 | E20: 15.18 | G20: 14.2 | H20: 15.34 | I20: 14.66 | J20: 15.44
A21: 5 | B21: 12.96 | C21: 13.16 | D21: 13.4 | E21: 15.6 | F21: 14.08 | G21: 15.24 | H21: 15.24 | I21: 14.38 | J21: 14.86
A22: 6 | B22: 12.9 | C22: 13.12 | D22: 12.41 | E22: 15.24 | F22: 13.76 | G22: 14.74 | H22: 15.14 | I22: 15.32 | J22: 14.88
A23: 7 | B23: 12.42 | C23: 12.7 | D23: 13.22 | E23: 15.64 | F23: 14.8 | G23: 15.08 | H23: 15.14 | I23: 15.1 | J23: 14.22
A24: 8 | B24: 13.38 | C24: 13.32 | D24: 12.67 | E24: 15.34 | F24: 14 | G24: 15.4 | H24: 14.74 | I24: 15.34 | J24: 14.88
A25: 9 | B25: 14.16 | C25: 13.38 | D25: 12.2 | E25: 15.3 | F25: 13.62 | G25: 15.44 | H25: 14.92 | I25: 15.18 | J25: 14.66
A26: 10 | B26: 12.6 | C26: 13.6 | D26: 12.52 | E26: 15.82 | F26: 14.14 | G26: 14.14 | H26: 15.02 | I26: 14.32 | J26: 15.36
A27: 11 | B27: 13.02 | C27: 12.84 | D27: 12.21 | E27: 14.84 | F27: 14.32 | G27: 15.32 | H27: 14.74 | I27: 15.42 | J27: 15.08
I29: TỔNG | K29: =+SUM(B17:K27) -> 1418.72
A30: XE 3
B31: 1 | C31: 2 | D31: 3 | E31: 4 | F31: 5 | G31: 6 | H31: 7 | I31: 8 | J31: 9 | K31: 10
A32: 1
A33: 2
A34: 3
A35: 4
A36: 5
A37: 6
A38: 7
A39: 8
A40: 9
A41: 10
I43: TỔNG | K43: =+SUM(B32:K41) -> 0

Sheet NGAY 12-01
A1: XE 1 - GÀ
B2: 1 | C2: 2 | D2: 3 | E2: 4 | F2: 5 | G2: 6 | H2: 7 | I2: 8 | J2: 9 | K2: 10
A3: 1 | B3: 14.88 | C3: 12.22 | D3: 12.72 | E3: 12.5 | F3: 15.4 | G3: 15.28 | H3: 15.38 | I3: 14.78 | J3: 15.08 | K3: 13.18
A4: 2 | B4: 15.48 | C4: 12.68 | D4: 12.7 | E4: 13.1 | F4: 15.02 | G4: 14.76 | H4: 14.46 | I4: 15.44 | J4: 15.16 | K4: 13.6
A5: 3 | B5: 15.36 | C5: 12.6 | D5: 12.9 | E5: 12.36 | F5: 14.62 | G5: 14.44 | H5: 14.62 | I5: 15.08 | J5: 12.78 | K5: 13.06
A6: 4 | B6: 14.58 | C6: 15.48 | D6: 12.34 | E6: 12.6 | F6: 14.76 | G6: 15.06 | H6: 14.94 | I6: 14.52 | J6: 15.38 | K6: 13.36
A7: 5 | B7: 14.62 | C7: 12.62 | D7: 12.88 | E7: 13.28 | F7: 14.86 | G7: 15.3 | H7: 15.16 | I7: 12.24 | J7: 12.7 | K7: 12.92
A8: 6 | B8: 14.9 | C8: 13.22 | D8: 12.18 | E8: 15.18 | F8: 14.98 | G8: 15.02 | H8: 15.34 | I8: 15.34 | J8: 12.76 | K8: 13.88
A9: 7 | B9: 14.72 | C9: 13.16 | D9: 13.14 | E9: 14.94 | F9: 15.46 | G9: 14.28 | H9: 14.86 | I9: 15.06 | J9: 14.7 | K9: 13.68
A10: 8 | B10: 13.86 | C10: 13.02 | D10: 13 | E10: 15.16 | F10: 14.78 | G10: 15.08 | H10: 15.34 | I10: 14.82 | J10: 12.26 | K10: 12.86
A11: 9 | B11: 14.82 | C11: 13.3 | D11: 13.22 | E11: 14.2 | F11: 14.58 | G11: 14.44 | H11: 14.82 | I11: 13.46 | J11: 13.2 | K11: 13.26
A12: 10 | B12: 14.74 | C12: 12.38 | D12: 12.26 | E12: 15.56 | F12: 14.8 | G12: 15.22 | H12: 15.34 | I12: 15.24 | J12: 12.72 | K12: 13.02
I14: TỔNG | K14: =+SUM(B3:K12) -> 1408.8
A15: XE 2 - Mỡ
B16: 1 | C16: 2 | D16: 3 | E16: 4 | F16: 5 | G16: 6 | H16: 7 | I16: 8 | J16: 9 | K16: 10
A17: 1
A18: 2
A19: 3
A20: 4
A21: 5
A22: 6
A23: 7
A24: 8
A25: 9
A26: 10
A27: 11
I29: TỔNG | K29: =+SUM(B17:K27) -> 0
A30: XE 3
B31: 1 | C31: 2 | D31: 3 | E31: 4 | F31: 5 | G31: 6 | H31: 7 | I31: 8 | J31: 9 | K31: 10
A32: 1
A33: 2
A34: 3
A35: 4
A36: 5
A37: 6
A38: 7
A39: 8
A40: 9
A41: 10
I43: TỔNG | K43: =+SUM(B32:K41) -> 0

Sheet NGAY 15-01
A1: XE 1 - GÀ
B2: 1 | C2: 2 | D2: 3 | E2: 4 | F2: 5 | G2: 6 | H2: 7 | I2: 8 | J2: 9 | K2: 10
A3: 1 | B3: 15.1 | C3: 15 | D3: 14.9 | E3: 15.3 | F3: 15.1 | G3: 15.1 | H3: 15.5 | I3: 14.9 | J3: 15.2 | K3: 14.8
A4: 2 | B4: 15.1 | C4: 15 | D4: 15.4 | E4: 15 | F4: 15.2 | G4: 15.6 | H4: 15 | I4: 15 | J4: 14.9 | K4: 14.8
A5: 3 | B5: 14.8 | C5: 15 | D5: 15.2 | E5: 14.9 | F5: 14.9 | G5: 15.1 | H5: 15.1 | I5: 15.4 | J5: 14.7 | K5: 15.3
A6: 4 | B6: 15.4 | C6: 15.4 | D6: 15.3 | E6: 15.3 | F6: 14.9 | G6: 14.9 | H6: 14.9 | I6: 15 | J6: 15.3 | K6: 15.5
A7: 5 | B7: 15.1 | C7: 15 | D7: 14.9 | E7: 14.9 | F7: 15.4 | G7: 14.9 | H7: 15 | I7: 15.2 | J7: 15.4 | K7: 15.1
A8: 6 | B8: 14.9 | C8: 15.1 | D8: 15 | E8: 14.8 | F8: 15 | G8: 14.7 | H8: 15 | I8: 14.8 | J8: 15.2 | K8: 15
A9: 7 | B9: 15 | C9: 15 | D9: 15.2 | E9: 15.3 | F9: 15 | G9: 15.5 | H9: 15.1 | I9: 15.2 | J9: 15.4 | K9: 15
A10: 8 | B10: 15.1 | C10: 15 | D10: 15 | E10: 14.9 | F10: 14.9 | G10: 14.9 | H10: 15.2 | I10: 15.3 | J10: 15.2 | K10: 15.1
A11: 9 | B11: 15 | C11: 15.1 | D11: 14.9 | E11: 15.1 | F11: 15.1 | G11: 15.3 | H11: 15.2 | I11: 15.2 | J11: 15.2 | K11: 15
A12: 10 | B12: 14.9 | C12: 15.4 | D12: 15 | E12: 15.4 | F12: 15.4 | G12: 14.8 | H12: 14.9 | I12: 14.9 | J12: 14.9 | K12: 15.2
I14: TỔNG | K14: =+SUM(B3:K12) -> 1508.8
A15: XE 2 - Mỡ
B16: 1 | C16: 2 | D16: 3 | E16: 4 | F16: 5 | G16: 6 | H16: 7 | I16: 8 | J16: 9 | K16: 10
A17: 1
A18: 2
A19: 3
A20: 4
A21: 5
A22: 6
A23: 7
A24: 8
A25: 9
A26: 10
A27: 11
I29: TỔNG | K29: =+SUM(B17:K27) -> 0
A30: XE 3
B31: 1 | C31: 2 | D31: 3 | E31: 4 | F31: 5 | G31: 6 | H31: 7 | I31: 8 | J31: 9 | K31: 10
A32: 1
A33: 2
A34: 3
A35: 4
A36: 5
A37: 6
A38: 7
A39: 8
A40: 9
A41: 10
I43: TỔNG | K43: =+SUM(B32:K41) -> 0

Sheet NGAY 16-01
A1: XE 1 - GÀ
B2: 1 | C2: 2 | D2: 3 | E2: 4 | F2: 5 | G2: 6 | H2: 7 | I2: 8 | J2: 9 | K2: 10
A3: 1 | B3: 14.04 | C3: 14.64 | D3: 15.44 | E3: 14.92 | F3: 15.22 | G3: 13.08 | H3: 13.36 | I3: 12.7 | J3: 14.9 | K3: 15.14
A4: 2 | B4: 12.5 | C4: 14.64 | D4: 14.82 | E4: 14.1 | F4: 15.36 | G4: 13.14 | H4: 14.42 | I4: 13.04 | J4: 15.14 | K4: 14.66
A5: 3 | B5: 12.84 | C5: 14.94 | D5: 15.36 | E5: 14.64 | F5: 15.2 | G5: 14 | H5: 12.92 | I5: 13.38 | J5: 15.18 | K5: 14.9
A6: 4 | B6: 13.2 | C6: 15.18 | D6: 15.2 | E6: 15 | F6: 13.28 | G6: 13.18 | H6: 13.68 | I6: 12.56 | J6: 14.84 | K6: 14.64
A7: 5 | B7: 12.38 | C7: 14.72 | D7: 15.22 | E7: 15.42 | F7: 13.08 | G7: 13.18 | H7: 12.92 | I7: 12.24 | J7: 15.44 | K7: 15.46
A8: 6 | B8: 13.18 | C8: 15.08 | D8: 15.02 | E8: 15.3 | F8: 13 | G8: 13.26 | H8: 13.7 | I8: 12.48 | J8: 14.46 | K8: 14.94
A9: 7 | B9: 13.32 | C9: 14.88 | D9: 15 | E9: 15.44 | F9: 13.08 | G9: 13.18 | H9: 13.9 | I9: 14.12 | J9: 14.68 | K9: 14.94
A10: 8 | B10: 13.44 | C10: 15.08 | D10: 15.36 | E10: 15.18 | F10: 13.44 | G10: 13.64 | H10: 13.78 | I10: 13.26 | J10: 15.1 | K10: 14.78
A11: 9 | B11: 13.08 | C11: 15.04 | D11: 14.94 | E11: 14.84 | F11: 13.04 | G11: 12.2 | H11: 13.32 | I11: 14.88 | J11: 15.2 | K11: 15.02
A12: 10 | B12: 15.06 | C12: 15.3 | D12: 14.64 | E12: 14.94 | F12: 13.26 | G12: 13.12 | H12: 13.26 | I12: 15.5 | J12: 14.82 | K12: 15.08
I14: TỔNG | K14: =+SUM(B3:K12) -> 1422
A15: XE 2 - Mỡ
B16: 1 | C16: 2 | D16: 3 | E16: 4 | F16: 5 | G16: 6 | H16: 7 | I16: 8 | J16: 9 | K16: 10
A17: 1
A18: 2
A19: 3
A20: 4
A21: 5
A22: 6
A23: 7
A24: 8
A25: 9
A26: 10
A27: 11
I29: TỔNG | K29: =+SUM(B17:K27) -> 0
A30: XE 3
B31: 1 | C31: 2 | D31: 3 | E31: 4 | F31: 5 | G31: 6 | H31: 7 | I31: 8 | J31: 9 | K31: 10
A32: 1
A33: 2
A34: 3
A35: 4
A36: 5
A37: 6
A38: 7
A39: 8
A40: 9
A41: 10
I43: TỔNG | K43: =+SUM(B32:K41) -> 0

Sheet NGAY 19-01
A1: XE 1 - GÀ
B2: 1 | C2: 2 | D2: 3 | E2: 4 | F2: 5 | G2: 6 | H2: 7 | I2: 8 | J2: 9 | K2: 10
A3: 1 | B3: 13.72 | C3: 14.08 | D3: 14.4 | E3: 13.52 | F3: 15.48 | G3: 14.66 | H3: 14.16 | I3: 15.18 | J3: 15.38 | K3: 15.56
A4: 2 | B4: 13.46 | C4: 14.96 | D4: 14.3 | E4: 14.26 | F4: 15.3 | G4: 14.66 | H4: 14.72 | I4: 15.72 | J4: 15.36 | K4: 15.02
A5: 3 | B5: 14.6 | C5: 14.92 | D5: 14.38 | E5: 14.36 | F5: 15.78 | G5: 13.84 | H5: 15 | I5: 15.48 | J5: 14.76 | K5: 14.74
A6: 4 | B6: 15.44 | C6: 13.54 | D6: 14.2 | E6: 14.22 | F6: 14.94 | G6: 14.4 | H6: 14.64 | I6: 15.38 | J6: 15.4 | K6: 14.78
A7: 5 | B7: 14.3 | C7: 14.24 | D7: 14.24 | E7: 15.26 | F7: 15.08 | G7: 13.94 | H7: 14.64 | I7: 14.76 | J7: 14.56 | K7: 15.14
A8: 6 | B8: 14.62 | C8: 15.12 | D8: 15.34 | E8: 14.7 | F8: 14.52 | G8: 14.6 | H8: 14.68 | I8: 15 | J8: 14.82 | K8: 15.46
A9: 7 | B9: 14.7 | C9: 14.68 | D9: 14.76 | E9: 15 | F9: 15.38 | G9: 15.37 | H9: 15.2 | I9: 14.42 | J9: 15.06 | K9: 15.12
A10: 8 | B10: 14.62 | C10: 13.76 | D10: 14.56 | E10: 14.66 | F10: 15.34 | G10: 14.82 | H10: 15.5 | I10: 15.18 | J10: 15.26 | K10: 15.42
A11: 9 | B11: 14.66 | C11: 14.82 | D11: 13.8 | E11: 14.54 | F11: 15 | G11: 15.14 | H11: 15.14 | I11: 13.14 | J11: 14.74 | K11: 14.74
A12: 10 | B12: 13.52 | C12: 13.7 | D12: 15.38 | E12: 15.16 | F12: 14.6 | G12: 14.24 | H12: 13.76 | I12: 14.48 | J12: 15.26 | K12: 15.48
I14: TỔNG | K14: =+SUM(B3:K12) -> 1473.83
A15: XE 2 - Mỡ
B16: 1 | C16: 2 | D16: 3 | E16: 4 | F16: 5 | G16: 6 | H16: 7 | I16: 8 | J16: 9 | K16: 10
A17: 1 | B17: 13.92 | C17: 14.62 | D17: 14.78 | E17: 14.36 | F17: 14.5 | G17: 14.06 | H17: 14.46 | I17: 15.38 | J17: 15.32 | K17: 15.2
A18: 2 | B18: 14.2 | C18: 15.02 | D18: 14.64 | E18: 15.2 | F18: 14.48 | G18: 14.08 | H18: 13.78 | I18: 15.18 | J18: 14.56 | K18: 15.32
A19: 3 | B19: 13.84 | C19: 15.54 | D19: 15.34 | E19: 15.36 | F19: 15.38 | G19: 13.44 | H19: 13.36 | I19: 14.62 | J19: 15.06 | K19: 15.26
A20: 4 | B20: 14.16 | C20: 15.32 | D20: 15.04 | E20: 15.02 | F20: 14.92 | G20: 14.38 | H20: 13.98 | I20: 14.92 | J20: 15.42 | K20: 15.62
A21: 5 | B21: 14.2 | C21: 15.1 | D21: 15.42 | E21: 14.32 | F21: 14.5 | G21: 15.66 | H21: 13.62 | I21: 14.94 | J21: 15.36 | K21: 14.48
A22: 6 | B22: 14.1 | C22: 15.26 | D22: 15.18 | E22: 14.84 | F22: 14.54 | G22: 14 | H22: 13.18 | I22: 15.4 | J22: 15.18 | K22: 14.56
A23: 7 | B23: 15.14 | C23: 15.2 | D23: 14.9 | E23: 14.4 | F23: 14.82 | G23: 13.7 | H23: 14.12 | I23: 15.46 | J23: 14.92 | K23: 14.9
A24: 8 | B24: 15.46 | C24: 14.98 | D24: 14.94 | E24: 14.36 | F24: 14.36 | G24: 14.04 | H24: 14.12 | I24: 14.34 | J24: 15.14 | K24: 14.72
A25: 9 | B25: 14.66 | C25: 15.58 | D25: 15 | E25: 14.16 | F25: 14.76 | G25: 14.24 | H25: 13.62 | I25: 15.2 | J25: 15.12 | K25: 14.7
A26: 10 | B26: 13.3 | C26: 15.06 | D26: 14.6 | E26: 13.92 | F26: 14.1 | G26: 14.48 | H26: 13.78 | I26: 15.06 | J26: 14.94 | K26: 13.4
A27: 11
I29: TỔNG | K29: =+SUM(B17:K27) -> 1466.58
A30: XE 3
B31: 1 | C31: 2 | D31: 3 | E31: 4 | F31: 5 | G31: 6 | H31: 7 | I31: 8 | J31: 9 | K31: 10
A32: 1
A33: 2
A34: 3
A35: 4
A36: 5
A37: 6
A38: 7
A39: 8
A40: 9
A41: 10
I43: TỔNG | K43: =+SUM(B32:K41) -> 0

Sheet NGAY 20-01
A1: XE 1 - GÀ
B2: 1 | C2: 2 | D2: 3 | E2: 4 | F2: 5 | G2: 6 | H2: 7 | I2: 8 | J2: 9 | K2: 10
A3: 1 | B3: 13.8 | C3: 14.46 | D3: 13.7 | E3: 14.06 | F3: 13.58 | G3: 15.22 | H3: 15.4 | I3: 14.52 | J3: 14.16 | K3: 14.32
A4: 2 | B4: 13.88 | C4: 14.04 | D4: 14.28 | E4: 13.12 | F4: 15.34 | G4: 15.5 | H4: 14.9 | I4: 14.02 | J4: 14.86 | K4: 14.08
A5: 3 | B5: 13.78 | C5: 13.5 | D5: 13.4 | E5: 14.26 | F5: 15.56 | G5: 14.68 | H5: 15.8 | I5: 15.18 | J5: 14.06
A6: 4 | B6: 14.1 | C6: 14.26 | D6: 14.28 | E6: 13.74 | F6: 15.22 | G6: 15.44 | H6: 15 | I6: 14.2 | J6: 13.74
A7: 5 | B7: 14.22 | C7: 14.22 | D7: 14.68 | E7: 14.66 | F7: 14.92 | G7: 15.08 | H7: 15.12 | I7: 14.24 | J7: 14.36
A8: 6 | B8: 13.18 | C8: 13.98 | D8: 14.24 | E8: 16.06 | F8: 14.88 | G8: 15.36 | H8: 15.5 | I8: 14.76 | J8: 14.3
A9: 7 | B9: 14.08 | C9: 13.9 | D9: 14.4 | E9: 15.08 | F9: 16 | G9: 15.24 | H9: 15.6 | I9: 14.24 | J9: 14.46
A10: 8 | B10: 13.28 | C10: 14.64 | D10: 13.76 | E10: 14.66 | F10: 15.98 | G10: 16.1 | H10: 16.48 | I10: 14.62 | J10: 14.22
A11: 9 | B11: 13.56 | C11: 14.24 | D11: 14.06 | E11: 15.3 | F11: 15.26 | G11: 15.28 | H11: 15.32 | I11: 14.3 | J11: 14.2
A12: 10 | B12: 13.52 | C12: 14.5 | D12: 13.54 | E12: 14.72 | F12: 15.7 | G12: 14.88 | H12: 15.48 | I12: 14.1 | J12: 14.3
I14: TỔNG | K14: =+SUM(B3:K12) -> 1340.2
A15: XE 2
B16: 1 | C16: 2 | D16: 3 | E16: 4 | F16: 5 | G16: 6 | H16: 7 | I16: 8 | J16: 9 | K16: 10
A17: 1 | B17: 15.4 | C17: 15.24 | D17: 13.94 | E17: 13.52 | F17: 13.38 | G17: 13.9 | H17: 13.84 | I17: 15.46 | J17: 15.52 | K17: 14.52
A18: 2 | B18: 14.86 | C18: 15.14 | D18: 14.62 | E18: 14.62 | F18: 13.92 | G18: 13.64 | H18: 14.44 | I18: 15.34 | J18: 16.12 | K18: 15.78
A19: 3 | B19: 14.06 | C19: 13.32 | D19: 14.08 | E19: 14.62 | F19: 12.982 | G19: 13.64 | H19: 13.96 | I19: 14.9 | J19: 15.14 | K19: 15.38
A20: 4 | B20: 14.48 | C20: 14.82 | D20: 13.72 | E20: 15.04 | F20: 15.1 | G20: 13.64 | H20: 14.12 | I20: 14.08 | J20: 15.46 | K20: 15.78
A21: 5 | B21: 14.14 | C21: 14.62 | D21: 14.74 | E21: 13.32 | F21: 14.22 | G21: 13.88 | H21: 14.06 | I21: 14.84 | J21: 15.06 | K21: 14.5
A22: 6 | B22: 15.08 | C22: 15.5 | D22: 15.82 | E22: 15.46 | F22: 13.26 | G22: 15.48 | H22: 14.92 | I22: 14.9 | J22: 14.8 | K22: 15.36
A23: 7 | B23: 14.6 | C23: 15.68 | D23: 14.28 | E23: 15.2 | F23: 13.7 | G23: 13.64 | H23: 14.68 | I23: 14.9 | J23: 15.24 | K23: 15.52
A24: 8 | B24: 14.3 | C24: 15.16 | D24: 14.4 | E24: 12.44 | F24: 13.7 | G24: 13.36 | H24: 14.88 | I24: 15.32 | J24: 14.78 | K24: 15.24
A25: 9 | B25: 14.78 | C25: 14.96 | D25: 14.82 | E25: 12.86 | F25: 14.52 | G25: 13.64 | H25: 15.38 | I25: 15.22 | J25: 15.38 | K25: 15.38
A26: 10 | B26: 14.78 | C26: 14.54 | D26: 14.7 | E26: 14.3 | F26: 14.04 | G26: 13.3 | H26: 15 | I26: 14.64 | J26: 15.5 | K26: 15.34
A27: 11 | B27: 13.84 | C27: 13.44 | D27: 14.38 | E27: 14.12 | F27: 13.3 | G27: 13.74 | H27: 14.6 | I27: 14.78
I29: TỔNG | K29: =+SUM(B17:K27) -> 1571.782
A30: XE 3
B31: 1 | C31: 2 | D31: 3 | E31: 4 | F31: 5 | G31: 6 | H31: 7 | I31: 8 | J31: 9 | K31: 10
A32: 1 | B32: 15.1 | C32: 15.3 | D32: 15.3 | E32: 15.4 | F32: 14.8 | G32: 14.9 | H32: 14.8 | I32: 14.9 | J32: 15.7 | K32: 15.3
A33: 2 | B33: 15.1 | C33: 15 | D33: 15.1 | E33: 15 | F33: 15.2 | G33: 15.4 | H33: 15 | I33: 15.1 | J33: 15.4 | K33: 15
A34: 3 | B34: 15.4 | C34: 15 | D34: 15 | E34: 15.1 | F34: 15.2 | G34: 15.5 | H34: 15.1 | I34: 15.1 | J34: 15 | K34: 14.8
A35: 4 | B35: 15.3 | C35: 15.6 | D35: 15.1 | E35: 15.7 | F35: 15 | G35: 15.1 | H35: 15.1 | I35: 15.1 | J35: 15.3 | K35: 15.3
A36: 5 | B36: 15.2 | C36: 15.3 | D36: 15.1 | E36: 15.4 | F36: 15 | G36: 15.1 | H36: 15.1 | I36: 14.9 | J36: 15 | K36: 14.9
A37: 6 | B37: 15 | C37: 15.2 | D37: 15.2 | E37: 15.3 | F37: 14.9 | G37: 15.2 | H37: 15.4 | I37: 15.6 | J37: 15.5 | K37: 15.1
A38: 7 | B38: 15.1 | C38: 15 | D38: 14.9 | E38: 15.6 | F38: 15.1 | G38: 15 | H38: 15.1 | I38: 15.2 | J38: 15.2 | K38: 15.4
A39: 8 | B39: 14.9 | C39: 15.1 | D39: 15.1 | E39: 15 | F39: 15 | G39: 15.1 | H39: 15 | I39: 15.3 | J39: 15.1 | K39: 15.9
A40: 9 | B40: 15.1 | C40: 15.2 | D40: 14.9 | E40: 15.5 | F40: 14.8 | G40: 14.9 | H40: 14.8 | I40: 15 | J40: 15 | K40: 15.2
A41: 10 | B41: 14.9 | C41: 15.7 | D41: 15.2 | E41: 15 | F41: 15 | G41: 15.1 | H41: 14.9 | I41: 15.2 | J41: 15.2 | K41: 15.1
I43: TỔNG | K43: =+SUM(B32:K41) -> 1514.8
A45: XE 4
B46: 1 | C46: 2 | D46: 3 | E46: 4 | F46: 5 | G46: 6 | H46: 7 | I46: 8 | J46: 9 | K46: 10
A47: 1 | B47: 14.62 | C47: 14.7 | D47: 14.18 | E47: 13.64 | F47: 14.82 | G47: 15.2 | H47: 15.14 | I47: 15.2 | J47: 14.36 | K47: 14.32
A48: 2 | B48: 14.72 | C48: 14.36 | D48: 13.68 | E48: 13.72 | F48: 14.96 | G48: 14.88 | H48: 15.34 | I48: 14.82 | J48: 14.14 | K48: 13.54
A49: 3 | B49: 15.1 | C49: 14.26 | D49: 14.42 | E49: 14.34 | F49: 14.84 | G49: 15.14 | H49: 14.74 | I49: 15.42 | J49: 13.72 | K49: 14.32
A50: 4 | B50: 14.82 | C50: 14.14 | D50: 14.72 | E50: 13.84 | F50: 15.24 | G50: 14.78 | H50: 14.24 | I50: 15.42 | J50: 14.66 | K50: 14.6
A51: 5 | B51: 15.4 | C51: 14.44 | D51: 14.86 | E51: 14.62 | F51: 15.18 | G51: 14.74 | H51: 14.4 | I51: 15.18 | J51: 14.34 | K51: 14.62
A52: 6 | B52: 14.5 | C52: 14.18 | D52: 14.5 | E52: 14.68 | F52: 14.92 | G52: 14.8 | H52: 15.1 | I52: 14.2 | J52: 14.68 | K52: 14.36
A53: 7 | B53: 14.18 | C53: 14.58 | D53: 13.58 | E53: 14.2 | F53: 15.34 | G53: 14.2 | H53: 15.24 | I53: 14.28 | J53: 13.86 | K53: 14.34
A54: 8 | B54: 14.36 | C54: 13.56 | D54: 13.46 | E54: 13.8 | F54: 14.82 | G54: 14.22 | H54: 14.42 | I54: 15.84 | J54: 14.54 | K54: 13.9
A55: 9 | B55: 13.56 | C55: 13.78 | D55: 13.6 | E55: 14.64 | F55: 15 | G55: 14.16 | H55: 14.38 | I55: 14.82 | J55: 14.9 | K55: 14.46
A56: 10 | B56: 14.42 | C56: 14.68 | D56: 14.46 | E56: 14.08 | F56: 15.36 | G56: 14.34 | H56: 15.18 | I56: 14.36 | J56: 14.58 | K56: 13.76
I58: TỔNG | K58: =+SUM(B47:K56) -> 1452.04
A59: XE 5
B60: 1 | C60: 2 | D60: 3 | E60: 4 | F60: 5 | G60: 6 | H60: 7 | I60: 8 | J60: 9 | K60: 10
A61: 1 | B61: 14.6 | C61: 14.96 | D61: 15.7 | E61: 15.36 | F61: 14.12 | G61: 14.68 | H61: 14.08 | I61: 15.26 | J61: 15.4 | K61: 15.06
A62: 2 | B62: 14.72 | C62: 15.38 | D62: 14.64 | E62: 14.78 | F62: 14.46 | G62: 15.28 | H62: 14.16 | I62: 14.82 | J62: 15.02 | K62: 14.48
A63: 3 | B63: 15.06 | C63: 14.78 | D63: 14.78 | E63: 15.46 | F63: 13.96 | G63: 14.7 | H63: 14.24 | I63: 15 | J63: 15.76 | K63: 15.38
A64: 4 | B64: 13.68 | C64: 15.44 | D64: 15.66 | E64: 14.94 | F64: 14 | G64: 14.72 | H64: 14.38 | I64: 14.52 | J64: 14.78 | K64: 15.12
A65: 5 | B65: 13.8 | C65: 15.02 | D65: 15.38 | E65: 15.04 | F65: 14.28 | G65: 14.04 | H65: 14.2 | I65: 15.46 | J65: 14.84 | K65: 14.96
A66: 6 | B66: 13.92 | C66: 15.66 | D66: 14 | E66: 14.44 | F66: 14.66 | G66: 15.2 | H66: 13.88 | I66: 15.32 | J66: 14.7 | K66: 14.78
A67: 7 | B67: 14 | C67: 14.48 | D67: 15.18 | E67: 14.34 | F67: 14.8 | G67: 14.22 | H67: 13.98 | I67: 14.7 | J67: 14.8 | K67: 14.62
A68: 8 | B68: 14.48 | C68: 13.92 | D68: 14.96 | E68: 14.28 | F68: 14.14 | G68: 14.12 | H68: 13.82 | I68: 14.48 | J68: 14.84 | K68: 14.3
A69: 9 | B69: 14.34 | C69: 15.08 | D69: 15.5 | E69: 13.94 | F69: 14.08 | G69: 14.36 | H69: 14.66 | I69: 14.78 | J69: 15.48 | K69: 13.92
A70: 10 | B70: 14.28 | C70: 15.28 | D70: 15.46 | E70: 14.16 | F70: 14.52 | G70: 14.58 | H70: 14.74 | I70: 14.6 | J70: 14.66 | K70: 14.64
A71: 11
I73: TỔNG | K73: =+SUM(B61:K71) -> 1468.42
A74: XE 6
B75: 1 | C75: 2 | D75: 3 | E75: 4 | F75: 5 | G75: 6 | H75: 7 | I75: 8 | J75: 9 | K75: 10
A76: 1 | B76: 24.1 | C76: 28.05 | D76: 23.06 | E76: 22.8 | F76: 24.08
A77: 2 | B77: 25.3 | C77: 24.86 | D77: 25.6 | E77: 23.12 | F77: 24.14
A78: 3 | B78: 24.2 | C78: 24.5 | D78: 23.86 | E78: 23.88 | F78: 24.94
A79: 4 | B79: 23.4 | C79: 23.9 | D79: 23.75 | E79: 25.1 | F79: 24.98
A80: 5 | B80: 24.52 | C80: 23 | D80: 25.1 | E80: 25.1 | F80: 24.26
A81: 6 | B81: 24.42 | C81: 24.94 | D81: 23.38 | E81: 24.28 | F81: 24.7
A82: 7 | B82: 25.08 | C82: 24.72 | D82: 24.5 | E82: 24.72 | F82: 23.9
A83: 8 | B83: 24.44 | C83: 26.52 | D83: 22.78 | E83: 24.42 | F83: 24.5
A84: 9 | B84: 25.2 | C84: 25.58 | D84: 24.2 | E84: 24.04 | F84: 24.34
A85: 10 | B85: 24.76 | C85: 23.52 | D85: 25.08 | E85: 24.1 | F85: 24.3
I87: TỔNG | K87: =+SUM(B76:K85) -> 1222.02
A89: XE 7
B90: 1 | C90: 2 | D90: 3 | E90: 4 | F90: 5 | G90: 6 | H90: 7 | I90: 8 | J90: 9 | K90: 10
A91: 1 | B91: 14.6 | C91: 14.96 | D91: 15.7 | E91: 15.36 | F91: 14.12 | G91: 14.68 | H91: 14.08 | I91: 15.26 | J91: 15.4 | K91: 15.06
A92: 2 | B92: 14.72 | C92: 15.38 | D92: 14.64 | E92: 14.78 | F92: 14.46 | G92: 15.28 | H92: 14.16 | I92: 14.82 | J92: 15.02 | K92: 14.48
A93: 3 | B93: 15.06 | C93: 14.78 | D93: 14.78 | E93: 15.46 | F93: 13.96 | G93: 14.7 | H93: 14.24 | I93: 15 | J93: 15.76 | K93: 15.38
A94: 4 | B94: 13.68 | C94: 15.44 | D94: 15.66 | E94: 14.94 | F94: 14 | G94: 14.72 | H94: 14.38 | I94: 14.52 | J94: 14.78 | K94: 15.12
A95: 5 | B95: 13.8 | C95: 15.02 | D95: 15.38 | E95: 15.04 | F95: 14.28 | G95: 14.04 | H95: 14.2 | I95: 15.46 | J95: 14.84 | K95: 14.46
A96: 6 | B96: 13.92 | C96: 15.66 | D96: 14 | E96: 14.44 | F96: 14.66 | G96: 15.2 | H96: 13.88 | I96: 15.32 | J96: 14.7 | K96: 14.78
A97: 7 | B97: 14 | C97: 14.48 | D97: 15.18 | E97: 14.34 | F97: 14.8 | G97: 14.22 | H97: 13.98 | I97: 14.7 | J97: 14.8 | K97: 14.62
A98: 8 | B98: 14.48 | C98: 13.92 | D98: 14.96 | E98: 14.28 | F98: 14.14 | G98: 14.12 | H98: 13.82 | I98: 14.48 | J98: 14.84 | K98: 14.3
A99: 9 | B99: 14.34 | C99: 15.08 | D99: 15.5 | E99: 13.94 | F99: 14.08 | G99: 14.36 | H99: 14.66 | I99: 14.78 | J99: 15.48 | K99: 13.92
A100: 10 | B100: 14.28 | C100: 15.28 | D100: 15.46 | E100: 14.16 | F100: 14.52 | G100: 14.58 | H100: 14.74 | I100: 14.6 | J100: 14.66 | K100: 14.64
I102: TỔNG | K102: =+SUM(B91:K100) -> 1467.92

Sheet NGAY 21-01
A1: XE 1 - GÀ
B2: 1 | C2: 2 | D2: 3 | E2: 4 | F2: 5 | G2: 6 | H2: 7 | I2: 8 | J2: 9 | K2: 10
A3: 1 | B3: 13.56 | C3: 13.18 | D3: 14.32 | E3: 14.38 | F3: 14.12 | G3: 13.88 | H3: 14.68 | I3: 14.04 | J3: 14.52 | K3: 14.38
A4: 2 | B4: 13.8 | C4: 13.76 | D4: 13.7 | E4: 14.4 | F4: 14.04 | G4: 13.6 | H4: 13.78 | I4: 14.5 | J4: 14.24 | K4: 14.24
A5: 3 | B5: 14.14 | C5: 13.94 | D5: 14.42 | E5: 14.74 | F5: 13.54 | G5: 14.1 | H5: 16.32 | I5: 14.14 | J5: 14.6 | K5: 14.48
A6: 4 | B6: 14.18 | C6: 13.86 | D6: 13.92 | E6: 14.86 | F6: 14.18 | G6: 13.18 | H6: 13.48 | I6: 14.2 | J6: 14.14 | K6: 14.32
A7: 5 | B7: 14 | C7: 13.26 | D7: 13.48 | E7: 14.46 | F7: 13.5 | G7: 15.66 | H7: 15.66 | I7: 14.1 | J7: 14.32 | K7: 14.1
A8: 6 | B8: 14.32 | C8: 13.92 | D8: 14.22 | E8: 14.44 | F8: 14.28 | G8: 14.32 | H8: 14.32 | I8: 14.32 | J8: 14.22 | K8: 14.42
A9: 7 | B9: 14.54 | C9: 13.6 | D9: 13.94 | E9: 13.84 | F9: 14.1 | G9: 14.18 | H9: 15.06 | I9: 14.46 | J9: 14.12 | K9: 14.06
A10: 8 | B10: 14.16 | C10: 14.4 | D10: 14.1 | E10: 13.7 | F10: 14.44 | G10: 14.22 | H10: 14.48 | I10: 14.64 | J10: 14.64 | K10: 14.54
A11: 9 | B11: 13.94 | C11: 14.58 | D11: 14.6 | E11: 14.16 | F11: 13.9 | G11: 13.18 | H11: 15.74 | I11: 13.7 | J11: 14.46 | K11: 14.34
A12: 10 | B12: 13.98 | C12: 14.4 | D12: 14.44 | E12: 14.72 | F12: 14.28 | G12: 14.32 | H12: 14.24 | I12: 13.6 | J12: 14.5 | K12: 14.18
I14: TỔNG | K14: =+SUM(B3:K12) -> 1421.66
A15: XE 2 - Mỡ
B16: 1 | C16: 2 | D16: 3 | E16: 4 | F16: 5 | G16: 6 | H16: 7 | I16: 8 | J16: 9 | K16: 10
A17: 1 | B17: 14.26 | C17: 13.82 | D17: 14.46 | E17: 14.64 | F17: 13.84 | G17: 14.28 | H17: 14.88 | I17: 14.94 | J17: 14.32 | K17: 14.12
A18: 2 | B18: 15.22 | C18: 14.88 | D18: 14.62 | E18: 14.24 | F18: 14.16 | G18: 14.62 | H18: 14.04 | I18: 14.22 | J18: 14.38 | K18: 13.94
A19: 3 | B19: 15.06 | C19: 15 | D19: 14.28 | E19: 14.24 | F19: 13.8 | G19: 14.72 | H19: 14.18 | I19: 14.08 | J19: 14.48 | K19: 14.44
A20: 4 | B20: 14.18 | C20: 13.86 | D20: 14.14 | E20: 14.98 | F20: 13.78 | G20: 13.92 | H20: 14.18 | I20: 14 | J20: 14.22 | K20: 14.51
A21: 5 | B21: 14.22 | C21: 13.92 | D21: 13.94 | E21: 15.02 | F21: 14.42 | G21: 14.52 | H21: 14.24 | I21: 14.92 | J21: 14.34 | K21: 14.66
A22: 6 | B22: 14.22 | C22: 13.72 | D22: 14.36 | E22: 14.94 | F22: 14.46 | G22: 14.66 | H22: 16.2 | I22: 14.84 | J22: 14.48 | K22: 14.12
A23: 7 | B23: 14.72 | C23: 14.57 | D23: 14.84 | E23: 14.96 | F23: 14.28 | G23: 14.98 | H23: 14.84 | I23: 14.81 | J23: 14.25 | K23: 14.66
A24: 8 | B24: 14.6 | C24: 14.62 | D24: 14.7 | E24: 14.84 | F24: 14.66 | G24: 14.17 | H24: 14.66 | I24: 14.66 | J24: 14.62 | K24: 14.38
A25: 9 | B25: 15.06 | C25: 14.74 | D25: 14.64 | E25: 14.71 | F25: 14.6 | G25: 14.65 | H25: 14.62 | I25: 14.68 | J25: 14.84 | K25: 14.32
A26: 10 | B26: 14.28 | C26: 14.3 | D26: 14.77 | E26: 14.36 | F26: 13.5 | G26: 14.22 | H26: 16.36 | I26: 14.74 | J26: 14.14 | K26: 14.98
A27: 11
I29: TỔNG | K29: =+SUM(B17:K27) -> 1449.46
A30: XE 3
B31: 1 | C31: 2 | D31: 3 | E31: 4 | F31: 5 | G31: 6 | H31: 7 | I31: 8 | J31: 9 | K31: 10
A32: 1
A33: 2
A34: 3
A35: 4
A36: 5
A37: 6
A38: 7
A39: 8
A40: 9
A41: 10
I43: TỔNG | K43: =+SUM(B32:K41) -> 0

Sheet NGAY 23-01
A1: XE 1 - GÀ
B2: 1 | C2: 2 | D2: 3 | E2: 4 | F2: 5 | G2: 6 | H2: 7 | I2: 8 | J2: 9 | K2: 10
A3: 1 | B3: 14.7 | C3: 14.5 | D3: 14.6 | E3: 13.62 | F3: 13.82 | G3: 14.08 | H3: 14.16 | I3: 14 | J3: 14.38 | K3: 14.76
A4: 2 | B4: 14.54 | C4: 14.6 | D4: 14.28 | E4: 13.92 | F4: 13.54 | G4: 13.82 | H4: 13.6 | I4: 14.36 | J4: 14.6 | K4: 14.64
A5: 3 | B5: 14.5 | C5: 14.3 | D5: 14.14 | E5: 13.72 | F5: 14.02 | G5: 14.52 | H5: 14.6 | I5: 14.1 | J5: 13.62 | K5: 14.48
A6: 4 | B6: 14.58 | C6: 14.4 | D6: 14.06 | E6: 14.02 | F6: 13.58 | G6: 13.62 | H6: 13.8 | I6: 13.88 | J6: 14.42 | K6: 14.32
A7: 5 | B7: 14.96 | C7: 14.48 | D7: 14.02 | E7: 14.56 | F7: 14.32 | G7: 14.22 | H7: 13.68 | I7: 14.32 | J7: 14.36 | K7: 14.6
A8: 6 | B8: 14.24 | C8: 14.98 | D8: 14.02 | E8: 13.78 | F8: 14.36 | G8: 14 | H8: 14.16 | I8: 15.06 | J8: 14.42 | K8: 14.06
A9: 7 | B9: 14.3 | C9: 14.74 | D9: 14.02 | E9: 13.92 | F9: 13.68 | G9: 14.18 | H9: 14.86 | I9: 13.86 | J9: 14.14 | K9: 14.34
A10: 8 | B10: 14.3 | C10: 14.26 | D10: 14.3 | E10: 13.9 | F10: 13.94 | G10: 13.64 | H10: 13.86 | I10: 13.9 | J10: 14.88 | K10: 13.86
A11: 9 | B11: 14.56 | C11: 14.3 | D11: 14.3 | E11: 14.44 | F11: 14.16 | G11: 14.54 | H11: 14.48 | I11: 13.98 | J11: 13.92 | K11: 14.56
A12: 10 | B12: 13.58 | C12: 14.36 | D12: 13.96 | E12: 13.32 | F12: 14.06 | G12: 13.92 | H12: 14.46 | I12: 13.5 | J12: 14.06 | K12: 14.32
I14: TỔNG | K14: =+SUM(B3:K12) -> 1419.46
A15: XE 2 - Mỡ
B16: 1 | C16: 2 | D16: 3 | E16: 4 | F16: 5 | G16: 6 | H16: 7 | I16: 8 | J16: 9 | K16: 10
A17: 1 | B17: 13.28 | C17: 12.56 | D17: 14.64 | E17: 14.2 | F17: 14.24 | G17: 14.18 | H17: 14.4 | I17: 14.72 | J17: 14.24 | K17: 13.94
A18: 2 | B18: 13.48 | C18: 12.74 | D18: 13.98 | E18: 14.4 | F18: 14.06 | G18: 14.26 | H18: 14.46 | I18: 14.12 | J18: 14.22 | K18: 14.48
A19: 3 | B19: 13.46 | C19: 13.56 | D19: 13.98 | E19: 14.24 | F19: 14.8 | G19: 13.72 | H19: 14.28 | I19: 14.74 | J19: 14.4 | K19: 13.84
A20: 4 | B20: 14.14 | C20: 12.76 | D20: 14.48 | E20: 13.88 | F20: 14.64 | G20: 14.06 | H20: 13.28 | I20: 15.56 | J20: 13.78 | K20: 14.1
A21: 5 | B21: 12.38 | C21: 12.44 | D21: 14.2 | E21: 14.58 | F21: 14.32 | G21: 14.54 | H21: 14.74 | I21: 13.02 | J21: 13.94 | K21: 13.24
A22: 6 | B22: 13.16 | C22: 12.84 | D22: 14.32 | E22: 14.3 | F22: 13.48 | G22: 14.32 | H22: 14.2 | I22: 13.94 | J22: 14.2 | K22: 14.72
A23: 7 | B23: 13.68 | C23: 14.36 | D23: 14.4 | E23: 14 | F23: 14.32 | G23: 13.36 | H23: 14.98 | I23: 13.62 | J23: 13.54 | K23: 14.54
A24: 8 | B24: 13.28 | C24: 12.92 | D24: 14.2 | E24: 14.46 | F24: 14.64 | G24: 14.74 | H24: 13.99 | I24: 14.02 | J24: 13.62 | K24: 12.22
A25: 9 | B25: 12.8 | C25: 12.58 | D25: 14.26 | E25: 14.18 | F25: 14.72 | G25: 14.56 | H25: 14.66 | I25: 14.2 | J25: 14.34 | K25: 14.34
A26: 10 | B26: 12.86 | C26: 12.62 | D26: 14.08 | E26: 14.52 | F26: 14.2 | G26: 14.1 | H26: 14.48 | I26: 14.68 | J26: 13.48 | K26: 14.14
A27: 11
I29: TỔNG | K29: =+SUM(B17:K27) -> 1397.87
A30: XE 3
B31: 1 | C31: 2 | D31: 3 | E31: 4 | F31: 5 | G31: 6 | H31: 7 | I31: 8 | J31: 9 | K31: 10
A32: 1
A33: 2
A34: 3
A35: 4
A36: 5
A37: 6
A38: 7
A39: 8
A40: 9
A41: 10
I43: TỔNG | K43: =+SUM(B32:K41) -> 0

Sheet NGAY 24-01
A1: XE 1 - GÀ
B2: 1 | C2: 2 | D2: 3 | E2: 4 | F2: 5 | G2: 6 | H2: 7 | I2: 8 | J2: 9 | K2: 10
A3: 1 | B3: 13.8 | C3: 14.16 | D3: 14.32 | E3: 13.64 | F3: 15.06 | G3: 14.66 | H3: 14.08 | I3: 13.94 | J3: 14.44 | K3: 14.7
A4: 2 | B4: 14 | C4: 14.62 | D4: 14.06 | E4: 14.26 | F4: 13.74 | G4: 14.58 | H4: 14.68 | I4: 14.14 | J4: 14.6 | K4: 14.2
A5: 3 | B5: 14.12 | C5: 13.06 | D5: 14.28 | E5: 14.36 | F5: 14.46 | G5: 14.28 | H5: 14.5 | I5: 14.06 | J5: 14.22 | K5: 14.02
A6: 4 | B6: 14.3 | C6: 14.26 | D6: 14.44 | E6: 14.42 | F6: 14.24 | G6: 14.24 | H6: 14.3 | I6: 14.22 | J6: 13.96 | K6: 14.16
A7: 5 | B7: 14.56 | C7: 14.42 | D7: 14.34 | E7: 15.08 | F7: 13.26 | G7: 14.5 | H7: 14.8 | I7: 13.8 | J7: 14.48 | K7: 14.36
A8: 6 | B8: 12.88 | C8: 14.4 | D8: 14.4 | E8: 14.14 | F8: 14.72 | G8: 14.32 | H8: 14 | I8: 15.92 | J8: 14.2 | K8: 14.22
A9: 7 | B9: 13.88 | C9: 14.42 | D9: 13.68 | E9: 13.6 | F9: 14.3 | G9: 14.46 | H9: 13.74 | I9: 14.36 | J9: 13.88 | K9: 14.36
A10: 8 | B10: 14.7 | C10: 14.4 | D10: 12.9 | E10: 14.6 | F10: 14.14 | G10: 14.24 | H10: 13.72 | I10: 14.42 | J10: 14.3 | K10: 14.34
A11: 9 | B11: 14.36 | C11: 14.3 | D11: 14.34 | E11: 14 | F11: 14.38 | G11: 14 | H11: 13.92 | I11: 14.82 | J11: 14.7 | K11: 14.36
A12: 10 | B12: 14.36 | C12: 14.32 | D12: 13.6 | E12: 14.5 | F12: 14.86 | G12: 14.02 | H12: 14.08 | I12: 14.44 | J12: 14.22 | K12: 14.4
I14: TỔNG | K14: =+SUM(B3:K12) -> 1424.8
A15: XE 2 - Mỡ
B16: 1 | C16: 2 | D16: 3 | E16: 4 | F16: 5 | G16: 6 | H16: 7 | I16: 8 | J16: 9 | K16: 10
A17: 1 | B17: 14.1 | C17: 14.18 | D17: 15.14 | E17: 14.14 | F17: 14.32 | G17: 14.32 | H17: 14.4 | I17: 14.62 | J17: 14.5 | K17: 14.28
A18: 2 | B18: 14.26 | C18: 14.34 | D18: 15.28 | E18: 14.32 | F18: 14.46 | G18: 13.98 | H18: 14.34 | I18: 14.4 | J18: 14.22 | K18: 14.16
A19: 3 | B19: 14.52 | C19: 14.8 | D19: 14.02 | E19: 13.44 | F19: 14.62 | G19: 13.52 | H19: 14.54 | I19: 14.1 | J19: 14 | K19: 14.42
A20: 4 | B20: 14.62 | C20: 14.44 | D20: 14.54 | E20: 14.4 | F20: 14.92 | G20: 14.04 | H20: 14.12 | I20: 14.4 | J20: 14.48 | K20: 14.42
A21: 5 | B21: 14.38 | C21: 14.26 | D21: 14.34 | E21: 14.28 | F21: 14.26 | G21: 14.82 | H21: 14.06 | I21: 14.56 | J21: 14.22 | K21: 14.46
A22: 6 | B22: 14.54 | C22: 14.58 | D22: 14.4 | E22: 14.22 | F22: 14.66 | G22: 14.98 | H22: 13.98 | I22: 14.24 | J22: 14.48 | K22: 14.32
A23: 7 | B23: 14.56 | C23: 14.64 | D23: 14.02 | E23: 14.92 | F23: 14.52 | G23: 14.98 | H23: 14.8 | I23: 14.36 | J23: 14 | K23: 14.28
A24: 8 | B24: 15.12 | C24: 14.34 | D24: 14.68 | E24: 14.06 | F24: 14.5 | G24: 14.42 | H24: 14.54 | I24: 14.4 | J24: 14.56 | K24: 14.54
A25: 9 | B25: 15.06 | C25: 14.52 | D25: 14.02 | E25: 14.22 | F25: 14.88 | G25: 14.14 | H25: 14.54 | I25: 14.38 | J25: 14.4 | K25: 14.34
A26: 10 | B26: 14.28 | C26: 14.74 | D26: 13.8 | E26: 14.5 | F26: 14.6 | G26: 14.52 | H26: 14.68 | I26: 14.9 | J26: 14.64 | K26: 14.42
A27: 11
I29: TỔNG | K29: =+SUM(B17:K27) -> 1441.98
A30: XE 3
B31: 1 | C31: 2 | D31: 3 | E31: 4 | F31: 5 | G31: 6 | H31: 7 | I31: 8 | J31: 9 | K31: 10
A32: 1 | B32: 13.98 | C32: 14.46 | D32: 13.18 | E32: 13.38 | F32: 12.54 | G32: 12.66 | H32: 13.13 | I32: 14.58 | J32: 13.06 | K32: 14.72
A33: 2 | B33: 14.34 | C33: 13.54 | D33: 14.22 | E33: 13.12 | F33: 13.06 | G33: 12.94 | H33: 14.36 | I33: 14.12 | J33: 14.34 | K33: 14.4
A34: 3 | B34: 13.94 | C34: 13.9 | D34: 13.7 | E34: 12.64 | F34: 13.34 | G34: 13.6 | H34: 14.32 | I34: 13.7 | J34: 14.1 | K34: 14.24
A35: 4 | B35: 14.84 | C35: 14.28 | D35: 13.94 | E35: 13.76 | F35: 12.92 | G35: 12.8 | H35: 14.68 | I35: 13.66 | J35: 14.76 | K35: 14.26
A36: 5 | B36: 14.4 | C36: 14.5 | D36: 14.14 | E36: 14.06 | F36: 13.02 | G36: 13.32 | H36: 13.7 | I36: 14.22 | J36: 13.8 | K36: 14.42
A37: 6 | B37: 13.98 | C37: 13.64 | D37: 13.22 | E37: 13.98 | F37: 13.1 | G37: 13.74 | H37: 14.88 | I37: 14.12 | J37: 14.88 | K37: 14.66
A38: 7 | B38: 13.62 | C38: 14.9 | D38: 12.94 | E38: 12.98 | F38: 13.26 | G38: 13.4 | H38: 14.08 | I38: 13.54 | J38: 13.84 | K38: 16.34
A39: 8 | B39: 14.48 | C39: 13.32 | D39: 13.28 | E39: 13.52 | F39: 12.58 | G39: 13.1 | H39: 14.72 | I39: 14.76 | J39: 15.18 | K39: 14.02
A40: 9 | B40: 14.4 | C40: 12.82 | D40: 12.34 | E40: 16.44 | F40: 12.8 | G40: 13.52 | H40: 14.12 | I40: 13.96 | J40: 14.48 | K40: 14.16
A41: 10 | B41: 14.3 | C41: 13.08 | D41: 13.1 | E41: 12.54 | F41: 13.12 | G41: 13.24 | H41: 13.9 | I41: 13.92 | J41: 13.78 | K41: 14.5
I43: TỔNG | K43: =+SUM(B32:K41) -> 1383.67
A45: XE 4
B46: 1 | C46: 2 | D46: 3 | E46: 4 | F46: 5 | G46: 6 | H46: 7 | I46: 8 | J46: 9 | K46: 10
A47: 1 | B47: 14.42 | C47: 13.98 | D47: 13.98 | E47: 14.32 | F47: 13.72 | G47: 14.04 | H47: 13.76 | I47: 14.38 | J47: 14.66 | K47: 14
A48: 2 | B48: 14.5 | C48: 14.56 | D48: 14.56 | E48: 14.12 | F48: 15 | G48: 14.2 | H48: 13.12 | I48: 14.52 | J48: 14.48 | K48: 14.56
A49: 3 | B49: 14.3 | C49: 14 | D49: 14.48 | E49: 14.04 | F49: 12.9 | G49: 13.5 | H49: 13.06 | I49: 14.42 | J49: 14.76 | K49: 14.38
A50: 4 | B50: 14.28 | C50: 14.12 | D50: 15.3 | E50: 14.42 | F50: 13.6 | G50: 13.66 | H50: 13.84 | I50: 14 | J50: 13.28 | K50: 14
A51: 5 | B51: 14.72 | C51: 14.24 | D51: 14.26 | E51: 14.38 | F51: 14.02 | G51: 14.16 | H51: 15.04 | I51: 14.24 | J51: 14.42 | K51: 14.46
A52: 6 | B52: 14.12 | C52: 15.12 | D52: 14.16 | E52: 14.06 | F52: 14.3 | G52: 13.98 | H52: 14.2 | I52: 14.16 | J52: 14.02 | K52: 13.5
A53: 7 | B53: 15.24 | C53: 14.93 | D53: 14.3 | E53: 13.8 | F53: 14.4 | G53: 13.36 | H53: 13.86 | I53: 14.68 | J53: 14.54 | K53: 14.1
A54: 8 | B54: 14.46 | C54: 14.74 | D54: 14.2 | E54: 14.36 | F54: 14.24 | G54: 14.34 | H54: 14.24 | I54: 14 | J54: 14.18 | K54: 13.48
A55: 9 | B55: 14.22 | C55: 13.66 | D55: 14.84 | E55: 14.24 | F55: 14.26 | G55: 14.06 | H55: 14.08 | I55: 15.12 | J55: 14.64 | K55: 14.36
A56: 10 | B56: 15.06 | C56: 14.62 | D56: 14.42 | E56: 14.32 | F56: 13.84 | G56: 14.44 | H56: 14.38 | I56: 14.6 | J56: 13.12 | K56: 13.94
I58: TỔNG | K58: =+SUM(B47:K56) -> 1422.45
A60: XE 5
B61: 1 | C61: 2 | D61: 3 | E61: 4 | F61: 5 | G61: 6 | H61: 7 | I61: 8 | J61: 9 | K61: 10
A62: 1 | B62: 13.6 | C62: 15 | D62: 13.9 | E62: 14.52 | F62: 14.64 | G62: 14.66 | H62: 13.92 | I62: 13.94 | J62: 14.18 | K62: 12.8
A63: 2 | B63: 14.2 | C63: 14.52 | D63: 14.8 | E63: 14.6 | F63: 14.6 | G63: 14.54 | H63: 13.72 | I63: 14.32 | J63: 14.42 | K63: 14.68
A64: 3 | B64: 13.5 | C64: 15.1 | D64: 14.18 | E64: 14.14 | F64: 14.74 | G64: 14.46 | H64: 14.58 | I64: 14.12 | J64: 13.76 | K64: 13.94
A65: 4 | B65: 13.78 | C65: 14.12 | D65: 14.88 | E65: 14.92 | F65: 14.76 | G65: 14.74 | H65: 14.84 | I65: 14.22 | J65: 13.48 | K65: 13
A66: 5 | B66: 14 | C66: 14.16 | D66: 15.02 | E66: 15.16 | F66: 13.7 | G66: 14.78 | H66: 14.64 | I66: 14.58 | J66: 14.04 | K66: 13
A67: 6 | B67: 13.56 | C67: 14.28 | D67: 13.96 | E67: 13.98 | F67: 14.4 | G67: 15.1 | H67: 15.04 | I67: 14.46 | J67: 14.24 | K67: 12.78
A68: 7 | B68: 14.9 | C68: 13.72 | D68: 13.46 | E68: 14.32 | F68: 14.56 | G68: 13.64 | H68: 14.26 | I68: 13.98 | J68: 13.86 | K68: 13.26
A69: 8 | B69: 13.66 | C69: 14.26 | D69: 14.78 | E69: 14.2 | F69: 14.48 | G69: 14.68 | H69: 14.84 | I69: 13.8 | J69: 14.28 | K69: 14.66
A70: 9 | B70: 14.6 | C70: 13.64 | D70: 14.74 | E70: 14.48 | F70: 14.76 | G70: 15.64 | H70: 14.9 | I70: 14.2 | J70: 14.42 | K70: 13.8
A71: 10 | B71: 14.74 | C71: 13.9 | D71: 14.38 | E71: 14.82 | F71: 14.34 | G71: 13.82 | H71: 14.06 | I71: 16.68 | J71: 14.18 | K71: 13.34
I73: TỔNG | K73: =+SUM(B62:K71) -> 1428.74
A75: XE 6
B76: 1 | C76: 2 | D76: 3 | E76: 4 | F76: 5 | G76: 6 | H76: 7 | I76: 8 | J76: 9 | K76: 10
A77: 1 | B77: 13.86 | C77: 14.56 | D77: 14.38 | E77: 14.72 | F77: 14.36 | G77: 14.44 | H77: 14.56 | I77: 14.64 | J77: 13.6 | K77: 14.16
A78: 2 | B78: 14.24 | C78: 14.28 | D78: 14.44 | E78: 13.78 | F78: 14.78 | G78: 14.04 | H78: 13.86 | I78: 14.44 | J78: 14.5 | K78: 13.8
A79: 3 | B79: 14.46 | C79: 14.32 | D79: 14.64 | E79: 13.46 | F79: 14.54 | G79: 14.38 | H79: 14.96 | I79: 14.64 | J79: 13.76 | K79: 13.16
A80: 4 | B80: 14.76 | C80: 13.62 | D80: 13.52 | E80: 14.96 | F80: 14.06 | G80: 14.46 | H80: 13.96 | I80: 14.5 | J80: 13.68 | K80: 14.78
A81: 5 | B81: 14.34 | C81: 14.44 | D81: 14.34 | E81: 14.06 | F81: 14.84 | G81: 13.9 | H81: 14.16 | I81: 14.46 | J81: 13.98 | K81: 14.36
A82: 6 | B82: 13.96 | C82: 13.86 | D82: 13.88 | E82: 14.02 | F82: 14.34 | G82: 14.66 | H82: 14.28 | I82: 12.68 | J82: 13.96 | K82: 14.84
A83: 7 | B83: 13.72 | C83: 14.36 | D83: 14.26 | E83: 14.84 | F83: 13.9 | G83: 13.94 | H83: 13.58 | I83: 13.96 | J83: 14.4 | K83: 14.36
A84: 8 | B84: 14.14 | C84: 13.38 | D84: 13.88 | E84: 14.22 | F84: 14 | G84: 14.78 | H84: 14.6 | I84: 14.4 | J84: 13.96 | K84: 14.5
A85: 9 | B85: 14.78 | C85: 14.94 | D85: 14.24 | E85: 14.04 | F85: 14.3 | G85: 14.18 | H85: 13.38 | I85: 13.8 | J85: 14.34 | K85: 13.96
A86: 10 | B86: 14.26 | C86: 14.38 | D86: 14.48 | E86: 13.86 | F86: 14.68 | G86: 14.04 | H86: 13.9 | I86: 13.26 | J86: 13.62 | K86: 14.32
I88: TỔNG | K88: =+SUM(B77:K86) -> 1419.36

Sheet NGAY 26-01
A1: XE 1 - GÀ
B2: 1 | C2: 2 | D2: 3 | E2: 4 | F2: 5 | G2: 6 | H2: 7 | I2: 8 | J2: 9 | K2: 10
A3: 1 | B3: 14.3 | C3: 13.36 | D3: 13.82 | E3: 14.62 | F3: 14.32 | G3: 12.56 | H3: 12.52 | I3: 13.18 | J3: 13.86 | K3: 14.52
A4: 2 | B4: 15.28 | C4: 14.84 | D4: 13.52 | E4: 14.34 | F4: 12.76 | G4: 14.3 | H4: 12.96 | I4: 14 | J4: 14.86 | K4: 14.3
A5: 3 | B5: 13.82 | C5: 14.18 | D5: 14.34 | E5: 14 | F5: 14.38 | G5: 12.5 | H5: 12.7 | I5: 13.96 | J5: 14.22 | K5: 14.54
A6: 4 | B6: 14.28 | C6: 13.6 | D6: 14.5 | E6: 13.9 | F6: 14.38 | G6: 12.44 | H6: 12.74 | I6: 13.46 | J6: 14.02 | K6: 14.48
A7: 5 | B7: 14.14 | C7: 13.82 | D7: 13.18 | E7: 14.4 | F7: 13.96 | G7: 12.48 | H7: 13.46 | I7: 14.74 | J7: 14.9 | K7: 14.38
A8: 6 | B8: 14.46 | C8: 14.1 | D8: 13.92 | E8: 14.26 | F8: 14.46 | G8: 14.02 | H8: 13.12 | I8: 14.1 | J8: 14.7 | K8: 14.82
A9: 7 | B9: 13.8 | C9: 14.3 | D9: 14.14 | E9: 14.14 | F9: 14.1 | G9: 12.98 | H9: 12.82 | I9: 14.22 | J9: 14.02 | K9: 13.44
A10: 8 | B10: 14.54 | C10: 14.7 | D10: 14.2 | E10: 14.36 | F10: 12.94 | G10: 13.46 | H10: 12.24 | I10: 14.68 | J10: 14.76 | K10: 13.32
A11: 9 | B11: 14.24 | C11: 14.52 | D11: 14.84 | E11: 14.82 | F11: 12.66 | G11: 14.16 | H11: 12.76 | I11: 14.34 | J11: 14.52 | K11: 13.74
A12: 10 | B12: 13.78 | C12: 14.4 | D12: 14.3 | E12: 14 | F12: 13 | G12: 13.22 | H12: 12.48 | I12: 14.04 | J12: 13.86 | K12: 14.8
I14: TỔNG | K14: =+SUM(B3:K12) -> 1391.72
A15: XE 2
B16: 1 | C16: 2 | D16: 3 | E16: 4 | F16: 5 | G16: 6 | H16: 7 | I16: 8 | J16: 9 | K16: 10
A17: 1 | B17: 14.3 | C17: 14.18 | D17: 14.06 | E17: 13 | F17: 13.94 | G17: 12.76 | H17: 14.74 | I17: 14.1 | J17: 14.58 | K17: 13.7
A18: 2 | B18: 14.76 | C18: 13.521 | D18: 14.74 | E18: 14.64 | F18: 13.28 | G18: 14.16 | H18: 13.72 | I18: 13.88 | J18: 15.32 | K18: 14.5
A19: 3 | B19: 14.14 | C19: 13.82 | D19: 13.56 | E19: 14.18 | F19: 14.4 | G19: 14.22 | H19: 14.18 | I19: 14.5 | J19: 14.8 | K19: 13.3
A20: 4 | B20: 14.34 | C20: 14.32 | D20: 14.28 | E20: 13.52 | F20: 14.28 | G20: 13.24 | H20: 13.9 | I20: 14.16 | J20: 15.12 | K20: 13.74
A21: 5 | B21: 14.26 | C21: 14.12 | D21: 14.38 | E21: 13.12 | F21: 14.04 | G21: 13.74 | H21: 13.84 | I21: 14.36 | J21: 13.8 | K21: 14.42
A22: 6 | B22: 13.56 | C22: 14.22 | D22: 14.58 | E22: 13.1 | F22: 12.88 | G22: 14.2 | H22: 14.3 | I22: 14.74 | J22: 14.12 | K22: 14.48
A23: 7 | B23: 13.8 | C23: 13.4 | D23: 13.92 | E23: 14.12 | F23: 12.56 | G23: 14.08 | H23: 14.64 | I23: 14.94 | J23: 13.88 | K23: 14.4
A24: 8 | B24: 14.4 | C24: 13.78 | D24: 14.28 | E24: 14.38 | F24: 13.74 | G24: 14.74 | H24: 14.22 | I24: 14 | J24: 14.28 | K24: 13.98
A25: 9 | B25: 14.32 | C25: 14.28 | D25: 13.14 | E25: 14.52 | F25: 14.18 | G25: 13.66 | H25: 14.8 | I25: 15.06 | J25: 15.285 | K25: 13.9
A26: 10 | B26: 14.18 | C26: 14.28 | D26: 13.74 | E26: 14.06 | F26: 13.64 | G26: 14.48 | H26: 14.58 | I26: 14.54 | J26: 13.96 | K26: 14.16
A27: 11
I29: TỔNG | K29: =+SUM(B17:K27) -> 1410.446
A30: XE 3
B31: 1 | C31: 2 | D31: 3 | E31: 4 | F31: 5 | G31: 6 | H31: 7 | I31: 8 | J31: 9 | K31: 10
A32: 1 | B32: 14.3 | C32: 13.66 | D32: 14.48 | E32: 14.34 | F32: 14.14 | G32: 14.48 | H32: 13.5 | I32: 13.68 | J32: 13.3 | K32: 14.62
A33: 2 | B33: 14.42 | C33: 14.32 | D33: 14.3 | E33: 14.28 | F33: 14.4 | G33: 14.48 | H33: 14.12 | I33: 13.78 | J33: 14.44 | K33: 14.88
A34: 3 | B34: 14.5 | C34: 13.1 | D34: 14.34 | E34: 14.42 | F34: 14.32 | G34: 14.42 | H34: 14.08 | I34: 13.74 | J34: 14.56 | K34: 14.7
A35: 4 | B35: 14.52 | C35: 14.52 | D35: 14.36 | E35: 14.32 | F35: 14.34 | G35: 14.26 | H35: 14.76 | I35: 14.26 | J35: 13.74 | K35: 13.82
A36: 5 | B36: 14.32 | C36: 14.36 | D36: 14.28 | E36: 14.5 | F36: 14.14 | G36: 14.2 | H36: 13.78 | I36: 15.16 | J36: 13.7 | K36: 14.1
A37: 6 | B37: 13.96 | C37: 14.1 | D37: 14.14 | E37: 14.04 | F37: 14.12 | G37: 13.88 | H37: 14.86 | I37: 14.22 | J37: 13.94 | K37: 14.38
A38: 7 | B38: 15.04 | C38: 14.32 | D38: 14.36 | E38: 14.3 | F38: 14.2 | G38: 14.2 | H38: 14.42 | I38: 14.38 | J38: 14.8 | K38: 13.98
A39: 8 | B39: 14.06 | C39: 15 | D39: 14.52 | E39: 14.08 | F39: 14.44 | G39: 14.08 | H39: 14.4 | I39: 14.52 | J39: 13.56 | K39: 13.86
A40: 9 | B40: 15.06 | C40: 14.1 | D40: 14.46 | E40: 14.1 | F40: 14.46 | G40: 13.8 | H40: 14.2 | I40: 14.72 | J40: 13.62 | K40: 12.72
A41: 10 | B41: 15.08 | C41: 13.44 | D41: 14.6 | E41: 14.62 | F41: 14.58 | G41: 14.1 | H41: 13.8 | I41: 13.92 | J41: 13.9 | K41: 14.36
I43: TỔNG | K43: =+SUM(B32:K41) -> 1423.34
A45: XE 4
B46: 1 | C46: 2 | D46: 3 | E46: 4 | F46: 5 | G46: 6 | H46: 7 | I46: 8 | J46: 9 | K46: 10
A47: 1 | B47: 13.98 | C47: 14.68 | D47: 14.54 | E47: 14.4 | F47: 14.54 | G47: 13.68 | H47: 14.36 | I47: 14.76 | J47: 14.96 | K47: 14.42
A48: 2 | B48: 14.06 | C48: 14.4 | D48: 14.14 | E48: 14.06 | F48: 14.22 | G48: 14.46 | H48: 14.02 | I48: 14.1 | J48: 14.04 | K48: 14.86
A49: 3 | B49: 14.16 | C49: 14.34 | D49: 13.86 | E49: 14.26 | F49: 14.26 | G49: 13.98 | H49: 14.68 | I49: 14.88 | J49: 14.18 | K49: 14.32
A50: 4 | B50: 14.62 | C50: 14.58 | D50: 14.2 | E50: 14.1 | F50: 14.1 | G50: 14.4 | H50: 15.18 | I50: 14.64 | J50: 14.26 | K50: 14.64
A51: 5 | B51: 14.14 | C51: 14.84 | D51: 12.26 | E51: 14.12 | F51: 13.92 | G51: 14.44 | H51: 14.3 | I51: 15.48 | J51: 14 | K51: 14.72
A52: 6 | B52: 14.68 | C52: 14.12 | D52: 14.44 | E52: 14.34 | F52: 14.22 | G52: 13.42 | H52: 14.46 | I52: 14.82 | J52: 14.38 | K52: 14.92
A53: 7 | B53: 14.32 | C53: 12.16 | D53: 14.08 | E53: 14.02 | F53: 13.54 | G53: 13.5 | H53: 14.64 | I53: 14.72 | J53: 14.14 | K53: 14.88
A54: 8 | B54: 14.5 | C54: 13.96 | D54: 14.34 | E54: 14.44 | F54: 13.98 | G54: 14.3 | H54: 14.8 | I54: 14.42 | J54: 14.16 | K54: 14.8
A55: 9 | B55: 14.12 | C55: 14.04 | D55: 14.22 | E55: 14.4 | F55: 14.96 | G55: 15.02 | H55: 14.18 | I55: 14.6 | J55: 14.88 | K55: 14.92
A56: 10 | B56: 14.46 | C56: 14.24 | D56: 14.14 | E56: 14.12 | F56: 14.32 | G56: 15.04 | H56: 14.3 | I56: 14.52 | J56: 15.42 | K56: 15.12
I58: TỔNG | K58: =+SUM(B47:K56) -> 1435.06
A59: XE 5
B60: 1 | C60: 2 | D60: 3 | E60: 4 | F60: 5 | G60: 6 | H60: 7 | I60: 8 | J60: 9 | K60: 10
A61: 1 | B61: 14.68 | C61: 14.1 | D61: 14.2 | E61: 14.58 | F61: 14.62 | G61: 14.42 | H61: 14.46 | I61: 14.42 | J61: 15.12 | K61: 14.7
A62: 2 | B62: 14.38 | C62: 14.26 | D62: 14.62 | E62: 14.22 | F62: 14.38 | G62: 14.36 | H62: 14.64 | I62: 14.16 | J62: 14.68 | K62: 14.74
A63: 3 | B63: 14.36 | C63: 14.1 | D63: 14.38 | E63: 14.28 | F63: 14.56 | G63: 14.4 | H63: 15.18 | I63: 13.34 | J63: 13.8 | K63: 14.44
A64: 4 | B64: 14.52 | C64: 14.26 | D64: 14.22 | E64: 14.48 | F64: 14.66 | G64: 14.52 | H64: 14.42 | I64: 15.84 | J64: 14.64 | K64: 14.58
A65: 5 | B65: 14.22 | C65: 14.2 | D65: 14.4 | E65: 14.46 | F65: 14.56 | G65: 14.42 | H65: 14.4 | I65: 14.26 | J65: 14.58 | K65: 14.76
A66: 6 | B66: 14.2 | C66: 14.36 | D66: 14.36 | E66: 14.42 | F66: 14.58 | G66: 14.1 | H66: 14.42 | I66: 15.2 | J66: 14.12 | K66: 14.78
A67: 7 | B67: 14.54 | C67: 14.24 | D67: 14.28 | E67: 14.46 | F67: 14.38 | G67: 14.62 | H67: 14.02 | I67: 14.74 | J67: 15.46 | K67: 15
A68: 8 | B68: 14.6 | C68: 14.5 | D68: 14.32 | E68: 14.52 | F68: 14.46 | G68: 14.4 | H68: 14.44 | I68: 14.14 | J68: 14.48 | K68: 14.6
A69: 9 | B69: 14.22 | C69: 14.38 | D69: 14.36 | E69: 14.36 | F69: 14.64 | G69: 14.48 | H69: 14.6 | I69: 14.1 | J69: 14.7 | K69: 15.34
A70: 10 | B70: 13.98 | C70: 14.42 | D70: 13.26 | E70: 14.18 | F70: 14.36 | G70: 14.26 | H70: 14.76 | I70: 14.14 | J70: 14.48 | K70: 14.02
A71: 11
I73: TỔNG | K73: =+SUM(B61:K71) -> 1444.76
A74: XE 6
B75: 1 | C75: 2 | D75: 3 | E75: 4 | F75: 5 | G75: 6 | H75: 7 | I75: 8 | J75: 9 | K75: 10
A76: 1 | B76: 14.24 | C76: 14.58 | D76: 14.28 | E76: 14.28 | F76: 14.38 | G76: 14.34 | H76: 14.32 | I76: 14.88 | J76: 14.92 | K76: 15.42
A77: 2 | B77: 14.44 | C77: 14.24 | D77: 14.44 | E77: 14.5 | F77: 13.68 | G77: 14.64 | H77: 15.04 | I77: 15.3 | J77: 15.4 | K77: 15.88
A78: 3 | B78: 14.44 | C78: 14.64 | D78: 14.26 | E78: 14.34 | F78: 14.16 | G78: 13.68 | H78: 14.42 | I78: 15.12 | J78: 15.28 | K78: 15.46
A79: 4 | B79: 14.56 | C79: 14.82 | D79: 14.52 | E79: 14.78 | F79: 14.46 | G79: 14.98 | H79: 13.8 | I79: 14.44 | J79: 14.82 | K79: 13.9
A80: 5 | B80: 14.38 | C80: 14.4 | D80: 14.44 | E80: 14.38 | F80: 13.34 | G80: 14.4 | H80: 15.26 | I80: 14.76 | J80: 15.04 | K80: 15.72
A81: 6 | B81: 14.4 | C81: 14.46 | D81: 14.38 | E81: 13.66 | F81: 14.14 | G81: 14.36 | H81: 13.74 | I81: 14.84 | J81: 14.98 | K81: 15.08
A82: 7 | B82: 14.46 | C82: 14.24 | D82: 14.36 | E82: 14.28 | F82: 14.2 | G82: 13.54 | H82: 13.46 | I82: 15.16 | J82: 15.14 | K82: 14.12
A83: 8 | B83: 14.5 | C83: 14.72 | D83: 14.78 | E83: 14.96 | F83: 13.54 | G83: 13.5 | H83: 13.94 | I83: 14.76 | J83: 14.58 | K83: 14.84
A84: 9 | B84: 14.2 | C84: 14.28 | D84: 14.52 | E84: 14.3 | F84: 14.24 | G84: 14.04 | H84: 14.46 | I84: 14.54 | J84: 15.64 | K84: 15.24
A85: 10 | B85: 13.44 | C85: 14.18 | D85: 14.34 | E85: 14.34 | F85: 14.42 | G85: 13.98 | H85: 13.34 | I85: 14.78 | J85: 15.5 | K85: 15.44
I87: TỔNG | K87: =+SUM(B76:K85) -> 1450.54

Sheet NGAY 27-01
A1: XE 1 - GÀ
B2: 1 | C2: 2 | D2: 3 | E2: 4 | F2: 5 | G2: 6 | H2: 7 | I2: 8 | J2: 9 | K2: 10
A3: 1 | B3: 14.26 | C3: 14.34 | D3: 14.58 | E3: 14.14 | F3: 14.16 | G3: 14.4 | H3: 15.22 | I3: 14.28 | J3: 14.36 | K3: 14.34
A4: 2 | B4: 14.36 | C4: 14.38 | D4: 14.24 | E4: 14.8 | F4: 14.94 | G4: 14.42 | H4: 14.266 | I4: 14.64 | J4: 14.58 | K4: 14
A5: 3 | B5: 14.14 | C5: 14.2 | D5: 14.38 | E5: 14.32 | F5: 14.66 | G5: 14.38 | H5: 14.3 | I5: 14.46 | J5: 14.62 | K5: 14.2
A6: 4 | B6: 13.98 | C6: 14.8 | D6: 13.32 | E6: 14.4 | F6: 14.56 | G6: 15.36 | H6: 15.98 | I6: 14.48 | J6: 14.26 | K6: 15.04
A7: 5 | B7: 14.36 | C7: 14.44 | D7: 14.42 | E7: 14.44 | F7: 14.36 | G7: 14.48 | H7: 14.94 | I7: 14.44 | J7: 15.44 | K7: 14.44
A8: 6 | B8: 14.4 | C8: 12.88 | D8: 14.32 | E8: 14.78 | F8: 14.56 | G8: 15 | H8: 14.34 | I8: 14.46 | J8: 15.12 | K8: 15.98
A9: 7 | B9: 13.46 | C9: 14.28 | D9: 14.4 | E9: 14.4 | F9: 14.24 | G9: 14.3 | H9: 14.62 | I9: 14.36 | J9: 14.28 | K9: 15.32
A10: 8 | B10: 14.4 | C10: 14.42 | D10: 14.38 | E10: 14.44 | F10: 14.82 | G10: 14.66 | H10: 14.54 | I10: 14.36 | J10: 14.36 | K10: 14.7
A11: 9 | B11: 14.34 | C11: 14.46 | D11: 14.18 | E11: 14.66 | F11: 14.48 | G11: 14.4 | H11: 14.32 | I11: 15.38 | J11: 15.44 | K11: 14.26
A12: 10 | B12: 14.38 | C12: 14.4 | D12: 14.44 | E12: 14.44 | F12: 15.26 | G12: 14.54 | H12: 14.8 | I12: 14.84 | J12: 14.34 | K12: 14.18
I14: TỔNG | K14: =+SUM(B3:K12) -> 1450.426
A15: XE 2 - Mỡ
B16: 1 | C16: 2 | D16: 3 | E16: 4 | F16: 5 | G16: 6 | H16: 7 | I16: 8 | J16: 9 | K16: 10
A17: 1 | B17: 24.3 | C17: 22.8 | D17: 23.06 | E17: 23.52 | F17: 24.76
A18: 2 | B18: 24.34 | C18: 23.2 | D18: 25.6 | E18: 25.58 | F18: 25.2
A19: 3 | B19: 24.52 | C19: 25.1 | D19: 23.75 | E19: 26.52 | F19: 24.44
A20: 4 | B20: 24.7 | C20: 25.1 | D20: 25.1 | E20: 24.72 | F20: 25.08
A21: 5 | B21: 23.9 | C21: 24.72 | D21: 23.38 | E21: 24.94 | F21: 24.52
A22: 6 | B22: 24.26 | C22: 24.42 | D22: 24.5 | E22: 23 | F22: 23.4
A23: 7 | B23: 24.98 | C23: 24.04 | D23: 22.78 | E23: 23.9
A24: 8 | B24: 24.94 | C24: 24.1 | D24: 24.2 | E24: 24.5
A25: 9 | B25: 24.14 | C25: 22.8 | D25: 25.08 | E25: 24.86
A26: 10 | B26: 24.08 | C26: 23.12 | D26: 22.92 | E26: 28.05
A27: 11 | B27: 24.94 | C27: 23.88 | D27: 25.6 | E27: 24.1
I29: TỔNG | K29: =+SUM(B17:K27) -> 1219.44
A30: XE 3
B31: 1 | C31: 2 | D31: 3 | E31: 4 | F31: 5 | G31: 6 | H31: 7 | I31: 8 | J31: 9 | K31: 10
A32: 1 | B32: 16.94 | C32: 14.26 | D32: 13.98 | E32: 14.6 | F32: 14.44 | G32: 14.38 | H32: 14.5 | I32: 14.22 | J32: 14.22 | K32: 14.76
A33: 2 | B33: 15.5 | C33: 15.2 | D33: 13.94 | E33: 14.58 | F33: 14.28 | G33: 14.38 | H33: 14.56 | I33: 14.94 | J33: 14.3 | K33: 14.54
A34: 3 | B34: 15.74 | C34: 15 | D34: 14.24 | E34: 14.66 | F34: 14.24 | G34: 14.28 | H34: 14.78 | I34: 14.36 | J34: 14.58 | K34: 14.48
A35: 4 | B35: 15.34 | C35: 14.78 | D35: 14.96 | E35: 14.5 | F35: 14.78 | G35: 14.5 | H35: 15.26 | I35: 12.94 | J35: 14.42 | K35: 13.96
A36: 5 | B36: 15.36 | C36: 14.32 | D36: 14.6 | E36: 14.42 | F36: 14.36 | G36: 14.62 | H36: 15.22 | I36: 16.5 | J36: 14.38 | K36: 14.44
A37: 6 | B37: 14.98 | C37: 15.22 | D37: 15.18 | E37: 14.3 | F37: 14.42 | G37: 14.8 | H37: 15.44 | I37: 14.32 | J37: 14.04 | K37: 14.38
A38: 7 | B38: 14.54 | C38: 14.64 | D38: 14.3 | E38: 14.7 | F38: 14.3 | G38: 14.28 | H38: 15.66 | I38: 15.3 | J38: 14.28 | K38: 14.24
A39: 8 | B39: 15.86 | C39: 15.2 | D39: 14.1 | E39: 14.48 | F39: 14.5 | G39: 14.82 | H39: 15.34 | I39: 14.54 | J39: 14.24 | K39: 14.6
A40: 9 | B40: 14.36 | C40: 14.32 | D40: 14.54 | E40: 14.82 | F40: 14.32 | G40: 14.48 | H40: 15.32 | I40: 14.4 | J40: 13.72 | K40: 14.76
A41: 10 | B41: 15.12 | C41: 15.18 | D41: 14.74 | E41: 14.36 | F41: 14.38 | G41: 14.58 | H41: 14.38 | I41: 14.66 | J41: 14.04 | K41: 12.96
I43: TỔNG | K43: =+SUM(B32:K41) -> 1462.98

Sheet NGAY 28-01
A1: XE 1 - GÀ
B2: 1 | C2: 2 | D2: 3 | E2: 4 | F2: 5 | G2: 6 | H2: 7 | I2: 8 | J2: 9 | K2: 10
A3: 1 | B3: 14.16 | C3: 13.8 | D3: 14.24 | E3: 14.24 | F3: 14.16 | G3: 13.74 | H3: 14.32 | I3: 14.6 | J3: 14.46 | K3: 14.42
A4: 2 | B4: 14.24 | C4: 15.32 | D4: 14.16 | E4: 14.4 | F4: 14.5 | G4: 14.42 | H4: 14.86 | I4: 14.44 | J4: 14.56 | K4: 14.56
A5: 3 | B5: 14.56 | C5: 14.34 | D5: 14.32 | E5: 13.9 | F5: 14.14 | G5: 14.13 | H5: 14.18 | I5: 14.6 | J5: 14.78 | K5: 14.7
A6: 4 | B6: 14.44 | C6: 15.2 | D6: 14.36 | E6: 14.38 | F6: 14.4 | G6: 14.18 | H6: 14.34 | I6: 14.14 | J6: 14.6 | K6: 14.18
A7: 5 | B7: 14.52 | C7: 14.18 | D7: 14.38 | E7: 14.14 | F7: 14.34 | G7: 14.1 | H7: 14.3 | I7: 14.18 | J7: 14.56 | K7: 14.6
A8: 6 | B8: 15.02 | C8: 14.5 | D8: 14.26 | E8: 14.26 | F8: 14.14 | G8: 14.02 | H8: 14.02 | I8: 14.16 | J8: 14.5 | K8: 14.76
A9: 7 | B9: 15.1 | C9: 14.28 | D9: 14.36 | E9: 14.18 | F9: 14.24 | G9: 14.4 | H9: 14.34 | I9: 15.22 | J9: 14.58 | K9: 14.4
A10: 8 | B10: 14.7 | C10: 14.28 | D10: 14.3 | E10: 14.4 | F10: 14.14 | G10: 14.54 | H10: 14.42 | I10: 14.06 | J10: 14.02 | K10: 14.24
A11: 9 | B11: 14.16 | C11: 12.92 | D11: 14.52 | E11: 14.32 | F11: 17.02 | G11: 13.78 | H11: 14.4 | I11: 14.56 | J11: 14.26 | K11: 14.46
A12: 10 | B12: 13.28 | C12: 14.32 | D12: 14.26 | E12: 14.36 | F12: 14.22 | G12: 14.06 | H12: 14.22 | I12: 14.68 | J12: 14.7 | K12: 14.5
I14: TỔNG | K14: =+SUM(B3:K12) -> 1437.61
A15: XE 2 - Mỡ
B16: 1 | C16: 2 | D16: 3 | E16: 4 | F16: 5 | G16: 6 | H16: 7 | I16: 8 | J16: 9 | K16: 10
A17: 1 | B17: 14.24 | C17: 14.4 | D17: 14.28 | E17: 14.72 | F17: 14.4 | G17: 14.68 | H17: 14.28 | I17: 14.56 | J17: 14.6 | K17: 14.8
A18: 2 | B18: 14.38 | C18: 14.36 | D18: 14.78 | E18: 14.36 | F18: 14.46 | G18: 15.66 | H18: 14.6 | I18: 14.72 | J18: 14.36 | K18: 14.56
A19: 3 | B19: 14.26 | C19: 14.42 | D19: 14.48 | E19: 14.2 | F19: 14.52 | G19: 14.58 | H19: 14.44 | I19: 14.34 | J19: 14.68 | K19: 14.54
A20: 4 | B20: 14.24 | C20: 14.28 | D20: 14.66 | E20: 14.18 | F20: 14.48 | G20: 14.48 | H20: 14.64 | I20: 14.56 | J20: 14.74 | K20: 14.56
A21: 5 | B21: 14.4 | C21: 14.24 | D21: 12.96 | E21: 14.56 | F21: 14.3 | G21: 14.28 | H21: 14.48 | I21: 14.5 | J21: 15.16 | K21: 14.1
A22: 6 | B22: 14.36 | C22: 14.36 | D22: 14.2 | E22: 14.18 | F22: 14.7 | G22: 14.62 | H22: 14.76 | I22: 14.5 | J22: 15.34 | K22: 14.04
A23: 7 | B23: 14.28 | C23: 14.34 | D23: 14.48 | E23: 14.18 | F23: 14.72 | G23: 13.6 | H23: 14.38 | I23: 14.78 | J23: 14.82 | K23: 14.9
A24: 8 | B24: 14.52 | C24: 14.52 | D24: 13.32 | E24: 14.2 | F24: 14.18 | G24: 14.26 | H24: 14.38 | I24: 14.06 | J24: 15.5 | K24: 14.66
A25: 9 | B25: 14.44 | C25: 14.42 | D25: 14.44 | E25: 14.6 | F25: 15 | G25: 14.24 | H25: 14.56 | I25: 14.74 | J25: 14.46 | K25: 14.1
A26: 10 | B26: 14.4 | C26: 14 | D26: 14.32 | E26: 14.52 | F26: 14.24 | G26: 14.6 | H26: 14.4 | I26: 14.42 | J26: 15.18 | K26: 14.46
A27: 11
I29: TỔNG | K29: =+SUM(B17:K27) -> 1446.14
A30: XE 3
B31: 1 | C31: 2 | D31: 3 | E31: 4 | F31: 5 | G31: 6 | H31: 7 | I31: 8 | J31: 9 | K31: 10
A32: 1
A33: 2
A34: 3
A35: 4
A36: 5
A37: 6
A38: 7
A39: 8
A40: 9
A41: 10
I43: TỔNG | K43: =+SUM(B32:K41) -> 0

Sheet NGAY 29-01
A1: XE 1 - GÀ
B2: 1 | C2: 2 | D2: 3 | E2: 4 | F2: 5 | G2: 6 | H2: 7 | I2: 8 | J2: 9 | K2: 10
A3: 1 | B3: 14.48 | C3: 14.44 | D3: 14.44 | E3: 14.8 | F3: 14.56 | G3: 14.64 | H3: 14.98 | I3: 14.56 | J3: 14 | K3: 14.42
A4: 2 | B4: 14.12 | C4: 14.32 | D4: 14.44 | E4: 14.44 | F4: 14.98 | G4: 14.58 | H4: 14.88 | I4: 14.52 | J4: 14.34 | K4: 14.42
A5: 3 | B5: 14.52 | C5: 14.62 | D5: 14.42 | E5: 14.82 | F5: 14.74 | G5: 15.14 | H5: 14.68 | I5: 14.64 | J5: 14.32 | K5: 14.5
A6: 4 | B6: 14.3 | C6: 14.62 | D6: 14.64 | E6: 14.36 | F6: 15.72 | G6: 13.96 | H6: 13.82 | I6: 15.44 | J6: 13.66 | K6: 14.64
A7: 5 | B7: 15.2 | C7: 14.3 | D7: 14.5 | E7: 14.36 | F7: 14.56 | G7: 14.78 | H7: 15.02 | I7: 15.16 | J7: 14.36 | K7: 14.58
A8: 6 | B8: 14.46 | C8: 14.38 | D8: 14.48 | E8: 14.42 | F8: 15.88 | G8: 14.88 | H8: 14.26 | I8: 14.42 | J8: 14.51 | K8: 14.16
A9: 7 | B9: 14.44 | C9: 14.34 | D9: 14.58 | E9: 14.92 | F9: 15.52 | G9: 14.52 | H9: 14.44 | I9: 14 | J9: 13.92 | K9: 14.48
A10: 8 | B10: 14.7 | C10: 14.2 | D10: 14.338 | E10: 14.92 | F10: 15.44 | G10: 14.06 | H10: 14.98 | I10: 14.36 | J10: 14.46 | K10: 14.78
A11: 9 | B11: 14.38 | C11: 14.08 | D11: 14.3 | E11: 15.02 | F11: 14.54 | G11: 14.58 | H11: 14.22 | I11: 14.38 | J11: 14.6 | K11: 14.04
A12: 10 | B12: 14.44 | C12: 14.68 | D12: 14.6 | E12: 14.62 | F12: 14.22 | G12: 15.26 | H12: 14.38 | I12: 14.28 | J12: 14.56 | K12: 14.48
I14: TỔNG | K14: =+SUM(B3:K12) -> 1455.648
A15: XE 2 - Mỡ
B16: 1 | C16: 2 | D16: 3 | E16: 4 | F16: 5 | G16: 6 | H16: 7 | I16: 8 | J16: 9 | K16: 10
A17: 1 | B17: 14.38 | C17: 15.06 | D17: 14.84 | E17: 14.52 | F17: 14.26 | G17: 14.44 | H17: 14.38 | I17: 14.8 | J17: 14.22 | K17: 14.5
A18: 2 | B18: 14.34 | C18: 15.24 | D18: 14.1 | E18: 14.54 | F18: 14.24 | G18: 14.56 | H18: 14.62 | I18: 14.38 | J18: 14.06 | K18: 14.18
A19: 3 | B19: 14.56 | C19: 14.6 | D19: 14.5 | E19: 14.64 | F19: 14.74 | G19: 14.46 | H19: 14.6 | I19: 14.52 | J19: 14.04 | K19: 14.08
A20: 4 | B20: 14.38 | C20: 13.94 | D20: 14.14 | E20: 14.38 | F20: 14.24 | G20: 14.44 | H20: 14.14 | I20: 14.48 | J20: 14.08 | K20: 14.4
A21: 5 | B21: 14.36 | C21: 14.58 | D21: 14.56 | E21: 14.04 | F21: 14.64 | G21: 14.08 | H21: 14.28 | I21: 14.04 | J21: 14.4 | K21: 14.56
A22: 6 | B22: 14.36 | C22: 14.46 | D22: 14.58 | E22: 14.46 | F22: 14.2 | G22: 14.46 | H22: 14.42 | I22: 14.62 | J22: 14.5 | K22: 15.1
A23: 7 | B23: 14.1 | C23: 15.6 | D23: 14.46 | E23: 14.92 | F23: 14.54 | G23: 14.4 | H23: 14.56 | I23: 15.12 | J23: 15.18 | K23: 14.1
A24: 8 | B24: 14.14 | C24: 14.36 | D24: 14.48 | E24: 14.6 | F24: 14.5 | G24: 14.74 | H24: 14.42 | I24: 14.9 | J24: 14.8 | K24: 14.66
A25: 9 | B25: 14.66 | C25: 14.15 | D25: 14.36 | E25: 14.12 | F25: 14.24 | G25: 13.96 | H25: 15.5 | I25: 14.2 | J25: 14.38 | K25: 14.66
A26: 10 | B26: 14.58 | C26: 15.12 | D26: 14.48 | E26: 14.74 | F26: 14.34 | G26: 14.46 | H26: 15.36 | I26: 14.34 | J26: 14.46 | K26: 14.4
A27: 11
I29: TỔNG | K29: =+SUM(B17:K27) -> 1448.81
A30: XE 3
B31: 1 | C31: 2 | D31: 3 | E31: 4 | F31: 5 | G31: 6 | H31: 7 | I31: 8 | J31: 9 | K31: 10
A32: 1 | B32: 14.7 | C32: 14.9 | D32: 14.9 | E32: 15.1 | F32: 15 | G32: 15.2 | H32: 14.9 | I32: 15.3 | J32: 15.1 | K32: 15.1
A33: 2 | B33: 14.8 | C33: 15.3 | D33: 15.2 | E33: 15 | F33: 15 | G33: 15 | H33: 15.2 | I33: 15.2 | J33: 14.9 | K33: 15.1
A34: 3 | B34: 15.3 | C34: 14.8 | D34: 15.4 | E34: 15.2 | F34: 15.4 | G34: 15.3 | H34: 15.2 | I34: 15.3 | J34: 15 | K34: 15.1
A35: 4 | B35: 15 | C35: 14.8 | D35: 14.8 | E35: 14.9 | F35: 15.1 | G35: 15 | H35: 15.8 | I35: 15.5 | J35: 15.1 | K35: 15
A36: 5 | B36: 14.6 | C36: 15.2 | D36: 15.3 | E36: 15.2 | F36: 15.1 | G36: 15.2 | H36: 15.2 | I36: 15.1 | J36: 15 | K36: 15
A37: 6 | B37: 16.1 | C37: 15.1 | D37: 15.1 | E37: 15.5 | F37: 15 | G37: 15.6 | H37: 15 | I37: 14.8 | J37: 15.2 | K37: 15.5
A38: 7 | B38: 15.1 | C38: 15.1 | D38: 14.9 | E38: 14.7 | F38: 14.9 | G38: 15.2 | H38: 15.5 | I38: 16 | J38: 15.2 | K38: 15.2
A39: 8 | B39: 15.2 | C39: 15.3 | D39: 15.1 | E39: 14.9 | F39: 14.7 | G39: 15 | H39: 15.3 | I39: 15.3 | J39: 15 | K39: 15.3
A40: 9 | B40: 15.2 | C40: 14.9 | D40: 15 | E40: 14.7 | F40: 15 | G40: 14.9 | H40: 16.2 | I40: 15.3 | J40: 15.1 | K40: 14.8
A41: 10 | B41: 15.3 | C41: 15.4 | D41: 15.3 | E41: 15.1 | F41: 15.2 | G41: 14.8 | H41: 16.2 | I41: 15.1 | J41: 15 | K41: 14.9
I43: TỔNG | K43: =+SUM(B32:K41) -> 1514

Sheet NGAY 30-01
A1: XE 1 - GÀ
B2: 1 | C2: 2 | D2: 3 | E2: 4 | F2: 5 | G2: 6 | H2: 7 | I2: 8 | J2: 9 | K2: 10
A3: 1 | B3: 14.64 | C3: 14.4 | D3: 14.32 | E3: 14.3 | F3: 14.22 | G3: 14.3 | H3: 14.32 | I3: 14.94 | J3: 14.84 | K3: 14.84
A4: 2 | B4: 14.44 | C4: 14.3 | D4: 14.94 | E4: 14.34 | F4: 13.82 | G4: 14.3 | H4: 14.54 | I4: 14.58 | J4: 14.62 | K4: 14.46
A5: 3 | B5: 14.42 | C5: 15.08 | D5: 14.58 | E5: 14.36 | F5: 14.32 | G5: 14.28 | H5: 14.6 | I5: 14.06 | J5: 14.86 | K5: 15.1
A6: 4 | B6: 14.64 | C6: 14.28 | D6: 14.92 | E6: 14.46 | F6: 13.24 | G6: 14.16 | H6: 14.84 | I6: 14.24 | J6: 15.24 | K6: 15.4
A7: 5 | B7: 14.3 | C7: 15.44 | D7: 14.48 | E7: 14.2 | F7: 14.26 | G7: 14.36 | H7: 14.5 | I7: 13.86 | J7: 14.44 | K7: 13.98
A8: 6 | B8: 14.64 | C8: 14.2 | D8: 14.64 | E8: 14.3 | F8: 14.52 | G8: 13.82 | H8: 14.34 | I8: 14.24 | J8: 13.94 | K8: 14.96
A9: 7 | B9: 14.52 | C9: 13.78 | D9: 14.5 | E9: 14.54 | F9: 14.34 | G9: 14.3 | H9: 14.64 | I9: 14.36 | J9: 13.9 | K9: 14.42
A10: 8 | B10: 14.4 | C10: 14.3 | D10: 14.4 | E10: 13.92 | F10: 14.12 | G10: 14.34 | H10: 14.52 | I10: 14.88 | J10: 15.1 | K10: 14.38
A11: 9 | B11: 15.08 | C11: 14.28 | D11: 14.2 | E11: 14.18 | F11: 14.42 | G11: 14.52 | H11: 14.42 | I11: 15.16 | J11: 15.3 | K11: 15
A12: 10 | B12: 15.14 | C12: 14.7 | D12: 14.46 | E12: 14.18 | F12: 13.36 | G12: 14.32 | H12: 14.82 | I12: 14.3 | J12: 15 | K12: 15.1
I14: TỔNG | K14: =+SUM(B3:K12) -> 1447.56
A15: XE 2 - Mỡ
B16: 1 | C16: 2 | D16: 3 | E16: 4 | F16: 5 | G16: 6 | H16: 7 | I16: 8 | J16: 9 | K16: 10
A17: 1 | B17: 14.9 | C17: 15.78 | D17: 14.48 | E17: 14.46 | F17: 15.22 | G17: 14.26 | H17: 14.46 | I17: 14.46 | J17: 14.16 | K17: 14.56
A18: 2 | B18: 14.92 | C18: 15.06 | D18: 14 | E18: 14.46 | F18: 15.52 | G18: 14.1 | H18: 14.58 | I18: 14.42 | J18: 14.58 | K18: 14.66
A19: 3 | B19: 14.24 | C19: 15 | D19: 14.52 | E19: 14.6 | F19: 15.3 | G19: 13.9 | H19: 14.2 | I19: 14.44 | J19: 14.48 | K19: 14.92
A20: 4 | B20: 14.5 | C20: 15.28 | D20: 14.26 | E20: 14.84 | F20: 15.1 | G20: 14.3 | H20: 14.48 | I20: 14.18 | J20: 14.68 | K20: 14.5
A21: 5 | B21: 14.9 | C21: 15.86 | D21: 13.78 | E21: 14.82 | F21: 15.56 | G21: 14.6 | H21: 14.36 | I21: 14.46 | J21: 14.6 | K21: 14.34
A22: 6 | B22: 14.3 | C22: 14.42 | D22: 13.88 | E22: 14.46 | F22: 14.3 | G22: 14.46 | H22: 14.44 | I22: 13.4 | J22: 14.54 | K22: 14.74
A23: 7 | B23: 14.48 | C23: 14.24 | D23: 13.4 | E23: 14.46 | F23: 14.44 | G23: 13.9 | H23: 14.16 | I23: 14.46 | J23: 14.4 | K23: 14.76
A24: 8 | B24: 14.64 | C24: 15.58 | D24: 14.2 | E24: 14.28 | F24: 14.08 | G24: 14.02 | H24: 14.54 | I24: 14.36 | J24: 14.66 | K24: 14.78
A25: 9 | B25: 13.68 | C25: 15.24 | D25: 14.42 | E25: 14.36 | F25: 14 | G25: 14.18 | H25: 14.46 | I25: 14.34 | J25: 14.46 | K25: 14
A26: 10 | B26: 14.42 | C26: 14.18 | D26: 14.02 | E26: 13.96 | F26: 14.26 | G26: 14.54 | H26: 14.48 | I26: 14.18 | J26: 14.66 | K26: 14.36
A27: 11
I29: TỔNG | K29: =+SUM(B17:K27) -> 1449.02
A30: XE 3
B31: 1 | C31: 2 | D31: 3 | E31: 4 | F31: 5 | G31: 6 | H31: 7 | I31: 8 | J31: 9 | K31: 10
A32: 1 | B32: 14.6 | C32: 14.58 | D32: 14.54 | E32: 14.18 | F32: 15.06 | G32: 15.26 | H32: 15.06 | I32: 14.34 | J32: 14.08 | K32: 14.16
A33: 2 | B33: 14.58 | C33: 14.6 | D33: 14.5 | E33: 13.88 | F33: 15.02 | G33: 14.88 | H33: 16.12 | I33: 14.72 | J33: 14.08 | K33: 14.08
A34: 3 | B34: 14.26 | C34: 14.94 | D34: 14.72 | E34: 14.62 | F34: 14.96 | G34: 14.6 | H34: 14.44 | I34: 14.14 | J34: 14.64 | K34: 14.64
A35: 4 | B35: 14.6 | C35: 14.14 | D35: 14.52 | E35: 14.6 | F35: 14.58 | G35: 14.56 | H35: 14.86 | I35: 14.64 | J35: 14.34 | K35: 14.5
A36: 5 | B36: 14.18 | C36: 14.34 | D36: 14.08 | E36: 14.6 | F36: 14.98 | G36: 15.2 | H36: 15.22 | I36: 14.96 | J36: 14.96 | K36: 14.76
A37: 6 | B37: 14.3 | C37: 14.72 | D37: 14.36 | E37: 14.4 | F37: 14.94 | G37: 15.24 | H37: 14.42 | I37: 14.26 | J37: 14.54 | K37: 14.42
A38: 7 | B38: 14.7 | C38: 14.4 | D38: 14.68 | E38: 14.9 | F38: 14.78 | G38: 15.32 | H38: 14.96 | I38: 14.74 | J38: 14.76 | K38: 15.74
A39: 8 | B39: 15.06 | C39: 13.98 | D39: 14.56 | E39: 15.76 | F39: 14.94 | G39: 14.7 | H39: 15 | I39: 14.26 | J39: 14.56 | K39: 15.12
A40: 9 | B40: 14.44 | C40: 14.64 | D40: 14.4 | E40: 14.36 | F40: 14.72 | G40: 15.06 | H40: 15.16 | I40: 14.4 | J40: 14.56 | K40: 14.34
A41: 10 | B41: 14.36 | C41: 14.46 | D41: 14.18 | E41: 15.04 | F41: 14.58 | G41: 14.98 | H41: 14.68 | I41: 14.34 | J41: 14.16 | K41: 14.56
I43: TỔNG | K43: =+SUM(B32:K41) -> 1464.84
A45: XE 4
B46: 1 | C46: 2 | D46: 3 | E46: 4 | F46: 5 | G46: 6 | H46: 7 | I46: 8 | J46: 9 | K46: 10
A47: 1 | B47: 14.56 | C47: 15.1 | D47: 15.24 | E47: 14.42 | F47: 14.94 | G47: 14.24 | H47: 14.88 | I47: 14.38 | J47: 14.3 | K47: 15.12
A48: 2 | B48: 14.48 | C48: 15.2 | D48: 15.28 | E48: 13.82 | F48: 14.56 | G48: 14.24 | H48: 14.48 | I48: 14.6 | J48: 14.64 | K48: 14.66
A49: 3 | B49: 14.3 | C49: 14.94 | D49: 14.94 | E49: 13.9 | F49: 14.68 | G49: 15.14 | H49: 14.638 | I49: 14.42 | J49: 14.62 | K49: 14.42
A50: 4 | B50: 14.06 | C50: 15.68 | D50: 14.18 | E50: 14.66 | F50: 14.82 | G50: 15.72 | H50: 14.22 | I50: 15.36 | J50: 14.42 | K50: 14.34
A51: 5 | B51: 14.02 | C51: 13.94 | D51: 15.36 | E51: 14.38 | F51: 14.94 | G51: 14.68 | H51: 15.06 | I51: 15.14 | J51: 14.96 | K51: 14.54
A52: 6 | B52: 14.84 | C52: 14.94 | D52: 15.3 | E52: 14.7 | F52: 14.2 | G52: 14.2 | H52: 13.98 | I52: 14.72 | J52: 14.36 | K52: 15.14
A53: 7 | B53: 14.66 | C53: 15 | D53: 15.1 | E53: 14.24 | F53: 14.64 | G53: 14.28 | H53: 14.5 | I53: 14.28 | J53: 14.7 | K53: 14.46
A54: 8 | B54: 14.68 | C54: 15 | D54: 14.98 | E54: 14.62 | F54: 14.54 | G54: 15.38 | H54: 14.4 | I54: 14.54 | J54: 14.6 | K54: 14.34
A55: 9 | B55: 14.74 | C55: 14 | D55: 14.64 | E55: 14.2 | F55: 13.56 | G55: 14.94 | H55: 14.66 | I55: 14.76 | J55: 14.48 | K55: 14.48
A56: 10 | B56: 14.54 | C56: 13.94 | D56: 15.06 | E56: 14.4 | F56: 15.32 | G56: 14.64 | H56: 14.74 | I56: 14.64 | J56: 15.58 | K56: 14.44
I58: TỔNG | K58: =+SUM(B47:K56) -> 1464.698
A59: XE 5
B60: 1 | C60: 2 | D60: 3 | E60: 4 | F60: 5 | G60: 6 | H60: 7 | I60: 8 | J60: 9 | K60: 10
A61: 1 | B61: 14.5 | C61: 14.38 | D61: 14.3 | E61: 14.34 | F61: 14.34 | G61: 14.08 | H61: 15.06 | I61: 15.1 | J61: 14.32 | K61: 14.72
A62: 2 | B62: 14.36 | C62: 14.38 | D62: 14.12 | E62: 14.38 | F62: 14.64 | G62: 14.4 | H62: 15.8 | I62: 15.12 | J62: 14.68 | K62: 14.38
A63: 3 | B63: 14.38 | C63: 14.5 | D63: 13.04 | E63: 14.14 | F63: 14.42 | G63: 15.94 | H63: 14.9 | I63: 13.82 | J63: 13.68 | K63: 14.68
A64: 4 | B64: 14.6 | C64: 14.52 | D64: 14.32 | E64: 14.26 | F64: 14.94 | G64: 14.68 | H64: 14.08 | I64: 14.4 | J64: 14.24 | K64: 14.92
A65: 5 | B65: 14.88 | C65: 14.2 | D65: 14.6 | E65: 13.88 | F65: 14.22 | G65: 14.22 | H65: 14.24 | I65: 14.18 | J65: 14.92 | K65: 14.68
A66: 6 | B66: 14.36 | C66: 14.18 | D66: 13.52 | E66: 14.3 | F66: 14.96 | G66: 14.92 | H66: 15.48 | I66: 14.84 | J66: 14.18 | K66: 14.46
A67: 7 | B67: 13.86 | C67: 14.48 | D67: 14.34 | E67: 14.04 | F67: 13.68 | G67: 14.06 | H67: 15.5 | I67: 14.36 | J67: 14.78 | K67: 14.4
A68: 8 | B68: 14.5 | C68: 14.5 | D68: 14.38 | E68: 14.46 | F68: 14.66 | G68: 14.12 | H68: 14.92 | I68: 14.36 | J68: 14.7 | K68: 14.5
A69: 9 | B69: 14.66 | C69: 14.58 | D69: 14.36 | E69: 13.88 | F69: 15.1 | G69: 15.6 | H69: 14.54 | I69: 14.18 | J69: 14.62 | K69: 14.48
A70: 10 | B70: 14.54 | C70: 14.12 | D70: 14.28 | E70: 13.8 | F70: 15.14 | G70: 15.5 | H70: 14.42 | I70: 14.26 | J70: 14.48 | K70: 13.72
A71: 11
I73: TỔNG | K73: =+SUM(B61:K71) -> 1447.94
A74: XE 6
B75: 1 | C75: 2 | D75: 3 | E75: 4 | F75: 5 | G75: 6 | H75: 7 | I75: 8 | J75: 9 | K75: 10
A76: 1 | B76: 14.36 | C76: 14.76 | D76: 13.68 | E76: 14.36 | F76: 13.84 | G76: 14.38 | H76: 14.4 | I76: 14.46 | J76: 14.4 | K76: 14.22
A77: 2 | B77: 14.04 | C77: 14.14 | D77: 14.56 | E77: 14.5 | F77: 14.28 | G77: 14.2 | H77: 14.46 | I77: 14.44 | J77: 14.04 | K77: 14.42
A78: 3 | B78: 14.42 | C78: 14.26 | D78: 14.8 | E78: 15.3 | F78: 14.14 | G78: 14.38 | H78: 14.36 | I78: 14.44 | J78: 13.66 | K78: 14.26
A79: 4 | B79: 14.36 | C79: 14.28 | D79: 14.68 | E79: 14.76 | F79: 14.5 | G79: 14.16 | H79: 14.38 | I79: 14.82 | J79: 14.26 | K79: 14.22
A80: 5 | B80: 14.38 | C80: 14.68 | D80: 15.3 | E80: 14.16 | F80: 14.42 | G80: 14.26 | H80: 14.52 | I80: 14.4 | J80: 14.34 | K80: 14.42
A81: 6 | B81: 14.68 | C81: 14.38 | D81: 14 | E81: 14.22 | F81: 14.58 | G81: 14.46 | H81: 14.26 | I81: 14.36 | J81: 14.42 | K81: 14.02
A82: 7 | B82: 14.34 | C82: 15.02 | D82: 14.28 | E82: 14.44 | F82: 14.3 | G82: 14.52 | H82: 14.44 | I82: 14 | J82: 14.4 | K82: 13.94
A83: 8 | B83: 14.48 | C83: 15.16 | D83: 15.68 | E83: 14.46 | F83: 14.6 | G83: 14.54 | H83: 14.54 | I83: 14.28 | J83: 14.28 | K83: 14.04
A84: 9 | B84: 14.56 | C84: 14.18 | D84: 14.2 | E84: 14.42 | F84: 14.12 | G84: 14.72 | H84: 14.64 | I84: 14.6 | J84: 14.46 | K84: 14.14
A85: 10 | B85: 14.14 | C85: 14.88 | D85: 14.74 | E85: 14.18 | F85: 13.7 | G85: 14.58 | H85: 14.28 | I85: 14.14 | J85: 14.5 | K85: 14.56
I87: TỔNG | K87: =+SUM(B76:K85) -> 1440.12

Sheet NGAY 31-01
A1: XE 1 - GÀ
B2: 1 | C2: 2 | D2: 3 | E2: 4 | F2: 5 | G2: 6 | H2: 7 | I2: 8 | J2: 9 | K2: 10
A3: 1 | B3: 13.82 | C3: 14.12 | D3: 14.08 | E3: 14.46 | F3: 14.04 | G3: 14.38 | H3: 14.42 | I3: 14.82 | J3: 14.34 | K3: 14.62
A4: 2 | B4: 14.24 | C4: 14.52 | D4: 14.92 | E4: 14.36 | F4: 14.2 | G4: 14.36 | H4: 13.84 | I4: 14.36 | J4: 14.24 | K4: 15
A5: 3 | B5: 14.06 | C5: 13.84 | D5: 14.74 | E5: 14.58 | F5: 14.02 | G5: 14.28 | H5: 14.62 | I5: 13.58 | J5: 14.68 | K5: 14.52
A6: 4 | B6: 14.4 | C6: 14.76 | D6: 13.6 | E6: 14.46 | F6: 14.18 | G6: 14.18 | H6: 14.38 | I6: 14.34 | J6: 14.1 | K6: 15.1
A7: 5 | B7: 13.44 | C7: 15.46 | D7: 14.4 | E7: 14.26 | F7: 14.24 | G7: 14.68 | H7: 14.62 | I7: 14.84 | J7: 14.18 | K7: 14.62
A8: 6 | B8: 14.6 | C8: 14 | D8: 14.8 | E8: 14.52 | F8: 14.4 | G8: 14.36 | H8: 14 | I8: 14.3 | J8: 13.92 | K8: 13.82
A9: 7 | B9: 14.62 | C9: 14.64 | D9: 14.42 | E9: 14.4 | F9: 14.42 | G9: 14.38 | H9: 14.3 | I9: 14.24 | J9: 14.8 | K9: 14.7
A10: 8 | B10: 14.54 | C10: 14.3 | D10: 15.04 | E10: 14.16 | F10: 14.22 | G10: 14.4 | H10: 15.2 | I10: 14.7 | J10: 14.46 | K10: 15.02
A11: 9 | B11: 14.1 | C11: 14.56 | D11: 14.64 | E11: 14.4 | F11: 14.16 | G11: 14.42 | H11: 14.98 | I11: 14.52 | J11: 14.78 | K11: 14.86
A12: 10 | B12: 14.46 | C12: 13.32 | D12: 15.1 | E12: 15.54 | F12: 14.36 | G12: 14.08 | H12: 15.12 | I12: 14.34 | J12: 14.38 | K12: 14.86
I14: TỔNG | K14: =+SUM(B3:K12) -> 1442.96
A15: XE 2 - Mỡ
B16: 1 | C16: 2 | D16: 3 | E16: 4 | F16: 5 | G16: 6 | H16: 7 | I16: 8 | J16: 9 | K16: 10
A17: 1 | B17: 14.58 | C17: 14.34 | D17: 14.22 | E17: 14.11 | F17: 14.5 | G17: 14.18 | H17: 14.24 | I17: 13.82 | J17: 13.82 | K17: 14.22
A18: 2 | B18: 14.5 | C18: 15.28 | D18: 14.12 | E18: 15.72 | F18: 14.38 | G18: 14.34 | H18: 14.34 | I18: 13.28 | J18: 13.58 | K18: 14.62
A19: 3 | B19: 14.2 | C19: 14.32 | D19: 14.74 | E19: 14.7 | F19: 14.48 | G19: 14.4 | H19: 14.14 | I19: 14.28 | J19: 14.08 | K19: 14.88
A20: 4 | B20: 14.18 | C20: 14.28 | D20: 13.62 | E20: 14.22 | F20: 14.42 | G20: 13.84 | H20: 14.2 | I20: 14.46 | J20: 14 | K20: 13.78
A21: 5 | B21: 13.28 | C21: 14.18 | D21: 14.68 | E21: 14.22 | F21: 13.98 | G21: 13.98 | H21: 13.7 | I21: 13.9 | J21: 13.8 | K21: 13.5
A22: 6 | B22: 13.38 | C22: 14.18 | D22: 14.22 | E22: 14.72 | F22: 13.86 | G22: 14.1 | H22: 14.363 | I22: 14 | J22: 14.16 | K22: 14.46
A23: 7 | B23: 14.1 | C23: 14.52 | D23: 14.1 | E23: 14.06 | F23: 13.62 | G23: 14.28 | H23: 13.82 | I23: 13.84 | J23: 13.44 | K23: 14.42
A24: 8 | B24: 14.28 | C24: 15.26 | D24: 14.68 | E24: 13.94 | F24: 13.92 | G24: 14.34 | H24: 14.5 | I24: 14.6 | J24: 14.9 | K24: 13.32
A25: 9 | B25: 15.22 | C25: 14.6 | D25: 14.3 | E25: 13.5 | F25: 14.46 | G25: 14.62 | H25: 13.6 | I25: 13.46 | J25: 14.54 | K25: 14.24
A26: 10 | B26: 14.26 | C26: 15.06 | D26: 14.52 | E26: 14.34 | F26: 13.72 | G26: 13.92 | H26: 13.4 | I26: 14.46 | J26: 14.14 | K26: 13.6
A27: 11
I29: TỔNG | K29: =+SUM(B17:K27) -> 1419.973
A30: XE 3
B31: 1 | C31: 2 | D31: 3 | E31: 4 | F31: 5 | G31: 6 | H31: 7 | I31: 8 | J31: 9 | K31: 10
A32: 1
A33: 2
A34: 3
A35: 4
A36: 5
A37: 6
A38: 7
A39: 8
A40: 9
A41: 10
I43: TỔNG | K43: =+SUM(B32:K41) -> 0

Sheet TỔNG HỢP
A1: Tổng Giò | B1: Tổng Gà
A2: =B4+B6+B8+B10+B12 -> 13165.17 | B2: =B5+B7+B9+B11+B13 -> 22739.61
B3: Tổng hợp T12 | C3: Ngày 01-12 | D3: Ngày 02-12 | E3: Ngày 03-12 | F3: Ngày 04-12 | G3: Ngày 10-12 | H3: Ngày 12-12 | L3: Ngày 15-12 | O3: Ngày 19-12 | P3: Ngày 22-12 | Q3: Ngày 26-12 | R3: Ngày 29-12 | S3: Ngày 31-12
A4: Xe 1 - Giò | B4: =+SUM(C4:XFD4) -> 7321.03 | C4: ='NGAY 01-12'!K28 -> 1813.9 | E4: 1250.98 | G4: ='NGAY 10-12'!K28 -> 1803.7 | P4: ='NGAY 22-12'!K29 -> 1225.78 | S4: ='NGAY 31-12'!K14 -> 1226.67
A5: Xe 1 - Gà | B5: =+SUM(C5:XFD5) -> 13254.19 | C5: ='NGAY 01-12'!K14 -> 1511.25 | D5: 1527.5 | F5: ='NGAY 04-12'!K14 -> 1524.7 | G5: ='NGAY 10-12'!K14 -> 1516.7 | L5: 1453.67 | O5: ='NGAY 19-12'!K15 -> 1447.5 | P5: ='NGAY 22-12'!K14 -> 1417.2 | Q5: ='NGAY 26-12'!K14 -> 1435.19 | R5: ='NGAY 29-12'!K14 -> 1420.48
A6: Xe 2 - Giò | B6: =+SUM(C6:XFD6) -> 5127.19 | C6: ='NGAY 01-12'!K42 -> 716.62 | D6: 1814.2 | E6: 1226.79 | G6: ='NGAY 10-12'!K42 -> 1369.58
A7: Xe 2 - Gà | B7: =+SUM(C7:XFD7) -> 4966.76 | G7: ='NGAY 10-12'!K56 -> 599.8 | H7: 1450.08 | Q7: ='NGAY 26-12'!K29 -> 1468.88 | R7: ='NGAY 29-12'!K29 -> 1448
A8: Xe 3 - Giò | B8: =+SUM(C8:XFD8) -> 716.95 | D8: 716.95
A9: Xe 3 - Gà | B9: =+SUM(C9:XFD9) -> 1477.16 | H9: 1477.16
A10: Xe 4 - Giò | B10: =+SUM(C10:XFD10) -> 0
A11: Xe 4 - Gà | B11: =+SUM(C11:XFD11) -> 1515.4 | D11: 1515.4
A12: Xe 5 - Giò | B12: =+SUM(C12:XFD12) -> 0
A13: Xe 5 - Gà | B13: =+SUM(C13:XFD13) -> 1526.1 | D13: 1526.1
A14: TỔNG HỢP | B14: =SUM(B4:B13) -> 35904.78 | C14: =SUM(C4:C13) -> 4041.77 | D14: =SUM(D4:D13) -> 7100.15 | E14: =SUM(E4:E13) -> 2477.77 | F14: =SUM(F4:F13) -> 1524.7 | G14: =SUM(G4:G13) -> 5289.78 | H14: =SUM(H4:H13) -> 2927.24 | L14: =SUM(L4:L13) -> 1453.67 | O14: =SUM(O4:O13) -> 1447.5 | P14: =SUM(P4:P13) -> 2642.98 | Q14: =SUM(Q4:Q13) -> 2904.07 | R14: =SUM(R4:R13) -> 2868.48 | S14: =SUM(S4:S13) -> 1226.67
A16: Tổng Giò | B16: Tổng Gà
A17: =B19+B21+B23+B25+B27 -> 3913.29 | B17: =B20+B22+B24+B26+B29+B28 -> 46898.754
B18: Tổng hợp T01 | C18: Ngày 02-01 | D18: Ngày 05-01 | E18: Ngày 06-01 | F18: Ngày 07-01 | G18: Ngày 15-01 | H18: Ngày 16-01 | L18: Ngày 19-01 | O18: Ngày 21-01 | P18: Ngày 23-01 | Q18: Ngày 26-01 | R18: Ngày 27-01 | S18: Ngày 28-01 | T18: Ngày 30-01 | U18: Ngày 31-01
A19: Xe 1 - Giò | B19: =+SUM(C19:XFD19) -> 2446.71 | F19: ='NGAY 07-01'!K29 -> 1227.27 | R19: ='NGAY 27-01'!K29 -> 1219.44
A20: Xe 1 - Gà | B20: =+SUM(C20:XFD20) -> 20240.456 | C20: ='NGAY 02-01'!K14 -> 1411.47 | D20: ='NGAY 05-01'!K14 -> 1477.78 | E20: ='NGAY 06-01'!K14 -> 1496.7 | F20: ='NGAY 07-01'!K14 -> 1438.48 | G20: 1508.8 | H20: 1422 | L20: 1473.83 | O20: ='NGAY 21-01'!K14 -> 1421.66 | P20: ='NGAY 23-01'!K14 -> 1419.46 | Q20: ='NGAY 26-01'!K14 -> 1391.72 | R20: ='NGAY 27-01'!K14 -> 1450.426 | S20: ='NGAY 28-01'!K14 -> 1437.61 | T20: ='NGAY 30-01'!K14 -> 1447.56 | U20: ='NGAY 31-01'!K14 -> 1442.96
A21: Xe 2 - Giò | B21: =+SUM(C21:XFD21) -> 1466.58 | L21: 1466.58
A22: Xe 2 - Gà | B22: =+SUM(C22:XFD22) -> 13656.32 | C22: ='NGAY 02-01'!K29 -> 692.4 | D22: ='NGAY 05-01'!K29 -> 1454.1 | E22: ='NGAY 06-01'!K43 -> 1473.931 | O22: ='NGAY 21-01'!K29 -> 1449.46 | P22: ='NGAY 23-01'!K29 -> 1397.87 | Q22: ='NGAY 26-01'!K29 -> 1410.446 | R22: ='NGAY 27-01'!K43 -> 1462.98 | S22: ='NGAY 28-01'!K29 -> 1446.14 | T22: ='NGAY 30-01'!K29 -> 1449.02 | U22: ='NGAY 31-01'!K29 -> 1419.973
A23: Xe 3 - Giò | B23: =+SUM(C23:XFD23) -> 0
A24: Xe 3 - Gà | B24: =+SUM(C24:XFD24) -> 4318.86 | C24: ='NGAY 02-01'!K43 -> 1430.68 | Q24: ='NGAY 26-01'!K43 -> 1423.34 | T24: ='NGAY 30-01'!K43 -> 1464.84
A25: Xe 4 - Giò | B25: =+SUM(C25:XFD25) -> 0
A26: Xe 4 - Gà | B26: =+SUM(C26:XFD26) -> 2899.758 | Q26: ='NGAY 26-01'!K58 -> 1435.06 | T26: ='NGAY 30-01'!K58 -> 1464.698
A27: Xe 5 - Giò | B27: =+SUM(C27:XFD27) -> 0
A28: Xe 5 - Gà | B28: =+SUM(C28:XFD28) -> 2892.7 | Q28: ='NGAY 26-01'!K73 -> 1444.76 | T28: ='NGAY 30-01'!K73 -> 1447.94
A29: Xe 6 - Gà | B29: =+SUM(C29:XFD29) -> 2890.66 | Q29: ='NGAY 26-01'!K87 -> 1450.54 | T29: ='NGAY 30-01'!K87 -> 1440.12
A30: TỔNG HỢP | B30: =SUM(B19:B29) -> 50812.044 | C30: =SUM(C19:C29) -> 3534.55 | D30: =SUM(D19:D29) -> 2931.88 | E30: =SUM(E19:E29) -> 2970.631 | F30: =SUM(F19:F29) -> 2665.75 | G30: 1508.8 | H30: 1422 | L30: 2940.41 | O30: =SUM(O19:O29) -> 2871.12 | P30: =SUM(P19:P29) -> 2817.33 | Q30: =SUM(Q19:Q29) -> 8555.866 | R30: =SUM(R19:R29) -> 4132.846 | S30: =SUM(S19:S29) -> 2883.75 | T30: =SUM(T19:T29) -> 8714.178 | U30: =SUM(U19:U29) -> 2862.933
A32: Tổng Giò
A33: =B35+B37+B40+B42+B44+B45 -> 81084.62
B34: Tổng hợp T07 | C34: Ngày 01-07 | D34: Ngày 02-07 | E34: Ngày 03-07 | F34: Ngày 04-07 | G34: Ngày 06-07 | H34: Ngày 07-07 | I34: Ngày 08-07 | J34: Ngày 09-07 | K34: Ngày 10-07 | L34: Ngày 11-07 | M34: Ngày 13-07 | N34: Ngày 14-07 | O34: Ngày 15-07 | P34: Ngày 16-07 | Q34: Ngày 17-07 | R34: Ngày 18-7 | S34: Ngày 20-07 | T34: Ngày 21-07 | U34: Ngày 22-07 | V34: Ngày 23-07 | W34: Ngày 24-07 | X34: ngày 25-07 | Y34: ngày 27-07 | Z34: ngày 28-7 | AA34: ngày 29-7 | AB34: ngày 30-7 | AC34: ngày 31-7
A35: Xe 1 - Giò | B35: =SUM(C35:AC35) -> 31822.26 | C35: =+'01-07'!K14 -> 2028.77 | D35: =+'02-07'!K14 -> 436.08 | E35: =+'03-07'!K14 -> 717.66 | F35: =+'04-07'!K14 -> 2083.41 | G35: =+'06-07'!K14 -> 707.52 | H35: =+'07-07'!K14 -> 719.8 | I35: =+'08-07'!K14 -> 2037.99 | J35: =+'09-07'!K14 -> 712.7 | K35: =+'10-07'!K14 -> 2075.3 | L35: =+'11-07'!K14 -> 718.49 | M35: =+'13-07'!K16 -> 723.46 | N35: =+'14-07'!K16 -> 1442.75 | O35: =+'15-07'!K16 -> 715.71 | P35: =+'16-07'!K16 -> 1251.63 | Q35: =+'17-07'!K16 -> 717.74 | R35: =+'18-07'!K16 -> 1254.74 | S35: =+'20-07'!K16 -> 1347.76 | T35: =+'21-07'!K16 -> 1443.67 | U35: =+'22-07'!K16 -> 722.62 | V35: =+'23-07'!K16 -> 720.44 | W35: =+'24-07'!K16 -> 968.92 | X35: =+'25-07'!K16 -> 1536.2 | Y35: =+'27-07'!K16 -> 1248.42 | Z35: =+'28-07'!K16 -> 1201.36 | AA35: =+'29-07'!K16 -> 1434.37 | AB35: =+'30-07'!K17 -> 1445.51 | AC35: =+'31-07'!K16 -> 1409.24
A36: Xe 1 - Gà | G36: =+'06-07'!K15 -> 0
A37: Xe 2 - Giò | B37: =SUM(C37:AC37) -> 25783.36 | D37: =+'02-07'!K29 -> 2063.49 | E37: =+'03-07'!K29 -> 420.88 | F37: =+'04-07'!K29 -> 608.66 | G37: =+'06-07'!K29 -> 2011.57 | H37: =+'07-07'!K29 -> 703.76 | I37: =+'08-07'!K29 -> 410.26 | J37: =+'09-07'!K29 -> 1458.33 | K37: =+'10-07'!K29 -> 2104.41 | L37: =+'11-07'!K29 -> 718.18 | M37: =+'13-07'!K33 -> 713.58 | O37: =+'15-07'!K33 -> 806.1 | P37: =+'16-07'!K34 -> 715.75 | Q37: =+'17-07'!K34 -> 622.43 | R37: =+'18-07'!K34 -> 1255.29 | S37: =+'20-07'!K35 -> 747.13 | T37: =+'21-07'!K18 -> 0 | U37: =+'22-07'!K35 -> 731.93 | W37: =+'24-07'!K34 -> 624.67 | X37: =+'25-07'!K34 -> 1227.22 | Y37: =+'27-07'!K35 -> 1231.92 | Z37: =+'28-07'!K35 -> 1249.74 | AA37: =+'29-07'!K34 -> 1264.32 | AB37: =+'30-07'!K35 -> 2061.23 | AC37: =+'31-07'!K34 -> 2032.51
A38: Xe 2 - Gà
A39: Xe 3 - Giò | C39: =+'01-07'!K44 -> 0 | D39: =+'02-07'!K42 -> 0 | F39: =+'04-07'!N44 -> 0 | H39: =+'09-07'!L41 -> 0 | L39: =+'10-07'!L41 -> 0 | O39: =+'12-07(hk có)'!L49 -> 0 | P39: =+'13-07'!L41 -> 0
A40: Xe 3 - Gà | B40: =SUM(C40:AC40) -> 12757.1 | E40: =+'03-07'!K43 -> 2087.3 | G40: =+'06-07'!K43 -> 383.2 | H40: =+'07-07'!K43 -> 0 | I40: =+'08-07'!K43 -> 714.7 | J40: =+'09-07'!K43 -> 713.96 | K40: =+'10-07'!K43 -> 719.9 | L40: =+'11-07'!K43 -> 0 | O40: =+'15-07'!K50 -> 725.23 | P40: =+'16-07'!K52 -> 1242.59 | Q40: =+'17-07'!K52 -> 383.4 | S40: =+'20-07'!K54 -> 1225.97 | W40: =+'24-07'!K51 -> 766.9 | Z40: =+'28-07'!K53 -> 1457.05 | AA40: =+'29-07'!K53 -> 1240.93 | AB40: =+'30-07'!K53 -> 807.45 | AC40: =+'31-07'!K51 -> 288.52
A41: Xe 4 - Giò
A42: Xe 4 - Gà | B42: =SUM(C42:AC42) -> 6707.9 | E42: =+'03-07'!K57 -> 720.11 | G42: =+'06-07'!K57 -> 720.13 | H42: =+'07-07'!K57 -> 0 | I42: =+'08-07'!K57 -> 391.73 | K42: =+'10-07'!K57 -> 719.58 | L42: =+'11-07'!K57 -> 0 | P42: =+'16-07'!K70 -> 368.02 | Q42: =+'17-07'!K68 -> 1246.37 | S42: =+'20-07'!K72 -> 370.1 | Z42: =+'28-07'!K70 -> 774.25 | AA42: =+'29-07'!K70 -> 605.54 | AC42: =+'31-07'!K68 -> 792.07
A43: Xe 5 - Giò
A44: Xe 5 - Gà | B44: =SUM(C44:AC44) -> 3764.23 | G44: =+'06-07'!K74 -> 772.62 | I44: =+'08-07'!K74 -> 714.16 | L44: =+'11-07'!K73 -> 0 | P44: =+'16-07'!K89 -> 368.02 | S44: =+'20-07'!K91 -> 763.18 | Z44: =+'28-07'!K87 -> 469.24 | AA44: =+'29-07'!K88 -> 677.01
A45: Xe 6 - Gà | B45: =+SUM(C45:XFD45) -> 249.77 | P45: =+'16-07'!K108 -> 249.77
A46: TỔNG HỢP | B46: =SUM(B35:B45) -> 81084.62 | C46: =SUM(C35:C45) -> 2028.77 | D46: =SUM(D35:D45) -> 2499.57 | E46: =SUM(E35:E45) -> 3945.95 | F46: =SUM(F35:F45) -> 2692.07 | G46: =SUM(G35+G37+G40+G42+G44) -> 4595.04 | H46: =SUM(H35:H45) -> 1423.56 | I46: =SUM(I35:I45) -> 4268.84 | J46: =SUM(J35:J45) -> 2884.99 | K46: =SUM(K35:K45) -> 5619.19 | L46: =SUM(L35:L45) -> 1436.67 | M46: =SUM(M35:M45) -> 1437.04 | N46: =SUM(N35:N45) -> 1442.75 | O46: =SUM(O35:O45) -> 2247.04 | ... W46: =SUM(W35:W45) -> 2360.49 | X46: =SUM(X35+X37+X40) -> 2763.42 | Y46: =SUM(Y35+Y37) -> 2480.34 | Z46: =SUM(Z35+Z37+Z40+Z42+Z44) -> 5151.64 | AA46: =SUM(AA35+AA37+AA40+AA42+AA44) -> 5222.17 | AB46: =SUM(AB35+AB37+AB40) -> 4314.19 | AC46: =SUM(AC35+AC37+AC40+AC42) -> 4522.34

Sheet 01-07
A1: XE 1
B2: 1 | C2: 2 | D2: 3 | E2: 4 | F2: 5 | G2: 6 | H2: 7 | I2: 8 | J2: 9 | K2: 10
A3: 1 | B3: 17.73 | C3: 20.68 | D3: 20.65 | E3: 21.35 | F3: 21.69 | G3: 19.89 | H3: 20.83 | I3: 20.55 | J3: 22.56 | K3: 20.1
A4: 2 | B4: 19.1 | C4: 19.97 | D4: 17.82 | E4: 19.26 | F4: 22.13 | G4: 22.33 | H4: 20.06 | I4: 20.87 | J4: 22.03 | K4: 20.69
A5: 3 | B5: 18.28 | C5: 19.66 | D5: 21.35 | E5: 19.39 | F5: 18.4 | G5: 19.37 | H5: 22.84 | I5: 21.17 | J5: 20.28 | K5: 20.81
A6: 4 | B6: 19.38 | C6: 19.31 | D6: 21.22 | E6: 19.14 | F6: 18.89 | G6: 20.06 | H6: 17.84 | I6: 20.54 | J6: 20.02 | K6: 22.14
A7: 5 | B7: 20.23 | C7: 21.19 | D7: 21.3 | E7: 20.63 | F7: 22.08 | G7: 19.67 | H7: 20.86 | I7: 19.1 | J7: 21.7 | K7: 20.38
A8: 6 | B8: 19.08 | C8: 18.47 | D8: 18.57 | E8: 19.31 | F8: 21.17 | G8: 19.18 | H8: 21.52 | I8: 18.35 | J8: 21.87 | K8: 22.67
A9: 7 | B9: 19.15 | C9: 18.36 | D9: 20.73 | E9: 21.55 | F9: 20.56 | G9: 19.02 | H9: 20.36 | I9: 20.43 | J9: 19.91 | K9: 22.22
A10: 8 | B10: 21.36 | C10: 20.73 | D10: 19.21 | E10: 18.11 | F10: 22.13 | G10: 19.14 | H10: 21.55 | I10: 20.99 | J10: 19.55 | K10: 21.74
A11: 9 | B11: 17.82 | C11: 19.86 | D11: 21.05 | E11: 18.68 | F11: 21.67 | G11: 19.1 | H11: 19.57 | I11: 20.72 | J11: 19.08 | K11: 20.76
A12: 10 | B12: 20.03 | C12: 19.73 | D12: 18.68 | E12: 21.73 | F12: 19.97 | G12: 22.55 | H12: 22.82 | I12: 20 | J12: 20.48 | K12: 19.96
I14: TỔNG | K14: =+SUM(B3:K12) -> 2028.77
A15: XE 2
B16: 1 | C16: 2 | D16: 3 | E16: 4 | F16: 5 | G16: 6 | H16: 7 | I16: 8 | J16: 9 | K16: 10 | L16: 11
A17: 1
A18: 2
A19: 3
A20: 4
A21: 5
A22: 6
A23: 7
A24: 8
A25: 9
A26: 10
A27: 11
I29: TỔNG | K29: =SUM(B17:L27) -> 0
A30: XE 3
B31: 1 | C31: 2 | D31: 3 | E31: 4 | F31: 5 | G31: 6 | H31: 7 | I31: 8 | J31: 9 | K31: 10 | L31: 11
A32: 1
A33: 2
A34: 3
A35: 4
A36: 5
A37: 6
A38: 7
A39: 8
A40: 9
A41: 10
A42: 11
I44: TỔNG | K44: =+SUM(B32:L42) -> 0
A45: XE 4
B46: 1 | C46: 2 | D46: 3 | E46: 4 | F46: 5 | G46: 6 | H46: 7 | I46: 8 | J46: 9 | K46: 10
A47: 1
A48: 2
A49: 3
A50: 4
A51: 5
A52: 6
A53: 7
A54: 8
A55: 9
A56: 10
I58: TỔNG | K58: =+SUM(B47:K56) -> 0

Sheet 02-07
A1: XE 1
B2: 1 | C2: 2 | D2: 3 | E2: 4 | F2: 5 | G2: 6 | H2: 7 | I2: 8 | J2: 9 | K2: 10 | L2: 11
A3: 1 | B3: 20.96 | C3: 19.76
A4: 2 | B4: 21.07 | C4: 22.96
A5: 3 | B5: 19.93 | C5: 21.77
A6: 4 | B6: 21.46 | C6: 22.01
A7: 5 | B7: 22.09 | C7: 21.96
A8: 6 | B8: 22.58 | C8: 21.06
A9: 7 | B9: 21.57 | C9: 22.41
A10: 8 | B10: 22.29 | C10: 22.4
A11: 9 | B11: 22.93 | C11: 22.79
A12: 10 | B12: 23.02 | C12: 21.06
I14: TỔNG | K14: =+SUM(B3:L12) -> 436.08
A15: XE 2
B16: 1 | C16: 2 | D16: 3 | E16: 4 | F16: 5 | G16: 6 | H16: 7 | I16: 8 | J16: 9 | K16: 10 | L16: 11
A17: 1 | B17: 21.84 | C17: 22.07 | D17: 17.87 | E17: 19.49 | F17: 18.1 | G17: 20.31 | H17: 21.96 | I17: 22.35 | J17: 21.01 | K17: 19.02
A18: 2 | B18: 22.85 | C18: 23.46 | D18: 21.2 | E18: 20.49 | F18: 21.55 | G18: 23.06 | H18: 18.67 | I18: 19.46 | J18: 21.19 | K18: 22.38
A19: 3 | B19: 19.07 | C19: 20.66 | D19: 20.95 | E19: 22.36 | F19: 21.43 | G19: 22.96 | H19: 20.59 | I19: 19.71 | J19: 18.01 | K19: 19.38
A20: 4 | B20: 19.01 | C20: 18.13 | D20: 18.09 | E20: 20.37 | F20: 18.66 | G20: 21.79 | H20: 18.93 | I20: 21.64 | J20: 19.92 | K20: 21.61
A21: 5 | B21: 17.68 | C21: 19.02 | D21: 21.21 | E21: 21.39 | F21: 21.67 | G21: 20.39 | H21: 20.49 | I21: 19.4 | J21: 18.34 | K21: 22.14
A22: 6 | B22: 21.1 | C22: 20.14 | D22: 19.17 | E22: 18.57 | F22: 21.98 | G22: 22.87 | H22: 19.75 | I22: 20.27 | J22: 19.95 | K22: 19.8
A23: 7 | B23: 18.31 | C23: 20.35 | D23: 21.99 | E23: 19.32 | F23: 21.26 | G23: 21.05 | H23: 23.12 | I23: 21.54 | J23: 21.02 | K23: 23.22
A24: 8 | B24: 20.99 | C24: 20.96 | D24: 18.85 | E24: 19.61 | F24: 22.63 | G24: 21.11 | H24: 23.59 | I24: 22.98 | J24: 19.42 | K24: 19.03
A25: 9 | B25: 17.62 | C25: 21.61 | D25: 20.15 | E25: 22.4 | F25: 19.02 | G25: 20.51 | H25: 22.76 | I25: 23.02 | J25: 21.2 | K25: 20.71
A26: 10 | B26: 21.04 | C26: 20.2 | D26: 19.89 | E26: 20.68 | F26: 21.8 | G26: 21.24 | H26: 21.23 | I26: 18.65 | J26: 21.66 | K26: 20.82
A27: 11
I29: TỔNG | K29: =+SUM(B17:L27) -> 2063.49
A30: XE 3
B31: 1 | C31: 2 | D31: 3 | E31: 4 | F31: 5 | G31: 6 | H31: 7 | I31: 8 | J31: 9 | K31: 10 | L31: 11
A32: 1
A33: 2
A34: 3
A35: 4
A36: 5
A37: 6
A38: 7
A39: 8
A40: 9
A41: 10
I43: TỔNG | K43: =+SUM(B32:L41) -> 0
A44: XE 4
B45: 1 | C45: 2 | D45: 3 | E45: 4 | F45: 5 | G45: 6 | H45: 7 | I45: 8 | J45: 9 | K45: 10
A46: 1
A47: 2
A48: 3
A49: 4
A50: 5
A51: 6
A52: 7
A53: 8
A54: 9
A55: 10
I57: TỔNG | K57: =+SUM(B46:K55) -> 0

Sheet 03-07
A1: XE 1
B2: 1 | C2: 2 | D2: 3 | E2: 4 | F2: 5 | G2: 6 | H2: 7 | I2: 8 | J2: 9 | K2: 10
A3: 1 | B3: 14.02 | C3: 14.38 | D3: 14.6 | E3: 15.24 | F3: 14.28
A4: 2 | B4: 14.6 | C4: 14.36 | D4: 14.08 | E4: 14.4 | F4: 14.42
A5: 3 | B5: 14.24 | C5: 14.44 | D5: 14.48 | E5: 15.08 | F5: 14.58
A6: 4 | B6: 14.64 | C6: 14.5 | D6: 14.3 | E6: 14.62 | F6: 14.56
A7: 5 | B7: 14.52 | C7: 14.46 | D7: 14.26 | E7: 13.98 | F7: 14.56
A8: 6 | B8: 14.32 | C8: 14.12 | D8: 14.14 | E8: 13.64 | F8: 13.4
A9: 7 | B9: 14.7 | C9: 14.36 | D9: 14.42 | E9: 14.38 | F9: 14.06
A10: 8 | B10: 14.3 | C10: 14.5 | D10: 14.14 | E10: 14.56 | F10: 14.4
A11: 9 | B11: 14.3 | C11: 14.08 | D11: 13.84 | E11: 14.28 | F11: 14.18
A12: 10 | B12: 14.46 | C12: 14.58 | D12: 14.24 | E12: 14.44 | F12: 14.22
I14: TỔNG | K14: =+SUM(B3:K12) -> 717.66
A15: XE 2
B16: 1 | C16: 2 | D16: 3 | E16: 4 | F16: 5 | G16: 6 | H16: 7 | I16: 8 | J16: 9 | K16: 10 | L16: 11
A17: 1 | B17: 18.24 | C17: 19.17
A18: 2 | B18: 23.33 | C18: 21.5
A19: 3 | B19: 22.74 | C19: 21.62
A20: 4 | B20: 21.62 | C20: 18.95
A21: 5 | B21: 20.59 | C21: 22.95
A22: 6 | B22: 22.41 | C22: 19.78
A23: 7 | B23: 22.86 | C23: 22.11
A24: 8 | B24: 20.95 | C24: 21.1
A25: 9 | B25: 21.13 | C25: 19.97
A26: 10 | B26: 18.89 | C26: 20.97
A27: 11
I29: TỔNG | K29: =+SUM(B17:L27) -> 420.88
A30: XE 3
B31: 1 | C31: 2 | D31: 3 | E31: 4 | F31: 5 | G31: 6 | H31: 7 | I31: 8 | J31: 9 | K31: 10 | L31: 11
A32: 1 | B32: 18.91 | C32: 21.74 | D32: 20.83 | E32: 19.29 | F32: 21.34 | G32: 22.86 | H32: 23.37 | I32: 22.18 | J32: 21.45 | K32: 19.23
A33: 2 | B33: 18.86 | C33: 21.14 | D33: 20.63 | E33: 19.59 | F33: 20.34 | G33: 22.14 | H33: 20.69 | I33: 23.14 | J33: 20.38 | K33: 20.41
A34: 3 | B34: 19.91 | C34: 19.7 | D34: 20.7 | E34: 19.83 | F34: 19.95 | G34: 21.72 | H34: 21.63 | I34: 22.58 | J34: 20.43 | K34: 21.72
A35: 4 | B35: 21.32 | C35: 22.16 | D35: 21.7 | E35: 20.62 | F35: 22.26 | G35: 22.27 | H35: 20.07 | I35: 23.79 | J35: 20.15 | K35: 18.83
A36: 5 | B36: 22.11 | C36: 21.21 | D36: 20.44 | E36: 18.99 | F36: 21.24 | G36: 21.64 | H36: 23.29 | I36: 22.25 | J36: 21.5 | K36: 17.76
A37: 6 | B37: 22.36 | C37: 19.83 | D37: 20.93 | E37: 19.56 | F37: 19.32 | G37: 19.28 | H37: 20.74 | I37: 21.57 | J37: 19.86 | K37: 19.93
A38: 7 | B38: 19.68 | C38: 23.2 | D38: 19.22 | E38: 18.52 | F38: 20.97 | G38: 21.15 | H38: 19.64 | I38: 22.55 | J38: 21.09 | K38: 21.11
A39: 8 | B39: 21.05 | C39: 20.84 | D39: 21.81 | E39: 21.76 | F39: 21.39 | G39: 18.68 | H39: 22.82 | I39: 23.3 | J39: 21.02 | K39: 17.76
A40: 9 | B40: 23.47 | C40: 19.87 | D40: 20.65 | E40: 20.79 | F40: 20.2 | G40: 21.09 | H40: 18.86 | I40: 23.56 | J40: 19.86 | K40: 21.04
A41: 10 | B41: 21.24 | C41: 21.79 | D41: 20.32 | E41: 19.34 | F41: 19.73 | G41: 23.22 | H41: 22.2 | I41: 19.56 | J41: 20.7 | K41: 18.58
I43: TỔNG | K43: =+SUM(B32:L41) -> 2087.3
A44: XE 4
B45: 1 | C45: 2 | D45: 3 | E45: 4 | F45: 5 | G45: 6 | H45: 7 | I45: 8 | J45: 9 | K45: 10
A46: 1 | B46: 14.06 | C46: 14.28 | D46: 14.1 | E46: 14.52 | F46: 14.3
A47: 2 | B47: 14.24 | C47: 14.56 | D47: 14.34 | E47: 14.34 | F47: 13.96
A48: 3 | B48: 14.16 | C48: 14.76 | D48: 14.1 | E48: 14.64 | F48: 14.76
A49: 4 | B49: 14.22 | C49: 14 | D49: 14.68 | E49: 14.6 | F49: 14.5
A50: 5 | B50: 13.7 | C50: 14.58 | D50: 14.08 | E50: 14.52 | F50: 13.9
A51: 6 | B51: 14.72 | C51: 14.56 | D51: 14.62 | E51: 14.3 | F51: 15.28
A52: 7 | B52: 14.5 | C52: 14.06 | D52: 14.6 | E52: 14.28 | F52: 14.58
A53: 8 | B53: 14.3 | C53: 14.18 | D53: 14.46 | E53: 14.42 | F53: 14.1
A54: 9 | B54: 14.22 | C54: 14.6 | D54: 14.42 | E54: 14.3 | F54: 14.64
A55: 10 | B55: 14.95 | C55: 14.4 | D55: 14.28 | E55: 14.86 | F55: 14.58
I57: TỔNG | K57: =+SUM(B46:K55) -> 720.11

Sheet 04-07
A1: XE 1
B2: 1 | C2: 2 | D2: 3 | E2: 4 | F2: 5 | G2: 6 | H2: 7 | I2: 8 | J2: 9 | K2: 10
A3: 1 | B3: 20.82 | C3: 19.36 | D3: 20.63 | E3: 20.92 | F3: 21.73 | G3: 21.8 | H3: 20.6 | I3: 19.77 | J3: 21.09 | K3: 20.12
A4: 2 | B4: 21.44 | C4: 20.55 | D4: 23.03 | E4: 19.3 | F4: 21.78 | G4: 21.35 | H4: 21.78 | I4: 21.51 | J4: 19.46 | K4: 22.36
A5: 3 | B5: 20 | C5: 19.23 | D5: 20.98 | E5: 18.84 | F5: 20.49 | G5: 21.98 | H5: 19.71 | I5: 22.28 | J5: 19.76 | K5: 20.18
A6: 4 | B6: 19.7 | C6: 22.21 | D6: 18.57 | E6: 19.25 | F6: 20.44 | G6: 21.44 | H6: 21.89 | I6: 22.13 | J6: 21.71 | K6: 19.18
A7: 5 | B7: 21.22 | C7: 21.76 | D7: 21.84 | E7: 20.25 | F7: 23.1 | G7: 20.54 | H7: 20.85 | I7: 21.29 | J7: 20.61 | K7: 20.43
A8: 6 | B8: 21.55 | C8: 18.24 | D8: 20.34 | E8: 19.73 | F8: 21.67 | G8: 19.85 | H8: 22.8 | I8: 20.87 | J8: 23.68 | K8: 23.74
A9: 7 | B9: 19.4 | C9: 21.83 | D9: 20.26 | E9: 19.94 | F9: 19.89 | G9: 22.86 | H9: 22.46 | I9: 19.56 | J9: 19.62 | K9: 20.31
A10: 8 | B10: 20.14 | C10: 21.71 | D10: 18.91 | E10: 19.73 | F10: 21.74 | G10: 20.99 | H10: 21.84 | I10: 21.34 | J10: 21.35 | K10: 21.11
A11: 9 | B11: 22.33 | C11: 19.66 | D11: 20.63 | E11: 21.87 | F11: 20.84 | G11: 20.28 | H11: 20.86 | I11: 20.77 | J11: 20.67 | K11: 19.22
A12: 10 | B12: 19.12 | C12: 20.43 | D12: 19.18 | E12: 20.19 | F12: 22.74 | G12: 21.64 | H12: 22.34 | I12: 21.22 | J12: 19.85 | K12: 20.85
I14: TỔNG | K14: =+SUM(B3:K12) -> 2083.41
A15: XE 2
B16: 1 | C16: 2 | D16: 3 | E16: 4 | F16: 5 | G16: 6 | H16: 7 | I16: 8 | J16: 9 | K16: 10 | L16: 11
A17: 1 | B17: 21.3 | C17: 21.06 | D17: 20.47
A18: 2 | B18: 19.72 | C18: 21.34 | D18: 20.8
A19: 3 | B19: 21.58 | C19: 18.81 | D19: 21.21
A20: 4 | B20: 21.92 | C20: 21.21 | D20: 19.8
A21: 5 | B21: 17.95 | C21: 21.3 | D21: 20.21
A22: 6 | B22: 21.81 | C22: 18.21 | D22: 17.5
A23: 7 | B23: 23.63 | C23: 19.56 | D23: 18.86
A24: 8 | B24: 18.75 | C24: 19.5 | D24: 19.88
A25: 9 | B25: 21.52 | C25: 19 | D25: 19.96
A26: 10 | B26: 21.55 | C26: 20.15 | D26: 20.1
A27: 11
I29: TỔNG | K29: =+SUM(B17:L27) -> 608.66
A30: XE 3
B31: 1 | C31: 2 | D31: 3 | E31: 4 | F31: 5 | G31: 6 | H31: 7 | I31: 8 | J31: 9 | K31: 10 | L31: 11
A32: 1
A33: 2
A34: 3
A35: 4
A36: 5
A37: 6
A38: 7
A39: 8
A40: 9
A41: 10
I43: TỔNG | K43: =+SUM(B32:L41) -> 0
A44: XE 4
B45: 1 | C45: 2 | D45: 3 | E45: 4 | F45: 5 | G45: 6 | H45: 7 | I45: 8 | J45: 9 | K45: 10
A46: 1
A47: 2
A48: 3
A49: 4
A50: 5
A51: 6
A52: 7
A53: 8
A54: 9
A55: 10
I57: TỔNG | K57: =+SUM(B46:K55) -> 0

Sheet 05-07( HK CÓ)
A1: XE 1
B2: 1 | C2: 2 | D2: 3 | E2: 4 | F2: 5 | G2: 6 | H2: 7 | I2: 8 | J2: 9 | K2: 10
A3: 1
A4: 2
A5: 3
A6: 4
A7: 5
A8: 6
A9: 7
A10: 8
A11: 9
A12: 10
I14: TỔNG | K14: =+SUM(B3:K12) -> 0
A15: XE 2
B16: 1 | C16: 2 | D16: 3 | E16: 4 | F16: 5 | G16: 6 | H16: 7 | I16: 8 | J16: 9 | K16: 10 | L16: 11
A17: 1
A18: 2
A19: 3
A20: 4
A21: 5
A22: 6
A23: 7
A24: 8
A25: 9
A26: 10
A27: 11
I29: TỔNG | K29: =+SUM(B17:L27) -> 0
A30: XE 3
B31: 1 | C31: 2 | D31: 3 | E31: 4 | F31: 5 | G31: 6 | H31: 7 | I31: 8 | J31: 9 | K31: 10 | L31: 11
A32: 1
A33: 2
A34: 3
A35: 4
A36: 5
A37: 6
A38: 7
A39: 8
A40: 9
A41: 10
I43: TỔNG | K43: =+SUM(B32:L41) -> 0
A44: XE 4
B45: 1 | C45: 2 | D45: 3 | E45: 4 | F45: 5 | G45: 6 | H45: 7 | I45: 8 | J45: 9 | K45: 10
A46: 1
A47: 2
A48: 3
A49: 4
A50: 5
A51: 6
A52: 7
A53: 8
A54: 9
A55: 10
I57: TỔNG | K57: =+SUM(B46:K55) -> 0

Sheet 06-07
A1: XE 1
B2: 1 | C2: 2 | D2: 3 | E2: 4 | F2: 5 | G2: 6 | H2: 7 | I2: 8 | J2: 9 | K2: 10
A3: 1 | B3: 14.46 | C3: 14.66 | D3: 13.84 | E3: 14.12 | F3: 14.66
A4: 2 | B4: 13.66 | C4: 14.76 | D4: 14.94 | E4: 14.58 | F4: 14.54
A5: 3 | B5: 14.58 | C5: 13.92 | D5: 13.62 | E5: 13.74 | F5: 14.66
A6: 4 | B6: 14.08 | C6: 13.36 | D6: 13.18 | E6: 13.06 | F6: 14.72
A7: 5 | B7: 13.4 | C7: 14.38 | D7: 14.04 | E7: 14.72 | F7: 14.62
A8: 6 | B8: 13.6 | C8: 13.98 | D8: 13.68 | E8: 14.48 | F8: 14.34
A9: 7 | B9: 14.72 | C9: 14.08 | D9: 14.18 | E9: 14.54 | F9: 14.46
A10: 8 | B10: 12.58 | C10: 14.14 | D10: 13.08 | E10: 14.44 | F10: 14.32
A11: 9 | B11: 14.02 | C11: 14.32 | D11: 14.32 | E11: 14.46 | F11: 14.64
A12: 10 | B12: 13.88 | C12: 13.54 | D12: 14.64 | E12: 14.36 | F12: 14.42
I14: TỔNG | K14: =+SUM(B3:K12) -> 707.52
A15: XE 2
B16: 1 | C16: 2 | D16: 3 | E16: 4 | F16: 5 | G16: 6 | H16: 7 | I16: 8 | J16: 9 | K16: 10 | L16: 11
A17: 1 | B17: 19.24 | C17: 17.55 | D17: 18.85 | E17: 19.21 | F17: 20.98 | G17: 22.51 | H17: 20.42 | I17: 20.95 | J17: 20.3 | K17: 20.58
A18: 2 | B18: 19.68 | C18: 19.7 | D18: 16.84 | E18: 19.44 | F18: 22.25 | G18: 19.35 | H18: 22.27 | I18: 21.99 | J18: 21.63 | K18: 21.2
A19: 3 | B19: 17.48 | C19: 19.9 | D19: 19.42 | E19: 18.54 | F19: 20.65 | G19: 23.16 | H19: 22.77 | I19: 21.9 | J19: 20.77 | K19: 18.78
A20: 4 | B20: 18.68 | C20: 18.32 | D20: 17.7 | E20: 20.25 | F20: 20.17 | G20: 19.72 | H20: 17.58 | I20: 18.08 | J20: 21.99 | K20: 20.57
A21: 5 | B21: 18.63 | C21: 19.32 | D21: 18.26 | E21: 18.27 | F21: 21.79 | G21: 19.68 | H21: 20.63 | I21: 18.4 | J21: 23.07 | K21: 18.98
A22: 6 | B22: 19.24 | C22: 16.69 | D22: 18.96 | E22: 18.83 | F22: 22.29 | G22: 22.79 | H22: 20.43 | I22: 21.84 | J22: 21.78 | K22: 19.02
A23: 7 | B23: 19.34 | C23: 18.77 | D23: 18.26 | E23: 19.84 | F23: 22.35 | G23: 21.7 | H23: 21.56 | I23: 20.1 | J23: 22.67 | K23: 21.13
A24: 8 | B24: 19.9 | C24: 18.28 | D24: 20.76 | E24: 18.55 | F24: 20.91 | G24: 21.9 | H24: 22.67 | I24: 18.32 | J24: 20.32 | K24: 21.54
A25: 9 | B25: 18.59 | C25: 18.86 | D25: 18.2 | E25: 19.67 | F25: 22.87 | G25: 22.29 | H25: 22.96 | I25: 18.87 | J25: 21.43 | K25: 23.86
A26: 10 | B26: 18.4 | C26: 21.01 | D26: 17.85 | E26: 19.8 | F26: 17.17 | G26: 21.77 | H26: 20.55 | I26: 18.34 | J26: 18.72 | K26: 21.22
A27: 11
I29: TỔNG | K29: =+SUM(B17:K27) -> 2011.57
A30: XE 3
B31: 1 | C31: 2 | D31: 3 | E31: 4 | F31: 5 | G31: 6 | H31: 7 | I31: 8 | J31: 9 | K31: 10 | L31: 11
A32: 1 | B32: 15.2 | C32: 15.2 | D32: 15.5
A33: 2 | B33: 15.3 | C33: 15.9 | D33: 15.2
A34: 3 | B34: 15.3 | C34: 15.4 | D34: 15.4
A35: 4 | B35: 15.5 | C35: 15.1 | D35: 15.2
A36: 5 | B36: 15.3 | C36: 15.5 | D36: 16.1
A37: 6 | B37: 15.6 | C37: 15.1
A38: 7 | B38: 15.1 | C38: 15.2
A39: 8 | B39: 15.4 | C39: 15.5
A40: 9 | B40: 15.1 | C40: 14.7
A41: 10 | B41: 15.3 | C41: 15.1
I43: TỔNG | K43: =+SUM(B32:K41) -> 383.2
A44: XE 4
B45: 1 | C45: 2 | D45: 3 | E45: 4 | F45: 5 | G45: 6 | H45: 7 | I45: 8 | J45: 9 | K45: 10
A46: 1 | B46: 14.16 | C46: 14.82 | D46: 14.13 | E46: 14.56 | F46: 14.54
A47: 2 | B47: 14.78 | C47: 14.7 | D47: 14.34 | E47: 13.9 | F47: 14.2
A48: 3 | B48: 15.08 | C48: 14.48 | D48: 14.18 | E48: 14 | F48: 14.5
A49: 4 | B49: 14.34 | C49: 14.2 | D49: 14.16 | E49: 14.52 | F49: 14.1
A50: 5 | B50: 14.32 | C50: 14.3 | D50: 14.56 | E50: 14.42 | F50: 14.6
A51: 6 | B51: 14.68 | C51: 14.68 | D51: 14.2 | E51: 14.08 | F51: 14.78
A52: 7 | B52: 14.38 | C52: 14.2 | D52: 14.38 | E52: 14.56 | F52: 14.44
A53: 8 | B53: 14.4 | C53: 14.38 | D53: 14.44 | E53: 14.52 | F53: 14.42
A54: 9 | B54: 14.46 | C54: 14.72 | D54: 14.2 | E54: 14.18 | F54: 14.44
A55: 10 | B55: 14.34 | C55: 14.42 | D55: 14.1 | E55: 14.38 | F55: 14.46
I57: TỔNG | K57: =+SUM(B46:K55) -> 720.13
A61: XE 5
B62: 1 | C62: 2 | D62: 3 | E62: 4 | F62: 5 | G62: 6 | H62: 7 | I62: 8 | J62: 9 | K62: 10
A63: 1 | B63: 18.3 | C63: 20.21 | D63: 18.49 | E63: 18.64
A64: 2 | B64: 19 | C64: 19.53 | D64: 20.01 | E64: 19.27
A65: 3 | B65: 19.63 | C65: 18.45 | D65: 18.77 | E65: 18.78
A66: 4 | B66: 19.47 | C66: 17.79 | D66: 17.89 | E66: 19.38
A67: 5 | B67: 21.43 | C67: 18.99 | D67: 17.97 | E67: 19.04
A68: 6 | B68: 18.74 | C68: 19.55 | D68: 18.53 | E68: 18.82
A69: 7 | B69: 19.01 | C69: 20.44 | D69: 21.05 | E69: 17.58
A70: 8 | B70: 19.12 | C70: 18.87 | D70: 20.35 | E70: 22.19
A71: 9 | B71: 20.22 | C71: 18.62 | D71: 19.94 | E71: 20.08
A72: 10 | B72: 18.55 | C72: 19.11 | D72: 19.9 | E72: 20.91
I74: TỔNG | K74: =+SUM(B63:K72) -> 772.62
A78: XE 6
B79: 1 | C79: 2 | D79: 3 | E79: 4 | F79: 5 | G79: 6 | H79: 7 | I79: 8 | J79: 9 | K79: 10
A80: 1
A81: 2
A82: 3
A83: 4
A84: 5
A85: 6
A86: 7
A87: 8
A88: 9
A89: 10
I91: TỔNG | K91: =+SUM(B80:K89) -> 0

Sheet 07-07
A1: XE 1
B2: 1 | C2: 2 | D2: 3 | E2: 4 | F2: 5 | G2: 6 | H2: 7 | I2: 8 | J2: 9 | K2: 10
A3: 1 | B3: 14.48 | C3: 14.36 | D3: 14.52 | E3: 14.24 | F3: 17.28
A4: 2 | B4: 15.04 | C4: 14.46 | D4: 14.6 | E4: 14.04 | F4: 14.62
A5: 3 | B5: 14.02 | C5: 14.16 | D5: 13.92 | E5: 14.2 | F5: 14.1
A6: 4 | B6: 14.52 | C6: 14.32 | D6: 14.9 | E6: 14.26 | F6: 14.28
A7: 5 | B7: 14.62 | C7: 14.22 | D7: 14.6 | E7: 14.22 | F7: 14.6
A8: 6 | B8: 14.22 | C8: 14.1 | D8: 14.36 | E8: 14.38 | F8: 14.86
A9: 7 | B9: 14.14 | C9: 14.24 | D9: 14.42 | E9: 14.24 | F9: 14
A10: 8 | B10: 14.4 | C10: 14.36 | D10: 14.26 | E10: 14.2 | F10: 13.98
A11: 9 | B11: 14.4 | C11: 14.78 | D11: 13.68 | E11: 14.1 | F11: 14.64
A12: 10 | B12: 14.38 | C12: 14.1 | D12: 14.08 | E12: 14.44 | F12: 14.46
I14: TỔNG | K14: =+SUM(B3:K12) -> 719.8
A15: XE 2
B16: 1 | C16: 2 | D16: 3 | E16: 4 | F16: 5 | G16: 6 | H16: 7 | I16: 8 | J16: 9 | K16: 10 | L16: 11
A17: 1 | B17: 14.1 | C17: 13.76 | D17: 13.36 | E17: 15 | F17: 14.22
A18: 2 | B18: 13.56 | C18: 14.18 | D18: 13.64 | E18: 13.84 | F18: 14.68
A19: 3 | B19: 13.78 | C19: 14.2 | D19: 13.06 | E19: 14.56 | F19: 13.66
A20: 4 | B20: 14.3 | C20: 14.08 | D20: 13.94 | E20: 14.02 | F20: 13.8
A21: 5 | B21: 14.24 | C21: 14.46 | D21: 14.34 | E21: 14.68 | F21: 14.48
A22: 6 | B22: 14.44 | C22: 13.72 | D22: 13.34 | E22: 14.34 | F22: 14.44
A23: 7 | B23: 14.66 | C23: 13.26 | D23: 13.96 | E23: 14.5 | F23: 14.4
A24: 8 | B24: 13.92 | C24: 13.88 | D24: 14.1 | E24: 13.72 | F24: 14.32
A25: 9 | B25: 14.54 | C25: 13.64 | D25: 14.48 | E25: 14.06 | F25: 14.14
A26: 10 | B26: 14.04 | C26: 13.8 | D26: 13.5 | E26: 14.2 | F26: 14.42
A27: 11
I29: TỔNG | K29: =+SUM(B17:K27) -> 703.76
A30: XE 3
B31: 1 | C31: 2 | D31: 3 | E31: 4 | F31: 5 | G31: 6 | H31: 7 | I31: 8 | J31: 9 | K31: 10 | L31: 11
A32: 1
A33: 2
A34: 3
A35: 4
A36: 5
A37: 6
A38: 7
A39: 8
A40: 9
A41: 10
I43: TỔNG | K43: =+SUM(B32:L41) -> 0
A44: XE 4
B45: 1 | C45: 2 | D45: 3 | E45: 4 | F45: 5 | G45: 6 | H45: 7 | I45: 8 | J45: 9 | K45: 10
A46: 1
A47: 2
A48: 3
A49: 4
A50: 5
A51: 6
A52: 7
A53: 8
A54: 9
A55: 10
I57: TỔNG | K57: =+SUM(B46:K55) -> 0

Sheet 08-07
A1: XE 1
B2: 1 | C2: 2 | D2: 3 | E2: 4 | F2: 5 | G2: 6 | H2: 7 | I2: 8 | J2: 9 | K2: 10
A3: 1 | B3: 21.6 | C3: 20.1 | D3: 19.01 | E3: 20.32 | F3: 17.44 | G3: 21.04 | H3: 22.21 | I3: 20.8 | J3: 22.64 | K3: 18.27
A4: 2 | B4: 22.73 | C4: 19.21 | D4: 19.69 | E4: 17.68 | F4: 20.21 | G4: 18.56 | H4: 19.68 | I4: 21 | J4: 20.1 | K4: 20.37
A5: 3 | B5: 19.96 | C5: 18.82 | D5: 18.22 | E5: 19.36 | F5: 19.7 | G5: 20.01 | H5: 20.66 | I5: 18.09 | J5: 22.13 | K5: 21.06
A6: 4 | B6: 19.35 | C6: 21.55 | D6: 19.01 | E6: 20.54 | F6: 21.74 | G6: 21.27 | H6: 21.16 | I6: 20.68 | J6: 22.86 | K6: 20.18
A7: 5 | B7: 20.92 | C7: 20.81 | D7: 17.67 | E7: 18.54 | F7: 20.14 | G7: 19.68 | H7: 20.35 | I7: 20.23 | J7: 20.34 | K7: 21
A8: 6 | B8: 22.37 | C8: 19 | D8: 18.02 | E8: 20.12 | F8: 22.85 | G8: 20.8 | H8: 19.68 | I8: 21.18 | J8: 17.6 | K8: 23.34
A9: 7 | B9: 19.73 | C9: 18.72 | D9: 17.74 | E9: 19.01 | F9: 19.54 | G9: 21.47 | H9: 20.52 | I9: 20.75 | J9: 21.81 | K9: 22.53
A10: 8 | B10: 19.71 | C10: 21.1 | D10: 19.54 | E10: 18.24 | F10: 20.87 | G10: 22.56 | H10: 21.77 | I10: 20.56 | J10: 23.36 | K10: 21.39
A11: 9 | B11: 20.24 | C11: 23.67 | D11: 19.73 | E11: 19.01 | F11: 19.89 | G11: 21.28 | H11: 19.69 | I11: 22.2 | J11: 19.1 | K11: 18.67
A12: 10 | B12: 20.64 | C12: 20.6 | D12: 18.45 | E12: 21.1 | F12: 21.21 | G12: 19.14 | H12: 22.3 | I12: 22.23 | J12: 23.48 | K12: 20.79
I14: TỔNG | K14: =+SUM(B3:K12) -> 2037.99
A15: XE 2
B16: 1 | C16: 2 | D16: 3 | E16: 4 | F16: 5 | G16: 6 | H16: 7 | I16: 8 | J16: 9 | K16: 10 | L16: 11
A17: 1 | B17: 23,,66 | C17: 19.56 | D17: 20.74
A18: 2 | B18: 18.93 | C18: 20.67
A19: 3 | B19: 19.44 | C19: 19.18
A20: 4 | B20: 23.65 | C20: 22.06
A21: 5 | B21: 22.98 | C21: 20.36
A22: 6 | B22: 22.6 | C22: 19.01
A23: 7 | B23: 19.5 | C23: 19.54
A24: 8 | B24: 19.44 | C24: 20
A25: 9 | B25: 20.93 | C25: 19.95
A26: 10 | B26: 20.8 | C26: 20.92
A27: 11
I29: TỔNG | K29: =+SUM(B17:L27) -> 410.26
A30: XE 3
B31: 1 | C31: 2 | D31: 3 | E31: 4 | F31: 5 | G31: 6 | H31: 7 | I31: 8 | J31: 9 | K31: 10 | L31: 11
A32: 1 | B32: 14.12 | C32: 14.38 | D32: 14.6 | E32: 14.54 | F32: 14.36
A33: 2 | B33: 14.42 | C33: 14.26 | D33: 14.38 | E33: 13.76 | F33: 14.26
A34: 3 | B34: 14.54 | C34: 14.44 | D34: 14.58 | E34: 14.46 | F34: 14.36
A35: 4 | B35: 14.14 | C35: 14.2 | D35: 14.12 | E35: 14.48 | F35: 14.14
A36: 5 | B36: 14.8 | C36: 14.04 | D36: 13.94 | E36: 14.3 | F36: 14.42
A37: 6 | B37: 14.28 | C37: 13.88 | D37: 14.52 | E37: 14.12 | F37: 14.44
A38: 7 | B38: 14.28 | C38: 14.1 | D38: 14 | E38: 13.96 | F38: 14.26
A39: 8 | B39: 14.34 | C39: 14.7 | D39: 14.46 | E39: 13.96 | F39: 14.04
A40: 9 | B40: 14.48 | C40: 14.04 | D40: 14.26 | E40: 14.26 | F40: 14.36
A41: 10 | B41: 14.4 | C41: 14.14 | D41: 14.56 | E41: 14.14 | F41: 14.68
I43: TỔNG | K43: =+SUM(B32:L41) -> 714.7
A44: XE 4
B45: 1 | C45: 2 | D45: 3 | E45: 4 | F45: 5 | G45: 6 | H45: 7 | I45: 8 | J45: 9 | K45: 10
A46: 1 | B46: 20.06 | C46: 20.66
A47: 2 | B47: 20.06 | C47: 21.34
A48: 3 | B48: 20.9 | C48: 21.54
A49: 4 | B49: 20.37 | C49: 20.52
A50: 5 | B50: 20.68 | C50: 21.36
A51: 6 | B51: 20.7 | C51: 20.33
A52: 7 | B52: 20.85 | C52: 20.27
A53: 8 | B53: 19.77 | C53: 17.98
A54: 9 | B54: 20.46 | C54: 22.14
A55: 10 | B55: 21.74
I57: TỔNG | K57: =+SUM(B46:K55) -> 391.73
A61: XE 5
B62: 1 | C62: 2 | D62: 3 | E62: 4 | F62: 5 | G62: 6 | H62: 7 | I62: 8 | J62: 9 | K62: 10
A63: 1 | B63: 14.38 | C63: 14.2 | D63: 14.64 | E63: 14.5 | F63: 13.36
A64: 2 | B64: 14.48 | C64: 14.44 | D64: 14.08 | E64: 14.44 | F64: 14.32
A65: 3 | B65: 14.28 | C65: 14.64 | D65: 14.42 | E65: 14.3 | F65: 14.56
A66: 4 | B66: 14.42 | C66: 14.4 | D66: 13.92 | E66: 14.1 | F66: 14.38
A67: 5 | B67: 14.26 | C67: 14.28 | D67: 14.46 | E67: 13.96 | F67: 14.38
A68: 6 | B68: 14.12 | C68: 13.5 | D68: 14.3 | E68: 14.66 | F68: 14.22
A69: 7 | B69: 14.26 | C69: 14.38 | D69: 14.38 | E69: 14.04 | F69: 14.26
A70: 8 | B70: 14.24 | C70: 14.42 | D70: 14.26 | E70: 13.92 | F70: 14.82
A71: 9 | B71: 14.4 | C71: 14.36 | D71: 14.74 | E71: 14.32 | F71: 14.4
A72: 10 | B72: 14.36 | C72: 14.54 | D72: 14.3 | E72: 14.02 | F72: 13.34
I74: TỔNG | K74: =+SUM(B63:K72) -> 714.16

Sheet 09-07
A1: XE 1
B2: 1 | C2: 2 | D2: 3 | E2: 4 | F2: 5 | G2: 6 | H2: 7 | I2: 8 | J2: 9 | K2: 10
A3: 1 | B3: 14.38 | C3: 13.68 | D3: 14.54 | E3: 14.76 | F3: 14.14
A4: 2 | B4: 13.96 | C4: 14.36 | D4: 14.24 | E4: 14.46 | F4: 14.32
A5: 3 | B5: 14.52 | C5: 14.26 | D5: 14.52 | E5: 14.18 | F5: 14.56
A6: 4 | B6: 14.44 | C6: 14.64 | D6: 14.3 | E6: 14.04 | F6: 14.22
A7: 5 | B7: 14.26 | C7: 14.38 | D7: 14.2 | E7: 14.28 | F7: 14.56
A8: 6 | B8: 14.36 | C8: 14.44 | D8: 14.46 | E8: 12.9 | F8: 13.12
A9: 7 | B9: 14.54 | C9: 14.18 | D9: 14.42 | E9: 12.62 | F9: 14.5
A10: 8 | B10: 14.76 | C10: 14.26 | D10: 14.32 | E10: 13.7 | F10: 14.24
A11: 9 | B11: 14.6 | C11: 14.54 | D11: 13.96 | E11: 14.16 | F11: 14.72
A12: 10 | B12: 14.4 | C12: 14.46 | D12: 14.78 | E12: 13.86 | F12: 14.2
I14: TỔNG | K14: =+SUM(B3:K12) -> 712.7
A15: XE 2
B16: 1 | C16: 2 | D16: 3 | E16: 4 | F16: 5 | G16: 6 | H16: 7 | I16: 8 | J16: 9 | K16: 10 | L16: 11
A17: 1 | B17: 19.87 | C17: 20.34 | D17: 20.92 | E17: 19.15 | F17: 21.47 | G17: 19.58 | H17: 18.89
A18: 2 | B18: 19.83 | C18: 22.03 | D18: 18.91 | E18: 20.65 | F18: 20.99 | G18: 22.01 | H18: 19.09
A19: 3 | B19: 19.62 | C19: 21.69 | D19: 19.36 | E19: 20.51 | F19: 21.05 | G19: 21.66 | H19: 23.73
A20: 4 | B20: 20.62 | C20: 20.67 | D20: 18.32 | E20: 18.55 | F20: 21.59 | G20: 21.17 | H20: 22.48
A21: 5 | B21: 19.66 | C21: 21.33 | D21: 20.39 | E21: 18.54 | F21: 18.87 | G21: 22.38 | H21: 22.5
A22: 6 | B22: 20.78 | C22: 21.38 | D22: 20.32 | E22: 21.78 | F22: 22.79 | G22: 20.9 | H22: 22.35
A23: 7 | B23: 21.87 | C23: 20.11 | D23: 19.65 | E23: 22.27 | F23: 22.26 | G23: 18.55 | H23: 18.75
A24: 8 | B24: 21.71 | C24: 22.39 | D24: 20.36 | E24: 22.91 | F24: 20.72 | G24: 20.42 | H24: 18.49
A25: 9 | B25: 20.07 | C25: 20.04 | D25: 22.98 | E25: 22.11 | F25: 19.45 | G25: 21.24 | H25: 23.87
A26: 10 | B26: 21.81 | C26: 19.52 | D26: 19.44 | E26: 21.61 | F26: 22.21 | G26: 22.54 | H26: 22.26
A27: 11
I29: TỔNG | K29: =+SUM(B17:L27) -> 1458.33
A30: XE 3
B31: 1 | C31: 2 | D31: 3 | E31: 4 | F31: 5 | G31: 6 | H31: 7 | I31: 8 | J31: 9 | K31: 10 | L31: 11
A32: 1 | B32: 13.8 | C32: 14.68 | D32: 14.24 | E32: 14.36 | F32: 14.52
A33: 2 | B33: 14.66 | C33: 13.48 | D33: 14.16 | E33: 14.38 | F33: 14.42
A34: 3 | B34: 14.66 | C34: 13 | D34: 13.98 | E34: 14.58 | F34: 14.1
A35: 4 | B35: 14.22 | C35: 14.46 | D35: 14.62 | E35: 14.32 | F35: 14.72
A36: 5 | B36: 14.2 | C36: 14.4 | D36: 14.44 | E36: 14.08 | F36: 13.98
A37: 6 | B37: 14.44 | C37: 14.32 | D37: 13.88 | E37: 14.7 | F37: 14.46
A38: 7 | B38: 13.9 | C38: 14.18 | D38: 13.88 | E38: 14.38 | F38: 14.44
A39: 8 | B39: 14.26 | C39: 14.52 | D39: 14.26 | E39: 14.14 | F39: 14.58
A40: 9 | B40: 14.56 | C40: 13.78 | D40: 14.44 | E40: 14 | F40: 14.38
A41: 10 | B41: 14.4 | C41: 14.04 | D41: 14.7 | E41: 14.44 | F41: 14.42
I43: TỔNG | K43: =+SUM(B32:L41) -> 713.96
A44: XE 4
B45: 1 | C45: 2 | D45: 3 | E45: 4 | F45: 5 | G45: 6 | H45: 7 | I45: 8 | J45: 9 | K45: 10
A46: 1
A47: 2
A48: 3
A49: 4
A50: 5
A51: 6
A52: 7
A53: 8
A54: 9
A55: 10
I57: TỔNG | K57: =+SUM(B46:K55) -> 0

Sheet 10-07
A1: XE 1
B2: 1 | C2: 2 | D2: 3 | E2: 4 | F2: 5 | G2: 6 | H2: 7 | I2: 8 | J2: 9 | K2: 10 | L2: 11
A3: 1 | B3: 21.54 | C3: 20.48 | D3: 20.02 | E3: 19.5 | F3: 19.17 | G3: 20.98 | H3: 20.33 | I3: 19.81 | J3: 21.65 | K3: 22.77 | L3: 21.79
A4: 2 | B4: 21.51 | C4: 18.53 | D4: 20.15 | E4: 19.84 | F4: 20.09 | G4: 20.52 | H4: 19.36 | I4: 17.87 | J4: 21.68 | K4: 24.22 | L4: 20
A5: 3 | B5: 20.21 | C5: 19.84 | D5: 21.65 | E5: 18.52 | F5: 20.34 | G5: 19.34 | H5: 20.74 | I5: 19.08 | J5: 21.87 | K5: 20.32 | L5: 19.4
A6: 4 | B6: 20.36 | C6: 21.2 | D6: 17.33 | E6: 19.8 | F6: 21.39 | G6: 20.97 | H6: 18.56 | I6: 20.46 | J6: 21.82 | K6: 22.68
A7: 5 | B7: 19.63 | C7: 20.48 | D7: 21.39 | E7: 20.9 | F7: 21.78 | G7: 18.82 | H7: 18.17 | I7: 18.36 | J7: 21.32 | K7: 19.76
A8: 6 | B8: 20.87 | C8: 19.68 | D8: 17.96 | E8: 19.36 | F8: 21.74 | G8: 20.02 | H8: 19.59 | I8: 18.34 | J8: 22.72 | K8: 20.35
A9: 7 | B9: 21.25 | C9: 18.46 | D9: 20.9 | E9: 20.44 | F9: 19.64 | G9: 22 | H9: 20.15 | I9: 18.51 | J9: 21.01 | K9: 20.81
A10: 8 | B10: 17.3 | C10: 20.04 | D10: 18.99 | E10: 20.59 | F10: 21.81 | G10: 18.54 | H10: 18.43 | I10: 18.26 | J10: 20.94 | K10: 19.13
A11: 9 | B11: 19.41 | C11: 18.69 | D11: 20.19 | E11: 20.51 | F11: 21.2 | G11: 19.39 | H11: 20.93 | I11: 18.68 | J11: 20.85 | K11: 19.06
A12: 10 | B12: 18.39 | C12: 19.24 | D12: 19.44 | E12: 20.2 | F12: 21.03 | G12: 19.79 | H12: 21.26 | I12: 19.66 | J12: 21.74 | K12: 19.51
I14: TỔNG | K14: =+SUM(B3:L12) -> 2075.3
A15: XE 2
B16: 1 | C16: 2 | D16: 3 | E16: 4 | F16: 5 | G16: 6 | H16: 7 | I16: 8 | J16: 9 | K16: 10 | L16: 11
A17: 1 | B17: 20.68 | C17: 20.45 | D17: 18.96 | E17: 20.76 | F17: 19.12 | G17: 22.28 | H17: 19.44 | I17: 20.21 | J17: 19.98 | K17: 21.04 | L17: 22.24
A18: 2 | B18: 19.45 | C18: 20.45 | D18: 21.58 | E18: 20.44 | F18: 18.6 | G18: 20.47 | H18: 19.63 | I18: 20.19 | J18: 21.62 | K18: 18.06 | L18: 19.38
A19: 3 | B19: 19.54 | C19: 21.88 | D19: 21.41 | E19: 22.18 | F19: 21.1 | G19: 18.78 | H19: 20.38 | I19: 21.06 | J19: 21.03 | K19: 18.96 | L19: 21.2
A20: 4 | B20: 20.57 | C20: 21.36 | D20: 20.82 | E20: 21.01 | F20: 20.51 | G20: 19.21 | H20: 19.5 | I20: 19.61 | J20: 21.59 | K20: 22.76
A21: 5 | B21: 20.3 | C21: 20.13 | D21: 20.95 | E21: 22.22 | F21: 21.79 | G21: 19.06 | H21: 21.16 | I21: 18.46 | J21: 19.71 | K21: 18.47
A22: 6 | B22: 18.8 | C22: 20.41 | D22: 21.37 | E22: 19.39 | F22: 19.93 | G22: 18.56 | H22: 19.76 | I22: 20.2 | J22: 19.75 | K22: 19.6
A23: 7 | B23: 19.41 | C23: 21.77 | D23: 22.47 | E23: 21.08 | F23: 20.52 | G23: 20.52 | H23: 18.95 | I23: 19.11 | J23: 22.83 | K23: 20.14
A24: 8 | B24: 20.01 | C24: 19.92 | D24: 21.03 | E24: 21.07 | F24: 19.69 | G24: 21.33 | H24: 19.07 | I24: 20.68 | J24: 21.36 | K24: 20.09
A25: 9 | B25: 19.12 | C25: 23.49 | D25: 20.5 | E25: 22.25 | F25: 20.34 | G25: 18.79 | H25: 19.64 | I25: 19.9 | J25: 18.15 | K25: 23.25
A26: 10 | B26: 21.6 | C26: 22.37 | D26: 19.99 | E26: 18.76 | F26: 19.55 | G26: 19.68 | H26: 19.91 | I26: 22.19 | J26: 21.38 | K26: 22.99
A27: 11
I29: TỔNG | K29: =+SUM(B17:L27) -> 2104.41
A30: XE 3
B31: 1 | C31: 2 | D31: 3 | E31: 4 | F31: 5 | G31: 6 | H31: 7 | I31: 8 | J31: 9 | K31: 10 | L31: 11
A32: 1 | B32: 14.74 | C32: 14.06 | D32: 14.42 | E32: 14.1 | F32: 14.22
A33: 2 | B33: 14.3 | C33: 14.68 | D33: 14.68 | E33: 14.38 | F33: 14.28
A34: 3 | B34: 14.6 | C34: 14.48 | D34: 14.46 | E34: 14.4 | F34: 14.4
A35: 4 | B35: 14.44 | C35: 14.76 | D35: 14.44 | E35: 14.36 | F35: 14.58
A36: 5 | B36: 14.4 | C36: 14.58 | D36: 14.22 | E36: 14.48 | F36: 14.32
A37: 6 | B37: 14.36 | C37: 14.52 | D37: 14.32 | E37: 14.24 | F37: 14.52
A38: 7 | B38: 14 | C38: 14.74 | D38: 14.28 | E38: 14.58 | F38: 14.18
A39: 8 | B39: 14.3 | C39: 14.56 | D39: 13.84 | E39: 13.98 | F39: 14.12
A40: 9 | B40: 14.5 | C40: 14.74 | D40: 14.44 | E40: 14.52 | F40: 14.38
A41: 10 | B41: 14.58 | C41: 14.58 | D41: 14.44 | E41: 14.28 | F41: 14.12
I43: TỔNG | K43: =+SUM(B32:L41) -> 719.9
A44: XE 4
B45: 1 | C45: 2 | D45: 3 | E45: 4 | F45: 5 | G45: 6 | H45: 7 | I45: 8 | J45: 9 | K45: 10
A46: 1 | B46: 14.58 | C46: 14.28 | D46: 13.84 | E46: 14.28 | F46: 14.28
A47: 2 | B47: 14.22 | C47: 14.3 | D47: 14.68 | E47: 14.88 | F47: 14.56
A48: 3 | B48: 14.74 | C48: 14.62 | D48: 14.36 | E48: 14.1 | F48: 14.46
A49: 4 | B49: 14.52 | C49: 14.56 | D49: 14.42 | E49: 14.46 | F49: 14.22
A50: 5 | B50: 14.12 | C50: 14.3 | D50: 14.46 | E50: 14.44 | F50: 14.64
A51: 6 | B51: 14.48 | C51: 14.26 | D51: 14.44 | E51: 13.8 | F51: 13.92
A52: 7 | B52: 14.3 | C52: 14.58 | D52: 14.56 | E52: 13.94 | F52: 14.32
A53: 8 | B53: 14.7 | C53: 14.68 | D53: 14.42 | E53: 14.18 | F53: 14.2
A54: 9 | B54: 14.76 | C54: 14.74 | D54: 14.44 | E54: 14.6 | F54: 14.42
A55: 10 | B55: 14.54 | C55: 14.52 | D55: 14.42 | E55: 14.24 | F55: 13.8
I57: TỔNG | K57: =+SUM(B46:K55) -> 719.58

Sheet 11-07
A1: XE 1
B2: 1 | C2: 2 | D2: 3 | E2: 4 | F2: 5 | G2: 6 | H2: 7 | I2: 8 | J2: 9 | K2: 10
A3: 1 | B3: 14.46 | C3: 14.2 | D3: 14.76 | E3: 14.46 | F3: 14.76
A4: 2 | B4: 14.46 | C4: 13.94 | D4: 14.36 | E4: 14.46 | F4: 14.35
A5: 3 | B5: 14.36 | C5: 14.26 | D5: 14.36 | E5: 14.64 | F5: 14.14
A6: 4 | B6: 13.26 | C6: 14.48 | D6: 14.38 | E6: 14.28 | F6: 14.1
A7: 5 | B7: 14.14 | C7: 14.68 | D7: 14.34 | E7: 14.84 | F7: 14.58
A8: 6 | B8: 14.44 | C8: 14.42 | D8: 14.42 | E8: 14.62 | F8: 14.34
A9: 7 | B9: 14.28 | C9: 14.56 | D9: 14.32 | E9: 14.46 | F9: 14.44 | M9: =K14+K29 -> 1436.67
A10: 8 | B10: 13.9 | C10: 14.24 | D10: 14.4 | E10: 14.52 | F10: 14.4
A11: 9 | B11: 13.6 | C11: 14.32 | D11: 14.44 | E11: 14.38 | F11: 14.6
A12: 10 | B12: 14.58 | C12: 14.56 | D12: 14.26 | E12: 14.54 | F12: 14.4
I14: TỔNG | K14: =+SUM(B3:K12) -> 718.49
A15: XE 2
B16: 1 | C16: 2 | D16: 3 | E16: 4 | F16: 5 | G16: 6 | H16: 7 | I16: 8 | J16: 9 | K16: 10 | L16: 11
A17: 1 | B17: 14.44 | C17: 14.38 | D17: 14.7 | E17: 14.46 | F17: 14.28
A18: 2 | B18: 14.42 | C18: 14.5 | D18: 14.64 | E18: 14.46 | F18: 14.16
A19: 3 | B19: 14.66 | C19: 14.36 | D19: 14.34 | E19: 14.3 | F19: 13.92
A20: 4 | B20: 14.44 | C20: 14.3 | D20: 14.24 | E20: 14.24 | F20: 14.9
A21: 5 | B21: 14.44 | C21: 14.28 | D21: 14.26 | E21: 14.44 | F21: 14.44
A22: 6 | B22: 14.12 | C22: 14.4 | D22: 14.26 | E22: 14.56 | F22: 13.36
A23: 7 | B23: 14.3 | C23: 14.5 | D23: 14.32 | E23: 13.72 | F23: 14.82
A24: 8 | B24: 14.58 | C24: 14.5 | D24: 14.56 | E24: 14.36 | F24: 14.34
A25: 9 | B25: 14.06 | C25: 14.48 | D25: 14.44 | E25: 14.24 | F25: 14.14
A26: 10 | B26: 14.52 | C26: 14.6 | D26: 14.38 | E26: 14.22 | F26: 14.4
A27: 11
I29: TỔNG | K29: =+SUM(B17:L27) -> 718.18
A30: XE 3
B31: 1 | C31: 2 | D31: 3 | E31: 4 | F31: 5 | G31: 6 | H31: 7 | I31: 8 | J31: 9 | K31: 10 | L31: 11
A32: 1
A33: 2
A34: 3
A35: 4
A36: 5
A37: 6
A38: 7
A39: 8
A40: 9
A41: 10
I43: TỔNG | K43: =+SUM(B32:L41) -> 0
A44: XE 4
B45: 1 | C45: 2 | D45: 3 | E45: 4 | F45: 5 | G45: 6 | H45: 7 | I45: 8 | J45: 9 | K45: 10
A46: 1
A47: 2
A48: 3
A49: 4
A50: 5
A51: 6
A52: 7
A53: 8
A54: 9
A55: 10
I57: TỔNG | K57: =+SUM(B46:K56) -> 0
A60: XE 5
B61: 1 | C61: 2 | D61: 3 | E61: 4 | F61: 5 | G61: 6 | H61: 7 | I61: 8 | J61: 9 | K61: 10 | L61: 11
A62: 1
A63: 2
A64: 3
A65: 4
A66: 5
A67: 6
A68: 7
A69: 8
A70: 9
A71: 10
I73: TỔNG | K73: =+SUM(B62:L71) -> 0

Sheet 12-07(hk có)
A2: XE 1
B3: 1 | C3: 2 | D3: 3 | E3: 4 | F3: 5 | G3: 6 | H3: 7 | I3: 8 | J3: 9 | K3: 10 | L3: 11
A4: 1
A5: 2
A6: 3
A7: 4
A8: 5
A9: 6
A10: 7
A11: 8
A12: 9
A13: 10
A14: 11
I16: TỔNG | K16: =+SUM(B4:L14) -> 0
A18: XE 2
B19: 1 | C19: 2 | D19: 3 | E19: 4 | F19: 5 | G19: 6 | H19: 7 | I19: 8 | J19: 9 | K19: 10 | L19: 11
A20: 1
A21: 2
A22: 3
A23: 4
A24: 5
A25: 6
A26: 7
A27: 8
A28: 9
A29: 10
A30: 11
I32: TỔNG | K32: =+SUM(B20:L30) -> 0
A35: XE 3
B36: 1 | C36: 2 | D36: 3 | E36: 4 | F36: 5 | G36: 6 | H36: 7 | I36: 8 | J36: 9 | K36: 10 | L36: 11
A37: 1
A38: 2
A39: 3
A40: 4
A41: 5
A42: 6
A43: 7
A44: 8
A45: 9
A46: 10
A47: 11
I49: TỔNG | K49: =+SUM(B37:L47) -> 0

Sheet 13-07
A2: XE 1
B3: 1 | C3: 2 | D3: 3 | E3: 4 | F3: 5 | G3: 6 | H3: 7 | I3: 8 | J3: 9 | K3: 10 | L3: 11
A4: 1 | B4: 14.34 | C4: 14.52 | D4: 14.64 | E4: 14.46 | F4: 14.64
A5: 2 | B5: 14 | C5: 14.62 | D5: 14.86 | E5: 14.26 | F5: 14.52
A6: 3 | B6: 14.56 | C6: 14.66 | D6: 14.26 | E6: 14.56 | F6: 14.72
A7: 4 | B7: 14.22 | C7: 14.84 | D7: 14.7 | E7: 14.7 | F7: 14.42
A8: 5 | B8: 14.52 | C8: 14.88 | D8: 14.38 | E8: 14.38 | F8: 14.54
A9: 6 | B9: 14.64 | C9: 14.26 | D9: 14.86 | E9: 14.26 | F9: 14.62
A10: 7 | B10: 14.38 | C10: 14.54 | D10: 14.28 | E10: 14.48 | F10: 14.66
A11: 8 | B11: 14.8 | C11: 14.22 | D11: 14.34 | E11: 14.56 | F11: 14.28
A12: 9 | B12: 14.46 | C12: 14.54 | D12: 14.68 | E12: 14.62 | F12: 14.66 | N12: =K16+K33 -> 1437.04
A13: 10 | B13: 14.08 | C13: 14.9 | D13: 14.52 | E13: 13.52 | F13: 13.1
A14: 11
I16: TỔNG | K16: =+SUM(B4:L14) -> 723.46
A19: XE 2
B20: 1 | C20: 2 | D20: 3 | E20: 4 | F20: 5 | G20: 6 | H20: 7 | I20: 8 | J20: 9 | K20: 10 | L20: 11
A21: 1 | B21: 14.48 | C21: 14.14 | D21: 14.38 | E21: 14.4 | F21: 14.36
A22: 2 | B22: 14.22 | C22: 14.24 | D22: 14.04 | E22: 14.14 | F22: 14.22
A23: 3 | B23: 14.6 | C23: 14.18 | D23: 14.44 | E23: 14.6 | F23: 14.2
A24: 4 | B24: 14.32 | C24: 14.5 | D24: 13.98 | E24: 13.96 | F24: 14.28
A25: 5 | B25: 13.94 | C25: 14.12 | D25: 14.64 | E25: 13.96 | F25: 14.64
A26: 6 | B26: 14.46 | C26: 14.68 | D26: 14.08 | E26: 14.06 | F26: 14.58
A27: 7 | B27: 14.4 | C27: 14.12 | D27: 13.94 | E27: 14.58 | F27: 14.12
A28: 8 | B28: 14.48 | C28: 14.16 | D28: 14.44 | E28: 14.38 | F28: 14.24
A29: 9 | B29: 14.26 | C29: 14.12 | D29: 14.18 | E29: 14.42 | F29: 14.46
A30: 10 | B30: 14.28 | C30: 14.2 | D30: 14.22 | E30: 14.26 | F30: 13.48
A31: 11
I33: TỔNG | K33: =+SUM(B21:L31) -> 713.58
A36: XE 3
B37: 1 | C37: 2 | D37: 3 | E37: 4 | F37: 5 | G37: 6 | H37: 7 | I37: 8 | J37: 9 | K37: 10 | L37: 11
A38: 1
A39: 2
A40: 3
A41: 4
A42: 5
A43: 6
A44: 7
A45: 8
A46: 9
A47: 10
A48: 11
I50: TỔNG | K50: =+SUM(B38:L48) -> 0
A54: XE 3
B55: 1 | C55: 2 | D55: 3 | E55: 4 | F55: 5 | G55: 6 | H55: 7 | I55: 8 | J55: 9 | K55: 10 | L55: 11
A56: 1
A57: 2
A58: 3
A59: 4
A60: 5
A61: 6
A62: 7
A63: 8
A64: 9
A65: 10
A66: 11
I68: TỔNG | K68: =+SUM(B56:L66) -> 0

Sheet 14-07
A2: XE 1
B3: 1 | C3: 2 | D3: 3 | E3: 4 | F3: 5 | G3: 6 | H3: 7 | I3: 8 | J3: 9 | K3: 10 | L3: 11
A4: 1 | B4: 21.39 | C4: 20.98 | D4: 21.67 | E4: 20.7 | F4: 19.96 | G4: 18.83 | H4: 22.5
A5: 2 | B5: 20.44 | C5: 18.84 | D5: 22.56 | E5: 19.6 | F5: 20.34 | G5: 22.68 | H5: 24.58
A6: 3 | B6: 20.73 | C6: 20.47 | D6: 20.51 | E6: 22.93 | F6: 21.59 | G6: 18.02 | H6: 20.21
A7: 4 | B7: 19.65 | C7: 22.55 | D7: 19.65 | E7: 21.17 | F7: 20.27 | G7: 22.86 | H7: 21.66
A8: 5 | B8: 20.96 | C8: 18.42 | D8: 20.14 | E8: 19.7 | F8: 21.81 | G8: 23.45 | H8: 17.87
A9: 6 | B9: 21.68 | C9: 19.82 | D9: 18.78 | E9: 21.05 | F9: 22.04 | G9: 19.32 | H9: 21.07
A10: 7 | B10: 20.59 | C10: 21.65 | D10: 23.06 | E10: 21.81 | F10: 20.07 | G10: 19.94 | H10: 18.84
A11: 8 | B11: 18.57 | C11: 19.22 | D11: 18.8 | E11: 22.32 | F11: 18.88 | G11: 20.4 | H11: 19.74
A12: 9 | B12: 20.68 | C12: 21.83 | D12: 20.85 | E12: 22.6 | F12: 18.64 | G12: 22.19 | H12: 19.16
A13: 10 | B13: 18.7 | C13: 22.58 | D13: 18.62 | E13: 19.1 | F13: 18.52 | G13: 21.89 | H13: 20.05
A14: 11
I16: TỔNG | K16: =+SUM(B4:L14) -> 1442.75
A18: XE 2
B19: 1 | C19: 2 | D19: 3 | E19: 4 | F19: 5 | G19: 6 | H19: 7 | I19: 8 | J19: 9 | K19: 10 | L19: 11
A20: 1
A21: 2
A22: 3
A23: 4
A24: 5
A25: 6
A26: 7
A27: 8
A28: 9
A29: 10
A30: 11
I32: TỔNG | K32: =+SUM(B20:L30) -> 0
A36: XE 3
B37: 1 | C37: 2 | D37: 3 | E37: 4 | F37: 5 | G37: 6 | H37: 7 | I37: 8 | J37: 9 | K37: 10 | L37: 11 | M37: 12
A38: 1
A39: 2
A40: 3
A41: 4
A42: 5
A43: 6
A44: 7
A45: 8
A46: 9
A47: 10
A48: 11
I50: TỔNG | K50: =+SUM(B38:M48) -> 0

Sheet 15-07
A2: XE 1
B3: 1 | C3: 2 | D3: 3 | E3: 4 | F3: 5 | G3: 6 | H3: 7 | I3: 8 | J3: 9 | K3: 10 | L3: 11
A4: 1 | B4: 14.26 | C4: 14.36 | D4: 14.52 | E4: 14.2 | F4: 14.14
A5: 2 | B5: 13.74 | C5: 14.46 | D5: 14.52 | E5: 14.44 | F5: 14.3
A6: 3 | B6: 14.86 | C6: 14.74 | D6: 14.1 | E6: 14.56 | F6: 14.18
A7: 4 | B7: 14.16 | C7: 14.24 | D7: 15.18 | E7: 14.24 | F7: 14.04
A8: 5 | B8: 14.18 | C8: 14.48 | D8: 13.09 | E8: 14.58 | F8: 14.26
A9: 6 | B9: 14.26 | C9: 14.24 | D9: 14.58 | E9: 14.64 | F9: 14.62
A10: 7 | B10: 13.98 | C10: 13.7 | D10: 14.54 | E10: 14.34 | F10: 14.28
A11: 8 | B11: 14.8 | C11: 14.24 | D11: 14.16 | E11: 14.38 | F11: 14.44
A12: 9 | B12: 14.34 | C12: 14.04 | D12: 14.16 | E12: 14.12 | F12: 14.5
A13: 10 | B13: 14.16 | C13: 14.32 | D13: 14.54 | E13: 14.24 | F13: 14.26
A14: 11 | M14: =K16+K33+K50 -> 2247.04
I16: TỔNG | K16: =+SUM(B4:L14) -> 715.71
A19: XE 2
B20: 1 | C20: 2 | D20: 3 | E20: 4 | F20: 5 | G20: 6 | H20: 7 | I20: 8 | J20: 9 | K20: 10 | L20: 11
A21: 1 | B21: 19.9 | C21: 20.79 | D21: 20.22 | E21: 21.36
A22: 2 | B22: 21.35 | C22: 21.95 | D22: 20.74 | E22: 19.29
A23: 3 | B23: 20.7 | C23: 21.71 | D23: 20.12 | E23: 20.03
A24: 4 | B24: 19.84 | C24: 21.22 | D24: 17.78 | E24: 19.81
A25: 5 | B25: 22.14 | C25: 17.72 | D25: 20.53 | E25: 18.45
A26: 6 | B26: 21.15 | C26: 19.86 | D26: 18.79 | E26: 19.47
A27: 7 | B27: 20.83 | C27: 20.4 | D27: 19.92 | E27: 18.91
A28: 8 | B28: 19.36 | C28: 20 | D28: 19.19 | E28: 20.13
A29: 9 | B29: 21.65 | C29: 21.73 | D29: 22.21 | E29: 17.87
A30: 10 | B30: 20.78 | C30: 18.95 | D30: 19.13 | E30: 20.12
A31: 11
I33: TỔNG | K33: =+SUM(B21:L31) -> 806.1
A36: XE 3
B37: 1 | C37: 2 | D37: 3 | E37: 4 | F37: 5 | G37: 6 | H37: 7 | I37: 8 | J37: 9 | K37: 10 | L37: 11
A38: 1 | B38: 14.46 | C38: 14.62 | D38: 14.36 | E38: 14.56 | F38: 14.36
A39: 2 | B39: 14.38 | C39: 14.26 | D39: 14.3 | E39: 14.66 | F39: 14.56
A40: 3 | B40: 14.66 | C40: 14.48 | D40: 14.66 | E40: 14.48 | F40: 14.3
A41: 4 | B41: 14.4 | C41: 14.44 | D41: 14.64 | E41: 14.64 | F41: 14.58
A42: 5 | B42: 14.58 | C42: 14.22 | D42: 14.54 | E42: 14.5 | F42: 14.78
A43: 6 | B43: 14.66 | C43: 14.34 | D43: 14.54 | E43: 14.68 | F43: 14.14
A44: 7 | B44: 14.56 | C44: 14.26 | D44: 14.56 | E44: 14.64 | F44: 14.44
A45: 8 | B45: 14.54 | C45: 14.44 | D45: 14.28 | E45: 14.52 | F45: 15.24
A46: 9 | B46: 14.56 | C46: 14.22 | D46: 14.58 | E46: 14.4 | F46: 14.75
A47: 10 | B47: 14.88 | C47: 14.28 | D47: 14.18 | E47: 14.38 | F47: 14.74
A48: 11
I50: TỔNG | K50: =+SUM(B38:L48) -> 725.23

Sheet 16-07
A2: XE 1
B3: 1 | C3: 2 | D3: 3 | E3: 4 | F3: 5 | G3: 6 | H3: 7 | I3: 8 | J3: 9 | K3: 10 | L3: 11
A4: 1 | B4: 13.2 | C4: 13.21 | D4: 10.34 | E4: 13.21 | F4: 14.6 | G4: 12.13 | H4: 13.05 | I4: 11.24 | J4: 11.67 | K4: 14.02
A5: 2 | B5: 11.57 | C5: 14.67 | D5: 10.92 | E5: 11.05 | F5: 15 | G5: 11.9 | H5: 10.75 | I5: 13.45 | J5: 12.98 | K5: 11.28
A6: 3 | B6: 11.02 | C6: 10.92 | D6: 13.47 | E6: 12.86 | F6: 12.06 | G6: 11.47 | H6: 12.04 | I6: 11.28 | J6: 10.8 | K6: 13.28
A7: 4 | B7: 12.26 | C7: 11.98 | D7: 12.37 | E7: 12.54 | F7: 11.94 | G7: 13.98 | H7: 14.08 | I7: 13.48 | J7: 13.29 | K7: 12.64
A8: 5 | B8: 13.63 | C8: 12.41 | D8: 11.02 | E8: 11.65 | F8: 11.74 | G8: 14.02 | H8: 10.51 | I8: 11.02 | J8: 13.13 | K8: 10.95
A9: 6 | B9: 15.44 | C9: 13.33 | D9: 11.56 | E9: 14.91 | F9: 12.13 | G9: 12.87 | H9: 14.05 | I9: 12.58 | J9: 12.88 | K9: 11.06
A10: 7 | B10: 11.77 | C10: 14.05 | D10: 14.67 | E10: 14.57 | F10: 10.7 | G10: 14.92 | H10: 12.42 | I10: 15.05 | J10: 11.56 | K10: 12.57
A11: 8 | B11: 12.7 | C11: 12.8 | D11: 13.4 | E11: 14.18 | F11: 13.48 | G11: 13 | H11: 11.04 | I11: 14.54 | J11: 11.28 | K11: 14.1
A12: 9 | B12: 11.56 | C12: 10.54 | D12: 10.32 | E12: 13.12 | F12: 10.53 | G12: 14.05 | H12: 13 | I12: 11.65 | J12: 14 | K12: 11.05
A13: 10 | B13: 10.2 | C13: 14.56 | D13: 9.87 | E13: 12.56 | F13: 14.03 | G13: 10.75 | H13: 10.75 | I13: 12.08 | J13: 13.98 | K13: 11.34
A14: 11 | N14: =K16+K34+K52+K70+K89+K108 -> 4195.78
I16: TỔNG | K16: =+SUM(B4:L14) -> 1251.63
A20: XE 2
B21: 1 | C21: 2 | D21: 3 | E21: 4 | F21: 5 | G21: 6 | H21: 7 | I21: 8 | J21: 9 | K21: 10 | L21: 11
A22: 1 | B22: 14.36 | C22: 14.3 | D22: 14.42 | E22: 14.54 | F22: 14.86
A23: 2 | B23: 14.24 | C23: 14.28 | D23: 14.58 | E23: 14.48 | F23: 14.42
A24: 3 | B24: 14.3 | C24: 14.02 | D24: 14.44 | E24: 14.18 | F24: 14.28
A25: 4 | B25: 14.22 | C25: 14.48 | D25: 14.32 | E25: 14.2 | F25: 14.38
A26: 5 | B26: 14.78 | C26: 14.52 | D26: 14.44 | E26: 13.52 | F26: 13.84
A27: 6 | B27: 14.1 | C27: 14.5 | D27: 14.32 | E27: 13.66 | F27: 14.82
A28: 7 | B28: 14.02 | C28: 14.2 | D28: 14.02 | E28: 14.66 | F28: 14.18
A29: 8 | B29: 15 | C29: 14.36 | D29: 12.86 | E29: 14.76 | F29: 14.12
A30: 9 | B30: 14.26 | C30: 14.76 | D30: 14.58 | E30: 14.56 | F30: 14.12
A31: 10 | B31: 14.19 | C31: 14.4 | D31: 14.12 | E31: 14.72 | F31: 14.06
A32: 11
I34: TỔNG | K34: =+SUM(B22:L32) -> 715.75
A38: XE 3
B39: 1 | C39: 2 | D39: 3 | E39: 4 | F39: 5 | G39: 6 | H39: 7 | I39: 8 | J39: 9 | K39: 10 | L39: 11
A40: 1 | B40: 11.14 | C40: 11.26 | D40: 10.09 | E40: 11.26 | F40: 11.35 | G40: 12.31 | H40: 12.63 | I40: 11.37 | J40: 14.06 | K40: 13.27
A41: 2 | B41: 11.72 | C41: 13.71 | D41: 15 | E41: 12.58 | F41: 10.26 | G41: 11.87 | H41: 11.28 | I41: 12.09 | J41: 10.84 | K41: 12.05
A42: 3 | B42: 12.96 | C42: 14.36 | D42: 13.2 | E42: 13.91 | F42: 15 | G42: 13.11 | H42: 10.94 | I42: 13.48 | J42: 12.56 | K42: 11.51
A43: 4 | B43: 11.55 | C43: 13.62 | D43: 12.62 | E43: 14.04 | F43: 14.87 | G43: 13.38 | H43: 11.25 | I43: 12.12 | J43: 13.66 | K43: 12.31
A44: 5 | B44: 11.98 | C44: 11.12 | D44: 11.95 | E44: 13.28 | F44: 13.2 | G44: 14 | H44: 12.4 | I44: 11.69 | J44: 12.54 | K44: 11.27
A45: 6 | B45: 12.02 | C45: 13.45 | D45: 12.61 | E45: 14.06 | F45: 12.45 | G45: 12.03 | H45: 11.19 | I45: 13 | J45: 12.12 | K45: 14.06
A46: 7 | B46: 14.64 | C46: 12.04 | D46: 11.13 | E46: 12.96 | F46: 11.28 | G46: 15.12 | H46: 11.25 | I46: 11.87 | J46: 11.31 | K46: 13.1
A47: 8 | B47: 10.82 | C47: 12.87 | D47: 13.26 | E47: 11.26 | F47: 10.09 | G47: 11.35 | H47: 12.56 | I47: 12.1 | J47: 11.98 | K47: 12.35
A48: 9 | B48: 12.85 | C48: 10.54 | D48: 13.35 | E48: 13.33 | F48: 13.49 | G48: 12.24 | H48: 11.03 | I48: 12.34 | J48: 12.97 | K48: 13.27
A49: 10 | B49: 11.87 | C49: 10.56 | D49: 12.97 | E49: 11.51 | F49: 12.03 | G49: 14.65 | H49: 12.79 | I49: 11.25 | J49: 11.14 | K49: 14.06
A50: 11
I52: TỔNG | K52: =+SUM(B40:L50) -> 1242.59
A56: XE 4
B57: 1 | C57: 2 | D57: 3 | E57: 4 | F57: 5 | G57: 6 | H57: 7 | I57: 8 | J57: 9 | K57: 10 | L57: 11
A58: 1 | B58: 13.14 | C58: 12.56 | D58: 10.07
A59: 2 | B59: 14.56 | C59: 11.98 | D59: 11.1
A60: 3 | B60: 12.08 | C60: 11.38 | D60: 10.02
A61: 4 | B61: 13.1 | C61: 12.9 | D61: 12.53
A62: 5 | B62: 11.38 | C62: 14.05 | D62: 13.92
A63: 6 | B63: 11.04 | C63: 13.33 | D63: 12.9
A64: 7 | B64: 12.72 | C64: 13.12 | D64: 13.28
A65: 8 | B65: 10.28 | C65: 10.08 | D65: 14.04
A66: 9 | B66: 12.04 | C66: 14 | D66: 10.72
A67: 10 | B67: 11.14 | C67: 11.71 | D67: 12.85
A68: 11
I70: TỔNG | K70: =+SUM(B58:L68) -> 368.02
A75: XE 5
B76: 1 | C76: 2 | D76: 3 | E76: 4 | F76: 5 | G76: 6 | H76: 7 | I76: 8 | J76: 9 | K76: 10 | L76: 11
A77: 1 | B77: 13.14 | C77: 12.56 | D77: 10.07
A78: 2 | B78: 14.56 | C78: 11.98 | D78: 11.1
A79: 3 | B79: 12.08 | C79: 11.38 | D79: 10.02
A80: 4 | B80: 13.1 | C80: 12.9 | D80: 12.53
A81: 5 | B81: 11.38 | C81: 14.05 | D81: 13.92
A82: 6 | B82: 11.04 | C82: 13.33 | D82: 12.9
A83: 7 | B83: 12.72 | C83: 13.12 | D83: 13.28
A84: 8 | B84: 10.28 | C84: 10.08 | D84: 14.04
A85: 9 | B85: 12.04 | C85: 14 | D85: 10.72
A86: 10 | B86: 11.14 | C86: 11.71 | D86: 12.85
A87: 11
I89: TỔNG | K89: =+SUM(B77:L87) -> 368.02
A94: XE 6
B95: 1 | C95: 2 | D95: 3 | E95: 4 | F95: 5 | G95: 6 | H95: 7 | I95: 8 | J95: 9 | K95: 10 | L95: 11
A96: 1 | B96: 13.12 | C96: 13.56
A97: 2 | B97: 12.1 | C97: 12.08
A98: 3 | B98: 12.12 | C98: 11.33
A99: 4 | B99: 11.05 | C99: 11.96
A100: 5 | B100: 12.61 | C100: 12.47
A101: 6 | B101: 11.57 | C101: 13.63
A102: 7 | B102: 10.92 | C102: 14.57
A103: 8 | B103: 12.09 | C103: 15
A104: 9 | B104: 14 | C104: 10.97
A105: 10 | B105: 12.9 | C105: 11.72
A106: 11
I108: TỔNG | K108: =+SUM(B96:L106) -> 249.77

Sheet 17-07
A2: XE 1
B3: 1 | C3: 2 | D3: 3 | E3: 4 | F3: 5 | G3: 6 | H3: 7 | I3: 8 | J3: 9 | K3: 10 | L3: 11
A4: 1 | B4: 14.26 | C4: 14.58 | D4: 14.3 | E4: 14.54 | F4: 14.14
A5: 2 | B5: 14.38 | C5: 14.46 | D5: 14.56 | E5: 14.34 | F5: 13.46
A6: 3 | B6: 14.04 | C6: 14.44 | D6: 14.38 | E6: 14.6 | F6: 14.22
A7: 4 | B7: 14.58 | C7: 14.46 | D7: 14.52 | E7: 14.5 | F7: 13.98
A8: 5 | B8: 14.04 | C8: 14.32 | D8: 14.58 | E8: 14.52 | F8: 14.34
A9: 6 | B9: 14.86 | C9: 14.6 | D9: 14.2 | E9: 14.58 | F9: 14.44
A10: 7 | B10: 14.36 | C10: 14.46 | D10: 14.2 | E10: 14.58 | F10: 13.46
A11: 8 | B11: 14.5 | C11: 15 | D11: 14.32 | E11: 13.9 | F11: 13.6
A12: 9 | B12: 14.46 | C12: 14.4 | D12: 14.5 | E12: 14.5 | F12: 14.54
A13: 10 | B13: 14.56 | C13: 14.48 | D13: 13.94 | E13: 14.62 | F13: 14.14
A14: 11
I16: TỔNG | K16: =+SUM(B4:K14) -> 717.74
A20: XE 2
B21: 1 | C21: 2 | D21: 3 | E21: 4 | F21: 5 | G21: 6 | H21: 7 | I21: 8 | J21: 9 | K21: 10 | L21: 11
A22: 1 | B22: 12.97 | C22: 14.1 | D22: 12.3 | E22: 12.42 | F22: 12.45
A23: 2 | B23: 10.94 | C23: 11.88 | D23: 12.63 | E23: 11.71 | F23: 12.59
A24: 3 | B24: 12.09 | C24: 11.22 | D24: 12.21 | E24: 12.57 | F24: 12.47
A25: 4 | B25: 11.25 | C25: 10.97 | D25: 14.37 | E25: 12.17 | F25: 12.25
A26: 5 | B26: 12.4 | C26: 13.07 | D26: 12.79 | E26: 12.41 | F26: 11.96
A27: 6 | B27: 11.19 | C27: 12.29 | D27: 12.26 | E27: 12.11 | F27: 12.9
A28: 7 | B28: 11.86 | C28: 13.68 | D28: 13.73 | E28: 15.12 | F28: 11.37
A29: 8 | B29: 12.79 | C29: 13.6 | D29: 12.86 | E29: 12.09 | F29: 12.56
A30: 9 | B30: 11.56 | C30: 13.64 | D30: 12.1 | E30: 11.61 | F30: 12.42
A31: 10 | B31: 11.94 | C31: 14.67 | D31: 11.37 | E31: 12.09 | F31: 12.43
A32: 11
I34: TỔNG | K34: =+SUM(B22:L32) -> 622.43
A38: XE 3
B39: 1 | C39: 2 | D39: 3 | E39: 4 | F39: 5 | G39: 6 | H39: 7 | I39: 8 | J39: 9 | K39: 10 | L39: 11
A40: 1 | B40: 15 | C40: 15.3 | D40: 15.4
A41: 2 | B41: 15.6 | C41: 14.9 | D41: 15.3
A42: 3 | B42: 15.7 | C42: 15.2 | D42: 15.3
A43: 4 | B43: 15.3 | C43: 15.3 | D43: 15.3
A44: 5 | B44: 15.8 | C44: 15.2 | D44: 15.4
A45: 6 | B45: 14.9 | C45: 15.2
A46: 7 | B46: 15.6 | C46: 15.4
A47: 8 | B47: 15.3 | C47: 15
A48: 9 | B48: 15.8 | C48: 15.6
A49: 10 | B49: 15.2 | C49: 15.4
A50: 11
I52: TỔNG | K52: =+SUM(B40:L50) -> 383.4
A54: XE 4
B55: 1 | C55: 2 | D55: 3 | E55: 4 | F55: 5 | G55: 6 | H55: 7 | I55: 8 | J55: 9 | K55: 10 | L55: 11
A56: 1 | B56: 11.27 | C56: 12.88 | D56: 14.35 | E56: 13.44 | F56: 11.75 | G56: 13.3 | H56: 13.62 | I56: 11.26 | J56: 12.05 | K56: 13.28
A57: 2 | B57: 13.42 | C57: 12.54 | D57: 14.87 | E57: 14.62 | F57: 13.26 | G57: 13.91 | H57: 12.53 | I57: 11.12 | J57: 12.31 | K57: 12.61
A58: 3 | B58: 13.64 | C58: 12.67 | D58: 11.51 | E58: 13.34 | F58: 11.3 | G58: 10.5 | H58: 13.92 | I58: 12.25 | J58: 11.51 | K58: 13.83
A59: 4 | B59: 12.72 | C59: 13.41 | D59: 11.14 | E59: 13.33 | F59: 11.54 | G59: 11.58 | H59: 12.47 | I59: 12.03 | J59: 11.59 | K59: 12.27
A60: 5 | B60: 12.42 | C60: 11.52 | D60: 12.39 | E60: 12.31 | F60: 11.95 | G60: 14.04 | H60: 12.9 | I60: 13.71 | J60: 13.35 | K60: 12.96
A61: 6 | B61: 11.42 | C61: 12.01 | D61: 12.12 | E61: 15 | F61: 11.72 | G61: 11.31 | H61: 11.55 | I61: 11.05 | J61: 12.65 | K61: 10.53
A62: 7 | B62: 12.18 | C62: 14.03 | D62: 12.04 | E62: 12.55 | F62: 12.12 | G62: 10.56 | H62: 13.1 | I62: 13.26 | J62: 12.57 | K62: 11.96
A63: 8 | B63: 12.48 | C63: 12.02 | D63: 11.71 | E63: 11.98 | F63: 10.09 | G63: 12.07 | H63: 13.72 | I63: 12.62 | J63: 12.97 | K63: 13.11
A64: 9 | B64: 13.92 | C64: 11.43 | D64: 13.2 | E64: 11.66 | F64: 13.49 | G64: 12.35 | H64: 10.85 | I64: 11.26 | J64: 14.05 | K64: 12.96
A65: 10 | B65: 14.64 | C65: 10.82 | D65: 13.1 | E65: 11.38 | F65: 12.78 | G65: 12.85 | H65: 11.28 | I65: 12.44 | J65: 11.05 | K65: 11.87
A66: 11
I68: TỔNG | K68: =+SUM(B56:L66) -> 1246.37

Sheet 18-07
A2: XE 1
B3: 1 | C3: 2 | D3: 3 | E3: 4 | F3: 5 | G3: 6 | H3: 7 | I3: 8 | J3: 9 | K3: 10 | L3: 11
A4: 1 | B4: 14.21 | C4: 14 | D4: 12.1 | E4: 12.75 | F4: 12.38 | G4: 12.51 | H4: 13.18 | I4: 12.17 | J4: 13.19 | K4: 13.77
A5: 2 | B5: 10.69 | C5: 12.16 | D5: 11.8 | E5: 12.24 | F5: 12.36 | G5: 11.8 | H5: 13.14 | I5: 12.51 | J5: 12.42 | K5: 11.92
A6: 3 | B6: 13.17 | C6: 11.54 | D6: 11.48 | E6: 13.51 | F6: 13.15 | G6: 13.36 | H6: 12.58 | I6: 11.43 | J6: 11.76 | K6: 11.07
A7: 4 | B7: 11.51 | C7: 11.14 | D7: 10.9 | E7: 13.05 | F7: 12.88 | G7: 12.03 | H7: 12.73 | I7: 13.15 | J7: 11.55 | K7: 14.08
A8: 5 | B8: 11.99 | C8: 12.97 | D8: 10.5 | E8: 12.04 | F8: 13.42 | G8: 13.27 | H8: 12.24 | I8: 11.41 | J8: 12.13 | K8: 12.19
A9: 6 | B9: 10.95 | C9: 14.17 | D9: 12.63 | E9: 13.18 | F9: 13.28 | G9: 10.8 | H9: 13.28 | I9: 12.75 | J9: 11.2 | K9: 13.1
A10: 7 | B10: 12.58 | C10: 13.73 | D10: 11.64 | E10: 11.69 | F10: 11.53 | G10: 12.6 | H10: 12.45 | I10: 11.65 | J10: 11.66 | K10: 11.98
A11: 8 | B11: 13.17 | C11: 12.35 | D11: 13.15 | E11: 13.28 | F11: 12.59 | G11: 13.29 | H11: 13.26 | I11: 12.98 | J11: 13.81 | K11: 14.29
A12: 9 | B12: 11.6 | C12: 12.16 | D12: 12.91 | E12: 14.54 | F12: 12.65 | G12: 13.43 | H12: 11.52 | I12: 12.98 | J12: 12.76 | K12: 15.55
A13: 10 | B13: 11.96 | C13: 12.14 | D13: 12.85 | E13: 14.35 | F13: 12.32 | G13: 12.52 | H13: 12.29 | I13: 11.84 | J13: 12.43 | K13: 13.39
A14: 11
I16: TỔNG | K16: =+SUM(B4:L14) -> 1254.74
A20: XE 2
B21: 1 | C21: 2 | D21: 3 | E21: 4 | F21: 5 | G21: 6 | H21: 7 | I21: 8 | J21: 9 | K21: 10 | L21: 11
A22: 1 | B22: 14.52 | C22: 11.44 | D22: 11.3 | E22: 12.11 | F22: 12.12 | G22: 11.88 | H22: 10.75 | I22: 13.11 | J22: 12.42 | K22: 11.44
A23: 2 | B23: 12.41 | C23: 12.44 | D23: 10.71 | E23: 13.01 | F23: 12.13 | G23: 12.08 | H23: 12.94 | I23: 12.98 | J23: 13.21 | K23: 14.05
A24: 3 | B24: 12.22 | C24: 12.49 | D24: 10.53 | E24: 13.52 | F24: 11.9 | G24: 12.34 | H24: 13.05 | I24: 10.75 | J24: 13.19 | K24: 12.75
A25: 4 | B25: 12.2 | C25: 11.92 | D25: 14.03 | E25: 12.8 | F25: 12.6 | G25: 12.96 | H25: 11.04 | I25: 13.85 | J25: 10.55 | K25: 12.24
A26: 5 | B26: 19.4 | C26: 12.28 | D26: 13.42 | E26: 14.02 | F26: 11.22 | G26: 12.99 | H26: 15.44 | I26: 12.84 | J26: 10.34 | K26: 12.06
A27: 6 | B27: 13.8 | C27: 12.2 | D27: 13.03 | E27: 10.92 | F27: 11.8 | G27: 12.83 | H27: 12.61 | I27: 12.58 | J27: 13.6 | K27: 13
A28: 7 | B28: 10.19 | C28: 12.36 | D28: 13.33 | E28: 11.65 | F28: 11.83 | G28: 10.56 | H28: 11.45 | I28: 13.14 | J28: 12.35 | K28: 12.31
A29: 8 | B29: 12.36 | C29: 11.81 | D29: 9.84 | E29: 13.15 | F29: 11.89 | G29: 11.94 | H29: 12.4 | I29: 14.98 | J29: 14.67 | K29: 14.6
A30: 9 | B30: 12.48 | C30: 12.69 | D30: 13.48 | E30: 12.18 | F30: 12.13 | G30: 12.47 | H30: 13.98 | I30: 13.19 | J30: 11.77 | K30: 12.7
A31: 10 | B31: 13.37 | C31: 12.66 | D31: 10.2 | E31: 11.89 | F31: 13.96 | G31: 11.73 | H31: 12.86 | I31: 12.87 | J31: 12.6 | K31: 14.91
A32: 11
I34: TỔNG | K34: =+SUM(B22:K32) -> 1255.29
A38: XE 3
B39: 1 | C39: 2 | D39: 3 | E39: 4 | F39: 5 | G39: 6 | H39: 7 | I39: 8 | J39: 9 | K39: 10 | L39: 11
A40: 1
A41: 2
A42: 3
A43: 4
A44: 5
A45: 6
A46: 7
A47: 8
A48: 9
A49: 10
A50: 11
I52: TỔNG | K52: =+SUM(B40:K50) -> 0

Sheet 19-07( hk có)
A2: XE 1
B3: 1 | C3: 2 | D3: 3 | E3: 4 | F3: 5 | G3: 6 | H3: 7 | I3: 8 | J3: 9 | K3: 10 | L3: 11
A4: 1
A5: 2
A6: 3
A7: 4
A8: 5
A9: 6
A10: 7
A11: 8
A12: 9
A13: 10
A14: 11
I16: TỔNG | K16: =+SUM(B4:K14) -> 0
A19: XE 2
B20: 1 | C20: 2 | D20: 3 | E20: 4 | F20: 5 | G20: 6 | H20: 7 | I20: 8 | J20: 9 | K20: 10 | L20: 11
A21: 1
A22: 2
A23: 3
A24: 4
A25: 5
A26: 6
A27: 7
A28: 8
A29: 9
A30: 10
A31: 11
I33: TỔNG | K33: =+SUM(B21:K31) -> 0
A38: XE 3
B39: 1 | C39: 2 | D39: 3 | E39: 4 | F39: 5 | G39: 6 | H39: 7 | I39: 8 | J39: 9 | K39: 10 | L39: 11
A40: 1
A41: 2
A42: 3
A43: 4
A44: 5
A45: 6
A46: 7
A47: 8
A48: 9
A49: 10
A50: 11
I52: TỔNG | K52: =+SUM(B40:L50) -> 0
A55: XE 1
B56: 1 | C56: 2 | D56: 3 | E56: 4 | F56: 5 | G56: 6 | H56: 7 | I56: 8 | J56: 9 | K56: 10 | L56: 11
A57: 1
A58: 2
A59: 3
A60: 4
A61: 5
A62: 6
A63: 7
A64: 8
A65: 9
A66: 10
A67: 11
I69: TỔNG | K69: =+SUM(B57:L67) -> 0

Sheet 20-07
A2: XE 1 | B2: AVI
B3: 1 | C3: 2 | D3: 3 | E3: 4 | F3: 5 | G3: 6 | H3: 7 | I3: 8 | J3: 9 | K3: 10 | L3: 11
A4: 1 | B4: 11.26 | C4: 13.39 | D4: 11.29 | E4: 12.39 | F4: 11.16 | G4: 12.81 | H4: 9.25 | I4: 13.38 | J4: 12.55 | K4: 12.63 | L4: 12.13
A5: 2 | B5: 12.48 | C5: 10.37 | D5: 12.19 | E5: 11.9 | F5: 12.87 | G5: 11.77 | H5: 10.89 | I5: 12.72 | J5: 13.66 | K5: 11.86 | L5: 13.8
A6: 3 | B6: 11.14 | C6: 10.82 | D6: 11.73 | E6: 12.25 | F6: 11.51 | G6: 13.76 | H6: 11.45 | I6: 12.62 | J6: 13.08 | K6: 12.4 | L6: 11.5
A7: 4 | B7: 13.47 | C7: 11.72 | D7: 11.71 | E7: 10.02 | F7: 12.32 | G7: 11.9 | H7: 11.72 | I7: 11.63 | J7: 12.59 | K7: 13.83 | L7: 12.03
A8: 5 | B8: 11.36 | C8: 11.71 | D8: 12.52 | E8: 11.69 | F8: 10.6 | G8: 12 | H8: 13.15 | I8: 12.1 | J8: 13 | K8: 13.78 | L8: 12.77
A9: 6 | B9: 13.5 | C9: 9.89 | D9: 12.66 | E9: 10.88 | F9: 11.52 | G9: 12.56 | H9: 14.75 | I9: 13.12 | J9: 13.35 | K9: 13.68 | L9: 11.81
A10: 7 | B10: 12.12 | C10: 12.1 | D10: 13.22 | E10: 12.85 | F10: 11.64 | G10: 11.86 | H10: 12.17 | I10: 12.61 | J10: 12.13 | K10: 15.23 | L10: 11.2
A11: 8 | B11: 11.97 | C11: 11.22 | D11: 13.75 | E11: 12.54 | F11: 11.29 | G11: 12.96 | H11: 13.36 | I11: 10.6 | J11: 12.5 | K11: 10.75 | L11: 11.52
A12: 9 | B12: 12.9 | C12: 11.42 | D12: 13.42 | E12: 13.4 | F12: 13.3 | G12: 12.19 | H12: 13.17 | I12: 11.54 | J12: 13.33 | K12: 12.49 | L12: 13.96
A13: 10 | B13: 12.77 | C13: 12.07 | D13: 13.33 | E13: 11.86 | F13: 8.38 | G13: 12.01 | H13: 13.6 | I13: 13.81 | J13: 12.81 | K13: 12.19 | L13: 9.87
A14: 11
I16: TỔNG | K16: =+SUM(B4:L14) -> 1347.76
A21: XE 2 | B21: AVI
B22: 1 | C22: 2 | D22: 3 | E22: 4 | F22: 5 | G22: 6 | H22: 7 | I22: 8 | J22: 9 | K22: 10 | L22: 11
A23: 1 | B23: 11.45 | C23: 13.67 | D23: 14.47 | E23: 12.79 | F23: 10.31 | G23: 12.06
A24: 2 | B24: 11.59 | C24: 12.21 | D24: 12.2 | E24: 12.26 | F24: 11.12 | G24: 11.37
A25: 3 | B25: 12.42 | C25: 12.04 | D25: 13.85 | E25: 12.25 | F25: 12.88 | G25: 12.11
A26: 4 | B26: 15.33 | C26: 13.5 | D26: 12.15 | E26: 11.78 | F26: 12 | G26: 12.43
A27: 5 | B27: 10.41 | C27: 12.78 | D27: 11.81 | E27: 12.8 | F27: 14.78 | G27: 11.68
A28: 6 | B28: 11.66 | C28: 10.13 | D28: 13.82 | E28: 11.78 | F28: 13.11 | G28: 11.65
A29: 7 | B29: 11.53 | C29: 13.88 | D29: 11.79 | E29: 12.33 | F29: 12.18 | G29: 12.8
A30: 8 | B30: 13.69 | C30: 15.06 | D30: 11.43 | E30: 13.35 | F30: 12.38 | G30: 10.53
A31: 9 | B31: 14.89 | C31: 11.9 | D31: 11.89 | E31: 12.72 | F31: 11.54 | G31: 10.93
A32: 10 | B32: 12.41 | C32: 15.31 | D32: 11.17 | E32: 13.92 | F32: 12.36 | G32: 12.49
A33: 11
I35: TỔNG | K35: =+SUM(B23:K33) -> 747.13
A40: XE 3
B41: 1 | C41: 2 | D41: 3 | E41: 4 | F41: 5 | G41: 6 | H41: 7 | I41: 8 | J41: 9 | K41: 10 | L41: 11
A42: 1 | B42: 12.34 | C42: 11.76 | D42: 12.2 | E42: 13.37 | F42: 11.92 | G42: 13.96 | H42: 11.04 | I42: 12.11 | J42: 12.71 | K42: 11.53
A43: 2 | B43: 10.98 | C43: 10.14 | D43: 11.98 | E43: 13.05 | F43: 11.07 | G43: 13.32 | H43: 11.09 | I43: 11.78 | J43: 12.39 | K43: 11.19
A44: 3 | B44: 11.26 | C44: 13.6 | D44: 12.9 | E44: 11.98 | F44: 13.37 | G44: 11.04 | H44: 12.02 | I44: 12.8 | J44: 11.23 | K44: 12.39
A45: 4 | B45: 12.56 | C45: 11.05 | D45: 11.41 | E45: 12.87 | F45: 11.27 | G45: 13.58 | H45: 12.83 | I45: 12.03 | J45: 11.86 | K45: 12.71
A46: 5 | B46: 13.46 | C46: 12.03 | D46: 12.1 | E46: 12.07 | F46: 11.35 | G46: 14.2 | H46: 12.53 | I46: 11.31 | J46: 14.86 | K46: 11.63
A47: 6 | B47: 13.06 | C47: 12.49 | D47: 12.65 | E47: 11.15 | F47: 12.84 | G47: 12.76 | H47: 12.08 | I47: 13 | J47: 12.18 | K47: 11.51
A48: 7 | B48: 11.26 | C48: 13.32 | D48: 11.96 | E48: 10.95 | F48: 12.2 | G48: 12.81 | H48: 13.49 | I48: 11.34 | J48: 12.19 | K48: 12.75
A49: 8 | B49: 12.98 | C49: 10.6 | D49: 11.72 | E49: 13.76 | F49: 12.56 | G49: 13.67 | H49: 11.39 | I49: 11.75 | J49: 12.06 | K49: 13.17
A50: 9 | B50: 13.93 | C50: 11.32 | D50: 11.02 | E50: 13.17 | F50: 12.57 | G50: 13.57 | H50: 11.64 | I50: 12.18 | J50: 9.7 | K50: 12.89
A51: 10 | B51: 13.39 | C51: 10.96 | D51: 11.69 | E51: 11.89 | F51: 13.21 | G51: 13.34 | H51: 12.42 | I51: 12.1 | J51: 13.8 | K51: 11.3
A52: 11
I54: TỔNG | K54: =+SUM(B42:K52) -> 1225.97
A58: XE 4 | B58: AVI
B59: 1 | C59: 2 | D59: 3 | E59: 4 | F59: 5 | G59: 6 | H59: 7 | I59: 8 | J59: 9 | K59: 10 | L59: 11
A60: 1 | B60: 13.15 | C60: 12.15 | D60: 12.71
A61: 2 | B61: 13.94 | C61: 15.49 | D61: 12.22
A62: 3 | B62: 11.9 | C62: 11.61 | D62: 10.99
A63: 4 | B63: 11.71 | C63: 14.08 | D63: 12.01
A64: 5 | B64: 14.47 | C64: 13.35 | D64: 12.76
A65: 6 | B65: 12.77 | C65: 10.68 | D65: 11.96
A66: 7 | B66: 10.34 | C66: 11.83 | D66: 12.96
A67: 8 | B67: 11.9 | C67: 11.66 | D67: 10.89
A68: 9 | B68: 11.5 | C68: 11.68 | D68: 13.2
A69: 10 | B69: 12.1 | C69: 12.69 | D69: 11.4
A70: 11
I72: TỔNG | K72: =+SUM(B60:K70) -> 370.1
A77: XE 5 | B77: KORA
B78: 1 | C78: 2 | D78: 3 | E78: 4 | F78: 5 | G78: 6 | H78: 7 | I78: 8 | J78: 9 | K78: 10 | L78: 11
A79: 1 | B79: 14.48 | C79: 15.74 | D79: 14.44 | E79: 15.42 | F79: 16.04
A80: 2 | B80: 14.68 | C80: 15.46 | D80: 15.7 | E80: 15.96 | F80: 15.68
A81: 3 | B81: 14.7 | C81: 16.48 | D81: 15.4 | E81: 15.56 | F81: 16.48
A82: 4 | B82: 14.76 | C82: 15.82 | D82: 15.96 | E82: 16.22 | F82: 14.44
A83: 5 | B83: 14.52 | C83: 15.74 | D83: 13.68 | E83: 15.42 | F83: 15.44
A84: 6 | B84: 14.72 | C84: 16.04 | D84: 12.52 | E84: 15.82 | F84: 14.36
A85: 7 | B85: 14.28 | C85: 16.86 | D85: 14.2 | E85: 15.22 | F85: 15.84
A86: 8 | B86: 14.92 | C86: 15.92 | D86: 14.26 | E86: 16.38 | F86: 16.06
A87: 9 | B87: 14.72 | C87: 15.6 | D87: 14.22 | E87: 14.56 | F87: 15.92
A88: 10 | B88: 14.28 | C88: 14.96 | D88: 15.88 | E88: 15.66 | F88: 15.76
A89: 11
I91: TỔNG | K91: =+SUM(B79:K89) -> 763.18

Sheet 21-07
A2: XE 1 | B2: CLEN
