Workbook
Name _1400B: #REF!
Name _1400B: #REF!
Name _1400B: #REF!
Name _1400B: #REF!
Name _1400B: #REF!
Name _1400B: #REF!
Name _1400B: #REF!
Name _1400B: #REF!
Name _1400B: #REF!
Name _1400B: #REF!
Name _1400B: #REF!
Name _1400B: #REF!
Name _1400B: #REF!
Name _1400B: #REF!
Name _1400B: #REF!
Name _1400B: #REF!
Name _1400B: #REF!
Name _1400B: #REF!
Name _1400B: #REF!
Name _1400B: #REF!
Name _1400B: #REF!
Name _1400B: #REF!
Name _1400B: #REF!
Name _1400B: #REF!
Name _403: #REF!
Name _403: #REF!
Name _403: #REF!
Name _403: #REF!
Name _403: #REF!
Name _403: #REF!
Name _403: #REF!
Name _403: #REF!
Name _403: #REF!
Name _403: #REF!
Name _403: #REF!
Name _403: #REF!
Name _403: #REF!
Name _403: #REF!
Name _403: #REF!
Name _403: #REF!
Name _403: #REF!
Name _403: #REF!
Name _403: #REF!
Name _403: #REF!
Name _403: #REF!
Name _403: #REF!
Name _403: #REF!
Name _403: #REF!
Name _403B: #REF!
Name _403B: #REF!
Name _403B: #REF!
Name _403B: #REF!
Name _403B: #REF!
Name _403B: #REF!
Name _403B: #REF!
Name _403B: #REF!
Name _403B: #REF!
Name _403B: #REF!
Name _403B: #REF!
Name _403B: #REF!

Sheet NGAY 01-12
A1: XE 1 - GÀ
B2: 1 | C2: 2 | D2: 3 | E2: 4 | F2: 5 | G2: 6 | H2: 7 | I2: 8 | J2: 9 | K2: 10
A3: 1 | B3: 15.2 | C3: 15.1 | D3: 15.2 | E3: 14.8 | F3: 15.2 | G3: 15.5 | H3: 15.5 | I3: 15.3 | J3: 15.4 | K3: 15.4
A4: 2 | B4: 15.4 | C4: 15.2 | D4: 15.3 | E4: 14.9 | F4: 15 | G4: 15.1 | H4: 15.6 | I4: 15.4 | J4: 15.3 | K4: 15.1
A5: 3 | B5: 15.3 | C5: 15.3 | D5: 15.5 | E5: 15.2 | F5: 15.1 | G5: 15 | H5: 15.3 | I5: 15.1 | J5: 15.1 | K5: 15
A6: 4 | B6: 15.3 | C6: 15.2 | D6: 15.3 | E6: 15.1 | F6: 15.3 | G6: 15.1 | H6: 15.3 | I6: 15.5 | J6: 0.15 | K6: 15
A7: 5 | B7: 15.6 | C7: 15.1 | D7: 15.3 | E7: 15.7 | F7: 15.3 | G7: 15.5 | H7: 15.3 | I7: 15.3 | J7: 15.4 | K7: 15.8
A8: 6 | B8: 15 | C8: 15.1 | D8: 15.2 | E8: 15.1 | F8: 15.4 | G8: 15.3 | H8: 15.5 | I8: 15.3 | J8: 15.4 | K8: 15
A9: 7 | B9: 15.2 | C9: 15.3 | D9: 15.3 | E9: 15.5 | F9: 15.4 | G9: 15.3 | H9: 15.4 | I9: 15.3 | J9: 15.3 | K9: 15.2
A10: 8 | B10: 15.2 | C10: 15.3 | D10: 15.3 | E10: 15.4 | F10: 15.1 | G10: 15.3 | H10: 15.2 | I10: 15.1 | J10: 15.3 | K10: 15.4
A11: 9 | B11: 15.3 | C11: 15.2 | D11: 15.3 | E11: 15.3 | F11: 15.3 | G11: 15.3 | H11: 15.5 | I11: 15.1 | J11: 15.3 | K11: 14.9
A12: 10 | B12: 15.4 | C12: 15.2 | D12: 15 | E12: 15.3 | F12: 15.5 | G12: 15 | H12: 15.2 | I12: 15.1 | J12: 15.4 | K12: 15.2
I14: TỔNG | K14: =+SUM(B3:K12) -> 1511.25
A15: XE 2 - GIÒ
B16: 1 | C16: 2 | D16: 3 | E16: 4 | F16: 5 | G16: 6 | H16: 7 | I16: 8 | J16: 9 | K16: 10
A17: 1 | B17: 19.14 | C17: 18.48 | D17: 18.52 | E17: 17.38 | F17: 18.88 | G17: 18.24 | H17: 17.38 | I17: 17.48 | J17: 17.34 | K17: 17.92
A18: 2 | B18: 18.92 | C18: 20.16 | D18: 18.7 | E18: 18.38 | F18: 17.58 | G18: 18.18 | H18: 17.98 | I18: 18.48 | J18: 17.3 | K18: 17.56
A19: 3 | B19: 20.06 | C19: 18.38 | D19: 18.5 | E19: 17.32 | F19: 18.2 | G19: 18.6 | H19: 17.98 | I19: 17.4 | J19: 17.18 | K19: 18.34
A20: 4 | B20: 19.24 | C20: 17.52 | D20: 17.7 | E20: 19.08 | F20: 17.82 | G20: 17.86 | H20: 17.1 | I20: 17.96 | J20: 17.78 | K20: 18.5
A21: 5 | B21: 18.54 | C21: 17.46 | D21: 18.76 | E21: 18.14 | F21: 17.92 | G21: 18.64 | H21: 17.38 | I21: 17.82 | J21: 17 | K21: 17.8
A22: 6 | B22: 19.52 | C22: 18.32 | D22: 18.98 | E22: 18.14 | F22: 18.44 | G22: 18 | H22: 17.3 | I22: 18.44 | J22: 17.64 | K22: 18.42
A23: 7 | B23: 17.08 | C23: 19.44 | D23: 17.96 | E23: 19.48 | F23: 18.22 | G23: 18.12 | H23: 18.48 | I23: 17.76 | J23: 17.68 | K23: 17.44
A24: 8 | B24: 18.58 | C24: 20.54 | D24: 17.88 | E24: 17.36 | F24: 18.9 | G24: 17.46 | H24: 17.74 | I24: 18 | J24: 17.88 | K24: 18.12
A25: 9 | B25: 17.38 | C25: 19.48 | D25: 18.14 | E25: 17.78 | F25: 18.12 | G25: 18.04 | H25: 17.2 | I25: 17.54 | J25: 17.86 | K25: 18.08
A26: 10 | B26: 19.26 | C26: 17.68 | D26: 18.84 | E26: 17.16 | F26: 18 | G26: 17.62 | H26: 18.38 | I26: 18.42 | J26: 17.26 | K26: 18.36
I28: TỔNG | K28: =+SUM(B17:K26) -> 1813.9
A29: XE 3 - GIÒ
B30: 1 | C30: 2 | D30: 3 | E30: 4 | F30: 5 | G30: 6 | H30: 7 | I30: 8 | J30: 9 | K30: 10
A31: 1 | B31: 18.9 | C31: 17.9 | D31: 17.44 | E31: 18.36
A32: 2 | B32: 17.62 | C32: 17.42 | D32: 17.24 | E32: 17.6
A33: 3 | B33: 17.46 | C33: 18.04 | D33: 18.68 | E33: 18.38
A34: 4 | B34: 18.64 | C34: 17.22 | D34: 17.34 | E34: 17.68
A35: 5 | B35: 18 | C35: 18.2 | D35: 18.24 | E35: 17.82
A36: 6 | B36: 17.72 | C36: 17.96 | D36: 17.52 | E36: 17.44
A37: 7 | B37: 17.76 | C37: 18.02 | D37: 17.92 | E37: 18.36
A38: 8 | B38: 18.18 | C38: 17.82 | D38: 18.8 | E38: 18.4
A39: 9 | B39: 17.48 | C39: 17.28 | D39: 17.92 | E39: 18.24
A40: 10 | B40: 17.76 | C40: 17.06 | D40: 19.22 | E40: 17.58
I42: TỔNG | K42: =+SUM(B31:K40) -> 716.62
A43: XE 4 - GÀ
B44: 1 | C44: 2 | D44: 3 | E44: 4 | F44: 5 | G44: 6 | H44: 7 | I44: 8 | J44: 9 | K44: 10
A45: 1
A46: 2
A47: 3
A48: 4
A49: 5
A50: 6
A51: 7
A52: 8
A53: 9
A54: 10
I56: TỔNG | K56: =+SUM(B45:K54) -> 0
A57: XE 5 - GÀ
B58: 1 | C58: 2 | D58: 3 | E58: 4 | F58: 5 | G58: 6 | H58: 7 | I58: 8 | J58: 9 | K58: 10
A59: 1
A60: 2
A61: 3
A62: 4
A63: 5
A64: 6
A65: 7
A66: 8
A67: 9
A68: 10
I70: TỔNG | K70: =+SUM(B59:K68) -> 0

Sheet NGAY 02-12
A1: XE 1 - GÀ
B2: 1 | C2: 2 | D2: 3 | E2: 4 | F2: 5 | G2: 6 | H2: 7 | I2: 8 | J2: 9 | K2: 10
A3: 1 | B3: 15.5 | C3: 15.2 | D3: 15.8 | E3: 15.4 | F3: 15.4 | G3: 15.1 | H3: 15.4 | I3: 15 | J3: 15 | K3: 15.1
A4: 2 | B4: 15.1 | C4: 15.5 | D4: 15.1 | E4: 15.5 | F4: 15.7 | G4: 15.3 | H4: 15.3 | I4: 15.3 | J4: 15.1 | K4: 15.2
A5: 3 | B5: 15.4 | C5: 15.4 | D5: 15.4 | E5: 15.4 | F5: 15 | G5: 15.7 | H5: 15.6 | I5: 15 | J5: 15.4 | K5: 15.2
A6: 4 | B6: 15.3 | C6: 15.3 | D6: 15 | E6: 15.4 | F6: 15.6 | G6: 15.6 | H6: 15.1 | I6: 15.1 | J6: 15 | K6: 15.3
A7: 5 | B7: 15.1 | C7: 15.3 | D7: 15.4 | E7: 15.5 | F7: 15.2 | G7: 15 | H7: 15.3 | I7: 15.1 | J7: 15.2 | K7: 15.4
A8: 6 | B8: 15.5 | C8: 15 | D8: 15.5 | E8: 15.2 | F8: 15 | G8: 15.3 | H8: 15.3 | I8: 15.3 | J8: 15 | K8: 14.6
A9: 7 | B9: 15.2 | C9: 15.3 | D9: 15.4 | E9: 15.1 | F9: 15.5 | G9: 15.2 | H9: 15.3 | I9: 15.3 | J9: 15.9 | K9: 14.9
A10: 8 | B10: 15.3 | C10: 15.5 | D10: 15.4 | E10: 15.6 | F10: 15.4 | G10: 15.3 | H10: 15.1 | I10: 15.3 | J10: 15.3 | K10: 15.1
A11: 9 | B11: 15 | C11: 15.4 | D11: 15.2 | E11: 15.3 | F11: 15.1 | G11: 15.4 | H11: 15.3 | I11: 15.3 | J11: 15.3 | K11: 15.1
A12: 10 | B12: 15.5 | C12: 15.4 | D12: 15 | E12: 15.4 | F12: 15.1 | G12: 15 | H12: 15.4 | I12: 15.2 | J12: 15.3 | K12: 15
I14: TỔNG | K14: =+SUM(B3:K12) -> 1527.5
A15: XE 2 - GIÒ
B16: 1 | C16: 2 | D16: 3 | E16: 4 | F16: 5 | G16: 6 | H16: 7 | I16: 8 | J16: 9 | K16: 10
A17: 1 | B17: 19.14 | C17: 18.48 | D17: 18.52 | E17: 17.38 | F17: 18.88 | G17: 18.24 | H17: 17.38 | I17: 17.48 | J17: 17.34 | K17: 17.92
A18: 2 | B18: 18.92 | C18: 20.16 | D18: 18.7 | E18: 18.38 | F18: 17.88 | G18: 18.18 | H18: 17.98 | I18: 18.48 | J18: 17.3 | K18: 17.56
A19: 3 | B19: 20.06 | C19: 18.38 | D19: 18.5 | E19: 17.32 | F19: 18.2 | G19: 18.6 | H19: 17.98 | I19: 17.4 | J19: 17.18 | K19: 18.34
A20: 4 | B20: 19.24 | C20: 17.52 | D20: 17.7 | E20: 19.08 | F20: 17.82 | G20: 17.86 | H20: 17.1 | I20: 17.96 | J20: 17.78 | K20: 18.5
A21: 5 | B21: 18.54 | C21: 17.46 | D21: 18.76 | E21: 18.14 | F21: 17.92 | G21: 18.64 | H21: 17.38 | I21: 17.82 | J21: 17 | K21: 17.8
A22: 6 | B22: 19.52 | C22: 18.32 | D22: 18.98 | E22: 18.14 | F22: 18.44 | G22: 18 | H22: 17.3 | I22: 18.44 | J22: 17.64 | K22: 18.42
A23: 7 | B23: 17.08 | C23: 19.44 | D23: 17.96 | E23: 19.48 | F23: 18.22 | G23: 18.12 | H23: 18.48 | I23: 17.76 | J23: 17.68 | K23: 17.44
A24: 8 | B24: 18.58 | C24: 20.54 | D24: 17.88 | E24: 17.36 | F24: 18.9 | G24: 17.46 | H24: 17.74 | I24: 18 | J24: 17.88 | K24: 18.12
A25: 9 | B25: 17.38 | C25: 19.48 | D25: 18.14 | E25: 17.78 | F25: 18.12 | G25: 18.04 | H25: 17.2 | I25: 17.54 | J25: 17.86 | K25: 18.08
A26: 10 | B26: 19.26 | C26: 17.68 | D26: 18.84 | E26: 17.16 | F26: 18 | G26: 17.62 | H26: 18.38 | I26: 18.42 | J26: 17.26 | K26: 18.36
I28: TỔNG | K28: =+SUM(B17:K26) -> 1814.2
A29: XE 3 - GIÒ
B30: 1 | C30: 2 | D30: 3 | E30: 4 | F30: 5 | G30: 6 | H30: 7 | I30: 8 | J30: 9 | K30: 10
A31: 1 | B31: 18.9 | C31: 17.9 | D31: 17.44 | E31: 18.36
A32: 2 | B32: 17.62 | C32: 17.42 | D32: 17.24 | E32: 17.6
A33: 3 | B33: 17.46 | C33: 18.04 | D33: 18.68 | E33: 18.38
A34: 4 | B34: 18.64 | C34: 17.22 | D34: 17.34 | E34: 17.68
A35: 5 | B35: 18 | C35: 18.2 | D35: 18.24 | E35: 17.82
A36: 6 | B36: 17.72 | C36: 17.96 | D36: 17.52 | E36: 17.77
A37: 7 | B37: 17.76 | C37: 18.02 | D37: 17.92 | E37: 18.36
A38: 8 | B38: 18.18 | C38: 17.82 | D38: 18.8 | E38: 18.4
A39: 9 | B39: 17.48 | C39: 17.28 | D39: 17.92 | E39: 18.24
A40: 10 | B40: 17.76 | C40: 17.06 | D40: 19.22 | E40: 17.58
I42: TỔNG | K42: =+SUM(B31:K40) -> 716.95
A43: XE 4 - GÀ
B44: 1 | C44: 2 | D44: 3 | E44: 4 | F44: 5 | G44: 6 | H44: 7 | I44: 8 | J44: 9 | K44: 10
A45: 1 | B45: 15.2 | C45: 15 | D45: 15.3 | E45: 15 | F45: 15.2 | G45: 15.6 | H45: 15.3 | I45: 15.1 | J45: 14.9 | K45: 15.2
A46: 2 | B46: 15 | C46: 15 | D46: 15.2 | E46: 15.3 | F46: 15.3 | G46: 15.2 | H46: 15.2 | I46: 15.3 | J46: 14.9 | K46: 15.3
A47: 3 | B47: 15.1 | C47: 15.7 | D47: 15.1 | E47: 15.1 | F47: 15.2 | G47: 15.3 | H47: 15.4 | I47: 15.1 | J47: 14.9 | K47: 15.1
A48: 4 | B48: 15.1 | C48: 15.1 | D48: 15 | E48: 15.1 | F48: 15.1 | G48: 15.3 | H48: 15.2 | I48: 15.9 | J48: 14.9 | K48: 15.1
A49: 5 | B49: 15.2 | C49: 15 | D49: 15.4 | E49: 15.3 | F49: 15.3 | G49: 15.3 | H49: 15.3 | I49: 15.1 | J49: 14 | K49: 15
A50: 6 | B50: 15.3 | C50: 15.4 | D50: 15.1 | E50: 15.4 | F50: 15.4 | G50: 15.2 | H50: 15.4 | I50: 15.8 | J50: 15.1 | K50: 15.8
A51: 7 | B51: 15.1 | C51: 15.3 | D51: 15.2 | E51: 15.4 | F51: 15.5 | G51: 15.4 | H51: 15.3 | I51: 15.5 | J51: 15.5 | K51: 15.5
A52: 8 | B52: 15.2 | C52: 15 | D52: 15.2 | E52: 5.3 | F52: 15.3 | G52: 15.2 | H52: 15.2 | I52: 15.3 | J52: 15.3 | K52: 15.1
A53: 9 | B53: 15.4 | C53: 15.6 | D53: 15.2 | E53: 15.3 | F53: 15.5 | G53: 15.6 | H53: 15.7 | I53: 15.1 | J53: 15.7 | K53: 15.2
A54: 10 | B54: 15.5 | C54: 15.2 | D54: 15.8 | E54: 15.6 | F54: 15.2 | G54: 15.1 | H54: 15 | I54: 15.5 | J54: 15.3 | K54: 15
I56: TỔNG | K56: =+SUM(B45:K54) -> 1515.4
A57: XE 5 - GÀ
B58: 1 | C58: 2 | D58: 3 | E58: 4 | F58: 5 | G58: 6 | H58: 7 | I58: 8 | J58: 9 | K58: 10
A59: 1 | B59: 15.4 | C59: 15.3 | D59: 15.6 | E59: 15.1 | F59: 15.6 | G59: 14.9 | H59: 15.4 | I59: 15.6 | J59: 15.4 | K59: 15.2
A60: 2 | B60: 15 | C60: 15.4 | D60: 15.4 | E60: 15.2 | F60: 15.5 | G60: 14.9 | H60: 15.2 | I60: 15.3 | J60: 15.5 | K60: 15.8
A61: 3 | B61: 15.2 | C61: 15.2 | D61: 15.1 | E61: 15 | F61: 15.3 | G61: 15.2 | H61: 15.1 | I61: 15.2 | J61: 15.1 | K61: 15.3
A62: 4 | B62: 15.4 | C62: 15.5 | D62: 15.3 | E62: 15.3 | F62: 15.7 | G62: 15.1 | H62: 15.2 | I62: 15.4 | J62: 15.5 | K62: 15.6
A63: 5 | B63: 15.3 | C63: 15.3 | D63: 15.3 | E63: 15 | F63: 15.1 | G63: 15.5 | H63: 15 | I63: 15.1 | J63: 15.3 | K63: 15.1
A64: 6 | B64: 15.3 | C64: 15 | D64: 15.2 | E64: 15.4 | F64: 15.3 | G64: 15 | H64: 15.2 | I64: 15.1 | J64: 15.1 | K64: 15
A65: 7 | B65: 15.5 | C65: 15.1 | D65: 15.3 | E65: 15.1 | F65: 15.1 | G65: 15.3 | H65: 15.4 | I65: 15.1 | J65: 15.2 | K65: 15.4
A66: 8 | B66: 15.2 | C66: 15.2 | D66: 15.1 | E66: 15.3 | F66: 15.2 | G66: 15.2 | H66: 15.1 | I66: 15.2 | J66: 15.5 | K66: 15.2
A67: 9 | B67: 15.3 | C67: 15.3 | D67: 15.3 | E67: 15.2 | F67: 15.6 | G67: 15.1 | H67: 15.3 | I67: 15.8 | J67: 15.2 | K67: 15.4
A68: 10 | B68: 15.3 | C68: 15.2 | D68: 15.2 | E68: 15.4 | F68: 15.3 | G68: 15.2 | H68: 15 | I68: 15 | J68: 15.3 | K68: 15
I70: TỔNG | K70: =+SUM(B59:K68) -> 1526.1

Sheet NGAY 03-12
A1: XE 1 - GIÒ
B2: 1 | C2: 2 | D2: 3 | E2: 4 | F2: 5 | G2: 6 | H2: 7 | I2: 8 | J2: 9 | K2: 10
A3: 1 | B3: 17.92 | C3: 17.72 | D3: 18.36 | E3: 17.72 | F3: 17.08 | G3: 17.92 | H3: 17.7
A4: 2 | B4: 17.54 | C4: 17.68 | D4: 17.84 | E4: 17.14 | F4: 18.06 | G4: 17.76 | H4: 18.14
A5: 3 | B5: 17.7 | C5: 17.4 | D5: 17.44 | E5: 17.6 | F5: 17.98 | G5: 17.96 | H5: 18.04
A6: 4 | B6: 17.82 | C6: 17.76 | D6: 17.92 | E6: 17.24 | F6: 17.8 | G6: 18.32 | H6: 18.22
A7: 5 | B7: 17.3 | C7: 18.02 | D7: 17.16 | E7: 17.34 | F7: 17.12 | G7: 17.88 | H7: 17.06
A8: 6 | B8: 17.58 | C8: 17.64 | D8: 17.72 | E8: 18.46 | F8: 18.62 | G8: 18.6 | H8: 17.56
A9: 7 | B9: 17.92 | C9: 17.36 | D9: 17.9 | E9: 18.1 | F9: 17.96 | G9: 18.82 | H9: 18.86
A10: 8 | B10: 17.38 | C10: 17.76 | D10: 17.28 | E10: 18.14 | F10: 18.82 | G10: 18.32 | H10: 17.68
A11: 9 | B11: 17.58 | C11: 17.26 | D11: 17.34 | E11: 18.84 | F11: 18.76 | G11: 18.68 | H11: 18.96
A12: 10 | B12: 17.62 | C12: 17.68 | D12: 17.8 | E12: 17.44 | F12: 18.6 | G12: 17.32 | H12: 18.96
I14: TỔNG | K14: =+SUM(B3:K12) -> 1250.98
A15: XE 2 - GIÒ
B16: 1 | C16: 2 | D16: 3 | E16: 4 | F16: 5 | G16: 6 | H16: 7 | I16: 8 | J16: 9 | K16: 10
A17: 1 | B17: 24.92 | C17: 24.1 | D17: 24.24 | E17: 24.98 | F17: 23.94
A18: 2 | B18: 25.48 | C18: 25.78 | D18: 24.74 | E18: 24.76 | F18: 25.14
A19: 3 | B19: 24.56 | C19: 24.46 | D19: 24.8 | E19: 24.24 | F19: 23.9
A20: 4 | B20: 24.78 | C20: 24.46 | D20: 24.2 | E20: 24.54 | F20: 24.22
A21: 5 | B21: 24.42 | C21: 24.64 | D21: 24.66 | E21: 24.26 | F21: 24.7
A22: 6 | B22: 24.4 | C22: 24.52 | D22: 24.44 | E22: 24 | F22: 25.24
A23: 7 | B23: 24.34 | C23: 24.64 | D23: 23.79 | E23: 23.58 | F23: 23.32
A24: 8 | B24: 24.54 | C24: 24.3 | D24: 24.96 | E24: 25.02 | F24: 23.24
A25: 9 | B25: 25.58 | C25: 24.54 | D25: 24.26 | E25: 24.42 | F25: 23.92
A26: 10 | B26: 24.72 | C26: 25.36 | D26: 25.38 | E26: 25.04 | F26: 24.32
I28: TỔNG | K28: =+SUM(B17:K26) -> 1226.79
A29: XE 3
B30: 1 | C30: 2 | D30: 3 | E30: 4 | F30: 5 | G30: 6 | H30: 7 | I30: 8 | J30: 9 | K30: 10
A31: 1
A32: 2
A33: 3
A34: 4
A35: 5
A36: 6
A37: 7
A38: 8
A39: 9
A40: 10
I42: TỔNG | K42: =+SUM(B31:K40) -> 0
A43: XE 4
B44: 1 | C44: 2 | D44: 3 | E44: 4 | F44: 5 | G44: 6 | H44: 7 | I44: 8 | J44: 9 | K44: 10
A45: 1
A46: 2
A47: 3
A48: 4
A49: 5
A50: 6
A51: 7
A52: 8
A53: 9
A54: 10
I56: TỔNG | K56: =+SUM(B45:K54) -> 0

Sheet NGAY 04-12
A1: XE 1 - GÀ
B2: 1 | C2: 2 | D2: 3 | E2: 4 | F2: 5 | G2: 6 | H2: 7 | I2: 8 | J2: 9 | K2: 10
A3: 1 | B3: 15.2 | C3: 15.4 | D3: 15.4 | E3: 15.5 | F3: 15.2 | G3: 15.4 | H3: 15.5 | I3: 15.4 | J3: 15.1 | K3: 14.9
A4: 2 | B4: 15.3 | C4: 15.4 | D4: 15.2 | E4: 15.4 | F4: 15 | G4: 15.2 | H4: 15 | I4: 15.5 | J4: 15.1 | K4: 14.8
A5: 3 | B5: 15.3 | C5: 15.5 | D5: 15.4 | E5: 15.6 | F5: 15.1 | G5: 15.1 | H5: 15.2 | I5: 15 | J5: 15.1 | K5: 14.9
A6: 4 | B6: 15.1 | C6: 15.4 | D6: 15.3 | E6: 15.6 | F6: 15.6 | G6: 15.3 | H6: 15.4 | I6: 15.2 | J6: 15.2 | K6: 14.9
A7: 5 | B7: 15.5 | C7: 15.3 | D7: 15.5 | E7: 15.2 | F7: 15.3 | G7: 15.4 | H7: 15.5 | I7: 15.6 | J7: 15.1 | K7: 14.9
A8: 6 | B8: 15.3 | C8: 15.2 | D8: 15.1 | E8: 15 | F8: 15.1 | G8: 15.4 | H8: 15.2 | I8: 15.2 | J8: 15.1 | K8: 14.9
A9: 7 | B9: 15.4 | C9: 15.6 | D9: 15.3 | E9: 15.3 | F9: 15.4 | G9: 15.1 | H9: 15.1 | I9: 15.2 | J9: 15.2 | K9: 15.1
A10: 8 | B10: 15.6 | C10: 15.4 | D10: 15.3 | E10: 15.1 | F10: 15.3 | G10: 15.5 | H10: 15.1 | I10: 15.2 | J10: 15.1 | K10: 15.4
A11: 9 | B11: 15.1 | C11: 15.5 | D11: 15.4 | E11: 15.3 | F11: 15.1 | G11: 15.2 | H11: 15.2 | I11: 15 | J11: 15.2 | K11: 15.3
A12: 10 | B12: 15.3 | C12: 15 | D12: 15 | E12: 15.2 | F12: 15.5 | G12: 15.1 | H12: 15.3 | I12: 15.3 | J12: 15.1 | K12: 15
I14: TỔNG | K14: =+SUM(B3:K12) -> 1524.7
A15: XE 2 - GIÒ
B16: 1 | C16: 2 | D16: 3 | E16: 4 | F16: 5 | G16: 6 | H16: 7 | I16: 8 | J16: 9 | K16: 10
A17: 1
A18: 2
A19: 3
A20: 4
A21: 5
A22: 6
A23: 7
A24: 8
A25: 9
A26: 10
I28: TỔNG | K28: =+SUM(B17:K26) -> 0
A29: XE 3 - GIÒ
B30: 1 | C30: 2 | D30: 3 | E30: 4 | F30: 5 | G30: 6 | H30: 7 | I30: 8 | J30: 9 | K30: 10
A31: 1
A32: 2
A33: 3
A34: 4
A35: 5
A36: 6
A37: 7
A38: 8
A39: 9
A40: 10
I42: TỔNG | K42: =+SUM(B31:K40) -> 0
A43: XE 4 - GÀ
B44: 1 | C44: 2 | D44: 3 | E44: 4 | F44: 5 | G44: 6 | H44: 7 | I44: 8 | J44: 9 | K44: 10
A45: 1
A46: 2
A47: 3
A48: 4
A49: 5
A50: 6
A51: 7
A52: 8
A53: 9
A54: 10
I56: TỔNG | K56: =+SUM(B45:K54) -> 0
A57: XE 5 - GÀ
B58: 1 | C58: 2 | D58: 3 | E58: 4 | F58: 5 | G58: 6 | H58: 7 | I58: 8 | J58: 9 | K58: 10
A59: 1
A60: 2
A61: 3
A62: 4
A63: 5
A64: 6
A65: 7
A66: 8
A67: 9
A68: 10
I70: TỔNG | K70: =+SUM(B59:K68) -> 0

Sheet NGAY 05-12
A1: XE 1 - GÀ
B2: 1 | C2: 2 | D2: 3 | E2: 4 | F2: 5 | G2: 6 | H2: 7 | I2: 8 | J2: 9 | K2: 10
A3: 1 | B3: 15.1 | C3: 15.6 | D3: 15.3 | E3: 15 | F3: 15.1 | G3: 15.1 | H3: 15.3 | I3: 15 | J3: 15.2 | K3: 14.9
A4: 2 | B4: 15.1 | C4: 15.6 | D4: 15.1 | E4: 15.2 | F4: 15.1 | G4: 15.4 | H4: 15.2 | I4: 15.3 | J4: 15.1 | K4: 14.9
A5: 3 | B5: 15 | C5: 15.2 | D5: 15.2 | E5: 15.1 | F5: 15 | G5: 15.1 | H5: 15.2 | I5: 15.1 | J5: 15.1 | K5: 15.2
A6: 4 | B6: 15.5 | C6: 15.3 | D6: 15.8 | E6: 15.5 | F6: 15.1 | G6: 15 | H6: 15.7 | I6: 15.9 | J6: 15.3 | K6: 14.9
A7: 5 | B7: 15.4 | C7: 15.3 | D7: 15.3 | E7: 15.2 | F7: 15.3 | G7: 15.3 | H7: 15.1 | I7: 15.4 | J7: 15.1 | K7: 14.8
A8: 6 | B8: 15.2 | C8: 15 | D8: 15.1 | E8: 15.1 | F8: 15.2 | G8: 15.2 | H8: 15.1 | I8: 15.2 | J8: 15.1 | K8: 14.9
A9: 7 | B9: 15.3 | C9: 15.2 | D9: 15.2 | E9: 15.1 | F9: 15.1 | G9: 15.5 | H9: 15 | I9: 15.2 | J9: 15.3 | K9: 14.9
A10: 8 | B10: 15.1 | C10: 15.3 | D10: 15.4 | E10: 15 | F10: 15.2 | G10: 15.1 | H10: 15.3 | I10: 15.2 | J10: 15.3 | K10: 14.9
A11: 9 | B11: 15.2 | C11: 15.2 | D11: 15.2 | E11: 15.3 | F11: 15.2 | G11: 15.1 | H11: 15 | I11: 15.3 | J11: 14.8 | K11: 14.9
A12: 10 | B12: 15.3 | C12: 15.4 | D12: 15.2 | E12: 15.2 | F12: 15.2 | G12: 15.1 | H12: 15 | I12: 15.1 | J12: 14.9 | K12: 14.9
I14: TỔNG | K14: =+SUM(B3:K12) -> 1518.2
A15: XE 2 - GIÒ
B16: 1 | C16: 2 | D16: 3 | E16: 4 | F16: 5 | G16: 6 | H16: 7 | I16: 8 | J16: 9 | K16: 10 | L16: 11
A17: 1 | B17: 17.82 | C17: 18.82 | D17: 17.5 | E17: 17.4 | F17: 17.76 | G17: 17.7 | H17: 17.82 | I17: 17.74 | J17: 17.76 | K17: 17.74 | L17: 17.62
A18: 2 | B18: 17.98 | C18: 18.44 | D18: 17.26 | E18: 17.3 | F18: 17.22 | G18: 17.22 | H18: 18.06 | I18: 17.7 | J18: 17.24 | K18: 17.78 | L18: 17.1
A19: 3 | B19: 17.88 | C19: 18.22 | D19: 17.5 | E19: 18.28 | F19: 18.12 | G19: 17.2 | H19: 17.62 | I19: 17.32 | J19: 17.98 | K19: 18.36 | L19: 17.9
A20: 4 | B20: 17.82 | C20: 17.4 | D20: 17.94 | E20: 18.04 | F20: 17.46 | G20: 17.2 | H20: 17.18 | I20: 17.1 | J20: 17.44 | K20: 18.56 | L20: 17.92
A21: 5 | B21: 18.38 | C21: 18.38 | D21: 17.6 | E21: 18.24 | F21: 17.48 | G21: 17.02 | H21: 17.52 | I21: 17.96 | J21: 17.18 | K21: 17.92 | L21: 17.4
A22: 6 | B22: 18.24 | C22: 17.84 | D22: 17.76 | E22: 17.1 | F22: 17.36 | G22: 17.74 | H22: 17.9 | I22: 17.46 | J22: 17.96 | K22: 17.18
A23: 7 | B23: 17.58 | C23: 18.08 | D23: 18.36 | E23: 17.26 | F23: 17.62 | G23: 17.56 | H23: 17.58 | I23: 17.86 | J23: 17.82 | K23: 17.14
A24: 8 | B24: 17.38 | C24: 17.38 | D24: 17.82 | E24: 17.06 | F24: 17.9 | G24: 17.7 | H24: 17.68 | I24: 17.23 | J24: 17.94 | K24: 17.92
A25: 9 | B25: 18.32 | C25: 18.18 | D25: 17.3 | E25: 18.48 | F25: 18.06 | G25: 18.6 | H25: 17.24 | I25: 17.56 | J25: 17.6 | K25: 17.54
A26: 10 | B26: 18.72 | C26: 17.44 | D26: 18.38 | E26: 18.58 | F26: 17.78 | G26: 17.8 | H26: 17.94 | I26: 17.26 | J26: 18.34 | K26: 17.48
I28: TỔNG | K28: =+SUM(B17:L26) -> 1862.51
A29: XE 3 - GIÒ
B30: 1 | C30: 2 | D30: 3 | E30: 4 | F30: 5 | G30: 6 | H30: 7 | I30: 8 | J30: 9 | K30: 10 | L30: 11
A31: 1 | B31: 17.4 | C31: 17.2 | D31: 17.7 | E31: 17.36 | F31: 17.98 | G31: 17.04 | H31: 18.58 | I31: 17.56 | J31: 18.6 | K31: 17.58 | L31: 19.74
A32: 2 | B32: 17.42 | C32: 17.42 | D32: 17.8 | E32: 17.88 | F32: 17.62 | G32: 17.6 | H32: 17.4 | I32: 17.4 | J32: 17.4 | K32: 18.38 | L32: 18.9
A33: 3 | B33: 17.4 | C33: 17.56 | D33: 17.24 | E33: 17.9 | F33: 17.4 | G33: 17.8 | H33: 17.82 | I33: 17.8 | J33: 18.74 | K33: 19.34 | L33: 18.68
A34: 4 | B34: 17.4 | C34: 17.8 | D34: 17.2 | E34: 17.58 | F34: 17.34 | G34: 17.4 | H34: 17.38 | I34: 17.98 | J34: 18.52 | K34: 18.2 | L34: 18.34
A35: 5 | B35: 17.26 | C35: 17.6 | D35: 17.8 | E35: 17.78 | F35: 18.46 | G35: 17.8 | H35: 17.22 | I35: 17.32 | J35: 18 | K35: 18.4 | L35: 18.4
A36: 6 | B36: 17.34 | C36: 17.94 | D36: 17.84 | E36: 17.3 | F36: 18.16 | G36: 17.92 | H36: 17.2 | I36: 18.6 | J36: 20.6 | K36: 17.18
A37: 7 | B37: 18.76 | C37: 17.6 | D37: 21.48 | E37: 17.6 | F37: 17.32 | G37: 17.56 | H37: 19.96 | I37: 17.52 | J37: 17.52 | K37: 18.8
A38: 8 | B38: 17.14 | C38: 18.1 | D38: 17.4 | E38: 18.5 | F38: 17.3 | G38: 17.3 | H38: 18.4 | I38: 18.6 | J38: 17.6 | K38: 18.24
A39: 9 | B39: 17.4 | C39: 17.5 | D39: 17.8 | E39: 17.2 | F39: 17.2 | G39: 17 | H39: 18.96 | I39: 18.66 | J39: 17.8 | K39: 17.56
A40: 10 | B40: 17.56 | C40: 17.6 | D40: 17.82 | E40: 17.12 | F40: 17.36 | G40: 17 | H40: 17.68 | I40: 17.4 | J40: 18.98 | K40: 17.4
I42: TỔNG | K42: =+SUM(B31:L40) -> 1876.6
A43: XE 4
B44: 1 | C44: 2 | D44: 3 | E44: 4 | F44: 5 | G44: 6 | H44: 7 | I44: 8 | J44: 9 | K44: 10
A45: 1
A46: 2
A47: 3
A48: 4
A49: 5
A50: 6
A51: 7
A52: 8
A53: 9
A54: 10
I56: TỔNG | K56: =+SUM(B45:K54) -> 0

Sheet NGAY 06-12
A1: XE 1 - GÀ
B2: 1 | C2: 2 | D2: 3 | E2: 4 | F2: 5 | G2: 6 | H2: 7 | I2: 8 | J2: 9 | K2: 10
A3: 1 | B3: 15.2 | C3: 14.8 | D3: 15 | E3: 15.1 | F3: 14.9 | G3: 15 | H3: 14.9 | I3: 15 | J3: 15 | K3: 14.7
A4: 2 | B4: 15.2 | C4: 14.8 | D4: 15 | E4: 15.2 | F4: 15 | G4: 15.1 | H4: 14.8 | I4: 15.5 | J4: 15.2 | K4: 15.2
A5: 3 | B5: 15.2 | C5: 14.9 | D5: 15.1 | E5: 15.2 | F5: 15.2 | G5: 15.3 | H5: 14.9 | I5: 15.6 | J5: 15.4 | K5: 15.2
A6: 4 | B6: 15.1 | C6: 14.9 | D6: 15.7 | E6: 15.1 | F6: 15.3 | G6: 15.6 | H6: 14.8 | I6: 15 | J6: 15.2 | K6: 15
A7: 5 | B7: 15.2 | C7: 14.9 | D7: 15 | E7: 15.1 | F7: 15 | G7: 15.3 | H7: 14.9 | I7: 15 | J7: 15 | K7: 15.3
A8: 6 | B8: 15 | C8: 14.9 | D8: 15.3 | E8: 15.8 | F8: 15.1 | G8: 15 | H8: 14.9 | I8: 15.5 | J8: 15.8 | K8: 14.8
A9: 7 | B9: 15 | C9: 14.9 | D9: 15.2 | E9: 15.2 | F9: 15.2 | G9: 15.5 | H9: 14.9 | I9: 15.1 | J9: 15.1 | K9: 15.1
A10: 8 | B10: 15.1 | C10: 14.9 | D10: 15.1 | E10: 15.2 | F10: 15.3 | G10: 15.4 | H10: 14.8 | I10: 15.2 | J10: 15 | K10: 15.1
A11: 9 | B11: 15.1 | C11: 14.8 | D11: 15 | E11: 15.1 | F11: 15.4 | G11: 15.2 | H11: 14.9 | I11: 15 | J11: 15.2 | K11: 15.1
A12: 10 | B12: 15.2 | C12: 15.9 | D12: 15 | E12: 15.2 | F12: 15.2 | G12: 15.3 | H12: 15 | I12: 15.1 | J12: 15.3 | K12: 15
I14: TỔNG | K14: =+SUM(B3:K12) -> 1512.4
A15: XE 2
B16: 1 | C16: 2 | D16: 3 | E16: 4 | F16: 5 | G16: 6 | H16: 7 | I16: 8 | J16: 9 | K16: 10
A17: 1
A18: 2
A19: 3
A20: 4
A21: 5
A22: 6
A23: 7
A24: 8
A25: 9
A26: 10
I28: TỔNG | K28: =+SUM(B17:M26) -> 0
A29: XE 3
B30: 1 | C30: 2 | D30: 3 | E30: 4 | F30: 5 | G30: 6 | H30: 7 | I30: 8 | J30: 9 | K30: 10
A31: 1
A32: 2
A33: 3
A34: 4
A35: 5
A36: 6
A37: 7
A38: 8
A39: 9
A40: 10
I42: TỔNG | K42: =+SUM(B31:K40) -> 0

Sheet NGAY 08-12
A1: XE 1 - GÀ
B2: 1 | C2: 2 | D2: 3 | E2: 4 | F2: 5 | G2: 6 | H2: 7 | I2: 8 | J2: 9 | K2: 10
A3: 1 | B3: 14.26 | C3: 15 | D3: 14.08 | E3: 14.04 | F3: 14.18 | G3: 14.12 | H3: 15.1 | I3: 14.3 | J3: 14.16 | K3: 15.1
A4: 2 | B4: 14.12 | C4: 14.08 | D4: 14.18 | E4: 14.18 | F4: 14.2 | G4: 14.26 | H4: 14.18 | I4: 14.22 | J4: 14.2 | K4: 14.32
A5: 3 | B5: 14.1 | C5: 14.2 | D5: 14.22 | E5: 14.2 | F5: 13.96 | G5: 14.3 | H5: 14.72 | I5: 14.14 | J5: 14.18 | K5: 14.3
A6: 4 | B6: 14 | C6: 14.16 | D6: 14.1 | E6: 14.16 | F6: 14.58 | G6: 14.08 | H6: 13.96 | I6: 14.18 | J6: 14.12 | K6: 14.12
A7: 5 | B7: 14.18 | C7: 13.98 | D7: 14.38 | E7: 14.98 | F7: 14.62 | G7: 14.12 | H7: 14.18 | I7: 14.9 | J7: 14.02 | K7: 14.18
A8: 6 | B8: 14.06 | C8: 14.02 | D8: 14.42 | E8: 14.3 | F8: 15.1 | G8: 14.22 | H8: 14 | I8: 15.1 | J8: 14.68 | K8: 14.16
A9: 7 | B9: 14.22 | C9: 13.94 | D9: 14.2 | E9: 14.36 | F9: 15.14 | G9: 14.16 | H9: 14.36 | I9: 14.3 | J9: 14.9 | K9: 14.04
A10: 8 | B10: 14.2 | C10: 14.28 | D10: 14.16 | E10: 14.28 | F10: 15.28 | G10: 14.08 | H10: 15.1 | I10: 14.28 | J10: 15 | K10: 14.1
A11: 9 | B11: 14.18 | C11: 14.3 | D11: 14.1 | E11: 14.56 | F11: 14.36 | G11: 14.1 | H11: 14.12 | I11: 14.14 | J11: 14.28 | K11: 14.02
A12: 10 | B12: 14.26 | C12: 14.12 | D12: 15.03 | E12: 14.3 | F12: 14.2 | G12: 14.3 | H12: 14.28 | I12: 14.1 | J12: 14.12 | K12: 14.4
I14: TỔNG | K14: =+SUM(B3:K12) -> 1431.31
A15: XE 2
B16: 1 | C16: 2 | D16: 3 | E16: 4 | F16: 5 | G16: 6 | H16: 7 | I16: 8 | J16: 9 | K16: 10
A17: 1
A18: 2
A19: 3
A20: 4
A21: 5
A22: 6
A23: 7
A24: 8
A25: 9
A26: 10
I28: TỔNG | K28: =+SUM(B17:M26) -> 0
A29: XE 3
B30: 1 | C30: 2 | D30: 3 | E30: 4 | F30: 5 | G30: 6 | H30: 7 | I30: 8 | J30: 9 | K30: 10
A31: 1
A32: 2
A33: 3
A34: 4
A35: 5
A36: 6
A37: 7
A38: 8
A39: 9
A40: 10
I42: TỔNG | K42: =+SUM(B31:K40) -> 0

Sheet NGAY 10-12
A1: XE 1 - GÀ
B2: 1 | C2: 2 | D2: 3 | E2: 4 | F2: 5 | G2: 6 | H2: 7 | I2: 8 | J2: 9 | K2: 10
A3: 1 | B3: 15.3 | C3: 15.3 | D3: 15 | E3: 14.7 | F3: 14.8 | G3: 15.3 | H3: 15.3 | I3: 15.3 | J3: 15.3 | K3: 14.9
A4: 2 | B4: 14.4 | C4: 15.6 | D4: 15.5 | E4: 14.9 | F4: 15.4 | G4: 15 | H4: 15.2 | I4: 15 | J4: 15.1 | K4: 14.9
A5: 3 | B5: 14.3 | C5: 15.2 | D5: 15.3 | E5: 14.9 | F5: 15 | G5: 15.4 | H5: 15.2 | I5: 15.3 | J5: 15.1 | K5: 15.5
A6: 4 | B6: 15 | C6: 15.3 | D6: 15.3 | E6: 14.9 | F6: 15.4 | G6: 15.2 | H6: 15.4 | I6: 15 | J6: 15.5 | K6: 15.1
A7: 5 | B7: 15.2 | C7: 15.3 | D7: 15.1 | E7: 14.8 | F7: 15.3 | G7: 15.4 | H7: 13.2 | I7: 15.2 | J7: 14.9 | K7: 15.1
A8: 6 | B8: 15.1 | C8: 15.7 | D8: 15 | E8: 15.5 | F8: 15.1 | G8: 15 | H8: 15.3 | I8: 15.5 | J8: 15.3 | K8: 15.3
A9: 7 | B9: 15.3 | C9: 15.3 | D9: 15.1 | E9: 15 | F9: 15.5 | G9: 15.5 | H9: 15.3 | I9: 15.4 | J9: 15.4 | K9: 15
A10: 8 | B10: 15.1 | C10: 15.2 | D10: 15.1 | E10: 15.4 | F10: 15.2 | G10: 15.3 | H10: 15.2 | I10: 15.4 | J10: 15.4 | K10: 14.9
A11: 9 | B11: 15.3 | C11: 15 | D11: 15.3 | E11: 15.1 | F11: 15.2 | G11: 15.3 | H11: 15 | I11: 15.5 | J11: 15 | K11: 15
A12: 10 | B12: 15.3 | C12: 15 | D12: 15.2 | E12: 15.2 | F12: 15.2 | G12: 15 | H12: 15.3 | I12: 15.5 | J12: 15.1 | K12: 15.4
I14: TỔNG | K14: =+SUM(B3:K12) -> 1516.7
A15: XE 2 - GIÒ
B16: 1 | C16: 2 | D16: 3 | E16: 4 | F16: 5 | G16: 6 | H16: 7 | I16: 8 | J16: 9 | K16: 10
A17: 1 | B17: 18.86 | C17: 17.36 | D17: 17.66 | E17: 17.84 | F17: 17.76 | G17: 18.78 | H17: 18.9 | I17: 17.9 | J17: 17.78 | K17: 17.68
A18: 2 | B18: 18.38 | C18: 17.76 | D18: 18.02 | E18: 17.12 | F18: 17.6 | G18: 20.24 | H18: 17.86 | I18: 17.62 | J18: 18.58 | K18: 17.76
A19: 3 | B19: 17.58 | C19: 18.02 | D19: 18.88 | E19: 18.86 | F19: 18.08 | G19: 18.6 | H19: 18.54 | I19: 17.28 | J19: 17.8 | K19: 17.5
A20: 4 | B20: 19.12 | C20: 17.94 | D20: 18.22 | E20: 18.02 | F20: 18.2 | G20: 17.9 | H20: 18.86 | I20: 17.48 | J20: 17.28 | K20: 17.6
A21: 5 | B21: 18.4 | C21: 19 | D21: 18.08 | E21: 19.42 | F21: 17.32 | G21: 18.36 | H21: 17.04 | I21: 17.74 | J21: 17.1 | K21: 17.46
A22: 6 | B22: 18.94 | C22: 19.62 | D22: 18.16 | E22: 18.26 | F22: 17.9 | G22: 17.54 | H22: 18.04 | I22: 19.24 | J22: 17.84 | K22: 17.76
A23: 7 | B23: 17.48 | C23: 18.16 | D23: 18.08 | E23: 17.28 | F23: 18 | G23: 18.3 | H23: 18.72 | I23: 17.22 | J23: 17.28 | K23: 17.8
A24: 8 | B24: 18.5 | C24: 17.54 | D24: 17.76 | E24: 18.66 | F24: 17.58 | G24: 19 | H24: 17.02 | I24: 18.42 | J24: 17.74 | K24: 17.52
A25: 9 | B25: 19.64 | C25: 18.36 | D25: 18.22 | E25: 17.02 | F25: 17.72 | G25: 18.68 | H25: 17.64 | I25: 18.32 | J25: 18.06 | K25: 17.3
A26: 10 | B26: 18.12 | C26: 18.36 | D26: 18.12 | E26: 18.42 | F26: 17.04 | G26: 17.48 | H26: 17.88 | I26: 17.72 | J26: 17 | K26: 18.1
I28: TỔNG | K28: =+SUM(B17:K26) -> 1803.7
A29: XE 3 - GIÒ
B30: 1 | C30: 2 | D30: 3 | E30: 4 | F30: 5 | G30: 6 | H30: 7 | I30: 8 | J30: 9 | K30: 10
A31: 1 | B31: 17.7 | C31: 18.02 | D31: 17.98 | E31: 18.14 | F31: 17.06 | G31: 18.08 | H31: 17.76 | I31: 17.44
A32: 2 | B32: 18.52 | C32: 17.88 | D32: 18.24 | E32: 17.76 | F32: 18.82 | G32: 19.22 | H32: 17.6 | I32: 17.66
A33: 3 | B33: 18.42 | C33: 18.02 | D33: 17.86 | E33: 17.12 | F33: 18.22 | G33: 18.12 | H33: 19.52 | I33: 17.4
A34: 4 | B34: 18.48 | C34: 17.68 | D34: 17.9 | E34: 17.8 | F34: 17.86 | G34: 19.04 | H34: 17.8 | I34: 17.36
A35: 5 | B35: 17.7 | C35: 18.22 | D35: 18.2 | E35: 17.7 | F35: 19.04 | G35: 17.66 | H35: 17.48 | I35: 17.9
A36: 6 | B36: 18.16 | C36: 18.82 | D36: 17.94 | E36: 17.64 | F36: 17.18 | G36: 18.38 | H36: 18.58 | I36: 17.98
A37: 7 | B37: 17.2 | C37: 18.12 | D37: 17.54 | E37: 19.12 | F37: 18.86 | G37: 18.28 | H37: 17.02
A38: 8 | B38: 18.2 | C38: 17.98 | D38: 17.12 | E38: 19.5 | F38: 18.64 | G38: 17.5 | H38: 17.16
A39: 9 | B39: 17.82 | C39: 18.28 | D39: 17.74 | E39: 18.26 | F39: 17.28 | G39: 18.88 | H39: 17.84
A40: 10 | B40: 18.22 | C40: 17.86 | D40: 18.02 | E40: 18.04 | F40: 18.2 | G40: 18.6 | H40: 17.24
I42: TỔNG | K42: =+SUM(B31:K40) -> 1369.58
A43: XE 4 - GÀ
B44: 1 | C44: 2 | D44: 3 | E44: 4 | F44: 5 | G44: 6 | H44: 7 | I44: 8 | J44: 9 | K44: 10
A45: 1 | B45: 15.2 | C45: 15 | D45: 15.1 | E45: 15.1
A46: 2 | B46: 15.1 | C46: 15.8 | D46: 15 | E46: 15
A47: 3 | B47: 14.8 | C47: 15.1 | D47: 15 | E47: 15.2
A48: 4 | B48: 16.1 | C48: 15 | D48: 15.2 | E48: 14.9
A49: 5 | B49: 14.8 | C49: 15.1 | D49: 15.2 | E49: 15.1
A50: 6 | B50: 15 | C50: 15.4 | D50: 15 | E50: 13.8
A51: 7 | B51: 15.3 | C51: 15.1 | D51: 15.2 | E51: 14
A52: 8 | B52: 15.2 | C52: 14.9 | D52: 15.2 | E52: 14.2
A53: 9 | B53: 15.7 | C53: 15 | D53: 15.1 | E53: 13.7
A54: 10 | B54: 15.1 | C54: 14.8 | D54: 15.2 | E54: 14.1
I56: TỔNG | K56: =+SUM(B45:K54) -> 599.8
A57: XE 5 - GÀ
B58: 1 | C58: 2 | D58: 3 | E58: 4 | F58: 5 | G58: 6 | H58: 7 | I58: 8 | J58: 9 | K58: 10
A59: 1
A60: 2
A61: 3
A62: 4
A63: 5
A64: 6
A65: 7
A66: 8
A67: 9
A68: 10
I70: TỔNG | K70: =+SUM(B59:K68) -> 0

Sheet NGAY 12-12
A1: XE 1
B2: 1 | C2: 2 | D2: 3 | E2: 4 | F2: 5 | G2: 6 | H2: 7 | I2: 8 | J2: 9 | K2: 10
A3: 1
A4: 2
A5: 3
A6: 4
A7: 5
A8: 6
A9: 7
A10: 8
A11: 9
A12: 10
I14: TỔNG | K14: =+SUM(B3:K12) -> 0
A15: XE 2 - GÀ
B16: 1 | C16: 2 | D16: 3 | E16: 4 | F16: 5 | G16: 6 | H16: 7 | I16: 8 | J16: 9 | K16: 10
A17: 1 | B17: 14.64 | C17: 14.44 | D17: 13.62 | E17: 14.62 | F17: 14.36 | G17: 13.94 | H17: 15 | I17: 15.06 | J17: 14.7 | K17: 14.2
A18: 2 | B18: 14.9 | C18: 14.68 | D18: 14.08 | E18: 14.9 | F18: 14.68 | G18: 15.02 | H18: 14.66 | I18: 14.86 | J18: 14.58 | K18: 14.56
A19: 3 | B19: 14.58 | C19: 14.54 | D19: 14.02 | E19: 14.82 | F19: 14.24 | G19: 14.28 | H19: 14.42 | I19: 14.58 | J19: 14.38 | K19: 14.02
A20: 4 | B20: 14.84 | C20: 14.48 | D20: 13.68 | E20: 14.26 | F20: 14.84 | G20: 14.84 | H20: 14.84 | I20: 13.94 | J20: 14.04 | K20: 14.34
A21: 5 | B21: 14.04 | C21: 14.48 | D21: 15.08 | E21: 14.14 | F21: 14.7 | G21: 14.64 | H21: 14.44 | I21: 14.2 | J21: 14.2 | K21: 14.78
A22: 6 | B22: 14.54 | C22: 14.16 | D22: 14.66 | E22: 14.18 | F22: 14.24 | G22: 14.6 | H22: 14.32 | I22: 14.22 | J22: 14.58 | K22: 14.94
A23: 7 | B23: 14.4 | C23: 14.94 | D23: 14.8 | E23: 13.28 | F23: 14.2 | G23: 14.28 | H23: 14.44 | I23: 14.62 | J23: 15.14 | K23: 14.4
A24: 8 | B24: 14.62 | C24: 14.94 | D24: 14.06 | E24: 14.48 | F24: 14.52 | G24: 14.74 | H24: 14.56 | I24: 14.4 | J24: 14.14 | K24: 14.74
A25: 9 | B25: 14.8 | C25: 14.46 | D25: 14.2 | E25: 14.42 | F25: 14.08 | G25: 14.7 | H25: 14.4 | I25: 14.22 | J25: 15.14 | K25: 14.66
A26: 10 | B26: 14.72 | C26: 14.66 | D26: 14.48 | E26: 14.34 | F26: 14.48 | G26: 14.7 | H26: 14.96 | I26: 14.54 | J26: 14.9 | K26: 14.9
I28: TỔNG | K28: =+SUM(B17:K26) -> 1450.08
A29: XE 3 - GÀ
B30: 1 | C30: 2 | D30: 3 | E30: 4 | F30: 5 | G30: 6 | H30: 7 | I30: 8 | J30: 9 | K30: 10
A31: 1 | B31: 14.56 | C31: 14.78 | D31: 15.08 | E31: 14.72 | F31: 14.58 | G31: 13.6 | H31: 15.08 | I31: 15.3 | J31: 15.88 | K31: 15.58
A32: 2 | B32: 14.32 | C32: 14.98 | D32: 13.92 | E32: 13.88 | F32: 13.86 | G32: 14.28 | H32: 14.26 | I32: 15.22 | J32: 15.62 | K32: 15.08
A33: 3 | B33: 14.52 | C33: 14.2 | D33: 13.96 | E33: 14.41 | F33: 14.2 | G33: 14.82 | H33: 14.76 | I33: 14.72 | J33: 15 | K33: 15.58
A34: 4 | B34: 14.26 | C34: 14.92 | D34: 15 | E34: 14.64 | F34: 14.64 | G34: 14.48 | H34: 15.64 | I34: 14.46 | J34: 15.38 | K34: 15.24
A35: 5 | B35: 14.66 | C35: 14.52 | D35: 13.68 | E35: 14.52 | F35: 14.14 | G35: 14.58 | H35: 14.62 | I35: 14.62 | J35: 15.6 | K35: 15.3
A36: 6 | B36: 14.98 | C36: 14.32 | D36: 13.8 | E36: 14.76 | F36: 14.68 | G36: 14.56 | H36: 14.76 | I36: 14.72 | J36: 15.54 | K36: 15.62
A37: 7 | B37: 14.72 | C37: 14.86 | D37: 14.76 | E37: 14.4 | F37: 14.81 | G37: 14.42 | H37: 14.26 | I37: 15.8 | J37: 15.3 | K37: 15.62
A38: 8 | B38: 14.26 | C38: 14.06 | D38: 14.64 | E38: 14.86 | F38: 14.2 | G38: 14.86 | H38: 14.66 | I38: 14.84 | J38: 15.2 | K38: 15
A39: 9 | B39: 14.66 | C39: 14.82 | D39: 14.9 | E39: 14.6 | F39: 14.22 | G39: 15.28 | H39: 15.84 | I39: 14.1 | J39: 15.32 | K39: 15
A40: 10 | B40: 14.72 | C40: 14.86 | D40: 14.9 | E40: 14.82 | F40: 14.32 | G40: 14.98 | H40: 14.26 | I40: 15.16 | J40: 15.92 | K40: 15.56
I42: TỔNG | K42: =+SUM(B31:K40) -> 1477.16

Sheet NGAY 15-12
A1: XE 1 - GÀ
B2: 1 | C2: 2 | D2: 3 | E2: 4 | F2: 5 | G2: 6 | H2: 7 | I2: 8 | J2: 9 | K2: 10
A3: 1 | B3: 15.14 | C3: 14.58 | D3: 13.44 | E3: 14.44 | F3: 14.6 | G3: 13.92 | H3: 14.54 | I3: 14.34 | J3: 15 | K3: 14.76
A4: 2 | B4: 16.08 | C4: 14.72 | D4: 14.9 | E4: 14.36 | F4: 13.54 | G4: 14.68 | H4: 13.84 | I4: 14.34 | J4: 16.18 | K4: 14.32
A5: 3 | B5: 15.12 | C5: 14.88 | D5: 14.84 | E5: 14.32 | F5: 14.54 | G5: 14.58 | H5: 13.76 | I5: 14.5 | J5: 15 | K5: 14.44
A6: 4 | B6: 15.3 | C6: 14.5 | D6: 14 | E6: 14.7 | F6: 14.92 | G6: 14.04 | H6: 14.02 | I6: 14.56 | J6: 14.44 | K6: 14.7
A7: 5 | B7: 15.16 | C7: 14.96 | D7: 14.48 | E7: 14.34 | F7: 14.94 | G7: 14.38 | H7: 14.18 | I7: 14.98 | J7: 14.7 | K7: 13.26
A8: 6 | B8: 15 | C8: 14.38 | D8: 14.3 | E8: 14.36 | F8: 14.26 | G8: 14.38 | H8: 14.48 | I8: 14.12 | J8: 14.24 | K8: 14.18
A9: 7 | B9: 15.02 | C9: 14.34 | D9: 14.5 | E9: 14.6 | F9: 14.78 | G9: 14.78 | H9: 14.22 | I9: 14.86 | J9: 14.42 | K9: 14
A10: 8 | B10: 15.06 | C10: 14.72 | D10: 14.47 | E10: 14.48 | F10: 14.1 | G10: 14.26 | H10: 14.72 | I10: 14.26 | J10: 14.16 | K10: 15.24
A11: 9 | B11: 15.78 | C11: 14.02 | D11: 14.44 | E11: 14.68 | F11: 14.4 | G11: 14.4 | H11: 14.54 | I11: 14.44 | J11: 14.62 | K11: 14.52
A12: 10 | B12: 15.5 | C12: 14.86 | D12: 14.06 | E12: 14.3 | F12: 14.96 | G12: 13.6 | H12: 14.56 | I12: 14.76 | J12: 13.66 | K12: 14.62
I14: TỔNG | K14: =+SUM(B3:K12) -> 1453.67
A15: XE 2
B16: 1 | C16: 2 | D16: 3 | E16: 4 | F16: 5 | G16: 6 | H16: 7 | I16: 8 | J16: 9 | K16: 10
A17: 1
A18: 2
A19: 3
A20: 4
A21: 5
A22: 6
A23: 7
A24: 8
A25: 9
A26: 10
I28: TỔNG | K28: =+SUM(B17:K26) -> 0
A29: XE 3
B30: 1 | C30: 2 | D30: 3 | E30: 4 | F30: 5 | G30: 6 | H30: 7 | I30: 8 | J30: 9 | K30: 10
A31: 1
A32: 2
A33: 3
A34: 4
A35: 5
A36: 6
A37: 7
A38: 8
A39: 9
A40: 10
I42: TỔNG | K42: =+SUM(B31:K40) -> 0

Sheet NGAY 17-12
A1: XE 1
B2: 1 | C2: 2 | D2: 3 | E2: 4 | F2: 5 | G2: 6 | H2: 7 | I2: 8 | J2: 9 | K2: 10
A3: 1
A4: 2
A5: 3
A6: 4
A7: 5
A8: 6
A9: 7
A10: 8
A11: 9
A12: 10
I14: TỔNG | K14: =+SUM(B3:K12) -> 0
A15: XE 2 - GÀ
B16: 1 | C16: 2 | D16: 3 | E16: 4 | F16: 5 | G16: 6 | H16: 7 | I16: 8 | J16: 9 | K16: 10
A17: 1 | B17: 15.6 | C17: 14.98 | D17: 14.7 | E17: 14.88 | F17: 13.82 | G17: 13.98 | H17: 13.56 | I17: 14.24 | J17: 14.78 | K17: 15.56
A18: 2 | B18: 15.72 | C18: 15 | D18: 15.54 | E18: 14.7 | F18: 14.6 | G18: 13.56 | H18: 13.9 | I18: 14.8 | J18: 14.46 | K18: 13.96
A19: 3 | B19: 14.84 | C19: 16.28 | D19: 14.7 | E19: 15 | F19: 13.24 | G19: 13.96 | H19: 13.2 | I19: 14.8 | J19: 14.04 | K19: 14.94
A20: 4 | B20: 14.98 | C20: 15.76 | D20: 14.3 | E20: 14.92 | F20: 13.48 | G20: 13.16 | H20: 13.46 | I20: 14.36 | J20: 13.9 | K20: 14.84
A21: 5 | B21: 14.7 | C21: 15 | D21: 14.8 | E21: 14.66 | F21: 13.2 | G21: 12.56 | H21: 13.7 | I21: 14.42 | J21: 14.24 | K21: 14.72
A22: 6 | B22: 14.5 | C22: 14.14 | D22: 14.2 | E22: 14.66 | F22: 13.96 | G22: 13.5 | H22: 14.44 | I22: 14.34 | J22: 14.86 | K22: 14.54
A23: 7 | B23: 14 | C23: 13.94 | D23: 15 | E23: 14.4 | F23: 13.4 | G23: 13.6 | H23: 14.36 | I23: 14.76 | J23: 14.34 | K23: 14.83
A24: 8 | B24: 14.7 | C24: 14.82 | D24: 15.22 | E24: 14.52 | F24: 13.4 | G24: 13.84 | H24: 14.72 | I24: 15 | J24: 14.8 | K24: 14.14
A25: 9 | B25: 15.8 | C25: 14.2 | D25: 15.32 | E25: 14.3 | F25: 13.62 | G25: 13.28 | H25: 14.48 | I25: 15.16 | J25: 14.2 | K25: 13.9
A26: 10 | B26: 16 | C26: 13.86 | D26: 14.9 | E26: 14.74 | F26: 13.56 | G26: 13.92 | H26: 14.22 | I26: 14.34 | J26: 14.34 | K26: 14.76
A27: 11 | B27: 14.7 | C27: 14.94 | D27: 14.98 | E27: 14.36 | F27: 13.56 | G27: 13.68 | H27: 14.66 | I27: 13.9 | J27: 15 | K27: 14.26
I29: TỔNG | K29: =+SUM(B17:K27) -> 1586.37
A30: XE 3
B31: 1 | C31: 2 | D31: 3 | E31: 4 | F31: 5 | G31: 6 | H31: 7 | I31: 8 | J31: 9 | K31: 10
A32: 1
A33: 2
A34: 3
A35: 4
A36: 5
A37: 6
A38: 7
A39: 8
A40: 9
A41: 10
I43: TỔNG | K43: =+SUM(B32:K41) -> 0

Sheet NGAY 19-12
A1: XE 1
B2: 1 | C2: 2 | D2: 3 | E2: 4 | F2: 5 | G2: 6 | H2: 7 | I2: 8 | J2: 9 | K2: 10
A3: 1 | B3: 13.92 | C3: 14.42 | D3: 14.5 | E3: 14.66 | F3: 15 | G3: 14.86 | H3: 14.46 | I3: 15.68 | J3: 14.8 | K3: 15.24
A4: 2 | B4: 14.4 | C4: 14.14 | D4: 14.02 | E4: 14.22 | F4: 14.5 | G4: 14.18 | H4: 13.98 | I4: 15.26 | J4: 14.24
A5: 3 | B5: 15 | C5: 14.72 | D5: 14.14 | E5: 14.18 | F5: 14.28 | G5: 14.44 | H5: 14.16 | I5: 14.44 | J5: 14.58
A6: 4 | B6: 14.78 | C6: 14.18 | D6: 13.84 | E6: 13.9 | F6: 14.34 | G6: 14.36 | H6: 14.28 | I6: 14.06 | J6: 14
A7: 5 | B7: 14.52 | C7: 14 | D7: 15.02 | E7: 14.74 | F7: 14.56 | G7: 14.08 | H7: 14.24 | I7: 14.58 | J7: 14.7
A8: 6 | B8: 14.4 | C8: 14.6 | D8: 14.28 | E8: 14.36 | F8: 14.64 | G8: 14.82 | H8: 13.84 | I8: 15 | J8: 14.42
A9: 7 | B9: 14.06 | C9: 14.4 | D9: 14.16 | E9: 14.92 | F9: 15 | G9: 13.82 | H9: 14.7 | I9: 15.04 | J9: 14.66
A10: 8 | B10: 14.32 | C10: 14.36 | D10: 14.3 | E10: 14.48 | F10: 14.78 | G10: 13.82 | H10: 14.38 | I10: 15.04 | J10: 15.56
A11: 9 | B11: 14.64 | C11: 14.22 | D11: 14.2 | E11: 13.54 | F11: 14.14 | G11: 14.28 | H11: 14.66 | I11: 14.46 | J11: 13.74
A12: 10 | B12: 15.12 | C12: 14.32 | D12: 14.58 | E12: 14.56 | F12: 14.16 | G12: 14.58 | H12: 14.96 | I12: 15.22 | J12: 14.18
A13: 11 | B13: 14.78 | C13: 14.66 | D13: 14.3 | E13: 15.38 | F13: 13.98 | G13: 14.32 | H13: 14.34 | I13: 14.32 | J13: 15.1
I15: TỔNG | K15: =+SUM(B3:K13) -> 1447.5
A16: XE 2 - GÀ
B17: 1 | C17: 2 | D17: 3 | E17: 4 | F17: 5 | G17: 6 | H17: 7 | I17: 8 | J17: 9 | K17: 10
A18: 1
A19: 2
A20: 3
A21: 4
A22: 5
A23: 6
A24: 7
A25: 8
A26: 9
A27: 10
A28: 11
I30: TỔNG | K30: =+SUM(B18:K28) -> 0
A31: XE 3
B32: 1 | C32: 2 | D32: 3 | E32: 4 | F32: 5 | G32: 6 | H32: 7 | I32: 8 | J32: 9 | K32: 10
A33: 1
A34: 2
A35: 3
A36: 4
A37: 5
A38: 6
A39: 7
A40: 8
A41: 9
A42: 10
I44: TỔNG | K44: =+SUM(B33:K42) -> 0

Sheet NGAY 22-12
A1: XE 1 - GÀ
B2: 1 | C2: 2 | D2: 3 | E2: 4 | F2: 5 | G2: 6 | H2: 7 | I2: 8 | J2: 9 | K2: 10
A3: 1 | B3: 13.2 | C3: 12.04 | D3: 12.12 | E3: 13.58 | F3: 14.76 | G3: 13.8 | H3: 14.94 | I3: 14.92 | J3: 14.32 | K3: 14.04
A4: 2 | B4: 13.86 | C4: 14.36 | D4: 13.06 | E4: 13.2 | F4: 14.4 | G4: 13.8 | H4: 14.44 | I4: 14.36 | J4: 14.94 | K4: 14.48
A5: 3 | B5: 13.86 | C5: 14.3 | D5: 13.64 | E5: 12.86 | F5: 14.4 | G5: 13.04 | H5: 14.72 | I5: 14.42 | J5: 14.26 | K5: 14
A6: 4 | B6: 14.32 | C6: 13.8 | D6: 13.68 | E6: 13.58 | F6: 14.32 | G6: 13.86 | H6: 14.88 | I6: 14.94 | J6: 14.86 | K6: 15.3
A7: 5 | B7: 13.26 | C7: 14.92 | D7: 13.06 | E7: 15.22 | F7: 14.64 | G7: 15.12 | H7: 14.38 | I7: 13.88 | J7: 14.5 | K7: 14.86
A8: 6 | B8: 13.52 | C8: 14.6 | D8: 13.96 | E8: 14.48 | F8: 13.98 | G8: 14.2 | H8: 14.78 | I8: 14.6 | J8: 13.92 | K8: 14.72
A9: 7 | B9: 14.44 | C9: 15.3 | D9: 12.22 | E9: 14.24 | F9: 14.3 | G9: 14.64 | H9: 14.78 | I9: 14.06 | J9: 14.5 | K9: 15.6
A10: 8 | B10: 14.58 | C10: 13.88 | D10: 13.02 | E10: 14.6 | F10: 14.36 | G10: 14.1 | H10: 13.98 | I10: 14.98 | J10: 14.56 | K10: 14.3
A11: 9 | B11: 12.58 | C11: 15.14 | D11: 12.4 | E11: 14.4 | F11: 14.92 | G11: 14.18 | H11: 14.34 | I11: 14.68 | J11: 14.12 | K11: 14.2
A12: 10 | B12: 13.58 | C12: 13.82 | D12: 11.68 | E12: 14.4 | F12: 14.78 | G12: 14.52 | H12: 14.92 | I12: 14.96 | J12: 14.54 | K12: 14.34
I14: TỔNG | K14: =+SUM(B3:K12) -> 1417.2
A15: XE 2 - Mỡ
B16: 1 | C16: 2 | D16: 3 | E16: 4 | F16: 5 | G16: 6 | H16: 7 | I16: 8 | J16: 9 | K16: 10
A17: 1 | B17: 23.22 | C17: 23.7 | D17: 24.34 | E17: 25.12 | F17: 24.22
A18: 2 | B18: 26.06 | C18: 25.02 | D18: 24.36 | E18: 25 | F18: 24.78
A19: 3 | B19: 24.64 | C19: 24.8 | D19: 24.62 | E19: 24.6 | F19: 24.7
A20: 4 | B20: 24.6 | C20: 23.48 | D20: 24.92 | E20: 24.18 | F20: 23.66
A21: 5 | B21: 24.58 | C21: 24.42 | D21: 24.52 | E21: 25.6 | F21: 24.66
A22: 6 | B22: 24.62 | C22: 24.4 | D22: 24.44 | E22: 24.48 | F22: 24.46
A23: 7 | B23: 24.48 | C23: 24.58 | D23: 25.14 | E23: 23.86 | F23: 24.48
A24: 8 | B24: 24.2 | C24: 24.74 | D24: 24.48 | E24: 22.9 | F24: 23.76
A25: 9 | B25: 26.76 | C25: 24.5 | D25: 24.02 | E25: 24.12 | F25: 22.72
A26: 10 | B26: 26.34 | C26: 23.62 | D26: 25.36 | E26: 25.18 | F26: 24.34
A27: 11
I29: TỔNG | K29: =+SUM(B17:K27) -> 1225.78
A30: XE 3
B31: 1 | C31: 2 | D31: 3 | E31: 4 | F31: 5 | G31: 6 | H31: 7 | I31: 8 | J31: 9 | K31: 10
A32: 1
A33: 2
A34: 3
A35: 4
A36: 5
A37: 6
A38: 7
A39: 8
A40: 9
A41: 10
I43: TỔNG | K43: =+SUM(B32:K41) -> 0

Sheet NGAY 25-12
A1: XE 1 - GÀ
B2: 1 | C2: 2 | D2: 3 | E2: 4 | F2: 5 | G2: 6 | H2: 7 | I2: 8 | J2: 9 | K2: 10
A3: 1 | B3: 15.86 | C3: 15.14 | D3: 14.4 | E3: 16.12 | F3: 14.14 | G3: 14.4 | H3: 14.86 | I3: 13.54 | J3: 14.46 | K3: 13.38
A4: 2 | B4: 15.06 | C4: 15.14 | D4: 15.84 | E4: 17.38 | F4: 13.9 | G4: 14.56 | H4: 14.56 | I4: 13.94 | J4: 12.22 | K4: 13.8
A5: 3 | B5: 14.96 | C5: 15.34 | D5: 14.94 | E5: 17.18 | F5: 14.64 | G5: 14.42 | H5: 14.72 | I5: 13.06 | J5: 13.42 | K5: 12.98
A6: 4 | B6: 15.3 | C6: 15.66 | D6: 13.72 | E6: 16.12 | F6: 14.34 | G6: 14.42 | H6: 14.28 | I6: 14.62 | J6: 12.24 | K6: 13.96
A7: 5 | B7: 14.4 | C7: 14.98 | D7: 16.6 | E7: 16.36 | F7: 14.64 | G7: 14.56 | H7: 14.78 | I7: 15.48 | J7: 12.54 | K7: 13.48
A8: 6 | B8: 14.7 | C8: 14.56 | D8: 17 | E8: 13.84 | F8: 14.6 | G8: 14.52 | H8: 14.32 | I8: 14.4 | J8: 13.64 | K8: 13.64
A9: 7 | B9: 15.5 | C9: 15.08 | D9: 15.84 | E9: 14.5 | F9: 14.84 | G9: 14.4 | H9: 14.08 | I9: 12.46 | J9: 12.58 | K9: 13.96
A10: 8 | B10: 15.46 | C10: 16.76 | D10: 15.28 | E10: 14.54 | F10: 14.14 | G10: 14.28 | H10: 14.18 | I10: 13.66 | J10: 13.78 | K10: 12.72
A11: 9 | B11: 15.16 | C11: 14.82 | D11: 15.02 | E11: 14.36 | F11: 14.56 | G11: 14.48 | H11: 14.46 | I11: 14.62 | J11: 13.54 | K11: 13.72
A12: 10 | B12: 14.34 | C12: 14.82 | D12: 14.76 | E12: 14.66 | F12: 14.9 | G12: 14.34 | H12: 14.84 | I12: 12.27 | J12: 13.06 | K12: 13.6
I14: TỔNG | K14: =+SUM(B3:K12) -> 1450.43
A15: XE 2 - Mỡ
B16: 1 | C16: 2 | D16: 3 | E16: 4 | F16: 5 | G16: 6 | H16: 7 | I16: 8 | J16: 9 | K16: 10
A17: 1
A18: 2
A19: 3
A20: 4
A21: 5
A22: 6
A23: 7
A24: 8
A25: 9
A26: 10
A27: 11
I29: TỔNG | K29: =+SUM(B17:K27) -> 0
A30: XE 3
B31: 1 | C31: 2 | D31: 3 | E31: 4 | F31: 5 | G31: 6 | H31: 7 | I31: 8 | J31: 9 | K31: 10
A32: 1
A33: 2
A34: 3
A35: 4
A36: 5
A37: 6
A38: 7
A39: 8
A40: 9
A41: 10
I43: TỔNG | K43: =+SUM(B32:K41) -> 0

Sheet NGAY 26-12
A1: XE 1 - GÀ
B2: 1 | C2: 2 | D2: 3 | E2: 4 | F2: 5 | G2: 6 | H2: 7 | I2: 8 | J2: 9 | K2: 10
A3: 1 | B3: 14.94 | C3: 14.14 | D3: 15.22 | E3: 14.88 | F3: 14.58 | G3: 14.68 | H3: 14.78 | I3: 13.74 | J3: 13.74 | K3: 13.1
A4: 2 | B4: 14.34 | C4: 14.4 | D4: 14.82 | E4: 15.72 | F4: 14.06 | G4: 14.66 | H4: 14.58 | I4: 12.9 | J4: 13.96 | K4: 12.68
A5: 3 | B5: 14.4 | C5: 15.14 | D5: 14.9 | E5: 14.34 | F5: 15.08 | G5: 14.7 | H5: 14.7 | I5: 12.56 | J5: 13.78 | K5: 13.44
A6: 4 | B6: 14.32 | C6: 14.92 | D6: 15.94 | E6: 14.74 | F6: 14.62 | G6: 14.86 | H6: 13.88 | I6: 12.96 | J6: 13.58 | K6: 13.62
A7: 5 | B7: 14.98 | C7: 14.66 | D7: 14.04 | E7: 15.78 | F7: 14.14 | G7: 14.7 | H7: 13.68 | I7: 13.7 | J7: 13.82 | K7: 13.96
A8: 6 | B8: 14.76 | C8: 14.48 | D8: 14.06 | E8: 15.18 | F8: 14.86 | G8: 14.54 | H8: 15.24 | I8: 13.4 | J8: 12.88 | K8: 14.18
A9: 7 | B9: 14.46 | C9: 14.44 | D9: 14.66 | E9: 14.45 | F9: 14.34 | G9: 14.96 | H9: 15.04 | I9: 13.44 | J9: 13.06 | K9: 14.22
A10: 8 | B10: 14.76 | C10: 15.28 | D10: 15.1 | E10: 13.32 | F10: 14.34 | G10: 14.68 | H10: 14.76 | I10: 13.18 | J10: 13.68 | K10: 14.34
A11: 9 | B11: 15.32 | C11: 14.94 | D11: 15.22 | E11: 14.6 | F11: 14.44 | G11: 14.76 | H11: 14.74 | I11: 12.08 | J11: 13.9 | K11: 14.36
A12: 10 | B12: 14.56 | C12: 14.64 | D12: 15.36 | E12: 14.86 | F12: 15.06 | G12: 14.32 | H12: 14.34 | I12: 13.64 | J12: 13.48 | K12: 14.62
I14: TỔNG | K14: =+SUM(B3:K12) -> 1435.19
A15: XE 2
B16: 1 | C16: 2 | D16: 3 | E16: 4 | F16: 5 | G16: 6 | H16: 7 | I16: 8 | J16: 9 | K16: 10
A17: 1 | B17: 14.6 | C17: 14.84 | D17: 14.74 | E17: 14.08 | F17: 15.1 | G17: 13.5 | H17: 14.82 | I17: 15.24 | J17: 14.62 | K17: 14.98
A18: 2 | B18: 14.56 | C18: 14.54 | D18: 14.78 | E18: 14.92 | F18: 15.94 | G18: 13.58 | H18: 15.1 | I18: 13.64 | J18: 14.84 | K18: 14.66
A19: 3 | B19: 14.64 | C19: 14.8 | D19: 14.26 | E19: 14.6 | F19: 15.38 | G19: 14.36 | H19: 15.12 | I19: 14.2 | J19: 14.64 | K19: 14.16
A20: 4 | B20: 17.02 | C20: 14.66 | D20: 14.22 | E20: 14.24 | F20: 17.52 | G20: 15.26 | H20: 14.62 | I20: 14.7 | J20: 15.22 | K20: 13.66
A21: 5 | B21: 14.76 | C21: 14.72 | D21: 14.18 | E21: 14.7 | F21: 15.22 | G21: 14.68 | H21: 15.44 | I21: 14.3 | J21: 14.86 | K21: 13.86
A22: 6 | B22: 14.66 | C22: 14.52 | D22: 14.52 | E22: 14.32 | F22: 15.18 | G22: 14.64 | H22: 14.04 | I22: 14.52 | J22: 14.18 | K22: 15.32
A23: 7 | B23: 14.18 | C23: 14.84 | D23: 14.4 | E23: 14.72 | F23: 14.44 | G23: 15.26 | H23: 15.7 | I23: 14.6 | J23: 14.88 | K23: 14.34
A24: 8 | B24: 15.18 | C24: 14.4 | D24: 14.84 | E24: 14.6 | F24: 14.98 | G24: 15.38 | H24: 15.38 | I24: 14.5 | J24: 14.68 | K24: 14.88
A25: 9 | B25: 13.9 | C25: 14.4 | D25: 14.84 | E25: 13.44 | F25: 14.02 | G25: 14.52 | H25: 13.88 | I25: 14.48 | J25: 14.8 | K25: 14.86
A26: 10 | B26: 14.48 | C26: 15.38 | D26: 13.9 | E26: 14.84 | F26: 14.28 | G26: 14.82 | H26: 14.84 | I26: 15.12 | J26: 14.64 | K26: 14.28
A27: 11
I29: TỔNG | K29: =+SUM(B17:K27) -> 1468.88
A30: XE 3
B31: 1 | C31: 2 | D31: 3 | E31: 4 | F31: 5 | G31: 6 | H31: 7 | I31: 8 | J31: 9 | K31: 10
A32: 1
A33: 2
A34: 3
A35: 4
A36: 5
A37: 6
A38: 7
A39: 8
A40: 9
A41: 10
I43: TỔNG | K43: =+SUM(B32:K41) -> 0

Sheet NGAY 29-12
A1: XE 1
B2: 1 | C2: 2 | D2: 3 | E2: 4 | F2: 5 | G2: 6 | H2: 7 | I2: 8 | J2: 9 | K2: 10
A3: 1 | B3: 14.18 | C3: 14.72 | D3: 13.04 | E3: 13.38 | F3: 12.54 | G3: 14.18 | H3: 14.52 | I3: 14.94 | J3: 14.52 | K3: 14.9
A4: 2 | B4: 14.34 | C4: 13.98 | D4: 14.96 | E4: 12.8 | F4: 12.84 | G4: 13.8 | H4: 14.88 | I4: 15 | J4: 14.36 | K4: 14.68
A5: 3 | B5: 14.4 | C5: 15.06 | D5: 13.48 | E5: 13.84 | F5: 14.14 | G5: 14.24 | H5: 14.44 | I5: 14.88 | J5: 14.62 | K5: 14.74
A6: 4 | B6: 13.86 | C6: 13.54 | D6: 13.64 | E6: 13.08 | F6: 13.52 | G6: 14.2 | H6: 15.7 | I6: 14.48 | J6: 15.2 | K6: 14.3
A7: 5 | B7: 17.5 | C7: 14.8 | D7: 12.66 | E7: 14.04 | F7: 12.7 | G7: 14.94 | H7: 15.22 | I7: 14.44 | J7: 14.38 | K7: 14.4
A8: 6 | B8: 14.18 | C8: 14.46 | D8: 14.5 | E8: 13.12 | F8: 13.94 | G8: 14.52 | H8: 14.58 | I8: 14.32 | J8: 15.14 | K8: 14.34
A9: 7 | B9: 14.72 | C9: 15.06 | D9: 14.6 | E9: 12.32 | F9: 12.48 | G9: 15 | H9: 14.44 | I9: 14.48 | J9: 15.02 | K9: 14.38
A10: 8 | B10: 14.82 | C10: 13.84 | D10: 14.4 | E10: 12.82 | F10: 13.76 | G10: 14.26 | H10: 14.48 | I10: 14.7 | J10: 14.24 | K10: 13.9
A11: 9 | B11: 14.42 | C11: 12.74 | D11: 12.04 | E11: 13.78 | F11: 13.38 | G11: 14.38 | H11: 14.44 | I11: 14.18 | J11: 14.78 | K11: 13.76
A12: 10 | B12: 14.52 | C12: 14.72 | D12: 12.82 | E12: 13.92 | F12: 14.12 | G12: 15.42 | H12: 13.98 | I12: 14.3 | J12: 14.34 | K12: 14.62
I14: TỔNG | K14: =+SUM(B3:K12) -> 1420.48
A15: XE 2
B16: 1 | C16: 2 | D16: 3 | E16: 4 | F16: 5 | G16: 6 | H16: 7 | I16: 8 | J16: 9 | K16: 10
A17: 1 | B17: 14.42 | C17: 14.58 | D17: 14.64 | E17: 14.36 | F17: 14.52 | G17: 14.4 | H17: 15.16 | I17: 14.5 | J17: 14.6 | K17: 14.32
A18: 2 | B18: 14.3 | C18: 14.62 | D18: 14.36 | E18: 15.22 | F18: 15.42 | G18: 14.3 | H18: 14.12 | I18: 14.36 | J18: 14.94 | K18: 14.08
A19: 3 | B19: 14.1 | C19: 14.6 | D19: 14.46 | E19: 14.22 | F19: 14.08 | G19: 14 | H19: 15.04 | I19: 13.9 | J19: 14.5 | K19: 14.94
A20: 4 | B20: 14.28 | C20: 14.4 | D20: 14.1 | E20: 14.54 | F20: 14.04 | G20: 14.34 | H20: 14.5 | I20: 15.18 | J20: 14.82 | K20: 14.58
A21: 5 | B21: 14.16 | C21: 14.86 | D21: 14.24 | E21: 14.96 | F21: 14.8 | G21: 15.08 | H21: 14.84 | I21: 14.56 | J21: 14.14 | K21: 13.9
A22: 6 | B22: 14.7 | C22: 14.5 | D22: 14.14 | E22: 14.24 | F22: 14.8 | G22: 14.28 | H22: 14.86 | I22: 14.4 | J22: 14.02 | K22: 14.88
A23: 7 | B23: 14.86 | C23: 13.72 | D23: 13.82 | E23: 14.6 | F23: 14.68 | G23: 13.86 | H23: 14.7 | I23: 14.84 | J23: 14.5 | K23: 14.34
A24: 8 | B24: 15.06 | C24: 14.74 | D24: 14.02 | E24: 14.54 | F24: 14.48 | G24: 15.04 | H24: 13.48 | I24: 15.06 | J24: 14.6 | K24: 14.14
A25: 9 | B25: 14.54 | C25: 14.34 | D25: 14.42 | E25: 14.5 | F25: 15 | G25: 13.88 | H25: 14.24 | I25: 14.76 | J25: 14.74 | K25: 14.16
A26: 10 | B26: 13.46 | C26: 14.38 | D26: 14.9 | E26: 14.48 | F26: 13.64 | G26: 14.92 | H26: 14.7 | I26: 14.22 | J26: 14.72 | K26: 14.72
A27: 11
I29: TỔNG | K29: =+SUM(B17:K27) -> 1448
A30: XE 3
B31: 1 | C31: 2 | D31: 3 | E31: 4 | F31: 5 | G31: 6 | H31: 7 | I31: 8 | J31: 9 | K31: 10
A32: 1
A33: 2
A34: 3
A35: 4
A36: 5
A37: 6
A38: 7
A39: 8
A40: 9
A41: 10
I43: TỔNG | K43: =+SUM(B32:K41) -> 0

Sheet NGAY 31-12
A1: XE 1 - GÀ
B2: 1 | C2: 2 | D2: 3 | E2: 4 | F2: 5 | G2: 6 | H2: 7 | I2: 8 | J2: 9 | K2: 10
A3: 1 | B3: 25.4 | C3: 24.76 | D3: 24.34 | E3: 25.68 | F3: 24.16
A4: 2 | B4: 24.18 | C4: 26.2 | D4: 24.42 | E4: 25.8 | F4: 25.24
A5: 3 | B5: 24.38 | C5: 24.42 | D5: 24.38 | E5: 24.44 | F5: 24.24
A6: 4 | B6: 23.24 | C6: 24.1 | D6: 24.08 | E6: 24.8 | F6: 23.9
A7: 5 | B7: 24.88 | C7: 23.38 | D7: 24.44 | E7: 24.28 | F7: 25.24
A8: 6 | B8: 25.98 | C8: 24.46 | D8: 24.72 | E8: 24.32 | F8: 24.76
A9: 7 | B9: 23.8 | C9: 24.42 | D9: 25.4 | E9: 24.33 | F9: 24.54
A10: 8 | B10: 23.66 | C10: 24.4 | D10: 25 | E10: 24.48 | F10: 24.26
A11: 9 | B11: 24.32 | C11: 24.22 | D11: 24.26 | E11: 24.56 | F11: 24.54
A12: 10 | B12: 23.28 | C12: 25.28 | D12: 24.4 | E12: 24.5 | F12: 24.4
I14: TỔNG | K14: =+SUM(B3:K12) -> 1226.67
A15: XE 2 - Mỡ
B16: 1 | C16: 2 | D16: 3 | E16: 4 | F16: 5 | G16: 6 | H16: 7 | I16: 8 | J16: 9 | K16: 10
A17: 1
A18: 2
A19: 3
A20: 4
A21: 5
A22: 6
A23: 7
A24: 8
A25: 9
A26: 10
A27: 11
I29: TỔNG | K29: =+SUM(B17:K27) -> 0
A30: XE 3
B31: 1 | C31: 2 | D31: 3 | E31: 4 | F31: 5 | G31: 6 | H31: 7 | I31: 8 | J31: 9 | K31: 10
A32: 1
A33: 2
A34: 3
A35: 4
A36: 5
A37: 6
A38: 7
A39: 8
A40: 9
A41: 10
I43: TỔNG | K43: =+SUM(B32:K41) -> 0

Sheet NGAY 02-01
A1: XE 1 - GÀ
B2: 1 | C2: 2 | D2: 3 | E2: 4 | F2: 5 | G2: 6 | H2: 7 | I2: 8 | J2: 9 | K2: 10
A3: 1 | B3: 14.56 | C3: 13.88 | D3: 15.32 | E3: 14.08 | F3: 13.1 | G3: 11.64 | H3: 13.48 | I3: 15.08 | J3: 13.5 | K3: 14.72
A4: 2 | B4: 14.96 | C4: 15.3 | D4: 13.84 | E4: 14.6 | F4: 13.56 | G4: 13.1 | H4: 13.66 | I4: 12 | J4: 15.08 | K4: 14.52
A5: 3 | B5: 14 | C5: 14.66 | D5: 13.98 | E5: 13 | F5: 13.94 | G5: 13.54 | H5: 13.78 | I5: 15.3 | J5: 15.16 | K5: 14.08
A6: 4 | B6: 15.12 | C6: 14.24 | D6: 14.52 | E6: 14.5 | F6: 13.5 | G6: 13.48 | H6: 12.86 | I6: 15.3 | J6: 14.74 | K6: 14.8
A7: 5 | B7: 14.26 | C7: 14.56 | D7: 14.74 | E7: 13.8 | F7: 13.38 | G7: 13.54 | H7: 13.46 | I7: 14.9 | J7: 14.4 | K7: 14.36
A8: 6 | B8: 14.4 | C8: 14.28 | D8: 14.44 | E8: 13.64 | F8: 12.14 | G8: 12.98 | H8: 12.16 | I8: 15.2 | J8: 15.28 | K8: 15.28
A9: 7 | B9: 14.16 | C9: 15.78 | D9: 14.74 | E9: 13.5 | F9: 13.68 | G9: 13.3 | H9: 13.71 | I9: 14.22 | J9: 14.04 | K9: 14.78
A10: 8 | B10: 14.24 | C10: 15.08 | D10: 14.86 | E10: 12.56 | F10: 13.36 | G10: 13.54 | H10: 13.22 | I10: 14.04 | J10: 14.78 | K10: 14.92
A11: 9 | B11: 15.36 | C11: 14.66 | D11: 15.08 | E11: 11.92 | F11: 13.66 | G11: 13.42 | H11: 12.34 | I11: 15 | J11: 14.24 | K11: 14.32
A12: 10 | B12: 14.68 | C12: 14.74 | D12: 15.02 | E12: 13.02 | F12: 13.12 | G12: 13.82 | H12: 14.46 | I12: 15.48 | J12: 14.34 | K12: 14.6
I14: TỔNG | K14: =+SUM(B3:K12) -> 1411.47
A15: XE 2 - Gà Nhỏ
B16: 1 | C16: 2 | D16: 3 | E16: 4 | F16: 5 | G16: 6 | H16: 7 | I16: 8 | J16: 9 | K16: 10
A17: 1 | B17: 14.2 | C17: 14 | D17: 13.4 | E17: 14.2 | F17: 13.8
A18: 2 | B18: 14.1 | C18: 14.1 | D18: 14.3 | E18: 13.5 | F18: 13.9
A19: 3 | B19: 13.7 | C19: 13.6 | D19: 13.4 | E19: 14 | F19: 14.4
A20: 4 | B20: 13.5 | C20: 13.5 | D20: 13.7 | E20: 13.9 | F20: 13.9
A21: 5 | B21: 13.3 | C21: 13.6 | D21: 15.4 | E21: 13.9 | F21: 14
A22: 6 | B22: 13.7 | C22: 13.8 | D22: 13.3 | E22: 14 | F22: 13.8
A23: 7 | B23: 13.4 | C23: 13.6 | D23: 13.8 | E23: 13.7
A24: 8 | B24: 13.2 | C24: 13.9 | D24: 13.8 | E24: 14.1
A25: 9 | B25: 13.8 | C25: 14 | D25: 14 | E25: 13.8
A26: 10 | B26: 15 | C26: 13.5 | D26: 13.7 | E26: 14
A27: 11 | B27: 13.4 | C27: 13.5 | D27: 14.5 | E27: 13.8
I29: TỔNG | K29: =+SUM(B17:K27) -> 692.4
A30: XE 3
B31: 1 | C31: 2 | D31: 3 | E31: 4 | F31: 5 | G31: 6 | H31: 7 | I31: 8 | J31: 9 | K31: 10
A32: 1 | B32: 14.74 | C32: 13.84 | D32: 15.28 | E32: 16.34 | F32: 14.48 | G32: 14.78 | H32: 15.12 | I32: 13.76 | J32: 13.1 | K32: 13.8
A33: 2 | B33: 15.04 | C33: 14.82 | D33: 14.62 | E33: 15.54 | F33: 14.54 | G33: 14.76 | H33: 14.9 | I33: 12.18 | J33: 12.76 | K33: 12.3
A34: 3 | B34: 14.22 | C34: 15.08 | D34: 14.4 | E34: 16.36 | F34: 14.82 | G34: 14.94 | H34: 14.54 | I34: 13.64 | J34: 13.1 | K34: 13.66
A35: 4 | B35: 14.38 | C35: 14.64 | D35: 15.1 | E35: 15.94 | F35: 14.36 | G35: 14.5 | H35: 13.72 | I35: 13.64 | J35: 13.76 | K35: 15.66
A36: 5 | B36: 13.36 | C36: 14.48 | D36: 15.4 | E36: 16.18 | F36: 14.78 | G36: 15 | H36: 14.48 | I36: 13.22 | J36: 13.62 | K36: 12.46
A37: 6 | B37: 13.68 | C37: 14.04 | D37: 14.28 | E37: 13.72 | F37: 14.24 | G37: 14.56 | H37: 14.68 | I37: 13.32 | J37: 13.3 | K37: 12.42
A38: 7 | B38: 13.76 | C38: 14.58 | D38: 15.88 | E38: 14.3 | F38: 14.66 | G38: 14.94 | H38: 14.56 | I38: 13.6 | J38: 13.56 | K38: 13.3
A39: 8 | B39: 14.92 | C39: 14.76 | D39: 14.8 | E39: 14.48 | F39: 14.66 | G39: 14.82 | H39: 14.2 | I39: 13.58 | J39: 12.74 | K39: 12.8
A40: 9 | B40: 14.4 | C40: 14.82 | D40: 15.58 | E40: 14.58 | F40: 14.52 | G40: 13.62 | H40: 15.08 | I40: 13.7 | J40: 12.38 | K40: 13.2
A41: 10 | B41: 14.22 | C41: 14.92 | D41: 16.82 | E41: 15 | F41: 14.64 | G41: 14.7 | H41: 15 | I41: 13.52 | J41: 13.1 | K41: 13.6
I43: TỔNG | K43: =+SUM(B32:K41) -> 1430.68

Sheet NGAY 05-01
A1: XE 1 - GÀ
B2: 1 | C2: 2 | D2: 3 | E2: 4 | F2: 5 | G2: 6 | H2: 7 | I2: 8 | J2: 9 | K2: 10
A3: 1 | B3: 14.98 | C3: 14.3 | D3: 14.16 | E3: 14.82 | F3: 16.7 | G3: 15.42 | H3: 14.38 | I3: 14.72 | J3: 14.6 | K3: 13.74
A4: 2 | B4: 14.1 | C4: 14.34 | D4: 14.02 | E4: 14.72 | F4: 15.82 | G4: 14.14 | H4: 14.78 | I4: 15.58 | J4: 14.58 | K4: 14.68
A5: 3 | B5: 14.86 | C5: 14.34 | D5: 14.9 | E5: 14.3 | F5: 16.9 | G5: 14.54 | H5: 14.8 | I5: 15.16 | J5: 14.14 | K5: 14.36
A6: 4 | B6: 13.76 | C6: 14.34 | D6: 14.66 | E6: 14.86 | F6: 15.26 | G6: 14.4 | H6: 14.88 | I6: 16.26 | J6: 14.32 | K6: 15.04
A7: 5 | B7: 14.56 | C7: 13.96 | D7: 14.96 | E7: 14.44 | F7: 16.34 | G7: 14.1 | H7: 15.82 | I7: 14.82 | J7: 14.94 | K7: 14.48
A8: 6 | B8: 14.76 | C8: 13.64 | D8: 14.54 | E8: 15.78 | F8: 16.28 | G8: 14.8 | H8: 14.4 | I8: 15.42 | J8: 14.36 | K8: 13.96
A9: 7 | B9: 14.62 | C9: 14.54 | D9: 14.58 | E9: 14.1 | F9: 15.86 | G9: 16.36 | H9: 14.86 | I9: 14.48 | J9: 14.52 | K9: 14.78
A10: 8 | B10: 14.82 | C10: 14.24 | D10: 14.98 | E10: 14.56 | F10: 14.6 | G10: 14.44 | H10: 14.58 | I10: 14.62 | J10: 13.98 | K10: 14.36
A11: 9 | B11: 13.8 | C11: 14.48 | D11: 14.94 | E11: 16.08 | F11: 16.34 | G11: 14.28 | H11: 15 | I11: 15.3 | J11: 14.14 | K11: 13.86
A12: 10 | B12: 14.72 | C12: 14.66 | D12: 14.78 | E12: 15.66 | F12: 14.18 | G12: 15.06 | H12: 16.06 | I12: 14.26 | J12: 15.02 | K12: 14.26
I14: TỔNG | K14: =+SUM(B3:K12) -> 1477.78
A15: XE 2
B16: 1 | C16: 2 | D16: 3 | E16: 4 | F16: 5 | G16: 6 | H16: 7 | I16: 8 | J16: 9 | K16: 10
A17: 1 | B17: 14.38 | C17: 14.78 | D17: 13.94 | E17: 13.98 | F17: 14.44 | G17: 14.18 | H17: 14.62 | I17: 14.98 | J17: 12.96 | K17: 12.54
A18: 2 | B18: 14.24 | C18: 14.96 | D18: 14.56 | E18: 14.38 | F18: 14.02 | G18: 14.46 | H18: 14.62 | I18: 14.8 | J18: 14.92 | K18: 15.22
A19: 3 | B19: 14.94 | C19: 14.14 | D19: 14.68 | E19: 15 | F19: 13.36 | G19: 14.5 | H19: 14.3 | I19: 15 | J19: 14.88 | K19: 14.4
A20: 4 | B20: 13.9 | C20: 14.34 | D20: 14.22 | E20: 14.66 | F20: 14.6 | G20: 14.3 | H20: 14.72 | I20: 14.02 | J20: 14.86 | K20: 14.76
A21: 5 | B21: 14.7 | C21: 14.72 | D21: 14.66 | E21: 13.94 | F21: 13.92 | G21: 14.4 | H21: 14.72 | I21: 14.96 | J21: 14.94 | K21: 14.8
A22: 6 | B22: 14.66 | C22: 15.08 | D22: 15.06 | E22: 14.76 | F22: 14.86 | G22: 14.18 | H22: 15.58 | I22: 15.5 | J22: 14.62 | K22: 12.5
A23: 7 | B23: 14.5 | C23: 13.98 | D23: 14.52 | E23: 14.56 | F23: 13.8 | G23: 14.48 | H23: 14.86 | I23: 15.3 | J23: 14.58 | K23: 14.82
A24: 8 | B24: 16.18 | C24: 14.66 | D24: 14.52 | E24: 15.4 | F24: 13.96 | G24: 14.7 | H24: 14.98 | I24: 13.82 | J24: 14.94 | K24: 15.12
A25: 9 | B25: 14.36 | C25: 16.08 | D25: 14.28 | E25: 14.4 | F25: 13.76 | G25: 13.82 | H25: 15.48 | I25: 14.98 | J25: 14.7 | K25: 15.32
A26: 10 | B26: 16.06 | C26: 14.2 | D26: 15.48 | E26: 14.32 | F26: 15.02 | G26: 14.5 | H26: 14.9 | I26: 12 | J26: 13.68 | K26: 13.96
A27: 11
I29: TỔNG | K29: =+SUM(B17:K27) -> 1454.1
A30: XE 3
B31: 1 | C31: 2 | D31: 3 | E31: 4 | F31: 5 | G31: 6 | H31: 7 | I31: 8 | J31: 9 | K31: 10
A32: 1
A33: 2
A34: 3
A35: 4
A36: 5
A37: 6
A38: 7
A39: 8
A40: 9
A41: 10
I43: TỔNG | K43: =+SUM(B32:K41) -> 0

Sheet NGAY 06-01
A1: XE 1 - GÀ
B2: 1 | C2: 2 | D2: 3 | E2: 4 | F2: 5 | G2: 6 | H2: 7 | I2: 8 | J2: 9 | K2: 10
A3: 1 | B3: 14.82 | C3: 15.5 | D3: 14.44 | E3: 14.6 | F3: 14.76 | G3: 15.24 | H3: 14.82 | I3: 15.32 | J3: 14.82 | K3: 15.22
A4: 2 | B4: 15.12 | C4: 12.8 | D4: 14.48 | E4: 14.72 | F4: 15.42 | G4: 15.16 | H4: 15.5 | I4: 14.74 | J4: 15.22 | K4: 15
A5: 3 | B5: 15.02 | C5: 14.68 | D5: 14.68 | E5: 14.98 | F5: 14.74 | G5: 15.4 | H5: 15.3 | I5: 15.24 | J5: 15.02 | K5: 14.86
A6: 4 | B6: 15.96 | C6: 15 | D6: 14.86 | E6: 15.24 | F6: 14.66 | G6: 14.52 | H6: 16.62 | I6: 14.92 | J6: 14.74 | K6: 14.72
A7: 5 | B7: 14 | C7: 14.62 | D7: 14.94 | E7: 15.14 | F7: 14.68 | G7: 14.82 | H7: 15.28 | I7: 14.86 | J7: 15.24 | K7: 14.92
A8: 6 | B8: 15.56 | C8: 14.78 | D8: 15 | E8: 14.24 | F8: 15.34 | G8: 15.36 | H8: 15.24 | I8: 14.38 | J8: 15.3 | K8: 15.46
A9: 7 | B9: 15.7 | C9: 14.66 | D9: 14.94 | E9: 15.3 | F9: 14.5 | G9: 15.18 | H9: 14.3 | I9: 15.1 | J9: 14.96 | K9: 15.38
A10: 8 | B10: 14.74 | C10: 14.78 | D10: 14.44 | E10: 15.38 | F10: 15.26 | G10: 15.36 | H10: 14.5 | I10: 15.12 | J10: 14.92 | K10: 15.02
A11: 9 | B11: 15 | C11: 15.02 | D11: 15.02 | E11: 15.14 | F11: 15.62 | G11: 15.34 | H11: 14.98 | I11: 15.3 | J11: 14.48 | K11: 14.46
A12: 10 | B12: 14.48 | C12: 14.04 | D12: 14.64 | E12: 15.36 | F12: 14.64 | G12: 14.6 | H12: 15.3 | I12: 15.34 | J12: 15.22 | K12: 15.16
I14: TỔNG | K14: =+SUM(B3:K12) -> 1496.7
A15: XE 2 - Mỡ
B16: 1 | C16: 2 | D16: 3 | E16: 4 | F16: 5 | G16: 6 | H16: 7 | I16: 8 | J16: 9 | K16: 10
A17: 1
A18: 2
A19: 3
A20: 4
A21: 5
A22: 6
A23: 7
A24: 8
A25: 9
A26: 10
A27: 11
I29: TỔNG | K29: =+SUM(B17:K27) -> 0
A30: XE 3
B31: 1 | C31: 2 | D31: 3 | E31: 4 | F31: 5 | G31: 6 | H31: 7 | I31: 8 | J31: 9 | K31: 10
A32: 1 | B32: 14.76 | C32: 14.92 | D32: 14.98 | E32: 12.21 | F32: 15.2 | G32: 15.12 | H32: 15.02 | I32: 15.02 | J32: 15.52 | K32: 13.14
A33: 2 | B33: 14.74 | C33: 15.28 | D33: 15.24 | E33: 15.46 | F33: 15.02 | G33: 16 | H33: 15.36 | I33: 15.24 | J33: 15.241 | K33: 13.3
A34: 3 | B34: 14.8 | C34: 14.74 | D34: 15.08 | E34: 14.68 | F34: 15.26 | G34: 14.52 | H34: 15.14 | I34: 15.44 | J34: 13.36 | K34: 15.16
A35: 4 | B35: 14.82 | C35: 14.88 | D35: 15.34 | E35: 15.02 | F35: 14.58 | G35: 14.7 | H35: 15.42 | I35: 14.94 | J35: 14.94 | K35: 12.32
A36: 5 | B36: 14.86 | C36: 15.28 | D36: 14.04 | E36: 14.04 | F36: 15.04 | G36: 14.66 | H36: 14.48 | I36: 15.36 | J36: 14.6 | K36: 12.74
A37: 6 | B37: 15.22 | C37: 16.02 | D37: 14.98 | E37: 15.04 | F37: 14.84 | G37: 15.42 | H37: 15.3 | I37: 15.12 | J37: 13.02 | K37: 12.64
A38: 7 | B38: 15.18 | C38: 15.22 | D38: 14.66 | E38: 14.08 | F38: 14.9 | G38: 15.04 | H38: 14.9 | I38: 15.22 | J38: 12.92 | K38: 14.68
A39: 8 | B39: 15.14 | C39: 14.42 | D39: 15.16 | E39: 15.36 | F39: 15.5 | G39: 15.26 | H39: 14.68 | I39: 15.2 | J39: 12.88 | K39: 13.24
A40: 9 | B40: 15 | C40: 15.22 | D40: 14.44 | E40: 14.04 | F40: 15.28 | G40: 15.32 | H40: 15.12 | I40: 14.88 | J40: 14.94 | K40: 13.24
A41: 10 | B41: 14.9 | C41: 15.24 | D41: 14.78 | E41: 14.98 | F41: 15.4 | G41: 15.48 | H41: 14.94 | I41: 15 | J41: 14.76 | K41: 12.72
I43: TỔNG | K43: =+SUM(B32:K41) -> 1473.931

Sheet NGAY 07-01
A1: XE 1 - GÀ
B2: 1 | C2: 2 | D2: 3 | E2: 4 | F2: 5 | G2: 6 | H2: 7 | I2: 8 | J2: 9 | K2: 10
A3: 1 | B3: 16.46 | C3: 15.04 | D3: 14.76 | E3: 13.66 | F3: 13.14 | G3: 13.16 | H3: 15.58 | I3: 15.52 | J3: 14.1 | K3: 15.22
A4: 2 | B4: 15.82 | C4: 16.52 | D4: 14.54 | E4: 14.18 | F4: 12.42 | G4: 12.22 | H4: 15.12 | I4: 14.82 | J4: 15 | K4: 13.58
A5: 3 | B5: 15.26 | C5: 14.36 | D5: 15.48 | E5: 13.42 | F5: 12.24 | G5: 12.94 | H5: 14.76 | I5: 14.9 | J5: 15.46 | K5: 14.84
A6: 4 | B6: 15.22 | C6: 15.32 | D6: 13.74 | E6: 13.9 | F6: 13.26 | G6: 14.78 | H6: 15.06 | I6: 14.18 | J6: 15.38 | K6: 14.86
A7: 5 | B7: 13.76 | C7: 14.92 | D7: 15.36 | E7: 14.82 | F7: 12.58 | G7: 15.34 | H7: 14.46 | I7: 14.9 | J7: 14.76 | K7: 14.96
A8: 6 | B8: 14.3 | C8: 15 | D8: 15.14 | E8: 13 | F8: 12.46 | G8: 15.04 | H8: 15.5 | I8: 15.06 | J8: 14.24 | K8: 15.48
A9: 7 | B9: 14.52 | C9: 13.78 | D9: 14.16 | E9: 13.02 | F9: 12.48 | G9: 15.22 | H9: 15.32 | I9: 14.48 | J9: 14.74 | K9: 14.14
A10: 8 | B10: 14.36 | C10: 13.86 | D10: 13.32 | E10: 12.72 | F10: 12.1 | G10: 14.72 | H10: 13.9 | I10: 14.7 | J10: 14.58 | K10: 15.2
A11: 9 | B11: 15.38 | C11: 14.14 | D11: 15.3 | E11: 11.9 | F11: 12.3 | G11: 15.44 | H11: 14.92 | I11: 14.96 | J11: 15.2 | K11: 14.14
A12: 10 | B12: 15.4 | C12: 13.68 | D12: 14.26 | E12: 11.54 | F12: 12.42 | G12: 13.9 | H12: 15.44 | I12: 15.08 | J12: 15.04 | K12: 15.42
I14: TỔNG | K14: =+SUM(B3:K12) -> 1438.48
A15: XE 2 - Mỡ
B16: 1 | C16: 2 | D16: 3 | E16: 4 | F16: 5 | G16: 6 | H16: 7 | I16: 8 | J16: 9 | K16: 10
A17: 1 | B17: 24.4 | C17: 24.76 | D17: 24.16 | E17: 24.34 | F17: 24.34
A18: 2 | B18: 23.36 | C18: 26.2 | D18: 25.24 | E18: 24.42 | F18: 24.42
A19: 3 | B19: 25.24 | C19: 24.42 | D19: 23.9 | E19: 24.38 | F19: 24.44
A20: 4 | B20: 25.4 | C20: 24.8 | D20: 25.24 | E20: 24.08 | F20: 23.38
A21: 5 | B21: 24.4 | C21: 24.32 | D21: 24.76 | E21: 24.44 | F21: 23.28
A22: 6 | B22: 23.66 | C22: 24.28 | D22: 24.54 | E22: 24.72 | F22: 25.98
A23: 7 | B23: 24.32 | C23: 24.33 | D23: 24.4 | E23: 25.4 | F23: 23.9
A24: 8 | B24: 25.4 | C24: 24.48 | D24: 24.32 | E24: 24.26 | F24: 24.54
A25: 9 | B25: 24.88 | C25: 24.56 | D25: 24.56 | E25: 24.22 | F25: 24.4
A26: 10 | B26: 24.32 | C26: 24.5 | D26: 24.5 | E26: 25.28 | F26: 25.4
A27: 11
I29: TỔNG | K29: =+SUM(B17:K27) -> 1227.27
A30: XE 3
B31: 1 | C31: 2 | D31: 3 | E31: 4 | F31: 5 | G31: 6 | H31: 7 | I31: 8 | J31: 9 | K31: 10
A32: 1
A33: 2
A34: 3
A35: 4
A36: 5
A37: 6
A38: 7
A39: 8
A40: 9
A41: 10
I43: TỔNG | K43: =+SUM(B32:K41) -> 0

Sheet NGAY 09-01
A1: XE 1 - GÀ
B2: 1 | C2: 2 | D2: 3 | E2: 4 | F2: 5 | G2: 6 | H2: 7 | I2: 8 | J2: 9 | K2: 10
A3: 1 | B3: 15.36 | C3: 15.22 | D3: 15.38 | E3: 15 | F3: 12.92 | G3: 13.24 | H3: 14.84 | I3: 15.38 | J3: 12.5 | K3: 12.64
A4: 2 | B4: 15.84 | C4: 14.9 | D4: 14.8 | E4: 15.22 | F4: 14.72 | G4: 13.7 | H4: 13.8 | I4: 12.22 | J4: 13.02 | K4: 12.96
A5: 3 | B5: 15.36 | C5: 15.18 | D5: 15.32 | E5: 14.56 | F5: 14.86 | G5: 13.24 | H5: 12.78 | I5: 12.24 | J5: 12.68 | K5: 12.82
A6: 4 | B6: 15.2 | C6: 14.56 | D6: 15.36 | E6: 15.2 | F6: 13.1 | G6: 13.08 | H6: 14.44 | I6: 12.72 | J6: 12.7 | K6: 14.46
A7: 5 | B7: 14.18 | C7: 15 | D7: 15.2 | E7: 15.08 | F7: 15.46 | G7: 13.24 | H7: 15 | I7: 12.5 | J7: 12.34 | K7: 15.2
A8: 6 | B8: 15.08 | C8: 14.6 | D8: 14.98 | E8: 15.3 | F8: 12.4 | G8: 13.24 | H8: 15.2 | I8: 13 | J8: 13.38 | K8: 15.02
A9: 7 | B9: 14.98 | C9: 15.3 | D9: 15.3 | E9: 15.24 | F9: 15.84 | G9: 14.24 | H9: 14.6 | I9: 12.86 | J9: 12.4 | K9: 14.68
A10: 8 | B10: 14.66 | C10: 15.5 | D10: 14.4 | E10: 15.32 | F10: 15.46 | G10: 14.56 | H10: 12.62 | I10: 12.96 | J10: 13.3 | K10: 15.12
A11: 9 | B11: 15.56 | C11: 14.3 | D11: 15.22 | E11: 15.14 | F11: 12.96 | G11: 14.86 | H11: 14.26 | I11: 13.04 | J11: 12.48 | K11: 14.78
A12: 10 | B12: 14.84 | C12: 15.08 | D12: 14.62 | E12: 14.94 | F12: 12.42 | G12: 14.9 | H12: 12.68 | I12: 12.54 | J12: 13.24 | K12: 15.34
I14: TỔNG | K14: =+SUM(B3:K12) -> 1421.46
A15: XE 2 - Mỡ
B16: 1 | C16: 2 | D16: 3 | E16: 4 | F16: 5 | G16: 6 | H16: 7 | I16: 8 | J16: 9 | K16: 10
A17: 1
A18: 2
A19: 3
A20: 4
A21: 5
A22: 6
A23: 7
A24: 8
A25: 9
A26: 10
A27: 11
I29: TỔNG | K29: =+SUM(B17:K27) -> 0
A30: XE 3
B31: 1 | C31: 2 | D31: 3 | E31: 4 | F31: 5 | G31: 6 | H31: 7 | I31: 8 | J31: 9 | K31: 10
A32: 1
A33: 2
A34: 3
A35: 4
A36: 5
A37: 6
A38: 7
A39: 8
A40: 9
A41: 10
I43: TỔNG | K43: =+SUM(B32:K41) -> 0

Sheet NGAY 10-01
A1: XE 1 - GÀ
B2: 1 | C2: 2 | D2: 3 | E2: 4 | F2: 5 | G2: 6 | H2: 7 | I2: 8 | J2: 9 | K2: 10
A3: 1 | B3: 15.78 | C3: 16.12 | D3: 16.28 | E3: 15.14 | F3: 15.12 | G3: 15.32 | H3: 14.92 | I3: 15.06 | J3: 14.66 | K3: 14.08
A4: 2 | B4: 16.7 | C4: 16 | D4: 15.84 | E4: 15.68 | F4: 15.4 | G4: 15.14 | H4: 15.366 | I4: 15.52 | J4: 15.18 | K4: 14.8
A5: 3 | B5: 16.2 | C5: 15.68 | D5: 16.24 | E5: 15.7 | F5: 14.86 | G5: 15.42 | H5: 15.64 | I5: 15.38 | J5: 14.52 | K5: 14.58
A6: 4 | B6: 15.72 | C6: 15.2 | D6: 14.44 | E6: 16.28 | F6: 15.82 | G6: 16.02 | H6: 15.3 | I6: 14.58 | J6: 14.98 | K6: 15
A7: 5 | B7: 15.7 | C7: 15.88 | D7: 15.28 | E7: 15.24 | F7: 15.1 | G7: 15 | H7: 16.22 | I7: 14.6 | J7: 14.26 | K7: 15.38
A8: 6 | B8: 15.96 | C8: 17.36 | D8: 15.66 | E8: 16.72 | F8: 14.82 | G8: 15.78 | H8: 16.04 | I8: 14.68 | J8: 15.32 | K8: 15.5
A9: 7 | B9: 16.12 | C9: 16.7 | D9: 14.48 | E9: 16.34 | F9: 15 | G9: 14.92 | H9: 15.4 | I9: 15.32 | J9: 14.84 | K9: 15.2
A10: 8 | B10: 15.74 | C10: 15.48 | D10: 17.16 | E10: 14.44 | F10: 14.94 | G10: 15.4 | H10: 15.68 | I10: 15.3 | J10: 15.48 | K10: 14.8
A11: 9 | B11: 15.66 | C11: 15.5 | D11: 14.14 | E11: 15.34 | F11: 15.8 | G11: 14.46 | H11: 14.88 | I11: 14.9 | J11: 15.04 | K11: 14.84
A12: 10 | B12: 15.7 | C12: 16.44 | D12: 16.3 | E12: 15.02 | F12: 14.62 | G12: 14.66 | H12: 14.36 | I12: 15.34 | J12: 15.02 | K12: 15.2
I14: TỔNG | K14: =+SUM(B3:K12) -> 1538.126
A15: XE 2 -
B16: 1 | C16: 2 | D16: 3 | E16: 4 | F16: 5 | G16: 6 | H16: 7 | I16: 8 | J16: 9 | K16: 10
A17: 1 | B17: 12.86 | C17: 13.26 | D17: 12.6 | E17: 12.3 | F17: 15.68 | G17: 15.06 | H17: 15.24 | I17: 14.34 | J17: 14.34 | K17: 15.28
A18: 2 | B18: 12.98 | C18: 12.74 | D18: 13.22 | E18: 12.14 | F18: 14.37 | G18: 14.58 | H18: 14.88 | I18: 14.04 | J18: 15.36 | K18: 14.08
A19: 3 | B19: 12.36 | C19: 13.36 | D19: 13.72 | E19: 15.1 | F19: 15.18 | G19: 13.92 | H19: 15.08 | I19: 15.08 | J19: 14.74
A20: 4 | B20: 12.6 | C20: 12.84 | D20: 12.58 | E20: 15.18 | G20: 14.2 | H20: 15.34 | I20: 14.66 | J20: 15.44
A21: 5 | B21: 12.96 | C21: 13.16 | D21: 13.4 | E21: 15.6 | F21: 14.08 | G21: 15.24 | H21: 15.24 | I21: 14.38 | J21: 14.86
A22: 6 | B22: 12.9 | C22: 13.12 | D22: 12.41 | E22: 15.24 | F22: 13.76 | G22: 14.74 | H22: 15.14 | I22: 15.32 | J22: 14.88
A23: 7 | B23: 12.42 | C23: 12.7 | D23: 13.22 | E23: 15.64 | F23: 14.8 | G23: 15.08 | H23: 15.14 | I23: 15.1 | J23: 14.22
A24: 8 | B24: 13.38 | C24: 13.32 | D24: 12.67 | E24: 15.34 | F24: 14 | G24: 15.4 | H24: 14.74 | I24: 15.34 | J24: 14.88
A25: 9 | B25: 14.16 | C25: 13.38 | D25: 12.2 | E25: 15.3 | F25: 13.62 | G25: 15.44 | H25: 14.92 | I25: 15.18 | J25: 14.66
A26: 10 | B26: 12.6 | C26: 13.6 | D26: 12.52 | E26: 15.82 | F26: 14.14 | G26: 14.14 | H26: 15.02 | I26: 14.32 | J26: 15.36
A27: 11 | B27: 13.02 | C27: 12.84 | D27: 12.21 | E27: 14.84 | F27: 14.32 | G27: 15.32 | H27: 14.74 | I27: 15.42 | J27: 15.08
I29: TỔNG | K29: =+SUM(B17:K27) -> 1418.72
A30: XE 3
B31: 1 | C31: 2 | D31: 3 | E31: 4 | F31: 5 | G31: 6 | H31: 7 | I31: 8 | J31: 9 | K31: 10
A32: 1
A33: 2
A34: 3
A35: 4
A36: 5
A37: 6
A38: 7
A39: 8
A40: 9
A41: 10
I43: TỔNG | K43: =+SUM(B32:K41) -> 0

Sheet NGAY 12-01
A1: XE 1 - GÀ
B2: 1 | C2: 2 | D2: 3 | E2: 4 | F2: 5 | G2: 6 | H2: 7 | I2: 8 | J2: 9 | K2: 10
A3: 1 | B3: 14.88 | C3: 12.22 | D3: 12.72 | E3: 12.5 | F3: 15.4 | G3: 15.28 | H3: 15.38 | I3: 14.78 | J3: 15.08 | K3: 13.18
A4: 2 | B4: 15.48 | C4: 12.68 | D4: 12.7 | E4: 13.1 | F4: 15.02 | G4: 14.76 | H4: 14.46 | I4: 15.44 | J4: 15.16 | K4: 13.6
A5: 3 | B5: 15.36 | C5: 12.6 | D5: 12.9 | E5: 12.36 | F5: 14.62 | G5: 14.44 | H5: 14.62 | I5: 15.08 | J5: 12.78 | K5: 13.06
A6: 4 | B6: 14.58 | C6: 15.48 | D6: 12.34 | E6: 12.6 | F6: 14.76 | G6: 15.06 | H6: 14.94 | I6: 14.52 | J6: 15.38 | K6: 13.36
A7: 5 | B7: 14.62 | C7: 12.62 | D7: 12.88 | E7: 13.28 | F7: 14.86 | G7: 15.3 | H7: 15.16 | I7: 12.24 | J7: 12.7 | K7: 12.92
A8: 6 | B8: 14.9 | C8: 13.22 | D8: 12.18 | E8: 15.18 | F8: 14.98 | G8: 15.02 | H8: 15.34 | I8: 15.34 | J8: 12.76 | K8: 13.88
A9: 7 | B9: 14.72 | C9: 13.16 | D9: 13.14 | E9: 14.94 | F9: 15.46 | G9: 14.28 | H9: 14.86 | I9: 15.06 | J9: 14.7 | K9: 13.68
A10: 8 | B10: 13.86 | C10: 13.02 | D10: 13 | E10: 15.16 | F10: 14.78 | G10: 15.08 | H10: 15.34 | I10: 14.82 | J10: 12.26 | K10: 12.86
A11: 9 | B11: 14.82 | C11: 13.3 | D11: 13.22 | E11: 14.2 | F11: 14.58 | G11: 14.44 | H11: 14.82 | I11: 13.46 | J11: 13.2 | K11: 13.26
A12: 10 | B12: 14.74 | C12: 12.38 | D12: 12.26 | E12: 15.56 | F12: 14.8 | G12: 15.22 | H12: 15.34 | I12: 15.24 | J12: 12.72 | K12: 13.02
I14: TỔNG | K14: =+SUM(B3:K12) -> 1408.8
A15: XE 2 - Mỡ
B16: 1 | C16: 2 | D16: 3 | E16: 4 | F16: 5 | G16: 6 | H16: 7 | I16: 8 | J16: 9 | K16: 10
A17: 1
A18: 2
A19: 3
A20: 4
A21: 5
A22: 6
A23: 7
A24: 8
A25: 9
A26: 10
A27: 11
I29: TỔNG | K29: =+SUM(B17:K27) -> 0
A30: XE 3
B31: 1 | C31: 2 | D31: 3 | E31: 4 | F31: 5 | G31: 6 | H31: 7 | I31: 8 | J31: 9 | K31: 10
A32: 1
A33: 2
A34: 3
A35: 4
A36: 5
A37: 6
A38: 7
A39: 8
A40: 9
A41: 10
I43: TỔNG | K43: =+SUM(B32:K41) -> 0

Sheet NGAY 15-01
A1: XE 1 - GÀ
B2: 1 | C2: 2 | D2: 3 | E2: 4 | F2: 5 | G2: 6 | H2: 7 | I2: 8 | J2: 9 | K2: 10
A3: 1 | B3: 15.1 | C3: 15 | D3: 14.9 | E3: 15.3 | F3: 15.1 | G3: 15.1 | H3: 15.5 | I3: 14.9 | J3: 15.2 | K3: 14.8
A4: 2 | B4: 15.1 | C4: 15 | D4: 15.4 | E4: 15 | F4: 15.2 | G4: 15.6 | H4: 15 | I4: 15 | J4: 14.9 | K4: 14.8
A5: 3 | B5: 14.8 | C5: 15 | D5: 15.2 | E5: 14.9 | F5: 14.9 | G5: 15.1 | H5: 15.1 | I5: 15.4 | J5: 14.7 | K5: 15.3
A6: 4 | B6: 15.4 | C6: 15.4 | D6: 15.3 | E6: 15.3 | F6: 14.9 | G6: 14.9 | H6: 14.9 | I6: 15 | J6: 15.3 | K6: 15.5
A7: 5 | B7: 15.1 | C7: 15 | D7: 14.9 | E7: 14.9 | F7: 15.4 | G7: 14.9 | H7: 15 | I7: 15.2 | J7: 15.4 | K7: 15.1
A8: 6 | B8: 14.9 | C8: 15.1 | D8: 15 | E8: 14.8 | F8: 15 | G8: 14.7 | H8: 15 | I8: 14.8 | J8: 15.2 | K8: 15
A9: 7 | B9: 15 | C9: 15 | D9: 15.2 | E9: 15.3 | F9: 15 | G9: 15.5 | H9: 15.1 | I9: 15.2 | J9: 15.4 | K9: 15
A10: 8 | B10: 15.1 | C10: 15 | D10: 15 | E10: 14.9 | F10: 14.9 | G10: 14.9 | H10: 15.2 | I10: 15.3 | J10: 15.2 | K10: 15.1
A11: 9 | B11: 15 | C11: 15.1 | D11: 14.9 | E11: 15.1 | F11: 15.1 | G11: 15.3 | H11: 15.2 | I11: 15.2 | J11: 15.2 | K11: 15
A12: 10 | B12: 14.9 | C12: 15.4 | D12: 15 | E12: 15.4 | F12: 15.4 | G12: 14.8 | H12: 14.9 | I12: 14.9 | J12: 14.9 | K12: 15.2
I14: TỔNG | K14: =+SUM(B3:K12) -> 1508.8
A15: XE 2 - Mỡ
B16: 1 | C16: 2 | D16: 3 | E16: 4 | F16: 5 | G16: 6 | H16: 7 | I16: 8 | J16: 9 | K16: 10
A17: 1
A18: 2
A19: 3
A20: 4
A21: 5
A22: 6
A23: 7
A24: 8
A25: 9
A26: 10
A27: 11
I29: TỔNG | K29: =+SUM(B17:K27) -> 0
A30: XE 3
B31: 1 | C31: 2 | D31: 3 | E31: 4 | F31: 5 | G31: 6 | H31: 7 | I31: 8 | J31: 9 | K31: 10
A32: 1
A33: 2
A34: 3
A35: 4
A36: 5
A37: 6
A38: 7
A39: 8
A40: 9
A41: 10
I43: TỔNG | K43: =+SUM(B32:K41) -> 0

Sheet NGAY 16-01
A1: XE 1 - GÀ
B2: 1 | C2: 2 | D2: 3 | E2: 4 | F2: 5 | G2: 6 | H2: 7 | I2: 8 | J2: 9 | K2: 10
A3: 1 | B3: 14.04 | C3: 14.64 | D3: 15.44 | E3: 14.92 | F3: 15.22 | G3: 13.08 | H3: 13.36 | I3: 12.7 | J3: 14.9 | K3: 15.14
A4: 2 | B4: 12.5 | C4: 14.64 | D4: 14.82 | E4: 14.1 | F4: 15.36 | G4: 13.14 | H4: 14.42 | I4: 13.04 | J4: 15.14 | K4: 14.66
A5: 3 | B5: 12.84 | C5: 14.94 | D5: 15.36 | E5: 14.64 | F5: 15.2 | G5: 14 | H5: 12.92 | I5: 13.38 | J5: 15.18 | K5: 14.9
A6: 4 | B6: 13.2 | C6: 15.18 | D6: 15.2 | E6: 15 | F6: 13.28 | G6: 13.18 | H6: 13.68 | I6: 12.56 | J6: 14.84 | K6: 14.64
A7: 5 | B7: 12.38 | C7: 14.72 | D7: 15.22 | E7: 15.42 | F7: 13.08 | G7: 13.18 | H7: 12.92 | I7: 12.24 | J7: 15.44 | K7: 15.46
A8: 6 | B8: 13.18 | C8: 15.08 | D8: 15.02 | E8: 15.3 | F8: 13 | G8: 13.26 | H8: 13.7 | I8: 12.48 | J8: 14.46 | K8: 14.94
A9: 7 | B9: 13.32 | C9: 14.88 | D9: 15 | E9: 15.44 | F9: 13.08 | G9: 13.18 | H9: 13.9 | I9: 14.12 | J9: 14.68 | K9: 14.94
A10: 8 | B10: 13.44 | C10: 15.08 | D10: 15.36 | E10: 15.18 | F10: 13.44 | G10: 13.64 | H10: 13.78 | I10: 13.26 | J10: 15.1 | K10: 14.78
A11: 9 | B11: 13.08 | C11: 15.04 | D11: 14.94 | E11: 14.84 | F11: 13.04 | G11: 12.2 | H11: 13.32 | I11: 14.88 | J11: 15.2 | K11: 15.02
A12: 10 | B12: 15.06 | C12: 15.3 | D12: 14.64 | E12: 14.94 | F12: 13.26 | G12: 13.12 | H12: 13.26 | I12: 15.5 | J12: 14.82 | K12: 15.08
I14: TỔNG | K14: =+SUM(B3:K12) -> 1422
A15: XE 2 - Mỡ
B16: 1 | C16: 2 | D16: 3 | E16: 4 | F16: 5 | G16: 6 | H16: 7 | I16: 8 | J16: 9 | K16: 10
A17: 1
A18: 2
A19: 3
A20: 4
A21: 5
A22: 6
A23: 7
A24: 8
A25: 9
A26: 10
A27: 11
I29: TỔNG | K29: =+SUM(B17:K27) -> 0
A30: XE 3
B31: 1 | C31: 2 | D31: 3 | E31: 4 | F31: 5 | G31: 6 | H31: 7 | I31: 8 | J31: 9 | K31: 10
A32: 1
A33: 2
A34: 3
A35: 4
A36: 5
A37: 6
A38: 7
A39: 8
A40: 9
A41: 10
I43: TỔNG | K43: =+SUM(B32:K41) -> 0

Sheet NGAY 19-01
A1: XE 1 - GÀ
B2: 1 | C2: 2 | D2: 3 | E2: 4 | F2: 5 | G2: 6 | H2: 7 | I2: 8 | J2: 9 | K2: 10
A3: 1 | B3: 13.72 | C3: 14.08 | D3: 14.4 | E3: 13.52 | F3: 15.48 | G3: 14.66 | H3: 14.16 | I3: 15.18 | J3: 15.38 | K3: 15.56
A4: 2 | B4: 13.46 | C4: 14.96 | D4: 14.3 | E4: 14.26 | F4: 15.3 | G4: 14.66 | H4: 14.72 | I4: 15.72 | J4: 15.36 | K4: 15.02
A5: 3 | B5: 14.6 | C5: 14.92 | D5: 14.38 | E5: 14.36 | F5: 15.78 | G5: 13.84 | H5: 15 | I5: 15.48 | J5: 14.76 | K5: 14.74
A6: 4 | B6: 15.44 | C6: 13.54 | D6: 14.2 | E6: 14.22 | F6: 14.94 | G6: 14.4 | H6: 14.64 | I6: 15.38 | J6: 15.4 | K6: 14.78
A7: 5 | B7: 14.3 | C7: 14.24 | D7: 14.24 | E7: 15.26 | F7: 15.08 | G7: 13.94 | H7: 14.64 | I7: 14.76 | J7: 14.56 | K7: 15.14
A8: 6 | B8: 14.62 | C8: 15.12 | D8: 15.34 | E8: 14.7 | F8: 14.52 | G8: 14.6 | H8: 14.68 | I8: 15 | J8: 14.82 | K8: 15.46
A9: 7 | B9: 14.7 | C9: 14.68 | D9: 14.76 | E9: 15 | F9: 15.38 | G9: 15.37 | H9: 15.2 | I9: 14.42 | J9: 15.06 | K9: 15.12
A10: 8 | B10: 14.62 | C10: 13.76 | D10: 14.56 | E10: 14.66 | F10: 15.34 | G10: 14.82 | H10: 15.5 | I10: 15.18 | J10: 15.26 | K10: 15.42
A11: 9 | B11: 14.66 | C11: 14.82 | D11: 13.8 | E11: 14.54 | F11: 15 | G11: 15.14 | H11: 15.14 | I11: 13.14 | J11: 14.74 | K11: 14.74
A12: 10 | B12: 13.52 | C12: 13.7 | D12: 15.38 | E12: 15.16 | F12: 14.6 | G12: 14.24 | H12: 13.76 | I12: 14.48 | J12: 15.26 | K12: 15.48
I14: TỔNG | K14: =+SUM(B3:K12) -> 1473.83
A15: XE 2 - Mỡ
B16: 1 | C16: 2 | D16: 3 | E16: 4 | F16: 5 | G16: 6 | H16: 7 | I16: 8 | J16: 9 | K16: 10
A17: 1 | B17: 13.92 | C17: 14.62 | D17: 14.78 | E17: 14.36 | F17: 14.5 | G17: 14.06 | H17: 14.46 | I17: 15.38 | J17: 15.32 | K17: 15.2
A18: 2 | B18: 14.2 | C18: 15.02 | D18: 14.64 | E18: 15.2 | F18: 14.48 | G18: 14.08 | H18: 13.78 | I18: 15.18 | J18: 14.56 | K18: 15.32
A19: 3 | B19: 13.84 | C19: 15.54 | D19: 15.34 | E19: 15.36 | F19: 15.38 | G19: 13.44 | H19: 13.36 | I19: 14.62 | J19: 15.06 | K19: 15.26
A20: 4 | B20: 14.16 | C20: 15.32 | D20: 15.04 | E20: 15.02 | F20: 14.92 | G20: 14.38 | H20: 13.98 | I20: 14.92 | J20: 15.42 | K20: 15.62
A21: 5 | B21: 14.2 | C21: 15.1 | D21: 15.42 | E21: 14.32 | F21: 14.5 | G21: 15.66 | H21: 13.62 | I21: 14.94 | J21: 15.36 | K21: 14.48
A22: 6 | B22: 14.1 | C22: 15.26 | D22: 15.18 | E22: 14.84 | F22: 14.54 | G22: 14 | H22: 13.18 | I22: 15.4 | J22: 15.18 | K22: 14.56
A23: 7 | B23: 15.14 | C23: 15.2 | D23: 14.9 | E23: 14.4 | F23: 14.82 | G23: 13.7 | H23: 14.12 | I23: 15.46 | J23: 14.92 | K23: 14.9
A24: 8 | B24: 15.46 | C24: 14.98 | D24: 14.94 | E24: 14.36 | F24: 14.36 | G24: 14.04 | H24: 14.12 | I24: 14.34 | J24: 15.14 | K24: 14.72
A25: 9 | B25: 14.66 | C25: 15.58 | D25: 15 | E25: 14.16 | F25: 14.76 | G25: 14.24 | H25: 13.62 | I25: 15.2 | J25: 15.12 | K25: 14.7
A26: 10 | B26: 13.3 | C26: 15.06 | D26: 14.6 | E26: 13.92 | F26: 14.1 | G26: 14.48 | H26: 13.78 | I26: 15.06 | J26: 14.94 | K26: 13.4
A27: 11
I29: TỔNG | K29: =+SUM(B17:K27) -> 1466.58
A30: XE 3
B31: 1 | C31: 2 | D31: 3 | E31: 4 | F31: 5 | G31: 6 | H31: 7 | I31: 8 | J31: 9 | K31: 10
A32: 1
A33: 2
A34: 3
A35: 4
A36: 5
A37: 6
A38: 7
A39: 8
A40: 9
A41: 10
I43: TỔNG | K43: =+SUM(B32:K41) -> 0

Sheet NGAY 20-01
A1: XE 1 - GÀ
B2: 1 | C2: 2 | D2: 3 | E2: 4 | F2: 5 | G2: 6 | H2: 7 | I2: 8 | J2: 9 | K2: 10
A3: 1 | B3: 13.8 | C3: 14.46 | D3: 13.7 | E3: 14.06 | F3: 13.58 | G3: 15.22 | H3: 15.4 | I3: 14.52 | J3: 14.16 | K3: 14.32
A4: 2 | B4: 13.88 | C4: 14.04 | D4: 14.28 | E4: 13.12 | F4: 15.34 | G4: 15.5 | H4: 14.9 | I4: 14.02 | J4: 14.86 | K4: 14.08
A5: 3 | B5: 13.78 | C5: 13.5 | D5: 13.4 | E5: 14.26 | F5: 15.56 | G5: 14.68 | H5: 15.8 | I5: 15.18 | J5: 14.06
A6: 4 | B6: 14.1 | C6: 14.26 | D6: 14.28 | E6: 13.74 | F6: 15.22 | G6: 15.44 | H6: 15 | I6: 14.2 | J6: 13.74
A7: 5 | B7: 14.22 | C7: 14.22 | D7: 14.68 | E7: 14.66 | F7: 14.92 | G7: 15.08 | H7: 15.12 | I7: 14.24 | J7: 14.36
A8: 6 | B8: 13.18 | C8: 13.98 | D8: 14.24 | E8: 16.06 | F8: 14.88 | G8: 15.36 | H8: 15.5 | I8: 14.76 | J8: 14.3
A9: 7 | B9: 14.08 | C9: 13.9 | D9: 14.4 | E9: 15.08 | F9: 16 | G9: 15.24 | H9: 15.6 | I9: 14.24 | J9: 14.46
A10: 8 | B10: 13.28 | C10: 14.64 | D10: 13.76 | E10: 14.66 | F10: 15.98 | G10: 16.1 | H10: 16.48 | I10: 14.62 | J10: 14.22
A11: 9 | B11: 13.56 | C11: 14.24 | D11: 14.06 | E11: 15.3 | F11: 15.26 | G11: 15.28 | H11: 15.32 | I11: 14.3 | J11: 14.2
A12: 10 | B12: 13.52 | C12: 14.5 | D12: 13.54 | E12: 14.72 | F12: 15.7 | G12: 14.88 | H12: 15.48 | I12: 14.1 | J12: 14.3
I14: TỔNG | K14: =+SUM(B3:K12) -> 1340.2
A15: XE 2
B16: 1 | C16: 2 | D16: 3 | E16: 4 | F16: 5 | G16: 6 | H16: 7 | I16: 8 | J16: 9 | K16: 10
A17: 1 | B17: 15.4 | C17: 15.24 | D17: 13.94 | E17: 13.52 | F17: 13.38 | G17: 13.9 | H17: 13.84 | I17: 15.46 | J17: 15.52 | K17: 14.52
A18: 2 | B18: 14.86 | C18: 15.14 | D18: 14.62 | E18: 14.62 | F18: 13.92 | G18: 13.64 | H18: 14.44 | I18: 15.34 | J18: 16.12 | K18: 15.78
A19: 3 | B19: 14.06 | C19: 13.32 | D19: 14.08 | E19: 14.62 | F19: 12.982 | G19: 13.64 | H19: 13.96 | I19: 14.9 | J19: 15.14 | K19: 15.38
A20: 4 | B20: 14.48 | C20: 14.82 | D20: 13.72 | E20: 15.04 | F20: 15.1 | G20: 13.64 | H20: 14.12 | I20: 14.08 | J20: 15.46 | K20: 15.78
A21: 5 | B21: 14.14 | C21: 14.62 | D21: 14.74 | E21: 13.32 | F21: 14.22 | G21: 13.88 | H21: 14.06 | I21: 14.84 | J21: 15.06 | K21: 14.5
A22: 6 | B22: 15.08 | C22: 15.5 | D22: 15.82 | E22: 15.46 | F22: 13.26 | G22: 15.48 | H22: 14.92 | I22: 14.9 | J22: 14.8 | K22: 15.36
A23: 7 | B23: 14.6 | C23: 15.68 | D23: 14.28 | E23: 15.2 | F23: 13.7 | G23: 13.64 | H23: 14.68 | I23: 14.9 | J23: 15.24 | K23: 15.52
A24: 8 | B24: 14.3 | C24: 15.16 | D24: 14.4 | E24: 12.44 | F24: 13.7 | G24: 13.36 | H24: 14.88 | I24: 15.32 | J24: 14.78 | K24: 15.24
A25: 9 | B25: 14.78 | C25: 14.96 | D25: 14.82 | E25: 12.86 | F25: 14.52 | G25: 13.64 | H25: 15.38 | I25: 15.22 | J25: 15.38 | K25: 15.38
A26: 10 | B26: 14.78 | C26: 14.54 | D26: 14.7 | E26: 14.3 | F26: 14.04 | G26: 13.3 | H26: 15 | I26: 14.64 | J26: 15.5 | K26: 15.34
A27: 11 | B27: 13.84 | C27: 13.44 | D27: 14.38 | E27: 14.12 | F27: 13.3 | G27: 13.74 | H27: 14.6 | I27: 14.78
I29: TỔNG | K29: =+SUM(B17:K27) -> 1571.782
A30: XE 3
B31: 1 | C31: 2 | D31: 3 | E31: 4 | F31: 5 | G31: 6 | H31: 7 | I31: 8 | J31: 9 | K31: 10
A32: 1 | B32: 15.1 | C32: 15.3 | D32: 15.3 | E32: 15.4 | F32: 14.8 | G32: 14.9 | H32: 14.8 | I32: 14.9 | J32: 15.7 | K32: 15.3
A33: 2 | B33: 15.1 | C33: 15 | D33: 15.1 | E33: 15 | F33: 15.2 | G33: 15.4 | H33: 15 | I33: 15.1 | J33: 15.4 | K33: 15
A34: 3 | B34: 15.4 | C34: 15 | D34: 15 | E34: 15.1 | F34: 15.2 | G34: 15.5 | H34: 15.1 | I34: 15.1 | J34: 15 | K34: 14.8
A35: 4 | B35: 15.3 | C35: 15.6 | D35: 15.1 | E35: 15.7 | F35: 15 | G35: 15.1 | H35: 15.1 | I35: 15.1 | J35: 15.3 | K35: 15.3
A36: 5 | B36: 15.2 | C36: 15.3 | D36: 15.1 | E36: 15.4 | F36: 15 | G36: 15.1 | H36: 15.1 | I36: 14.9 | J36: 15 | K36: 14.9
A37: 6 | B37: 15 | C37: 15.2 | D37: 15.2 | E37: 15.3 | F37: 14.9 | G37: 15.2 | H37: 15.4 | I37: 15.6 | J37: 15.5 | K37: 15.1
A38: 7 | B38: 15.1 | C38: 15 | D38: 14.9 | E38: 15.6 | F38: 15.1 | G38: 15 | H38: 15.1 | I38: 15.2 | J38: 15.2 | K38: 15.4
A39: 8 | B39: 14.9 | C39: 15.1 | D39: 15.1 | E39: 15 | F39: 15 | G39: 15.1 | H39: 15 | I39: 15.3 | J39: 15.1 | K39: 15.9
A40: 9 | B40: 15.1 | C40: 15.2 | D40: 14.9 | E40: 15.5 | F40: 14.8 | G40: 14.9 | H40: 14.8 | I40: 15 | J40: 15 | K40: 15.2
A41: 10 | B41: 14.9 | C41: 15.7 | D41: 15.2 | E41: 15 | F41: 15 | G41: 15.1 | H41: 14.9 | I41: 15.2 | J41: 15.2 | K41: 15.1
I43: TỔNG | K43: =+SUM(B32:K41) -> 1514.8
A45: XE 4
B46: 1 | C46: 2 | D46: 3 | E46: 4 | F46: 5 | G46: 6 | H46: 7 | I46: 8 | J46: 9 | K46: 10
A47: 1 | B47: 14.62 | C47: 14.7 | D47: 14.18 | E47: 13.64 | F47: 14.82 | G47: 15.2 | H47: 15.14 | I47: 15.2 | J47: 14.36 | K47: 14.32
A48: 2 | B48: 14.72 | C48: 14.36 | D48: 13.68 | E48: 13.72 | F48: 14.96 | G48: 14.88 | H48: 15.34 | I48: 14.82 | J48: 14.14 | K48: 13.54
A49: 3 | B49: 15.1 | C49: 14.26 | D49: 14.42 | E49: 14.34 | F49: 14.84 | G49: 15.14 | H49: 14.74 | I49: 15.42 | J49: 13.72 | K49: 14.32
A50: 4 | B50: 14.82 | C50: 14.14 | D50: 14.72 | E50: 13.84 | F50: 15.24 | G50: 14.78 | H50: 14.24 | I50: 15.42 | J50: 14.66 | K50: 14.6
A51: 5 | B51: 15.4 | C51: 14.44 | D51: 14.86 | E51: 14.62 | F51: 15.18 | G51: 14.74 | H51: 14.4 | I51: 15.18 | J51: 14.34 | K51: 14.62
A52: 6 | B52: 14.5 | C52: 14.18 | D52: 14.5 | E52: 14.68 | F52: 14.92 | G52: 14.8 | H52: 15.1 | I52: 14.2 | J52: 14.68 | K52: 14.36
A53: 7 | B53: 14.18 | C53: 14.58 | D53: 13.58 | E53: 14.2 | F53: 15.34 | G53: 14.2 | H53: 15.24 | I53: 14.28 | J53: 13.86 | K53: 14.34
A54: 8 | B54: 14.36 | C54: 13.56 | D54: 13.46 | E54: 13.8 | F54: 14.82 | G54: 14.22 | H54: 14.42 | I54: 15.84 | J54: 14.54 | K54: 13.9
A55: 9 | B55: 13.56 | C55: 13.78 | D55: 13.6 | E55: 14.64 | F55: 15 | G55: 14.16 | H55: 14.38 | I55: 14.82 | J55: 14.9 | K55: 14.46
A56: 10 | B56: 14.42 | C56: 14.68 | D56: 14.46 | E56: 14.08 | F56: 15.36 | G56: 14.34 | H56: 15.18 | I56: 14.36 | J56: 14.58 | K56: 13.76
I58: TỔNG | K58: =+SUM(B47:K56) -> 1452.04
A59: XE 5
B60: 1 | C60: 2 | D60: 3 | E60: 4 | F60: 5 | G60: 6 | H60: 7 | I60: 8 | J60: 9 | K60: 10
A61: 1 | B61: 14.6 | C61: 14.96 | D61: 15.7 | E61: 15.36 | F61: 14.12 | G61: 14.68 | H61: 14.08 | I61: 15.26 | J61: 15.4 | K61: 15.06
A62: 2 | B62: 14.72 | C62: 15.38 | D62: 14.64 | E62: 14.78 | F62: 14.46 | G62: 15.28 | H62: 14.16 | I62: 14.82 | J62: 15.02 | K62: 14.48
A63: 3 | B63: 15.06 | C63: 14.78 | D63: 14.78 | E63: 15.46 | F63: 13.96 | G63: 14.7 | H63: 14.24 | I63: 15 | J63: 15.76 | K63: 15.38
A64: 4 | B64: 13.68 | C64: 15.44 | D64: 15.66 | E64: 14.94 | F64: 14 | G64: 14.72 | H64: 14.38 | I64: 14.52 | J64: 14.78 | K64: 15.12
A65: 5 | B65: 13.8 | C65: 15.02 | D65: 15.38 | E65: 15.04 | F65: 14.28 | G65: 14.04 | H65: 14.2 | I65: 15.46 | J65: 14.84 | K65: 14.96
A66: 6 | B66: 13.92 | C66: 15.66 | D66: 14 | E66: 14.44 | F66: 14.66 | G66: 15.2 | H66: 13.88 | I66: 15.32 | J66: 14.7 | K66: 14.78
A67: 7 | B67: 14 | C67: 14.48 | D67: 15.18 | E67: 14.34 | F67: 14.8 | G67: 14.22 | H67: 13.98 | I67: 14.7 | J67: 14.8 | K67: 14.62
A68: 8 | B68: 14.48 | C68: 13.92 | D68: 14.96 | E68: 14.28 | F68: 14.14 | G68: 14.12 | H68: 13.82 | I68: 14.48 | J68: 14.84 | K68: 14.3
A69: 9 | B69: 14.34 | C69: 15.08 | D69: 15.5 | E69: 13.94 | F69: 14.08 | G69: 14.36 | H69: 14.66 | I69: 14.78 | J69: 15.48 | K69: 13.92
A70: 10 | B70: 14.28 | C70: 15.28 | D70: 15.46 | E70: 14.16 | F70: 14.52 | G70: 14.58 | H70: 14.74 | I70: 14.6 | J70: 14.66 | K70: 14.64
A71: 11
I73: TỔNG | K73: =+SUM(B61:K71) -> 1468.42
A74: XE 6
B75: 1 | C75: 2 | D75: 3 | E75: 4 | F75: 5 | G75: 6 | H75: 7 | I75: 8 | J75: 9 | K75: 10
A76: 1 | B76: 24.1 | C76: 28.05 | D76: 23.06 | E76: 22.8 | F76: 24.08
A77: 2 | B77: 25.3 | C77: 24.86 | D77: 25.6 | E77: 23.12 | F77: 24.14
A78: 3 | B78: 24.2 | C78: 24.5 | D78: 23.86 | E78: 23.88 | F78: 24.94
A79: 4 | B79: 23.4 | C79: 23.9 | D79: 23.75 | E79: 25.1 | F79: 24.98
A80: 5 | B80: 24.52 | C80: 23 | D80: 25.1 | E80: 25.1 | F80: 24.26
A81: 6 | B81: 24.42 | C81: 24.94 | D81: 23.38 | E81: 24.28 | F81: 24.7
A82: 7 | B82: 25.08 | C82: 24.72 | D82: 24.5 | E82: 24.72 | F82: 23.9
A83: 8 | B83: 24.44 | C83: 26.52 | D83: 22.78 | E83: 24.42 | F83: 24.5
A84: 9 | B84: 25.2 | C84: 25.58 | D84: 24.2 | E84: 24.04 | F84: 24.34
A85: 10 | B85: 24.76 | C85: 23.52 | D85: 25.08 | E85: 24.1 | F85: 24.3
I87: TỔNG | K87: =+SUM(B76:K85) -> 1222.02
A89: XE 7
B90: 1 | C90: 2 | D90: 3 | E90: 4 | F90: 5 | G90: 6 | H90: 7 | I90: 8 | J90: 9 | K90: 10
A91: 1 | B91: 14.6 | C91: 14.96 | D91: 15.7 | E91: 15.36 | F91: 14.12 | G91: 14.68 | H91: 14.08 | I91: 15.26 | J91: 15.4 | K91: 15.06
A92: 2 | B92: 14.72 | C92: 15.38 | D92: 14.64 | E92: 14.78 | F92: 14.46 | G92: 15.28 | H92: 14.16 | I92: 14.82 | J92: 15.02 | K92: 14.48
A93: 3 | B93: 15.06 | C93: 14.78 | D93: 14.78 | E93: 15.46 | F93: 13.96 | G93: 14.7 | H93: 14.24 | I93: 15 | J93: 15.76 | K93: 15.38
A94: 4 | B94: 13.68 | C94: 15.44 | D94: 15.66 | E94: 14.94 | F94: 14 | G94: 14.72 | H94: 14.38 | I94: 14.52 | J94: 14.78 | K94: 15.12
A95: 5 | B95: 13.8 | C95: 15.02 | D95: 15.38 | E95: 15.04 | F95: 14.28 | G95: 14.04 | H95: 14.2 | I95: 15.46 | J95: 14.84 | K95: 14.46
A96: 6 | B96: 13.92 | C96: 15.66 | D96: 14 | E96: 14.44 | F96: 14.66 | G96: 15.2 | H96: 13.88 | I96: 15.32 | J96: 14.7 | K96: 14.78
A97: 7 | B97: 14 | C97: 14.48 | D97: 15.18 | E97: 14.34 | F97: 14.8 | G97: 14.22 | H97: 13.98 | I97: 14.7 | J97: 14.8 | K97: 14.62
A98: 8 | B98: 14.48 | C98: 13.92 | D98: 14.96 | E98: 14.28 | F98: 14.14 | G98: 14.12 | H98: 13.82 | I98: 14.48 | J98: 14.84 | K98: 14.3
A99: 9 | B99: 14.34 | C99: 15.08 | D99: 15.5 | E99: 13.94 | F99: 14.08 | G99: 14.36 | H99: 14.66 | I99: 14.78 | J99: 15.48 | K99: 13.92
A100: 10 | B100: 14.28 | C100: 15.28 | D100: 15.46 | E100: 14.16 | F100: 14.52 | G100: 14.58 | H100: 14.74 | I100: 14.6 | J100: 14.66 | K100: 14.64
I102: TỔNG | K102: =+SUM(B91:K100) -> 1467.92

Sheet NGAY 21-01
A1: XE 1 - GÀ
B2: 1 | C2: 2 | D2: 3 | E2: 4 | F2: 5 | G2: 6 | H2: 7 | I2: 8 | J2: 9 | K2: 10
A3: 1 | B3: 13.56 | C3: 13.18 | D3: 14.32 | E3: 14.38 | F3: 14.12 | G3: 13.88 | H3: 14.68 | I3: 14.04 | J3: 14.52 | K3: 14.38
A4: 2 | B4: 13.8 | C4: 13.76 | D4: 13.7 | E4: 14.4 | F4: 14.04 | G4: 13.6 | H4: 13.78 | I4: 14.5 | J4: 14.24 | K4: 14.24
A5: 3 | B5: 14.14 | C5: 13.94 | D5: 14.42 | E5: 14.74 | F5: 13.54 | G5: 14.1 | H5: 16.32 | I5: 14.14 | J5: 14.6 | K5: 14.48
A6: 4 | B6: 14.18 | C6: 13.86 | D6: 13.92 | E6: 14.86 | F6: 14.18 | G6: 13.18 | H6: 13.48 | I6: 14.2 | J6: 14.14 | K6: 14.32
A7: 5 | B7: 14 | C7: 13.26 | D7: 13.48 | E7: 14.46 | F7: 13.5 | G7: 15.66 | H7: 15.66 | I7: 14.1 | J7: 14.32 | K7: 14.1
A8: 6 | B8: 14.32 | C8: 13.92 | D8: 14.22 | E8: 14.44 | F8: 14.28 | G8: 14.32 | H8: 14.32 | I8: 14.32 | J8: 14.22 | K8: 14.42
A9: 7 | B9: 14.54 | C9: 13.6 | D9: 13.94 | E9: 13.84 | F9: 14.1 | G9: 14.18 | H9: 15.06 | I9: 14.46 | J9: 14.12 | K9: 14.06
A10: 8 | B10: 14.16 | C10: 14.4 | D10: 14.1 | E10: 13.7 | F10: 14.44 | G10: 14.22 | H10: 14.48 | I10: 14.64 | J10: 14.64 | K10: 14.54
A11: 9 | B11: 13.94 | C11: 14.58 | D11: 14.6 | E11: 14.16 | F11: 13.9 | G11: 13.18 | H11: 15.74 | I11: 13.7 | J11: 14.46 | K11: 14.34
A12: 10 | B12: 13.98 | C12: 14.4 | D12: 14.44 | E12: 14.72 | F12: 14.28 | G12: 14.32 | H12: 14.24 | I12: 13.6 | J12: 14.5 | K12: 14.18
I14: TỔNG | K14: =+SUM(B3:K12) -> 1421.66
A15: XE 2 - Mỡ
B16: 1 | C16: 2 | D16: 3 | E16: 4 | F16: 5 | G16: 6 | H16: 7 | I16: 8 | J16: 9 | K16: 10
A17: 1 | B17: 14.26 | C17: 13.82 | D17: 14.46 | E17: 14.64 | F17: 13.84 | G17: 14.28 | H17: 14.88 | I17: 14.94 | J17: 14.32 | K17: 14.12
A18: 2 | B18: 15.22 | C18: 14.88 | D18: 14.62 | E18: 14.24 | F18: 14.16 | G18: 14.62 | H18: 14.04 | I18: 14.22 | J18: 14.38 | K18: 13.94
A19: 3 | B19: 15.06 | C19: 15 | D19: 14.28 | E19: 14.24 | F19: 13.8 | G19: 14.72 | H19: 14.18 | I19: 14.08 | J19: 14.48 | K19: 14.44
A20: 4 | B20: 14.18 | C20: 13.86 | D20: 14.14 | E20: 14.98 | F20: 13.78 | G20: 13.92 | H20: 14.18 | I20: 14 | J20: 14.22 | K20: 14.51
A21: 5 | B21: 14.22 | C21: 13.92 | D21: 13.94 | E21: 15.02 | F21: 14.42 | G21: 14.52 | H21: 14.24 | I21: 14.92 | J21: 14.34 | K21: 14.66
A22: 6 | B22: 14.22 | C22: 13.72 | D22: 14.36 | E22: 14.94 | F22: 14.46 | G22: 14.66 | H22: 16.2 | I22: 14.84 | J22: 14.48 | K22: 14.12
A23: 7 | B23: 14.72 | C23: 14.57 | D23: 14.84 | E23: 14.96 | F23: 14.28 | G23: 14.98 | H23: 14.84 | I23: 14.81 | J23: 14.25 | K23: 14.66
A24: 8 | B24: 14.6 | C24: 14.62 | D24: 14.7 | E24: 14.84 | F24: 14.66 | G24: 14.17 | H24: 14.66 | I24: 14.66 | J24: 14.62 | K24: 14.38
A25: 9 | B25: 15.06 | C25: 14.74 | D25: 14.64 | E25: 14.71 | F25: 14.6 | G25: 14.65 | H25: 14.62 | I25: 14.68 | J25: 14.84 | K25: 14.32
A26: 10 | B26: 14.28 | C26: 14.3 | D26: 14.77 | E26: 14.36 | F26: 13.5 | G26: 14.22 | H26: 16.36 | I26: 14.74 | J26: 14.14 | K26: 14.98
A27: 11
I29: TỔNG | K29: =+SUM(B17:K27) -> 1449.46
A30: XE 3
B31: 1 | C31: 2 | D31: 3 | E31: 4 | F31: 5 | G31: 6 | H31: 7 | I31: 8 | J31: 9 | K31: 10
A32: 1
A33: 2
A34: 3
A35: 4
A36: 5
A37: 6
A38: 7
A39: 8
A40: 9
A41: 10
I43: TỔNG | K43: =+SUM(B32:K41) -> 0

Sheet NGAY 23-01
A1: XE 1 - GÀ
B2: 1 | C2: 2 | D2: 3 | E2: 4 | F2: 5 | G2: 6 | H2: 7 | I2: 8 | J2: 9 | K2: 10
A3: 1 | B3: 14.7 | C3: 14.5 | D3: 14.6 | E3: 13.62 | F3: 13.82 | G3: 14.08 | H3: 14.16 | I3: 14 | J3: 14.38 | K3: 14.76
A4: 2 | B4: 14.54 | C4: 14.6 | D4: 14.28 | E4: 13.92 | F4: 13.54 | G4: 13.82 | H4: 13.6 | I4: 14.36 | J4: 14.6 | K4: 14.64
A5: 3 | B5: 14.5 | C5: 14.3 | D5: 14.14 | E5: 13.72 | F5: 14.02 | G5: 14.52 | H5: 14.6 | I5: 14.1 | J5: 13.62 | K5: 14.48
A6: 4 | B6: 14.58 | C6: 14.4 | D6: 14.06 | E6: 14.02 | F6: 13.58 | G6: 13.62 | H6: 13.8 | I6: 13.88 | J6: 14.42 | K6: 14.32
A7: 5 | B7: 14.96 | C7: 14.48 | D7: 14.02 | E7: 14.56 | F7: 14.32 | G7: 14.22 | H7: 13.68 | I7: 14.32 | J7: 14.36 | K7: 14.6
A8: 6 | B8: 14.24 | C8: 14.98 | D8: 14.02 | E8: 13.78 | F8: 14.36 | G8: 14 | H8: 14.16 | I8: 15.06 | J8: 14.42 | K8: 14.06
A9: 7 | B9: 14.3 | C9: 14.74 | D9: 14.02 | E9: 13.92 | F9: 13.68 | G9: 14.18 | H9: 14.86 | I9: 13.86 | J9: 14.14 | K9: 14.34
A10: 8 | B10: 14.3 | C10: 14.26 | D10: 14.3 | E10: 13.9 | F10: 13.94 | G10: 13.64 | H10: 13.86 | I10: 13.9 | J10: 14.88 | K10: 13.86
A11: 9 | B11: 14.56 | C11: 14.3 | D11: 14.3 | E11: 14.44 | F11: 14.16 | G11: 14.54 | H11: 14.48 | I11: 13.98 | J11: 13.92 | K11: 14.56
A12: 10 | B12: 13.58 | C12: 14.36 | D12: 13.96 | E12: 13.32 | F12: 14.06 | G12: 13.92 | H12: 14.46 | I12: 13.5 | J12: 14.06 | K12: 14.32
I14: TỔNG | K14: =+SUM(B3:K12) -> 1419.46
A15: XE 2 - Mỡ
B16: 1 | C16: 2 | D16: 3 | E16: 4 | F16: 5 | G16: 6 | H16: 7 | I16: 8 | J16: 9 | K16: 10
A17: 1 | B17: 13.28 | C17: 12.56 | D17: 14.64 | E17: 14.2 | F17: 14.24 | G17: 14.18 | H17: 14.4 | I17: 14.72 | J17: 14.24 | K17: 13.94
A18: 2 | B18: 13.48 | C18: 12.74 | D18: 13.98 | E18: 14.4 | F18: 14.06 | G18: 14.26 | H18: 14.46 | I18: 14.12 | J18: 14.22 | K18: 14.48
A19: 3 | B19: 13.46 | C19: 13.56 | D19: 13.98 | E19: 14.24 | F19: 14.8 | G19: 13.72 | H19: 14.28 | I19: 14.74 | J19: 14.4 | K19: 13.84
A20: 4 | B20: 14.14 | C20: 12.76 | D20: 14.48 | E20: 13.88 | F20: 14.64 | G20: 14.06 | H20: 13.28 | I20: 15.56 | J20: 13.78 | K20: 14.1
A21: 5 | B21: 12.38 | C21: 12.44 | D21: 14.2 | E21: 14.58 | F21: 14.32 | G21: 14.54 | H21: 14.74 | I21: 13.02 | J21: 13.94 | K21: 13.24
A22: 6 | B22: 13.16 | C22: 12.84 | D22: 14.32 | E22: 14.3 | F22: 13.48 | G22: 14.32 | H22: 14.2 | I22: 13.94 | J22: 14.2 | K22: 14.72
A23: 7 | B23: 13.68 | C23: 14.36 | D23: 14.4 | E23: 14 | F23: 14.32 | G23: 13.36 | H23: 14.98 | I23: 13.62 | J23: 13.54 | K23: 14.54
A24: 8 | B24: 13.28 | C24: 12.92 | D24: 14.2 | E24: 14.46 | F24: 14.64 | G24: 14.74 | H24: 13.99 | I24: 14.02 | J24: 13.62 | K24: 12.22
A25: 9 | B25: 12.8 | C25: 12.58 | D25: 14.26 | E25: 14.18 | F25: 14.72 | G25: 14.56 | H25: 14.66 | I25: 14.2 | J25: 14.34 | K25: 14.34
A26: 10 | B26: 12.86 | C26: 12.62 | D26: 14.08 | E26: 14.52 | F26: 14.2 | G26: 14.1 | H26: 14.48 | I26: 14.68 | J26: 13.48 | K26: 14.14
A27: 11
I29: TỔNG | K29: =+SUM(B17:K27) -> 1397.87
A30: XE 3
B31: 1 | C31: 2 | D31: 3 | E31: 4 | F31: 5 | G31: 6 | H31: 7 | I31: 8 | J31: 9 | K31: 10
A32: 1
A33: 2
A34: 3
A35: 4
A36: 5
A37: 6
A38: 7
A39: 8
A40: 9
A41: 10
I43: TỔNG | K43: =+SUM(B32:K41) -> 0

Sheet NGAY 24-01
A1: XE 1 - GÀ
B2: 1 | C2: 2 | D2: 3 | E2: 4 | F2: 5 | G2: 6 | H2: 7 | I2: 8 | J2: 9 | K2: 10
A3: 1 | B3: 13.8 | C3: 14.16 | D3: 14.32 | E3: 13.64 | F3: 15.06 | G3: 14.66 | H3: 14.08 | I3: 13.94 | J3: 14.44 | K3: 14.7
A4: 2 | B4: 14 | C4: 14.62 | D4: 14.06 | E4: 14.26 | F4: 13.74 | G4: 14.58 | H4: 14.68 | I4: 14.14 | J4: 14.6 | K4: 14.2
A5: 3 | B5: 14.12 | C5: 13.06 | D5: 14.28 | E5: 14.36 | F5: 14.46 | G5: 14.28 | H5: 14.5 | I5: 14.06 | J5: 14.22 | K5: 14.02
A6: 4 | B6: 14.3 | C6: 14.26 | D6: 14.44 | E6: 14.42 | F6: 14.24 | G6: 14.24 | H6: 14.3 | I6: 14.22 | J6: 13.96 | K6: 14.16
A7: 5 | B7: 14.56 | C7: 14.42 | D7: 14.34 | E7: 15.08 | F7: 13.26 | G7: 14.5 | H7: 14.8 | I7: 13.8 | J7: 14.48 | K7: 14.36
A8: 6 | B8: 12.88 | C8: 14.4 | D8: 14.4 | E8: 14.14 | F8: 14.72 | G8: 14.32 | H8: 14 | I8: 15.92 | J8: 14.2 | K8: 14.22
A9: 7 | B9: 13.88 | C9: 14.42 | D9: 13.68 | E9: 13.6 | F9: 14.3 | G9: 14.46 | H9: 13.74 | I9: 14.36 | J9: 13.88 | K9: 14.36
A10: 8 | B10: 14.7 | C10: 14.4 | D10: 12.9 | E10: 14.6 | F10: 14.14 | G10: 14.24 | H10: 13.72 | I10: 14.42 | J10: 14.3 | K10: 14.34
A11: 9 | B11: 14.36 | C11: 14.3 | D11: 14.34 | E11: 14 | F11: 14.38 | G11: 14 | H11: 13.92 | I11: 14.82 | J11: 14.7 | K11: 14.36
A12: 10 | B12: 14.36 | C12: 14.32 | D12: 13.6 | E12: 14.5 | F12: 14.86 | G12: 14.02 | H12: 14.08 | I12: 14.44 | J12: 14.22 | K12: 14.4
I14: TỔNG | K14: =+SUM(B3:K12) -> 1424.8
A15: XE 2 - Mỡ
B16: 1 | C16: 2 | D16: 3 | E16: 4 | F16: 5 | G16: 6 | H16: 7 | I16: 8 | J16: 9 | K16: 10
A17: 1 | B17: 14.1 | C17: 14.18 | D17: 15.14 | E17: 14.14 | F17: 14.32 | G17: 14.32 | H17: 14.4 | I17: 14.62 | J17: 14.5 | K17: 14.28
A18: 2 | B18: 14.26 | C18: 14.34 | D18: 15.28 | E18: 14.32 | F18: 14.46 | G18: 13.98 | H18: 14.34 | I18: 14.4 | J18: 14.22 | K18: 14.16
A19: 3 | B19: 14.52 | C19: 14.8 | D19: 14.02 | E19: 13.44 | F19: 14.62 | G19: 13.52 | H19: 14.54 | I19: 14.1 | J19: 14 | K19: 14.42
A20: 4 | B20: 14.62 | C20: 14.44 | D20: 14.54 | E20: 14.4 | F20: 14.92 | G20: 14.04 | H20: 14.12 | I20: 14.4 | J20: 14.48 | K20: 14.42
A21: 5 | B21: 14.38 | C21: 14.26 | D21: 14.34 | E21: 14.28 | F21: 14.26 | G21: 14.82 | H21: 14.06 | I21: 14.56 | J21: 14.22 | K21: 14.46
A22: 6 | B22: 14.54 | C22: 14.58 | D22: 14.4 | E22: 14.22 | F22: 14.66 | G22: 14.98 | H22: 13.98 | I22: 14.24 | J22: 14.48 | K22: 14.32
A23: 7 | B23: 14.56 | C23: 14.64 | D23: 14.02 | E23: 14.92 | F23: 14.52 | G23: 14.98 | H23: 14.8 | I23: 14.36 | J23: 14 | K23: 14.28
A24: 8 | B24: 15.12 | C24: 14.34 | D24: 14.68 | E24: 14.06 | F24: 14.5 | G24: 14.42 | H24: 14.54 | I24: 14.4 | J24: 14.56 | K24: 14.54
A25: 9 | B25: 15.06 | C25: 14.52 | D25: 14.02 | E25: 14.22 | F25: 14.88 | G25: 14.14 | H25: 14.54 | I25: 14.38 | J25: 14.4 | K25: 14.34
A26: 10 | B26: 14.28 | C26: 14.74 | D26: 13.8 | E26: 14.5 | F26: 14.6 | G26: 14.52 | H26: 14.68 | I26: 14.9 | J26: 14.64 | K26: 14.42
A27: 11
I29: TỔNG | K29: =+SUM(B17:K27) -> 1441.98
A30: XE 3
B31: 1 | C31: 2 | D31: 3 | E31: 4 | F31: 5 | G31: 6 | H31: 7 | I31: 8 | J31: 9 | K31: 10
A32: 1 | B32: 13.98 | C32: 14.46 | D32: 13.18 | E32: 13.38 | F32: 12.54 | G32: 12.66 | H32: 13.13 | I32: 14.58 | J32: 13.06 | K32: 14.72
A33: 2 | B33: 14.34 | C33: 13.54 | D33: 14.22 | E33: 13.12 | F33: 13.06 | G33: 12.94 | H33: 14.36 | I33: 14.12 | J33: 14.34 | K33: 14.4
A34: 3 | B34: 13.94 | C34: 13.9 | D34: 13.7 | E34: 12.64 | F34: 13.34 | G34: 13.6 | H34: 14.32 | I34: 13.7 | J34: 14.1 | K34: 14.24
A35: 4 | B35: 14.84 | C35: 14.28 | D35: 13.94 | E35: 13.76 | F35: 12.92 | G35: 12.8 | H35: 14.68 | I35: 13.66 | J35: 14.76 | K35: 14.26
A36: 5 | B36: 14.4 | C36: 14.5 | D36: 14.14 | E36: 14.06 | F36: 13.02 | G36: 13.32 | H36: 13.7 | I36: 14.22 | J36: 13.8 | K36: 14.42
A37: 6 | B37: 13.98 | C37: 13.64 | D37: 13.22 | E37: 13.98 | F37: 13.1 | G37: 13.74 | H37: 14.88 | I37: 14.12 | J37: 14.88 | K37: 14.66
A38: 7 | B38: 13.62 | C38: 14.9 | D38: 12.94 | E38: 12.98 | F38: 13.26 | G38: 13.4 | H38: 14.08 | I38: 13.54 | J38: 13.84 | K38: 16.34
A39: 8 | B39: 14.48 | C39: 13.32 | D39: 13.28 | E39: 13.52 | F39: 12.58 | G39: 13.1 | H39: 14.72 | I39: 14.76 | J39: 15.18 | K39: 14.02
A40: 9 | B40: 14.4 | C40: 12.82 | D40: 12.34 | E40: 16.44 | F40: 12.8 | G40: 13.52 | H40: 14.12 | I40: 13.96 | J40: 14.48 | K40: 14.16
A41: 10 | B41: 14.3 | C41: 13.08 | D41: 13.1 | E41: 12.54 | F41: 13.12 | G41: 13.24 | H41: 13.9 | I41: 13.92 | J41: 13.78 | K41: 14.5
I43: TỔNG | K43: =+SUM(B32:K41) -> 1383.67
A45: XE 4
B46: 1 | C46: 2 | D46: 3 | E46: 4 | F46: 5 | G46: 6 | H46: 7 | I46: 8 | J46: 9 | K46: 10
A47: 1 | B47: 14.42 | C47: 13.98 | D47: 13.98 | E47: 14.32 | F47: 13.72 | G47: 14.04 | H47: 13.76 | I47: 14.38 | J47: 14.66 | K47: 14
A48: 2 | B48: 14.5 | C48: 14.56 | D48: 14.56 | E48: 14.12 | F48: 15 | G48: 14.2 | H48: 13.12 | I48: 14.52 | J48: 14.48 | K48: 14.56
A49: 3 | B49: 14.3 | C49: 14 | D49: 14.48 | E49: 14.04 | F49: 12.9 | G49: 13.5 | H49: 13.06 | I49: 14.42 | J49: 14.76 | K49: 14.38
A50: 4 | B50: 14.28 | C50: 14.12 | D50: 15.3 | E50: 14.42 | F50: 13.6 | G50: 13.66 | H50: 13.84 | I50: 14 | J50: 13.28 | K50: 14
A51: 5 | B51: 14.72 | C51: 14.24 | D51: 14.26 | E51: 14.38 | F51: 14.02 | G51: 14.16 | H51: 15.04 | I51: 14.24 | J51: 14.42 | K51: 14.46
A52: 6 | B52: 14.12 | C52: 15.12 | D52: 14.16 | E52: 14.06 | F52: 14.3 | G52: 13.98 | H52: 14.2 | I52: 14.16 | J52: 14.02 | K52: 13.5
A53: 7 | B53: 15.24 | C53: 14.93 | D53: 14.3 | E53: 13.8 | F53: 14.4 | G53: 13.36 | H53: 13.86 | I53: 14.68 | J53: 14.54 | K53: 14.1
A54: 8 | B54: 14.46 | C54: 14.74 | D54: 14.2 | E54: 14.36 | F54: 14.24 | G54: 14.34 | H54: 14.24 | I54: 14 | J54: 14.18 | K54: 13.48
A55: 9 | B55: 14.22 | C55: 13.66 | D55: 14.84 | E55: 14.24 | F55: 14.26 | G55: 14.06 | H55: 14.08 | I55: 15.12 | J55: 14.64 | K55: 14.36
A56: 10 | B56: 15.06 | C56: 14.62 | D56: 14.42 | E56: 14.32 | F56: 13.84 | G56: 14.44 | H56: 14.38 | I56: 14.6 | J56: 13.12 | K56: 13.94
I58: TỔNG | K58: =+SUM(B47:K56) -> 1422.45
A60: XE 5
B61: 1 | C61: 2 | D61: 3 | E61: 4 | F61: 5 | G61: 6 | H61: 7 | I61: 8 | J61: 9 | K61: 10
A62: 1 | B62: 13.6 | C62: 15 | D62: 13.9 | E62: 14.52 | F62: 14.64 | G62: 14.66 | H62: 13.92 | I62: 13.94 | J62: 14.18 | K62: 12.8
A63: 2 | B63: 14.2 | C63: 14.52 | D63: 14.8 | E63: 14.6 | F63: 14.6 | G63: 14.54 | H63: 13.72 | I63: 14.32 | J63: 14.42 | K63: 14.68
A64: 3 | B64: 13.5 | C64: 15.1 | D64: 14.18 | E64: 14.14 | F64: 14.74 | G64: 14.46 | H64: 14.58 | I64: 14.12 | J64: 13.76 | K64: 13.94
A65: 4 | B65: 13.78 | C65: 14.12 | D65: 14.88 | E65: 14.92 | F65: 14.76 | G65: 14.74 | H65: 14.84 | I65: 14.22 | J65: 13.48 | K65: 13
A66: 5 | B66: 14 | C66: 14.16 | D66: 15.02 | E66: 15.16 | F66: 13.7 | G66: 14.78 | H66: 14.64 | I66: 14.58 | J66: 14.04 | K66: 13
A67: 6 | B67: 13.56 | C67: 14.28 | D67: 13.96 | E67: 13.98 | F67: 14.4 | G67: 15.1 | H67: 15.04 | I67: 14.46 | J67: 14.24 | K67: 12.78
A68: 7 | B68: 14.9 | C68: 13.72 | D68: 13.46 | E68: 14.32 | F68: 14.56 | G68: 13.64 | H68: 14.26 | I68: 13.98 | J68: 13.86 | K68: 13.26
A69: 8 | B69: 13.66 | C69: 14.26 | D69: 14.78 | E69: 14.2 | F69: 14.48 | G69: 14.68 | H69: 14.84 | I69: 13.8 | J69: 14.28 | K69: 14.66
A70: 9 | B70: 14.6 | C70: 13.64 | D70: 14.74 | E70: 14.48 | F70: 14.76 | G70: 15.64 | H70: 14.9 | I70: 14.2 | J70: 14.42 | K70: 13.8
A71: 10 | B71: 14.74 | C71: 13.9 | D71: 14.38 | E71: 14.82 | F71: 14.34 | G71: 13.82 | H71: 14.06 | I71: 16.68 | J71: 14.18 | K71: 13.34
I73: TỔNG | K73: =+SUM(B62:K71) -> 1428.74
A75: XE 6
B76: 1 | C76: 2 | D76: 3 | E76: 4 | F76: 5 | G76: 6 | H76: 7 | I76: 8 | J76: 9 | K76: 10
A77: 1 | B77: 13.86 | C77: 14.56 | D77: 14.38 | E77: 14.72 | F77: 14.36 | G77: 14.44 | H77: 14.56 | I77: 14.64 | J77: 13.6 | K77: 14.16
A78: 2 | B78: 14.24 | C78: 14.28 | D78: 14.44 | E78: 13.78 | F78: 14.78 | G78: 14.04 | H78: 13.86 | I78: 14.44 | J78: 14.5 | K78: 13.8
A79: 3 | B79: 14.46 | C79: 14.32 | D79: 14.64 | E79: 13.46 | F79: 14.54 | G79: 14.38 | H79: 14.96 | I79: 14.64 | J79: 13.76 | K79: 13.16
A80: 4 | B80: 14.76 | C80: 13.62 | D80: 13.52 | E80: 14.96 | F80: 14.06 | G80: 14.46 | H80: 13.96 | I80: 14.5 | J80: 13.68 | K80: 14.78
A81: 5 | B81: 14.34 | C81: 14.44 | D81: 14.34 | E81: 14.06 | F81: 14.84 | G81: 13.9 | H81: 14.16 | I81: 14.46 | J81: 13.98 | K81: 14.36
A82: 6 | B82: 13.96 | C82: 13.86 | D82: 13.88 | E82: 14.02 | F82: 14.34 | G82: 14.66 | H82: 14.28 | I82: 12.68 | J82: 13.96 | K82: 14.84
A83: 7 | B83: 13.72 | C83: 14.36 | D83: 14.26 | E83: 14.84 | F83: 13.9 | G83: 13.94 | H83: 13.58 | I83: 13.96 | J83: 14.4 | K83: 14.36
A84: 8 | B84: 14.14 | C84: 13.38 | D84: 13.88 | E84: 14.22 | F84: 14 | G84: 14.78 | H84: 14.6 | I84: 14.4 | J84: 13.96 | K84: 14.5
A85: 9 | B85: 14.78 | C85: 14.94 | D85: 14.24 | E85: 14.04 | F85: 14.3 | G85: 14.18 | H85: 13.38 | I85: 13.8 | J85: 14.34 | K85: 13.96
A86: 10 | B86: 14.26 | C86: 14.38 | D86: 14.48 | E86: 13.86 | F86: 14.68 | G86: 14.04 | H86: 13.9 | I86: 13.26 | J86: 13.62 | K86: 14.32
I88: TỔNG | K88: =+SUM(B77:K86) -> 1419.36

Sheet NGAY 26-01
A1: XE 1 - GÀ
B2: 1 | C2: 2 | D2: 3 | E2: 4 | F2: 5 | G2: 6 | H2: 7 | I2: 8 | J2: 9 | K2: 10
A3: 1 | B3: 14.3 | C3: 13.36 | D3: 13.82 | E3: 14.62 | F3: 14.32 | G3: 12.56 | H3: 12.52 | I3: 13.18 | J3: 13.86 | K3: 14.52
A4: 2 | B4: 15.28 | C4: 14.84 | D4: 13.52 | E4: 14.34 | F4: 12.76 | G4: 14.3 | H4: 12.96 | I4: 14 | J4: 14.86 | K4: 14.3
A5: 3 | B5: 13.82 | C5: 14.18 | D5: 14.34 | E5: 14 | F5: 14.38 | G5: 12.5 | H5: 12.7 | I5: 13.96 | J5: 14.22 | K5: 14.54
A6: 4 | B6: 14.28 | C6: 13.6 | D6: 14.5 | E6: 13.9 | F6: 14.38 | G6: 12.44 | H6: 12.74 | I6: 13.46 | J6: 14.02 | K6: 14.48
A7: 5 | B7: 14.14 | C7: 13.82 | D7: 13.18 | E7: 14.4 | F7: 13.96 | G7: 12.48 | H7: 13.46 | I7: 14.74 | J7: 14.9 | K7: 14.38
A8: 6 | B8: 14.46 | C8: 14.1 | D8: 13.92 | E8: 14.26 | F8: 14.46 | G8: 14.02 | H8: 13.12 | I8: 14.1 | J8: 14.7 | K8: 14.82
A9: 7 | B9: 13.8 | C9: 14.3 | D9: 14.14 | E9: 14.14 | F9: 14.1 | G9: 12.98 | H9: 12.82 | I9: 14.22 | J9: 14.02 | K9: 13.44
A10: 8 | B10: 14.54 | C10: 14.7 | D10: 14.2 | E10: 14.36 | F10: 12.94 | G10: 13.46 | H10: 12.24 | I10: 14.68 | J10: 14.76 | K10: 13.32
A11: 9 | B11: 14.24 | C11: 14.52 | D11: 14.84 | E11: 14.82 | F11: 12.66 | G11: 14.16 | H11: 12.76 | I11: 14.34 | J11: 14.52 | K11: 13.74
A12: 10 | B12: 13.78 | C12: 14.4 | D12: 14.3 | E12: 14 | F12: 13 | G12: 13.22 | H12: 12.48 | I12: 14.04 | J12: 13.86 | K12: 14.8
I14: TỔNG | K14: =+SUM(B3:K12) -> 1391.72
A15: XE 2
B16: 1 | C16: 2 | D16: 3 | E16: 4 | F16: 5 | G16: 6 | H16: 7 | I16: 8 | J16: 9 | K16: 10
A17: 1 | B17: 14.3 | C17: 14.18 | D17: 14.06 | E17: 13 | F17: 13.94 | G17: 12.76 | H17: 14.74 | I17: 14.1 | J17: 14.58 | K17: 13.7
A18: 2 | B18: 14.76 | C18: 13.521 | D18: 14.74 | E18: 14.64 | F18: 13.28 | G18: 14.16 | H18: 13.72 | I18: 13.88 | J18: 15.32 | K18: 14.5
A19: 3 | B19: 14.14 | C19: 13.82 | D19: 13.56 | E19: 14.18 | F19: 14.4 | G19: 14.22 | H19: 14.18 | I19: 14.5 | J19: 14.8 | K19: 13.3
A20: 4 | B20: 14.34 | C20: 14.32 | D20: 14.28 | E20: 13.52 | F20: 14.28 | G20: 13.24 | H20: 13.9 | I20: 14.16 | J20: 15.12 | K20: 13.74
A21: 5 | B21: 14.26 | C21: 14.12 | D21: 14.38 | E21: 13.12 | F21: 14.04 | G21: 13.74 | H21: 13.84 | I21: 14.36 | J21: 13.8 | K21: 14.42
A22: 6 | B22: 13.56 | C22: 14.22 | D22: 14.58 | E22: 13.1 | F22: 12.88 | G22: 14.2 | H22: 14.3 | I22: 14.74 | J22: 14.12 | K22: 14.48
A23: 7 | B23: 13.8 | C23: 13.4 | D23: 13.92 | E23: 14.12 | F23: 12.56 | G23: 14.08 | H23: 14.64 | I23: 14.94 | J23: 13.88 | K23: 14.4
A24: 8 | B24: 14.4 | C24: 13.78 | D24: 14.28 | E24: 14.38 | F24: 13.74 | G24: 14.74 | H24: 14.22 | I24: 14 | J24: 14.28 | K24: 13.98
A25: 9 | B25: 14.32 | C25: 14.28 | D25: 13.14 | E25: 14.52 | F25: 14.18 | G25: 13.66 | H25: 14.8 | I25: 15.06 | J25: 15.285 | K25: 13.9
A26: 10 | B26: 14.18 | C26: 14.28 | D26: 13.74 | E26: 14.06 | F26: 13.64 | G26: 14.48 | H26: 14.58 | I26: 14.54 | J26: 13.96 | K26: 14.16
A27: 11
I29: TỔNG | K29: =+SUM(B17:K27) -> 1410.446
A30: XE 3
B31: 1 | C31: 2 | D31: 3 | E31: 4 | F31: 5 | G31: 6 | H31: 7 | I31: 8 | J31: 9 | K31: 10
A32: 1 | B32: 14.3 | C32: 13.66 | D32: 14.48 | E32: 14.34 | F32: 14.14 | G32: 14.48 | H32: 13.5 | I32: 13.68 | J32: 13.3 | K32: 14.62
A33: 2 | B33: 14.42 | C33: 14.32 | D33: 14.3 | E33: 14.28 | F33: 14.4 | G33: 14.48 | H33: 14.12 | I33: 13.78 | J33: 14.44 | K33: 14.88
A34: 3 | B34: 14.5 | C34: 13.1 | D34: 14.34 | E34: 14.42 | F34: 14.32 | G34: 14.42 | H34: 14.08 | I34: 13.74 | J34: 14.56 | K34: 14.7
A35: 4 | B35: 14.52 | C35: 14.52 | D35: 14.36 | E35: 14.32 | F35: 14.34 | G35: 14.26 | H35: 14.76 | I35: 14.26 | J35: 13.74 | K35: 13.82
A36: 5 | B36: 14.32 | C36: 14.36 | D36: 14.28 | E36: 14.5 | F36: 14.14 | G36: 14.2 | H36: 13.78 | I36: 15.16 | J36: 13.7 | K36: 14.1
A37: 6 | B37: 13.96 | C37: 14.1 | D37: 14.14 | E37: 14.04 | F37: 14.12 | G37: 13.88 | H37: 14.86 | I37: 14.22 | J37: 13.94 | K37: 14.38
A38: 7 | B38: 15.04 | C38: 14.32 | D38: 14.36 | E38: 14.3 | F38: 14.2 | G38: 14.2 | H38: 14.42 | I38: 14.38 | J38: 14.8 | K38: 13.98
A39: 8 | B39: 14.06 | C39: 15 | D39: 14.52 | E39: 14.08 | F39: 14.44 | G39: 14.08 | H39: 14.4 | I39: 14.52 | J39: 13.56 | K39: 13.86
A40: 9 | B40: 15.06 | C40: 14.1 | D40: 14.46 | E40: 14.1 | F40: 14.46 | G40: 13.8 | H40: 14.2 | I40: 14.72 | J40: 13.62 | K40: 12.72
A41: 10 | B41: 15.08 | C41: 13.44 | D41: 14.6 | E41: 14.62 | F41: 14.58 | G41: 14.1 | H41: 13.8 | I41: 13.92 | J41: 13.9 | K41: 14.36
I43: TỔNG | K43: =+SUM(B32:K41) -> 1423.34
A45: XE 4
B46: 1 | C46: 2 | D46: 3 | E46: 4 | F46: 5 | G46: 6 | H46: 7 | I46: 8 | J46: 9 | K46: 10
A47: 1 | B47: 13.98 | C47: 14.68 | D47: 14.54 | E47: 14.4 | F47: 14.54 | G47: 13.68 | H47: 14.36 | I47: 14.76 | J47: 14.96 | K47: 14.42
A48: 2 | B48: 14.06 | C48: 14.4 | D48: 14.14 | E48: 14.06 | F48: 14.22 | G48: 14.46 | H48: 14.02 | I48: 14.1 | J48: 14.04 | K48: 14.86
A49: 3 | B49: 14.16 | C49: 14.34 | D49: 13.86 | E49: 14.26 | F49: 14.26 | G49: 13.98 | H49: 14.68 | I49: 14.88 | J49: 14.18 | K49: 14.32
A50: 4 | B50: 14.62 | C50: 14.58 | D50: 14.2 | E50: 14.1 | F50: 14.1 | G50: 14.4 | H50: 15.18 | I50: 14.64 | J50: 14.26 | K50: 14.64
A51: 5 | B51: 14.14 | C51: 14.84 | D51: 12.26 | E51: 14.12 | F51: 13.92 | G51: 14.44 | H51: 14.3 | I51: 15.48 | J51: 14 | K51: 14.72
A52: 6 | B52: 14.68 | C52: 14.12 | D52: 14.44 | E52: 14.34 | F52: 14.22 | G52: 13.42 | H52: 14.46 | I52: 14.82 | J52: 14.38 | K52: 14.92
A53: 7 | B53: 14.32 | C53: 12.16 | D53: 14.08 | E53: 14.02 | F53: 13.54 | G53: 13.5 | H53: 14.64 | I53: 14.72 | J53: 14.14 | K53: 14.88
A54: 8 | B54: 14.5 | C54: 13.96 | D54: 14.34 | E54: 14.44 | F54: 13.98 | G54: 14.3 | H54: 14.8 | I54: 14.42 | J54: 14.16 | K54: 14.8
A55: 9 | B55: 14.12 | C55: 14.04 | D55: 14.22 | E55: 14.4 | F55: 14.96 | G55: 15.02 | H55: 14.18 | I55: 14.6 | J55: 14.88 | K55: 14.92
A56: 10 | B56: 14.46 | C56: 14.24 | D56: 14.14 | E56: 14.12 | F56: 14.32 | G56: 15.04 | H56: 14.3 | I56: 14.52 | J56: 15.42 | K56: 15.12
I58: TỔNG | K58: =+SUM(B47:K56) -> 1435.06
A59: XE 5
B60: 1 | C60: 2 | D60: 3 | E60: 4 | F60: 5 | G60: 6 | H60: 7 | I60: 8 | J60: 9 | K60: 10
A61: 1 | B61: 14.68 | C61: 14.1 | D61: 14.2 | E61: 14.58 | F61: 14.62 | G61: 14.42 | H61: 14.46 | I61: 14.42 | J61: 15.12 | K61: 14.7
A62: 2 | B62: 14.38 | C62: 14.26 | D62: 14.62 | E62: 14.22 | F62: 14.38 | G62: 14.36 | H62: 14.64 | I62: 14.16 | J62: 14.68 | K62: 14.74
A63: 3 | B63: 14.36 | C63: 14.1 | D63: 14.38 | E63: 14.28 | F63: 14.56 | G63: 14.4 | H63: 15.18 | I63: 13.34 | J63: 13.8 | K63: 14.44
A64: 4 | B64: 14.52 | C64: 14.26 | D64: 14.22 | E64: 14.48 | F64: 14.66 | G64: 14.52 | H64: 14.42 | I64: 15.84 | J64: 14.64 | K64: 14.58
A65: 5 | B65: 14.22 | C65: 14.2 | D65: 14.4 | E65: 14.46 | F65: 14.56 | G65: 14.42 | H65: 14.4 | I65: 14.26 | J65: 14.58 | K65: 14.76
A66: 6 | B66: 14.2 | C66: 14.36 | D66: 14.36 | E66: 14.42 | F66: 14.58 | G66: 14.1 | H66: 14.42 | I66: 15.2 | J66: 14.12 | K66: 14.78
A67: 7 | B67: 14.54 | C67: 14.24 | D67: 14.28 | E67: 14.46 | F67: 14.38 | G67: 14.62 | H67: 14.02 | I67: 14.74 | J67: 15.46 | K67: 15
A68: 8 | B68: 14.6 | C68: 14.5 | D68: 14.32 | E68: 14.52 | F68: 14.46 | G68: 14.4 | H68: 14.44 | I68: 14.14 | J68: 14.48 | K68: 14.6
A69: 9 | B69: 14.22 | C69: 14.38 | D69: 14.36 | E69: 14.36 | F69: 14.64 | G69: 14.48 | H69: 14.6 | I69: 14.1 | J69: 14.7 | K69: 15.34
A70: 10 | B70: 13.98 | C70: 14.42 | D70: 13.26 | E70: 14.18 | F70: 14.36 | G70: 14.26 | H70: 14.76 | I70: 14.14 | J70: 14.48 | K70: 14.02
A71: 11
I73: TỔNG | K73: =+SUM(B61:K71) -> 1444.76
A74: XE 6
B75: 1 | C75: 2 | D75: 3 | E75: 4 | F75: 5 | G75: 6 | H75: 7 | I75: 8 | J75: 9 | K75: 10
A76: 1 | B76: 14.24 | C76: 14.58 | D76: 14.28 | E76: 14.28 | F76: 14.38 | G76: 14.34 | H76: 14.32 | I76: 14.88 | J76: 14.92 | K76: 15.42
A77: 2 | B77: 14.44 | C77: 14.24 | D77: 14.44 | E77: 14.5 | F77: 13.68 | G77: 14.64 | H77: 15.04 | I77: 15.3 | J77: 15.4 | K77: 15.88
A78: 3 | B78: 14.44 | C78: 14.64 | D78: 14.26 | E78: 14.34 | F78: 14.16 | G78: 13.68 | H78: 14.42 | I78: 15.12 | J78: 15.28 | K78: 15.46
A79: 4 | B79: 14.56 | C79: 14.82 | D79: 14.52 | E79: 14.78 | F79: 14.46 | G79: 14.98 | H79: 13.8 | I79: 14.44 | J79: 14.82 | K79: 13.9
A80: 5 | B80: 14.38 | C80: 14.4 | D80: 14.44 | E80: 14.38 | F80: 13.34 | G80: 14.4 | H80: 15.26 | I80: 14.76 | J80: 15.04 | K80: 15.72
A81: 6 | B81: 14.4 | C81: 14.46 | D81: 14.38 | E81: 13.66 | F81: 14.14 | G81: 14.36 | H81: 13.74 | I81: 14.84 | J81: 14.98 | K81: 15.08
A82: 7 | B82: 14.46 | C82: 14.24 | D82: 14.36 | E82: 14.28 | F82: 14.2 | G82: 13.54 | H82: 13.46 | I82: 15.16 | J82: 15.14 | K82: 14.12
A83: 8 | B83: 14.5 | C83: 14.72 | D83: 14.78 | E83: 14.96 | F83: 13.54 | G83: 13.5 | H83: 13.94 | I83: 14.76 | J83: 14.58 | K83: 14.84
A84: 9 | B84: 14.2 | C84: 14.28 | D84: 14.52 | E84: 14.3 | F84: 14.24 | G84: 14.04 | H84: 14.46 | I84: 14.54 | J84: 15.64 | K84: 15.24
A85: 10 | B85: 13.44 | C85: 14.18 | D85: 14.34 | E85: 14.34 | F85: 14.42 | G85: 13.98 | H85: 13.34 | I85: 14.78 | J85: 15.5 | K85: 15.44
I87: TỔNG | K87: =+SUM(B76:K85) -> 1450.54

Sheet NGAY 27-01
A1: XE 1 - GÀ
B2: 1 | C2: 2 | D2: 3 | E2: 4 | F2: 5 | G2: 6 | H2: 7 | I2: 8 | J2: 9 | K2: 10
A3: 1 | B3: 14.26 | C3: 14.34 | D3: 14.58 | E3: 14.14 | F3: 14.16 | G3: 14.4 | H3: 15.22 | I3: 14.28 | J3: 14.36 | K3: 14.34
A4: 2 | B4: 14.36 | C4: 14.38 | D4: 14.24 | E4: 14.8 | F4: 14.94 | G4: 14.42 | H4: 14.266 | I4: 14.64 | J4: 14.58 | K4: 14
A5: 3 | B5: 14.14 | C5: 14.2 | D5: 14.38 | E5: 14.32 | F5: 14.66 | G5: 14.38 | H5: 14.3 | I5: 14.46 | J5: 14.62 | K5: 14.2
A6: 4 | B6: 13.98 | C6: 14.8 | D6: 13.32 | E6: 14.4 | F6: 14.56 | G6: 15.36 | H6: 15.98 | I6: 14.48 | J6: 14.26 | K6: 15.04
A7: 5 | B7: 14.36 | C7: 14.44 | D7: 14.42 | E7: 14.44 | F7: 14.36 | G7: 14.48 | H7: 14.94 | I7: 14.44 | J7: 15.44 | K7: 14.44
A8: 6 | B8: 14.4 | C8: 12.88 | D8: 14.32 | E8: 14.78 | F8: 14.56 | G8: 15 | H8: 14.34 | I8: 14.46 | J8: 15.12 | K8: 15.98
A9: 7 | B9: 13.46 | C9: 14.28 | D9: 14.4 | E9: 14.4 | F9: 14.24 | G9: 14.3 | H9: 14.62 | I9: 14.36 | J9: 14.28 | K9: 15.32
A10: 8 | B10: 14.4 | C10: 14.42 | D10: 14.38 | E10: 14.44 | F10: 14.82 | G10: 14.66 | H10: 14.54 | I10: 14.36 | J10: 14.36 | K10: 14.7
A11: 9 | B11: 14.34 | C11: 14.46 | D11: 14.18 | E11: 14.66 | F11: 14.48 | G11: 14.4 | H11: 14.32 | I11: 15.38 | J11: 15.44 | K11: 14.26
A12: 10 | B12: 14.38 | C12: 14.4 | D12: 14.44 | E12: 14.44 | F12: 15.26 | G12: 14.54 | H12: 14.8 | I12: 14.84 | J12: 14.34 | K12: 14.18
I14: TỔNG | K14: =+SUM(B3:K12) -> 1450.426
A15: XE 2 - Mỡ
B16: 1 | C16: 2 | D16: 3 | E16: 4 | F16: 5 | G16: 6 | H16: 7 | I16: 8 | J16: 9 | K16: 10
A17: 1 | B17: 24.3 | C17: 22.8 | D17: 23.06 | E17: 23.52 | F17: 24.76
A18: 2 | B18: 24.34 | C18: 23.2 | D18: 25.6 | E18: 25.58 | F18: 25.2
A19: 3 | B19: 24.52 | C19: 25.1 | D19: 23.75 | E19: 26.52 | F19: 24.44
A20: 4 | B20: 24.7 | C20: 25.1 | D20: 25.1 | E20: 24.72 | F20: 25.08
A21: 5 | B21: 23.9 | C21: 24.72 | D21: 23.38 | E21: 24.94 | F21: 24.52
A22: 6 | B22: 24.26 | C22: 24.42 | D22: 24.5 | E22: 23 | F22: 23.4
A23: 7 | B23: 24.98 | C23: 24.04 | D23: 22.78 | E23: 23.9
A24: 8 | B24: 24.94 | C24: 24.1 | D24: 24.2 | E24: 24.5
A25: 9 | B25: 24.14 | C25: 22.8 | D25: 25.08 | E25: 24.86
A26: 10 | B26: 24.08 | C26: 23.12 | D26: 22.92 | E26: 28.05
A27: 11 | B27: 24.94 | C27: 23.88 | D27: 25.6 | E27: 24.1
I29: TỔNG | K29: =+SUM(B17:K27) -> 1219.44
A30: XE 3
B31: 1 | C31: 2 | D31: 3 | E31: 4 | F31: 5 | G31: 6 | H31: 7 | I31: 8 | J31: 9 | K31: 10
A32: 1 | B32: 16.94 | C32: 14.26 | D32: 13.98 | E32: 14.6 | F32: 14.44 | G32: 14.38 | H32: 14.5 | I32: 14.22 | J32: 14.22 | K32: 14.76
A33: 2 | B33: 15.5 | C33: 15.2 | D33: 13.94 | E33: 14.58 | F33: 14.28 | G33: 14.38 | H33: 14.56 | I33: 14.94 | J33: 14.3 | K33: 14.54
A34: 3 | B34: 15.74 | C34: 15 | D34: 14.24 | E34: 14.66 | F34: 14.24 | G34: 14.28 | H34: 14.78 | I34: 14.36 | J34: 14.58 | K34: 14.48
A35: 4 | B35: 15.34 | C35: 14.78 | D35: 14.96 | E35: 14.5 | F35: 14.78 | G35: 14.5 | H35: 15.26 | I35: 12.94 | J35: 14.42 | K35: 13.96
A36: 5 | B36: 15.36 | C36: 14.32 | D36: 14.6 | E36: 14.42 | F36: 14.36 | G36: 14.62 | H36: 15.22 | I36: 16.5 | J36: 14.38 | K36: 14.44
A37: 6 | B37: 14.98 | C37: 15.22 | D37: 15.18 | E37: 14.3 | F37: 14.42 | G37: 14.8 | H37: 15.44 | I37: 14.32 | J37: 14.04 | K37: 14.38
A38: 7 | B38: 14.54 | C38: 14.64 | D38: 14.3 | E38: 14.7 | F38: 14.3 | G38: 14.28 | H38: 15.66 | I38: 15.3 | J38: 14.28 | K38: 14.24
A39: 8 | B39: 15.86 | C39: 15.2 | D39: 14.1 | E39: 14.48 | F39: 14.5 | G39: 14.82 | H39: 15.34 | I39: 14.54 | J39: 14.24 | K39: 14.6
A40: 9 | B40: 14.36 | C40: 14.32 | D40: 14.54 | E40: 14.82 | F40: 14.32 | G40: 14.48 | H40: 15.32 | I40: 14.4 | J40: 13.72 | K40: 14.76
A41: 10 | B41: 15.12 | C41: 15.18 | D41: 14.74 | E41: 14.36 | F41: 14.38 | G41: 14.58 | H41: 14.38 | I41: 14.66 | J41: 14.04 | K41: 12.96
I43: TỔNG | K43: =+SUM(B32:K41) -> 1462.98

Sheet NGAY 28-01
A1: XE 1 - GÀ
B2: 1 | C2: 2 | D2: 3 | E2: 4 | F2: 5 | G2: 6 | H2: 7 | I2: 8 | J2: 9 | K2: 10
A3: 1 | B3: 14.16 | C3: 13.8 | D3: 14.24 | E3: 14.24 | F3: 14.16 | G3: 13.74 | H3: 14.32 | I3: 14.6 | J3: 14.46 | K3: 14.42
A4: 2 | B4: 14.24 | C4: 15.32 | D4: 14.16 | E4: 14.4 | F4: 14.5 | G4: 14.42 | H4: 14.86 | I4: 14.44 | J4: 14.56 | K4: 14.56
A5: 3 | B5: 14.56 | C5: 14.34 | D5: 14.32 | E5: 13.9 | F5: 14.14 | G5: 14.13 | H5: 14.18 | I5: 14.6 | J5: 14.78 | K5: 14.7
A6: 4 | B6: 14.44 | C6: 15.2 | D6: 14.36 | E6: 14.38 | F6: 14.4 | G6: 14.18 | H6: 14.34 | I6: 14.14 | J6: 14.6 | K6: 14.18
A7: 5 | B7: 14.52 | C7: 14.18 | D7: 14.38 | E7: 14.14 | F7: 14.34 | G7: 14.1 | H7: 14.3 | I7: 14.18 | J7: 14.56 | K7: 14.6
A8: 6 | B8: 15.02 | C8: 14.5 | D8: 14.26 | E8: 14.26 | F8: 14.14 | G8: 14.02 | H8: 14.02 | I8: 14.16 | J8: 14.5 | K8: 14.76
A9: 7 | B9: 15.1 | C9: 14.28 | D9: 14.36 | E9: 14.18 | F9: 14.24 | G9: 14.4 | H9: 14.34 | I9: 15.22 | J9: 14.58 | K9: 14.4
A10: 8 | B10: 14.7 | C10: 14.28 | D10: 14.3 | E10: 14.4 | F10: 14.14 | G10: 14.54 | H10: 14.42 | I10: 14.06 | J10: 14.02 | K10: 14.24
A11: 9 | B11: 14.16 | C11: 12.92 | D11: 14.52 | E11: 14.32 | F11: 17.02 | G11: 13.78 | H11: 14.4 | I11: 14.56 | J11: 14.26 | K11: 14.46
A12: 10 | B12: 13.28 | C12: 14.32 | D12: 14.26 | E12: 14.36 | F12: 14.22 | G12: 14.06 | H12: 14.22 | I12: 14.68 | J12: 14.7 | K12: 14.5
I14: TỔNG | K14: =+SUM(B3:K12) -> 1437.61
A15: XE 2 - Mỡ
B16: 1 | C16: 2 | D16: 3 | E16: 4 | F16: 5 | G16: 6 | H16: 7 | I16: 8 | J16: 9 | K16: 10
A17: 1 | B17: 14.24 | C17: 14.4 | D17: 14.28 | E17: 14.72 | F17: 14.4 | G17: 14.68 | H17: 14.28 | I17: 14.56 | J17: 14.6 | K17: 14.8
A18: 2 | B18: 14.38 | C18: 14.36 | D18: 14.78 | E18: 14.36 | F18: 14.46 | G18: 15.66 | H18: 14.6 | I18: 14.72 | J18: 14.36 | K18: 14.56
A19: 3 | B19: 14.26 | C19: 14.42 | D19: 14.48 | E19: 14.2 | F19: 14.52 | G19: 14.58 | H19: 14.44 | I19: 14.34 | J19: 14.68 | K19: 14.54
A20: 4 | B20: 14.24 | C20: 14.28 | D20: 14.66 | E20: 14.18 | F20: 14.48 | G20: 14.48 | H20: 14.64 | I20: 14.56 | J20: 14.74 | K20: 14.56
A21: 5 | B21: 14.4 | C21: 14.24 | D21: 12.96 | E21: 14.56 | F21: 14.3 | G21: 14.28 | H21: 14.48 | I21: 14.5 | J21: 15.16 | K21: 14.1
A22: 6 | B22: 14.36 | C22: 14.36 | D22: 14.2 | E22: 14.18 | F22: 14.7 | G22: 14.62 | H22: 14.76 | I22: 14.5 | J22: 15.34 | K22: 14.04
A23: 7 | B23: 14.28 | C23: 14.34 | D23: 14.48 | E23: 14.18 | F23: 14.72 | G23: 13.6 | H23: 14.38 | I23: 14.78 | J23: 14.82 | K23: 14.9
A24: 8 | B24: 14.52 | C24: 14.52 | D24: 13.32 | E24: 14.2 | F24: 14.18 | G24: 14.26 | H24: 14.38 | I24: 14.06 | J24: 15.5 | K24: 14.66
A25: 9 | B25: 14.44 | C25: 14.42 | D25: 14.44 | E25: 14.6 | F25: 15 | G25: 14.24 | H25: 14.56 | I25: 14.74 | J25: 14.46 | K25: 14.1
A26: 10 | B26: 14.4 | C26: 14 | D26: 14.32 | E26: 14.52 | F26: 14.24 | G26: 14.6 | H26: 14.4 | I26: 14.42 | J26: 15.18 | K26: 14.46
A27: 11
I29: TỔNG | K29: =+SUM(B17:K27) -> 1446.14
A30: XE 3
B31: 1 | C31: 2 | D31: 3 | E31: 4 | F31: 5 | G31: 6 | H31: 7 | I31: 8 | J31: 9 | K31: 10
A32: 1
A33: 2
A34: 3
A35: 4
A36: 5
A37: 6
A38: 7
A39: 8
A40: 9
A41: 10
I43: TỔNG | K43: =+SUM(B32:K41) -> 0

Sheet NGAY 29-01
A1: XE 1 - GÀ
B2: 1 | C2: 2 | D2: 3 | E2: 4 | F2: 5 | G2: 6 | H2: 7 | I2: 8 | J2: 9 | K2: 10
A3: 1 | B3: 14.48 | C3: 14.44 | D3: 14.44 | E3: 14.8 | F3: 14.56 | G3: 14.64 | H3: 14.98 | I3: 14.56 | J3: 14 | K3: 14.42
A4: 2 | B4: 14.12 | C4: 14.32 | D4: 14.44 | E4: 14.44 | F4: 14.98 | G4: 14.58 | H4: 14.88 | I4: 14.52 | J4: 14.34 | K4: 14.42
A5: 3 | B5: 14.52 | C5: 14.62 | D5: 14.42 | E5: 14.82 | F5: 14.74 | G5: 15.14 | H5: 14.68 | I5: 14.64 | J5: 14.32 | K5: 14.5
A6: 4 | B6: 14.3 | C6: 14.62 | D6: 14.64 | E6: 14.36 | F6: 15.72 | G6: 13.96 | H6: 13.82 | I6: 15.44 | J6: 13.66 | K6: 14.64
A7: 5 | B7: 15.2 | C7: 14.3 | D7: 14.5 | E7: 14.36 | F7: 14.56 | G7: 14.78 | H7: 15.02 | I7: 15.16 | J7: 14.36 | K7: 14.58
A8: 6 | B8: 14.46 | C8: 14.38 | D8: 14.48 | E8: 14.42 | F8: 15.88 | G8: 14.88 | H8: 14.26 | I8: 14.42 | J8: 14.51 | K8: 14.16
A9: 7 | B9: 14.44 | C9: 14.34 | D9: 14.58 | E9: 14.92 | F9: 15.52 | G9: 14.52 | H9: 14.44 | I9: 14 | J9: 13.92 | K9: 14.48
A10: 8 | B10: 14.7 | C10: 14.2 | D10: 14.338 | E10: 14.92 | F10: 15.44 | G10: 14.06 | H10: 14.98 | I10: 14.36 | J10: 14.46 | K10: 14.78
A11: 9 | B11: 14.38 | C11: 14.08 | D11: 14.3 | E11: 15.02 | F11: 14.54 | G11: 14.58 | H11: 14.22 | I11: 14.38 | J11: 14.6 | K11: 14.04
A12: 10 | B12: 14.44 | C12: 14.68 | D12: 14.6 | E12: 14.62 | F12: 14.22 | G12: 15.26 | H12: 14.38 | I12: 14.28 | J12: 14.56 | K12: 14.48
I14: TỔNG | K14: =+SUM(B3:K12) -> 1455.648
A15: XE 2 - Mỡ
B16: 1 | C16: 2 | D16: 3 | E16: 4 | F16: 5 | G16: 6 | H16: 7 | I16: 8 | J16: 9 | K16: 10
A17: 1 | B17: 14.38 | C17: 15.06 | D17: 14.84 | E17: 14.52 | F17: 14.26 | G17: 14.44 | H17: 14.38 | I17: 14.8 | J17: 14.22 | K17: 14.5
A18: 2 | B18: 14.34 | C18: 15.24 | D18: 14.1 | E18: 14.54 | F18: 14.24 | G18: 14.56 | H18: 14.62 | I18: 14.38 | J18: 14.06 | K18: 14.18
A19: 3 | B19: 14.56 | C19: 14.6 | D19: 14.5 | E19: 14.64 | F19: 14.74 | G19: 14.46 | H19: 14.6 | I19: 14.52 | J19: 14.04 | K19: 14.08
A20: 4 | B20: 14.38 | C20: 13.94 | D20: 14.14 | E20: 14.38 | F20: 14.24 | G20: 14.44 | H20: 14.14 | I20: 14.48 | J20: 14.08 | K20: 14.4
A21: 5 | B21: 14.36 | C21: 14.58 | D21: 14.56 | E21: 14.04 | F21: 14.64 | G21: 14.08 | H21: 14.28 | I21: 14.04 | J21: 14.4 | K21: 14.56
A22: 6 | B22: 14.36 | C22: 14.46 | D22: 14.58 | E22: 14.46 | F22: 14.2 | G22: 14.46 | H22: 14.42 | I22: 14.62 | J22: 14.5 | K22: 15.1
A23: 7 | B23: 14.1 | C23: 15.6 | D23: 14.46 | E23: 14.92 | F23: 14.54 | G23: 14.4 | H23: 14.56 | I23: 15.12 | J23: 15.18 | K23: 14.1
A24: 8 | B24: 14.14 | C24: 14.36 | D24: 14.48 | E24: 14.6 | F24: 14.5 | G24: 14.74 | H24: 14.42 | I24: 14.9 | J24: 14.8 | K24: 14.66
A25: 9 | B25: 14.66 | C25: 14.15 | D25: 14.36 | E25: 14.12 | F25: 14.24 | G25: 13.96 | H25: 15.5 | I25: 14.2 | J25: 14.38 | K25: 14.66
A26: 10 | B26: 14.58 | C26: 15.12 | D26: 14.48 | E26: 14.74 | F26: 14.34 | G26: 14.46 | H26: 15.36 | I26: 14.34 | J26: 14.46 | K26: 14.4
A27: 11
I29: TỔNG | K29: =+SUM(B17:K27) -> 1448.81
A30: XE 3
B31: 1 | C31: 2 | D31: 3 | E31: 4 | F31: 5 | G31: 6 | H31: 7 | I31: 8 | J31: 9 | K31: 10
A32: 1 | B32: 14.7 | C32: 14.9 | D32: 14.9 | E32: 15.1 | F32: 15 | G32: 15.2 | H32: 14.9 | I32: 15.3 | J32: 15.1 | K32: 15.1
A33: 2 | B33: 14.8 | C33: 15.3 | D33: 15.2 | E33: 15 | F33: 15 | G33: 15 | H33: 15.2 | I33: 15.2 | J33: 14.9 | K33: 15.1
A34: 3 | B34: 15.3 | C34: 14.8 | D34: 15.4 | E34: 15.2 | F34: 15.4 | G34: 15.3 | H34: 15.2 | I34: 15.3 | J34: 15 | K34: 15.1
A35: 4 | B35: 15 | C35: 14.8 | D35: 14.8 | E35: 14.9 | F35: 15.1 | G35: 15 | H35: 15.8 | I35: 15.5 | J35: 15.1 | K35: 15
A36: 5 | B36: 14.6 | C36: 15.2 | D36: 15.3 | E36: 15.2 | F36: 15.1 | G36: 15.2 | H36: 15.2 | I36: 15.1 | J36: 15 | K36: 15
A37: 6 | B37: 16.1 | C37: 15.1 | D37: 15.1 | E37: 15.5 | F37: 15 | G37: 15.6 | H37: 15 | I37: 14.8 | J37: 15.2 | K37: 15.5
A38: 7 | B38: 15.1 | C38: 15.1 | D38: 14.9 | E38: 14.7 | F38: 14.9 | G38: 15.2 | H38: 15.5 | I38: 16 | J38: 15.2 | K38: 15.2
A39: 8 | B39: 15.2 | C39: 15.3 | D39: 15.1 | E39: 14.9 | F39: 14.7 | G39: 15 | H39: 15.3 | I39: 15.3 | J39: 15 | K39: 15.3
A40: 9 | B40: 15.2 | C40: 14.9 | D40: 15 | E40: 14.7 | F40: 15 | G40: 14.9 | H40: 16.2 | I40: 15.3 | J40: 15.1 | K40: 14.8
A41: 10 | B41: 15.3 | C41: 15.4 | D41: 15.3 | E41: 15.1 | F41: 15.2 | G41: 14.8 | H41: 16.2 | I41: 15.1 | J41: 15 | K41: 14.9
I43: TỔNG | K43: =+SUM(B32:K41) -> 1514

Sheet NGAY 30-01
A1: XE 1 - GÀ
B2: 1 | C2: 2 | D2: 3 | E2: 4 | F2: 5 | G2: 6 | H2: 7 | I2: 8 | J2: 9 | K2: 10
A3: 1 | B3: 14.64 | C3: 14.4 | D3: 14.32 | E3: 14.3 | F3: 14.22 | G3: 14.3 | H3: 14.32 | I3: 14.94 | J3: 14.84 | K3: 14.84
A4: 2 | B4: 14.44 | C4: 14.3 | D4: 14.94 | E4: 14.34 | F4: 13.82 | G4: 14.3 | H4: 14.54 | I4: 14.58 | J4: 14.62 | K4: 14.46
A5: 3 | B5: 14.42 | C5: 15.08 | D5: 14.58 | E5: 14.36 | F5: 14.32 | G5: 14.28 | H5: 14.6 | I5: 14.06 | J5: 14.86 | K5: 15.1
A6: 4 | B6: 14.64 | C6: 14.28 | D6: 14.92 | E6: 14.46 | F6: 13.24 | G6: 14.16 | H6: 14.84 | I6: 14.24 | J6: 15.24 | K6: 15.4
A7: 5 | B7: 14.3 | C7: 15.44 | D7: 14.48 | E7: 14.2 | F7: 14.26 | G7: 14.36 | H7: 14.5 | I7: 13.86 | J7: 14.44 | K7: 13.98
A8: 6 | B8: 14.64 | C8: 14.2 | D8: 14.64 | E8: 14.3 | F8: 14.52 | G8: 13.82 | H8: 14.34 | I8: 14.24 | J8: 13.94 | K8: 14.96
A9: 7 | B9: 14.52 | C9: 13.78 | D9: 14.5 | E9: 14.54 | F9: 14.34 | G9: 14.3 | H9: 14.64 | I9: 14.36 | J9: 13.9 | K9: 14.42
A10: 8 | B10: 14.4 | C10: 14.3 | D10: 14.4 | E10: 13.92 | F10: 14.12 | G10: 14.34 | H10: 14.52 | I10: 14.88 | J10: 15.1 | K10: 14.38
A11: 9 | B11: 15.08 | C11: 14.28 | D11: 14.2 | E11: 14.18 | F11: 14.42 | G11: 14.52 | H11: 14.42 | I11: 15.16 | J11: 15.3 | K11: 15
A12: 10 | B12: 15.14 | C12: 14.7 | D12: 14.46 | E12: 14.18 | F12: 13.36 | G12: 14.32 | H12: 14.82 | I12: 14.3 | J12: 15 | K12: 15.1
I14: TỔNG | K14: =+SUM(B3:K12) -> 1447.56
A15: XE 2 - Mỡ
B16: 1 | C16: 2 | D16: 3 | E16: 4 | F16: 5 | G16: 6 | H16: 7 | I16: 8 | J16: 9 | K16: 10
A17: 1 | B17: 14.9 | C17: 15.78 | D17: 14.48 | E17: 14.46 | F17: 15.22 | G17: 14.26 | H17: 14.46 | I17: 14.46 | J17: 14.16 | K17: 14.56
A18: 2 | B18: 14.92 | C18: 15.06 | D18: 14 | E18: 14.46 | F18: 15.52 | G18: 14.1 | H18: 14.58 | I18: 14.42 | J18: 14.58 | K18: 14.66
A19: 3 | B19: 14.24 | C19: 15 | D19: 14.52 | E19: 14.6 | F19: 15.3 | G19: 13.9 | H19: 14.2 | I19: 14.44 | J19: 14.48 | K19: 14.92
A20: 4 | B20: 14.5 | C20: 15.28 | D20: 14.26 | E20: 14.84 | F20: 15.1 | G20: 14.3 | H20: 14.48 | I20: 14.18 | J20: 14.68 | K20: 14.5
A21: 5 | B21: 14.9 | C21: 15.86 | D21: 13.78 | E21: 14.82 | F21: 15.56 | G21: 14.6 | H21: 14.36 | I21: 14.46 | J21: 14.6 | K21: 14.34
A22: 6 | B22: 14.3 | C22: 14.42 | D22: 13.88 | E22: 14.46 | F22: 14.3 | G22: 14.46 | H22: 14.44 | I22: 13.4 | J22: 14.54 | K22: 14.74
A23: 7 | B23: 14.48 | C23: 14.24 | D23: 13.4 | E23: 14.46 | F23: 14.44 | G23: 13.9 | H23: 14.16 | I23: 14.46 | J23: 14.4 | K23: 14.76
A24: 8 | B24: 14.64 | C24: 15.58 | D24: 14.2 | E24: 14.28 | F24: 14.08 | G24: 14.02 | H24: 14.54 | I24: 14.36 | J24: 14.66 | K24: 14.78
A25: 9 | B25: 13.68 | C25: 15.24 | D25: 14.42 | E25: 14.36 | F25: 14 | G25: 14.18 | H25: 14.46 | I25: 14.34 | J25: 14.46 | K25: 14
A26: 10 | B26: 14.42 | C26: 14.18 | D26: 14.02 | E26: 13.96 | F26: 14.26 | G26: 14.54 | H26: 14.48 | I26: 14.18 | J26: 14.66 | K26: 14.36
A27: 11
I29: TỔNG | K29: =+SUM(B17:K27) -> 1449.02
A30: XE 3
B31: 1 | C31: 2 | D31: 3 | E31: 4 | F31: 5 | G31: 6 | H31: 7 | I31: 8 | J31: 9 | K31: 10
A32: 1 | B32: 14.6 | C32: 14.58 | D32: 14.54 | E32: 14.18 | F32: 15.06 | G32: 15.26 | H32: 15.06 | I32: 14.34 | J32: 14.08 | K32: 14.16
A33: 2 | B33: 14.58 | C33: 14.6 | D33: 14.5 | E33: 13.88 | F33: 15.02 | G33: 14.88 | H33: 16.12 | I33: 14.72 | J33: 14.08 | K33: 14.08
A34: 3 | B34: 14.26 | C34: 14.94 | D34: 14.72 | E34: 14.62 | F34: 14.96 | G34: 14.6 | H34: 14.44 | I34: 14.14 | J34: 14.64 | K34: 14.64
A35: 4 | B35: 14.6 | C35: 14.14 | D35: 14.52 | E35: 14.6 | F35: 14.58 | G35: 14.56 | H35: 14.86 | I35: 14.64 | J35: 14.34 | K35: 14.5
A36: 5 | B36: 14.18 | C36: 14.34 | D36: 14.08 | E36: 14.6 | F36: 14.98 | G36: 15.2 | H36: 15.22 | I36: 14.96 | J36: 14.96 | K36: 14.76
A37: 6 | B37: 14.3 | C37: 14.72 | D37: 14.36 | E37: 14.4 | F37: 14.94 | G37: 15.24 | H37: 14.42 | I37: 14.26 | J37: 14.54 | K37: 14.42
A38: 7 | B38: 14.7 | C38: 14.4 | D38: 14.68 | E38: 14.9 | F38: 14.78 | G38: 15.32 | H38: 14.96 | I38: 14.74 | J38: 14.76 | K38: 15.74
A39: 8 | B39: 15.06 | C39: 13.98 | D39: 14.56 | E39: 15.76 | F39: 14.94 | G39: 14.7 | H39: 15 | I39: 14.26 | J39: 14.56 | K39: 15.12
A40: 9 | B40: 14.44 | C40: 14.64 | D40: 14.4 | E40: 14.36 | F40: 14.72 | G40: 15.06 | H40: 15.16 | I40: 14.4 | J40: 14.56 | K40: 14.34
A41: 10 | B41: 14.36 | C41: 14.46 | D41: 14.18 | E41: 15.04 | F41: 14.58 | G41: 14.98 | H41: 14.68 | I41: 14.34 | J41: 14.16 | K41: 14.56
I43: TỔNG | K43: =+SUM(B32:K41) -> 1464.84
A45: XE 4
B46: 1 | C46: 2 | D46: 3 | E46: 4 | F46: 5 | G46: 6 | H46: 7 | I46: 8 | J46: 9 | K46: 10
A47: 1 | B47: 14.56 | C47: 15.1 | D47: 15.24 | E47: 14.42 | F47: 14.94 | G47: 14.24 | H47: 14.88 | I47: 14.38 | J47: 14.3 | K47: 15.12
A48: 2 | B48: 14.48 | C48: 15.2 | D48: 15.28 | E48: 13.82 | F48: 14.56 | G48: 14.24 | H48: 14.48 | I48: 14.6 | J48: 14.64 | K48: 14.66
A49: 3 | B49: 14.3 | C49: 14.94 | D49: 14.94 | E49: 13.9 | F49: 14.68 | G49: 15.14 | H49: 14.638 | I49: 14.42 | J49: 14.62 | K49: 14.42
A50: 4 | B50: 14.06 | C50: 15.68 | D50: 14.18 | E50: 14.66 | F50: 14.82 | G50: 15.72 | H50: 14.22 | I50: 15.36 | J50: 14.42 | K50: 14.34
A51: 5 | B51: 14.02 | C51: 13.94 | D51: 15.36 | E51: 14.38 | F51: 14.94 | G51: 14.68 | H51: 15.06 | I51: 15.14 | J51: 14.96 | K51: 14.54
A52: 6 | B52: 14.84 | C52: 14.94 | D52: 15.3 | E52: 14.7 | F52: 14.2 | G52: 14.2 | H52: 13.98 | I52: 14.72 | J52: 14.36 | K52: 15.14
A53: 7 | B53: 14.66 | C53: 15 | D53: 15.1 | E53: 14.24 | F53: 14.64 | G53: 14.28 | H53: 14.5 | I53: 14.28 | J53: 14.7 | K53: 14.46
A54: 8 | B54: 14.68 | C54: 15 | D54: 14.98 | E54: 14.62 | F54: 14.54 | G54: 15.38 | H54: 14.4 | I54: 14.54 | J54: 14.6 | K54: 14.34
A55: 9 | B55: 14.74 | C55: 14 | D55: 14.64 | E55: 14.2 | F55: 13.56 | G55: 14.94 | H55: 14.66 | I55: 14.76 | J55: 14.48 | K55: 14.48
A56: 10 | B56: 14.54 | C56: 13.94 | D56: 15.06 | E56: 14.4 | F56: 15.32 | G56: 14.64 | H56: 14.74 | I56: 14.64 | J56: 15.58 | K56: 14.44
I58: TỔNG | K58: =+SUM(B47:K56) -> 1464.698
A59: XE 5
B60: 1 | C60: 2 | D60: 3 | E60: 4 | F60: 5 | G60: 6 | H60: 7 | I60: 8 | J60: 9 | K60: 10
A61: 1 | B61: 14.5 | C61: 14.38 | D61: 14.3 | E61: 14.34 | F61: 14.34 | G61: 14.08 | H61: 15.06 | I61: 15.1 | J61: 14.32 | K61: 14.72
A62: 2 | B62: 14.36 | C62: 14.38 | D62: 14.12 | E62: 14.38 | F62: 14.64 | G62: 14.4 | H62: 15.8 | I62: 15.12 | J62: 14.68 | K62: 14.38
A63: 3 | B63: 14.38 | C63: 14.5 | D63: 13.04 | E63: 14.14 | F63: 14.42 | G63: 15.94 | H63: 14.9 | I63: 13.82 | J63: 13.68 | K63: 14.68
A64: 4 | B64: 14.6 | C64: 14.52 | D64: 14.32 | E64: 14.26 | F64: 14.94 | G64: 14.68 | H64: 14.08 | I64: 14.4 | J64: 14.24 | K64: 14.92
A65: 5 | B65: 14.88 | C65: 14.2 | D65: 14.6 | E65: 13.88 | F65: 14.22 | G65: 14.22 | H65: 14.24 | I65: 14.18 | J65: 14.92 | K65: 14.68
A66: 6 | B66: 14.36 | C66: 14.18 | D66: 13.52 | E66: 14.3 | F66: 14.96 | G66: 14.92 | H66: 15.48 | I66: 14.84 | J66: 14.18 | K66: 14.46
A67: 7 | B67: 13.86 | C67: 14.48 | D67: 14.34 | E67: 14.04 | F67: 13.68 | G67: 14.06 | H67: 15.5 | I67: 14.36 | J67: 14.78 | K67: 14.4
A68: 8 | B68: 14.5 | C68: 14.5 | D68: 14.38 | E68: 14.46 | F68: 14.66 | G68: 14.12 | H68: 14.92 | I68: 14.36 | J68: 14.7 | K68: 14.5
A69: 9 | B69: 14.66 | C69: 14.58 | D69: 14.36 | E69: 13.88 | F69: 15.1 | G69: 15.6 | H69: 14.54 | I69: 14.18 | J69: 14.62 | K69: 14.48
A70: 10 | B70: 14.54 | C70: 14.12 | D70: 14.28 | E70: 13.8 | F70: 15.14 | G70: 15.5 | H70: 14.42 | I70: 14.26 | J70: 14.48 | K70: 13.72
A71: 11
I73: TỔNG | K73: =+SUM(B61:K71) -> 1447.94
A74: XE 6
B75: 1 | C75: 2 | D75: 3 | E75: 4 | F75: 5 | G75: 6 | H75: 7 | I75: 8 | J75: 9 | K75: 10
A76: 1 | B76: 14.36 | C76: 14.76 | D76: 13.68 | E76: 14.36 | F76: 13.84 | G76: 14.38 | H76: 14.4 | I76: 14.46 | J76: 14.4 | K76: 14.22
A77: 2 | B77: 14.04 | C77: 14.14 | D77: 14.56 | E77: 14.5 | F77: 14.28 | G77: 14.2 | H77: 14.46 | I77: 14.44 | J77: 14.04 | K77: 14.42
A78: 3 | B78: 14.42 | C78: 14.26 | D78: 14.8 | E78: 15.3 | F78: 14.14 | G78: 14.38 | H78: 14.36 | I78: 14.44 | J78: 13.66 | K78: 14.26
A79: 4 | B79: 14.36 | C79: 14.28 | D79: 14.68 | E79: 14.76 | F79: 14.5 | G79: 14.16 | H79: 14.38 | I79: 14.82 | J79: 14.26 | K79: 14.22
A80: 5 | B80: 14.38 | C80: 14.68 | D80: 15.3 | E80: 14.16 | F80: 14.42 | G80: 14.26 | H80: 14.52 | I80: 14.4 | J80: 14.34 | K80: 14.42
A81: 6 | B81: 14.68 | C81: 14.38 | D81: 14 | E81: 14.22 | F81: 14.58 | G81: 14.46 | H81: 14.26 | I81: 14.36 | J81: 14.42 | K81: 14.02
A82: 7 | B82: 14.34 | C82: 15.02 | D82: 14.28 | E82: 14.44 | F82: 14.3 | G82: 14.52 | H82: 14.44 | I82: 14 | J82: 14.4 | K82: 13.94
A83: 8 | B83: 14.48 | C83: 15.16 | D83: 15.68 | E83: 14.46 | F83: 14.6 | G83: 14.54 | H83: 14.54 | I83: 14.28 | J83: 14.28 | K83: 14.04
A84: 9 | B84: 14.56 | C84: 14.18 | D84: 14.2 | E84: 14.42 | F84: 14.12 | G84: 14.72 | H84: 14.64 | I84: 14.6 | J84: 14.46 | K84: 14.14
A85: 10 | B85: 14.14 | C85: 14.88 | D85: 14.74 | E85: 14.18 | F85: 13.7 | G85: 14.58 | H85: 14.28 | I85: 14.14 | J85: 14.5 | K85: 14.56
I87: TỔNG | K87: =+SUM(B76:K85) -> 1440.12

Sheet NGAY 31-01
A1: XE 1 - GÀ
B2: 1 | C2: 2 | D2: 3 | E2: 4 | F2: 5 | G2: 6 | H2: 7 | I2: 8 | J2: 9 | K2: 10
A3: 1 | B3: 13.82 | C3: 14.12 | D3: 14.08 | E3: 14.46 | F3: 14.04 | G3: 14.38 | H3: 14.42 | I3: 14.82 | J3: 14.34 | K3: 14.62
A4: 2 | B4: 14.24 | C4: 14.52 | D4: 14.92 | E4: 14.36 | F4: 14.2 | G4: 14.36 | H4: 13.84 | I4: 14.36 | J4: 14.24 | K4: 15
A5: 3 | B5: 14.06 | C5: 13.84 | D5: 14.74 | E5: 14.58 | F5: 14.02 | G5: 14.28 | H5: 14.62 | I5: 13.58 | J5: 14.68 | K5: 14.52
A6: 4 | B6: 14.4 | C6: 14.76 | D6: 13.6 | E6: 14.46 | F6: 14.18 | G6: 14.18 | H6: 14.38 | I6: 14.34 | J6: 14.1 | K6: 15.1
A7: 5 | B7: 13.44 | C7: 15.46 | D7: 14.4 | E7: 14.26 | F7: 14.24 | G7: 14.68 | H7: 14.62 | I7: 14.84 | J7: 14.18 | K7: 14.62
A8: 6 | B8: 14.6 | C8: 14 | D8: 14.8 | E8: 14.52 | F8: 14.4 | G8: 14.36 | H8: 14 | I8: 14.3 | J8: 13.92 | K8: 13.82
A9: 7 | B9: 14.62 | C9: 14.64 | D9: 14.42 | E9: 14.4 | F9: 14.42 | G9: 14.38 | H9: 14.3 | I9: 14.24 | J9: 14.8 | K9: 14.7
A10: 8 | B10: 14.54 | C10: 14.3 | D10: 15.04 | E10: 14.16 | F10: 14.22 | G10: 14.4 | H10: 15.2 | I10: 14.7 | J10: 14.46 | K10: 15.02
A11: 9 | B11: 14.1 | C11: 14.56 | D11: 14.64 | E11: 14.4 | F11: 14.16 | G11: 14.42 | H11: 14.98 | I11: 14.52 | J11: 14.78 | K11: 14.86
A12: 10 | B12: 14.46 | C12: 13.32 | D12: 15.1 | E12: 15.54 | F12: 14.36 | G12: 14.08 | H12: 15.12 | I12: 14.34 | J12: 14.38 | K12: 14.86
I14: TỔNG | K14: =+SUM(B3:K12) -> 1442.96
A15: XE 2 - Mỡ
B16: 1 | C16: 2 | D16: 3 | E16: 4 | F16: 5 | G16: 6 | H16: 7 | I16: 8 | J16: 9 | K16: 10
A17: 1 | B17: 14.58 | C17: 14.34 | D17: 14.22 | E17: 14.11 | F17: 14.5 | G17: 14.18 | H17: 14.24 | I17: 13.82 | J17: 13.82 | K17: 14.22
A18: 2 | B18: 14.5 | C18: 15.28 | D18: 14.12 | E18: 15.72 | F18: 14.38 | G18: 14.34 | H18: 14.34 | I18: 13.28 | J18: 13.58 | K18: 14.62
A19: 3 | B19: 14.2 | C19: 14.32 | D19: 14.74 | E19: 14.7 | F19: 14.48 | G19: 14.4 | H19: 14.14 | I19: 14.28 | J19: 14.08 | K19: 14.88
A20: 4 | B20: 14.18 | C20: 14.28 | D20: 13.62 | E20: 14.22 | F20: 14.42 | G20: 13.84 | H20: 14.2 | I20: 14.46 | J20: 14 | K20: 13.78
A21: 5 | B21: 13.28 | C21: 14.18 | D21: 14.68 | E21: 14.22 | F21: 13.98 | G21: 13.98 | H21: 13.7 | I21: 13.9 | J21: 13.8 | K21: 13.5
A22: 6 | B22: 13.38 | C22: 14.18 | D22: 14.22 | E22: 14.72 | F22: 13.86 | G22: 14.1 | H22: 14.363 | I22: 14 | J22: 14.16 | K22: 14.46
A23: 7 | B23: 14.1 | C23: 14.52 | D23: 14.1 | E23: 14.06 | F23: 13.62 | G23: 14.28 | H23: 13.82 | I23: 13.84 | J23: 13.44 | K23: 14.42
A24: 8 | B24: 14.28 | C24: 15.26 | D24: 14.68 | E24: 13.94 | F24: 13.92 | G24: 14.34 | H24: 14.5 | I24: 14.6 | J24: 14.9 | K24: 13.32
A25: 9 | B25: 15.22 | C25: 14.6 | D25: 14.3 | E25: 13.5 | F25: 14.46 | G25: 14.62 | H25: 13.6 | I25: 13.46 | J25: 14.54 | K25: 14.24
A26: 10 | B26: 14.26 | C26: 15.06 | D26: 14.52 | E26: 14.34 | F26: 13.72 | G26: 13.92 | H26: 13.4 | I26: 14.46 | J26: 14.14 | K26: 13.6
A27: 11
I29: TỔNG | K29: =+SUM(B17:K27) -> 1419.973
A30: XE 3
B31: 1 | C31: 2 | D31: 3 | E31: 4 | F31: 5 | G31: 6 | H31: 7 | I31: 8 | J31: 9 | K31: 10
A32: 1
A33: 2
A34: 3
A35: 4
A36: 5
A37: 6
A38: 7
A39: 8
A40: 9
A41: 10
I43: TỔNG | K43: =+SUM(B32:K41) -> 0

Sheet TỔNG HỢP
A1: Tổng Giò | B1: Tổng Gà
A2: =B4+B6+B8+B10+B12 -> 13165.17 | B2: =B5+B7+B9+B11+B13 -> 22739.61
B3: Tổng hợp T12 | C3: Ngày 01-12 | D3: Ngày 02-12 | E3: Ngày 03-12 | F3: Ngày 04-12 | H3: Ngày 10-12 | I3: Ngày 12-12 | L3: Ngày 15-12 | P3: Ngày 19-12 | Q3: Ngày 22-12 | R3: Ngày 26-12 | S3: Ngày 29-12 | U3: Ngày 31-12
A4: Xe 1 - Giò | B4: =+SUM(C4:XFD4) -> 7321.03 | C4: ='NGAY 01-12'!K28 -> 1813.9 | E4: 1250.98 | H4: ='NGAY 10-12'!K28 -> 1803.7 | Q4: ='NGAY 22-12'!K29 -> 1225.78 | U4: ='NGAY 31-12'!K14 -> 1226.67
A5: Xe 1 - Gà | B5: =+SUM(C5:XFD5) -> 13254.19 | C5: ='NGAY 01-12'!K14 -> 1511.25 | D5: 1527.5 | F5: ='NGAY 04-12'!K14 -> 1524.7 | H5: ='NGAY 10-12'!K14 -> 1516.7 | L5: 1453.67 | P5: ='NGAY 19-12'!K15 -> 1447.5 | Q5: ='NGAY 22-12'!K14 -> 1417.2 | R5: ='NGAY 26-12'!K14 -> 1435.19 | S5: ='NGAY 29-12'!K14 -> 1420.48
A6: Xe 2 - Giò | B6: =+SUM(C6:XFD6) -> 5127.19 | C6: ='NGAY 01-12'!K42 -> 716.62 | D6: 1814.2 | E6: 1226.79 | H6: ='NGAY 10-12'!K42 -> 1369.58
A7: Xe 2 - Gà | B7: =+SUM(C7:XFD7) -> 4966.76 | H7: ='NGAY 10-12'!K56 -> 599.8 | I7: 1450.08 | R7: ='NGAY 26-12'!K29 -> 1468.88 | S7: ='NGAY 29-12'!K29 -> 1448
A8: Xe 3 - Giò | B8: =+SUM(C8:XFD8) -> 716.95 | D8: 716.95
A9: Xe 3 - Gà | B9: =+SUM(C9:XFD9) -> 1477.16 | I9: 1477.16
A10: Xe 4 - Giò | B10: =+SUM(C10:XFD10) -> 0
A11: Xe 4 - Gà | B11: =+SUM(C11:XFD11) -> 1515.4 | D11: 1515.4
A12: Xe 5 - Giò | B12: =+SUM(C12:XFD12) -> 0
A13: Xe 5 - Gà | B13: =+SUM(C13:XFD13) -> 1526.1 | D13: 1526.1
A14: TỔNG HỢP | B14: =SUM(B4:B13) -> 35904.78 | C14: =SUM(C4:C13) -> 4041.77 | D14: =SUM(D4:D13) -> 7100.15 | E14: =SUM(E4:E13) -> 2477.77 | F14: =SUM(F4:F13) -> 1524.7 | H14: =SUM(H4:H13) -> 5289.78 | I14: =SUM(I4:I13) -> 2927.24 | L14: =SUM(L4:L13) -> 1453.67 | P14: =SUM(P4:P13) -> 1447.5 | Q14: =SUM(Q4:Q13) -> 2642.98 | R14: =SUM(R4:R13) -> 2904.07 | S14: =SUM(S4:S13) -> 2868.48 | U14: =SUM(U4:U13) -> 1226.67
A16: Tổng Giò | B16: Tổng Gà
A17: =B19+B21+B23+B25+B27 -> 3913.29 | B17: =B20+B22+B24+B26+B29+B28 -> 46898.754
B18: Tổng hợp T01 | C18: Ngày 02-01 | D18: Ngày 05-01 | E18: Ngày 06-01 | F18: Ngày 07-01 | H18: Ngày 15-01 | I18: Ngày 16-01 | L18: Ngày 19-01 | P18: Ngày 21-01 | Q18: Ngày 23-01 | R18: Ngày 26-01 | S18: Ngày 27-01 | U18: Ngày 28-01 | V18: Ngày 30-01 | W18: Ngày 31-01
A19: Xe 1 - Giò | B19: =+SUM(C19:XFD19) -> 2446.71 | F19: ='NGAY 07-01'!K29 -> 1227.27 | S19: ='NGAY 27-01'!K29 -> 1219.44
A20: Xe 1 - Gà | B20: =+SUM(C20:XFD20) -> 20240.456 | C20: ='NGAY 02-01'!K14 -> 1411.47 | D20: ='NGAY 05-01'!K14 -> 1477.78 | E20: ='NGAY 06-01'!K14 -> 1496.7 | F20: ='NGAY 07-01'!K14 -> 1438.48 | H20: 1508.8 | I20: 1422 | L20: 1473.83 | P20: ='NGAY 21-01'!K14 -> 1421.66 | Q20: ='NGAY 23-01'!K14 -> 1419.46 | R20: ='NGAY 26-01'!K14 -> 1391.72 | S20: ='NGAY 27-01'!K14 -> 1450.426 | U20: ='NGAY 28-01'!K14 -> 1437.61 | V20: ='NGAY 30-01'!K14 -> 1447.56 | W20: ='NGAY 31-01'!K14 -> 1442.96
A21: Xe 2 - Giò | B21: =+SUM(C21:XFD21) -> 1466.58 | L21: 1466.58
A22: Xe 2 - Gà | B22: =+SUM(C22:XFD22) -> 13656.32 | C22: ='NGAY 02-01'!K29 -> 692.4 | D22: ='NGAY 05-01'!K29 -> 1454.1 | E22: ='NGAY 06-01'!K43 -> 1473.931 | P22: ='NGAY 21-01'!K29 -> 1449.46 | Q22: ='NGAY 23-01'!K29 -> 1397.87 | R22: ='NGAY 26-01'!K29 -> 1410.446 | S22: ='NGAY 27-01'!K43 -> 1462.98 | U22: ='NGAY 28-01'!K29 -> 1446.14 | V22: ='NGAY 30-01'!K29 -> 1449.02 | W22: ='NGAY 31-01'!K29 -> 1419.973
A23: Xe 3 - Giò | B23: =+SUM(C23:XFD23) -> 0
A24: Xe 3 - Gà | B24: =+SUM(C24:XFD24) -> 4318.86 | C24: ='NGAY 02-01'!K43 -> 1430.68 | R24: ='NGAY 26-01'!K43 -> 1423.34 | V24: ='NGAY 30-01'!K43 -> 1464.84
A25: Xe 4 - Giò | B25: =+SUM(C25:XFD25) -> 0
A26: Xe 4 - Gà | B26: =+SUM(C26:XFD26) -> 2899.758 | R26: ='NGAY 26-01'!K58 -> 1435.06 | V26: ='NGAY 30-01'!K58 -> 1464.698
A27: Xe 5 - Giò | B27: =+SUM(C27:XFD27) -> 0
A28: Xe 5 - Gà | B28: =+SUM(C28:XFD28) -> 2892.7 | R28: ='NGAY 26-01'!K73 -> 1444.76 | V28: ='NGAY 30-01'!K73 -> 1447.94
A29: Xe 6 - Gà | B29: =+SUM(C29:XFD29) -> 2890.66 | R29: ='NGAY 26-01'!K87 -> 1450.54 | V29: ='NGAY 30-01'!K87 -> 1440.12
A30: TỔNG HỢP | B30: =SUM(B19:B29) -> 50812.044 | C30: =SUM(C19:C29) -> 3534.55 | D30: =SUM(D19:D29) -> 2931.88 | E30: =SUM(E19:E29) -> 2970.631 | F30: =SUM(F19:F29) -> 2665.75 | H30: 1508.8 | I30: 1422 | L30: 2940.41 | P30: =SUM(P19:P29) -> 2871.12 | Q30: =SUM(Q19:Q29) -> 2817.33 | R30: =SUM(R19:R29) -> 8555.866 | S30: =SUM(S19:S29) -> 4132.846 | U30: =SUM(U19:U29) -> 2883.75 | V30: =SUM(V19:V29) -> 8714.178 | W30: =SUM(W19:W29) -> 2862.933
A32: Tổng Giò
A33: =B35+B37+B40+B42+B44+B45+B46 -> 71448.127
B34: Tổng hợp T09 | E34: Ngày 04-09 | F34: Ngày 05-09 | H34: Ngày 07-09 | I34: Ngày 08-09 | J34: Ngày 09-09 | K34: Ngày 10-09 | L34: Ngày 11-09 | M34: Ngày 12-09 | N34: Ngày 14-09 | O34: Ngày 16-09 | R34: Ngày 17-09 | S34: Ngày 18-09 | T34: Ngày 19-09 | U34: Ngày 21-09 | V34: Ngày 22-09 | W34: Ngày 23-09 | X34: Ngày 24-09
A35: Xe 1 - Giò | B35: =SUM(E35:X35) -> 23754.08 | E35: =+'04-09'!K14 -> 1505.62 | F35: =+'05-09'!K14 -> 1501.34 | H35: =+'07-09'!K14 -> 1353.22 | I35: =+'08-09'!K14 -> 2216.66 | J35: =+'09-09'!K14 -> 1473.7 | K35: =+'10-09'!K14 -> 1313.68 | L35: =+'11-09'!K14 -> 1539.3 | M35: =+'12-09'!K14 -> 1446.22 | N35: =+'14-09'!K16 -> 1538 | O35: =+'16-09'!K16 -> 410.08 | R35: =+'17-09'!K16 -> 1529.5 | S35: =+'18-09'!K16 -> 1532.3 | T35: =+'19-09'!K16 -> 383.5 | U35: =+'21-09'!K16 -> 1972.51 | V35: =+'22-09'!K16 -> 2085.06 | W35: =+'23-09'!K16 -> 644.13 | X35: =+'24-09'!K16 -> 1309.26 | Y35: =+'[32]24-08( HK CÓ)'!K16 -> 0 | Z35: =+'[32]25-08( HK CÓ)'!K16 -> 0 | AA35: =+'[32]27-07'!K16 -> 0 | AB35: =+'[32]28-07'!K16 -> 0 | AC35: =+'[32]29-07'!K16 -> 0 | AD35: =+'31-08'!K16 -> 0
A36: Xe 1 - Gà | H36: =+'[32]06-08'!K15 -> 0
A37: Xe 2 - Giò | B37: =SUM(E37:X37) -> 19338.177 | E37: =+'04-09'!K29 -> 1501.04 | F37: =+'05-09'!K29 -> 1495.62 | H37: =+'07-09'!K29 -> 1337.26 | I37: =+'08-09'!K29 -> 621.25 | J37: =+'09-09'!K29 -> 412.86 | K37: =+'10-09'!K29 -> 1155 | L37: =+'11-09'!K29 -> 1449.147 | M37: =+'12-09'!K29 -> 1525 | N37: =+'14-09'!K32 -> 311.81 | O37: =+'16-09'!K33 -> 1532.9 | R37: =+'17-09'!K32 -> 671.5 | S37: =+'18-09'!K33 -> 381.4 | T37: =+'19-09'!K34 -> 1533.6 | U37: =+'21-09'!K34 -> 777.22 | V37: =+'22-09'!K34 -> 2067.94 | W37: =+'23-09'!K33 -> 1253.96 | X37: =+'24-09'!K35 -> 1310.67 | Y37: =+'[32]24-08( HK CÓ)'!K34 -> 0 | Z37: =+'[32]25-08( HK CÓ)'!K34 -> 0 | AA37: =+'[32]27-07'!K35 -> 0 | AB37: =+'[32]28-07'!K35 -> 0 | AC37: =+'[32]29-07'!K34 -> 0 | AD37: =+'31-08'!K34 -> 0
A38: Xe 2 - Gà
A39: Xe 3 - Giò | F39: =+'[32]04-08'!N44 -> 0 | I39: =+'[32]09-08( HK CÓ)'!L41 -> 0
A40: Xe 3 - Gà | B40: =SUM(E40:X40) -> 14519.8 | F40: =+'05-09'!K43 -> 1493.9 | H40: =+'07-09'!K43 -> 1349.6 | I40: =+'08-09'!K43 -> 1479.8 | J40: =+'09-09'!K43 -> 2029.27 | K40: =+'10-09'!K43 -> 1473.6 | M40: =+'12-09'!K43 -> 1539.7 | N40: =+'14-09'!K49 -> 505.35 | O40: =+'16-09'!K50 -> 2016.14 | R40: =+'17-09'!K50 -> 650.94 | S40: =+'18-09'!K50 -> 383.6 | T40: =+'19-09'!K52 -> 380.4 | V40: =+'22-09'!K52 -> 497.64 | W40: =+'23-09'!K52 -> 719.86 | Y40: =+'[32]24-08( HK CÓ)'!K51 -> 0 | AB40: =+'[32]28-07'!K53 -> 0 | AC40: =+'[32]29-07'!K53 -> 0 | AD40: =+'31-08'!K51 -> 0
A41: Xe 4 - Giò
A42: Xe 4 - Gà | B42: =SUM(E42:X42) -> 8496.72 | H42: =+'07-09'!K57 -> 2062.64 | J42: =+'09-09'!K57 -> 429.85 | K42: =+'10-09'!K57 -> 159.54 | L42: =+'[32]11-08'!K57 -> 0 | N42: =+'14-09'!K67 -> 2009.94 | O42: =+'16-09'!K68 -> 360.97 | R42: =+'17-09'!K67 -> 1310.16 | S42: =+'18-09'!K68 -> 859.52 | T42: =+'19-09'!K70 -> 1304.1 | AB42: =+'[32]28-07'!K70 -> 0 | AC42: =+'[32]29-07'!K70 -> 0 | AD42: =+'31-08'!K68 -> 0
A43: Xe 5 - Giò
A44: Xe 5 - Gà | B44: =SUM(E44:X44) -> 2785.5 | H44: =+'07-09'!K74 -> 813.25 | L44: =+'[32]11-08'!K73 -> 0 | R44: =+'17-09'!K84 -> 663.12 | S44: =+'18-09'!K86 -> 1309.13 | AB44: =+'[32]28-07'!K87 -> 0 | AC44: =+'[32]29-07'!K88 -> 0
A45: Xe 6 - Gà | B45: =+SUM(C45:XFD45) -> 461.9 | Q45: =+'[32]16-08( HK CÓ)'!K108 -> 0 | S45: =+'18-09'!K104 -> 461.9
A46: Xe 7 - Gà | B46: =SUM(E46:X46) -> 2091.95 | S46: =+'18-09'!K121 -> 2091.95
A47: TỔNG HỢP | B47: =SUM(B35+B37+B40+B42+B44+B45+B46) -> 71448.127 | C47: =SUM(C35:C45) -> 0 | D47: =SUM(D35:D45) -> 0 | E47: =SUM(E35:E45) -> 3006.66 | F47: =SUM(F35:F45) -> 4490.86 | G47: =SUM(G35+G37) -> 0 | H47: =SUM(H35+H37+H40+H42+H44) -> 6915.97 | I47: =SUM(I35:I45) -> 4317.71 | J47: =SUM(J35:J45) -> 4345.68 | K47: =SUM(K35:K45) -> 4101.82 | L47: =SUM(L35:L45) -> 2988.447 | M47: =SUM(M35+M37+M40) -> 4510.92 | N47: =SUM(N35:N45) -> 4365.1 | O47: =SUM(O35:O45) -> 4320.09 | P47: =SUM(P35:P45) -> 0 | Q47: =SUM(Q35:Q45) -> 0 | R47: =SUM(R35:R45) -> 4825.22 | S47: =SUM(S35:S46) -> 7019.8 | T47: =SUM(T35+T37+T40+T42) -> 3601.6 | U47: =SUM(U35:U45) -> 2749.73 | V47: =SUM(V35:V45) -> 4650.64 | W47: =SUM(W35:W45) -> 2617.95 | X47: =SUM(X35:X45) -> 2619.93 | Y47: =SUM(Y35:Y45) -> 0 | Z47: =SUM(Z35+Z37+Z40) -> 0 | AA47: =SUM(AA35+AA37) -> 0 | AB47: =SUM(AB35+AB37+AB40+AB42+AB44) -> 0 | AC47: =SUM(AC35+AC37+AC40+AC42+AC44) -> 0 | AD47: =SUM(AD35+AD37+AD40+AD42) -> 0

Sheet 04-09
A1: XE 1 | B1: KOREA
B2: 1 | C2: 2 | D2: 3 | E2: 4 | F2: 5 | G2: 6 | H2: 7 | I2: 8 | J2: 9 | K2: 10
A3: 1 | B3: 15.4 | C3: 15.2 | D3: 15.08 | E3: 15.26 | F3: 14.76 | G3: 15.08 | H3: 15.08 | I3: 15.24 | J3: 15.38 | K3: 15.54
A4: 2 | B4: 15.24 | C4: 14.38 | D4: 15.2 | E4: 15.24 | F4: 15.16 | G4: 14.32 | H4: 14.9 | I4: 15.3 | J4: 15.1 | K4: 15.34
A5: 3 | B5: 14.92 | C5: 15 | D5: 15.56 | E5: 14.88 | F5: 14.8 | G5: 15.02 | H5: 14.98 | I5: 14.9 | J5: 14.96 | K5: 15.38
A6: 4 | B6: 14.3 | C6: 15.1 | D6: 14.84 | E6: 14.82 | F6: 14.44 | G6: 14.8 | H6: 14.5 | I6: 14.46 | J6: 15.72 | K6: 15.34
A7: 5 | B7: 15.76 | C7: 15.32 | D7: 15.42 | E7: 15.5 | F7: 15.24 | G7: 15.46 | H7: 14.48 | I7: 15.08 | J7: 15.02 | K7: 15.12
A8: 6 | B8: 15.06 | C8: 15.76 | D8: 14.84 | E8: 15.24 | F8: 14.38 | G8: 14.78 | H8: 15.08 | I8: 15.18 | J8: 15.56 | K8: 14.06
A9: 7 | B9: 16.12 | C9: 14.76 | D9: 15.14 | E9: 14.8 | F9: 14.72 | G9: 15.04 | H9: 14.76 | I9: 15.14 | J9: 15.64 | K9: 15.24
A10: 8 | B10: 14.8 | C10: 15.16 | D10: 14.78 | E10: 14.7 | F10: 14.96 | G10: 15.4 | H10: 14.88 | I10: 15 | J10: 15.42 | K10: 15.02
A11: 9 | B11: 14.96 | C11: 15.3 | D11: 15.56 | E11: 14.92 | F11: 14.66 | G11: 15.04 | H11: 14.3 | I11: 14.88 | J11: 15.86 | K11: 15
A12: 10 | B12: 15.36 | C12: 15.58 | D12: 15.04 | E12: 14.9 | F12: 14.96 | G12: 14.96 | H12: 15.2 | I12: 14.84 | J12: 15.08 | K12: 14.48
I14: TỔNG | K14: =+SUM(B3:K12) -> 1505.62
A15: XE 2 | B15: KOREA
B16: 1 | C16: 2 | D16: 3 | E16: 4 | F16: 5 | G16: 6 | H16: 7 | I16: 8 | J16: 9 | K16: 10 | L16: 11
A17: 1 | B17: 15.6 | C17: 14.78 | D17: 15.64 | E17: 15.08 | F17: 15.66 | G17: 14.66 | H17: 15.08 | I17: 15.26 | J17: 15.38 | K17: 14.86
A18: 2 | B18: 15.16 | C18: 15.1 | D18: 15.48 | E18: 15.58 | F18: 15.02 | G18: 14.84 | H18: 15.24 | I18: 14.94 | J18: 14.48 | K18: 14.16
A19: 3 | B19: 14.74 | C19: 14.6 | D19: 15.52 | E19: 14.62 | F19: 15.1 | G19: 14.64 | H19: 15.72 | I19: 14.62 | J19: 14.52 | K19: 15.44
A20: 4 | B20: 14.8 | C20: 14.86 | D20: 15.14 | E20: 15.02 | F20: 14.62 | G20: 15.22 | H20: 15.98 | I20: 14.46 | J20: 15.14 | K20: 14.54
A21: 5 | B21: 15.06 | C21: 15.68 | D21: 14.84 | E21: 15.36 | F21: 15.32 | G21: 15 | H21: 14.78 | I21: 14.66 | J21: 15.04 | K21: 15.3
A22: 6 | B22: 15.3 | C22: 15.22 | D22: 15 | E22: 15.54 | F22: 15.14 | G22: 15.84 | H22: 14.68 | I22: 15.1 | J22: 14.82 | K22: 15.56
A23: 7 | B23: 15.1 | C23: 15.82 | D23: 15.42 | E23: 15.64 | F23: 13.86 | G23: 14.7 | H23: 15.68 | I23: 15.68 | J23: 14.8 | K23: 13.86
A24: 8 | B24: 15.02 | C24: 15.32 | D24: 14.94 | E24: 15.04 | F24: 14.88 | G24: 14.04 | H24: 14.62 | I24: 15.26 | J24: 15.16 | K24: 14.8
A25: 9 | B25: 15.12 | C25: 15.1 | D25: 14.48 | E25: 15.2 | F25: 14.56 | G25: 15.82 | H25: 14.6 | I25: 15 | J25: 13.96 | K25: 14.28
A26: 10 | B26: 15.14 | C26: 14.72 | D26: 14.46 | E26: 14.98 | F26: 14.7 | G26: 14.4 | H26: 15.02 | I26: 15.46 | J26: 15.2 | K26: 14.66
A27: 11
I29: TỔNG | K29: =+SUM(B17:L27) -> 1501.04
A30: XE 3
B31: 1 | C31: 2 | D31: 3 | E31: 4 | F31: 5 | G31: 6 | H31: 7 | I31: 8 | J31: 9 | K31: 10 | L31: 11
A32: 1
A33: 2
A34: 3
A35: 4
A36: 5
A37: 6
A38: 7
A39: 8
A40: 9
A41: 10
I43: TỔNG | K43: =+SUM(B32:L41) -> 0
A44: XE 4
B45: 1 | C45: 2 | D45: 3 | E45: 4 | F45: 5 | G45: 6 | H45: 7 | I45: 8 | J45: 9 | K45: 10
A46: 1
A47: 2
A48: 3
A49: 4
A50: 5
A51: 6
A52: 7
A53: 8
A54: 9
A55: 10
I57: TỔNG | K57: =+SUM(B46:K55) -> 0

Sheet 05-09
A1: XE 1
B2: 1 | C2: 2 | D2: 3 | E2: 4 | F2: 5 | G2: 6 | H2: 7 | I2: 8 | J2: 9 | K2: 10
A3: 1 | B3: 14.82 | C3: 15.32 | D3: 14.68 | E3: 15.32 | F3: 14.98 | G3: 15.24 | H3: 15.54 | I3: 15 | J3: 15.16 | K3: 14.96
A4: 2 | B4: 14.66 | C4: 14.66 | D4: 15.6 | E4: 16.12 | F4: 15.04 | G4: 15.38 | H4: 14.76 | I4: 14.81 | J4: 15.18 | K4: 15.1
A5: 3 | B5: 15.3 | C5: 15.4 | D5: 15.1 | E5: 15.12 | F5: 14.6 | G5: 14.44 | H5: 14.78 | I5: 14.74 | J5: 14.86 | K5: 15.24
A6: 4 | B6: 14.88 | C6: 15.12 | D6: 15.18 | E6: 15.04 | F6: 14.52 | G6: 15 | H6: 14.86 | I6: 14.8 | J6: 14.14 | K6: 15.5
A7: 5 | B7: 13.98 | C7: 15.12 | D7: 14.7 | E7: 15.28 | F7: 15.1 | G7: 15 | H7: 15.04 | I7: 14.86 | J7: 14.78 | K7: 14.74
A8: 6 | B8: 14.94 | C8: 14.84 | D8: 15.06 | E8: 15.18 | F8: 14.38 | G8: 14.74 | H8: 14.7 | I8: 14.85 | J8: 14.8 | K8: 14.84
A9: 7 | B9: 14.96 | C9: 14.88 | D9: 15.62 | E9: 15.5 | F9: 14.8 | G9: 14.68 | H9: 14.46 | I9: 15.2 | J9: 15.26 | K9: 15.06
A10: 8 | B10: 14.78 | C10: 15.26 | D10: 15.36 | E10: 15.64 | F10: 15.1 | G10: 15.16 | H10: 15.06 | I10: 14.98 | J10: 15.52 | K10: 15.48
A11: 9 | B11: 15.02 | C11: 15.28 | D11: 15.18 | E11: 15.32 | F11: 15.22 | G11: 14.94 | H11: 15 | I11: 14.9 | J11: 14.48 | K11: 15.62
A12: 10 | B12: 15.02 | C12: 14.86 | D12: 14.46 | E12: 15.12 | F12: 14.96 | G12: 15.6 | H12: 14.64 | I12: 15.28 | J12: 14.76 | K12: 15.04
I14: TỔNG | K14: =+SUM(B3:K12) -> 1501.34
A15: XE 2 | B15: KOREA
B16: 1 | C16: 2 | D16: 3 | E16: 4 | F16: 5 | G16: 6 | H16: 7 | I16: 8 | J16: 9 | K16: 10 | L16: 11
A17: 1 | B17: 14.52 | C17: 15.4 | D17: 15.28 | E17: 15.12 | F17: 14.8 | G17: 14.48 | H17: 14.82 | I17: 15.34 | J17: 14.76 | K17: 15.64
A18: 2 | B18: 14.6 | C18: 14.34 | D18: 14.8 | E18: 15.32 | F18: 15.6 | G18: 15.6 | H18: 15.16 | I18: 15.2 | J18: 14.66 | K18: 15.76
A19: 3 | B19: 14.34 | C19: 15.28 | D19: 15.26 | E19: 14.86 | F19: 14.4 | G19: 14.78 | H19: 14.66 | I19: 15.06 | J19: 15.12 | K19: 15.28
A20: 4 | B20: 14.28 | C20: 14.8 | D20: 14.96 | E20: 14.94 | F20: 14.22 | G20: 15.28 | H20: 14.86 | I20: 14.84 | J20: 14.96 | K20: 14.72
A21: 5 | B21: 14.42 | C21: 14.34 | D21: 14.64 | E21: 15.18 | F21: 15.5 | G21: 15.54 | H21: 15.14 | I21: 14.08 | J21: 14.32 | K21: 14.82
A22: 6 | B22: 14.72 | C22: 14.62 | D22: 15.14 | E22: 14.9 | F22: 15.16 | G22: 15 | H22: 15.22 | I22: 14.68 | J22: 15.38 | K22: 15.2
A23: 7 | B23: 14.52 | C23: 14.9 | D23: 15 | E23: 14.66 | F23: 14.88 | G23: 15 | H23: 14.8 | I23: 15 | J23: 14.48 | K23: 14.42
A24: 8 | B24: 14.6 | C24: 14.48 | D24: 15.28 | E24: 14.48 | F24: 14.44 | G24: 15.06 | H24: 14.98 | I24: 16.64 | J24: 15.38 | K24: 14.58
A25: 9 | B25: 15.3 | C25: 15.6 | D25: 14.64 | E25: 14.96 | F25: 15.36 | G25: 15.54 | H25: 15.12 | I25: 14.58 | J25: 15.06 | K25: 15.44
A26: 10 | B26: 15.62 | C26: 14.96 | D26: 15.1 | E26: 15.04 | F26: 14.78 | G26: 14.66 | H26: 14.96 | I26: 14.66 | J26: 15.46 | K26: 15.1
A27: 11
I29: TỔNG | K29: =+SUM(B17:L27) -> 1495.62
A30: XE 3 | B30: KOREA
B31: 1 | C31: 2 | D31: 3 | E31: 4 | F31: 5 | G31: 6 | H31: 7 | I31: 8 | J31: 9 | K31: 10 | L31: 11
A32: 1 | B32: 14.44 | C32: 15.36 | D32: 14.42 | E32: 14.82 | F32: 14.32 | G32: 14.8 | H32: 14.42 | I32: 15.32 | J32: 15.14 | K32: 15.32
A33: 2 | B33: 15.52 | C33: 15.34 | D33: 14.66 | E33: 15 | F33: 14.94 | G33: 14.98 | H33: 14.98 | I33: 15.26 | J33: 15.1 | K33: 15.06
A34: 3 | B34: 15.94 | C34: 15.22 | D34: 14.14 | E34: 14.66 | F34: 15.22 | G34: 14.22 | H34: 15.48 | I34: 15.1 | J34: 14.38 | K34: 14.94
A35: 4 | B35: 14.22 | C35: 14.5 | D35: 15.18 | E35: 15.3 | F35: 15.16 | G35: 15.44 | H35: 14.84 | I35: 14.84 | J35: 14.26 | K35: 15.22
A36: 5 | B36: 14.64 | C36: 15.44 | D36: 14.76 | E36: 15.8 | F36: 15.12 | G36: 15.3 | H36: 15.1 | I36: 14.88 | J36: 15.18 | K36: 14.8
A37: 6 | B37: 14.1 | C37: 15.14 | D37: 14.7 | E37: 15.08 | F37: 15.6 | G37: 14.36 | H37: 15.06 | I37: 14.72 | J37: 15.6 | K37: 14.76
A38: 7 | B38: 15.24 | C38: 13.82 | D38: 14.84 | E38: 15.18 | F38: 14.3 | G38: 15.46 | H38: 15.48 | I38: 15.38 | J38: 15.08 | K38: 15.32
A39: 8 | B39: 14.16 | C39: 15.26 | D39: 14.28 | E39: 14.46 | F39: 14.76 | G39: 14.62 | H39: 15.3 | I39: 15.58 | J39: 14.54 | K39: 15.02
A40: 9 | B40: 15.22 | C40: 15.04 | D40: 14.66 | E40: 15.06 | F40: 15.42 | G40: 15.28 | H40: 15.46 | I40: 14.34 | J40: 14.9 | K40: 14.84
A41: 10 | B41: 14.38 | C41: 14.66 | D41: 14.66 | E41: 14.7 | F41: 15.32 | G41: 15.58 | H41: 14.48 | I41: 15.2 | J41: 15.04 | K41: 13.98
I43: TỔNG | K43: =+SUM(B32:L41) -> 1493.9
A44: XE 4
B45: 1 | C45: 2 | D45: 3 | E45: 4 | F45: 5 | G45: 6 | H45: 7 | I45: 8 | J45: 9 | K45: 10
A46: 1
A47: 2
A48: 3
A49: 4
A50: 5
A51: 6
A52: 7
A53: 8
A54: 9
A55: 10
I57: TỔNG | K57: =+SUM(B46:K55) -> 0

Sheet 07-09
A1: XE 1 | B1: KOREA
B2: 1 | C2: 2 | D2: 3 | E2: 4 | F2: 5 | G2: 6 | H2: 7 | I2: 8 | J2: 9 | K2: 10
A3: 1 | B3: 14.22 | C3: 15.52 | D3: 15.56 | E3: 15.18 | F3: 14.98 | G3: 15.2 | H3: 15.04 | I3: 15.38 | J3: 15.26
A4: 2 | B4: 14.94 | C4: 15.24 | D4: 14.96 | E4: 15.56 | F4: 14.66 | G4: 15.1 | H4: 14.86 | I4: 15.7 | J4: 14.66
A5: 3 | B5: 14.98 | C5: 14.94 | D5: 14.24 | E5: 14.36 | F5: 14.56 | G5: 15.5 | H5: 15.12 | I5: 14.9 | J5: 15.56
A6: 4 | B6: 15.1 | C6: 15.52 | D6: 14.96 | E6: 15.06 | F6: 14.78 | G6: 15.08 | H6: 14.66 | I6: 14.98 | J6: 14.6
A7: 5 | B7: 15.02 | C7: 15.32 | D7: 14.62 | E7: 14.96 | F7: 14.86 | G7: 14.62 | H7: 15 | I7: 15 | J7: 14.22
A8: 6 | B8: 15.52 | C8: 14.9 | D8: 14.98 | E8: 14.84 | F8: 14.62 | G8: 14.9 | H8: 14.84 | I8: 14.92 | J8: 14.62
A9: 7 | B9: 15.52 | C9: 14.92 | D9: 14.96 | E9: 15.8 | F9: 14.64 | G9: 14.66 | H9: 14.64 | I9: 15.24 | J9: 15.84
A10: 8 | B10: 15.2 | C10: 15.36 | D10: 15.46 | E10: 14.68 | F10: 14.96 | G10: 14.9 | H10: 15.16 | I10: 15.2 | J10: 15.38
A11: 9 | B11: 15.36 | C11: 15.88 | D11: 15.1 | E11: 14.7 | F11: 14.9 | G11: 14.66 | H11: 14.22 | I11: 14.7 | J11: 15.3
A12: 10 | B12: 14.92 | C12: 15.04 | D12: 15.44 | E12: 15.12 | F12: 15.22 | G12: 14.84 | H12: 15.64 | I12: 15.48 | J12: 15.5
I14: TỔNG | K14: =+SUM(B3:K12) -> 1353.22
A15: XE 2 | B15: KOREA
B16: 1 | C16: 2 | D16: 3 | E16: 4 | F16: 5 | G16: 6 | H16: 7 | I16: 8 | J16: 9 | K16: 10 | L16: 11
A17: 1 | B17: 15.04 | C17: 15.08 | D17: 14.3 | E17: 15.02 | F17: 14.96 | G17: 14.82 | H17: 14.46 | I17: 15.14 | J17: 15.08
A18: 2 | B18: 14.4 | C18: 14.62 | D18: 15.28 | E18: 14.96 | F18: 15.04 | G18: 15.02 | H18: 15.1 | I18: 14.34 | J18: 14.96
A19: 3 | B19: 14.42 | C19: 14.42 | D19: 15.34 | E19: 15.5 | F19: 15.1 | G19: 14.78 | H19: 14.12 | I19: 14.64 | J19: 13.7
A20: 4 | B20: 15.58 | C20: 15.4 | D20: 15.4 | E20: 15.1 | F20: 14.8 | G20: 14.28 | H20: 14.46 | I20: 15.08 | J20: 15.18
A21: 5 | B21: 14.46 | C21: 14.6 | D21: 15.42 | E21: 15.4 | F21: 15.38 | G21: 14.52 | H21: 14.16 | I21: 14.72 | J21: 15.96
A22: 6 | B22: 14.18 | C22: 14.68 | D22: 14.4 | E22: 15.26 | F22: 15.14 | G22: 14.56 | H22: 14.64 | I22: 14.7 | J22: 14.5
A23: 7 | B23: 14.62 | C23: 15.4 | D23: 14.66 | E23: 14.34 | F23: 15.34 | G23: 14.46 | H23: 14.74 | I23: 14.82 | J23: 14.94
A24: 8 | B24: 14.46 | C24: 15.06 | D24: 15.1 | E24: 14.9 | F24: 15.14 | G24: 15.6 | H24: 14.78 | I24: 15 | J24: 14
A25: 9 | B25: 15.02 | C25: 15.58 | D25: 15.38 | E25: 15.26 | F25: 14.52 | G25: 14.28 | H25: 14.68 | I25: 14.86 | J25: 15.58
A26: 10 | B26: 14.78 | C26: 14.1 | D26: 15.26 | E26: 15.24 | F26: 15.18 | G26: 14.68 | H26: 14.38 | I26: 14.78 | J26: 14.74
A27: 11
I29: TỔNG | K29: =+SUM(B17:L27) -> 1337.26
A30: XE 3 | B30: KOREA
B31: 1 | C31: 2 | D31: 3 | E31: 4 | F31: 5 | G31: 6 | H31: 7 | I31: 8 | J31: 9 | K31: 10 | L31: 11
A32: 1 | B32: 15.26 | C32: 15.34 | D32: 15.22 | E32: 15.42 | F32: 14.4 | G32: 15.02 | H32: 14.34 | I32: 15.66 | J32: 14.9
A33: 2 | B33: 14.58 | C33: 14.48 | D33: 14.48 | E33: 15.2 | F33: 14.56 | G33: 15.58 | H33: 14.88 | I33: 14.92 | J33: 15.66
A34: 3 | B34: 14.58 | C34: 14.82 | D34: 14.84 | E34: 15.24 | F34: 14.7 | G34: 14.82 | H34: 15.52 | I34: 15.54 | J34: 15.2
A35: 4 | B35: 14.82 | C35: 14.12 | D35: 14.08 | E35: 15.4 | F35: 15.16 | G35: 15.56 | H35: 15.42 | I35: 15.16 | J35: 14.8
A36: 5 | B36: 14.76 | C36: 15 | D36: 14.58 | E36: 15.1 | F36: 14.8 | G36: 14.76 | H36: 14.94 | I36: 15.26 | J36: 14.86
A37: 6 | B37: 14.32 | C37: 15.44 | D37: 15.02 | E37: 14.42 | F37: 15.24 | G37: 14.32 | H37: 14.72 | I37: 15.34 | J37: 15.52
A38: 7 | B38: 15.66 | C38: 15.5 | D38: 14.72 | E38: 14.92 | F38: 14.36 | G38: 14.8 | H38: 14.74 | I38: 15.22 | J38: 14.54
A39: 8 | B39: 14.72 | C39: 14.94 | D39: 14.9 | E39: 15.48 | F39: 15.14 | G39: 14.96 | H39: 14.44 | I39: 14.84 | J39: 14.9
A40: 9 | B40: 15.6 | C40: 14.7 | D40: 15.24 | E40: 15.62 | F40: 15.16 | G40: 14.84 | H40: 15.1 | I40: 15.76 | J40: 14.82
A41: 10 | B41: 14.78 | C41: 15.56 | D41: 15.52 | E41: 15.12 | F41: 14.62 | G41: 15.1 | H41: 14.96 | I41: 15.38 | J41: 14.86
I43: TỔNG | K43: =+SUM(B32:L41) -> 1349.6
A44: XE 4 | B44: APK
B45: 1 | C45: 2 | D45: 3 | E45: 4 | F45: 5 | G45: 6 | H45: 7 | I45: 8 | J45: 9 | K45: 10
A46: 1 | B46: 22.38 | C46: 20.85 | D46: 20.36 | E46: 22.6 | F46: 18.82 | G46: 21.35 | H46: 21.21 | I46: 21.03 | J46: 19.96 | K46: 20.92
A47: 2 | B47: 20.9 | C47: 22.09 | D47: 21.6 | E47: 19.54 | F47: 20.76 | G47: 20.54 | H47: 20.58 | I47: 20.83 | J47: 19.45 | K47: 19.68
A48: 3 | B48: 21.85 | C48: 20.01 | D48: 17.9 | E48: 22.11 | F48: 19.81 | G48: 23.45 | H48: 20.72 | I48: 20.43 | J48: 18.56 | K48: 18.98
A49: 4 | B49: 19.89 | C49: 21.35 | D49: 21.34 | E49: 22.05 | F49: 21.8 | G49: 20.25 | H49: 21.85 | I49: 18.78 | J49: 19.75 | K49: 19.59
A50: 5 | B50: 22.11 | C50: 20.57 | D50: 21.34 | E50: 22.06 | F50: 24.28 | G50: 21.5 | H50: 20.03 | I50: 20.74 | J50: 21.85 | K50: 19.73
A51: 6 | B51: 20.4 | C51: 20.75 | D51: 22.45 | E51: 21.1 | F51: 20.49 | G51: 20.72 | H51: 20.45 | I51: 19.98 | J51: 20.68 | K51: 22.2
A52: 7 | B52: 18.64 | C52: 21.34 | D52: 20.17 | E52: 19.96 | F52: 19.43 | G52: 19.58 | H52: 20.3 | I52: 19.66 | J52: 20.04 | K52: 22.07
A53: 8 | B53: 19.55 | C53: 20.76 | D53: 19.62 | E53: 19.37 | F53: 18.66 | G53: 20.14 | H53: 21.65 | I53: 21.35 | J53: 19.75 | K53: 21.44
A54: 9 | B54: 19.84 | C54: 22.93 | D54: 21.66 | E54: 20.02 | F54: 19.16 | G54: 21.85 | H54: 20.19 | I54: 19.46 | J54: 20.37 | K54: 20.23
A55: 10 | B55: 20.59 | C55: 21.98 | D55: 18.88 | E55: 19.92 | F55: 21.07 | G55: 22.17 | H55: 20.19 | I55: 19.43 | J55: 20.31 | K55: 19.56
I57: TỔNG | K57: =+SUM(B46:K55) -> 2062.64
A61: XE 5 | B61: APK
B62: 1 | C62: 2 | D62: 3 | E62: 4 | F62: 5 | G62: 6 | H62: 7 | I62: 8 | J62: 9 | K62: 10
A63: 1 | B63: 19.32 | C63: 20.25 | D63: 19.19 | E63: 20.36
A64: 2 | B64: 19.12 | C64: 19.9 | D64: 20.13 | E64: 20.36
A65: 3 | B65: 19.83 | C65: 21.22 | D65: 21.31 | E65: 20.31
A66: 4 | B66: 17.75 | C66: 18.4 | D66: 20.29 | E66: 22.01
A67: 5 | B67: 19.88 | C67: 21.05 | D67: 21.5 | E67: 21.08
A68: 6 | B68: 19.77 | C68: 20.63 | D68: 20.18 | E68: 21.22
A69: 7 | B69: 20.37 | C69: 20.65 | D69: 21.35 | E69: 20.96
A70: 8 | B70: 19.53 | C70: 19.39 | D70: 21.21 | E70: 20.76
A71: 9 | B71: 19.88 | C71: 19.91 | D71: 22.3 | E71: 19.54
A72: 10 | B72: 21.6 | C72: 20.09 | D72: 20.05 | E72: 20.6
I74: TỔNG | K74: =+SUM(B63:K72) -> 813.25

Sheet 08-09
A1: XE 1 | B1: APK
B2: 1 | C2: 2 | D2: 3 | E2: 4 | F2: 5 | G2: 6 | H2: 7 | I2: 8 | J2: 9 | K2: 10 | L2: 11
A3: 1 | B3: 19.36 | C3: 19.26 | D3: 19.5 | E3: 21 | F3: 20.49 | G3: 22.29 | H3: 19.51 | I3: 22.26 | J3: 20.35 | K3: 18.35 | L3: 20.45
A4: 2 | B4: 20.01 | C4: 22.3 | D4: 20.41 | E4: 21.57 | F4: 20.71 | G4: 19.43 | H4: 19.55 | I4: 19.84 | J4: 19.89 | K4: 20.76 | L4: 21.41
A5: 3 | B5: 20.12 | C5: 20.06 | D5: 21.21 | E5: 18.16 | F5: 20.89 | G5: 20.09 | H5: 19.69 | I5: 21.42 | J5: 21.24 | K5: 19.61 | L5: 20.47
A6: 4 | B6: 19.55 | C6: 19.7 | D6: 21.58 | E6: 20.69 | F6: 18.98 | G6: 20.67 | H6: 19.74 | I6: 17.83 | J6: 19.29 | K6: 21.27 | L6: 19.64
A7: 5 | B7: 19.18 | C7: 19.89 | D7: 22.92 | E7: 21.99 | F7: 19.35 | G7: 22.28 | H7: 22.16 | I7: 18.13 | J7: 20.28 | K7: 20.84 | L7: 20.78
A8: 6 | B8: 20.16 | C8: 22.81 | D8: 17.51 | E8: 19.48 | F8: 22.31 | G8: 20.54 | H8: 21.36 | I8: 20.67 | J8: 18.43 | K8: 20.66 | L8: 21.1
A9: 7 | B9: 20.38 | C9: 21.88 | D9: 21.61 | E9: 16.16 | F9: 20.86 | G9: 19.73 | H9: 19.57 | I9: 20.46 | J9: 19.38 | K9: 20.92 | L9: 20.18
A10: 8 | B10: 20.99 | C10: 20.05 | D10: 19.46 | E10: 17.7 | F10: 21.01 | G10: 17.7 | H10: 17.95 | I10: 20.57 | J10: 21.33 | K10: 20.31 | L10: 18.23
A11: 9 | B11: 21.64 | C11: 18.88 | D11: 19.46 | E11: 21.17 | F11: 19.29 | G11: 19.09 | H11: 17.61 | I11: 22.07 | J11: 19.54 | K11: 20.88 | L11: 19.81
A12: 10 | B12: 19.7 | C12: 19.88 | D12: 20.34 | E12: 19.23 | F12: 17.42 | G12: 18.45 | H12: 22.76 | I12: 21.02 | J12: 19.7 | K12: 19.07 | L12: 19.79
I14: TỔNG | K14: =SUM(B3:L12) -> 2216.66
A15: XE 2 | B15: APK
B16: 1 | C16: 2 | D16: 3 | E16: 4 | F16: 5 | G16: 6 | H16: 7 | I16: 8 | J16: 9 | K16: 10 | L16: 11
A17: 1 | B17: 19.84 | C17: 21.02 | D17: 21.68
A18: 2 | B18: 20.03 | C18: 21.1 | D18: 20.53
A19: 3 | B19: 23.77 | C19: 19.66 | D19: 21.88
A20: 4 | B20: 21.88 | C20: 19.9 | D20: 21.36
A21: 5 | B21: 20.61 | C21: 19.78 | D21: 20.57
A22: 6 | B22: 20.21 | C22: 20.29 | D22: 21.41
A23: 7 | B23: 18.43 | C23: 20.58 | D23: 20.88
A24: 8 | B24: 19.04 | C24: 20.29 | D24: 20.48
A25: 9 | B25: 20.2 | C25: 22.22 | D25: 20.88
A26: 10 | B26: 20.75 | C26: 20.94 | D26: 21.04
A27: 11
I29: TỔNG | K29: =+SUM(B17:K27) -> 621.25
A30: XE 3
B31: 1 | C31: 2 | D31: 3 | E31: 4 | F31: 5 | G31: 6 | H31: 7 | I31: 8 | J31: 9 | K31: 10 | L31: 11
A32: 1 | B32: 14.7 | C32: 14.7 | D32: 14.7 | E32: 14.7 | F32: 14.8 | G32: 14.8 | H32: 14.8 | I32: 14.8 | J32: 14.9 | K32: 14.8
A33: 2 | B33: 14.8 | C33: 14.8 | D33: 14.9 | E33: 14.9 | F33: 14.7 | G33: 14.7 | H33: 14.7 | I33: 14.8 | J33: 14.8 | K33: 14.9
A34: 3 | B34: 14.8 | C34: 14.6 | D34: 14.9 | E34: 14.7 | F34: 14.9 | G34: 14.8 | H34: 14.7 | I34: 14.8 | J34: 14.6 | K34: 14.8
A35: 4 | B35: 14.9 | C35: 14.9 | D35: 14.7 | E35: 14.9 | F35: 14.8 | G35: 14.9 | H35: 14.8 | I35: 14.8 | J35: 14.7 | K35: 14.7
A36: 5 | B36: 14.8 | C36: 14.9 | D36: 14.9 | E36: 14.8 | F36: 14.9 | G36: 14.7 | H36: 14.9 | I36: 14.8 | J36: 14.9 | K36: 14.8
A37: 6 | B37: 14.7 | C37: 14.8 | D37: 14.8 | E37: 14.9 | F37: 14.9 | G37: 14.9 | H37: 14.5 | I37: 14.8 | J37: 14.9 | K37: 14.9
A38: 7 | B38: 14.6 | C38: 14.9 | D38: 14.7 | E38: 14.8 | F38: 14.8 | G38: 14.9 | H38: 14.8 | I38: 14.9 | J38: 14.9 | K38: 14.8
A39: 8 | B39: 14.9 | C39: 14.8 | D39: 14.9 | E39: 14.7 | F39: 14.8 | G39: 14.8 | H39: 14.8 | I39: 14.8 | J39: 14.9 | K39: 14.6
A40: 9 | B40: 14.8 | C40: 14.5 | D40: 14.9 | E40: 14.9 | F40: 14.8 | G40: 14.7 | H40: 14.5 | I40: 14.9 | J40: 14.9 | K40: 14.9
A41: 10 | B41: 14.8 | C41: 14.9 | D41: 14.9 | E41: 14.9 | F41: 14.9 | G41: 14.5 | H41: 14.9 | I41: 14.6 | J41: 14.8 | K41: 14.8
I43: TỔNG | K43: =+SUM(B32:K41) -> 1479.8
A44: XE5
B45: 1 | C45: 2 | D45: 3 | E45: 4 | F45: 5 | G45: 6 | H45: 7 | I45: 8 | J45: 9 | K45: 10
A46: 1
A47: 2
A48: 3
A49: 4
A50: 5
A51: 6
A52: 7
A53: 8
A54: 9
A55: 10
I57: TỔNG | K57: =+SUM(B46:K55) -> 0
A61: XE 6
B62: 1 | C62: 2 | D62: 3 | E62: 4 | F62: 5 | G62: 6 | H62: 7 | I62: 8 | J62: 9 | K62: 10
A63: 1
A64: 2
A65: 3
A66: 4
A67: 5
A68: 6
A69: 7
A70: 8
A71: 9
A72: 10
I74: TỔNG | K74: =+SUM(B63:K72) -> 0
A78: XE 6
B79: 1 | C79: 2 | D79: 3 | E79: 4 | F79: 5 | G79: 6 | H79: 7 | I79: 8 | J79: 9 | K79: 10
A80: 1
A81: 2
A82: 3
A83: 4
A84: 5
A85: 6
A86: 7
A87: 8
A88: 9
A89: 10
I91: TỔNG | K91: =+SUM(B80:K89) -> 0

Sheet 09-09
A1: XE 1
B2: 1 | C2: 2 | D2: 3 | E2: 4 | F2: 5 | G2: 6 | H2: 7 | I2: 8 | J2: 9 | K2: 10
A3: 1 | B3: 14.8 | C3: 14.8 | D3: 14.9 | E3: 14.9 | F3: 14.7 | G3: 14.6 | H3: 14.8 | I3: 14.6 | J3: 14.7 | K3: 14.6
A4: 2 | B4: 14.8 | C4: 14.7 | D4: 14.7 | E4: 14.9 | F4: 14.6 | G4: 14.5 | H4: 14.5 | I4: 14.7 | J4: 14.9 | K4: 14.7
A5: 3 | B5: 14.8 | C5: 14.7 | D5: 14.8 | E5: 14.6 | F5: 14.8 | G5: 14.5 | H5: 14.9 | I5: 14.9 | J5: 14.8 | K5: 14.9
A6: 4 | B6: 14.7 | C6: 14.9 | D6: 14.6 | E6: 14.6 | F6: 14.7 | G6: 14.7 | H6: 14.8 | I6: 14.6 | J6: 14.6 | K6: 14.7
A7: 5 | B7: 14.7 | C7: 14.8 | D7: 14.6 | E7: 14.8 | F7: 14.5 | G7: 14.9 | H7: 14.7 | I7: 14.8 | J7: 14.7 | K7: 14.8
A8: 6 | B8: 14.9 | C8: 14.7 | D8: 14.8 | E8: 14.6 | F8: 14.9 | G8: 14.9 | H8: 14.8 | I8: 14.8 | J8: 14.6 | K8: 14.7
A9: 7 | B9: 14.7 | C9: 14.7 | D9: 14.7 | E9: 14.5 | F9: 14.9 | G9: 14.5 | H9: 14.7 | I9: 14.7 | J9: 14.9 | K9: 14.8
A10: 8 | B10: 14.8 | C10: 14.9 | D10: 14.6 | E10: 14.6 | F10: 14.8 | G10: 14.8 | H10: 14.7 | I10: 14.9 | J10: 14.6 | K10: 14.9
A11: 9 | B11: 14.9 | C11: 14.6 | D11: 14.6 | E11: 14.8 | F11: 14.8 | G11: 14.6 | H11: 14.5 | I11: 14.9 | J11: 14.5 | K11: 14.8
A12: 10 | B12: 14.9 | C12: 14.9 | D12: 14.9 | E12: 14.9 | F12: 14.7 | G12: 14.6 | H12: 14.7 | I12: 14.8 | J12: 14.8 | K12: 14.8
I14: TỔNG | K14: =+SUM(B3:K12) -> 1473.7
A15: XE 2 | B15: APK
B16: 1 | C16: 2 | D16: 3 | E16: 4 | F16: 5 | G16: 6 | H16: 7 | I16: 8 | J16: 9 | K16: 10 | L16: 11
A17: 1 | B17: 20.58 | C17: 20.38
A18: 2 | B18: 21.54 | C18: 20.81
A19: 3 | B19: 16.44 | C19: 20.02
A20: 4 | B20: 21.33 | C20: 19.07
A21: 5 | B21: 22.07 | C21: 21.2
A22: 6 | B22: 19.09 | C22: 20.98
A23: 7 | B23: 19.2 | C23: 24.35
A24: 8 | B24: 20.23 | C24: 20.44
A25: 9 | B25: 20.67 | C25: 20.72
A26: 10 | B26: 20.42 | C26: 23.32
A27: 11
I29: TỔNG | K29: =+SUM(B17:K27) -> 412.86
A30: XE 3 | B30: APK
B31: 1 | C31: 2 | D31: 3 | E31: 4 | F31: 5 | G31: 6 | H31: 7 | I31: 8 | J31: 9 | K31: 10 | L31: 11
A32: 1 | B32: 19.79 | C32: 21.41 | D32: 21.06 | E32: 19.65 | F32: 21.03 | G32: 19.63 | H32: 20.45 | I32: 19.64 | J32: 23.41 | K32: 20.68
A33: 2 | B33: 19.84 | C33: 21.19 | D33: 19.65 | E33: 18.85 | F33: 20.69 | G33: 19.97 | H33: 21.4 | I33: 20.57 | J33: 20.62 | K33: 20.34
A34: 3 | B34: 20.64 | C34: 20.75 | D34: 19.92 | E34: 20 | F34: 20.95 | G34: 20.63 | H34: 20.48 | I34: 19.52 | J34: 21.12 | K34: 20.35
A35: 4 | B35: 20.38 | C35: 19.91 | D35: 18.24 | E35: 18.23 | F35: 19.08 | G35: 20.43 | H35: 20.65 | I35: 18.44 | J35: 21.99 | K35: 20.71
A36: 5 | B36: 21.3 | C36: 20.82 | D36: 19.09 | E36: 20.56 | F36: 19.94 | G36: 19.4 | H36: 19.84 | I36: 20.81 | J36: 21.67 | K36: 21.44
A37: 6 | B37: 20.98 | C37: 21.52 | D37: 20.82 | E37: 20.59 | F37: 19.99 | G37: 19.34 | H37: 20.62 | I37: 19.81 | J37: 21.53 | K37: 19.57
A38: 7 | B38: 20.53 | C38: 22.16 | D38: 20.21 | E38: 19.87 | F38: 19.24 | G38: 19.23 | H38: 21.32 | I38: 20.41 | J38: 18.42 | K38: 18.44
A39: 8 | B39: 22.33 | C39: 21.33 | D39: 19.55 | E39: 20.05 | F39: 18.7 | G39: 20.31 | H39: 21.53 | I39: 21.51 | J39: 19.64 | K39: 17.68
A40: 9 | B40: 22.78 | C40: 21.6 | D40: 18.77 | E40: 20.7 | F40: 18.1 | G40: 21.13 | H40: 20.68 | I40: 20.34 | J40: 20.87 | K40: 19.53
A41: 10 | B41: 20.21 | C41: 20.84 | D41: 21.54 | E41: 18.94 | F41: 18.79 | G41: 20.41 | H41: 18.26 | I41: 20.3 | J41: 21.02 | K41: 20.07
I43: TỔNG | K43: =+SUM(B32:L41) -> 2029.27
A44: XE 4 | B44: APK
B45: 1 | C45: 2 | D45: 3 | E45: 4 | F45: 5 | G45: 6 | H45: 7 | I45: 8 | J45: 9 | K45: 10
A46: 1 | B46: 22.52 | C46: 20.63
A47: 2 | B47: 23.77 | C47: 20.74
A48: 3 | B48: 21.8 | C48: 19.77
A49: 4 | B49: 21.25 | C49: 20.22
A50: 5 | B50: 21.46 | C50: 22.03
A51: 6 | B51: 21.4 | C51: 22.63
A52: 7 | B52: 22.67 | C52: 22.1
A53: 8 | B53: 21.56 | C53: 21.22
A54: 9 | B54: 20.72 | C54: 20.61
A55: 10 | B55: 20.47 | C55: 22.28
I57: TỔNG | K57: =+SUM(B46:K55) -> 429.85

Sheet 10-09
A1: XE 1
B2: 1 | C2: 2 | D2: 3 | E2: 4 | F2: 5 | G2: 6 | H2: 7 | I2: 8 | J2: 9 | K2: 10
A3: 1 | B3: 12.62 | C3: 13.3 | D3: 12.86 | E3: 12.78 | F3: 12.58 | G3: 13 | H3: 13.42 | I3: 12.52 | J3: 13.58 | K3: 13.06
A4: 2 | B4: 13.22 | C4: 12.76 | D4: 12.86 | E4: 13.06 | F4: 13.14 | G4: 13.26 | H4: 12.66 | I4: 12.46 | J4: 13.3 | K4: 12.46
A5: 3 | B5: 12.88 | C5: 12.94 | D5: 12.7 | E5: 13.14 | F5: 12.5 | G5: 12.82 | H5: 14.18 | I5: 12.52 | J5: 13.02 | K5: 12.98
A6: 4 | B6: 13.16 | C6: 12.62 | D6: 13.02 | E6: 13.02 | F6: 13.48 | G6: 13.68 | H6: 12.94 | I6: 13.2 | J6: 13.82 | K6: 13.18
A7: 5 | B7: 13.66 | C7: 13.26 | D7: 12.52 | E7: 13.02 | F7: 13.66 | G7: 13.26 | H7: 12.2 | I7: 13.6 | J7: 13.16 | K7: 12.7
A8: 6 | B8: 13.66 | C8: 13.7 | D8: 12.48 | E8: 12.38 | F8: 13.92 | G8: 13.62 | H8: 13.94 | I8: 13.1 | J8: 13.2 | K8: 13.46
A9: 7 | B9: 13.3 | C9: 13.3 | D9: 13.14 | E9: 13.36 | F9: 13.12 | G9: 12.3 | H9: 13.64 | I9: 13.76 | J9: 13.74 | K9: 13.24
A10: 8 | B10: 13.34 | C10: 12.88 | D10: 12.96 | E10: 13.02 | F10: 12.64 | G10: 12.88 | H10: 13.34 | I10: 13.76 | J10: 13.7 | K10: 13.9
A11: 9 | B11: 14.46 | C11: 13.6 | D11: 13 | E11: 13.62 | F11: 12.92 | G11: 12.7 | H11: 12.48 | I11: 12.88 | J11: 12.7 | K11: 13.3
A12: 10 | B12: 12.82 | C12: 12.76 | D12: 12.84 | E12: 13.06 | F12: 13.54 | G12: 13.76 | H12: 13.28 | I12: 13.18 | J12: 13.42 | K12: 12.84
I14: TỔNG | K14: =+SUM(B3:K12) -> 1313.68
A15: XE 2
B16: 1 | C16: 2 | D16: 3 | E16: 4 | F16: 5 | G16: 6 | H16: 7 | I16: 8 | J16: 9 | K16: 10 | L16: 11
A17: 1 | B17: 12.44 | C17: 13.44 | D17: 12.7 | E17: 14.42 | F17: 13.68 | G17: 12.72 | H17: 12.34 | I17: 12.26 | J17: 12.8
A18: 2 | B18: 13.62 | C18: 13.52 | D18: 12.4 | E18: 13.96 | F18: 13.12 | G18: 12.18 | H18: 13.58 | I18: 12.62 | J18: 13.04
A19: 3 | B19: 13.42 | C19: 12.38 | D19: 13.5 | E19: 12.5 | F19: 13.34 | G19: 13.24 | H19: 12.68 | I19: 12.38 | J19: 13.2
A20: 4 | B20: 13.34 | C20: 12.74 | D20: 12.44 | E20: 13.7 | F20: 12.68 | G20: 13.76 | H20: 13.12 | I20: 12.32 | J20: 13.14
A21: 5 | B21: 12.96 | C21: 13.88 | D21: 13.64 | E21: 12.96 | F21: 12.64 | G21: 13.2 | H21: 13 | I21: 12.7 | J21: 13.16
A22: 6 | B22: 13.7 | C22: 12.96 | D22: 12.66 | E22: 13.32 | F22: 13.5 | G22: 12.9 | H22: 12.8 | I22: 13.2 | J22: 13.24
A23: 7 | B23: 13 | C23: 12.84 | D23: 12.36 | E23: 12.68 | F23: 13.76 | G23: 14.5 | H23: 12.24 | I23: 13.98 | J23: 12.48
A24: 8 | B24: 13.48 | C24: 13.5 | D24: 13.36 | E24: 13.54 | F24: 13.68 | G24: 13.2 | H24: 13.4 | I24: 13.28 | J24: 12.78
A25: 9 | B25: 12.88 | C25: 13.3 | D25: 13.58 | E25: 13.4 | F25: 12.52 | G25: 13.42 | H25: 12.34 | I25: 14.2
A26: 10 | B26: 13.7 | C26: 12.82 | D26: 12.86 | E26: 13.48 | F26: 13.7 | G26: 13.86 | H26: 13.52 | I26: 12.22
A27: 11
I29: TỔNG | K29: =+SUM(B17:L27) -> 1155
A30: XE 3
B31: 1 | C31: 2 | D31: 3 | E31: 4 | F31: 5 | G31: 6 | H31: 7 | I31: 8 | J31: 9 | K31: 10 | L31: 11
A32: 1 | B32: 14.6 | C32: 14.6 | D32: 14.6 | E32: 14.8 | F32: 14.7 | G32: 14.6 | H32: 14.9 | I32: 14.8 | J32: 14.8 | K32: 14.9
A33: 2 | B33: 14.8 | C33: 14.5 | D33: 14.7 | E33: 14.7 | F33: 14.5 | G33: 14.8 | H33: 14.9 | I33: 14.8 | J33: 14.8 | K33: 14.8
A34: 3 | B34: 14.7 | C34: 14.6 | D34: 14.5 | E34: 14.7 | F34: 14.8 | G34: 14.6 | H34: 14.8 | I34: 14.5 | J34: 14.7 | K34: 14.8
A35: 4 | B35: 14.8 | C35: 14.7 | D35: 14.9 | E35: 14.6 | F35: 14.9 | G35: 14.8 | H35: 14.9 | I35: 14.9 | J35: 14.7 | K35: 14.9
A36: 5 | B36: 14.9 | C36: 14.7 | D36: 14.5 | E36: 14.9 | F36: 14.8 | G36: 14.7 | H36: 14.8 | I36: 14.6 | J36: 14.8 | K36: 14.7
A37: 6 | B37: 14.5 | C37: 14.7 | D37: 14.9 | E37: 14.8 | F37: 14.8 | G37: 14.8 | H37: 14.8 | I37: 14.5 | J37: 14.8 | K37: 14.9
A38: 7 | B38: 14.6 | C38: 14.5 | D38: 14.9 | E38: 14.9 | F38: 14.4 | G38: 14.8 | H38: 14.8 | I38: 14.9 | J38: 14.8 | K38: 14.6
A39: 8 | B39: 14.5 | C39: 14.8 | D39: 14.7 | E39: 14.7 | F39: 14.7 | G39: 14.6 | H39: 14.7 | I39: 14.9 | J39: 14.8 | K39: 14.9
A40: 9 | B40: 14.5 | C40: 14.8 | D40: 14.7 | E40: 14.7 | F40: 14.9 | G40: 14.8 | H40: 14.8 | I40: 14.8 | J40: 14.9 | K40: 14.7
A41: 10 | B41: 14.5 | C41: 14.7 | D41: 14.6 | E41: 14.6 | F41: 14.7 | G41: 14.8 | H41: 14.9 | I41: 14.8 | J41: 14.8 | K41: 14.8
I43: TỔNG | K43: =+SUM(B32:L41) -> 1473.6
A44: XE 4
B45: 1 | C45: 2 | D45: 3 | E45: 4 | F45: 5 | G45: 6 | H45: 7 | I45: 8 | J45: 9 | K45: 10
A46: 1 | B46: 13.44 | C46: 13.08
A47: 2 | B47: 13.18 | C47: 13.14
A48: 3 | B48: 12.82
A49: 4 | B49: 12.66
A50: 5 | B50: 13.06
A51: 6 | B51: 12.82
A52: 7 | B52: 13.82
A53: 8 | B53: 13.42
A54: 9 | B54: 13.18
A55: 10 | B55: 14.92
I57: TỔNG | K57: =+SUM(B46:K55) -> 159.54

Sheet 11-09
A1: XE 1 | B1: SING
B2: 1 | C2: 2 | D2: 3 | E2: 4 | F2: 5 | G2: 6 | H2: 7 | I2: 8 | J2: 9 | K2: 10 | L2: 11
A3: 1 | B3: 15.2 | C3: 15.5 | D3: 15.4 | E3: 15.4 | F3: 15.6 | G3: 15.6 | H3: 15.9 | I3: 15.5 | J3: 15.7 | K3: 14.9
A4: 2 | B4: 15.4 | C4: 15.6 | D4: 15.2 | E4: 15.8 | F4: 15.4 | G4: 15.3 | H4: 15.6 | I4: 15.1 | J4: 15 | K4: 14.9
A5: 3 | B5: 15.5 | C5: 15.4 | D5: 15.6 | E5: 15.3 | F5: 15.5 | G5: 15.4 | H5: 15.2 | I5: 15.3 | J5: 15.2 | K5: 15.6
A6: 4 | B6: 15.5 | C6: 15.6 | D6: 15.4 | E6: 15.4 | F6: 15.4 | G6: 15.1 | H6: 15.4 | I6: 15.3 | J6: 15.3 | K6: 15.4
A7: 5 | B7: 15.4 | C7: 15.1 | D7: 15.3 | E7: 15.3 | F7: 15.3 | G7: 15.4 | H7: 15.4 | I7: 15.5 | J7: 15.4 | K7: 15.4
A8: 6 | B8: 15.9 | C8: 15.5 | D8: 15.2 | E8: 14.8 | F8: 15.5 | G8: 15.4 | H8: 15.2 | I8: 15.5 | J8: 15.2 | K8: 15.3
A9: 7 | B9: 15.2 | C9: 15.4 | D9: 15.3 | E9: 15.4 | F9: 15.3 | G9: 15.3 | H9: 15.3 | I9: 15.7 | J9: 15.1 | K9: 16.4
A10: 8 | B10: 15.3 | C10: 15.4 | D10: 15.3 | E10: 15.5 | F10: 15.3 | G10: 15.3 | H10: 15.4 | I10: 15.1 | J10: 15.5 | K10: 15.2
A11: 9 | B11: 15.5 | C11: 15.6 | D11: 15.3 | E11: 15.7 | F11: 15.4 | G11: 15.5 | H11: 15.5 | I11: 15.6 | J11: 15.5 | K11: 15.3
A12: 10 | B12: 15.5 | C12: 15.5 | D12: 15.2 | E12: 15.1 | F12: 15.3 | G12: 15.3 | H12: 15.7 | I12: 15.1 | J12: 15.5 | K12: 15.7
I14: TỔNG | K14: =+SUM(B3:L12) -> 1539.3
A15: XE 2 | B15: APK
B16: 1 | C16: 2 | D16: 3 | E16: 4 | F16: 5 | G16: 6 | H16: 7 | I16: 8 | J16: 9 | K16: 10 | L16: 11
A17: 1 | B17: 19.117 | C17: 20.87 | D17: 17.94 | E17: 20.68 | F17: 22.12 | G17: 20.17 | H17: 20.26
A18: 2 | B18: 19.81 | C18: 20.44 | D18: 20.83 | E18: 21.47 | F18: 21.97 | G18: 21.63 | H18: 22.15
A19: 3 | B19: 19.89 | C19: 25.69 | D19: 19.05 | E19: 22.22 | F19: 22.91 | G19: 19.65 | H19: 19.95
A20: 4 | B20: 18.76 | C20: 22.65 | D20: 20.36 | E20: 20.89 | F20: 20.41 | G20: 21.76 | H20: 21.16
A21: 5 | B21: 22.89 | C21: 22.79 | D21: 21.78 | E21: 19.61 | F21: 21.19 | G21: 18.76 | H21: 21.24
A22: 6 | B22: 21.01 | C22: 20.61 | D22: 19.57 | E22: 19.46 | F22: 20.73 | G22: 18.74 | H22: 20.7
A23: 7 | B23: 20.15 | C23: 17.61 | D23: 20.89 | E23: 22.65 | F23: 20.9 | G23: 20.77 | H23: 21.37
A24: 8 | B24: 17.98 | C24: 19.56 | D24: 21.21 | E24: 20.68 | F24: 21.42 | G24: 22.79 | H24: 20.06
A25: 9 | B25: 20.81 | C25: 19.77 | D25: 20.1 | E25: 21.17 | F25: 21.43 | G25: 21.33 | H25: 22.42
A26: 10 | B26: 20.43 | C26: 19.14 | D26: 21.13 | E26: 19.75 | F26: 19.59 | G26: 20.13 | H26: 20.02
A27: 11
I29: TỔNG | K29: =+SUM(B17:L27) -> 1449.147
A30: XE 3
B31: 1 | C31: 2 | D31: 3 | E31: 4 | F31: 5 | G31: 6 | H31: 7 | I31: 8 | J31: 9 | K31: 10 | L31: 11
A32: 1
A33: 2
A34: 3
A35: 4
A36: 5
A37: 6
A38: 7
A39: 8
A40: 9
A41: 10
I43: TỔNG | K43: =+SUM(B32:L41) -> 0
A44: XE 4
B45: 1 | C45: 2 | D45: 3 | E45: 4 | F45: 5 | G45: 6 | H45: 7 | I45: 8 | J45: 9 | K45: 10
A46: 1
A47: 2
A48: 3
A49: 4
A50: 5
A51: 6
A52: 7
A53: 8
A54: 9
A55: 10
I57: TỔNG | K57: =+SUM(B46:K55) -> 0

Sheet 12-09
A1: XE 1 | B1: APK
B2: 1 | C2: 2 | D2: 3 | E2: 4 | F2: 5 | G2: 6 | H2: 7 | I2: 8 | J2: 9 | K2: 10
A3: 1 | B3: 19.41 | C3: 20.67 | D3: 21.86 | E3: 21.55 | F3: 20.76 | G3: 18.1 | H3: 20.75
A4: 2 | B4: 21.33 | C4: 21.9 | D4: 20.52 | E4: 22.38 | F4: 19.09 | G4: 19.89 | H4: 20.85
A5: 3 | B5: 22.78 | C5: 19.42 | D5: 21.8 | E5: 21.45 | F5: 18.62 | G5: 19.27 | H5: 20.59
A6: 4 | B6: 17.51 | C6: 20.18 | D6: 18.64 | E6: 20.6 | F6: 19.32 | G6: 20.54 | H6: 20.93
A7: 5 | B7: 23.07 | C7: 22.31 | D7: 19.33 | E7: 22 | F7: 19.54 | G7: 21.54 | H7: 20.91
A8: 6 | B8: 19.28 | C8: 21.62 | D8: 21.64 | E8: 23.2 | F8: 21.11 | G8: 22.19 | H8: 19.83
A9: 7 | B9: 21.58 | C9: 20.67 | D9: 21.74 | E9: 21.24 | F9: 19.06 | G9: 18.79 | H9: 21.54
A10: 8 | B10: 20.44 | C10: 20.5 | D10: 22.12 | E10: 18.3 | F10: 21.4 | G10: 21.1 | H10: 20.81
A11: 9 | B11: 23.56 | C11: 19.19 | D11: 23.11 | E11: 21.17 | F11: 19.67 | G11: 19.72 | H11: 19.55
A12: 10 | B12: 19.91 | C12: 20.45 | D12: 20.85 | E12: 22.37 | F12: 19.19 | G12: 19.36 | H12: 20.55
I14: TỔNG | K14: =+SUM(B3:K12) -> 1446.22
A15: XE 2 | B15: GÀ SING
B16: 1 | C16: 2 | D16: 3 | E16: 4 | F16: 5 | G16: 6 | H16: 7 | I16: 8 | J16: 9 | K16: 10 | L16: 11
A17: 1 | B17: 15.1 | C17: 15.1 | D17: 15 | E17: 15.7 | F17: 15 | G17: 15 | H17: 15.1 | I17: 15.3 | J17: 15.5 | K17: 15.5
A18: 2 | B18: 15.5 | C18: 15.2 | D18: 15.2 | E18: 15.4 | F18: 15.3 | G18: 15.2 | H18: 15.2 | I18: 15.3 | J18: 15.3 | K18: 15.5
A19: 3 | B19: 15.3 | C19: 15.1 | D19: 15.1 | E19: 15.1 | F19: 15 | G19: 15.1 | H19: 15.3 | I19: 15.7 | J19: 15.3 | K19: 15.4
A20: 4 | B20: 15.5 | C20: 15.1 | D20: 15.5 | E20: 15.3 | F20: 15.1 | G20: 15.3 | H20: 15.3 | I20: 15.2 | J20: 15.1 | K20: 15.1
A21: 5 | B21: 15.1 | C21: 15.2 | D21: 15.3 | E21: 15.4 | F21: 15.1 | G21: 15.5 | H21: 15.3 | I21: 15.1 | J21: 15.2 | K21: 15.1
A22: 6 | B22: 15.1 | C22: 14.8 | D22: 15.1 | E22: 15 | F22: 15.2 | G22: 15.1 | H22: 15.4 | I22: 15.3 | J22: 15.5 | K22: 15.6
A23: 7 | B23: 15.2 | C23: 15.1 | D23: 15.1 | E23: 15.3 | F23: 15.1 | G23: 15.3 | H23: 15.3 | I23: 15.2 | J23: 15.2 | K23: 15.5
A24: 8 | B24: 15.4 | C24: 15.1 | D24: 15.2 | E24: 15.4 | F24: 14.7 | G24: 15.4 | H24: 15.5 | I24: 15.6 | J24: 15.1 | K24: 15
A25: 9 | B25: 15.4 | C25: 15 | D25: 15.1 | E25: 15.2 | F25: 15.4 | G25: 15.7 | H25: 15.3 | I25: 15.4 | J25: 15.2 | K25: 15.2
A26: 10 | B26: 15.2 | C26: 15.1 | D26: 15.2 | E26: 15.5 | F26: 15 | G26: 15.3 | H26: 15.5 | I26: 15.5 | J26: 15.3 | K26: 15.1
A27: 11
I29: TỔNG | K29: =+SUM(B17:L27) -> 1525
A30: XE 3 | B30: GÀ SING
B31: 1 | C31: 2 | D31: 3 | E31: 4 | F31: 5 | G31: 6 | H31: 7 | I31: 8 | J31: 9 | K31: 10 | L31: 11
A32: 1 | B32: 15.3 | C32: 15.4 | D32: 15.2 | E32: 14.9 | F32: 15.6 | G32: 16.9 | H32: 15.1 | I32: 15.3 | J32: 15.8 | K32: 15.3
A33: 2 | B33: 15.3 | C33: 15.6 | D33: 15.3 | E33: 15.3 | F33: 15.8 | G33: 15.2 | H33: 15.6 | I33: 15.5 | J33: 15.3 | K33: 15.2
A34: 3 | B34: 15.2 | C34: 15.5 | D34: 15.4 | E34: 15.6 | F34: 15.3 | G34: 15.8 | H34: 15.1 | I34: 15.6 | J34: 15.7 | K34: 15.3
A35: 4 | B35: 15.4 | C35: 15.8 | D35: 15.3 | E35: 15.2 | F35: 15.4 | G35: 15.4 | H35: 15.5 | I35: 15.5 | J35: 15.1 | K35: 15.7
A36: 5 | B36: 15.5 | C36: 15.6 | D36: 15.2 | E36: 15.5 | F36: 15.1 | G36: 15.5 | H36: 15.4 | I36: 15.3 | J36: 15.2 | K36: 15.5
A37: 6 | B37: 15.3 | C37: 15.5 | D37: 15.3 | E37: 15.1 | F37: 15.3 | G37: 15.4 | H37: 15.8 | I37: 15.4 | J37: 15.6 | K37: 15.4
A38: 7 | B38: 15.5 | C38: 15.4 | D38: 15.2 | E38: 15.2 | F38: 15.5 | G38: 15.6 | H38: 15.4 | I38: 14.7 | J38: 15.2 | K38: 15.7
A39: 8 | B39: 15.5 | C39: 15.4 | D39: 15.3 | E39: 15.4 | F39: 15.4 | G39: 15.3 | H39: 15.3 | I39: 15.4 | J39: 15.3 | K39: 15.5
A40: 9 | B40: 15.4 | C40: 15.3 | D40: 15.3 | E40: 15.2 | F40: 15.4 | G40: 15.6 | H40: 15.1 | I40: 15.1 | J40: 15.5 | K40: 15.5
A41: 10 | B41: 15.6 | C41: 15.5 | D41: 15.1 | E41: 15.4 | F41: 15.3 | G41: 15.3 | H41: 15.4 | I41: 15.3 | J41: 15.5 | K41: 15.1
I43: TỔNG | K43: =+SUM(B32:L41) -> 1539.7
A44: XE 4
B45: 1 | C45: 2 | D45: 3 | E45: 4 | F45: 5 | G45: 6 | H45: 7 | I45: 8 | J45: 9 | K45: 10
A46: 1
A47: 2
A48: 3
A49: 4
A50: 5
A51: 6
A52: 7
A53: 8
A54: 9
A55: 10
I57: TỔNG | K57: =+SUM(B46:K56) -> 0
A60: XE 5
B61: 1 | C61: 2 | D61: 3 | E61: 4 | F61: 5 | G61: 6 | H61: 7 | I61: 8 | J61: 9 | K61: 10 | L61: 11
A62: 1
A63: 2
A64: 3
A65: 4
A66: 5
A67: 6
A68: 7
A69: 8
A70: 9
A71: 10
I73: TỔNG | K73: =+SUM(B62:L71) -> 0

Sheet 14-09
A2: XE 1 | B2: GÀ SING
B3: 1 | C3: 2 | D3: 3 | E3: 4 | F3: 5 | G3: 6 | H3: 7 | I3: 8 | J3: 9 | K3: 10 | L3: 11
A4: 1 | B4: 15.3 | C4: 15.2 | D4: 15.2 | E4: 15.2 | F4: 15.3 | G4: 14.9 | H4: 15.7 | I4: 15.3 | J4: 15.2 | K4: 15.6
A5: 2 | B5: 15.3 | C5: 15.1 | D5: 15.3 | E5: 15.4 | F5: 15.8 | G5: 14.8 | H5: 15.2 | I5: 15.4 | J5: 15.4 | K5: 15.3
A6: 3 | B6: 15.4 | C6: 15.5 | D6: 15.5 | E6: 15.6 | F6: 15.2 | G6: 15.2 | H6: 15.3 | I6: 15.5 | J6: 15.3 | K6: 15.9
A7: 4 | B7: 15.6 | C7: 15.4 | D7: 15.5 | E7: 15.8 | F7: 15.3 | G7: 15.6 | H7: 15.3 | I7: 15.5 | J7: 15.2 | K7: 15.4
A8: 5 | B8: 15.7 | C8: 15.1 | D8: 15.4 | E8: 15.1 | F8: 15.4 | G8: 15.6 | H8: 15.7 | I8: 15.1 | J8: 15.3 | K8: 15.3
A9: 6 | B9: 15.5 | C9: 15.5 | D9: 15.2 | E9: 15.1 | F9: 15.4 | G9: 15.4 | H9: 15.6 | I9: 15.4 | J9: 15.1 | K9: 15.5
A10: 7 | B10: 15.2 | C10: 15.6 | D10: 15.4 | E10: 15.2 | F10: 15 | G10: 15.4 | H10: 15.4 | I10: 15.2 | J10: 15.5 | K10: 15.3
A11: 8 | B11: 15.2 | C11: 15.7 | D11: 15.3 | E11: 15.6 | F11: 15.4 | G11: 15.4 | H11: 15.7 | I11: 15.4 | J11: 15.5 | K11: 15.1
A12: 9 | B12: 15.3 | C12: 15.6 | D12: 15.2 | E12: 15.4 | F12: 15.5 | G12: 15.5 | H12: 15.3 | I12: 15.5 | J12: 15.6 | K12: 16
A13: 10 | B13: 15.2 | C13: 15.4 | D13: 15.4 | E13: 15 | F13: 15.3 | G13: 15.5 | H13: 15.5 | I13: 15.5 | J13: 15.6 | K13: 14.9
A14: 11
I16: TỔNG | K16: =+SUM(B4:L14) -> 1538
A18: XE 2 | B18: APK
B19: 1 | C19: 2 | D19: 3 | E19: 4 | F19: 5 | G19: 6 | H19: 7 | I19: 8 | J19: 9 | K19: 10 | L19: 11
A20: 1 | B20: 21.36 | C20: 19.01
A21: 2 | B21: 21.63 | C21: 17.8
A22: 3 | B22: 20.78 | C22: 20.79
A23: 4 | B23: 21.26 | C23: 19.3
A24: 5 | B24: 20.36 | C24: 21.98
A25: 6 | B25: 21.76
A26: 7 | B26: 21.41
A27: 8 | B27: 22.42
A28: 9 | B28: 21.79
A29: 10 | B29: 20.16
A30: 11
I32: TỔNG | K32: =+SUM(B20:L30) -> 311.81
A35: XE 3 | B35: APK
B36: 1 | C36: 2 | D36: 3 | E36: 4 | F36: 5 | G36: 6 | H36: 7 | I36: 8 | J36: 9 | K36: 10 | L36: 11
A37: 1 | B37: 21.34 | C37: 21.06 | D37: 19.18
A38: 2 | B38: 18.63 | C38: 21.54 | D38: 18.66
A39: 3 | B39: 20.45 | C39: 19.74 | D39: 19.77
A40: 4 | B40: 20.05 | C40: 22.22 | D40: 19.84
A41: 5 | B41: 18.98 | C41: 24.09 | D41: 19.79
A42: 6 | B42: 17.67 | C42: 17.49
A43: 7 | B43: 23.63 | C43: 22.28
A44: 8 | B44: 18.66 | C44: 21.2
A45: 9 | B45: 19.5 | C45: 20.71
A46: 10 | B46: 20.39 | C46: 18.48
A47: 11
I49: TỔNG | K49: =+SUM(B37:L47) -> 505.35
A53: XE 4 | B53: APK
B54: 1 | C54: 2 | D54: 3 | E54: 4 | F54: 5 | G54: 6 | H54: 7 | I54: 8 | J54: 9 | K54: 10 | L54: 11
A55: 1 | B55: 20.33 | C55: 21.43 | D55: 19.31 | E55: 18.26 | F55: 21.28 | G55: 19.97 | H55: 22.25 | I55: 17.89 | J55: 19.73 | K55: 22.85
A56: 2 | B56: 19.77 | C56: 21.75 | D56: 20.73 | E56: 18.23 | F56: 21.25 | G56: 21.98 | H56: 19.76 | I56: 18.95 | J56: 19.27 | K56: 19.8
A57: 3 | B57: 21.33 | C57: 17.29 | D57: 18.2 | E57: 20.87 | F57: 22.48 | G57: 18.87 | H57: 18.44 | I57: 21.06 | J57: 20.03 | K57: 17.54
A58: 4 | B58: 19 | C58: 21.81 | D58: 18.44 | E58: 18.82 | F58: 21.65 | G58: 21.76 | H58: 21.82 | I58: 18.72 | J58: 21.61 | K58: 19.22
A59: 5 | B59: 19.31 | C59: 19.49 | D59: 20.36 | E59: 16.83 | F59: 22.5 | G59: 20.76 | H59: 17.5 | I59: 20.33 | J59: 18.54 | K59: 21.3
A60: 6 | B60: 21.96 | C60: 18.47 | D60: 19.2 | E60: 21.77 | F60: 21.49 | G60: 20.43 | H60: 18.41 | I60: 19.36 | J60: 22.67 | K60: 21.76
A61: 7 | B61: 22.94 | C61: 17.4 | D61: 19.93 | E61: 23.73 | F61: 17.42 | G61: 19.44 | H61: 19.37 | I61: 18.65 | J61: 21.68 | K61: 19.92
A62: 8 | B62: 18.97 | C62: 19.14 | D62: 19.9 | E62: 20.01 | F62: 25.08 | G62: 19.55 | H62: 18.71 | I62: 18.6 | J62: 19.19 | K62: 22.1
A63: 9 | B63: 19.44 | C63: 17.26 | D63: 19.85 | E63: 23.75 | F63: 22.83 | G63: 17.88 | H63: 20.68 | I63: 18.67 | J63: 20.61 | K63: 18.63
A64: 10 | B64: 21.08 | C64: 17.65 | D64: 19.89 | E64: 22.98 | F64: 20.04 | G64: 21.24 | H64: 18.68 | I64: 21.97 | J64: 20.46 | K64: 18.43
A65: 11
I67: TỔNG | K67: =+SUM(B55:L65) -> 2009.94

Sheet 16-09
A2: XE 1 | B2: APK
B3: 1 | C3: 2 | D3: 3 | E3: 4 | F3: 5 | G3: 6 | H3: 7 | I3: 8 | J3: 9 | K3: 10 | L3: 11
A4: 1 | B4: 21.5 | C4: 17.42 | D4: 16.85
A5: 2 | B5: 21.72 | C5: 18.01 | D5: 19.89
A6: 3 | B6: 18.88 | C6: 16.32
A7: 4 | B7: 21.89 | C7: 16.74
A8: 5 | B8: 22.06 | C8: 18.02
A9: 6 | B9: 17.01 | C9: 19.65
A10: 7 | B10: 18.62 | C10: 16.56
A11: 8 | B11: 16.55 | C11: 18.08
A12: 9 | B12: 17.58 | C12: 19.03
A13: 10 | B13: 18.87 | C13: 18.83
A14: 11
I16: TỔNG | K16: =+SUM(B4:L14) -> 410.08
A19: XE 2 | B19: GÀ SING
B20: 1 | C20: 2 | D20: 3 | E20: 4 | F20: 5 | G20: 6 | H20: 7 | I20: 8 | J20: 9 | K20: 10 | L20: 11
A21: 1 | B21: 15.3 | C21: 15.4 | D21: 15.3 | E21: 15.6 | F21: 15.6 | G21: 15.2 | H21: 15.2 | I21: 16 | J21: 15.6 | K21: 15.3
A22: 2 | B22: 15.5 | C22: 15.6 | D22: 15.2 | E22: 15.8 | F22: 15.2 | G22: 15.5 | H22: 15.2 | I22: 15.4 | J22: 15.5 | K22: 15.4
A23: 3 | B23: 15.5 | C23: 15.5 | D23: 15 | E23: 15.2 | F23: 15.1 | G23: 15.1 | H23: 15.3 | I23: 15.4 | J23: 15.1 | K23: 15.1
A24: 4 | B24: 15.2 | C24: 15.4 | D24: 15.5 | E24: 15.3 | F24: 15.4 | G24: 15.5 | H24: 15.2 | I24: 15.1 | J24: 15.2 | K24: 15.5
A25: 5 | B25: 15.7 | C25: 15.2 | D25: 15.5 | E25: 15.2 | F25: 15.4 | G25: 15.3 | H25: 15.1 | I25: 15.6 | J25: 15.4 | K25: 15.1
A26: 6 | B26: 15.5 | C26: 15.3 | D26: 15.3 | E26: 15.5 | F26: 15 | G26: 15.2 | H26: 15.2 | I26: 15.2 | J26: 15.2 | K26: 15
A27: 7 | B27: 15.4 | C27: 15.2 | D27: 15.2 | E27: 15.4 | F27: 15.5 | G27: 15.6 | H27: 15.5 | I27: 15.1 | J27: 15.5 | K27: 15.6
A28: 8 | B28: 15.5 | C28: 15 | D28: 15.2 | E28: 15.2 | F28: 15.2 | G28: 15.4 | H28: 15.3 | I28: 15.2 | J28: 15.3 | K28: 15.7
A29: 9 | B29: 15.3 | C29: 15.1 | D29: 15.2 | E29: 15.4 | F29: 15.1 | G29: 15.1 | H29: 15.2 | I29: 15.1 | J29: 15.1 | K29: 15.2
A30: 10 | B30: 15.5 | C30: 15.6 | D30: 15.3 | E30: 15.5 | F30: 15.3 | G30: 15.5 | H30: 15.3 | I30: 15.2 | J30: 15.2 | K30: 15.4
A31: 11
I33: TỔNG | K33: =+SUM(B21:L31) -> 1532.9
A36: XE 3 | B36: APK
B37: 1 | C37: 2 | D37: 3 | E37: 4 | F37: 5 | G37: 6 | H37: 7 | I37: 8 | J37: 9 | K37: 10 | L37: 11
A38: 1 | B38: 19.1 | C38: 19.81 | D38: 20.89 | E38: 20.33 | F38: 18.15 | G38: 20.13 | H38: 21.95 | I38: 20.28 | J38: 20.91 | K38: 17.75
A39: 2 | B39: 18.08 | C39: 19 | D39: 20.17 | E39: 20.17 | F39: 22.27 | G39: 21.55 | H39: 21.79 | I39: 21.14 | J39: 21.94 | K39: 19.3
A40: 3 | B40: 17.38 | C40: 21.88 | D40: 18.38 | E40: 22.23 | F40: 19.03 | G40: 21.86 | H40: 22.86 | I40: 21.36 | J40: 21.12 | K40: 21.12
A41: 4 | B41: 16.92 | C41: 17.83 | D41: 19.39 | E41: 18.76 | F41: 17.94 | G41: 19.06 | H41: 22.32 | I41: 21.09 | J41: 20.38 | K41: 18.06
A42: 5 | B42: 18.26 | C42: 16.66 | D42: 21.29 | E42: 20.95 | F42: 20.65 | G42: 21.96 | H42: 22.45 | I42: 18.36 | J42: 21.34 | K42: 19.33
A43: 6 | B43: 19.3 | C43: 17.08 | D43: 20.56 | E43: 20.2 | F43: 18.98 | G43: 21.69 | H43: 21.24 | I43: 20.43 | J43: 20.12 | K43: 21.11
A44: 7 | B44: 18.31 | C44: 20.62 | D44: 21.33 | E44: 20.2 | F44: 20.91 | G44: 20.35 | H44: 23.03 | I44: 20.7 | J44: 20.91 | K44: 19.65
A45: 8 | B45: 16.99 | C45: 20.74 | D45: 20.97 | E45: 20.48 | F45: 17.24 | G45: 19.44 | H45: 23.14 | I45: 22.84 | J45: 21.3 | K45: 20.87
A46: 9 | B46: 19.82 | C46: 18.04 | D46: 19.28 | E46: 19.94 | F46: 20.26 | G46: 23.51 | H46: 20.47 | I46: 19.95 | J46: 21.31 | K46: 19.63
A47: 10 | B47: 19.63 | C47: 17.99 | D47: 18.76 | E47: 18.86 | F47: 21.9 | G47: 20.99 | H47: 21.66 | I47: 19.71 | J47: 17.14 | K47: 21.63
A48: 11
I50: TỔNG | K50: =+SUM(B38:L48) -> 2016.14
A54: XE 4
B55: 1 | C55: 2 | D55: 3 | E55: 4 | F55: 5 | G55: 6 | H55: 7 | I55: 8 | J55: 9 | K55: 10 | L55: 11
A56: 1 | B56: 18.52 | C56: 17.43
A57: 2 | B57: 21.17 | C57: 19.71
A58: 3 | B58: 19.51 | C58: 21.64
A59: 4 | B59: 20.77 | C59: 21.27
A60: 5 | B60: 20.42 | C60: 21.54
A61: 6 | B61: 20.92 | C61: 19.37
A62: 7 | B62: 20.61 | C62: 21.38
A63: 8 | B63: 19.61 | C63: 17.53
A64: 9 | B64: 20.35
A65: 10 | B65: 19.22
A66: 11
I68: TỔNG | K68: =+SUM(B56:L66) -> 360.97

Sheet 17-09
A2: XE 1 | B2: GÀ SING
B3: 1 | C3: 2 | D3: 3 | E3: 4 | F3: 5 | G3: 6 | H3: 7 | I3: 8 | J3: 9 | K3: 10 | L3: 11
A4: 1 | B4: 15.2 | C4: 15.5 | D4: 15.5 | E4: 15.2 | F4: 15.4 | G4: 15.3 | H4: 14.9 | I4: 15.3 | J4: 15.1 | K4: 15.3
A5: 2 | B5: 15.6 | C5: 15.3 | D5: 15.6 | E5: 15.4 | F5: 15.1 | G5: 15.4 | H5: 15.6 | I5: 15.3 | J5: 15.3 | K5: 15.2
A6: 3 | B6: 15.3 | C6: 15.1 | D6: 15.4 | E6: 15.5 | F6: 15.2 | G6: 15.7 | H6: 15.4 | I6: 15 | J6: 15.3 | K6: 15.1
A7: 4 | B7: 15.1 | C7: 15.6 | D7: 15 | E7: 15.3 | F7: 15.3 | G7: 15 | H7: 14.9 | I7: 15.4 | J7: 15.4 | K7: 15.2
A8: 5 | B8: 15.2 | C8: 15 | D8: 15.4 | E8: 15.6 | F8: 15.5 | G8: 15.2 | H8: 15 | I8: 15.2 | J8: 15 | K8: 15.4
A9: 6 | B9: 15.3 | C9: 15.5 | D9: 15.6 | E9: 15.2 | F9: 15.5 | G9: 15.2 | H9: 14.9 | I9: 15.4 | J9: 14.9 | K9: 15.2
A10: 7 | B10: 15.1 | C10: 15.2 | D10: 15.2 | E10: 15.6 | F10: 15.3 | G10: 15.3 | H10: 15.5 | I10: 15.5 | J10: 15.2 | K10: 15.2
A11: 8 | B11: 15.1 | C11: 15.2 | D11: 15.3 | E11: 15.5 | F11: 15 | G11: 15 | H11: 15.6 | I11: 15.3 | J11: 15.3 | K11: 15.4
A12: 9 | B12: 15.2 | C12: 15.4 | D12: 15.2 | E12: 15.3 | F12: 15.2 | G12: 15.7 | H12: 15.2 | I12: 15.3 | J12: 15.4 | K12: 15.3
A13: 10 | B13: 15.2 | C13: 15.2 | D13: 15.9 | E13: 15.4 | F13: 15.3 | G13: 15.4 | H13: 15.4 | I13: 15.4 | J13: 15.3 | K13: 15.1
A14: 11
I16: TỔNG | K16: =+SUM(B4:L14) -> 1529.5
A18: XE 2 | B18: GA SING
B19: 1 | C19: 2 | D19: 3 | E19: 4 | F19: 5 | G19: 6 | H19: 7 | I19: 8 | J19: 9 | K19: 10 | L19: 11
A20: 1 | B20: 15.4 | C20: 15.5 | D20: 15.3 | E20: 15.1 | F20: 16.3
A21: 2 | B21: 15.3 | C21: 15.5 | D21: 15.3 | E21: 15 | F21: 15.7
A22: 3 | B22: 15.2 | C22: 14.9 | D22: 15.3 | E22: 15.3 | F22: 15.2
A23: 4 | B23: 15.4 | C23: 15 | D23: 15.3 | E23: 14.8 | F23: 15.3
A24: 5 | B24: 15.1 | C24: 15.6 | D24: 15.2 | E24: 14.9
A25: 6 | B25: 15 | C25: 15.3 | D25: 15.3 | E25: 15.3
A26: 7 | B26: 15.2 | C26: 15.2 | D26: 15.2 | E26: 15.4
A27: 8 | B27: 15.2 | C27: 15.1 | D27: 15.1 | E27: 15.3
A28: 9 | B28: 15.4 | C28: 15.1 | D28: 15.2 | E28: 15.6
A29: 10 | B29: 15 | C29: 15.2 | D29: 15.2 | E29: 15.3
A30: 11
I32: TỔNG | K32: =+SUM(B20:L30) -> 671.5
A36: XE 3 | B36: TONI
B37: 1 | C37: 2 | D37: 3 | E37: 4 | F37: 5 | G37: 6 | H37: 7 | I37: 8 | J37: 9 | K37: 10 | L37: 11 | M37: 12
A38: 1 | B38: 12.5 | C38: 12.26 | D38: 12.22 | E38: 12.58 | F38: 13.2
A39: 2 | B39: 12.8 | C39: 12.54 | D39: 13.32 | E39: 13.5 | F39: 12.32
A40: 3 | B40: 12.5 | C40: 13.26 | D40: 13.86 | E40: 13.18 | F40: 13.12
A41: 4 | B41: 13.16 | C41: 12.72 | D41: 13.2 | E41: 13.08 | F41: 12.12
A42: 5 | B42: 13.86 | C42: 13.34 | D42: 13.42 | E42: 12.94 | F42: 13.74
A43: 6 | B43: 13.06 | C43: 12.54 | D43: 12.58 | E43: 13.3 | F43: 13.54
A44: 7 | B44: 13.8 | C44: 12.86 | D44: 13.52 | E44: 13.3 | F44: 12.1
A45: 8 | B45: 13.28 | C45: 12.78 | D45: 13 | E45: 13.62 | F45: 12.74
A46: 9 | B46: 13.34 | C46: 13.24 | D46: 12.42 | E46: 13.92 | F46: 12.36
A47: 10 | B47: 12.44 | C47: 12.94 | D47: 13.38 | E47: 13.14 | F47: 13
A48: 11
I50: TỔNG | K50: =+SUM(B38:M48) -> 650.94
A53: XE 4 | B53: TONI
B54: 1 | C54: 2 | D54: 3 | E54: 4 | F54: 5 | G54: 6 | H54: 7 | I54: 8 | J54: 9 | K54: 10 | L54: 11 | M54: 12
A55: 1 | B55: 13.1 | C55: 12.62 | D55: 13.6 | E55: 13.18 | F55: 12.56 | G55: 13.56 | H55: 13.32 | I55: 12.84 | J55: 13.24 | K55: 13.06
A56: 2 | B56: 13.38 | C56: 14.78 | D56: 13.16 | E56: 12.3 | F56: 13.7 | G56: 13.24 | H56: 13.14 | I56: 12.64 | J56: 13.76 | K56: 12.52
A57: 3 | B57: 12.86 | C57: 12.16 | D57: 13.74 | E57: 13 | F57: 12.78 | G57: 13.78 | H57: 13.66 | I57: 12.84 | J57: 13.22 | K57: 13.38
A58: 4 | B58: 13.24 | C58: 12.96 | D58: 12.86 | E58: 13.62 | F58: 12.72 | G58: 12.78 | H58: 13 | I58: 13.42 | J58: 12.44 | K58: 12.38
A59: 5 | B59: 12.48 | C59: 13.74 | D59: 13.18 | E59: 12.3 | F59: 14.28 | G59: 12.74 | H59: 13.76 | I59: 13.32 | J59: 13.32 | K59: 12.02
A60: 6 | B60: 12.46 | C60: 12.7 | D60: 12.28 | E60: 12.78 | F60: 13.16 | G60: 13.4 | H60: 13.88 | I60: 12.52 | J60: 13.3 | K60: 13.54
A61: 7 | B61: 12.8 | C61: 13.48 | D61: 13.12 | E61: 13.12 | F61: 13.18 | G61: 12.46 | H61: 12.56 | I61: 13.02 | J61: 13.42 | K61: 13.36
A62: 8 | B62: 12.44 | C62: 12.4 | D62: 12.32 | E62: 13.24 | F62: 13.44 | G62: 12.4 | H62: 14.8 | I62: 14.22 | J62: 13.88 | K62: 13.68
A63: 9 | B63: 13.38 | C63: 13.38 | D63: 13.08 | E63: 12.9 | F63: 13.78 | G63: 12.28 | H63: 13.32 | I63: 13.88 | J63: 12.68 | K63: 12.78
A64: 10 | B64: 12.7 | C64: 13 | D64: 12.98 | E64: 12.52 | F64: 13.4 | G64: 13.1 | H64: 12.26 | I64: 12.88 | J64: 13.26 | K64: 13.56
A65: 11
I67: TỔNG | K67: =+SUM(B55:M65) -> 1310.16
A70: XE 5 | B70: TONI
B71: 1 | C71: 2 | D71: 3 | E71: 4 | F71: 5 | G71: 6 | H71: 7 | I71: 8 | J71: 9 | K71: 10 | L71: 11 | M71: 12
A72: 1 | B72: 13.4 | C72: 13.96 | D72: 13.62 | E72: 13.18 | F72: 13.84
A73: 2 | B73: 13.32 | C73: 12.66 | D73: 13.02 | E73: 13.64 | F73: 12.9
A74: 3 | B74: 12.78 | C74: 13.14 | D74: 13.1 | E74: 13.6 | F74: 13.36
A75: 4 | B75: 13.58 | C75: 12.84 | D75: 13.04 | E75: 13.5 | F75: 13.18
A76: 5 | B76: 13 | C76: 13.7 | D76: 13.3 | E76: 13.22 | F76: 12.62
A77: 6 | B77: 13.4 | C77: 12.98 | D77: 13.02 | E77: 13.62 | F77: 13.7
A78: 7 | B78: 13.36 | C78: 12.86 | D78: 12.86 | E78: 13.78 | F78: 13.96
A79: 8 | B79: 12.96 | C79: 13.1 | D79: 13.82 | E79: 12.68 | F79: 12.84
A80: 9 | B80: 13.74 | C80: 13.36 | D80: 13.32 | E80: 13.12 | F80: 12.92
A81: 10 | B81: 13.1 | C81: 13.96 | D81: 12.8 | E81: 13.08 | F81: 13.28
A82: 11
I84: TỔNG | K84: =+SUM(B72:M82) -> 663.12

Sheet 18-09
A2: XE 1 | B2: GÀ SING
B3: 1 | C3: 2 | D3: 3 | E3: 4 | F3: 5 | G3: 6 | H3: 7 | I3: 8 | J3: 9 | K3: 10 | L3: 11
A4: 1 | B4: 15.1 | C4: 15.1 | D4: 15.5 | E4: 15.2 | F4: 15 | G4: 15.4 | H4: 15.3 | I4: 15.3 | J4: 15.5 | K4: 15
A5: 2 | B5: 15.3 | C5: 15.2 | D5: 15.4 | E5: 15.2 | F5: 15.5 | G5: 15.2 | H5: 15.7 | I5: 15.4 | J5: 15.5 | K5: 15.6
A6: 3 | B6: 15.4 | C6: 15.1 | D6: 15.1 | E6: 15.8 | F6: 15.2 | G6: 15.1 | H6: 15.1 | I6: 15.8 | J6: 15.3 | K6: 15.4
A7: 4 | B7: 15.5 | C7: 15.1 | D7: 15.3 | E7: 15.4 | F7: 15.2 | G7: 15.6 | H7: 15.5 | I7: 15.2 | J7: 15.5 | K7: 15.2
A8: 5 | B8: 15.7 | C8: 15.3 | D8: 15.3 | E8: 15.2 | F8: 15.5 | G8: 15.5 | H8: 15.4 | I8: 15.1 | J8: 15.3 | K8: 15.2
A9: 6 | B9: 15.3 | C9: 15.3 | D9: 15.6 | E9: 15.2 | F9: 15.4 | G9: 15.5 | H9: 15.2 | I9: 15.2 | J9: 15.5 | K9: 15.2
A10: 7 | B10: 15.9 | C10: 15.6 | D10: 15.1 | E10: 15.3 | F10: 14.8 | G10: 15.1 | H10: 15.4 | I10: 15.5 | J10: 15.4 | K10: 15.2
A11: 8 | B11: 15.3 | C11: 15.1 | D11: 15.2 | E11: 15.1 | F11: 14.8 | G11: 15.5 | H11: 15.6 | I11: 15.3 | J11: 15.2 | K11: 14.9
A12: 9 | B12: 15.4 | C12: 15.3 | D12: 15.1 | E12: 15.3 | F12: 15.1 | G12: 15.6 | H12: 15.8 | I12: 15.4 | J12: 15.4 | K12: 15
A13: 10 | B13: 15.3 | C13: 15.1 | D13: 15.4 | E13: 15.4 | F13: 15.3 | G13: 15.4 | H13: 15.5 | I13: 15.3 | J13: 15.2 | K13: 15.6
A14: 11
I16: TỔNG | K16: =+SUM(B4:L14) -> 1532.3
A19: XE 2 | B19: GÀ SING
B20: 1 | C20: 2 | D20: 3 | E20: 4 | F20: 5 | G20: 6 | H20: 7 | I20: 8 | J20: 9 | K20: 10 | L20: 11
A21: 1 | B21: 15.2 | C21: 15.1 | D21: 15.1
A22: 2 | B22: 15.2 | C22: 15.5 | D22: 15.2
A23: 3 | B23: 15.3 | C23: 15.3 | D23: 15.1
A24: 4 | B24: 15 | C24: 15.2 | D24: 15.3
A25: 5 | B25: 15.4 | C25: 15.3 | D25: 15.3
A26: 6 | B26: 15.2 | C26: 15.1
A27: 7 | B27: 15.2 | C27: 15.7
A28: 8 | B28: 15.3 | C28: 15.3
A29: 9 | B29: 15.4 | C29: 15.2
A30: 10 | B30: 15.2 | C30: 15.3
A31: 11
I33: TỔNG | K33: =+SUM(B21:L31) -> 381.4
A36: XE 3 | B36: GÀ SING
B37: 1 | C37: 2 | D37: 3 | E37: 4 | F37: 5 | G37: 6 | H37: 7 | I37: 8 | J37: 9 | K37: 10 | L37: 11
A38: 1 | B38: 15.4 | C38: 15.2 | D38: 14.9
A39: 2 | B39: 15.4 | C39: 15.3 | D39: 15.2
A40: 3 | B40: 15.5 | C40: 15.3 | D40: 15.3
A41: 4 | B41: 15.6 | C41: 15.2 | D41: 15.5
A42: 5 | B42: 15.4 | C42: 15.4 | D42: 15.2
A43: 6 | B43: 15.6 | C43: 15.3
A44: 7 | B44: 15.4 | C44: 15.1
A45: 8 | B45: 15.6 | C45: 15.6
A46: 9 | B46: 15.2 | C46: 15.3
A47: 10 | B47: 15.6 | C47: 15.1
A48: 11
I50: TỔNG | K50: =+SUM(B38:L48) -> 383.6
A54: XE 4 | B54: TONNI
B55: 1 | C55: 2 | D55: 3 | E55: 4 | F55: 5 | G55: 6 | H55: 7 | I55: 8 | J55: 9 | K55: 10 | L55: 11
A56: 1 | B56: 12.06 | C56: 13.56 | D56: 13.64 | E56: 13.2 | F56: 12.48 | G56: 12.54 | H56: 12.58
A57: 2 | B57: 13.22 | C57: 14 | D57: 12.68 | E57: 13 | F57: 13.32 | G57: 13.44 | H57: 13.04
A58: 3 | B58: 13.4 | C58: 14 | D58: 13.1 | E58: 12.66 | F58: 13.06 | G58: 13.72 | H58: 13.42
A59: 4 | B59: 12.36 | C59: 12.68 | D59: 12.42 | E59: 12.48 | F59: 13.48 | G59: 13 | H59: 13.74
A60: 5 | B60: 14.46 | C60: 15.3 | D60: 13.36 | E60: 13.42 | F60: 12.88 | G60: 12.74 | H60: 12.64
A61: 6 | B61: 12.9 | C61: 13.48 | D61: 13.7 | E61: 13.22 | F61: 13.02 | G61: 13.1
A62: 7 | B62: 13.24 | C62: 13.04 | D62: 13.54 | E62: 13.04 | F62: 13.6 | G62: 12.82
A63: 8 | B63: 12.86 | C63: 13.64 | D63: 12.68 | E63: 13.64 | F63: 12.92 | G63: 13.34
A64: 9 | B64: 13.48 | C64: 13.72 | D64: 13.24 | E64: 12.62 | F64: 13.72 | G64: 13.82
A65: 10 | B65: 13.3 | C65: 13.32 | D65: 14 | E65: 13.28 | F65: 13.24 | G65: 12.92
A66: 11
I68: TỔNG | K68: =+SUM(B56:L66) -> 859.52
A72: XE 5 | B72: TONI
B73: 1 | C73: 2 | D73: 3 | E73: 4 | F73: 5 | G73: 6 | H73: 7 | I73: 8 | J73: 9 | K73: 10 | L73: 11
A74: 1 | B74: 13.58 | C74: 13.7 | D74: 10 | E74: 13.78 | F74: 13.26 | G74: 13.42 | H74: 13.48 | I74: 13.64 | J74: 14.3 | K74: 12.86
A75: 2 | B75: 12.86 | C75: 11.22 | D75: 12.42 | E75: 12.56 | F75: 12.7 | G75: 13.1 | H75: 13.42 | I75: 13.3 | J75: 12.78 | K75: 12.8
A76: 3 | B76: 12.76 | C76: 13.16 | D76: 13.1 | E76: 13.2 | F76: 13.66 | G76: 13.58 | H76: 13.36 | I76: 12.76 | J76: 12.86 | K76: 13
A77: 4 | B77: 12.56 | C77: 13.76 | D77: 13.9 | E77: 12.44 | F77: 13.16 | G77: 13.56 | H77: 12.78 | I77: 13.08 | J77: 13.18 | K77: 13
A78: 5 | B78: 13.22 | C78: 13.16 | D78: 13.48 | E78: 13.08 | F78: 12.82 | G78: 14.38 | H78: 13.58 | I78: 13.34 | J78: 12.86 | K78: 12.76
A79: 6 | B79: 13.08 | C79: 12.76 | D79: 13.46 | E79: 12.86 | F79: 13.36 | G79: 12.86 | H79: 13.14 | I79: 13.56 | J79: 12.7 | K79: 13
A80: 7 | B80: 13.32 | C80: 12.66 | D80: 12.76 | E80: 12.94 | F80: 13.78 | G80: 13.24 | H80: 12.44 | I80: 12.85 | J80: 13.54 | K80: 12.84
A81: 8 | B81: 12.66 | C81: 12.5 | D81: 13.2 | E81: 13.76 | F81: 13.48 | G81: 12.56 | H81: 13.88 | I81: 13.76 | J81: 13.54 | K81: 13.86
A82: 9 | B82: 13.64 | C82: 13.48 | D82: 12.4 | E82: 13.16 | F82: 13.12 | G82: 13.44 | H82: 13.34 | I82: 12.06 | J82: 12.52 | K82: 13.04
A83: 10 | B83: 13.1 | C83: 12.82 | D83: 12.42 | E83: 13.36 | F83: 12.46 | G83: 12.48 | H83: 13.56 | I83: 13.4 | J83: 13.36 | K83: 12.9
A84: 11
I86: TỔNG | K86: =+SUM(B74:L84) -> 1309.13
A90: XE 6 | B90: TONI
B91: 1 | C91: 2 | D91: 3 | E91: 4 | F91: 5 | G91: 6 | H91: 7 | I91: 8 | J91: 9 | K91: 10 | L91: 11
A92: 1 | B92: 12.64 | C92: 13.76 | D92: 12.48 | E92: 13.48
A93: 2 | B93: 13.32 | C93: 13.38 | D93: 12.82 | E93: 12.96
A94: 3 | B94: 13.72 | C94: 12.8 | D94: 13.16 | E94: 13.12
A95: 4 | B95: 13.6 | C95: 13.26 | D95: 12.7 | E95: 13.86
A96: 5 | B96: 13.42 | C96: 13.92 | D96: 12.98 | E96: 12.68
A97: 6 | B97: 13.06 | C97: 12.66 | D97: 13.22
A98: 7 | B98: 13.6 | C98: 12.9 | D98: 13.2
A99: 8 | B99: 13.44 | C99: 12.54 | D99: 12.88
A100: 9 | B100: 13.74 | C100: 13.04 | D100: 13.6
A101: 10 | B101: 13.12 | C101: 13.4 | D101: 13.44
A102: 11
I104: TỔNG | K104: =+SUM(B92:L102) -> 461.9
A107: XE 7 | B107: APK
B108: 1 | C108: 2 | D108: 3 | E108: 4 | F108: 5 | G108: 6 | H108: 7 | I108: 8 | J108: 9 | K108: 10 | L108: 11
A109: 1 | B109: 22.76 | C109: 21.42 | D109: 18.38 | E109: 21.47 | F109: 24.46 | G109: 20.7 | H109: 20.3 | I109: 20.65 | J109: 19.25 | K109: 20.54
A110: 2 | B110: 22.48 | C110: 20.32 | D110: 20.14 | E110: 20.66 | F110: 20.3 | G110: 19.11 | H110: 20.38 | I110: 18.27 | J110: 21.04 | K110: 21.23
A111: 3 | B111: 20.58 | C111: 20.66 | D111: 22.14 | E111: 20.66 | F111: 20.95 | G111: 21.55 | H111: 18.9 | I111: 21.62 | J111: 21.51 | K111: 20.85
A112: 4 | B112: 19.39 | C112: 22.21 | D112: 24.76 | E112: 23.12 | F112: 21.43 | G112: 21.54 | H112: 21 | I112: 20.45 | J112: 19.53 | K112: 20.19
A113: 5 | B113: 22.99 | C113: 22.36 | D113: 20.25 | E113: 19.72 | F113: 20.12 | G113: 19.62 | H113: 20.53 | I113: 20.68 | J113: 19.98 | K113: 20.45
A114: 6 | B114: 21.61 | C114: 20.16 | D114: 21.04 | E114: 20.73 | F114: 21.07 | G114: 19.48 | H114: 25.79 | I114: 20.37 | J114: 19.66 | K114: 19.01
A115: 7 | B115: 20.55 | C115: 19.89 | D115: 22.98 | E115: 20.47 | F115: 20.1 | G115: 19.6 | H115: 18.91 | I115: 21.51 | J115: 19.37 | K115: 20.93
A116: 8 | B116: 19.7 | C116: 21.25 | D116: 23.41 | E116: 21.62 | F116: 21.34 | G116: 18.58 | H116: 19.54 | I116: 20.1 | J116: 19.82 | K116: 22.69
A117: 9 | B117: 20.7 | C117: 23.71 | D117: 22.61 | E117: 22.42 | F117: 22 | G117: 21.42 | H117: 20.08 | I117: 21.19 | J117: 19.94 | K117: 22.09
A118: 10 | B118: 20.56 | C118: 21.98 | D118: 20.73 | E118: 23.46 | F118: 20.45 | G118: 22.88 | H118: 22.37 | I118: 18.86 | J118: 20.06 | K118: 19.56
A119: 11
I121: TỔNG | K121: =+SUM(B109:L119) -> 2091.95

Sheet 19-09
A2: XE 1 | B2: GÀ SING
B3: 1 | C3: 2 | D3: 3 | E3: 4 | F3: 5 | G3: 6 | H3: 7 | I3: 8 | J3: 9 | K3: 10 | L3: 11
A4: 1 | B4: 15.7 | C4: 15.1 | D4: 15.3
A5: 2 | B5: 15.3 | C5: 15.7 | D5: 15
A6: 3 | B6: 15.3 | C6: 15.3 | D6: 15.3
A7: 4 | B7: 15.1 | C7: 15.4 | D7: 15.1
A8: 5 | B8: 15.4 | C8: 15.2 | D8: 15.6
A9: 6 | B9: 15.3 | C9: 15.1
A10: 7 | B10: 15.4 | C10: 15.4
A11: 8 | B11: 15.6 | C11: 15.6
A12: 9 | B12: 15.2 | C12: 15.3
A13: 10 | B13: 15.5 | C13: 15.3
A14: 11
I16: TỔNG | K16: =+SUM(B4:L14) -> 383.5
A20: XE 2 | B20: GÀ SING
B21: 1 | C21: 2 | D21: 3 | E21: 4 | F21: 5 | G21: 6 | H21: 7 | I21: 8 | J21: 9 | K21: 10 | L21: 11
A22: 1 | B22: 15.4 | C22: 15.2 | D22: 15.3 | E22: 15.5 | F22: 14.9 | G22: 15.3 | H22: 15.4 | I22: 15.1 | J22: 15.3 | K22: 15.3
A23: 2 | B23: 15.4 | C23: 15.4 | D23: 15.3 | E23: 15.6 | F23: 14.9 | G23: 15.2 | H23: 15.3 | I23: 15.3 | J23: 15.2 | K23: 15.1
A24: 3 | B24: 15.3 | C24: 15.4 | D24: 15.5 | E24: 15.5 | F24: 15.2 | G24: 15.2 | H24: 15.5 | I24: 16 | J24: 15.5 | K24: 15.2
A25: 4 | B25: 15.3 | C25: 15.1 | D25: 15.1 | E25: 15.3 | F25: 15.2 | G25: 15.6 | H25: 15.5 | I25: 14.9 | J25: 15.3 | K25: 15.6
A26: 5 | B26: 15.4 | C26: 15.1 | D26: 15.4 | E26: 15.3 | F26: 15.5 | G26: 15.5 | H26: 15.5 | I26: 15.5 | J26: 15.4 | K26: 15.3
A27: 6 | B27: 15.3 | C27: 15.3 | D27: 15.1 | E27: 15.2 | F27: 15.7 | G27: 15.5 | H27: 15.4 | I27: 15.5 | J27: 15.4 | K27: 15.4
A28: 7 | B28: 15.3 | C28: 15.4 | D28: 15.1 | E28: 15.3 | F28: 15.1 | G28: 15.4 | H28: 15.5 | I28: 15.4 | J28: 15.2 | K28: 15.3
A29: 8 | B29: 15.1 | C29: 15 | D29: 15.5 | E29: 15.3 | F29: 15.2 | G29: 15.5 | H29: 15.2 | I29: 15.5 | J29: 15.1 | K29: 15.4
A30: 9 | B30: 15.4 | C30: 15.4 | D30: 15.4 | E30: 15.4 | F30: 15.2 | G30: 15.8 | H30: 15.5 | I30: 15.4 | J30: 15.3 | K30: 15.1
A31: 10 | B31: 15.3 | C31: 15.5 | D31: 15.3 | E31: 15.5 | F31: 15.6 | G31: 15.3 | H31: 15.4 | I31: 15.4 | J31: 15.4 | K31: 14.9
A32: 11
I34: TỔNG | K34: =+SUM(B22:L32) -> 1533.6
A38: XE 3 | B38: GÀ SING
B39: 1 | C39: 2 | D39: 3 | E39: 4 | F39: 5 | G39: 6 | H39: 7 | I39: 8 | J39: 9 | K39: 10 | L39: 11
A40: 1 | B40: 15.3 | C40: 15.5 | D40: 15.2
A41: 2 | B41: 15.2 | C41: 15.2 | D41: 15
A42: 3 | B42: 15.3 | C42: 15.3 | D42: 15.1
A43: 4 | B43: 15.5 | C43: 14.9 | D43: 15.3
A44: 5 | B44: 15.2 | C44: 14.9 | D44: 15.4
A45: 6 | B45: 15.1 | C45: 15.2
A46: 7 | B46: 15.2 | C46: 15.3
A47: 8 | B47: 15.1 | C47: 15
A48: 9 | B48: 15.1 | C48: 15.6
A49: 10 | B49: 15.3 | C49: 15.2
A50: 11
I52: TỔNG | K52: =+SUM(B40:L50) -> 380.4
A56: XE 4 | B56: TONI
B57: 1 | C57: 2 | D57: 3 | E57: 4 | F57: 5 | G57: 6 | H57: 7 | I57: 8 | J57: 9 | K57: 10 | L57: 11
A58: 1 | B58: 13.52 | C58: 13.04 | D58: 13.92 | E58: 13.22 | F58: 12.84 | G58: 12.34 | H58: 12.46 | I58: 13.5 | J58: 12.96 | K58: 13.38
A59: 2 | B59: 13.36 | C59: 12.34 | D59: 12.84 | E59: 13.1 | F59: 13.64 | G59: 13.38 | H59: 12.98 | I59: 12.74 | J59: 12.66 | K59: 13.14
A60: 3 | B60: 13.58 | C60: 13.4 | D60: 13.26 | E60: 13.62 | F60: 14.14 | G60: 13.42 | H60: 13.56 | I60: 13.64 | J60: 13.12 | K60: 13.08
A61: 4 | B61: 13.02 | C61: 12.32 | D61: 13.34 | E61: 13.04 | F61: 12.7 | G61: 13.06 | H61: 12.64 | I61: 12.48 | J61: 13.18 | K61: 13.96
A62: 5 | B62: 12.74 | C62: 12.3 | D62: 12.54 | E62: 12.46 | F62: 12.66 | G62: 13.88 | H62: 13.02 | I62: 12.54 | J62: 13.74 | K62: 12.46
A63: 6 | B63: 13.26 | C63: 12.68 | D63: 12.7 | E63: 13.08 | F63: 13.26 | G63: 12.2 | H63: 13.1 | I63: 13.7 | J63: 12.78 | K63: 12.68
A64: 7 | B64: 13.24 | C64: 13.22 | D64: 12.46 | E64: 12.84 | F64: 13.32 | G64: 13.1 | H64: 13.96 | I64: 13.34 | J64: 12.74 | K64: 12.7
