Workbook
Name _1400B: #REF!
Name _1400B: #REF!
Name _1400B: #REF!
Name _1400B: #REF!
Name _1400B: #REF!
Name _1400B: #REF!
Name _1400B: #REF!
Name _1400B: #REF!
Name _1400B: #REF!
Name _1400B: #REF!
Name _1400B: #REF!
Name _1400B: #REF!
Name _1400B: #REF!
Name _1400B: #REF!
Name _1400B: #REF!
Name _1400B: #REF!
Name _1400B: #REF!
Name _1400B: #REF!
Name _1400B: #REF!
Name _1400B: #REF!
Name _1400B: #REF!
Name _1400B: #REF!
Name _1400B: #REF!
Name _1400B: #REF!
Name _403: #REF!
Name _403: #REF!
Name _403: #REF!
Name _403: #REF!
Name _403: #REF!
Name _403: #REF!
Name _403: #REF!
Name _403: #REF!
Name _403: #REF!
Name _403: #REF!
Name _403: #REF!
Name _403: #REF!
Name _403: #REF!
Name _403: #REF!
Name _403: #REF!
Name _403: #REF!
Name _403: #REF!
Name _403: #REF!
Name _403: #REF!
Name _403: #REF!
Name _403: #REF!
Name _403: #REF!
Name _403: #REF!
Name _403: #REF!
Name _403B: #REF!
Name _403B: #REF!
Name _403B: #REF!
Name _403B: #REF!
Name _403B: #REF!
Name _403B: #REF!
Name _403B: #REF!
Name _403B: #REF!
Name _403B: #REF!
Name _403B: #REF!
Name _403B: #REF!
Name _403B: #REF!

Sheet NGAY 01-12
A1: XE 1 - GÀ
B2: 1 | C2: 2 | D2: 3 | E2: 4 | F2: 5 | G2: 6 | H2: 7 | I2: 8 | J2: 9 | K2: 10
A3: 1 | B3: 15.2 | C3: 15.1 | D3: 15.2 | E3: 14.8 | F3: 15.2 | G3: 15.5 | H3: 15.5 | I3: 15.3 | J3: 15.4 | K3: 15.4
A4: 2 | B4: 15.4 | C4: 15.2 | D4: 15.3 | E4: 14.9 | F4: 15 | G4: 15.1 | H4: 15.6 | I4: 15.4 | J4: 15.3 | K4: 15.1
A5: 3 | B5: 15.3 | C5: 15.3 | D5: 15.5 | E5: 15.2 | F5: 15.1 | G5: 15 | H5: 15.3 | I5: 15.1 | J5: 15.1 | K5: 15
A6: 4 | B6: 15.3 | C6: 15.2 | D6: 15.3 | E6: 15.1 | F6: 15.3 | G6: 15.1 | H6: 15.3 | I6: 15.5 | J6: 0.15 | K6: 15
A7: 5 | B7: 15.6 | C7: 15.1 | D7: 15.3 | E7: 15.7 | F7: 15.3 | G7: 15.5 | H7: 15.3 | I7: 15.3 | J7: 15.4 | K7: 15.8
A8: 6 | B8: 15 | C8: 15.1 | D8: 15.2 | E8: 15.1 | F8: 15.4 | G8: 15.3 | H8: 15.5 | I8: 15.3 | J8: 15.4 | K8: 15
A9: 7 | B9: 15.2 | C9: 15.3 | D9: 15.3 | E9: 15.5 | F9: 15.4 | G9: 15.3 | H9: 15.4 | I9: 15.3 | J9: 15.3 | K9: 15.2
A10: 8 | B10: 15.2 | C10: 15.3 | D10: 15.3 | E10: 15.4 | F10: 15.1 | G10: 15.3 | H10: 15.2 | I10: 15.1 | J10: 15.3 | K10: 15.4
A11: 9 | B11: 15.3 | C11: 15.2 | D11: 15.3 | E11: 15.3 | F11: 15.3 | G11: 15.3 | H11: 15.5 | I11: 15.1 | J11: 15.3 | K11: 14.9
A12: 10 | B12: 15.4 | C12: 15.2 | D12: 15 | E12: 15.3 | F12: 15.5 | G12: 15 | H12: 15.2 | I12: 15.1 | J12: 15.4 | K12: 15.2
I14: TỔNG | K14: =+SUM(B3:K12) -> 1511.25
A15: XE 2 - GIÒ
B16: 1 | C16: 2 | D16: 3 | E16: 4 | F16: 5 | G16: 6 | H16: 7 | I16: 8 | J16: 9 | K16: 10
A17: 1 | B17: 19.14 | C17: 18.48 | D17: 18.52 | E17: 17.38 | F17: 18.88 | G17: 18.24 | H17: 17.38 | I17: 17.48 | J17: 17.34 | K17: 17.92
A18: 2 | B18: 18.92 | C18: 20.16 | D18: 18.7 | E18: 18.38 | F18: 17.58 | G18: 18.18 | H18: 17.98 | I18: 18.48 | J18: 17.3 | K18: 17.56
A19: 3 | B19: 20.06 | C19: 18.38 | D19: 18.5 | E19: 17.32 | F19: 18.2 | G19: 18.6 | H19: 17.98 | I19: 17.4 | J19: 17.18 | K19: 18.34
A20: 4 | B20: 19.24 | C20: 17.52 | D20: 17.7 | E20: 19.08 | F20: 17.82 | G20: 17.86 | H20: 17.1 | I20: 17.96 | J20: 17.78 | K20: 18.5
A21: 5 | B21: 18.54 | C21: 17.46 | D21: 18.76 | E21: 18.14 | F21: 17.92 | G21: 18.64 | H21: 17.38 | I21: 17.82 | J21: 17 | K21: 17.8
A22: 6 | B22: 19.52 | C22: 18.32 | D22: 18.98 | E22: 18.14 | F22: 18.44 | G22: 18 | H22: 17.3 | I22: 18.44 | J22: 17.64 | K22: 18.42
A23: 7 | B23: 17.08 | C23: 19.44 | D23: 17.96 | E23: 19.48 | F23: 18.22 | G23: 18.12 | H23: 18.48 | I23: 17.76 | J23: 17.68 | K23: 17.44
A24: 8 | B24: 18.58 | C24: 20.54 | D24: 17.88 | E24: 17.36 | F24: 18.9 | G24: 17.46 | H24: 17.74 | I24: 18 | J24: 17.88 | K24: 18.12
A25: 9 | B25: 17.38 | C25: 19.48 | D25: 18.14 | E25: 17.78 | F25: 18.12 | G25: 18.04 | H25: 17.2 | I25: 17.54 | J25: 17.86 | K25: 18.08
A26: 10 | B26: 19.26 | C26: 17.68 | D26: 18.84 | E26: 17.16 | F26: 18 | G26: 17.62 | H26: 18.38 | I26: 18.42 | J26: 17.26 | K26: 18.36
I28: TỔNG | K28: =+SUM(B17:K26) -> 1813.9
A29: XE 3 - GIÒ
B30: 1 | C30: 2 | D30: 3 | E30: 4 | F30: 5 | G30: 6 | H30: 7 | I30: 8 | J30: 9 | K30: 10
A31: 1 | B31: 18.9 | C31: 17.9 | D31: 17.44 | E31: 18.36
A32: 2 | B32: 17.62 | C32: 17.42 | D32: 17.24 | E32: 17.6
A33: 3 | B33: 17.46 | C33: 18.04 | D33: 18.68 | E33: 18.38
A34: 4 | B34: 18.64 | C34: 17.22 | D34: 17.34 | E34: 17.68
A35: 5 | B35: 18 | C35: 18.2 | D35: 18.24 | E35: 17.82
A36: 6 | B36: 17.72 | C36: 17.96 | D36: 17.52 | E36: 17.44
A37: 7 | B37: 17.76 | C37: 18.02 | D37: 17.92 | E37: 18.36
A38: 8 | B38: 18.18 | C38: 17.82 | D38: 18.8 | E38: 18.4
A39: 9 | B39: 17.48 | C39: 17.28 | D39: 17.92 | E39: 18.24
A40: 10 | B40: 17.76 | C40: 17.06 | D40: 19.22 | E40: 17.58
I42: TỔNG | K42: =+SUM(B31:K40) -> 716.62
A43: XE 4 - GÀ
...

Sheet NGAY 02-12
A1: XE 1 - GÀ
B2: 1 | C2: 2 | D2: 3 | E2: 4 | F2: 5 | G2: 6 | H2: 7 | I2: 8 | J2: 9 | K2: 10
A3: 1 | B3: 15.5 | C3: 15.2 | D3: 15.8 | E3: 15.4 | F3: 15.4 | G3: 15.1 | H3: 15.4 | I3: 15 | J3: 15 | K3: 15.1
A4: 2 | B4: 15.1 | C4: 15.5 | D4: 15.1 | E4: 15.5 | F4: 15.7 | G4: 15.3 | H4: 15.3 | I4: 15.3 | J4: 15.1 | K4: 15.2
A5: 3 | B5: 15.4 | C5: 15.4 | D5: 15.4 | E5: 15.4 | F5: 15 | G5: 15.7 | H5: 15.6 | I5: 15 | J5: 15.4 | K5: 15.2
A6: 4 | B6: 15.3 | C6: 15.3 | D6: 15 | E6: 15.4 | F6: 15.6 | G6: 15.6 | H6: 15.1 | I6: 15.1 | J6: 15 | K6: 15.3
A7: 5 | B7: 15.1 | C7: 15.3 | D7: 15.4 | E7: 15.5 | F7: 15.2 | G7: 15 | H7: 15.3 | I7: 15.1 | J7: 15.2 | K7: 15.4
A8: 6 | B8: 15.5 | C8: 15 | D8: 15.5 | E8: 15.2 | F8: 15 | G8: 15.3 | H8: 15.3 | I8: 15.3 | J8: 15 | K8: 14.6
A9: 7 | B9: 15.2 | C9: 15.3 | D9: 15.4 | E9: 15.1 | F9: 15.5 | G9: 15.2 | H9: 15.3 | I9: 15.3 | J9: 15.9 | K9: 14.9
A10: 8 | B10: 15.3 | C10: 15.5 | D10: 15.4 | E10: 15.6 | F10: 15.4 | G10: 15.3 | H10: 15.1 | I10: 15.3 | J10: 15.3 | K10: 15.1
A11: 9 | B11: 15 | C11: 15.4 | D11: 15.2 | E11: 15.3 | F11: 15.1 | G11: 15.4 | H11: 15.3 | I11: 15.3 | J11: 15.3 | K11: 15.1
A12: 10 | B12: 15.5 | C12: 15.4 | D12: 15 | E12: 15.4 | F12: 15.1 | G12: 15 | H12: 15.4 | I12: 15.2 | J12: 15.3 | K12: 15
I14: TỔNG | K14: =+SUM(B3:K12) -> 1527.5
A15: XE 2 - GIÒ
B16: 1 | C16: 2 | D16: 3 | E16: 4 | F16: 5 | G16: 6 | H16: 7 | I16: 8 | J16: 9 | K16: 10
A17: 1 | B17: 19.14 | C17: 18.48 | D17: 18.52 | E17: 17.38 | F17: 18.88 | G17: 18.24 | H17: 17.38 | I17: 17.48 | J17: 17.34 | K17: 17.92
A18: 2 | B18: 18.92 | C18: 20.16 | D18: 18.7 | E18: 18.38 | F18: 17.88 | G18: 18.18 | H18: 17.98 | I18: 18.48 | J18: 17.3 | K18: 17.56
A19: 3 | B19: 20.06 | C19: 18.38 | D19: 18.5 | E19: 17.32 | F19: 18.2 | G19: 18.6 | H19: 17.98 | I19: 17.4 | J19: 17.18 | K19: 18.34
A20: 4 | B20: 19.24 | C20: 17.52 | D20: 17.7 | E20: 19.08 | F20: 17.82 | G20: 17.86 | H20: 17.1 | I20: 17.96 | J20: 17.78 | K20: 18.5
A21: 5 | B21: 18.54 | C21: 17.46 | D21: 18.76 | E21: 18.14 | F21: 17.92 | G21: 18.64 | H21: 17.38 | I21: 17.82 | J21: 17 | K21: 17.8
A22: 6 | B22: 19.52 | C22: 18.32 | D22: 18.98 | E22: 18.14 | F22: 18.44 | G22: 18 | H22: 17.3 | I22: 18.44 | J22: 17.64 | K22: 18.42
A23: 7 | B23: 17.08 | C23: 19.44 | D23: 17.96 | E23: 19.48 | F23: 18.22 | G23: 18.12 | H23: 18.48 | I23: 17.76 | J23: 17.68 | K23: 17.44
A24: 8 | B24: 18.58 | C24: 20.54 | D24: 17.88 | E24: 17.36 | F24: 18.9 | G24: 17.46 | H24: 17.74 | I24: 18 | J24: 17.88 | K24: 18.12
A25: 9 | B25: 17.38 | C25: 19.48 | D25: 18.14 | E25: 17.78 | F25: 18.12 | G25: 18.04 | H25: 17.2 | I25: 17.54 | J25: 17.86 | K25: 18.08
A26: 10 | B26: 19.26 | C26: 17.68 | D26: 18.84 | E26: 17.16 | F26: 18 | G26: 17.62 | H26: 18.38 | I26: 18.42 | J26: 17.26 | K26: 18.36
I28: TỔNG | K28: =+SUM(B17:K26) -> 1814.2
A29: XE 3 - GIÒ
B30: 1 | C30: 2 | D30: 3 | E30: 4 | F30: 5 | G30: 6 | H30: 7 | I30: 8 | J30: 9 | K30: 10
A31: 1 | B31: 18.9 | C31: 17.9 | D31: 17.44 | E31: 18.36
A32: 2 | B32: 17.62 | C32: 17.42 | D32: 17.24 | E32: 17.6
A33: 3 | B33: 17.46 | C33: 18.04 | D33: 18.68 | E33: 18.38
A34: 4 | B34: 18.64 | C34: 17.22 | D34: 17.34 | E34: 17.68
A35: 5 | B35: 18 | C35: 18.2 | D35: 18.24 | E35: 17.82
A36: 6 | B36: 17.72 | C36: 17.96 | D36: 17.52 | E36: 17.77
A37: 7 | B37: 17.76 | C37: 18.02 | D37: 17.92 | E37: 18.36
A38: 8 | B38: 18.18 | C38: 17.82 | D38: 18.8 | E38: 18.4
A39: 9 | B39: 17.48 | C39: 17.28 | D39: 17.92 | E39: 18.24
A40: 10 | B40: 17.76 | C40: 17.06 | D40: 19.22 | E40: 17.58
I42: TỔNG | K42: =+SUM(B31:K40) -> 716.95
A43: XE 4 - GÀ
...

Sheet NGAY 03-12
A1: XE 1 - GIÒ
B2: 1 | C2: 2 | D2: 3 | E2: 4 | F2: 5 | G2: 6 | H2: 7 | I2: 8 | J2: 9 | K2: 10
A3: 1 | B3: 17.92 | C3: 17.72 | D3: 18.36 | E3: 17.72 | F3: 17.08 | G3: 17.92 | H3: 17.7
A4: 2 | B4: 17.54 | C4: 17.68 | D4: 17.84 | E4: 17.14 | F4: 18.06 | G4: 17.76 | H4: 18.14
A5: 3 | B5: 17.7 | C5: 17.4 | D5: 17.44 | E5: 17.6 | F5: 17.98 | G5: 17.96 | H5: 18.04
A6: 4 | B6: 17.82 | C6: 17.76 | D6: 17.92 | E6: 17.24 | F6: 17.8 | G6: 18.32 | H6: 18.22
A7: 5 | B7: 17.3 | C7: 18.02 | D7: 17.16 | E7: 17.34 | F7: 17.12 | G7: 17.88 | H7: 17.06
A8: 6 | B8: 17.58 | C8: 17.64 | D8: 17.72 | E8: 18.46 | F8: 18.62 | G8: 18.6 | H8: 17.56
A9: 7 | B9: 17.92 | C9: 17.36 | D9: 17.9 | E9: 18.1 | F9: 17.96 | G9: 18.82 | H9: 18.86
A10: 8 | B10: 17.38 | C10: 17.76 | D10: 17.28 | E10: 18.14 | F10: 18.82 | G10: 18.32 | H10: 17.68
A11: 9 | B11: 17.58 | C11: 17.26 | D11: 17.34 | E11: 18.84 | F11: 18.76 | G11: 18.68 | H11: 18.96
A12: 10 | B12: 17.62 | C12: 17.68 | D12: 17.8 | E12: 17.44 | F12: 18.6 | G12: 17.32 | H12: 18.96
I14: TỔNG | K14: =+SUM(B3:K12) -> 1250.98
A15: XE 2 - GIÒ
B16: 1 | C16: 2 | D16: 3 | E16: 4 | F16: 5 | G16: 6 | H16: 7 | I16: 8 | J16: 9 | K16: 10
A17: 1 | B17: 24.92 | C17: 24.1 | D17: 24.24 | E17: 24.98 | F17: 23.94
A18: 2 | B18: 25.48 | C18: 25.78 | D18: 24.74 | E18: 24.76 | F18: 25.14
A19: 3 | B19: 24.56 | C19: 24.46 | D19: 24.8 | E19: 24.24 | F19: 23.9
A20: 4 | B20: 24.78 | C20: 24.46 | D20: 24.2 | E20: 24.54 | F20: 24.22
A21: 5 | B21: 24.42 | C21: 24.64 | D21: 24.66 | E21: 24.26 | F21: 24.7
A22: 6 | B22: 24.4 | C22: 24.52 | D22: 24.44 | E22: 24 | F22: 25.24
A23: 7 | B23: 24.34 | C23: 24.64 | D23: 23.79 | E23: 23.58 | F23: 23.32
A24: 8 | B24: 24.54 | C24: 24.3 | D24: 24.96 | E24: 25.02 | F24: 23.24
A25: 9 | B25: 25.58 | C25: 24.54 | D25: 24.26 | E25: 24.42 | F25: 23.92
A26: 10 | B26: 24.72 | C26: 25.36 | D26: 25.38 | E26: 25.04 | F26: 24.32
I28: TỔNG | K28: =+SUM(B17:K26) -> 1226.79
A29: XE 3
B30: 1 | C30: 2 | D30: 3 | E30: 4 | F30: 5 | G30: 6 | H30: 7 | I30: 8 | J30: 9 | K30: 10
A31: 1
A32: 2
A33: 3
A34: 4
A35: 5
A36: 6
A37: 7
A38: 8
A39: 9
A40: 10
I42: TỔNG | K42: =+SUM(B31:K40) -> 0
A43: XE 4
...

Sheet NGAY 04-12
A1: XE 1 - GÀ
B2: 1 | C2: 2 | D2: 3 | E2: 4 | F2: 5 | G2: 6 | H2: 7 | I2: 8 | J2: 9 | K2: 10
A3: 1 | B3: 15.2 | C3: 15.4 | D3: 15.4 | E3: 15.5 | F3: 15.2 | G3: 15.4 | H3: 15.5 | I3: 15.4 | J3: 15.1 | K3: 14.9
A4: 2 | B4: 15.3 | C4: 15.4 | D4: 15.2 | E4: 15.4 | F4: 15 | G4: 15.2 | H4: 15 | I4: 15.5 | J4: 15.1 | K4: 14.8
A5: 3 | B5: 15.3 | C5: 15.5 | D5: 15.4 | E5: 15.6 | F5: 15.1 | G5: 15.1 | H5: 15.2 | I5: 15 | J5: 15.1 | K5: 14.9
A6: 4 | B6: 15.1 | C6: 15.4 | D6: 15.3 | E6: 15.6 | F6: 15.6 | G6: 15.3 | H6: 15.4 | I6: 15.2 | J6: 15.2 | K6: 14.9
A7: 5 | B7: 15.5 | C7: 15.3 | D7: 15.5 | E7: 15.2 | F7: 15.3 | G7: 15.4 | H7: 15.5 | I7: 15.6 | J7: 15.1 | K7: 14.9
A8: 6 | B8: 15.3 | C8: 15.2 | D8: 15.1 | E8: 15 | F8: 15.1 | G8: 15.4 | H8: 15.2 | I8: 15.2 | J8: 15.1 | K8: 14.9
A9: 7 | B9: 15.4 | C9: 15.6 | D9: 15.3 | E9: 15.3 | F9: 15.4 | G9: 15.1 | H9: 15.1 | I9: 15.2 | J9: 15.2 | K9: 15.1
A10: 8 | B10: 15.6 | C10: 15.4 | D10: 15.3 | E10: 15.1 | F10: 15.3 | G10: 15.5 | H10: 15.1 | I10: 15.2 | J10: 15.1 | K10: 15.4
A11: 9 | B11: 15.1 | C11: 15.5 | D11: 15.4 | E11: 15.3 | F11: 15.1 | G11: 15.2 | H11: 15.2 | I11: 15 | J11: 15.2 | K11: 15.3
A12: 10 | B12: 15.3 | C12: 15 | D12: 15 | E12: 15.2 | F12: 15.5 | G12: 15.1 | H12: 15.3 | I12: 15.3 | J12: 15.1 | K12: 15
I14: TỔNG | K14: =+SUM(B3:K12) -> 1524.7
A15: XE 2 - GIÒ
B16: 1 | C16: 2 | D16: 3 | E16: 4 | F16: 5 | G16: 6 | H16: 7 | I16: 8 | J16: 9 | K16: 10
A17: 1
A18: 2
A19: 3
A20: 4
A21: 5
A22: 6
A23: 7
A24: 8
A25: 9
A26: 10
I28: TỔNG | K28: =+SUM(B17:K26) -> 0
A29: XE 3 - GIÒ
B30: 1 | C30: 2 | D30: 3 | E30: 4 | F30: 5 | G30: 6 | H30: 7 | I30: 8 | J30: 9 | K30: 10
A31: 1
A32: 2
A33: 3
A34: 4
A35: 5
A36: 6
A37: 7
A38: 8
A39: 9
A40: 10
I42: TỔNG | K42: =+SUM(B31:K40) -> 0
A43: XE 4 - GÀ
...

Sheet NGAY 05-12
A1: XE 1 - GÀ
B2: 1 | C2: 2 | D2: 3 | E2: 4 | F2: 5 | G2: 6 | H2: 7 | I2: 8 | J2: 9 | K2: 10
A3: 1 | B3: 15.1 | C3: 15.6 | D3: 15.3 | E3: 15 | F3: 15.1 | G3: 15.1 | H3: 15.3 | I3: 15 | J3: 15.2 | K3: 14.9
A4: 2 | B4: 15.1 | C4: 15.6 | D4: 15.1 | E4: 15.2 | F4: 15.1 | G4: 15.4 | H4: 15.2 | I4: 15.3 | J4: 15.1 | K4: 14.9
A5: 3 | B5: 15 | C5: 15.2 | D5: 15.2 | E5: 15.1 | F5: 15 | G5: 15.1 | H5: 15.2 | I5: 15.1 | J5: 15.1 | K5: 15.2
A6: 4 | B6: 15.5 | C6: 15.3 | D6: 15.8 | E6: 15.5 | F6: 15.1 | G6: 15 | H6: 15.7 | I6: 15.9 | J6: 15.3 | K6: 14.9
A7: 5 | B7: 15.4 | C7: 15.3 | D7: 15.3 | E7: 15.2 | F7: 15.3 | G7: 15.3 | H7: 15.1 | I7: 15.4 | J7: 15.1 | K7: 14.8
A8: 6 | B8: 15.2 | C8: 15 | D8: 15.1 | E8: 15.1 | F8: 15.2 | G8: 15.2 | H8: 15.1 | I8: 15.2 | J8: 15.1 | K8: 14.9
A9: 7 | B9: 15.3 | C9: 15.2 | D9: 15.2 | E9: 15.1 | F9: 15.1 | G9: 15.5 | H9: 15 | I9: 15.2 | J9: 15.3 | K9: 14.9
A10: 8 | B10: 15.1 | C10: 15.3 | D10: 15.4 | E10: 15 | F10: 15.2 | G10: 15.1 | H10: 15.3 | I10: 15.2 | J10: 15.3 | K10: 14.9
A11: 9 | B11: 15.2 | C11: 15.2 | D11: 15.2 | E11: 15.3 | F11: 15.2 | G11: 15.1 | H11: 15 | I11: 15.3 | J11: 14.8 | K11: 14.9
A12: 10 | B12: 15.3 | C12: 15.4 | D12: 15.2 | E12: 15.2 | F12: 15.2 | G12: 15.1 | H12: 15 | I12: 15.1 | J12: 14.9 | K12: 14.9
I14: TỔNG | K14: =+SUM(B3:K12) -> 1518.2
A15: XE 2 - GIÒ
B16: 1 | C16: 2 | D16: 3 | E16: 4 | F16: 5 | G16: 6 | H16: 7 | I16: 8 | J16: 9 | K16: 10 | L16: 11
A17: 1 | B17: 17.82 | C17: 18.82 | D17: 17.5 | E17: 17.4 | F17: 17.76 | G17: 17.7 | H17: 17.82 | I17: 17.74 | J17: 17.76 | K17: 17.74 | L17: 17.62
A18: 2 | B18: 17.98 | C18: 18.44 | D18: 17.26 | E18: 17.3 | F18: 17.22 | G18: 17.22 | H18: 18.06 | I18: 17.7 | J18: 17.24 | K18: 17.78 | L18: 17.1
A19: 3 | B19: 17.88 | C19: 18.22 | D19: 17.5 | E19: 18.28 | F19: 18.12 | G19: 17.2 | H19: 17.62 | I19: 17.32 | J19: 17.98 | K19: 18.36 | L19: 17.9
A20: 4 | B20: 17.82 | C20: 17.4 | D20: 17.94 | E20: 18.04 | F20: 17.46 | G20: 17.2 | H20: 17.18 | I20: 17.1 | J20: 17.44 | K20: 18.56 | L20: 17.92
A21: 5 | B21: 18.38 | C21: 18.38 | D21: 17.6 | E21: 18.24 | F21: 17.48 | G21: 17.02 | H21: 17.52 | I21: 17.96 | J21: 17.18 | K21: 17.92 | L21: 17.4
A22: 6 | B22: 18.24 | C22: 17.84 | D22: 17.76 | E22: 17.1 | F22: 17.36 | G22: 17.74 | H22: 17.9 | I22: 17.46 | J22: 17.96 | K22: 17.18
A23: 7 | B23: 17.58 | C23: 18.08 | D23: 18.36 | E23: 17.26 | F23: 17.62 | G23: 17.56 | H23: 17.58 | I23: 17.86 | J23: 17.82 | K23: 17.14
A24: 8 | B24: 17.38 | C24: 17.38 | D24: 17.82 | E24: 17.06 | F24: 17.9 | G24: 17.7 | H24: 17.68 | I24: 17.23 | J24: 17.94 | K24: 17.92
A25: 9 | B25: 18.32 | C25: 18.18 | D25: 17.3 | E25: 18.48 | F25: 18.06 | G25: 18.6 | H25: 17.24 | I25: 17.56 | J25: 17.6 | K25: 17.54
A26: 10 | B26: 18.72 | C26: 17.44 | D26: 18.38 | E26: 18.58 | F26: 17.78 | G26: 17.8 | H26: 17.94 | I26: 17.26 | J26: 18.34 | K26: 17.48
I28: TỔNG | K28: =+SUM(B17:L26) -> 1862.51
A29: XE 3 - GIÒ
B30: 1 | C30: 2 | D30: 3 | E30: 4 | F30: 5 | G30: 6 | H30: 7 | I30: 8 | J30: 9 | K30: 10 | L30: 11
A31: 1 | B31: 17.4 | C31: 17.2 | D31: 17.7 | E31: 17.36 | F31: 17.98 | G31: 17.04 | H31: 18.58 | I31: 17.56 | J31: 18.6 | K31: 17.58 | L31: 19.74
A32: 2 | B32: 17.42 | C32: 17.42 | D32: 17.8 | E32: 17.88 | F32: 17.62 | G32: 17.6 | H32: 17.4 | I32: 17.4 | J32: 17.4 | K32: 18.38 | L32: 18.9
A33: 3 | B33: 17.4 | C33: 17.56 | D33: 17.24 | E33: 17.9 | F33: 17.4 | G33: 17.8 | H33: 17.82 | I33: 17.8 | J33: 18.74 | K33: 19.34 | L33: 18.68
A34: 4 | B34: 17.4 | C34: 17.8 | D34: 17.2 | E34: 17.58 | F34: 17.34 | G34: 17.4 | H34: 17.38 | I34: 17.98 | J34: 18.52 | K34: 18.2 | L34: 18.34
A35: 5 | B35: 17.26 | C35: 17.6 | D35: 17.8 | E35: 17.78 | F35: 18.46 | G35: 17.8 | H35: 17.22 | I35: 17.32 | J35: 18 | K35: 18.4 | L35: 18.4
A36: 6 | B36: 17.34 | C36: 17.94 | D36: 17.84 | E36: 17.3 | F36: 18.16 | G36: 17.92 | H36: 17.2 | I36: 18.6 | J36: 20.6 | K36: 17.18
A37: 7 | B37: 18.76 | C37: 17.6 | D37: 21.48 | E37: 17.6 | F37: 17.32 | G37: 17.56 | H37: 19.96 | I37: 17.52 | J37: 17.52 | K37: 18.8
A38: 8 | B38: 17.14 | C38: 18.1 | D38: 17.4 | E38: 18.5 | F38: 17.3 | G38: 17.3 | H38: 18.4 | I38: 18.6 | J38: 17.6 | K38: 18.24
A39: 9 | B39: 17.4 | C39: 17.5 | D39: 17.8 | E39: 17.2 | F39: 17.2 | G39: 17 | H39: 18.96 | I39: 18.66 | J39: 17.8 | K39: 17.56
A40: 10 | B40: 17.56 | C40: 17.6 | D40: 17.82 | E40: 17.12 | F40: 17.36 | G40: 17 | H40: 17.68 | I40: 17.4 | J40: 18.98 | K40: 17.4
I42: TỔNG | K42: =+SUM(B31:L40) -> 1876.6
A43: XE 4
...

Sheet NGAY 06-12
A1: XE 1 - GÀ
B2: 1 | C2: 2 | D2: 3 | E2: 4 | F2: 5 | G2: 6 | H2: 7 | I2: 8 | J2: 9 | K2: 10
A3: 1 | B3: 15.2 | C3: 14.8 | D3: 15 | E3: 15.1 | F3: 14.9 | G3: 15 | H3: 14.9 | I3: 15 | J3: 15 | K3: 14.7
A4: 2 | B4: 15.2 | C4: 14.8 | D4: 15 | E4: 15.2 | F4: 15 | G4: 15.1 | H4: 14.8 | I4: 15.5 | J4: 15.2 | K4: 15.2
A5: 3 | B5: 15.2 | C5: 14.9 | D5: 15.1 | E5: 15.2 | F5: 15.2 | G5: 15.3 | H5: 14.9 | I5: 15.6 | J5: 15.4 | K5: 15.2
A6: 4 | B6: 15.1 | C6: 14.9 | D6: 15.7 | E6: 15.1 | F6: 15.3 | G6: 15.6 | H6: 14.8 | I6: 15 | J6: 15.2 | K6: 15
A7: 5 | B7: 15.2 | C7: 14.9 | D7: 15 | E7: 15.1 | F7: 15 | G7: 15.3 | H7: 14.9 | I7: 15 | J7: 15 | K7: 15.3
A8: 6 | B8: 15 | C8: 14.9 | D8: 15.3 | E8: 15.8 | F8: 15.1 | G8: 15 | H8: 14.9 | I8: 15.5 | J8: 15.8 | K8: 14.8
A9: 7 | B9: 15 | C9: 14.9 | D9: 15.2 | E9: 15.2 | F9: 15.2 | G9: 15.5 | H9: 14.9 | I9: 15.1 | J9: 15.1 | K9: 15.1
A10: 8 | B10: 15.1 | C10: 14.9 | D10: 15.1 | E10: 15.2 | F10: 15.3 | G10: 15.4 | H10: 14.8 | I10: 15.2 | J10: 15 | K10: 15.1
A11: 9 | B11: 15.1 | C11: 14.8 | D11: 15 | E11: 15.1 | F11: 15.4 | G11: 15.2 | H11: 14.9 | I11: 15 | J11: 15.2 | K11: 15.1
A12: 10 | B12: 15.2 | C12: 15.9 | D12: 15 | E12: 15.2 | F12: 15.2 | G12: 15.3 | H12: 15 | I12: 15.1 | J12: 15.3 | K12: 15
I14: TỔNG | K14: =+SUM(B3:K12) -> 1512.4
A15: XE 2
B16: 1 | C16: 2 | D16: 3 | E16: 4 | F16: 5 | G16: 6 | H16: 7 | I16: 8 | J16: 9 | K16: 10
A17: 1
A18: 2
A19: 3
A20: 4
A21: 5
A22: 6
A23: 7
A24: 8
A25: 9
A26: 10
I28: TỔNG | K28: =+SUM(B17:M26) -> 0
A29: XE 3
B30: 1 | C30: 2 | D30: 3 | E30: 4 | F30: 5 | G30: 6 | H30: 7 | I30: 8 | J30: 9 | K30: 10
A31: 1
A32: 2
A33: 3
A34: 4
A35: 5
A36: 6
A37: 7
A38: 8
A39: 9
A40: 10
I42: TỔNG | K42: =+SUM(B31:K40) -> 0

Sheet NGAY 08-12
A1: XE 1 - GÀ
B2: 1 | C2: 2 | D2: 3 | E2: 4 | F2: 5 | G2: 6 | H2: 7 | I2: 8 | J2: 9 | K2: 10
A3: 1 | B3: 14.26 | C3: 15 | D3: 14.08 | E3: 14.04 | F3: 14.18 | G3: 14.12 | H3: 15.1 | I3: 14.3 | J3: 14.16 | K3: 15.1
A4: 2 | B4: 14.12 | C4: 14.08 | D4: 14.18 | E4: 14.18 | F4: 14.2 | G4: 14.26 | H4: 14.18 | I4: 14.22 | J4: 14.2 | K4: 14.32
A5: 3 | B5: 14.1 | C5: 14.2 | D5: 14.22 | E5: 14.2 | F5: 13.96 | G5: 14.3 | H5: 14.72 | I5: 14.14 | J5: 14.18 | K5: 14.3
A6: 4 | B6: 14 | C6: 14.16 | D6: 14.1 | E6: 14.16 | F6: 14.58 | G6: 14.08 | H6: 13.96 | I6: 14.18 | J6: 14.12 | K6: 14.12
A7: 5 | B7: 14.18 | C7: 13.98 | D7: 14.38 | E7: 14.98 | F7: 14.62 | G7: 14.12 | H7: 14.18 | I7: 14.9 | J7: 14.02 | K7: 14.18
A8: 6 | B8: 14.06 | C8: 14.02 | D8: 14.42 | E8: 14.3 | F8: 15.1 | G8: 14.22 | H8: 14 | I8: 15.1 | J8: 14.68 | K8: 14.16
A9: 7 | B9: 14.22 | C9: 13.94 | D9: 14.2 | E9: 14.36 | F9: 15.14 | G9: 14.16 | H9: 14.36 | I9: 14.3 | J9: 14.9 | K9: 14.04
A10: 8 | B10: 14.2 | C10: 14.28 | D10: 14.16 | E10: 14.28 | F10: 15.28 | G10: 14.08 | H10: 15.1 | I10: 14.28 | J10: 15 | K10: 14.1
A11: 9 | B11: 14.18 | C11: 14.3 | D11: 14.1 | E11: 14.56 | F11: 14.36 | G11: 14.1 | H11: 14.12 | I11: 14.14 | J11: 14.28 | K11: 14.02
A12: 10 | B12: 14.26 | C12: 14.12 | D12: 15.03 | E12: 14.3 | F12: 14.2 | G12: 14.3 | H12: 14.28 | I12: 14.1 | J12: 14.12 | K12: 14.4
I14: TỔNG | K14: =+SUM(B3:K12) -> 1431.31
A15: XE 2
B16: 1 | C16: 2 | D16: 3 | E16: 4 | F16: 5 | G16: 6 | H16: 7 | I16: 8 | J16: 9 | K16: 10
A17: 1
A18: 2
A19: 3
A20: 4
A21: 5
A22: 6
A23: 7
A24: 8
A25: 9
A26: 10
I28: TỔNG | K28: =+SUM(B17:M26) -> 0
A29: XE 3
B30: 1 | C30: 2 | D30: 3 | E30: 4 | F30: 5 | G30: 6 | H30: 7 | I30: 8 | J30: 9 | K30: 10
A31: 1
A32: 2
A33: 3
A34: 4
A35: 5
A36: 6
A37: 7
A38: 8
A39: 9
A40: 10
I42: TỔNG | K42: =+SUM(B31:K40) -> 0

Sheet NGAY 10-12
A1: XE 1 - GÀ
B2: 1 | C2: 2 | D2: 3 | E2: 4 | F2: 5 | G2: 6 | H2: 7 | I2: 8 | J2: 9 | K2: 10
A3: 1 | B3: 15.3 | C3: 15.3 | D3: 15 | E3: 14.7 | F3: 14.8 | G3: 15.3 | H3: 15.3 | I3: 15.3 | J3: 15.3 | K3: 14.9
A4: 2 | B4: 14.4 | C4: 15.6 | D4: 15.5 | E4: 14.9 | F4: 15.4 | G4: 15 | H4: 15.2 | I4: 15 | J4: 15.1 | K4: 14.9
A5: 3 | B5: 14.3 | C5: 15.2 | D5: 15.3 | E5: 14.9 | F5: 15 | G5: 15.4 | H5: 15.2 | I5: 15.3 | J5: 15.1 | K5: 15.5
A6: 4 | B6: 15 | C6: 15.3 | D6: 15.3 | E6: 14.9 | F6: 15.4 | G6: 15.2 | H6: 15.4 | I6: 15 | J6: 15.5 | K6: 15.1
A7: 5 | B7: 15.2 | C7: 15.3 | D7: 15.1 | E7: 14.8 | F7: 15.3 | G7: 15.4 | H7: 13.2 | I7: 15.2 | J7: 14.9 | K7: 15.1
A8: 6 | B8: 15.1 | C8: 15.7 | D8: 15 | E8: 15.5 | F8: 15.1 | G8: 15 | H8: 15.3 | I8: 15.5 | J8: 15.3 | K8: 15.3
A9: 7 | B9: 15.3 | C9: 15.3 | D9: 15.1 | E9: 15 | F9: 15.5 | G9: 15.5 | H9: 15.3 | I9: 15.4 | J9: 15.4 | K9: 15
A10: 8 | B10: 15.1 | C10: 15.2 | D10: 15.1 | E10: 15.4 | F10: 15.2 | G10: 15.3 | H10: 15.2 | I10: 15.4 | J10: 15.4 | K10: 14.9
A11: 9 | B11: 15.3 | C11: 15 | D11: 15.3 | E11: 15.1 | F11: 15.2 | G11: 15.3 | H11: 15 | I11: 15.5 | J11: 15 | K11: 15
A12: 10 | B12: 15.3 | C12: 15 | D12: 15.2 | E12: 15.2 | F12: 15.2 | G12: 15 | H12: 15.3 | I12: 15.5 | J12: 15.1 | K12: 15.4
I14: TỔNG | K14: =+SUM(B3:K12) -> 1516.7
A15: XE 2 - GIÒ
B16: 1 | C16: 2 | D16: 3 | E16: 4 | F16: 5 | G16: 6 | H16: 7 | I16: 8 | J16: 9 | K16: 10
A17: 1 | B17: 18.86 | C17: 17.36 | D17: 17.66 | E17: 17.84 | F17: 17.76 | G17: 18.78 | H17: 18.9 | I17: 17.9 | J17: 17.78 | K17: 17.68
A18: 2 | B18: 18.38 | C18: 17.76 | D18: 18.02 | E18: 17.12 | F18: 17.6 | G18: 20.24 | H18: 17.86 | I18: 17.62 | J18: 18.58 | K18: 17.76
A19: 3 | B19: 17.58 | C19: 18.02 | D19: 18.88 | E19: 18.86 | F19: 18.08 | G19: 18.6 | H19: 18.54 | I19: 17.28 | J19: 17.8 | K19: 17.5
A20: 4 | B20: 19.12 | C20: 17.94 | D20: 18.22 | E20: 18.02 | F20: 18.2 | G20: 17.9 | H20: 18.86 | I20: 17.48 | J20: 17.28 | K20: 17.6
A21: 5 | B21: 18.4 | C21: 19 | D21: 18.08 | E21: 19.42 | F21: 17.32 | G21: 18.36 | H21: 17.04 | I21: 17.74 | J21: 17.1 | K21: 17.46
A22: 6 | B22: 18.94 | C22: 19.62 | D22: 18.16 | E22: 18.26 | F22: 17.9 | G22: 17.54 | H22: 18.04 | I22: 19.24 | J22: 17.84 | K22: 17.76
A23: 7 | B23: 17.48 | C23: 18.16 | D23: 18.08 | E23: 17.28 | F23: 18 | G23: 18.3 | H23: 18.72 | I23: 17.22 | J23: 17.28 | K23: 17.8
A24: 8 | B24: 18.5 | C24: 17.54 | D24: 17.76 | E24: 18.66 | F24: 17.58 | G24: 19 | H24: 17.02 | I24: 18.42 | J24: 17.74 | K24: 17.52
A25: 9 | B25: 19.64 | C25: 18.36 | D25: 18.22 | E25: 17.02 | F25: 17.72 | G25: 18.68 | H25: 17.64 | I25: 18.32 | J25: 18.06 | K25: 17.3
A26: 10 | B26: 18.12 | C26: 18.36 | D26: 18.12 | E26: 18.42 | F26: 17.04 | G26: 17.48 | H26: 17.88 | I26: 17.72 | J26: 17 | K26: 18.1
I28: TỔNG | K28: =+SUM(B17:K26) -> 1803.7
A29: XE 3 - GIÒ
B30: 1 | C30: 2 | D30: 3 | E30: 4 | F30: 5 | G30: 6 | H30: 7 | I30: 8 | J30: 9 | K30: 10
A31: 1 | B31: 17.7 | C31: 18.02 | D31: 17.98 | E31: 18.14 | F31: 17.06 | G31: 18.08 | H31: 17.76 | I31: 17.44
A32: 2 | B32: 18.52 | C32: 17.88 | D32: 18.24 | E32: 17.76 | F32: 18.82 | G32: 19.22 | H32: 17.6 | I32: 17.66
A33: 3 | B33: 18.42 | C33: 18.02 | D33: 17.86 | E33: 17.12 | F33: 18.22 | G33: 18.12 | H33: 19.52 | I33: 17.4
A34: 4 | B34: 18.48 | C34: 17.68 | D34: 17.9 | E34: 17.8 | F34: 17.86 | G34: 19.04 | H34: 17.8 | I34: 17.36
A35: 5 | B35: 17.7 | C35: 18.22 | D35: 18.2 | E35: 17.7 | F35: 19.04 | G35: 17.66 | H35: 17.48 | I35: 17.9
A36: 6 | B36: 18.16 | C36: 18.82 | D36: 17.94 | E36: 17.64 | F36: 17.18 | G36: 18.38 | H36: 18.58 | I36: 17.98
A37: 7 | B37: 17.2 | C37: 18.12 | D37: 17.54 | E37: 19.12 | F37: 18.86 | G37: 18.28 | H37: 17.02
A38: 8 | B38: 18.2 | C38: 17.98 | D38: 17.12 | E38: 19.5 | F38: 18.64 | G38: 17.5 | H38: 17.16
A39: 9 | B39: 17.82 | C39: 18.28 | D39: 17.74 | E39: 18.26 | F39: 17.28 | G39: 18.88 | H39: 17.84
A40: 10 | B40: 18.22 | C40: 17.86 | D40: 18.02 | E40: 18.04 | F40: 18.2 | G40: 18.6 | H40: 17.24
I42: TỔNG | K42: =+SUM(B31:K40) -> 1369.58
A43: XE 4 - GÀ
...

Sheet NGAY 12-12
A1: XE 1
B2: 1 | C2: 2 | D2: 3 | E2: 4 | F2: 5 | G2: 6 | H2: 7 | I2: 8 | J2: 9 | K2: 10
A3: 1
A4: 2
A5: 3
A6: 4
A7: 5
A8: 6
A9: 7
A10: 8
A11: 9
A12: 10
I14: TỔNG | K14: =+SUM(B3:K12) -> 0
A15: XE 2 - GÀ
B16: 1 | C16: 2 | D16: 3 | E16: 4 | F16: 5 | G16: 6 | H16: 7 | I16: 8 | J16: 9 | K16: 10
A17: 1 | B17: 14.64 | C17: 14.44 | D17: 13.62 | E17: 14.62 | F17: 14.36 | G17: 13.94 | H17: 15 | I17: 15.06 | J17: 14.7 | K17: 14.2
A18: 2 | B18: 14.9 | C18: 14.68 | D18: 14.08 | E18: 14.9 | F18: 14.68 | G18: 15.02 | H18: 14.66 | I18: 14.86 | J18: 14.58 | K18: 14.56
A19: 3 | B19: 14.58 | C19: 14.54 | D19: 14.02 | E19: 14.82 | F19: 14.24 | G19: 14.28 | H19: 14.42 | I19: 14.58 | J19: 14.38 | K19: 14.02
A20: 4 | B20: 14.84 | C20: 14.48 | D20: 13.68 | E20: 14.26 | F20: 14.84 | G20: 14.84 | H20: 14.84 | I20: 13.94 | J20: 14.04 | K20: 14.34
A21: 5 | B21: 14.04 | C21: 14.48 | D21: 15.08 | E21: 14.14 | F21: 14.7 | G21: 14.64 | H21: 14.44 | I21: 14.2 | J21: 14.2 | K21: 14.78
A22: 6 | B22: 14.54 | C22: 14.16 | D22: 14.66 | E22: 14.18 | F22: 14.24 | G22: 14.6 | H22: 14.32 | I22: 14.22 | J22: 14.58 | K22: 14.94
A23: 7 | B23: 14.4 | C23: 14.94 | D23: 14.8 | E23: 13.28 | F23: 14.2 | G23: 14.28 | H23: 14.44 | I23: 14.62 | J23: 15.14 | K23: 14.4
A24: 8 | B24: 14.62 | C24: 14.94 | D24: 14.06 | E24: 14.48 | F24: 14.52 | G24: 14.74 | H24: 14.56 | I24: 14.4 | J24: 14.14 | K24: 14.74
A25: 9 | B25: 14.8 | C25: 14.46 | D25: 14.2 | E25: 14.42 | F25: 14.08 | G25: 14.7 | H25: 14.4 | I25: 14.22 | J25: 15.14 | K25: 14.66
A26: 10 | B26: 14.72 | C26: 14.66 | D26: 14.48 | E26: 14.34 | F26: 14.48 | G26: 14.7 | H26: 14.96 | I26: 14.54 | J26: 14.9 | K26: 14.9
I28: TỔNG | K28: =+SUM(B17:K26) -> 1450.08
A29: XE 3 - GÀ
B30: 1 | C30: 2 | D30: 3 | E30: 4 | F30: 5 | G30: 6 | H30: 7 | I30: 8 | J30: 9 | K30: 10
A31: 1 | B31: 14.56 | C31: 14.78 | D31: 15.08 | E31: 14.72 | F31: 14.58 | G31: 13.6 | H31: 15.08 | I31: 15.3 | J31: 15.88 | K31: 15.58
A32: 2 | B32: 14.32 | C32: 14.98 | D32: 13.92 | E32: 13.88 | F32: 13.86 | G32: 14.28 | H32: 14.26 | I32: 15.22 | J32: 15.62 | K32: 15.08
A33: 3 | B33: 14.52 | C33: 14.2 | D33: 13.96 | E33: 14.41 | F33: 14.2 | G33: 14.82 | H33: 14.76 | I33: 14.72 | J33: 15 | K33: 15.58
A34: 4 | B34: 14.26 | C34: 14.92 | D34: 15 | E34: 14.64 | F34: 14.64 | G34: 14.48 | H34: 15.64 | I34: 14.46 | J34: 15.38 | K34: 15.24
A35: 5 | B35: 14.66 | C35: 14.52 | D35: 13.68 | E35: 14.52 | F35: 14.14 | G35: 14.58 | H35: 14.62 | I35: 14.62 | J35: 15.6 | K35: 15.3
A36: 6 | B36: 14.98 | C36: 14.32 | D36: 13.8 | E36: 14.76 | F36: 14.68 | G36: 14.56 | H36: 14.76 | I36: 14.72 | J36: 15.54 | K36: 15.62
A37: 7 | B37: 14.72 | C37: 14.86 | D37: 14.76 | E37: 14.4 | F37: 14.81 | G37: 14.42 | H37: 14.26 | I37: 15.8 | J37: 15.3 | K37: 15.62
A38: 8 | B38: 14.26 | C38: 14.06 | D38: 14.64 | E38: 14.86 | F38: 14.2 | G38: 14.86 | H38: 14.66 | I38: 14.84 | J38: 15.2 | K38: 15
A39: 9 | B39: 14.66 | C39: 14.82 | D39: 14.9 | E39: 14.6 | F39: 14.22 | G39: 15.28 | H39: 15.84 | I39: 14.1 | J39: 15.32 | K39: 15
A40: 10 | B40: 14.72 | C40: 14.86 | D40: 14.9 | E40: 14.82 | F40: 14.32 | G40: 14.98 | H40: 14.26 | I40: 15.16 | J40: 15.92 | K40: 15.56
I42: TỔNG | K42: =+SUM(B31:K40) -> 1477.16

Sheet NGAY 15-12
A1: XE 1 - GÀ
B2: 1 | C2: 2 | D2: 3 | E2: 4 | F2: 5 | G2: 6 | H2: 7 | I2: 8 | J2: 9 | K2: 10
A3: 1 | B3: 15.14 | C3: 14.58 | D3: 13.44 | E3: 14.44 | F3: 14.6 | G3: 13.92 | H3: 14.54 | I3: 14.34 | J3: 15 | K3: 14.76
A4: 2 | B4: 16.08 | C4: 14.72 | D4: 14.9 | E4: 14.36 | F4: 13.54 | G4: 14.68 | H4: 13.84 | I4: 14.34 | J4: 16.18 | K4: 14.32
A5: 3 | B5: 15.12 | C5: 14.88 | D5: 14.84 | E5: 14.32 | F5: 14.54 | G5: 14.58 | H5: 13.76 | I5: 14.5 | J5: 15 | K5: 14.44
A6: 4 | B6: 15.3 | C6: 14.5 | D6: 14 | E6: 14.7 | F6: 14.92 | G6: 14.04 | H6: 14.02 | I6: 14.56 | J6: 14.44 | K6: 14.7
A7: 5 | B7: 15.16 | C7: 14.96 | D7: 14.48 | E7: 14.34 | F7: 14.94 | G7: 14.38 | H7: 14.18 | I7: 14.98 | J7: 14.7 | K7: 13.26
A8: 6 | B8: 15 | C8: 14.38 | D8: 14.3 | E8: 14.36 | F8: 14.26 | G8: 14.38 | H8: 14.48 | I8: 14.12 | J8: 14.24 | K8: 14.18
A9: 7 | B9: 15.02 | C9: 14.34 | D9: 14.5 | E9: 14.6 | F9: 14.78 | G9: 14.78 | H9: 14.22 | I9: 14.86 | J9: 14.42 | K9: 14
A10: 8 | B10: 15.06 | C10: 14.72 | D10: 14.47 | E10: 14.48 | F10: 14.1 | G10: 14.26 | H10: 14.72 | I10: 14.26 | J10: 14.16 | K10: 15.24
A11: 9 | B11: 15.78 | C11: 14.02 | D11: 14.44 | E11: 14.68 | F11: 14.4 | G11: 14.4 | H11: 14.54 | I11: 14.44 | J11: 14.62 | K11: 14.52
A12: 10 | B12: 15.5 | C12: 14.86 | D12: 14.06 | E12: 14.3 | F12: 14.96 | G12: 13.6 | H12: 14.56 | I12: 14.76 | J12: 13.66 | K12: 14.62
I14: TỔNG | K14: =+SUM(B3:K12) -> 1453.67
A15: XE 2
B16: 1 | C16: 2 | D16: 3 | E16: 4 | F16: 5 | G16: 6 | H16: 7 | I16: 8 | J16: 9 | K16: 10
A17: 1
A18: 2
A19: 3
A20: 4
A21: 5
A22: 6
A23: 7
A24: 8
A25: 9
A26: 10
I28: TỔNG | K28: =+SUM(B17:K26) -> 0
A29: XE 3
B30: 1 | C30: 2 | D30: 3 | E30: 4 | F30: 5 | G30: 6 | H30: 7 | I30: 8 | J30: 9 | K30: 10
A31: 1
A32: 2
A33: 3
A34: 4
A35: 5
A36: 6
A37: 7
A38: 8
A39: 9
A40: 10
I42: TỔNG | K42: =+SUM(B31:K40) -> 0

Sheet NGAY 17-12
A1: XE 1
B2: 1 | C2: 2 | D2: 3 | E2: 4 | F2: 5 | G2: 6 | H2: 7 | I2: 8 | J2: 9 | K2: 10
A3: 1
A4: 2
A5: 3
A6: 4
A7: 5
A8: 6
A9: 7
A10: 8
A11: 9
A12: 10
I14: TỔNG | K14: =+SUM(B3:K12) -> 0
A15: XE 2 - GÀ
B16: 1 | C16: 2 | D16: 3 | E16: 4 | F16: 5 | G16: 6 | H16: 7 | I16: 8 | J16: 9 | K16: 10
A17: 1 | B17: 15.6 | C17: 14.98 | D17: 14.7 | E17: 14.88 | F17: 13.82 | G17: 13.98 | H17: 13.56 | I17: 14.24 | J17: 14.78 | K17: 15.56
A18: 2 | B18: 15.72 | C18: 15 | D18: 15.54 | E18: 14.7 | F18: 14.6 | G18: 13.56 | H18: 13.9 | I18: 14.8 | J18: 14.46 | K18: 13.96
A19: 3 | B19: 14.84 | C19: 16.28 | D19: 14.7 | E19: 15 | F19: 13.24 | G19: 13.96 | H19: 13.2 | I19: 14.8 | J19: 14.04 | K19: 14.94
A20: 4 | B20: 14.98 | C20: 15.76 | D20: 14.3 | E20: 14.92 | F20: 13.48 | G20: 13.16 | H20: 13.46 | I20: 14.36 | J20: 13.9 | K20: 14.84
A21: 5 | B21: 14.7 | C21: 15 | D21: 14.8 | E21: 14.66 | F21: 13.2 | G21: 12.56 | H21: 13.7 | I21: 14.42 | J21: 14.24 | K21: 14.72
A22: 6 | B22: 14.5 | C22: 14.14 | D22: 14.2 | E22: 14.66 | F22: 13.96 | G22: 13.5 | H22: 14.44 | I22: 14.34 | J22: 14.86 | K22: 14.54
A23: 7 | B23: 14 | C23: 13.94 | D23: 15 | E23: 14.4 | F23: 13.4 | G23: 13.6 | H23: 14.36 | I23: 14.76 | J23: 14.34 | K23: 14.83
A24: 8 | B24: 14.7 | C24: 14.82 | D24: 15.22 | E24: 14.52 | F24: 13.4 | G24: 13.84 | H24: 14.72 | I24: 15 | J24: 14.8 | K24: 14.14
A25: 9 | B25: 15.8 | C25: 14.2 | D25: 15.32 | E25: 14.3 | F25: 13.62 | G25: 13.28 | H25: 14.48 | I25: 15.16 | J25: 14.2 | K25: 13.9
A26: 10 | B26: 16 | C26: 13.86 | D26: 14.9 | E26: 14.74 | F26: 13.56 | G26: 13.92 | H26: 14.22 | I26: 14.34 | J26: 14.34 | K26: 14.76
A27: 11 | B27: 14.7 | C27: 14.94 | D27: 14.98 | E27: 14.36 | F27: 13.56 | G27: 13.68 | H27: 14.66 | I27: 13.9 | J27: 15 | K27: 14.26
I29: TỔNG | K29: =+SUM(B17:K27) -> 1586.37
A30: XE 3
B31: 1 | C31: 2 | D31: 3 | E31: 4 | F31: 5 | G31: 6 | H31: 7 | I31: 8 | J31: 9 | K31: 10
A32: 1
A33: 2
A34: 3
A35: 4
A36: 5
A37: 6
A38: 7
A39: 8
A40: 9
A41: 10
I43: TỔNG | K43: =+SUM(B32:K41) -> 0

Sheet NGAY 19-12
A1: XE 1
B2: 1 | C2: 2 | D2: 3 | E2: 4 | F2: 5 | G2: 6 | H2: 7 | I2: 8 | J2: 9 | K2: 10
A3: 1 | B3: 13.92 | C3: 14.42 | D3: 14.5 | E3: 14.66 | F3: 15 | G3: 14.86 | H3: 14.46 | I3: 15.68 | J3: 14.8 | K3: 15.24
A4: 2 | B4: 14.4 | C4: 14.14 | D4: 14.02 | E4: 14.22 | F4: 14.5 | G4: 14.18 | H4: 13.98 | I4: 15.26 | J4: 14.24
A5: 3 | B5: 15 | C5: 14.72 | D5: 14.14 | E5: 14.18 | F5: 14.28 | G5: 14.44 | H5: 14.16 | I5: 14.44 | J5: 14.58
A6: 4 | B6: 14.78 | C6: 14.18 | D6: 13.84 | E6: 13.9 | F6: 14.34 | G6: 14.36 | H6: 14.28 | I6: 14.06 | J6: 14
A7: 5 | B7: 14.52 | C7: 14 | D7: 15.02 | E7: 14.74 | F7: 14.56 | G7: 14.08 | H7: 14.24 | I7: 14.58 | J7: 14.7
A8: 6 | B8: 14.4 | C8: 14.6 | D8: 14.28 | E8: 14.36 | F8: 14.64 | G8: 14.82 | H8: 13.84 | I8: 15 | J8: 14.42
A9: 7 | B9: 14.06 | C9: 14.4 | D9: 14.16 | E9: 14.92 | F9: 15 | G9: 13.82 | H9: 14.7 | I9: 15.04 | J9: 14.66
A10: 8 | B10: 14.32 | C10: 14.36 | D10: 14.3 | E10: 14.48 | F10: 14.78 | G10: 13.82 | H10: 14.38 | I10: 15.04 | J10: 15.56
A11: 9 | B11: 14.64 | C11: 14.22 | D11: 14.2 | E11: 13.54 | F11: 14.14 | G11: 14.28 | H11: 14.66 | I11: 14.46 | J11: 13.74
A12: 10 | B12: 15.12 | C12: 14.32 | D12: 14.58 | E12: 14.56 | F12: 14.16 | G12: 14.58 | H12: 14.96 | I12: 15.22 | J12: 14.18
A13: 11 | B13: 14.78 | C13: 14.66 | D13: 14.3 | E13: 15.38 | F13: 13.98 | G13: 14.32 | H13: 14.34 | I13: 14.32 | J13: 15.1
I15: TỔNG | K15: =+SUM(B3:K13) -> 1447.5
A16: XE 2 - GÀ
B17: 1 | C17: 2 | D17: 3 | E17: 4 | F17: 5 | G17: 6 | H17: 7 | I17: 8 | J17: 9 | K17: 10
A18: 1
A19: 2
A20: 3
A21: 4
A22: 5
A23: 6
A24: 7
A25: 8
A26: 9
A27: 10
A28: 11
I30: TỔNG | K30: =+SUM(B18:K28) -> 0
A31: XE 3
B32: 1 | C32: 2 | D32: 3 | E32: 4 | F32: 5 | G32: 6 | H32: 7 | I32: 8 | J32: 9 | K32: 10
A33: 1
A34: 2
A35: 3
A36: 4
A37: 5
A38: 6
A39: 7
A40: 8
A41: 9
A42: 10
...

Sheet NGAY 22-12
A1: XE 1 - GÀ
B2: 1 | C2: 2 | D2: 3 | E2: 4 | F2: 5 | G2: 6 | H2: 7 | I2: 8 | J2: 9 | K2: 10
A3: 1 | B3: 13.2 | C3: 12.04 | D3: 12.12 | E3: 13.58 | F3: 14.76 | G3: 13.8 | H3: 14.94 | I3: 14.92 | J3: 14.32 | K3: 14.04
A4: 2 | B4: 13.86 | C4: 14.36 | D4: 13.06 | E4: 13.2 | F4: 14.4 | G4: 13.8 | H4: 14.44 | I4: 14.36 | J4: 14.94 | K4: 14.48
A5: 3 | B5: 13.86 | C5: 14.3 | D5: 13.64 | E5: 12.86 | F5: 14.4 | G5: 13.04 | H5: 14.72 | I5: 14.42 | J5: 14.26 | K5: 14
A6: 4 | B6: 14.32 | C6: 13.8 | D6: 13.68 | E6: 13.58 | F6: 14.32 | G6: 13.86 | H6: 14.88 | I6: 14.94 | J6: 14.86 | K6: 15.3
A7: 5 | B7: 13.26 | C7: 14.92 | D7: 13.06 | E7: 15.22 | F7: 14.64 | G7: 15.12 | H7: 14.38 | I7: 13.88 | J7: 14.5 | K7: 14.86
A8: 6 | B8: 13.52 | C8: 14.6 | D8: 13.96 | E8: 14.48 | F8: 13.98 | G8: 14.2 | H8: 14.78 | I8: 14.6 | J8: 13.92 | K8: 14.72
A9: 7 | B9: 14.44 | C9: 15.3 | D9: 12.22 | E9: 14.24 | F9: 14.3 | G9: 14.64 | H9: 14.78 | I9: 14.06 | J9: 14.5 | K9: 15.6
A10: 8 | B10: 14.58 | C10: 13.88 | D10: 13.02 | E10: 14.6 | F10: 14.36 | G10: 14.1 | H10: 13.98 | I10: 14.98 | J10: 14.56 | K10: 14.3
A11: 9 | B11: 12.58 | C11: 15.14 | D11: 12.4 | E11: 14.4 | F11: 14.92 | G11: 14.18 | H11: 14.34 | I11: 14.68 | J11: 14.12 | K11: 14.2
A12: 10 | B12: 13.58 | C12: 13.82 | D12: 11.68 | E12: 14.4 | F12: 14.78 | G12: 14.52 | H12: 14.92 | I12: 14.96 | J12: 14.54 | K12: 14.34
I14: TỔNG | K14: =+SUM(B3:K12) -> 1417.2
A15: XE 2 - Mỡ
B16: 1 | C16: 2 | D16: 3 | E16: 4 | F16: 5 | G16: 6 | H16: 7 | I16: 8 | J16: 9 | K16: 10
A17: 1 | B17: 23.22 | C17: 23.7 | D17: 24.34 | E17: 25.12 | F17: 24.22
A18: 2 | B18: 26.06 | C18: 25.02 | D18: 24.36 | E18: 25 | F18: 24.78
A19: 3 | B19: 24.64 | C19: 24.8 | D19: 24.62 | E19: 24.6 | F19: 24.7
A20: 4 | B20: 24.6 | C20: 23.48 | D20: 24.92 | E20: 24.18 | F20: 23.66
A21: 5 | B21: 24.58 | C21: 24.42 | D21: 24.52 | E21: 25.6 | F21: 24.66
A22: 6 | B22: 24.62 | C22: 24.4 | D22: 24.44 | E22: 24.48 | F22: 24.46
A23: 7 | B23: 24.48 | C23: 24.58 | D23: 25.14 | E23: 23.86 | F23: 24.48
A24: 8 | B24: 24.2 | C24: 24.74 | D24: 24.48 | E24: 22.9 | F24: 23.76
A25: 9 | B25: 26.76 | C25: 24.5 | D25: 24.02 | E25: 24.12 | F25: 22.72
A26: 10 | B26: 26.34 | C26: 23.62 | D26: 25.36 | E26: 25.18 | F26: 24.34
A27: 11
I29: TỔNG | K29: =+SUM(B17:K27) -> 1225.78
A30: XE 3
B31: 1 | C31: 2 | D31: 3 | E31: 4 | F31: 5 | G31: 6 | H31: 7 | I31: 8 | J31: 9 | K31: 10
A32: 1
A33: 2
A34: 3
A35: 4
A36: 5
A37: 6
A38: 7
A39: 8
A40: 9
A41: 10
I43: TỔNG | K43: =+SUM(B32:K41) -> 0

Sheet NGAY 25-12
A1: XE 1 - GÀ
B2: 1 | C2: 2 | D2: 3 | E2: 4 | F2: 5 | G2: 6 | H2: 7 | I2: 8 | J2: 9 | K2: 10
A3: 1 | B3: 15.86 | C3: 15.14 | D3: 14.4 | E3: 16.12 | F3: 14.14 | G3: 14.4 | H3: 14.86 | I3: 13.54 | J3: 14.46 | K3: 13.38
A4: 2 | B4: 15.06 | C4: 15.14 | D4: 15.84 | E4: 17.38 | F4: 13.9 | G4: 14.56 | H4: 14.56 | I4: 13.94 | J4: 12.22 | K4: 13.8
A5: 3 | B5: 14.96 | C5: 15.34 | D5: 14.94 | E5: 17.18 | F5: 14.64 | G5: 14.42 | H5: 14.72 | I5: 13.06 | J5: 13.42 | K5: 12.98
A6: 4 | B6: 15.3 | C6: 15.66 | D6: 13.72 | E6: 16.12 | F6: 14.34 | G6: 14.42 | H6: 14.28 | I6: 14.62 | J6: 12.24 | K6: 13.96
A7: 5 | B7: 14.4 | C7: 14.98 | D7: 16.6 | E7: 16.36 | F7: 14.64 | G7: 14.56 | H7: 14.78 | I7: 15.48 | J7: 12.54 | K7: 13.48
A8: 6 | B8: 14.7 | C8: 14.56 | D8: 17 | E8: 13.84 | F8: 14.6 | G8: 14.52 | H8: 14.32 | I8: 14.4 | J8: 13.64 | K8: 13.64
A9: 7 | B9: 15.5 | C9: 15.08 | D9: 15.84 | E9: 14.5 | F9: 14.84 | G9: 14.4 | H9: 14.08 | I9: 12.46 | J9: 12.58 | K9: 13.96
A10: 8 | B10: 15.46 | C10: 16.76 | D10: 15.28 | E10: 14.54 | F10: 14.14 | G10: 14.28 | H10: 14.18 | I10: 13.66 | J10: 13.78 | K10: 12.72
A11: 9 | B11: 15.16 | C11: 14.82 | D11: 15.02 | E11: 14.36 | F11: 14.56 | G11: 14.48 | H11: 14.46 | I11: 14.62 | J11: 13.54 | K11: 13.72
A12: 10 | B12: 14.34 | C12: 14.82 | D12: 14.76 | E12: 14.66 | F12: 14.9 | G12: 14.34 | H12: 14.84 | I12: 12.27 | J12: 13.06 | K12: 13.6
I14: TỔNG | K14: =+SUM(B3:K12) -> 1450.43
A15: XE 2 - Mỡ
B16: 1 | C16: 2 | D16: 3 | E16: 4 | F16: 5 | G16: 6 | H16: 7 | I16: 8 | J16: 9 | K16: 10
A17: 1
A18: 2
A19: 3
A20: 4
A21: 5
A22: 6
A23: 7
A24: 8
A25: 9
A26: 10
A27: 11
I29: TỔNG | K29: =+SUM(B17:K27) -> 0
A30: XE 3
B31: 1 | C31: 2 | D31: 3 | E31: 4 | F31: 5 | G31: 6 | H31: 7 | I31: 8 | J31: 9 | K31: 10
A32: 1
A33: 2
A34: 3
A35: 4
A36: 5
A37: 6
A38: 7
A39: 8
A40: 9
A41: 10
I43: TỔNG | K43: =+SUM(B32:K41) -> 0

Sheet NGAY 26-12
A1: XE 1 - GÀ
B2: 1 | C2: 2 | D2: 3 | E2: 4 | F2: 5 | G2: 6 | H2: 7 | I2: 8 | J2: 9 | K2: 10
A3: 1 | B3: 14.94 | C3: 14.14 | D3: 15.22 | E3: 14.88 | F3: 14.58 | G3: 14.68 | H3: 14.78 | I3: 13.74 | J3: 13.74 | K3: 13.1
A4: 2 | B4: 14.34 | C4: 14.4 | D4: 14.82 | E4: 15.72 | F4: 14.06 | G4: 14.66 | H4: 14.58 | I4: 12.9 | J4: 13.96 | K4: 12.68
A5: 3 | B5: 14.4 | C5: 15.14 | D5: 14.9 | E5: 14.34 | F5: 15.08 | G5: 14.7 | H5: 14.7 | I5: 12.56 | J5: 13.78 | K5: 13.44
A6: 4 | B6: 14.32 | C6: 14.92 | D6: 15.94 | E6: 14.74 | F6: 14.62 | G6: 14.86 | H6: 13.88 | I6: 12.96 | J6: 13.58 | K6: 13.62
A7: 5 | B7: 14.98 | C7: 14.66 | D7: 14.04 | E7: 15.78 | F7: 14.14 | G7: 14.7 | H7: 13.68 | I7: 13.7 | J7: 13.82 | K7: 13.96
A8: 6 | B8: 14.76 | C8: 14.48 | D8: 14.06 | E8: 15.18 | F8: 14.86 | G8: 14.54 | H8: 15.24 | I8: 13.4 | J8: 12.88 | K8: 14.18
A9: 7 | B9: 14.46 | C9: 14.44 | D9: 14.66 | E9: 14.45 | F9: 14.34 | G9: 14.96 | H9: 15.04 | I9: 13.44 | J9: 13.06 | K9: 14.22
A10: 8 | B10: 14.76 | C10: 15.28 | D10: 15.1 | E10: 13.32 | F10: 14.34 | G10: 14.68 | H10: 14.76 | I10: 13.18 | J10: 13.68 | K10: 14.34
A11: 9 | B11: 15.32 | C11: 14.94 | D11: 15.22 | E11: 14.6 | F11: 14.44 | G11: 14.76 | H11: 14.74 | I11: 12.08 | J11: 13.9 | K11: 14.36
A12: 10 | B12: 14.56 | C12: 14.64 | D12: 15.36 | E12: 14.86 | F12: 15.06 | G12: 14.32 | H12: 14.34 | I12: 13.64 | J12: 13.48 | K12: 14.62
I14: TỔNG | K14: =+SUM(B3:K12) -> 1435.19
A15: XE 2
B16: 1 | C16: 2 | D16: 3 | E16: 4 | F16: 5 | G16: 6 | H16: 7 | I16: 8 | J16: 9 | K16: 10
A17: 1 | B17: 14.6 | C17: 14.84 | D17: 14.74 | E17: 14.08 | F17: 15.1 | G17: 13.5 | H17: 14.82 | I17: 15.24 | J17: 14.62 | K17: 14.98
A18: 2 | B18: 14.56 | C18: 14.54 | D18: 14.78 | E18: 14.92 | F18: 15.94 | G18: 13.58 | H18: 15.1 | I18: 13.64 | J18: 14.84 | K18: 14.66
A19: 3 | B19: 14.64 | C19: 14.8 | D19: 14.26 | E19: 14.6 | F19: 15.38 | G19: 14.36 | H19: 15.12 | I19: 14.2 | J19: 14.64 | K19: 14.16
A20: 4 | B20: 17.02 | C20: 14.66 | D20: 14.22 | E20: 14.24 | F20: 17.52 | G20: 15.26 | H20: 14.62 | I20: 14.7 | J20: 15.22 | K20: 13.66
A21: 5 | B21: 14.76 | C21: 14.72 | D21: 14.18 | E21: 14.7 | F21: 15.22 | G21: 14.68 | H21: 15.44 | I21: 14.3 | J21: 14.86 | K21: 13.86
A22: 6 | B22: 14.66 | C22: 14.52 | D22: 14.52 | E22: 14.32 | F22: 15.18 | G22: 14.64 | H22: 14.04 | I22: 14.52 | J22: 14.18 | K22: 15.32
A23: 7 | B23: 14.18 | C23: 14.84 | D23: 14.4 | E23: 14.72 | F23: 14.44 | G23: 15.26 | H23: 15.7 | I23: 14.6 | J23: 14.88 | K23: 14.34
A24: 8 | B24: 15.18 | C24: 14.4 | D24: 14.84 | E24: 14.6 | F24: 14.98 | G24: 15.38 | H24: 15.38 | I24: 14.5 | J24: 14.68 | K24: 14.88
A25: 9 | B25: 13.9 | C25: 14.4 | D25: 14.84 | E25: 13.44 | F25: 14.02 | G25: 14.52 | H25: 13.88 | I25: 14.48 | J25: 14.8 | K25: 14.86
A26: 10 | B26: 14.48 | C26: 15.38 | D26: 13.9 | E26: 14.84 | F26: 14.28 | G26: 14.82 | H26: 14.84 | I26: 15.12 | J26: 14.64 | K26: 14.28
A27: 11
I29: TỔNG | K29: =+SUM(B17:K27) -> 1468.88
A30: XE 3
B31: 1 | C31: 2 | D31: 3 | E31: 4 | F31: 5 | G31: 6 | H31: 7 | I31: 8 | J31: 9 | K31: 10
A32: 1
A33: 2
A34: 3
A35: 4
A36: 5
A37: 6
A38: 7
A39: 8
A40: 9
A41: 10
I43: TỔNG | K43: =+SUM(B32:K41) -> 0

Sheet NGAY 29-12
A1: XE 1
B2: 1 | C2: 2 | D2: 3 | E2: 4 | F2: 5 | G2: 6 | H2: 7 | I2: 8 | J2: 9 | K2: 10
A3: 1 | B3: 14.18 | C3: 14.72 | D3: 13.04 | E3: 13.38 | F3: 12.54 | G3: 14.18 | H3: 14.52 | I3: 14.94 | J3: 14.52 | K3: 14.9
A4: 2 | B4: 14.34 | C4: 13.98 | D4: 14.96 | E4: 12.8 | F4: 12.84 | G4: 13.8 | H4: 14.88 | I4: 15 | J4: 14.36 | K4: 14.68
A5: 3 | B5: 14.4 | C5: 15.06 | D5: 13.48 | E5: 13.84 | F5: 14.14 | G5: 14.24 | H5: 14.44 | I5: 14.88 | J5: 14.62 | K5: 14.74
A6: 4 | B6: 13.86 | C6: 13.54 | D6: 13.64 | E6: 13.08 | F6: 13.52 | G6: 14.2 | H6: 15.7 | I6: 14.48 | J6: 15.2 | K6: 14.3
A7: 5 | B7: 17.5 | C7: 14.8 | D7: 12.66 | E7: 14.04 | F7: 12.7 | G7: 14.94 | H7: 15.22 | I7: 14.44 | J7: 14.38 | K7: 14.4
A8: 6 | B8: 14.18 | C8: 14.46 | D8: 14.5 | E8: 13.12 | F8: 13.94 | G8: 14.52 | H8: 14.58 | I8: 14.32 | J8: 15.14 | K8: 14.34
A9: 7 | B9: 14.72 | C9: 15.06 | D9: 14.6 | E9: 12.32 | F9: 12.48 | G9: 15 | H9: 14.44 | I9: 14.48 | J9: 15.02 | K9: 14.38
A10: 8 | B10: 14.82 | C10: 13.84 | D10: 14.4 | E10: 12.82 | F10: 13.76 | G10: 14.26 | H10: 14.48 | I10: 14.7 | J10: 14.24 | K10: 13.9
A11: 9 | B11: 14.42 | C11: 12.74 | D11: 12.04 | E11: 13.78 | F11: 13.38 | G11: 14.38 | H11: 14.44 | I11: 14.18 | J11: 14.78 | K11: 13.76
A12: 10 | B12: 14.52 | C12: 14.72 | D12: 12.82 | E12: 13.92 | F12: 14.12 | G12: 15.42 | H12: 13.98 | I12: 14.3 | J12: 14.34 | K12: 14.62
I14: TỔNG | K14: =+SUM(B3:K12) -> 1420.48
A15: XE 2
B16: 1 | C16: 2 | D16: 3 | E16: 4 | F16: 5 | G16: 6 | H16: 7 | I16: 8 | J16: 9 | K16: 10
A17: 1 | B17: 14.42 | C17: 14.58 | D17: 14.64 | E17: 14.36 | F17: 14.52 | G17: 14.4 | H17: 15.16 | I17: 14.5 | J17: 14.6 | K17: 14.32
A18: 2 | B18: 14.3 | C18: 14.62 | D18: 14.36 | E18: 15.22 | F18: 15.42 | G18: 14.3 | H18: 14.12 | I18: 14.36 | J18: 14.94 | K18: 14.08
A19: 3 | B19: 14.1 | C19: 14.6 | D19: 14.46 | E19: 14.22 | F19: 14.08 | G19: 14 | H19: 15.04 | I19: 13.9 | J19: 14.5 | K19: 14.94
A20: 4 | B20: 14.28 | C20: 14.4 | D20: 14.1 | E20: 14.54 | F20: 14.04 | G20: 14.34 | H20: 14.5 | I20: 15.18 | J20: 14.82 | K20: 14.58
A21: 5 | B21: 14.16 | C21: 14.86 | D21: 14.24 | E21: 14.96 | F21: 14.8 | G21: 15.08 | H21: 14.84 | I21: 14.56 | J21: 14.14 | K21: 13.9
A22: 6 | B22: 14.7 | C22: 14.5 | D22: 14.14 | E22: 14.24 | F22: 14.8 | G22: 14.28 | H22: 14.86 | I22: 14.4 | J22: 14.02 | K22: 14.88
A23: 7 | B23: 14.86 | C23: 13.72 | D23: 13.82 | E23: 14.6 | F23: 14.68 | G23: 13.86 | H23: 14.7 | I23: 14.84 | J23: 14.5 | K23: 14.34
A24: 8 | B24: 15.06 | C24: 14.74 | D24: 14.02 | E24: 14.54 | F24: 14.48 | G24: 15.04 | H24: 13.48 | I24: 15.06 | J24: 14.6 | K24: 14.14
A25: 9 | B25: 14.54 | C25: 14.34 | D25: 14.42 | E25: 14.5 | F25: 15 | G25: 13.88 | H25: 14.24 | I25: 14.76 | J25: 14.74 | K25: 14.16
A26: 10 | B26: 13.46 | C26: 14.38 | D26: 14.9 | E26: 14.48 | F26: 13.64 | G26: 14.92 | H26: 14.7 | I26: 14.22 | J26: 14.72 | K26: 14.72
A27: 11
I29: TỔNG | K29: =+SUM(B17:K27) -> 1448
A30: XE 3
B31: 1 | C31: 2 | D31: 3 | E31: 4 | F31: 5 | G31: 6 | H31: 7 | I31: 8 | J31: 9 | K31: 10
A32: 1
A33: 2
A34: 3
A35: 4
A36: 5
A37: 6
A38: 7
A39: 8
A40: 9
A41: 10
I43: TỔNG | K43: =+SUM(B32:K41) -> 0

Sheet NGAY 31-12
A1: XE 1 - GÀ
B2: 1 | C2: 2 | D2: 3 | E2: 4 | F2: 5 | G2: 6 | H2: 7 | I2: 8 | J2: 9 | K2: 10
A3: 1 | B3: 25.4 | C3: 24.76 | D3: 24.34 | E3: 25.68 | F3: 24.16
A4: 2 | B4: 24.18 | C4: 26.2 | D4: 24.42 | E4: 25.8 | F4: 25.24
A5: 3 | B5: 24.38 | C5: 24.42 | D5: 24.38 | E5: 24.44 | F5: 24.24
A6: 4 | B6: 23.24 | C6: 24.1 | D6: 24.08 | E6: 24.8 | F6: 23.9
A7: 5 | B7: 24.88 | C7: 23.38 | D7: 24.44 | E7: 24.28 | F7: 25.24
A8: 6 | B8: 25.98 | C8: 24.46 | D8: 24.72 | E8: 24.32 | F8: 24.76
A9: 7 | B9: 23.8 | C9: 24.42 | D9: 25.4 | E9: 24.33 | F9: 24.54
A10: 8 | B10: 23.66 | C10: 24.4 | D10: 25 | E10: 24.48 | F10: 24.26
A11: 9 | B11: 24.32 | C11: 24.22 | D11: 24.26 | E11: 24.56 | F11: 24.54
A12: 10 | B12: 23.28 | C12: 25.28 | D12: 24.4 | E12: 24.5 | F12: 24.4
I14: TỔNG | K14: =+SUM(B3:K12) -> 1226.67
A15: XE 2 - Mỡ
B16: 1 | C16: 2 | D16: 3 | E16: 4 | F16: 5 | G16: 6 | H16: 7 | I16: 8 | J16: 9 | K16: 10
A17: 1
A18: 2
A19: 3
A20: 4
A21: 5
A22: 6
A23: 7
A24: 8
A25: 9
A26: 10
A27: 11
I29: TỔNG | K29: =+SUM(B17:K27) -> 0
A30: XE 3
B31: 1 | C31: 2 | D31: 3 | E31: 4 | F31: 5 | G31: 6 | H31: 7 | I31: 8 | J31: 9 | K31: 10
A32: 1
A33: 2
A34: 3
A35: 4
A36: 5
A37: 6
A38: 7
A39: 8
A40: 9
A41: 10
I43: TỔNG | K43: =+SUM(B32:K41) -> 0

Sheet NGAY 02-01
A1: XE 1 - GÀ
B2: 1 | C2: 2 | D2: 3 | E2: 4 | F2: 5 | G2: 6 | H2: 7 | I2: 8 | J2: 9 | K2: 10
A3: 1 | B3: 14.56 | C3: 13.88 | D3: 15.32 | E3: 14.08 | F3: 13.1 | G3: 11.64 | H3: 13.48 | I3: 15.08 | J3: 13.5 | K3: 14.72
A4: 2 | B4: 14.96 | C4: 15.3 | D4: 13.84 | E4: 14.6 | F4: 13.56 | G4: 13.1 | H4: 13.66 | I4: 12 | J4: 15.08 | K4: 14.52
A5: 3 | B5: 14 | C5: 14.66 | D5: 13.98 | E5: 13 | F5: 13.94 | G5: 13.54 | H5: 13.78 | I5: 15.3 | J5: 15.16 | K5: 14.08
A6: 4 | B6: 15.12 | C6: 14.24 | D6: 14.52 | E6: 14.5 | F6: 13.5 | G6: 13.48 | H6: 12.86 | I6: 15.3 | J6: 14.74 | K6: 14.8
A7: 5 | B7: 14.26 | C7: 14.56 | D7: 14.74 | E7: 13.8 | F7: 13.38 | G7: 13.54 | H7: 13.46 | I7: 14.9 | J7: 14.4 | K7: 14.36
A8: 6 | B8: 14.4 | C8: 14.28 | D8: 14.44 | E8: 13.64 | F8: 12.14 | G8: 12.98 | H8: 12.16 | I8: 15.2 | J8: 15.28 | K8: 15.28
A9: 7 | B9: 14.16 | C9: 15.78 | D9: 14.74 | E9: 13.5 | F9: 13.68 | G9: 13.3 | H9: 13.71 | I9: 14.22 | J9: 14.04 | K9: 14.78
A10: 8 | B10: 14.24 | C10: 15.08 | D10: 14.86 | E10: 12.56 | F10: 13.36 | G10: 13.54 | H10: 13.22 | I10: 14.04 | J10: 14.78 | K10: 14.92
A11: 9 | B11: 15.36 | C11: 14.66 | D11: 15.08 | E11: 11.92 | F11: 13.66 | G11: 13.42 | H11: 12.34 | I11: 15 | J11: 14.24 | K11: 14.32
A12: 10 | B12: 14.68 | C12: 14.74 | D12: 15.02 | E12: 13.02 | F12: 13.12 | G12: 13.82 | H12: 14.46 | I12: 15.48 | J12: 14.34 | K12: 14.6
I14: TỔNG | K14: =+SUM(B3:K12) -> 1411.47
A15: XE 2 - Gà Nhỏ
B16: 1 | C16: 2 | D16: 3 | E16: 4 | F16: 5 | G16: 6 | H16: 7 | I16: 8 | J16: 9 | K16: 10
A17: 1 | B17: 14.2 | C17: 14 | D17: 13.4 | E17: 14.2 | F17: 13.8
A18: 2 | B18: 14.1 | C18: 14.1 | D18: 14.3 | E18: 13.5 | F18: 13.9
A19: 3 | B19: 13.7 | C19: 13.6 | D19: 13.4 | E19: 14 | F19: 14.4
A20: 4 | B20: 13.5 | C20: 13.5 | D20: 13.7 | E20: 13.9 | F20: 13.9
A21: 5 | B21: 13.3 | C21: 13.6 | D21: 15.4 | E21: 13.9 | F21: 14
A22: 6 | B22: 13.7 | C22: 13.8 | D22: 13.3 | E22: 14 | F22: 13.8
A23: 7 | B23: 13.4 | C23: 13.6 | D23: 13.8 | E23: 13.7
A24: 8 | B24: 13.2 | C24: 13.9 | D24: 13.8 | E24: 14.1
A25: 9 | B25: 13.8 | C25: 14 | D25: 14 | E25: 13.8
A26: 10 | B26: 15 | C26: 13.5 | D26: 13.7 | E26: 14
A27: 11 | B27: 13.4 | C27: 13.5 | D27: 14.5 | E27: 13.8
I29: TỔNG | K29: =+SUM(B17:K27) -> 692.4
A30: XE 3
B31: 1 | C31: 2 | D31: 3 | E31: 4 | F31: 5 | G31: 6 | H31: 7 | I31: 8 | J31: 9 | K31: 10
A32: 1 | B32: 14.74 | C32: 13.84 | D32: 15.28 | E32: 16.34 | F32: 14.48 | G32: 14.78 | H32: 15.12 | I32: 13.76 | J32: 13.1 | K32: 13.8
A33: 2 | B33: 15.04 | C33: 14.82 | D33: 14.62 | E33: 15.54 | F33: 14.54 | G33: 14.76 | H33: 14.9 | I33: 12.18 | J33: 12.76 | K33: 12.3
A34: 3 | B34: 14.22 | C34: 15.08 | D34: 14.4 | E34: 16.36 | F34: 14.82 | G34: 14.94 | H34: 14.54 | I34: 13.64 | J34: 13.1 | K34: 13.66
A35: 4 | B35: 14.38 | C35: 14.64 | D35: 15.1 | E35: 15.94 | F35: 14.36 | G35: 14.5 | H35: 13.72 | I35: 13.64 | J35: 13.76 | K35: 15.66
A36: 5 | B36: 13.36 | C36: 14.48 | D36: 15.4 | E36: 16.18 | F36: 14.78 | G36: 15 | H36: 14.48 | I36: 13.22 | J36: 13.62 | K36: 12.46
A37: 6 | B37: 13.68 | C37: 14.04 | D37: 14.28 | E37: 13.72 | F37: 14.24 | G37: 14.56 | H37: 14.68 | I37: 13.32 | J37: 13.3 | K37: 12.42
A38: 7 | B38: 13.76 | C38: 14.58 | D38: 15.88 | E38: 14.3 | F38: 14.66 | G38: 14.94 | H38: 14.56 | I38: 13.6 | J38: 13.56 | K38: 13.3
A39: 8 | B39: 14.92 | C39: 14.76 | D39: 14.8 | E39: 14.48 | F39: 14.66 | G39: 14.82 | H39: 14.2 | I39: 13.58 | J39: 12.74 | K39: 12.8
A40: 9 | B40: 14.4 | C40: 14.82 | D40: 15.58 | E40: 14.58 | F40: 14.52 | G40: 13.62 | H40: 15.08 | I40: 13.7 | J40: 12.38 | K40: 13.2
A41: 10 | B41: 14.22 | C41: 14.92 | D41: 16.82 | E41: 15 | F41: 14.64 | G41: 14.7 | H41: 15 | I41: 13.52 | J41: 13.1 | K41: 13.6
I43: TỔNG | K43: =+SUM(B32:K41) -> 1430.68

Sheet NGAY 05-01
A1: XE 1 - GÀ
B2: 1 | C2: 2 | D2: 3 | E2: 4 | F2: 5 | G2: 6 | H2: 7 | I2: 8 | J2: 9 | K2: 10
A3: 1 | B3: 14.98 | C3: 14.3 | D3: 14.16 | E3: 14.82 | F3: 16.7 | G3: 15.42 | H3: 14.38 | I3: 14.72 | J3: 14.6 | K3: 13.74
A4: 2 | B4: 14.1 | C4: 14.34 | D4: 14.02 | E4: 14.72 | F4: 15.82 | G4: 14.14 | H4: 14.78 | I4: 15.58 | J4: 14.58 | K4: 14.68
A5: 3 | B5: 14.86 | C5: 14.34 | D5: 14.9 | E5: 14.3 | F5: 16.9 | G5: 14.54 | H5: 14.8 | I5: 15.16 | J5: 14.14 | K5: 14.36
A6: 4 | B6: 13.76 | C6: 14.34 | D6: 14.66 | E6: 14.86 | F6: 15.26 | G6: 14.4 | H6: 14.88 | I6: 16.26 | J6: 14.32 | K6: 15.04
A7: 5 | B7: 14.56 | C7: 13.96 | D7: 14.96 | E7: 14.44 | F7: 16.34 | G7: 14.1 | H7: 15.82 | I7: 14.82 | J7: 14.94 | K7: 14.48
A8: 6 | B8: 14.76 | C8: 13.64 | D8: 14.54 | E8: 15.78 | F8: 16.28 | G8: 14.8 | H8: 14.4 | I8: 15.42 | J8: 14.36 | K8: 13.96
A9: 7 | B9: 14.62 | C9: 14.54 | D9: 14.58 | E9: 14.1 | F9: 15.86 | G9: 16.36 | H9: 14.86 | I9: 14.48 | J9: 14.52 | K9: 14.78
A10: 8 | B10: 14.82 | C10: 14.24 | D10: 14.98 | E10: 14.56 | F10: 14.6 | G10: 14.44 | H10: 14.58 | I10: 14.62 | J10: 13.98 | K10: 14.36
A11: 9 | B11: 13.8 | C11: 14.48 | D11: 14.94 | E11: 16.08 | F11: 16.34 | G11: 14.28 | H11: 15 | I11: 15.3 | J11: 14.14 | K11: 13.86
A12: 10 | B12: 14.72 | C12: 14.66 | D12: 14.78 | E12: 15.66 | F12: 14.18 | G12: 15.06 | H12: 16.06 | I12: 14.26 | J12: 15.02 | K12: 14.26
I14: TỔNG | K14: =+SUM(B3:K12) -> 1477.78
A15: XE 2
B16: 1 | C16: 2 | D16: 3 | E16: 4 | F16: 5 | G16: 6 | H16: 7 | I16: 8 | J16: 9 | K16: 10
A17: 1 | B17: 14.38 | C17: 14.78 | D17: 13.94 | E17: 13.98 | F17: 14.44 | G17: 14.18 | H17: 14.62 | I17: 14.98 | J17: 12.96 | K17: 12.54
A18: 2 | B18: 14.24 | C18: 14.96 | D18: 14.56 | E18: 14.38 | F18: 14.02 | G18: 14.46 | H18: 14.62 | I18: 14.8 | J18: 14.92 | K18: 15.22
A19: 3 | B19: 14.94 | C19: 14.14 | D19: 14.68 | E19: 15 | F19: 13.36 | G19: 14.5 | H19: 14.3 | I19: 15 | J19: 14.88 | K19: 14.4
A20: 4 | B20: 13.9 | C20: 14.34 | D20: 14.22 | E20: 14.66 | F20: 14.6 | G20: 14.3 | H20: 14.72 | I20: 14.02 | J20: 14.86 | K20: 14.76
A21: 5 | B21: 14.7 | C21: 14.72 | D21: 14.66 | E21: 13.94 | F21: 13.92 | G21: 14.4 | H21: 14.72 | I21: 14.96 | J21: 14.94 | K21: 14.8
A22: 6 | B22: 14.66 | C22: 15.08 | D22: 15.06 | E22: 14.76 | F22: 14.86 | G22: 14.18 | H22: 15.58 | I22: 15.5 | J22: 14.62 | K22: 12.5
A23: 7 | B23: 14.5 | C23: 13.98 | D23: 14.52 | E23: 14.56 | F23: 13.8 | G23: 14.48 | H23: 14.86 | I23: 15.3 | J23: 14.58 | K23: 14.82
A24: 8 | B24: 16.18 | C24: 14.66 | D24: 14.52 | E24: 15.4 | F24: 13.96 | G24: 14.7 | H24: 14.98 | I24: 13.82 | J24: 14.94 | K24: 15.12
A25: 9 | B25: 14.36 | C25: 16.08 | D25: 14.28 | E25: 14.4 | F25: 13.76 | G25: 13.82 | H25: 15.48 | I25: 14.98 | J25: 14.7 | K25: 15.32
A26: 10 | B26: 16.06 | C26: 14.2 | D26: 15.48 | E26: 14.32 | F26: 15.02 | G26: 14.5 | H26: 14.9 | I26: 12 | J26: 13.68 | K26: 13.96
A27: 11
I29: TỔNG | K29: =+SUM(B17:K27) -> 1454.1
A30: XE 3
B31: 1 | C31: 2 | D31: 3 | E31: 4 | F31: 5 | G31: 6 | H31: 7 | I31: 8 | J31: 9 | K31: 10
A32: 1
A33: 2
A34: 3
A35: 4
A36: 5
A37: 6
A38: 7
A39: 8
A40: 9
A41: 10
I43: TỔNG | K43: =+SUM(B32:K41) -> 0

Sheet NGAY 06-01
A1: XE 1 - GÀ
B2: 1 | C2: 2 | D2: 3 | E2: 4 | F2: 5 | G2: 6 | H2: 7 | I2: 8 | J2: 9 | K2: 10
A3: 1 | B3: 14.82 | C3: 15.5 | D3: 14.44 | E3: 14.6 | F3: 14.76 | G3: 15.24 | H3: 14.82 | I3: 15.32 | J3: 14.82 | K3: 15.22
A4: 2 | B4: 15.12 | C4: 12.8 | D4: 14.48 | E4: 14.72 | F4: 15.42 | G4: 15.16 | H4: 15.5 | I4: 14.74 | J4: 15.22 | K4: 15
A5: 3 | B5: 15.02 | C5: 14.68 | D5: 14.68 | E5: 14.98 | F5: 14.74 | G5: 15.4 | H5: 15.3 | I5: 15.24 | J5: 15.02 | K5: 14.86
A6: 4 | B6: 15.96 | C6: 15 | D6: 14.86 | E6: 15.24 | F6: 14.66 | G6: 14.52 | H6: 16.62 | I6: 14.92 | J6: 14.74 | K6: 14.72
A7: 5 | B7: 14 | C7: 14.62 | D7: 14.94 | E7: 15.14 | F7: 14.68 | G7: 14.82 | H7: 15.28 | I7: 14.86 | J7: 15.24 | K7: 14.92
A8: 6 | B8: 15.56 | C8: 14.78 | D8: 15 | E8: 14.24 | F8: 15.34 | G8: 15.36 | H8: 15.24 | I8: 14.38 | J8: 15.3 | K8: 15.46
A9: 7 | B9: 15.7 | C9: 14.66 | D9: 14.94 | E9: 15.3 | F9: 14.5 | G9: 15.18 | H9: 14.3 | I9: 15.1 | J9: 14.96 | K9: 15.38
A10: 8 | B10: 14.74 | C10: 14.78 | D10: 14.44 | E10: 15.38 | F10: 15.26 | G10: 15.36 | H10: 14.5 | I10: 15.12 | J10: 14.92 | K10: 15.02
A11: 9 | B11: 15 | C11: 15.02 | D11: 15.02 | E11: 15.14 | F11: 15.62 | G11: 15.34 | H11: 14.98 | I11: 15.3 | J11: 14.48 | K11: 14.46
A12: 10 | B12: 14.48 | C12: 14.04 | D12: 14.64 | E12: 15.36 | F12: 14.64 | G12: 14.6 | H12: 15.3 | I12: 15.34 | J12: 15.22 | K12: 15.16
I14: TỔNG | K14: =+SUM(B3:K12) -> 1496.7
A15: XE 2 - Mỡ
B16: 1 | C16: 2 | D16: 3 | E16: 4 | F16: 5 | G16: 6 | H16: 7 | I16: 8 | J16: 9 | K16: 10
A17: 1
A18: 2
A19: 3
A20: 4
A21: 5
A22: 6
A23: 7
A24: 8
A25: 9
A26: 10
A27: 11
I29: TỔNG | K29: =+SUM(B17:K27) -> 0
A30: XE 3
B31: 1 | C31: 2 | D31: 3 | E31: 4 | F31: 5 | G31: 6 | H31: 7 | I31: 8 | J31: 9 | K31: 10
A32: 1 | B32: 14.76 | C32: 14.92 | D32: 14.98 | E32: 12.21 | F32: 15.2 | G32: 15.12 | H32: 15.02 | I32: 15.02 | J32: 15.52 | K32: 13.14
A33: 2 | B33: 14.74 | C33: 15.28 | D33: 15.24 | E33: 15.46 | F33: 15.02 | G33: 16 | H33: 15.36 | I33: 15.24 | J33: 15.241 | K33: 13.3
A34: 3 | B34: 14.8 | C34: 14.74 | D34: 15.08 | E34: 14.68 | F34: 15.26 | G34: 14.52 | H34: 15.14 | I34: 15.44 | J34: 13.36 | K34: 15.16
A35: 4 | B35: 14.82 | C35: 14.88 | D35: 15.34 | E35: 15.02 | F35: 14.58 | G35: 14.7 | H35: 15.42 | I35: 14.94 | J35: 14.94 | K35: 12.32
A36: 5 | B36: 14.86 | C36: 15.28 | D36: 14.04 | E36: 14.04 | F36: 15.04 | G36: 14.66 | H36: 14.48 | I36: 15.36 | J36: 14.6 | K36: 12.74
A37: 6 | B37: 15.22 | C37: 16.02 | D37: 14.98 | E37: 15.04 | F37: 14.84 | G37: 15.42 | H37: 15.3 | I37: 15.12 | J37: 13.02 | K37: 12.64
A38: 7 | B38: 15.18 | C38: 15.22 | D38: 14.66 | E38: 14.08 | F38: 14.9 | G38: 15.04 | H38: 14.9 | I38: 15.22 | J38: 12.92 | K38: 14.68
A39: 8 | B39: 15.14 | C39: 14.42 | D39: 15.16 | E39: 15.36 | F39: 15.5 | G39: 15.26 | H39: 14.68 | I39: 15.2 | J39: 12.88 | K39: 13.24
A40: 9 | B40: 15 | C40: 15.22 | D40: 14.44 | E40: 14.04 | F40: 15.28 | G40: 15.32 | H40: 15.12 | I40: 14.88 | J40: 14.94 | K40: 13.24
A41: 10 | B41: 14.9 | C41: 15.24 | D41: 14.78 | E41: 14.98 | F41: 15.4 | G41: 15.48 | H41: 14.94 | I41: 15 | J41: 14.76 | K41: 12.72
I43: TỔNG | K43: =+SUM(B32:K41) -> 1473.931

Sheet NGAY 07-01
A1: XE 1 - GÀ
B2: 1 | C2: 2 | D2: 3 | E2: 4 | F2: 5 | G2: 6 | H2: 7 | I2: 8 | J2: 9 | K2: 10
A3: 1 | B3: 16.46 | C3: 15.04 | D3: 14.76 | E3: 13.66 | F3: 13.14 | G3: 13.16 | H3: 15.58 | I3: 15.52 | J3: 14.1 | K3: 15.22
A4: 2 | B4: 15.82 | C4: 16.52 | D4: 14.54 | E4: 14.18 | F4: 12.42 | G4: 12.22 | H4: 15.12 | I4: 14.82 | J4: 15 | K4: 13.58
A5: 3 | B5: 15.26 | C5: 14.36 | D5: 15.48 | E5: 13.42 | F5: 12.24 | G5: 12.94 | H5: 14.76 | I5: 14.9 | J5: 15.46 | K5: 14.84
A6: 4 | B6: 15.22 | C6: 15.32 | D6: 13.74 | E6: 13.9 | F6: 13.26 | G6: 14.78 | H6: 15.06 | I6: 14.18 | J6: 15.38 | K6: 14.86
A7: 5 | B7: 13.76 | C7: 14.92 | D7: 15.36 | E7: 14.82 | F7: 12.58 | G7: 15.34 | H7: 14.46 | I7: 14.9 | J7: 14.76 | K7: 14.96
A8: 6 | B8: 14.3 | C8: 15 | D8: 15.14 | E8: 13 | F8: 12.46 | G8: 15.04 | H8: 15.5 | I8: 15.06 | J8: 14.24 | K8: 15.48
A9: 7 | B9: 14.52 | C9: 13.78 | D9: 14.16 | E9: 13.02 | F9: 12.48 | G9: 15.22 | H9: 15.32 | I9: 14.48 | J9: 14.74 | K9: 14.14
A10: 8 | B10: 14.36 | C10: 13.86 | D10: 13.32 | E10: 12.72 | F10: 12.1 | G10: 14.72 | H10: 13.9 | I10: 14.7 | J10: 14.58 | K10: 15.2
A11: 9 | B11: 15.38 | C11: 14.14 | D11: 15.3 | E11: 11.9 | F11: 12.3 | G11: 15.44 | H11: 14.92 | I11: 14.96 | J11: 15.2 | K11: 14.14
A12: 10 | B12: 15.4 | C12: 13.68 | D12: 14.26 | E12: 11.54 | F12: 12.42 | G12: 13.9 | H12: 15.44 | I12: 15.08 | J12: 15.04 | K12: 15.42
I14: TỔNG | K14: =+SUM(B3:K12) -> 1438.48
A15: XE 2 - Mỡ
B16: 1 | C16: 2 | D16: 3 | E16: 4 | F16: 5 | G16: 6 | H16: 7 | I16: 8 | J16: 9 | K16: 10
A17: 1 | B17: 24.4 | C17: 24.76 | D17: 24.16 | E17: 24.34 | F17: 24.34
A18: 2 | B18: 23.36 | C18: 26.2 | D18: 25.24 | E18: 24.42 | F18: 24.42
A19: 3 | B19: 25.24 | C19: 24.42 | D19: 23.9 | E19: 24.38 | F19: 24.44
A20: 4 | B20: 25.4 | C20: 24.8 | D20: 25.24 | E20: 24.08 | F20: 23.38
A21: 5 | B21: 24.4 | C21: 24.32 | D21: 24.76 | E21: 24.44 | F21: 23.28
A22: 6 | B22: 23.66 | C22: 24.28 | D22: 24.54 | E22: 24.72 | F22: 25.98
A23: 7 | B23: 24.32 | C23: 24.33 | D23: 24.4 | E23: 25.4 | F23: 23.9
A24: 8 | B24: 25.4 | C24: 24.48 | D24: 24.32 | E24: 24.26 | F24: 24.54
A25: 9 | B25: 24.88 | C25: 24.56 | D25: 24.56 | E25: 24.22 | F25: 24.4
A26: 10 | B26: 24.32 | C26: 24.5 | D26: 24.5 | E26: 25.28 | F26: 25.4
A27: 11
I29: TỔNG | K29: =+SUM(B17:K27) -> 1227.27
A30: XE 3
B31: 1 | C31: 2 | D31: 3 | E31: 4 | F31: 5 | G31: 6 | H31: 7 | I31: 8 | J31: 9 | K31: 10
A32: 1
A33: 2
A34: 3
A35: 4
A36: 5
A37: 6
A38: 7
A39: 8
A40: 9
A41: 10
I43: TỔNG | K43: =+SUM(B32:K41) -> 0

Sheet NGAY 09-01
A1: XE 1 - GÀ
B2: 1 | C2: 2 | D2: 3 | E2: 4 | F2: 5 | G2: 6 | H2: 7 | I2: 8 | J2: 9 | K2: 10
A3: 1 | B3: 15.36 | C3: 15.22 | D3: 15.38 | E3: 15 | F3: 12.92 | G3: 13.24 | H3: 14.84 | I3: 15.38 | J3: 12.5 | K3: 12.64
A4: 2 | B4: 15.84 | C4: 14.9 | D4: 14.8 | E4: 15.22 | F4: 14.72 | G4: 13.7 | H4: 13.8 | I4: 12.22 | J4: 13.02 | K4: 12.96
A5: 3 | B5: 15.36 | C5: 15.18 | D5: 15.32 | E5: 14.56 | F5: 14.86 | G5: 13.24 | H5: 12.78 | I5: 12.24 | J5: 12.68 | K5: 12.82
A6: 4 | B6: 15.2 | C6: 14.56 | D6: 15.36 | E6: 15.2 | F6: 13.1 | G6: 13.08 | H6: 14.44 | I6: 12.72 | J6: 12.7 | K6: 14.46
A7: 5 | B7: 14.18 | C7: 15 | D7: 15.2 | E7: 15.08 | F7: 15.46 | G7: 13.24 | H7: 15 | I7: 12.5 | J7: 12.34 | K7: 15.2
A8: 6 | B8: 15.08 | C8: 14.6 | D8: 14.98 | E8: 15.3 | F8: 12.4 | G8: 13.24 | H8: 15.2 | I8: 13 | J8: 13.38 | K8: 15.02
A9: 7 | B9: 14.98 | C9: 15.3 | D9: 15.3 | E9: 15.24 | F9: 15.84 | G9: 14.24 | H9: 14.6 | I9: 12.86 | J9: 12.4 | K9: 14.68
A10: 8 | B10: 14.66 | C10: 15.5 | D10: 14.4 | E10: 15.32 | F10: 15.46 | G10: 14.56 | H10: 12.62 | I10: 12.96 | J10: 13.3 | K10: 15.12
A11: 9 | B11: 15.56 | C11: 14.3 | D11: 15.22 | E11: 15.14 | F11: 12.96 | G11: 14.86 | H11: 14.26 | I11: 13.04 | J11: 12.48 | K11: 14.78
A12: 10 | B12: 14.84 | C12: 15.08 | D12: 14.62 | E12: 14.94 | F12: 12.42 | G12: 14.9 | H12: 12.68 | I12: 12.54 | J12: 13.24 | K12: 15.34
I14: TỔNG | K14: =+SUM(B3:K12) -> 1421.46
A15: XE 2 - Mỡ
B16: 1 | C16: 2 | D16: 3 | E16: 4 | F16: 5 | G16: 6 | H16: 7 | I16: 8 | J16: 9 | K16: 10
A17: 1
A18: 2
A19: 3
A20: 4
A21: 5
A22: 6
A23: 7
A24: 8
A25: 9
A26: 10
A27: 11
I29: TỔNG | K29: =+SUM(B17:K27) -> 0
A30: XE 3
B31: 1 | C31: 2 | D31: 3 | E31: 4 | F31: 5 | G31: 6 | H31: 7 | I31: 8 | J31: 9 | K31: 10
A32: 1
A33: 2
A34: 3
A35: 4
A36: 5
A37: 6
A38: 7
A39: 8
A40: 9
A41: 10
I43: TỔNG | K43: =+SUM(B32:K41) -> 0

Sheet NGAY 10-01
A1: XE 1 - GÀ
B2: 1 | C2: 2 | D2: 3 | E2: 4 | F2: 5 | G2: 6 | H2: 7 | I2: 8 | J2: 9 | K2: 10
A3: 1 | B3: 15.78 | C3: 16.12 | D3: 16.28 | E3: 15.14 | F3: 15.12 | G3: 15.32 | H3: 14.92 | I3: 15.06 | J3: 14.66 | K3: 14.08
A4: 2 | B4: 16.7 | C4: 16 | D4: 15.84 | E4: 15.68 | F4: 15.4 | G4: 15.14 | H4: 15.366 | I4: 15.52 | J4: 15.18 | K4: 14.8
A5: 3 | B5: 16.2 | C5: 15.68 | D5: 16.24 | E5: 15.7 | F5: 14.86 | G5: 15.42 | H5: 15.64 | I5: 15.38 | J5: 14.52 | K5: 14.58
A6: 4 | B6: 15.72 | C6: 15.2 | D6: 14.44 | E6: 16.28 | F6: 15.82 | G6: 16.02 | H6: 15.3 | I6: 14.58 | J6: 14.98 | K6: 15
A7: 5 | B7: 15.7 | C7: 15.88 | D7: 15.28 | E7: 15.24 | F7: 15.1 | G7: 15 | H7: 16.22 | I7: 14.6 | J7: 14.26 | K7: 15.38
A8: 6 | B8: 15.96 | C8: 17.36 | D8: 15.66 | E8: 16.72 | F8: 14.82 | G8: 15.78 | H8: 16.04 | I8: 14.68 | J8: 15.32 | K8: 15.5
