Workbook

Sheet BẢNG KÊ thanh toán NCC
A1: TỔNG CÔNG TY BƯU ĐIỆN VIỆT NAM TRUNG TÂM KINH DOANH PHÂN PHỐI | E1: CỘNG HÒA XÃ HỘI CHỦ NGHĨA VIỆT NAM Độc lập - Tự do - Hạnh phúc
A2: PHỤ LỤC 03: BẢNG KÊ THANH TOÁN HÀNG HÓA CHI TIẾT CỦA CÁC NCC
A3: Thời gian: Từ ngày ….. đến ngày …. tháng ….. năm 2025
A5: Tên khách hàng: BĐT/TP
A7: STT | B7: Kí hiệu hóa đơn | C7: Số Hóa đơn | D7: BĐT | E7: Cửa hàng/chi nhánh | F7: Mã đơn đặt hàng | G7: Nhà cung cấp | H7: Mã hàng hoá (Theo Kiotviet và HĐ ký kết) | I7: Tên hàng | J7: ĐVT | K7: Đơn giá trước thuế (Đích danh) | L7: Số lượng | M7: Thành tiền trước thuế | N7: Thuế suất (%) | O7: Chiết khấu | P7: Tiền thuế | Q7: Thành tiền sau thuế
A8: =ROW()-7 -> 1 | B8: 1C26TTN | C8: 00054296 | D8: Trung Tâm Sài Gòn | E8: Phú Nhuận | F8: PDN010723 | G8: CÔNG TY TNHH MTV TM VÀ DV NGỌC THƠM | H8: =VLOOKUP(I8,Sheet1!B:C,2,0) -> 164001 | I8: Chân giò heo muối 300g | J8: TÚI | K8: 76735 | L8: 3 | M8: =K8*L8 -> 230205 | N8: 0.08 | P8: =M8*N8 -> 18416.4 | Q8: =+P8+M8 -> 248621.4
A9: =ROW()-7 -> 2 | B9: 1C26TTN | C9: 00054296 | D9: Trung Tâm Sài Gòn | E9: Phú Nhuận | F9: PDN010723 | G9: CÔNG TY TNHH MTV TM VÀ DV NGỌC THƠM | H9: =VLOOKUP(I9,Sheet1!B:C,2,0) -> 164005 | I9: Mọc Nấm Hương 250g | J9: TÚI | K9: 43700 | L9: 1 | M9: =K9*L9 -> 43700 | N9: 0.08 | P9: =M9*N9 -> 3496 | Q9: =+P9+M9 -> 47196
A10: =ROW()-7 -> 3 | B10: 1C26TTN | C10: 00054296 | D10: Trung Tâm Sài Gòn | E10: Phú Nhuận | F10: PDN010723 | G10: CÔNG TY TNHH MTV TM VÀ DV NGỌC THƠM | H10: =VLOOKUP(I10,Sheet1!B:C,2,0) -> 164002 | I10: Tai heo muối 200g | J10: TÚI | K10: 58097 | L10: 3 | M10: =K10*L10 -> 174291 | N10: 0.08 | P10: =M10*N10 -> 13943.28 | Q10: =+P10+M10 -> 188234.28
A11: =ROW()-7 -> 4 | B11: 1C26TTN | C11: 00054296 | D11: Trung Tâm Sài Gòn | E11: Phú Nhuận | F11: PDN010723 | G11: CÔNG TY TNHH MTV TM VÀ DV NGỌC THƠM | H11: =VLOOKUP(I11,Sheet1!B:C,2,0) -> 164003 | I11: Gà muối 500g | J11: TÚI | K11: 110780 | L11: 5 | M11: =K11*L11 -> 553900 | N11: 0.08 | P11: =M11*N11 -> 44312 | Q11: =+P11+M11 -> 598212
A12: =ROW()-7 -> 5 | B12: 1C26TTN | C12: 00054338 | D12: Trung Tâm Sài Gòn | E12: Củ Chi | F12: PDN010754 | G12: CÔNG TY TNHH MTV TM VÀ DV NGỌC THƠM | H12: =VLOOKUP(I12,Sheet1!B:C,2,0) -> 164001 | I12: Chân giò heo muối 300g | J12: TÚI | K12: 76735 | L12: 7 | M12: =K12*L12 -> 537145 | N12: 0.08 | P12: =M12*N12 -> 42971.6 | Q12: =+P12+M12 -> 580116.6
A13: =ROW()-7 -> 6 | B13: 1C26TTN | C13: 00054338 | D13: Trung Tâm Sài Gòn | E13: Củ Chi | F13: PDN010754 | G13: CÔNG TY TNHH MTV TM VÀ DV NGỌC THƠM | H13: =VLOOKUP(I13,Sheet1!B:C,2,0) -> 164002 | I13: Tai heo muối 200g | J13: TÚI | K13: 58097 | L13: 3 | M13: =K13*L13 -> 174291 | N13: 0.08 | P13: =M13*N13 -> 13943.28 | Q13: =+P13+M13 -> 188234.28
A14: =ROW()-7 -> 7 | B14: 1C26TTN | C14: 00054338 | D14: Trung Tâm Sài Gòn | E14: Củ Chi | F14: PDN010754 | G14: CÔNG TY TNHH MTV TM VÀ DV NGỌC THƠM | H14: =VLOOKUP(I14,Sheet1!B:C,2,0) -> 164004 | I14: Giò Tai Lưỡi Xào 250g | J14: TÚI | K14: 52441 | L14: 3 | M14: =K14*L14 -> 157323 | N14: 0.08 | P14: =M14*N14 -> 12585.84 | Q14: =+P14+M14 -> 169908.84
A15: =ROW()-7 -> 8 | B15: 1C26TTN | C15: 00054338 | D15: Trung Tâm Sài Gòn | E15: Củ Chi | F15: PDN010754 | G15: CÔNG TY TNHH MTV TM VÀ DV NGỌC THƠM | H15: =VLOOKUP(I15,Sheet1!B:C,2,0) -> 164006 | I15: Chả cốm 300g | J15: TÚI | K15: 70538 | L15: 3 | M15: =K15*L15 -> 211614 | N15: 0.08 | P15: =M15*N15 -> 16929.12 | Q15: =+P15+M15 -> 228543.12
A16: =ROW()-7 -> 9 | B16: 1C26TTN | C16: 00056993 | D16: Trung Tâm Sài Gòn | E16: Củ Chi | F16: PDN011380 | G16: CÔNG TY TNHH MTV TM VÀ DV NGỌC THƠM | H16: =VLOOKUP(I16,Sheet1!B:C,2,0) -> 164001 | I16: Chân giò heo muối 300g | J16: TÚI | K16: 76735 | L16: 10 | M16: =K16*L16 -> 767350 | N16: 0.08 | P16: =M16*N16 -> 61388 | Q16: =+P16+M16 -> 828738
A17: =ROW()-7 -> 10 | B17: 1C26TTN | C17: 00056993 | D17: Trung Tâm Sài Gòn | E17: Củ Chi | F17: PDN011380 | G17: CÔNG TY TNHH MTV TM VÀ DV NGỌC THƠM | H17: =VLOOKUP(I17,Sheet1!B:C,2,0) -> 164004 | I17: Giò Tai Lưỡi Xào 250g | J17: TÚI | K17: 52441 | L17: 5 | M17: =K17*L17 -> 262205 | N17: 0.08 | P17: =M17*N17 -> 20976.4 | Q17: =+P17+M17 -> 283181.4
A18: =ROW()-7 -> 11 | B18: 1C26TTN | C18: 00057756 | D18: Trung Tâm Sài Gòn | E18: Tân Phú | F18: PDN011382 | G18: CÔNG TY TNHH MTV TM VÀ DV NGỌC THƠM | H18: =VLOOKUP(I18,Sheet1!B:C,2,0) -> 164004 | I18: Giò Tai Lưỡi Xào 250g | J18: TÚI | K18: 52441 | L18: 6 | M18: =K18*L18 -> 314646 | N18: 0.08 | P18: =M18*N18 -> 25171.68 | Q18: =+P18+M18 -> 339817.68
A19: =ROW()-7 -> 12 | B19: 1C26TTN | C19: 00057756 | D19: Trung Tâm Sài Gòn | E19: Tân Phú | F19: PDN011382 | G19: CÔNG TY TNHH MTV TM VÀ DV NGỌC THƠM | H19: =VLOOKUP(I19,Sheet1!B:C,2,0) -> 164001 | I19: Chân giò heo muối 300g | J19: TÚI | K19: 76735 | L19: 6 | M19: =K19*L19 -> 460410 | N19: 0.08 | P19: =M19*N19 -> 36832.8 | Q19: =+P19+M19 -> 497242.8
A20: TỔNG CỘNG | M20: =SUBTOTAL(9,M8:M19) -> 3887080 | P20: =SUBTOTAL(9,P8:P19) -> 310966.4 | Q20: =SUBTOTAL(9,Q8:Q19) -> 4198046.4

Sheet Sheet1
A1: Mã hàng hoá (Theo Kiotviet và HĐ ký kết) | B1: Tên hàng | C1: Mã hàng hoá (Theo Kiotviet và HĐ ký kết)
A2: 164003 | B2: Gà Muối 500g | C2: 164003
A3: 164001 | B3: Chân Giò Heo Muối 300g | C3: 164001
A4: 164004 | B4: Giò Tai Lưỡi Xào 250g | C4: 164004
A5: 164002 | B5: Tai Heo Muối 200g | C5: 164002
A6: 164005 | B6: Mọc Nấm Hương 250g | C6: 164005
A7: 164006 | B7: Chả Cốm 300g | C7: 164006
