Workbook

Sheet Tổng hợp 
A1: THEO DÕI CÔNG NỢ / CHI NHÁNH CÔNG TY CỔ PHẦN SIBA FOOD VIỆT NAM TẠI HÀ NỘI
A2: Ngày tháng | B2: Nội dung | C2: Số tiền bán hàng | D2: Số tiền hàng trả | E2: Giảm trừ | F2: Số tiền khách đã thanh toán
B3: Số dư đầu kì | C3: 0
A4: T01.2026 | B4: Hàng bán | C4: ='CÔNG NỢ'!C6 -> 0
A5: T02.2026 | B5: Hàng bán | C5: ='CÔNG NỢ'!C7 -> 0
A6: T03.2026 | B6: Hàng bán | C6: ='CÔNG NỢ'!C8 -> 0
A7: T04.2026 | B7: Hàng bán | C7: ='CÔNG NỢ'!C9 -> 0
A8: T05.2026 | B8: Hàng bán | C8: ='CÔNG NỢ'!C10 -> 11464519 | E8: =-'CÔNG NỢ'!E10 -> 114645
A9: T06.2026 | B9: Hàng bán | C9: ='CÔNG NỢ'!C11 -> 6901107 | E9: =-'CÔNG NỢ'!E11 -> 69011
A10: T07.2026 | B10: Hàng bán | C10: ='CÔNG NỢ'!C12 -> 11339682 | E10: =-'CÔNG NỢ'!E12 -> 113397
A11: T08.2026 | B11: Hàng bán | C11: ='CÔNG NỢ'!C13 -> 9700749 | E11: =-'CÔNG NỢ'!E13 -> 97007
A12: T09.2026 | B12: Hàng bán
A13: T10.2026 | B13: Hàng bán
A14: T11.2026 | B14: Hàng bán
A15: T12.2026 | B15: Hàng bán
A17: Tổng bán hàng | C17: =+SUM(C4:C16) -> 39406057 | E17: =+SUM(E4:E16) -> 394060
B18: Hàng trả tháng 01.2026 | D18: ='CÔNG NỢ'!D5 -> 0
B19: Hàng trả tháng 02.2026 | D19: ='CÔNG NỢ'!D6 -> 0
B20: Hàng trả tháng 03.2026 | D20: ='CÔNG NỢ'!D7 -> 0
B21: Hàng trả tháng 04.2026 | D21: ='CÔNG NỢ'!D8 -> 0
B22: Hàng trả tháng 05.2026 | D22: ='CÔNG NỢ'!D9 -> 0
B23: Hàng trả tháng 06.2026 | D23: ='CÔNG NỢ'!D10 -> 0
B24: Hàng trả tháng 07.2026 | D24: ='CÔNG NỢ'!D11 -> 0
B25: Hàng trả tháng 08.2026 | D25: ='CÔNG NỢ'!D12 -> 0
B26: Hàng trả tháng 09.2026
B27: Hàng trả tháng 10.2026
B28: Hàng trả tháng 11.2026
B29: Hàng trả tháng 12.2026
A31: Tổng hàng trả | D31: =+SUM(D18:D30) -> 0
A32: T01.2026 | B32: Thanh toán | F32: 0
A33: T02.2026 | B33: Thanh toán | F33: 0
A34: T03.2026 | B34: Thanh toán | F34: 0
A35: T04.2026 | B35: Thanh toán | F35: 0
A36: T05.2026 | B36: Thanh toán | F36: 0
A37: T06.2026 | B37: Thanh toán | F37: 0
A38: T07.2026 | B38: Thanh toán | F38: 0
A39: T08.2026 | B39: Thanh toán | F39: 0
A40: T09.2026 | B40: Thanh toán T5+T6+T7.2026 | F40: =-'CÔNG NỢ'!G14 -> 29408255
A41: T10.2026 | B41: Thanh toán | F41: 0
A42: T11.2026 | B42: Thanh toán
...

Sheet CÔNG NỢ
B2: CÔNG NỢ 2026
C3: BH | D3: TRA | E3: P | G3: TT
B4: Tháng | C4: Bán hàng | D4: Hàng trả | E4: Giảm trừ | F4: Tổng phát sinh | G4: Thanh toán | H4: Công nợ cuối kỳ
B5: Số dư đầu kỳ 31/12/2025
B6: 1 | C6: =SUMIFS('Tổng chi tiết'!$K:$K,'Tổng chi tiết'!$B:$B,'CÔNG NỢ'!$B6,'Tổng chi tiết'!$A:$A,"BH") -> 0 | D6: =SUMIFS('Tổng chi tiết'!$K:$K,'Tổng chi tiết'!$B:$B,'CÔNG NỢ'!$B6,'Tổng chi tiết'!$A:$A,"TRA") -> 0 | E6: =SUMIFS('Tổng chi tiết'!$K:$K,'Tổng chi tiết'!$B:$B,'CÔNG NỢ'!$B6,'Tổng chi tiết'!$A:$A,"GT") -> 0 | F6: =SUM(C6:E6) -> 0 | G6: =SUMIFS('Tổng chi tiết'!$K:$K,'Tổng chi tiết'!$B:$B,'CÔNG NỢ'!$B6,'Tổng chi tiết'!$A:$A,"TT") -> 0 | H6: =H5+SUM(F6:G6) -> 0
B7: 2 | C7: =SUMIFS('Tổng chi tiết'!$K:$K,'Tổng chi tiết'!$B:$B,'CÔNG NỢ'!$B7,'Tổng chi tiết'!$A:$A,"BH") -> 0 | D7: =SUMIFS('Tổng chi tiết'!$K:$K,'Tổng chi tiết'!$B:$B,'CÔNG NỢ'!$B7,'Tổng chi tiết'!$A:$A,"TRA") -> 0 | E7: =SUMIFS('Tổng chi tiết'!$K:$K,'Tổng chi tiết'!$B:$B,'CÔNG NỢ'!$B7,'Tổng chi tiết'!$A:$A,"GT") -> 0 | F7: =SUM(C7:E7) -> 0 | G7: =SUMIFS('Tổng chi tiết'!$K:$K,'Tổng chi tiết'!$B:$B,'CÔNG NỢ'!$B7,'Tổng chi tiết'!$A:$A,"TT") -> 0 | H7: =H6+SUM(F7:G7) -> 0
B8: 3 | C8: =SUMIFS('Tổng chi tiết'!$K:$K,'Tổng chi tiết'!$B:$B,'CÔNG NỢ'!$B8,'Tổng chi tiết'!$A:$A,"BH") -> 0 | D8: =SUMIFS('Tổng chi tiết'!$K:$K,'Tổng chi tiết'!$B:$B,'CÔNG NỢ'!$B8,'Tổng chi tiết'!$A:$A,"TRA") -> 0 | E8: =SUMIFS('Tổng chi tiết'!$K:$K,'Tổng chi tiết'!$B:$B,'CÔNG NỢ'!$B8,'Tổng chi tiết'!$A:$A,"GT") -> 0 | F8: =SUM(C8:E8) -> 0 | G8: =SUMIFS('Tổng chi tiết'!$K:$K,'Tổng chi tiết'!$B:$B,'CÔNG NỢ'!$B8,'Tổng chi tiết'!$A:$A,"TT") -> 0 | H8: =H7+SUM(F8:G8) -> 0
B9: 4 | C9: =SUMIFS('Tổng chi tiết'!$K:$K,'Tổng chi tiết'!$B:$B,'CÔNG NỢ'!$B9,'Tổng chi tiết'!$A:$A,"BH") -> 0 | D9: =SUMIFS('Tổng chi tiết'!$K:$K,'Tổng chi tiết'!$B:$B,'CÔNG NỢ'!$B9,'Tổng chi tiết'!$A:$A,"TRA") -> 0 | E9: =SUMIFS('Tổng chi tiết'!$K:$K,'Tổng chi tiết'!$B:$B,'CÔNG NỢ'!$B9,'Tổng chi tiết'!$A:$A,"GT") -> 0 | F9: =SUM(C9:E9) -> 0 | G9: =SUMIFS('Tổng chi tiết'!$K:$K,'Tổng chi tiết'!$B:$B,'CÔNG NỢ'!$B9,'Tổng chi tiết'!$A:$A,"TT") -> 0 | H9: =H8+SUM(F9:G9) -> 0
B10: 5 | C10: =SUMIFS('Tổng chi tiết'!$K:$K,'Tổng chi tiết'!$B:$B,'CÔNG NỢ'!$B10,'Tổng chi tiết'!$A:$A,"BH") -> 11464519 | D10: =SUMIFS('Tổng chi tiết'!$K:$K,'Tổng chi tiết'!$B:$B,'CÔNG NỢ'!$B10,'Tổng chi tiết'!$A:$A,"TRA") -> 0 | E10: =SUMIFS('Tổng chi tiết'!$K:$K,'Tổng chi tiết'!$B:$B,'CÔNG NỢ'!$B10,'Tổng chi tiết'!$A:$A,"GT") -> -114645 | F10: =SUM(C10:E10) -> 11349874 | G10: =SUMIFS('Tổng chi tiết'!$K:$K,'Tổng chi tiết'!$B:$B,'CÔNG NỢ'!$B10,'Tổng chi tiết'!$A:$A,"TT") -> 0 | H10: =H9+SUM(F10:G10) -> 11349874
B11: 6 | C11: =SUMIFS('Tổng chi tiết'!$K:$K,'Tổng chi tiết'!$B:$B,'CÔNG NỢ'!$B11,'Tổng chi tiết'!$A:$A,"BH") -> 6901107 | D11: =SUMIFS('Tổng chi tiết'!$K:$K,'Tổng chi tiết'!$B:$B,'CÔNG NỢ'!$B11,'Tổng chi tiết'!$A:$A,"TRA") -> 0 | E11: =SUMIFS('Tổng chi tiết'!$K:$K,'Tổng chi tiết'!$B:$B,'CÔNG NỢ'!$B11,'Tổng chi tiết'!$A:$A,"GT") -> -69011 | F11: =SUM(C11:E11) -> 6832096 | G11: =SUMIFS('Tổng chi tiết'!$K:$K,'Tổng chi tiết'!$B:$B,'CÔNG NỢ'!$B11,'Tổng chi tiết'!$A:$A,"TT") -> 0 | H11: =H10+SUM(F11:G11) -> 18181970
B12: 7 | C12: =SUMIFS('Tổng chi tiết'!$K:$K,'Tổng chi tiết'!$B:$B,'CÔNG NỢ'!$B12,'Tổng chi tiết'!$A:$A,"BH") -> 11339682 | D12: =SUMIFS('Tổng chi tiết'!$K:$K,'Tổng chi tiết'!$B:$B,'CÔNG NỢ'!$B12,'Tổng chi tiết'!$A:$A,"TRA") -> 0 | E12: =SUMIFS('Tổng chi tiết'!$K:$K,'Tổng chi tiết'!$B:$B,'CÔNG NỢ'!$B12,'Tổng chi tiết'!$A:$A,"GT") -> -113397 | F12: =SUM(C12:E12) -> 11226285 | G12: =SUMIFS('Tổng chi tiết'!$K:$K,'Tổng chi tiết'!$B:$B,'CÔNG NỢ'!$B12,'Tổng chi tiết'!$A:$A,"TT") -> 0 | H12: =H11+SUM(F12:G12) -> 29408255
B13: 8 | C13: =SUMIFS('Tổng chi tiết'!$K:$K,'Tổng chi tiết'!$B:$B,'CÔNG NỢ'!$B13,'Tổng chi tiết'!$A:$A,"BH") -> 9700749 | D13: =SUMIFS('Tổng chi tiết'!$K:$K,'Tổng chi tiết'!$B:$B,'CÔNG NỢ'!$B13,'Tổng chi tiết'!$A:$A,"TRA") -> 0 | E13: =SUMIFS('Tổng chi tiết'!$K:$K,'Tổng chi tiết'!$B:$B,'CÔNG NỢ'!$B13,'Tổng chi tiết'!$A:$A,"GT") -> -97007 | F13: =SUM(C13:E13) -> 9603742 | G13: =SUMIFS('Tổng chi tiết'!$K:$K,'Tổng chi tiết'!$B:$B,'CÔNG NỢ'!$B13,'Tổng chi tiết'!$A:$A,"TT") -> 0 | H13: =H12+SUM(F13:G13) -> 39011997
B14: 9 | C14: =SUMIFS('Tổng chi tiết'!$K:$K,'Tổng chi tiết'!$B:$B,'CÔNG NỢ'!$B14,'Tổng chi tiết'!$A:$A,"BH") -> 0 | D14: =SUMIFS('Tổng chi tiết'!$K:$K,'Tổng chi tiết'!$B:$B,'CÔNG NỢ'!$B14,'Tổng chi tiết'!$A:$A,"TRA") -> 0 | E14: =SUMIFS('Tổng chi tiết'!$K:$K,'Tổng chi tiết'!$B:$B,'CÔNG NỢ'!$B14,'Tổng chi tiết'!$A:$A,"GT") -> 0 | F14: =SUM(C14:E14) -> 0 | G14: =SUMIFS('Tổng chi tiết'!$K:$K,'Tổng chi tiết'!$B:$B,'CÔNG NỢ'!$B14,'Tổng chi tiết'!$A:$A,"TT") -> -29408255 | H14: =H13+SUM(F14:G14) -> 9603742
B15: 10 | C15: =SUMIFS('Tổng chi tiết'!$K:$K,'Tổng chi tiết'!$B:$B,'CÔNG NỢ'!$B15,'Tổng chi tiết'!$A:$A,"BH") -> 0 | D15: =SUMIFS('Tổng chi tiết'!$K:$K,'Tổng chi tiết'!$B:$B,'CÔNG NỢ'!$B15,'Tổng chi tiết'!$A:$A,"TRA") -> 0 | E15: =SUMIFS('Tổng chi tiết'!$K:$K,'Tổng chi tiết'!$B:$B,'CÔNG NỢ'!$B15,'Tổng chi tiết'!$A:$A,"GT") -> 0 | F15: =SUM(C15:E15) -> 0 | G15: =SUMIFS('Tổng chi tiết'!$K:$K,'Tổng chi tiết'!$B:$B,'CÔNG NỢ'!$B15,'Tổng chi tiết'!$A:$A,"TT") -> 0 | H15: =H14+SUM(F15:G15) -> 9603742
B16: 11 | C16: =SUMIFS('Tổng chi tiết'!$K:$K,'Tổng chi tiết'!$B:$B,'CÔNG NỢ'!$B16,'Tổng chi tiết'!$A:$A,"BH") -> 0 | D16: =SUMIFS('Tổng chi tiết'!$K:$K,'Tổng chi tiết'!$B:$B,'CÔNG NỢ'!$B16,'Tổng chi tiết'!$A:$A,"TRA") -> 0 | E16: =SUMIFS('Tổng chi tiết'!$K:$K,'Tổng chi tiết'!$B:$B,'CÔNG NỢ'!$B16,'Tổng chi tiết'!$A:$A,"GT") -> 0 | F16: =SUM(C16:E16) -> 0 | G16: =SUMIFS('Tổng chi tiết'!$K:$K,'Tổng chi tiết'!$B:$B,'CÔNG NỢ'!$B16,'Tổng chi tiết'!$A:$A,"TT") -> 0 | H16: =H15+SUM(F16:G16) -> 9603742
B17: 12 | C17: =SUMIFS('Tổng chi tiết'!$K:$K,'Tổng chi tiết'!$B:$B,'CÔNG NỢ'!$B17,'Tổng chi tiết'!$A:$A,"BH") -> 0 | D17: =SUMIFS('Tổng chi tiết'!$K:$K,'Tổng chi tiết'!$B:$B,'CÔNG NỢ'!$B17,'Tổng chi tiết'!$A:$A,"TRA") -> 0 | E17: =SUMIFS('Tổng chi tiết'!$K:$K,'Tổng chi tiết'!$B:$B,'CÔNG NỢ'!$B17,'Tổng chi tiết'!$A:$A,"GT") -> 0 | F17: =SUM(C17:E17) -> 0 | G17: =SUMIFS('Tổng chi tiết'!$K:$K,'Tổng chi tiết'!$B:$B,'CÔNG NỢ'!$B17,'Tổng chi tiết'!$A:$A,"TT") -> 0 | H17: =H16+SUM(F17:G17) -> 9603742
B18: Phát sinh | C18: =SUM(C6:C17) -> 39406057 | D18: =SUM(D6:D17) -> 0 | E18: =SUM(E6:E17) -> -394060 | G18: =SUM(G6:G17) -> -29408255 | H18: =H5+SUM(C18:G18) -> 9603742

Sheet Tổng chi tiết
C1: Ngày hóa đơn | D1: Số hóa đơn | E1: Ký hiệu HĐ | F1: Diễn giải | G1: Doanh số bán chưa có thuế GTGT | H1: Thuế suất | I1: Chiết khấu | J1: Thuế GTGT | K1: Thành tiền | L1: Tên người mua | M1: Mã số thuế người mua | N1: Ngày thanh toán | O1: Note | Q1: 20322424
A2: BH | B2: =MONTH(C2) -> 5 | C2: 46158 | D2: 34769 | E2: 1C26TTN | F2: 4100167066 | G2: 2444766 | H2: 0.08 | J2: 195581 | K2: 2640347 | L2: Sibafood S079 - Sunrise | M2: 0316625505-001
A3: BH | B3: =MONTH(C3) -> 5 | C3: 46165 | D3: 36400 | E3: 1C26TTN | F3: 4100167069 | G3: 2444766 | H3: 0.08 | J3: 195581 | K3: 2640347 | L3: Sibafood S091 - Residence | M3: 0316625505-001
A4: BH | B4: =MONTH(C4) -> 5 | C4: 46168 | D4: 36460 | E4: 1C26TTN | F4: 4100167070 | G4: 2444766 | H4: 0.08 | J4: 195581 | K4: 2640347 | L4: Sibafood S092 - Mizuki | M4: 0316625505-001
A5: BH | B5: =MONTH(C5) -> 5 | C5: 46169 | D5: 37373 | E5: 1C26TTN | F5: 4100170573 | G5: 1468758 | H5: 0.08 | J5: 117501 | K5: 1586259 | L5: Sibafood S072 - GH201.S04 Vinhomes Grand Park | M5: 0316625505-001
A6: BH | B6: =MONTH(C6) -> 5 | C6: 46169 | D6: 37374 | E6: 1C26TTN | F6: 4100173071 | G6: 1812240 | H6: 0.08 | J6: 144979 | K6: 1957219 | L6: Sibafood S073 - BS1001.S03 Vinhomes Grand Park | M6: 0316625505-001
A7: BH | B7: =MONTH(C7) -> 6 | C7: 46182 | D7: 00039668 | E7: 1C26TTN | F7: 4100167068 | G7: 2444766 | H7: 0.08 | I7: 0 | J7: 195581 | K7: 2640347 | L7: Sibafood S086- Westgate | M7: 0316625505-001
A8: BH | B8: =MONTH(C8) -> 6 | C8: 46183 | D8: 00040512 | E8: 1C26TTN | F8: 4100179985 | G8: 946702 | H8: 0.08 | I8: 0 | J8: 75736 | K8: 1022438 | L8: Sibafood S073 - BS1001.S03 Vinhomes Grand Park | M8: 0316625505-001
A9: BH | B9: =MONTH(C9) -> 6 | C9: 46188 | D9: 00041261 | E9: 1C26TTN | F9: 4100181672 | G9: 2998446 | H9: 0.08 | I9: 0 | J9: 239876 | K9: 3238322 | L9: Sibafood S072 - GH201.S04 Vinhomes Grand Park | M9: 0316625505-001
A10: BH | B10: =MONTH(C10) -> 7 | C10: 46204 | D10: 00045545 | F10: 4100189036 | G10: 2444766 | H10: 0.08 | I10: 0 | J10: 195581 | K10: 2640347
A11: BH | B11: =MONTH(C11) -> 7 | C11: 46206 | D11: 00046011 | F11: 4100190264 | G11: 1227964 | H11: 0.08 | I11: 0 | J11: 98237 | K11: 1326201
A12: BH | B12: =MONTH(C12) -> 7 | C12: 46213 | D12: 00048195 | F12: 4100196018 | G12: 1947852 | H12: 0.08 | I12: 0 | J12: 155828 | K12: 2103680
A13: BH | B13: =MONTH(C13) -> 7 | C13: 46217 | D13: 00048522 | F13: 4100198027 | G13: 1039443 | H13: 0.08 | I13: 0 | J13: 83155 | K13: 1122598
A14: BH | B14: =MONTH(C14) -> 7 | C14: 46219 | D14: 00049335 | F14: 4100198296 | G14: 1394916 | H14: 0.08 | I14: 0 | J14: 111593 | K14: 1506509
A15: BH | B15: =MONTH(C15) -> 7 | C15: 46225 | D15: 00050243 | F15: 4100199888 | G15: 2444766 | H15: 0.08 | I15: 0 | J15: 195581 | K15: 2640347
A16: GT | B16: 5 | F16: Hỗ trợ trưng bày tháng 5.2026 ( 1%) | G16: -106153 | H16: 0.08 | J16: -8492 | K16: -114645
A17: GT | B17: 6 | F17: Hỗ trợ trưng bày tháng 6.2026 ( 1%) | G17: -63899 | H17: 0.08 | I17: 0 | J17: -5112 | K17: -69011
A18: GT | B18: 7 | F18: Hỗ trợ trưng bày tháng 7.2026 ( 1%) | G18: -104997 | H18: 0.08 | I18: 0 | J18: -8400 | K18: -113397
A19: BH | B19: =MONTH(C19) -> 8 | C19: 46239 | D19: 00054732 | F19: 4100207405 | G19: 2324584 | H19: 0.08 | I19: 0 | J19: 185967 | K19: 2510551
A20: BH | B20: =MONTH(C20) -> 8 | C20: 46246 | D20: 00055774 | F20: 4100212717 | G20: 1443256 | H20: 0.08 | I20: 0 | J20: 115460 | K20: 1558716
A21: BH | B21: =MONTH(C21) -> 8 | C21: 46246 | D21: 00055788 | F21: 4100211056 | G21: 1180268 | H21: 0.08 | I21: 0 | J21: 94421 | K21: 1274689
A22: BH | B22: =MONTH(C22) -> 8 | C22: 46247 | D22: 00056382 | F22: 4100215099 | G22: 897420 | H22: 0.08 | I22: 0 | J22: 71794 | K22: 969214
A23: BH | B23: =MONTH(C23) -> 8 | C23: 46247 | D23: 00056383 | F23: 4100211046 | G23: 1354479 | H23: 0.08 | I23: 0 | J23: 108358 | K23: 1462837
A24: BH | B24: =MONTH(C24) -> 8 | C24: 46252 | D24: 00056859 | F24: 4100213617 | G24: 952230 | H24: 0.08 | I24: 0 | J24: 76178 | K24: 1028408
A25: BH | B25: =MONTH(C25) -> 8 | C25: 46260 | D25: 00059514 | F25: 4100219717 | G25: 829939 | H25: 0.08 | I25: 0 | J25: 66395 | K25: 896334
A26: GT | B26: 8 | F26: Hỗ trợ trưng bày tháng 8.2026 ( 1%) | G26: =-ROUND(SUM(G19:G25)*1%,0) -> -89822 | H26: 0.08 | I26: 0 | J26: =-ROUND(SUM(J19:J25)*1%,0) -> -7186 | K26: =-ROUND(SUM(K19:K25)*1%,0) -> -97007
A27: TT | B27: =MONTH(C27) -> 9 | C27: 46275 | F27: Thanh toán tháng 5+6+7 | K27: -29408255

Sheet T08
A1: Ngày hóa đơn | B1: Số hóa đơn | C1: Ký hiệu HĐ | D1: Diễn giải | E1: Doanh số bán chưa có thuế GTGT | F1: Thuế suất | G1: Chiết khấu | H1: Thuế GTGT | I1: Thành tiền | J1: Tên người mua | K1: Mã số thuế người mua
A2: 46239 | B2: 00054732 | C2: 1C26TTN | D2: 4100207405 | E2: 2324584 | F2: 0.08 | G2: 0 | H2: 185967 | I2: 2510551 | J2: CÔNG TY CỔ PHẦN SIBA FOOD VIỆT NAM | K2: 0316625505
A3: 46246 | B3: 00055774 | C3: 1C26TTN | D3: 4100212717 | E3: 1443256 | F3: 0.08 | G3: 0 | H3: 115460 | I3: 1558716 | J3: CÔNG TY CỔ PHẦN SIBA FOOD VIỆT NAM | K3: 0316625505
A4: 46246 | B4: 00055788 | C4: 1C26TTN | D4: 4100211056 | E4: 1180268 | F4: 0.08 | G4: 0 | H4: 94421 | I4: 1274689 | J4: CÔNG TY CỔ PHẦN SIBA FOOD VIỆT NAM | K4: 0316625505
A5: 46247 | B5: 00056382 | C5: 1C26TTN | D5: 4100215099 | E5: 897420 | F5: 0.08 | G5: 0 | H5: 71794 | I5: 969214 | J5: CÔNG TY CỔ PHẦN SIBA FOOD VIỆT NAM | K5: 0316625505
A6: 46247 | B6: 00056383 | C6: 1C26TTN | D6: 4100211046 | E6: 1354479 | F6: 0.08 | G6: 0 | H6: 108358 | I6: 1462837 | J6: CÔNG TY CỔ PHẦN SIBA FOOD VIỆT NAM | K6: 0316625505
A7: 46252 | B7: 00056859 | C7: 1C26TTN | D7: 4100213617 | E7: 952230 | F7: 0.08 | G7: 0 | H7: 76178 | I7: 1028408 | J7: CÔNG TY CỔ PHẦN SIBA FOOD VIỆT NAM | K7: 0316625505
A8: 46260 | B8: 00059514 | C8: 1C26TTN | D8: 4100219717 | E8: 829939 | F8: 0.08 | G8: 0 | H8: 66395 | I8: 896334 | J8: CÔNG TY CỔ PHẦN SIBA FOOD VIỆT NAM | K8: 0316625505
D9: Hỗ trợ trưng bày tháng 8.2026 ( 1%) | E9: =-ROUND(SUM(E2:E8)*1%,0) -> -89822 | F9: 0.08 | G9: 0 | H9: =-ROUND(SUM(H2:H8)*1%,0) -> -7186 | I9: =-ROUND(SUM(I2:I8)*1%,0) -> -97007
I12: =SUM(I2:I9) -> 9603742

Sheet T07
A1: Ngày hóa đơn | B1: Số hóa đơn | C1: Ký hiệu HĐ | D1: Diễn giải | E1: Doanh số bán chưa có thuế GTGT | F1: Thuế suất | G1: Chiết khấu | H1: Thuế GTGT | I1: Thành tiền | J1: Tên người mua | K1: Mã số thuế người mua
A2: 46204 | B2: 00045545 | C2: 1C26TTN | D2: 4100189036 | E2: 2444766 | F2: 0.08 | G2: 0 | H2: 195581 | I2: 2640347 | J2: CÔNG TY CỔ PHẦN SIBA FOOD VIỆT NAM | K2: 0316625505
A3: 46206 | B3: 00046011 | C3: 1C26TTN | D3: 4100190264 | E3: 1227964 | F3: 0.08 | G3: 0 | H3: 98237 | I3: 1326201 | J3: CÔNG TY CỔ PHẦN SIBA FOOD VIỆT NAM | K3: 0316625505
A4: 46213 | B4: 00048195 | C4: 1C26TTN | D4: 4100196018 | E4: 1947852 | F4: 0.08 | G4: 0 | H4: 155828 | I4: 2103680 | J4: CÔNG TY CỔ PHẦN SIBA FOOD VIỆT NAM | K4: 0316625505
A5: 46217 | B5: 00048522 | C5: 1C26TTN | D5: 4100198027 | E5: 1039443 | F5: 0.08 | G5: 0 | H5: 83155 | I5: 1122598 | J5: CÔNG TY CỔ PHẦN SIBA FOOD VIỆT NAM | K5: 0316625505
A6: 46219 | B6: 00049335 | C6: 1C26TTN | D6: 4100198296 | E6: 1394916 | F6: 0.08 | G6: 0 | H6: 111593 | I6: 1506509 | J6: CÔNG TY CỔ PHẦN SIBA FOOD VIỆT NAM | K6: 0316625505
A7: 46225 | B7: 00050243 | C7: 1C26TTN | D7: 4100199888 | E7: 2444766 | F7: 0.08 | G7: 0 | H7: 195581 | I7: 2640347 | J7: CÔNG TY CỔ PHẦN SIBA FOOD VIỆT NAM | K7: 0316625505
D8: Hỗ trợ trưng bày tháng 7.2026 ( 1%) | E8: =-ROUND(SUM(E2:E7)*1%,0) -> -104997 | F8: 0.08 | G8: =-ROUND(SUM(G5:G7)*1%,0) -> 0 | H8: =-ROUND(SUM(H2:H7)*1%,0) -> -8400 | I8: =-ROUND(SUM(I2:I7)*1%,0) -> -113397
I9: =SUM(I2:I8) -> 11226285

Sheet T06
A1: Ngày hóa đơn | B1: Số hóa đơn | C1: Ký hiệu HĐ | D1: Diễn giải | E1: Doanh số bán chưa có thuế GTGT | F1: Thuế suất | G1: Chiết khấu | H1: Thuế GTGT | I1: Thành tiền | J1: Tên người mua
A2: 46182 | B2: 00039668 | C2: 1C26TTN | D2: 4100167068 | E2: 2444766 | F2: 0.08 | G2: 0 | H2: 195581 | I2: 2640347 | J2: Sibafood S086- Westgate
A3: 46183 | B3: 00040512 | C3: 1C26TTN | D3: 4100179985 | E3: 946702 | F3: 0.08 | G3: 0 | H3: 75736 | I3: 1022438 | J3: Sibafood S073 - BS1001.S03 Vinhomes Grand Park
A4: 46188 | B4: 00041261 | C4: 1C26TTN | D4: 4100181672 | E4: 2998446 | F4: 0.08 | G4: 0 | H4: 239876 | I4: 3238322 | J4: Sibafood S072 - GH201.S04 Vinhomes Grand Park
D5: Hỗ trợ trưng bày tháng 6.2026 ( 1%) | E5: =-ROUND(SUM(E2:E4)*1%,0) -> -63899 | F5: 0.08 | G5: =-ROUND(SUM(G2:G4)*1%,0) -> 0 | H5: =-ROUND(SUM(H2:H4)*1%,0) -> -5112 | I5: =-ROUND(SUM(I2:I4)*1%,0) -> -69011
I7: =SUM(I2:I5) -> 6832096

Sheet T05
A1: Ngày hóa đơn | B1: Số hóa đơn | C1: Ký hiệu HĐ | D1: Diễn giải | E1: Doanh số bán chưa có thuế GTGT | F1: Thuế suất | G1: Thuế GTGT | H1: Thành tiền | I1: Tên người mua
A2: 46158 | B2: 34769 | C2: 1C26TTN | D2: 4100167066 | E2: 2444766 | F2: 0.08 | G2: 195581 | H2: 2640347 | I2: Sibafood S079 - Sunrise
A3: 46165 | B3: 36400 | C3: 1C26TTN | D3: 4100167069 | E3: 2444766 | F3: 0.08 | G3: 195581 | H3: 2640347 | I3: Sibafood S091 - Residence
A4: 46168 | B4: 36460 | C4: 1C26TTN | D4: 4100167070 | E4: 2444766 | F4: 0.08 | G4: 195581 | H4: 2640347 | I4: Sibafood S092 - Mizuki
A5: 46169 | B5: 37373 | C5: 1C26TTN | D5: 4100170573 | E5: 1468758 | F5: 0.08 | G5: 117501 | H5: 1586259 | I5: Sibafood S072 - GH201.S04 Vinhomes Grand Park
A6: 46169 | B6: 37374 | C6: 1C26TTN | D6: 4100173071 | E6: 1812240 | F6: 0.08 | G6: 144979 | H6: 1957219 | I6: Sibafood S073 - BS1001.S03 Vinhomes Grand Park
D7: Hỗ trợ trưng bày tháng 5.2026 ( 1%) | E7: =-ROUND(SUM(E2:E6)*1%,0) -> -106153 | F7: 0.08 | G7: =-ROUND(SUM(G2:G6)*1%,0) -> -8492 | H7: =-ROUND(SUM(H2:H6)*1%,0) -> -114645
H8: =SUM(H2:H7) -> 11349874

Sheet Sheet1
A1: CHI TIẾT BÁN HÀNG
A3: Ngày hóa đơn | B3: Số hóa đơn | C3: Tên khách hàng | D3: Mã số thuế | E3: Diễn giải | F3: Doanh số bán chưa có thuế GTGT | G3: Thuế GTGT | H3: Thành tiền
A4: 46158 | B4: 00034769 | C4: CÔNG TY CỔ PHẦN SIBA FOOD VIỆT NAM | D4: 0316625505 | E4: 4100167066 | F4: 2444766 | G4: 195581 | H4: 2640347
A5: 46165 | B5: 00036400 | C5: CÔNG TY CỔ PHẦN SIBA FOOD VIỆT NAM | D5: 0316625505 | E5: 4100167069 | F5: 2444766 | G5: 195581 | H5: 2640347
A6: 46168 | B6: 00036460 | C6: CÔNG TY CỔ PHẦN SIBA FOOD VIỆT NAM | D6: 0316625505 | E6: 4100167070 | F6: 2444766 | G6: 195581 | H6: 2640347
A7: 46169 | B7: 00037373 | C7: CÔNG TY CỔ PHẦN SIBA FOOD VIỆT NAM | D7: 0316625505 | E7: 4100170573 | F7: 1468758 | G7: 117501 | H7: 1586259
A8: 46169 | B8: 00037374 | C8: CÔNG TY CỔ PHẦN SIBA FOOD VIỆT NAM | D8: 0316625505 | E8: 4100173071 | F8: 1812240 | G8: 144979 | H8: 1957219
A9: 46182 | B9: 00039668 | C9: CÔNG TY CỔ PHẦN SIBA FOOD VIỆT NAM | D9: 0316625505 | E9: 4100167068 | F9: 2444766 | G9: 195581 | H9: 2640347
A10: 46183 | B10: 00040512 | C10: CÔNG TY CỔ PHẦN SIBA FOOD VIỆT NAM | D10: 0316625505 | E10: 4100179985 | F10: 946702 | G10: 75736 | H10: 1022438
A11: 46188 | B11: 00041261 | C11: CÔNG TY CỔ PHẦN SIBA FOOD VIỆT NAM | D11: 0316625505 | E11: 4100181672 | F11: 2998446 | G11: 239876 | H11: 3238322
A12: 46204 | B12: 00045545 | C12: CÔNG TY CỔ PHẦN SIBA FOOD VIỆT NAM | D12: 0316625505 | E12: 4100189036 | F12: 2444766 | G12: 195581 | H12: 2640347
A13: 46206 | B13: 00046011 | C13: CÔNG TY CỔ PHẦN SIBA FOOD VIỆT NAM | D13: 0316625505 | E13: 4100190264 | F13: 1227964 | G13: 98237 | H13: 1326201
A14: 46213 | B14: 00048195 | C14: CÔNG TY CỔ PHẦN SIBA FOOD VIỆT NAM | D14: 0316625505 | E14: 4100196018 | F14: 1947852 | G14: 155828 | H14: 2103680
A15: 46217 | B15: 00048522 | C15: CÔNG TY CỔ PHẦN SIBA FOOD VIỆT NAM | D15: 0316625505 | E15: 4100198027 | F15: 1039443 | G15: 83155 | H15: 1122598
A16: 46219 | B16: 00049335 | C16: CÔNG TY CỔ PHẦN SIBA FOOD VIỆT NAM | D16: 0316625505 | E16: 4100198296 | F16: 1394916 | G16: 111593 | H16: 1506509
A17: 46225 | B17: 00050243 | C17: CÔNG TY CỔ PHẦN SIBA FOOD VIỆT NAM | D17: 0316625505 | E17: 4100199888 | F17: 2444766 | G17: 195581 | H17: 2640347
A18: Hỗ trợ trưng bày tháng 5.2026 ( 1%) | H18: =-ROUND(SUM(H4:H8)*1%,0) -> -114645
A19: Hỗ trợ trưng bày tháng 6.2026 ( 1%) | H19: =-ROUND(SUM(H9:H11)*1%,0) -> -69011
A20: Hỗ trợ trưng bày tháng 7.2026 ( 1%) | H20: =-ROUND(SUM(H12:H17)*1%,0) -> -113397
A21: TỔNG CỘNG | H21: =SUM(H4:H20) -> 29408255
