Workbook

Sheet CHI TIẾT
G1: I-02300800
A2: TRUNG TÂM ĐIỀU HÀNH SATRAFOODS | D2: CỘNG HÒA XÃ HỘI CHỦ NGHĨA VIỆT NAM
D3: Độc lập – Tự do – Hạnh phúc
D4: ----------oOo-------------
A6: BẢNG KÊ XUẤT TRẢ HÀNG HÓA
A8: Căn cứ vào:
A9: + | B9: thời hạn cận date của hàng trả;
A10: + | B10: tình trạng bán chậm của hàng trả;
A11: + | B11: yêu cầu khác … theo thỏa thuận giữa Satrafoods với TTĐH
A13: Hôm nay ngày : 02.03.2026 | C13: ,Cửa hàng chúng tôi đề nghị được trả hàng cho Nhà Cung cấp của TTĐH:
A14: Hai bên đồng ý giao và nhận các loại hàng hóa sau:
A15: NHÀ CUNG CẤP: NGỌC THƠM (VD-00000426) | C15: với các nội dung sau:
B17: Tên, nhãn hiệu, quy cách, phẩm | F17: Số lượng yêu cầu | G17: Số tham chiếu - Phiếu Xuất kho số
A18: STT | B18: chất vật tư, dụng cụ sản phẩm, hàng hóa | C18: Barcode | D18: Mã số | E18: Đơn vị tính
A19: A | B19: B | C19: C | D19: D | E19: E
B20: CỬA HÀNG: THỐNG NHẤT 1 (1032) | G20: I-02409003 | H20: THÁNG 2.26
A21: 1 | B21: GÀ MUỐI 500G | C21: 8938529045924 | D21: 203632 | E21: EA | F21: 1 | H21: =+VLOOKUP(B21,'TONG HOP'!$B$18:$J$28,9,0) -> 114279
A22: 2 | B22: CHÂN GIÒ HEO MUỐI 300G | C22: 8938529045856 | D22: 203630 | E22: EA | F22: 1 | H22: =+VLOOKUP(B22,'TONG HOP'!$B$18:$J$28,9,0) -> 73431
B23: CỬA HÀNG: BÙI CÔNG TRỪNG (1142) | G23: I-02419290
A24: 1 | B24: CHÂN GIÒ HEO MUỐI 300G | C24: 8938529045856 | D24: 203630 | E24: EA | F24: 1 | H24: =+VLOOKUP(B24,'TONG HOP'!$B$18:$J$28,9,0) -> 73431
A25: 2 | B25: CHÂN GIÒ HEO MUỐI 500G | D25: 203634 | E25: EA | F25: 7 | H25: =+VLOOKUP(B25,'TONG HOP'!$B$18:$J$28,9,0) -> 119066
A26: 3 | B26: CHÂN GÀ SẢ TẮC 250G | D26: 315116 | E26: TÚI | F26: 1 | H26: =+VLOOKUP(B26,'TONG HOP'!$B$18:$J$28,9,0) -> 36750
A27: 4 | B27: TAI HEO SỐT THÁI 250G | D27: 315117 | E27: TÚI | F27: 1 | H27: =+VLOOKUP(B27,'TONG HOP'!$B$18:$J$28,9,0) -> 35389
A28: 5 | B28: CHÂN GIÒ HEO MUỐI VỊ TAYAKI TÚI 450G | C28: 8938529045832 | D28: 317010 | E28: TÚI | F28: 1 | H28: =+VLOOKUP(B28,'TONG HOP'!$B$18:$J$28,9,0) -> 104615
A29: 1 | B29: TAI HEO MUỐI 400G | D29: 203631 | E29: EA | F29: 5 | G29: I-02432816 | H29: =+VLOOKUP(B29,'TONG HOP'!$B$18:$J$28,9,0) -> 107205
A30: 2 | B30: GÀ MUỐI 500G | D30: 203632 | E30: EA | F30: 1 | H30: =+VLOOKUP(B30,'TONG HOP'!$B$18:$J$28,9,0) -> 114279
A31: 3 | B31: CHÂN GIÒ HEO MUỐI 500G | D31: 203634 | E31: EA | F31: 2 | H31: =+VLOOKUP(B31,'TONG HOP'!$B$18:$J$28,9,0) -> 119066
A32: 4 | B32: TAI HEO MUỐI 200G | D32: 236665 | E32: EA | F32: 3 | H32: =+VLOOKUP(B32,'TONG HOP'!$B$18:$J$28,9,0) -> 55595
A33: 5 | B33: GIÒ TAI LƯỠI XÀO 250G | D33: 261126 | E33: EA | F33: 2 | H33: =+VLOOKUP(B33,'TONG HOP'!$B$18:$J$28,9,0) -> 50182
A34: 6 | B34: TAI HEO SỐT THÁI 250G | D34: 315117 | E34: TÚI | F34: 1 | H34: =+VLOOKUP(B34,'TONG HOP'!$B$18:$J$28,9,0) -> 35389
A35: 7 | B35: CHÂN GIÒ HEO MUỐI VỊ TAYAKI TÚI 450G | C35: 8938529045832 | D35: 317010 | E35: TÚI | F35: 2 | H35: =+VLOOKUP(B35,'TONG HOP'!$B$18:$J$28,9,0) -> 104615
A36: 8 | B36: GÀ MUỐI HUN CỎ XẠ HƯƠNG TÚI 500G | C36: 8938529045795 | D36: 317011 | E36: TÚI | F36: 1 | H36: =+VLOOKUP(B36,'TONG HOP'!$B$18:$J$28,9,0) -> 114279
B37: CỬA HÀNG: LÊ VĂN LƯƠNG (1040) | G37: I-02409810
A38: 1 | B38: TAI HEO SỐT THÁI 250G | C38: 8938529045467 | D38: 315117 | E38: TÚI | F38: 4 | H38: =+VLOOKUP(B38,'TONG HOP'!$B$18:$J$28,9,0) -> 35389
A39: 2 | B39: CHÂN GÀ SẢ TẮC 250G | C39: 8938529045443 | D39: 315116 | E39: TÚI | F39: 3 | H39: =+VLOOKUP(B39,'TONG HOP'!$B$18:$J$28,9,0) -> 36750
B40: CỬA HÀNG: AN BÌNH (1226) | G40: I-02410059
A41: 1 | B41: TAI HEO MUỐI 200G | C41: 8938529045627 | D41: 236665 | E41: EA | F41: 2 | H41: =+VLOOKUP(B41,'TONG HOP'!$B$18:$J$28,9,0) -> 55595
B42: CỬA HÀNG: CỦ CHI 9 (1137) | G42: I-02412239
A43: 1 | B43: GIÒ TAI LƯỠI XÀO 250G | D43: 261126 | E43: EA | F43: 5 | H43: =+VLOOKUP(B43,'TONG HOP'!$B$18:$J$28,9,0) -> 50182
A44: 2 | B44: TAI HEO MUỐI 200G | D44: 236665 | E44: EA | F44: 2 | H44: =+VLOOKUP(B44,'TONG HOP'!$B$18:$J$28,9,0) -> 55595
...

Sheet CHI TIẾT (3)
G1: I-02300800
A2: TRUNG TÂM ĐIỀU HÀNH SATRAFOODS | D2: CỘNG HÒA XÃ HỘI CHỦ NGHĨA VIỆT NAM
D3: Độc lập – Tự do – Hạnh phúc
D4: ----------oOo-------------
A6: BẢNG KÊ XUẤT TRẢ HÀNG HÓA
A8: Căn cứ vào:
A9: + | B9: thời hạn cận date của hàng trả;
A10: + | B10: tình trạng bán chậm của hàng trả;
A11: + | B11: yêu cầu khác … theo thỏa thuận giữa Satrafoods với TTĐH
A13: Hôm nay ngày : 02.03.2026 | C13: ,Cửa hàng chúng tôi đề nghị được trả hàng cho Nhà Cung cấp của TTĐH:
A14: Hai bên đồng ý giao và nhận các loại hàng hóa sau:
A15: NHÀ CUNG CẤP: NGỌC THƠM (VD-00000426) | C15: với các nội dung sau:
B17: Tên, nhãn hiệu, quy cách, phẩm | F17: Số lượng yêu cầu | G17: Số tham chiếu - Phiếu Xuất kho số
A18: STT | B18: chất vật tư, dụng cụ sản phẩm, hàng hóa | C18: Barcode | D18: Mã số | E18: Đơn vị tính
A19: A | B19: B | C19: C | D19: D | E19: E
B20: CỬA HÀNG: THỐNG NHẤT 1 (1032) | G20: I-02409003
A21: 1 | B21: GÀ MUỐI 500G | C21: 8938529045924 | D21: 203632 | E21: EA | F21: 1 | H21: =IFERROR(VLOOKUP(B21,'TONG HOP'!$B$18:$J$28,9,0),"") -> 114279 | I21: =IFERROR(H21*F21,"") -> 114279 | J21: =IFERROR(I21*8%,"") -> 9142.32 | K21: =IFERROR(J21+I21,"") -> 123421.32
A22: 2 | B22: CHÂN GIÒ HEO MUỐI 300G | C22: 8938529045856 | D22: 203630 | E22: EA | F22: 1 | H22: =IFERROR(VLOOKUP(B22,'TONG HOP'!$B$18:$J$28,9,0),"") -> 73431 | I22: =IFERROR(H22*F22,"") -> 73431 | J22: =IFERROR(I22*8%,"") -> 5874.48 | K22: =IFERROR(J22+I22,"") -> 79305.48
B23: CỬA HÀNG: BÙI CÔNG TRỪNG (1142) | G23: I-02419290 | H23: =IFERROR(VLOOKUP(B23,'TONG HOP'!$B$18:$J$28,9,0),"") | I23: =IFERROR(H23*F23,"") | J23: =IFERROR(I23*8%,"") | K23: =IFERROR(J23+I23,"")
A24: 1 | B24: CHÂN GIÒ HEO MUỐI 300G | C24: 8938529045856 | D24: 203630 | E24: EA | F24: 1 | H24: =IFERROR(VLOOKUP(B24,'TONG HOP'!$B$18:$J$28,9,0),"") -> 73431 | I24: =IFERROR(H24*F24,"") -> 73431 | J24: =IFERROR(I24*8%,"") -> 5874.48 | K24: =IFERROR(J24+I24,"") -> 79305.48
A25: 2 | B25: CHÂN GIÒ HEO MUỐI 500G | D25: 203634 | E25: EA | F25: 7 | H25: =IFERROR(VLOOKUP(B25,'TONG HOP'!$B$18:$J$28,9,0),"") -> 119066 | I25: =IFERROR(H25*F25,"") -> 833462 | J25: =IFERROR(I25*8%,"") -> 66676.96 | K25: =IFERROR(J25+I25,"") -> 900138.96
A26: 3 | B26: CHÂN GÀ SẢ TẮC 250G | D26: 315116 | E26: TÚI | F26: 1 | H26: =IFERROR(VLOOKUP(B26,'TONG HOP'!$B$18:$J$28,9,0),"") -> 36750 | I26: =IFERROR(H26*F26,"") -> 36750 | J26: =IFERROR(I26*8%,"") -> 2940 | K26: =IFERROR(J26+I26,"") -> 39690
A27: 4 | B27: TAI HEO SỐT THÁI 250G | D27: 315117 | E27: TÚI | F27: 1 | H27: =IFERROR(VLOOKUP(B27,'TONG HOP'!$B$18:$J$28,9,0),"") -> 35389 | I27: =IFERROR(H27*F27,"") -> 35389 | J27: =IFERROR(I27*8%,"") -> 2831.12 | K27: =IFERROR(J27+I27,"") -> 38220.12
A28: 5 | B28: CHÂN GIÒ HEO MUỐI VỊ TAYAKI TÚI 450G | C28: 8938529045832 | D28: 317010 | E28: TÚI | F28: 1 | H28: =IFERROR(VLOOKUP(B28,'TONG HOP'!$B$18:$J$28,9,0),"") -> 104615 | I28: =IFERROR(H28*F28,"") -> 104615 | J28: =IFERROR(I28*8%,"") -> 8369.2 | K28: =IFERROR(J28+I28,"") -> 112984.2
A29: 1 | B29: TAI HEO MUỐI 400G | D29: 203631 | E29: EA | F29: 5 | G29: I-02432816 | H29: =IFERROR(VLOOKUP(B29,'TONG HOP'!$B$18:$J$28,9,0),"") -> 107205 | I29: =IFERROR(H29*F29,"") -> 536025 | J29: =IFERROR(I29*8%,"") -> 42882 | K29: =IFERROR(J29+I29,"") -> 578907
A30: 2 | B30: GÀ MUỐI 500G | D30: 203632 | E30: EA | F30: 1 | H30: =IFERROR(VLOOKUP(B30,'TONG HOP'!$B$18:$J$28,9,0),"") -> 114279 | I30: =IFERROR(H30*F30,"") -> 114279 | J30: =IFERROR(I30*8%,"") -> 9142.32 | K30: =IFERROR(J30+I30,"") -> 123421.32
A31: 3 | B31: CHÂN GIÒ HEO MUỐI 500G | D31: 203634 | E31: EA | F31: 2 | H31: =IFERROR(VLOOKUP(B31,'TONG HOP'!$B$18:$J$28,9,0),"") -> 119066 | I31: =IFERROR(H31*F31,"") -> 238132 | J31: =IFERROR(I31*8%,"") -> 19050.56 | K31: =IFERROR(J31+I31,"") -> 257182.56
A32: 4 | B32: TAI HEO MUỐI 200G | D32: 236665 | E32: EA | F32: 3 | H32: =IFERROR(VLOOKUP(B32,'TONG HOP'!$B$18:$J$28,9,0),"") -> 55595 | I32: =IFERROR(H32*F32,"") -> 166785 | J32: =IFERROR(I32*8%,"") -> 13342.8 | K32: =IFERROR(J32+I32,"") -> 180127.8
A33: 5 | B33: GIÒ TAI LƯỠI XÀO 250G | D33: 261126 | E33: EA | F33: 2 | H33: =IFERROR(VLOOKUP(B33,'TONG HOP'!$B$18:$J$28,9,0),"") -> 50182 | I33: =IFERROR(H33*F33,"") -> 100364 | J33: =IFERROR(I33*8%,"") -> 8029.12 | K33: =IFERROR(J33+I33,"") -> 108393.12
A34: 6 | B34: TAI HEO SỐT THÁI 250G | D34: 315117 | E34: TÚI | F34: 1 | H34: =IFERROR(VLOOKUP(B34,'TONG HOP'!$B$18:$J$28,9,0),"") -> 35389 | I34: =IFERROR(H34*F34,"") -> 35389 | J34: =IFERROR(I34*8%,"") -> 2831.12 | K34: =IFERROR(J34+I34,"") -> 38220.12
A35: 7 | B35: CHÂN GIÒ HEO MUỐI VỊ TAYAKI TÚI 450G | C35: 8938529045832 | D35: 317010 | E35: TÚI | F35: 2 | H35: =IFERROR(VLOOKUP(B35,'TONG HOP'!$B$18:$J$28,9,0),"") -> 104615 | I35: =IFERROR(H35*F35,"") -> 209230 | J35: =IFERROR(I35*8%,"") -> 16738.4 | K35: =IFERROR(J35+I35,"") -> 225968.4
A36: 8 | B36: GÀ MUỐI HUN CỎ XẠ HƯƠNG TÚI 500G | C36: 8938529045795 | D36: 317011 | E36: TÚI | F36: 1 | H36: =IFERROR(VLOOKUP(B36,'TONG HOP'!$B$18:$J$28,9,0),"") -> 114279 | I36: =IFERROR(H36*F36,"") -> 114279 | J36: =IFERROR(I36*8%,"") -> 9142.32 | K36: =IFERROR(J36+I36,"") -> 123421.32
B37: CỬA HÀNG: LÊ VĂN LƯƠNG (1040) | G37: I-02409810 | H37: =IFERROR(VLOOKUP(B37,'TONG HOP'!$B$18:$J$28,9,0),"") | I37: =IFERROR(H37*F37,"") | J37: =IFERROR(I37*8%,"") | K37: =IFERROR(J37+I37,"")
A38: 1 | B38: TAI HEO SỐT THÁI 250G | C38: 8938529045467 | D38: 315117 | E38: TÚI | F38: 4 | H38: =IFERROR(VLOOKUP(B38,'TONG HOP'!$B$18:$J$28,9,0),"") -> 35389 | I38: =IFERROR(H38*F38,"") -> 141556 | J38: =IFERROR(I38*8%,"") -> 11324.48 | K38: =IFERROR(J38+I38,"") -> 152880.48
A39: 2 | B39: CHÂN GÀ SẢ TẮC 250G | C39: 8938529045443 | D39: 315116 | E39: TÚI | F39: 3 | H39: =IFERROR(VLOOKUP(B39,'TONG HOP'!$B$18:$J$28,9,0),"") -> 36750 | I39: =IFERROR(H39*F39,"") -> 110250 | J39: =IFERROR(I39*8%,"") -> 8820 | K39: =IFERROR(J39+I39,"") -> 119070
B40: CỬA HÀNG: AN BÌNH (1226) | G40: I-02410059 | H40: =IFERROR(VLOOKUP(B40,'TONG HOP'!$B$18:$J$28,9,0),"") | I40: =IFERROR(H40*F40,"") | J40: =IFERROR(I40*8%,"") | K40: =IFERROR(J40+I40,"")
A41: 1 | B41: TAI HEO MUỐI 200G | C41: 8938529045627 | D41: 236665 | E41: EA | F41: 2 | H41: =IFERROR(VLOOKUP(B41,'TONG HOP'!$B$18:$J$28,9,0),"") -> 55595 | I41: =IFERROR(H41*F41,"") -> 111190 | J41: =IFERROR(I41*8%,"") -> 8895.2 | K41: =IFERROR(J41+I41,"") -> 120085.2
B42: CỬA HÀNG: CỦ CHI 9 (1137) | G42: I-02412239 | H42: =IFERROR(VLOOKUP(B42,'TONG HOP'!$B$18:$J$28,9,0),"") | I42: =IFERROR(H42*F42,"") | J42: =IFERROR(I42*8%,"") | K42: =IFERROR(J42+I42,"")
A43: 1 | B43: GIÒ TAI LƯỠI XÀO 250G | D43: 261126 | E43: EA | F43: 5 | H43: =IFERROR(VLOOKUP(B43,'TONG HOP'!$B$18:$J$28,9,0),"") -> 50182 | I43: =IFERROR(H43*F43,"") -> 250910 | J43: =IFERROR(I43*8%,"") -> 20072.8 | K43: =IFERROR(J43+I43,"") -> 270982.8
A44: 2 | B44: TAI HEO MUỐI 200G | D44: 236665 | E44: EA | F44: 2 | H44: =IFERROR(VLOOKUP(B44,'TONG HOP'!$B$18:$J$28,9,0),"") -> 55595 | I44: =IFERROR(H44*F44,"") -> 111190 | J44: =IFERROR(I44*8%,"") -> 8895.2 | K44: =IFERROR(J44+I44,"") -> 120085.2
...

Sheet CHI TIẾT (2)
G1: I-02300800
A2: TRUNG TÂM ĐIỀU HÀNH SATRAFOODS | D2: CỘNG HÒA XÃ HỘI CHỦ NGHĨA VIỆT NAM
D3: Độc lập – Tự do – Hạnh phúc
D4: ----------oOo-------------
A6: BẢNG KÊ XUẤT TRẢ HÀNG HÓA
A8: Căn cứ vào:
A9: + | B9: thời hạn cận date của hàng trả;
A10: + | B10: tình trạng bán chậm của hàng trả;
A11: + | B11: yêu cầu khác … theo thỏa thuận giữa Satrafoods với TTĐH
A13: Hôm nay ngày : 02.03.2026 | C13: ,Cửa hàng chúng tôi đề nghị được trả hàng cho Nhà Cung cấp của TTĐH:
A14: Hai bên đồng ý giao và nhận các loại hàng hóa sau:
A15: NHÀ CUNG CẤP: NGỌC THƠM (VD-00000426) | C15: với các nội dung sau:
B17: Tên, nhãn hiệu, quy cách, phẩm | F17: Số lượng yêu cầu | G17: Số tham chiếu - Phiếu Xuất kho số
A18: STT | B18: chất vật tư, dụng cụ sản phẩm, hàng hóa | C18: Barcode | D18: Mã số | E18: Đơn vị tính
A19: A | B19: B | C19: C | D19: D | E19: E
B20: CỬA HÀNG: THỐNG NHẤT 1 (1032) | G20: I-02409003 | H20: =+G20 -> I-02409003 | J20: THÁNG 2.26
A21: 1 | B21: GÀ MUỐI 500G | C21: 8938529045924 | D21: 203632 | E21: EA | F21: 1
A22: 2 | B22: CHÂN GIÒ HEO MUỐI 300G | C22: 8938529045856 | D22: 203630 | E22: EA | F22: 1
B23: CỬA HÀNG: BÙI CÔNG TRỪNG (1142) | G23: I-02419290 | H23: =+G23 -> I-02419290
A24: 1 | B24: CHÂN GIÒ HEO MUỐI 300G | C24: 8938529045856 | D24: 203630 | E24: EA | F24: 1
A25: 2 | B25: CHÂN GIÒ HEO MUỐI 500G | D25: 203634 | E25: EA | F25: 7
A26: 3 | B26: CHÂN GÀ SẢ TẮC 250G | D26: 315116 | E26: TÚI | F26: 1
A27: 4 | B27: TAI HEO SỐT THÁI 250G | D27: 315117 | E27: TÚI | F27: 1
A28: 5 | B28: CHÂN GIÒ HEO MUỐI VỊ TAYAKI TÚI 450G | C28: 8938529045832 | D28: 317010 | E28: TÚI | F28: 1
A29: 1 | B29: TAI HEO MUỐI 400G | D29: 203631 | E29: EA | F29: 5 | G29: I-02432816 | H29: =+G29 -> I-02432816
A30: 2 | B30: GÀ MUỐI 500G | D30: 203632 | E30: EA | F30: 1
A31: 3 | B31: CHÂN GIÒ HEO MUỐI 500G | D31: 203634 | E31: EA | F31: 2
A32: 4 | B32: TAI HEO MUỐI 200G | D32: 236665 | E32: EA | F32: 3
A33: 5 | B33: GIÒ TAI LƯỠI XÀO 250G | D33: 261126 | E33: EA | F33: 2
A34: 6 | B34: TAI HEO SỐT THÁI 250G | D34: 315117 | E34: TÚI | F34: 1
A35: 7 | B35: CHÂN GIÒ HEO MUỐI VỊ TAYAKI TÚI 450G | C35: 8938529045832 | D35: 317010 | E35: TÚI | F35: 2
A36: 8 | B36: GÀ MUỐI HUN CỎ XẠ HƯƠNG TÚI 500G | C36: 8938529045795 | D36: 317011 | E36: TÚI | F36: 1
B37: CỬA HÀNG: THẠCH LAM (1027) | G37: I-02422915 | H37: =+G37 -> I-02422915
A38: 1 | B38: GIÒ TAI LƯỠI XÀO 250G | C38: 8938529045030 | D38: 261126 | E38: EA | F38: 1
A39: 2 | B39: MỌC NẤM HƯƠNG 250G | C39: 8938529045047 | D39: 261127 | E39: EA | F39: 2
A40: 3 | B40: GÀ MUỐI 500G | C40: 8938529045924 | D40: 203632 | E40: EA | F40: 2
B41: CỬA HÀNG: NGUYỄN THỊ BÚP (1189) | G41: I-02425374 | H41: =+G41 -> I-02425374
A42: 1 | B42: CHÂN GÀ SẢ TẮC 250G | C42: 8938529045443 | D42: 315116 | E42: TÚI | F42: 3
A43: 2 | B43: TAI HEO SỐT THÁI 250G | C43: 8938529045467 | D43: 315117 | E43: TÚI | F43: 7
B44: CỬA HÀNG: ĐÌNH PHONG PHÚ 1 (1129) | G44: I-02382289 | H44: =+G44 -> I-02382289 | J44: THÁNG 1.26
...

Sheet TONG HOP
A1: TRUNG TÂM ĐIỀU HÀNH SATRAFOODS | G1: CỘNG HÒA XÃ HỘI CHỦ NGHĨA VIỆT NAM
G2: Độc lập – Tự do – Hạnh phúc | H2: Độc lập – Tự do – Hạnh phúc
H3: ----------oOo-------------
A4: BIÊN BẢN XUẤT TRẢ HÀNG HÓA
A5: Hôm nay, ngày 02 tháng 03 năm 2026, với sự chứng kiến của:
A6: Đại diện bên giao: KHO TTĐH SATRAFOODS
A7: Ông (bà): NGUYỄN THỊ THU
A8: Địa chỉ: 7A/1 THÀNH THÁI, PHƯỜNG DIÊN HỒNG, TPHCM
A9: Đại diện bên nhận: CÔNG TY TNHH MỘT THÀNH VIÊN THƯƠNG MẠI VÀ DỊCH VỤ NGỌC THƠM (VD-00000426)
A10: Ông (bà):
A11: Địa chỉ: 12/14/18 Đường 49, khu phố 7, Phường Hiệp Bình, Thành phố Hồ Chí Minh,VNM
A12: Mã số thuế: 0309391503
A13: Lý do xuất trả hàng: CẬN DATE-NCC LẤY HÀNG TẠI CH THÁNG 02/2026
A14: Hai bên đồng ý giao và nhận các loại hàng hóa sau: | I14: =SUM(I18:I28) -> 246
A16: STT | B16: TÊN HÀNG | C16: MÃ HÀNG | E16: XUẤT TRẢ THEO HĐ | G16: SỐ PO | H16: ĐVT | I16: SỐ LƯỢNG | J16: ĐƠN GIÁ | K16: THÀNH TIỀN
E17: SỐ | F17: NGÀY
A18: =ROW()-17 -> 1 | B18: CHÂN GIÒ HEO MUỐI 300G | C18: 8938508668014 ITEM: 203630 | D18: 203630 | H18: TÚI | I18: =SUMIF('CHI TIẾT'!$D$20:$F$167,'TONG HOP'!D18,'CHI TIẾT'!$F$20:$F$167) -> 11 | J18: 73431 | K18: =J18*I18 -> 807741
A19: =ROW()-17 -> 2 | B19: TAI HEO MUỐI 400G | C19: 8938508668304 ITEM: 203631 | D19: 203631 | H19: TÚI | I19: =SUMIF('CHI TIẾT'!$D$20:$F$167,'TONG HOP'!D19,'CHI TIẾT'!$F$20:$F$167) -> 8 | J19: 107205 | K19: =J19*I19 -> 857640
A20: =ROW()-17 -> 3 | B20: GÀ MUỐI 500G | C20: 8938508668212 ITEM: 203632 | D20: 203632 | H20: TÚI | I20: =SUMIF('CHI TIẾT'!$D$20:$F$167,'TONG HOP'!D20,'CHI TIẾT'!$F$20:$F$167) -> 37 | J20: 114279 | K20: =J20*I20 -> 4228323
A21: =ROW()-17 -> 4 | B21: CHÂN GIÒ HEO MUỐI 500G | C21: 8938529045238 ITEM: 203634 | D21: 203634 | H21: TÚI | I21: =SUMIF('CHI TIẾT'!$D$20:$F$167,'TONG HOP'!D21,'CHI TIẾT'!$F$20:$F$167) -> 16 | J21: 119066 | K21: =J21*I21 -> 1905056
A22: =ROW()-17 -> 5 | B22: TAI HEO MUỐI 200G | C22: 8938508668328 ITEM: 236665 | D22: 236665 | H22: TÚI | I22: =SUMIF('CHI TIẾT'!$D$20:$F$167,'TONG HOP'!D22,'CHI TIẾT'!$F$20:$F$167) -> 24 | J22: 55595 | K22: =J22*I22 -> 1334280
A23: =ROW()-17 -> 6 | B23: GIÒ TAI LƯỠI XÀO 250G | C23: 8938529045030 ITEM: 261126 | D23: 261126 | H23: TÚI | I23: =SUMIF('CHI TIẾT'!$D$20:$F$167,'TONG HOP'!D23,'CHI TIẾT'!$F$20:$F$167) -> 15 | J23: 50182 | K23: =J23*I23 -> 752730
A24: =ROW()-17 -> 7 | B24: MỌC NẤM HƯƠNG 250G | C24: 8938529045047 ITEM: 261127 | D24: 261127 | H24: TÚI | I24: =SUMIF('CHI TIẾT'!$D$20:$F$167,'TONG HOP'!D24,'CHI TIẾT'!$F$20:$F$167) -> 16 | J24: 46000 | K24: =J24*I24 -> 736000
A25: =ROW()-17 -> 8 | B25: CHÂN GÀ SẢ TẮC 250G | C25: 8938529045443 ITEM: 315116 | D25: 315116 | H25: HỘP | I25: =SUMIF('CHI TIẾT'!$D$20:$F$167,'TONG HOP'!D25,'CHI TIẾT'!$F$20:$F$167) -> 56 | J25: 36750 | K25: =J25*I25 -> 2058000
A26: =ROW()-17 -> 9 | B26: TAI HEO SỐT THÁI 250G | C26: 8938529045467 ITEM: 315117 | D26: 315117 | H26: HỘP | I26: =SUMIF('CHI TIẾT'!$D$20:$F$167,'TONG HOP'!D26,'CHI TIẾT'!$F$20:$F$167) -> 59 | J26: 35389 | K26: =J26*I26 -> 2087951
A27: =ROW()-17 -> 10 | B27: CHÂN GIÒ HEO MUỐI VỊ TAYAKI TÚI 450G | C27: 8938529045832 ITEM: 317010 | D27: 317010 | H27: TÚI | I27: =SUMIF('CHI TIẾT'!$D$20:$F$167,'TONG HOP'!D27,'CHI TIẾT'!$F$20:$F$167) -> 3 | J27: 104615 | K27: =J27*I27 -> 313845
A28: =ROW()-17 -> 11 | B28: GÀ MUỐI HUN CỎ XẠ HƯƠNG TÚI 500G | C28: 8938529045795 ITEM: 317011 | D28: 317011 | H28: TÚI | I28: =SUMIF('CHI TIẾT'!$D$20:$F$167,'TONG HOP'!D28,'CHI TIẾT'!$F$20:$F$167) -> 1 | J28: 114279 | K28: =J28*I28 -> 114279
E29: CỘNG TIỀN HÀNG | K29: =SUM(K18:K28) -> 15195845
E30: TIỀN THUẾ GTGT
B31: THUẾ SUẤT 8% | K31: =K29*0.08 -> 1215667.6
E32: TỔNG CỘNG | K32: =K29+K31 -> 16411513
B34: BẰNG CHỮ:
B35: Biên bản này được lập thành 02(hai) bản,mỗi bên giữ 01(một) bản.
A37: Phòng Kinh Doanh Tiếp Thị | C37: Phòng Tài Chính Kế Toán | G37: Đại Diện Bên Nhận(NCC) | J37: Đại Diện Bên Giao
