Workbook

Sheet CHI TIẾT
G1: I-02300800
A2: TRUNG TÂM ĐIỀU HÀNH SATRAFOODS | D2: CỘNG HÒA XÃ HỘI CHỦ NGHĨA VIỆT NAM
D3: Độc lập – Tự do – Hạnh phúc
D4: ----------oOo-------------
A6: BẢNG KÊ XUẤT TRẢ HÀNG HÓA
A8: Căn cứ vào:
A9: + | B9: thời hạn cận date của hàng trả;
A10: + | B10: tình trạng bán chậm của hàng trả;
A11: + | B11: yêu cầu khác … theo thỏa thuận giữa Satrafoods với TTĐH
A13: Hôm nay ngày : 02.03.2026 | C13: ,Cửa hàng chúng tôi đề nghị được trả hàng cho Nhà Cung cấp của TTĐH:
A14: Hai bên đồng ý giao và nhận các loại hàng hóa sau:
A15: NHÀ CUNG CẤP: NGỌC THƠM (VD-00000426) | C15: với các nội dung sau:
B17: Tên, nhãn hiệu, quy cách, phẩm | F17: Số lượng yêu cầu | G17: Số tham chiếu - Phiếu Xuất kho số
A18: STT | B18: chất vật tư, dụng cụ sản phẩm, hàng hóa | C18: Barcode | D18: Mã số | E18: Đơn vị tính
A19: A | B19: B | C19: C | D19: D | E19: E
B20: CỬA HÀNG: THỐNG NHẤT 1 (1032) | G20: I-02409003 | H20: THÁNG 2.26
A21: 1 | B21: GÀ MUỐI 500G | C21: 8938529045924 | D21: 203632 | E21: EA | F21: 1 | H21: =+VLOOKUP(B21,'TONG HOP'!$B$18:$J$28,9,0) -> 114279
A22: 2 | B22: CHÂN GIÒ HEO MUỐI 300G | C22: 8938529045856 | D22: 203630 | E22: EA | F22: 1 | H22: =+VLOOKUP(B22,'TONG HOP'!$B$18:$J$28,9,0) -> 73431
B23: CỬA HÀNG: BÙI CÔNG TRỪNG (1142) | G23: I-02419290
A24: 1 | B24: CHÂN GIÒ HEO MUỐI 300G | C24: 8938529045856 | D24: 203630 | E24: EA | F24: 1 | H24: =+VLOOKUP(B24,'TONG HOP'!$B$18:$J$28,9,0) -> 73431
A25: 2 | B25: CHÂN GIÒ HEO MUỐI 500G | D25: 203634 | E25: EA | F25: 7 | H25: =+VLOOKUP(B25,'TONG HOP'!$B$18:$J$28,9,0) -> 119066
A26: 3 | B26: CHÂN GÀ SẢ TẮC 250G | D26: 315116 | E26: TÚI | F26: 1 | H26: =+VLOOKUP(B26,'TONG HOP'!$B$18:$J$28,9,0) -> 36750
A27: 4 | B27: TAI HEO SỐT THÁI 250G | D27: 315117 | E27: TÚI | F27: 1 | H27: =+VLOOKUP(B27,'TONG HOP'!$B$18:$J$28,9,0) -> 35389
A28: 5 | B28: CHÂN GIÒ HEO MUỐI VỊ TAYAKI TÚI 450G | C28: 8938529045832 | D28: 317010 | E28: TÚI | F28: 1 | H28: =+VLOOKUP(B28,'TONG HOP'!$B$18:$J$28,9,0) -> 104615
A29: 1 | B29: TAI HEO MUỐI 400G | D29: 203631 | E29: EA | F29: 5 | G29: I-02432816 | H29: =+VLOOKUP(B29,'TONG HOP'!$B$18:$J$28,9,0) -> 107205
A30: 2 | B30: GÀ MUỐI 500G | D30: 203632 | E30: EA | F30: 1 | H30: =+VLOOKUP(B30,'TONG HOP'!$B$18:$J$28,9,0) -> 114279
A31: 3 | B31: CHÂN GIÒ HEO MUỐI 500G | D31: 203634 | E31: EA | F31: 2 | H31: =+VLOOKUP(B31,'TONG HOP'!$B$18:$J$28,9,0) -> 119066
A32: 4 | B32: TAI HEO MUỐI 200G | D32: 236665 | E32: EA | F32: 3 | H32: =+VLOOKUP(B32,'TONG HOP'!$B$18:$J$28,9,0) -> 55595
A33: 5 | B33: GIÒ TAI LƯỠI XÀO 250G | D33: 261126 | E33: EA | F33: 2 | H33: =+VLOOKUP(B33,'TONG HOP'!$B$18:$J$28,9,0) -> 50182
A34: 6 | B34: TAI HEO SỐT THÁI 250G | D34: 315117 | E34: TÚI | F34: 1 | H34: =+VLOOKUP(B34,'TONG HOP'!$B$18:$J$28,9,0) -> 35389
A35: 7 | B35: CHÂN GIÒ HEO MUỐI VỊ TAYAKI TÚI 450G | C35: 8938529045832 | D35: 317010 | E35: TÚI | F35: 2 | H35: =+VLOOKUP(B35,'TONG HOP'!$B$18:$J$28,9,0) -> 104615
A36: 8 | B36: GÀ MUỐI HUN CỎ XẠ HƯƠNG TÚI 500G | C36: 8938529045795 | D36: 317011 | E36: TÚI | F36: 1 | H36: =+VLOOKUP(B36,'TONG HOP'!$B$18:$J$28,9,0) -> 114279
B37: CỬA HÀNG: LÊ VĂN LƯƠNG (1040) | G37: I-02409810
A38: 1 | B38: TAI HEO SỐT THÁI 250G | C38: 8938529045467 | D38: 315117 | E38: TÚI | F38: 4 | H38: =+VLOOKUP(B38,'TONG HOP'!$B$18:$J$28,9,0) -> 35389
A39: 2 | B39: CHÂN GÀ SẢ TẮC 250G | C39: 8938529045443 | D39: 315116 | E39: TÚI | F39: 3 | H39: =+VLOOKUP(B39,'TONG HOP'!$B$18:$J$28,9,0) -> 36750
B40: CỬA HÀNG: AN BÌNH (1226) | G40: I-02410059
A41: 1 | B41: TAI HEO MUỐI 200G | C41: 8938529045627 | D41: 236665 | E41: EA | F41: 2 | H41: =+VLOOKUP(B41,'TONG HOP'!$B$18:$J$28,9,0) -> 55595
B42: CỬA HÀNG: CỦ CHI 9 (1137) | G42: I-02412239
A43: 1 | B43: GIÒ TAI LƯỠI XÀO 250G | D43: 261126 | E43: EA | F43: 5 | H43: =+VLOOKUP(B43,'TONG HOP'!$B$18:$J$28,9,0) -> 50182
A44: 2 | B44: TAI HEO MUỐI 200G | D44: 236665 | E44: EA | F44: 2 | H44: =+VLOOKUP(B44,'TONG HOP'!$B$18:$J$28,9,0) -> 55595
A45: 1 | B45: CHÂN GÀ SẢ TẮC 250G | D45: 315116 | E45: TÚI | F45: 3 | G45: I-02426764 | H45: =+VLOOKUP(B45,'TONG HOP'!$B$18:$J$28,9,0) -> 36750
A46: 2 | B46: TAI HEO SỐT THÁI 250G | C46: 8938529045467 | D46: 315117 | E46: TÚI | F46: 4 | H46: =+VLOOKUP(B46,'TONG HOP'!$B$18:$J$28,9,0) -> 35389
B47: CỬA HÀNG: LÊ VĂN LINH (1059) | G47: I-02412369
A48: 1 | B48: GÀ MUỐI 500G | D48: 203632 | E48: EA | F48: 1 | H48: =+VLOOKUP(B48,'TONG HOP'!$B$18:$J$28,9,0) -> 114279
A49: 2 | B49: TAI HEO SỐT THÁI 250G | D49: 315117 | E49: TÚI | F49: 1 | H49: =+VLOOKUP(B49,'TONG HOP'!$B$18:$J$28,9,0) -> 35389
A50: 1 | B50: CHÂN GÀ SẢ TẮC 250G | D50: 315116 | E50: TÚI | F50: 2 | G50: I-02423259 | H50: =+VLOOKUP(B50,'TONG HOP'!$B$18:$J$28,9,0) -> 36750
A51: 2 | B51: TAI HEO SỐT THÁI 250G | D51: 315117 | E51: TÚI | F51: 1 | H51: =+VLOOKUP(B51,'TONG HOP'!$B$18:$J$28,9,0) -> 35389
B52: CỬA HÀNG: TRẦN VĂN MƯỜI (1120) | G52: I-02414532
A53: 1 | B53: CHÂN GÀ SẢ TẮC 250G | C53: 8938529045443 | D53: 315116 | E53: TÚI | F53: 2 | H53: =+VLOOKUP(B53,'TONG HOP'!$B$18:$J$28,9,0) -> 36750
A54: 2 | B54: TAI HEO SỐT THÁI 250G | C54: 8938529045467 | D54: 315117 | E54: TÚI | F54: 3 | H54: =+VLOOKUP(B54,'TONG HOP'!$B$18:$J$28,9,0) -> 35389
A55: 3 | B55: MỌC NẤM HƯƠNG 250G | C55: 8938529045047 | D55: 261127 | E55: EA | F55: 3 | H55: =+VLOOKUP(B55,'TONG HOP'!$B$18:$J$28,9,0) -> 46000
B56: CỬA HÀNG: KHA VẠN CÂN (1011) | G56: I-02416431
A57: 1 | B57: GIÒ TAI LƯỠI XÀO 250G | D57: 261126 | E57: EA | F57: 3 | H57: =+VLOOKUP(B57,'TONG HOP'!$B$18:$J$28,9,0) -> 50182
B58: CỬA HÀNG: LÊ THỊ HOA (1170) | G58: I-02420204
A59: 1 | B59: CHÂN GÀ SẢ TẮC 250G | D59: 315116 | E59: TÚI | F59: 1 | H59: =+VLOOKUP(B59,'TONG HOP'!$B$18:$J$28,9,0) -> 36750
B60: CỬA HÀNG: THẠCH LAM (1027) | G60: I-02422915
A61: 1 | B61: GIÒ TAI LƯỠI XÀO 250G | C61: 8938529045030 | D61: 261126 | E61: EA | F61: 1 | H61: =+VLOOKUP(B61,'TONG HOP'!$B$18:$J$28,9,0) -> 50182
A62: 2 | B62: MỌC NẤM HƯƠNG 250G | C62: 8938529045047 | D62: 261127 | E62: EA | F62: 2 | H62: =+VLOOKUP(B62,'TONG HOP'!$B$18:$J$28,9,0) -> 46000
A63: 3 | B63: GÀ MUỐI 500G | C63: 8938529045924 | D63: 203632 | E63: EA | F63: 2 | H63: =+VLOOKUP(B63,'TONG HOP'!$B$18:$J$28,9,0) -> 114279
A64: 1 | B64: TAI HEO MUỐI 200G | C64: 8938529045627 | D64: 236665 | E64: EA | F64: 1 | G64: I-02434292 | H64: =+VLOOKUP(B64,'TONG HOP'!$B$18:$J$28,9,0) -> 55595
B65: CỬA HÀNG: CỦ CHI 5 (1117) | G65: I-02424445
A66: 1 | B66: CHÂN GÀ SẢ TẮC 250G | D66: 315116 | E66: TÚI | F66: 2 | H66: =+VLOOKUP(B66,'TONG HOP'!$B$18:$J$28,9,0) -> 36750
A67: 2 | B67: TAI HEO SỐT THÁI 250G | D67: 315117 | E67: TÚI | F67: 3 | H67: =+VLOOKUP(B67,'TONG HOP'!$B$18:$J$28,9,0) -> 35389
B68: CỬA HÀNG: NGUYỄN THỊ BÚP (1189) | G68: I-02425374
A69: 1 | B69: CHÂN GÀ SẢ TẮC 250G | C69: 8938529045443 | D69: 315116 | E69: TÚI | F69: 3 | H69: =+VLOOKUP(B69,'TONG HOP'!$B$18:$J$28,9,0) -> 36750
A70: 2 | B70: TAI HEO SỐT THÁI 250G | C70: 8938529045467 | D70: 315117 | E70: TÚI | F70: 7 | H70: =+VLOOKUP(B70,'TONG HOP'!$B$18:$J$28,9,0) -> 35389
B71: CỬA HÀNG: QUANG TRUNG (1008) | G71: I-02426611
A72: 1 | B72: TAI HEO MUỐI 200G | C72: 8938529045627 | D72: 236665 | E72: EA | F72: 1 | H72: =+VLOOKUP(B72,'TONG HOP'!$B$18:$J$28,9,0) -> 55595
A73: 2 | B73: TAI HEO SỐT THÁI 250G | C73: 8938529045467 | D73: 315117 | E73: TÚI | F73: 2 | H73: =+VLOOKUP(B73,'TONG HOP'!$B$18:$J$28,9,0) -> 35389
A74: 3 | B74: CHÂN GÀ SẢ TẮC 250G | C74: 8938529045443 | D74: 315116 | E74: TÚI | F74: 2 | H74: =+VLOOKUP(B74,'TONG HOP'!$B$18:$J$28,9,0) -> 36750
A75: 1 | B75: GÀ MUỐI 500G | C75: 8938529045924 | D75: 203632 | E75: EA | F75: 1 | G75: I-02434505 | H75: =+VLOOKUP(B75,'TONG HOP'!$B$18:$J$28,9,0) -> 114279
A76: 2 | B76: TAI HEO SỐT THÁI 250G | C76: 8938529045467 | D76: 315117 | E76: TÚI | F76: 1 | H76: =+VLOOKUP(B76,'TONG HOP'!$B$18:$J$28,9,0) -> 35389
B77: CỬA HÀNG: NGUYỄN THƯỢNG HIỀN (1109) | G77: I-02431456
A78: 1 | B78: CHÂN GÀ SẢ TẮC 250G | D78: 315116 | E78: TÚI | F78: 1 | H78: =+VLOOKUP(B78,'TONG HOP'!$B$18:$J$28,9,0) -> 36750
B79: CỬA HÀNG: LÊ VĂN LƯƠNG 1 (1040) | G79: I-02431209
A80: 1 | B80: MỌC NẤM HƯƠNG 250G | C80: 8938529045047 | D80: 261127 | E80: EA | F80: 4 | H80: =+VLOOKUP(B80,'TONG HOP'!$B$18:$J$28,9,0) -> 46000
A81: 2 | B81: CHÂN GÀ SẢ TẮC 250G | C81: 8938529045443 | D81: 315116 | E81: TÚI | F81: 2 | H81: =+VLOOKUP(B81,'TONG HOP'!$B$18:$J$28,9,0) -> 36750
A82: 3 | B82: GÀ MUỐI 500G | C82: 8938529045924 | D82: 203632 | E82: EA | F82: 3 | H82: =+VLOOKUP(B82,'TONG HOP'!$B$18:$J$28,9,0) -> 114279
A83: 4 | B83: GIÒ TAI LƯỠI XÀO 250G | C83: 8938529045030 | D83: 261126 | E83: EA | F83: 1 | H83: =+VLOOKUP(B83,'TONG HOP'!$B$18:$J$28,9,0) -> 50182
A84: 5 | B84: TAI HEO MUỐI 200G | C84: 8938529045627 | D84: 236665 | E84: EA | F84: 2 | H84: =+VLOOKUP(B84,'TONG HOP'!$B$18:$J$28,9,0) -> 55595
B85: CỬA HÀNG: LÒ LU (1184) | G85: I-02431591
A86: 1 | B86: GÀ MUỐI 500G | C86: 8938529045924 | D86: 203632 | E86: EA | F86: 1 | H86: =+VLOOKUP(B86,'TONG HOP'!$B$18:$J$28,9,0) -> 114279
A87: 2 | B87: TAI HEO SỐT THÁI 250G | C87: 8938529045467 | D87: 315117 | E87: TÚI | F87: 1 | H87: =+VLOOKUP(B87,'TONG HOP'!$B$18:$J$28,9,0) -> 35389
A88: 3 | B88: CHÂN GÀ SẢ TẮC 250G | C88: 8938529045443 | D88: 315116 | E88: TÚI | F88: 7 | H88: =+VLOOKUP(B88,'TONG HOP'!$B$18:$J$28,9,0) -> 36750
B89: CỬA HÀNG: CỦ CHI 13 (1211) | G89: I-02432644
A90: 1 | B90: TAI HEO SỐT THÁI 250G | D90: 315117 | E90: TÚI | F90: 2 | H90: =+VLOOKUP(B90,'TONG HOP'!$B$18:$J$28,9,0) -> 35389
A91: 2 | B91: TAI HEO MUỐI 200G | D91: 236665 | E91: EA | F91: 1 | H91: =+VLOOKUP(B91,'TONG HOP'!$B$18:$J$28,9,0) -> 55595
B92: CỬA HÀNG: CỦ CHI 1 (1052) | G92: I-02432655
A93: 1 | B93: GÀ MUỐI 500G | D93: 203632 | E93: EA | F93: 6 | H93: =+VLOOKUP(B93,'TONG HOP'!$B$18:$J$28,9,0) -> 114279
A94: 2 | B94: TAI HEO MUỐI 200G | D94: 236665 | E94: EA | F94: 1 | H94: =+VLOOKUP(B94,'TONG HOP'!$B$18:$J$28,9,0) -> 55595
B95: CỬA HÀNG: ĐÌNH PHONG PHÚ 1 (1129) | G95: I-02382289 | H95: THÁNG 1.26
A96: 1 | B96: CHÂN GIÒ HEO MUỐI 500G | D96: 203634 | E96: EA | F96: 2 | H96: =+VLOOKUP(B96,'TONG HOP'!$B$18:$J$28,9,0) -> 119066
B97: CỬA HÀNG: NGUYỄN THỊ KIỂU 2 (1213) | G97: I-02387107
A98: 1 | B98: GÀ MUỐI 500G | C98: 8938529045924 | D98: 203632 | E98: EA | F98: 1 | H98: =+VLOOKUP(B98,'TONG HOP'!$B$18:$J$28,9,0) -> 114279
B99: CỬA HÀNG: THỐNG NHẤT 1 (1032) | G99: I-02387261
A100: 1 | B100: CHÂN GIÒ HEO MUỐI 300G | D100: 203630 | E100: EA | F100: 1 | H100: =+VLOOKUP(B100,'TONG HOP'!$B$18:$J$28,9,0) -> 73431
A101: 2 | B101: CHÂN GÀ SẢ TẮC 250G | D101: 315116 | E101: TÚI | F101: 4 | H101: =+VLOOKUP(B101,'TONG HOP'!$B$18:$J$28,9,0) -> 36750
A102: 3 | B102: TAI HEO SỐT THÁI 250G | D102: 315117 | E102: TÚI | F102: 3 | H102: =+VLOOKUP(B102,'TONG HOP'!$B$18:$J$28,9,0) -> 35389
A103: 1 | B103: TAI HEO SỐT THÁI 250G | C103: 8938529045467 | D103: 315117 | E103: TÚI | F103: 4 | G103: I-02389054 | H103: =+VLOOKUP(B103,'TONG HOP'!$B$18:$J$28,9,0) -> 35389
A104: 2 | B104: CHÂN GÀ SẢ TẮC 250G | C104: 8938529045443 | D104: 315116 | E104: TÚI | F104: 1 | H104: =+VLOOKUP(B104,'TONG HOP'!$B$18:$J$28,9,0) -> 36750
...

Sheet CHI TIẾT (3)
G1: I-02300800
A2: TRUNG TÂM ĐIỀU HÀNH SATRAFOODS | D2: CỘNG HÒA XÃ HỘI CHỦ NGHĨA VIỆT NAM
D3: Độc lập – Tự do – Hạnh phúc
D4: ----------oOo-------------
A6: BẢNG KÊ XUẤT TRẢ HÀNG HÓA
A8: Căn cứ vào:
A9: + | B9: thời hạn cận date của hàng trả;
A10: + | B10: tình trạng bán chậm của hàng trả;
A11: + | B11: yêu cầu khác … theo thỏa thuận giữa Satrafoods với TTĐH
A13: Hôm nay ngày : 02.03.2026 | C13: ,Cửa hàng chúng tôi đề nghị được trả hàng cho Nhà Cung cấp của TTĐH:
A14: Hai bên đồng ý giao và nhận các loại hàng hóa sau:
A15: NHÀ CUNG CẤP: NGỌC THƠM (VD-00000426) | C15: với các nội dung sau:
B17: Tên, nhãn hiệu, quy cách, phẩm | F17: Số lượng yêu cầu | G17: Số tham chiếu - Phiếu Xuất kho số
A18: STT | B18: chất vật tư, dụng cụ sản phẩm, hàng hóa | C18: Barcode | D18: Mã số | E18: Đơn vị tính
A19: A | B19: B | C19: C | D19: D | E19: E
B20: CỬA HÀNG: THỐNG NHẤT 1 (1032) | G20: I-02409003
A21: 1 | B21: GÀ MUỐI 500G | C21: 8938529045924 | D21: 203632 | E21: EA | F21: 1 | H21: =IFERROR(VLOOKUP(B21,'TONG HOP'!$B$18:$J$28,9,0),"") -> 114279 | I21: =IFERROR(H21*F21,"") -> 114279 | J21: =IFERROR(I21*8%,"") -> 9142.32 | K21: =IFERROR(J21+I21,"") -> 123421.32
A22: 2 | B22: CHÂN GIÒ HEO MUỐI 300G | C22: 8938529045856 | D22: 203630 | E22: EA | F22: 1 | H22: =IFERROR(VLOOKUP(B22,'TONG HOP'!$B$18:$J$28,9,0),"") -> 73431 | I22: =IFERROR(H22*F22,"") -> 73431 | J22: =IFERROR(I22*8%,"") -> 5874.48 | K22: =IFERROR(J22+I22,"") -> 79305.48
B23: CỬA HÀNG: BÙI CÔNG TRỪNG (1142) | G23: I-02419290 | H23: =IFERROR(VLOOKUP(B23,'TONG HOP'!$B$18:$J$28,9,0),"") | I23: =IFERROR(H23*F23,"") | J23: =IFERROR(I23*8%,"") | K23: =IFERROR(J23+I23,"")
A24: 1 | B24: CHÂN GIÒ HEO MUỐI 300G | C24: 8938529045856 | D24: 203630 | E24: EA | F24: 1 | H24: =IFERROR(VLOOKUP(B24,'TONG HOP'!$B$18:$J$28,9,0),"") -> 73431 | I24: =IFERROR(H24*F24,"") -> 73431 | J24: =IFERROR(I24*8%,"") -> 5874.48 | K24: =IFERROR(J24+I24,"") -> 79305.48
A25: 2 | B25: CHÂN GIÒ HEO MUỐI 500G | D25: 203634 | E25: EA | F25: 7 | H25: =IFERROR(VLOOKUP(B25,'TONG HOP'!$B$18:$J$28,9,0),"") -> 119066 | I25: =IFERROR(H25*F25,"") -> 833462 | J25: =IFERROR(I25*8%,"") -> 66676.96 | K25: =IFERROR(J25+I25,"") -> 900138.96
A26: 3 | B26: CHÂN GÀ SẢ TẮC 250G | D26: 315116 | E26: TÚI | F26: 1 | H26: =IFERROR(VLOOKUP(B26,'TONG HOP'!$B$18:$J$28,9,0),"") -> 36750 | I26: =IFERROR(H26*F26,"") -> 36750 | J26: =IFERROR(I26*8%,"") -> 2940 | K26: =IFERROR(J26+I26,"") -> 39690
A27: 4 | B27: TAI HEO SỐT THÁI 250G | D27: 315117 | E27: TÚI | F27: 1 | H27: =IFERROR(VLOOKUP(B27,'TONG HOP'!$B$18:$J$28,9,0),"") -> 35389 | I27: =IFERROR(H27*F27,"") -> 35389 | J27: =IFERROR(I27*8%,"") -> 2831.12 | K27: =IFERROR(J27+I27,"") -> 38220.12
A28: 5 | B28: CHÂN GIÒ HEO MUỐI VỊ TAYAKI TÚI 450G | C28: 8938529045832 | D28: 317010 | E28: TÚI | F28: 1 | H28: =IFERROR(VLOOKUP(B28,'TONG HOP'!$B$18:$J$28,9,0),"") -> 104615 | I28: =IFERROR(H28*F28,"") -> 104615 | J28: =IFERROR(I28*8%,"") -> 8369.2 | K28: =IFERROR(J28+I28,"") -> 112984.2
A29: 1 | B29: TAI HEO MUỐI 400G | D29: 203631 | E29: EA | F29: 5 | G29: I-02432816 | H29: =IFERROR(VLOOKUP(B29,'TONG HOP'!$B$18:$J$28,9,0),"") -> 107205 | I29: =IFERROR(H29*F29,"") -> 536025 | J29: =IFERROR(I29*8%,"") -> 42882 | K29: =IFERROR(J29+I29,"") -> 578907
A30: 2 | B30: GÀ MUỐI 500G | D30: 203632 | E30: EA | F30: 1 | H30: =IFERROR(VLOOKUP(B30,'TONG HOP'!$B$18:$J$28,9,0),"") -> 114279 | I30: =IFERROR(H30*F30,"") -> 114279 | J30: =IFERROR(I30*8%,"") -> 9142.32 | K30: =IFERROR(J30+I30,"") -> 123421.32
A31: 3 | B31: CHÂN GIÒ HEO MUỐI 500G | D31: 203634 | E31: EA | F31: 2 | H31: =IFERROR(VLOOKUP(B31,'TONG HOP'!$B$18:$J$28,9,0),"") -> 119066 | I31: =IFERROR(H31*F31,"") -> 238132 | J31: =IFERROR(I31*8%,"") -> 19050.56 | K31: =IFERROR(J31+I31,"") -> 257182.56
A32: 4 | B32: TAI HEO MUỐI 200G | D32: 236665 | E32: EA | F32: 3 | H32: =IFERROR(VLOOKUP(B32,'TONG HOP'!$B$18:$J$28,9,0),"") -> 55595 | I32: =IFERROR(H32*F32,"") -> 166785 | J32: =IFERROR(I32*8%,"") -> 13342.8 | K32: =IFERROR(J32+I32,"") -> 180127.8
A33: 5 | B33: GIÒ TAI LƯỠI XÀO 250G | D33: 261126 | E33: EA | F33: 2 | H33: =IFERROR(VLOOKUP(B33,'TONG HOP'!$B$18:$J$28,9,0),"") -> 50182 | I33: =IFERROR(H33*F33,"") -> 100364 | J33: =IFERROR(I33*8%,"") -> 8029.12 | K33: =IFERROR(J33+I33,"") -> 108393.12
A34: 6 | B34: TAI HEO SỐT THÁI 250G | D34: 315117 | E34: TÚI | F34: 1 | H34: =IFERROR(VLOOKUP(B34,'TONG HOP'!$B$18:$J$28,9,0),"") -> 35389 | I34: =IFERROR(H34*F34,"") -> 35389 | J34: =IFERROR(I34*8%,"") -> 2831.12 | K34: =IFERROR(J34+I34,"") -> 38220.12
A35: 7 | B35: CHÂN GIÒ HEO MUỐI VỊ TAYAKI TÚI 450G | C35: 8938529045832 | D35: 317010 | E35: TÚI | F35: 2 | H35: =IFERROR(VLOOKUP(B35,'TONG HOP'!$B$18:$J$28,9,0),"") -> 104615 | I35: =IFERROR(H35*F35,"") -> 209230 | J35: =IFERROR(I35*8%,"") -> 16738.4 | K35: =IFERROR(J35+I35,"") -> 225968.4
A36: 8 | B36: GÀ MUỐI HUN CỎ XẠ HƯƠNG TÚI 500G | C36: 8938529045795 | D36: 317011 | E36: TÚI | F36: 1 | H36: =IFERROR(VLOOKUP(B36,'TONG HOP'!$B$18:$J$28,9,0),"") -> 114279 | I36: =IFERROR(H36*F36,"") -> 114279 | J36: =IFERROR(I36*8%,"") -> 9142.32 | K36: =IFERROR(J36+I36,"") -> 123421.32
B37: CỬA HÀNG: LÊ VĂN LƯƠNG (1040) | G37: I-02409810 | H37: =IFERROR(VLOOKUP(B37,'TONG HOP'!$B$18:$J$28,9,0),"") | I37: =IFERROR(H37*F37,"") | J37: =IFERROR(I37*8%,"") | K37: =IFERROR(J37+I37,"")
A38: 1 | B38: TAI HEO SỐT THÁI 250G | C38: 8938529045467 | D38: 315117 | E38: TÚI | F38: 4 | H38: =IFERROR(VLOOKUP(B38,'TONG HOP'!$B$18:$J$28,9,0),"") -> 35389 | I38: =IFERROR(H38*F38,"") -> 141556 | J38: =IFERROR(I38*8%,"") -> 11324.48 | K38: =IFERROR(J38+I38,"") -> 152880.48
A39: 2 | B39: CHÂN GÀ SẢ TẮC 250G | C39: 8938529045443 | D39: 315116 | E39: TÚI | F39: 3 | H39: =IFERROR(VLOOKUP(B39,'TONG HOP'!$B$18:$J$28,9,0),"") -> 36750 | I39: =IFERROR(H39*F39,"") -> 110250 | J39: =IFERROR(I39*8%,"") -> 8820 | K39: =IFERROR(J39+I39,"") -> 119070
B40: CỬA HÀNG: AN BÌNH (1226) | G40: I-02410059 | H40: =IFERROR(VLOOKUP(B40,'TONG HOP'!$B$18:$J$28,9,0),"") | I40: =IFERROR(H40*F40,"") | J40: =IFERROR(I40*8%,"") | K40: =IFERROR(J40+I40,"")
A41: 1 | B41: TAI HEO MUỐI 200G | C41: 8938529045627 | D41: 236665 | E41: EA | F41: 2 | H41: =IFERROR(VLOOKUP(B41,'TONG HOP'!$B$18:$J$28,9,0),"") -> 55595 | I41: =IFERROR(H41*F41,"") -> 111190 | J41: =IFERROR(I41*8%,"") -> 8895.2 | K41: =IFERROR(J41+I41,"") -> 120085.2
B42: CỬA HÀNG: CỦ CHI 9 (1137) | G42: I-02412239 | H42: =IFERROR(VLOOKUP(B42,'TONG HOP'!$B$18:$J$28,9,0),"") | I42: =IFERROR(H42*F42,"") | J42: =IFERROR(I42*8%,"") | K42: =IFERROR(J42+I42,"")
A43: 1 | B43: GIÒ TAI LƯỠI XÀO 250G | D43: 261126 | E43: EA | F43: 5 | H43: =IFERROR(VLOOKUP(B43,'TONG HOP'!$B$18:$J$28,9,0),"") -> 50182 | I43: =IFERROR(H43*F43,"") -> 250910 | J43: =IFERROR(I43*8%,"") -> 20072.8 | K43: =IFERROR(J43+I43,"") -> 270982.8
A44: 2 | B44: TAI HEO MUỐI 200G | D44: 236665 | E44: EA | F44: 2 | H44: =IFERROR(VLOOKUP(B44,'TONG HOP'!$B$18:$J$28,9,0),"") -> 55595 | I44: =IFERROR(H44*F44,"") -> 111190 | J44: =IFERROR(I44*8%,"") -> 8895.2 | K44: =IFERROR(J44+I44,"") -> 120085.2
A45: 1 | B45: CHÂN GÀ SẢ TẮC 250G | D45: 315116 | E45: TÚI | F45: 3 | G45: I-02426764 | H45: =IFERROR(VLOOKUP(B45,'TONG HOP'!$B$18:$J$28,9,0),"") -> 36750 | I45: =IFERROR(H45*F45,"") -> 110250 | J45: =IFERROR(I45*8%,"") -> 8820 | K45: =IFERROR(J45+I45,"") -> 119070
A46: 2 | B46: TAI HEO SỐT THÁI 250G | C46: 8938529045467 | D46: 315117 | E46: TÚI | F46: 4 | H46: =IFERROR(VLOOKUP(B46,'TONG HOP'!$B$18:$J$28,9,0),"") -> 35389 | I46: =IFERROR(H46*F46,"") -> 141556 | J46: =IFERROR(I46*8%,"") -> 11324.48 | K46: =IFERROR(J46+I46,"") -> 152880.48
B47: CỬA HÀNG: LÊ VĂN LINH (1059) | G47: I-02412369 | H47: =IFERROR(VLOOKUP(B47,'TONG HOP'!$B$18:$J$28,9,0),"") | I47: =IFERROR(H47*F47,"") | J47: =IFERROR(I47*8%,"") | K47: =IFERROR(J47+I47,"")
A48: 1 | B48: GÀ MUỐI 500G | D48: 203632 | E48: EA | F48: 1 | H48: =IFERROR(VLOOKUP(B48,'TONG HOP'!$B$18:$J$28,9,0),"") -> 114279 | I48: =IFERROR(H48*F48,"") -> 114279 | J48: =IFERROR(I48*8%,"") -> 9142.32 | K48: =IFERROR(J48+I48,"") -> 123421.32
A49: 2 | B49: TAI HEO SỐT THÁI 250G | D49: 315117 | E49: TÚI | F49: 1 | H49: =IFERROR(VLOOKUP(B49,'TONG HOP'!$B$18:$J$28,9,0),"") -> 35389 | I49: =IFERROR(H49*F49,"") -> 35389 | J49: =IFERROR(I49*8%,"") -> 2831.12 | K49: =IFERROR(J49+I49,"") -> 38220.12
A50: 1 | B50: CHÂN GÀ SẢ TẮC 250G | D50: 315116 | E50: TÚI | F50: 2 | G50: I-02423259 | H50: =IFERROR(VLOOKUP(B50,'TONG HOP'!$B$18:$J$28,9,0),"") -> 36750 | I50: =IFERROR(H50*F50,"") -> 73500 | J50: =IFERROR(I50*8%,"") -> 5880 | K50: =IFERROR(J50+I50,"") -> 79380
A51: 2 | B51: TAI HEO SỐT THÁI 250G | D51: 315117 | E51: TÚI | F51: 1 | H51: =IFERROR(VLOOKUP(B51,'TONG HOP'!$B$18:$J$28,9,0),"") -> 35389 | I51: =IFERROR(H51*F51,"") -> 35389 | J51: =IFERROR(I51*8%,"") -> 2831.12 | K51: =IFERROR(J51+I51,"") -> 38220.12
B52: CỬA HÀNG: TRẦN VĂN MƯỜI (1120) | G52: I-02414532 | H52: =IFERROR(VLOOKUP(B52,'TONG HOP'!$B$18:$J$28,9,0),"") | I52: =IFERROR(H52*F52,"") | J52: =IFERROR(I52*8%,"") | K52: =IFERROR(J52+I52,"")
A53: 1 | B53: CHÂN GÀ SẢ TẮC 250G | C53: 8938529045443 | D53: 315116 | E53: TÚI | F53: 2 | H53: =IFERROR(VLOOKUP(B53,'TONG HOP'!$B$18:$J$28,9,0),"") -> 36750 | I53: =IFERROR(H53*F53,"") -> 73500 | J53: =IFERROR(I53*8%,"") -> 5880 | K53: =IFERROR(J53+I53,"") -> 79380
A54: 2 | B54: TAI HEO SỐT THÁI 250G | C54: 8938529045467 | D54: 315117 | E54: TÚI | F54: 3 | H54: =IFERROR(VLOOKUP(B54,'TONG HOP'!$B$18:$J$28,9,0),"") -> 35389 | I54: =IFERROR(H54*F54,"") -> 106167 | J54: =IFERROR(I54*8%,"") -> 8493.36 | K54: =IFERROR(J54+I54,"") -> 114660.36
A55: 3 | B55: MỌC NẤM HƯƠNG 250G | C55: 8938529045047 | D55: 261127 | E55: EA | F55: 3 | H55: =IFERROR(VLOOKUP(B55,'TONG HOP'!$B$18:$J$28,9,0),"") -> 46000 | I55: =IFERROR(H55*F55,"") -> 138000 | J55: =IFERROR(I55*8%,"") -> 11040 | K55: =IFERROR(J55+I55,"") -> 149040
B56: CỬA HÀNG: KHA VẠN CÂN (1011) | G56: I-02416431 | H56: =IFERROR(VLOOKUP(B56,'TONG HOP'!$B$18:$J$28,9,0),"") | I56: =IFERROR(H56*F56,"") | J56: =IFERROR(I56*8%,"") | K56: =IFERROR(J56+I56,"")
A57: 1 | B57: GIÒ TAI LƯỠI XÀO 250G | D57: 261126 | E57: EA | F57: 3 | H57: =IFERROR(VLOOKUP(B57,'TONG HOP'!$B$18:$J$28,9,0),"") -> 50182 | I57: =IFERROR(H57*F57,"") -> 150546 | J57: =IFERROR(I57*8%,"") -> 12043.68 | K57: =IFERROR(J57+I57,"") -> 162589.68
B58: CỬA HÀNG: LÊ THỊ HOA (1170) | G58: I-02420204 | H58: =IFERROR(VLOOKUP(B58,'TONG HOP'!$B$18:$J$28,9,0),"") | I58: =IFERROR(H58*F58,"") | J58: =IFERROR(I58*8%,"") | K58: =IFERROR(J58+I58,"")
A59: 1 | B59: CHÂN GÀ SẢ TẮC 250G | D59: 315116 | E59: TÚI | F59: 1 | H59: =IFERROR(VLOOKUP(B59,'TONG HOP'!$B$18:$J$28,9,0),"") -> 36750 | I59: =IFERROR(H59*F59,"") -> 36750 | J59: =IFERROR(I59*8%,"") -> 2940 | K59: =IFERROR(J59+I59,"") -> 39690
B60: CỬA HÀNG: THẠCH LAM (1027) | G60: I-02422915 | H60: =IFERROR(VLOOKUP(B60,'TONG HOP'!$B$18:$J$28,9,0),"") | I60: =IFERROR(H60*F60,"") | J60: =IFERROR(I60*8%,"") | K60: =IFERROR(J60+I60,"")
A61: 1 | B61: GIÒ TAI LƯỠI XÀO 250G | C61: 8938529045030 | D61: 261126 | E61: EA | F61: 1 | H61: =IFERROR(VLOOKUP(B61,'TONG HOP'!$B$18:$J$28,9,0),"") -> 50182 | I61: =IFERROR(H61*F61,"") -> 50182 | J61: =IFERROR(I61*8%,"") -> 4014.56 | K61: =IFERROR(J61+I61,"") -> 54196.56
A62: 2 | B62: MỌC NẤM HƯƠNG 250G | C62: 8938529045047 | D62: 261127 | E62: EA | F62: 2 | H62: =IFERROR(VLOOKUP(B62,'TONG HOP'!$B$18:$J$28,9,0),"") -> 46000 | I62: =IFERROR(H62*F62,"") -> 92000 | J62: =IFERROR(I62*8%,"") -> 7360 | K62: =IFERROR(J62+I62,"") -> 99360
A63: 3 | B63: GÀ MUỐI 500G | C63: 8938529045924 | D63: 203632 | E63: EA | F63: 2 | H63: =IFERROR(VLOOKUP(B63,'TONG HOP'!$B$18:$J$28,9,0),"") -> 114279 | I63: =IFERROR(H63*F63,"") -> 228558 | J63: =IFERROR(I63*8%,"") -> 18284.64 | K63: =IFERROR(J63+I63,"") -> 246842.64
A64: 1 | B64: TAI HEO MUỐI 200G | C64: 8938529045627 | D64: 236665 | E64: EA | F64: 1 | G64: I-02434292 | H64: =IFERROR(VLOOKUP(B64,'TONG HOP'!$B$18:$J$28,9,0),"") -> 55595 | I64: =IFERROR(H64*F64,"") -> 55595 | J64: =IFERROR(I64*8%,"") -> 4447.6 | K64: =IFERROR(J64+I64,"") -> 60042.6
B65: CỬA HÀNG: CỦ CHI 5 (1117) | G65: I-02424445 | H65: =IFERROR(VLOOKUP(B65,'TONG HOP'!$B$18:$J$28,9,0),"") | I65: =IFERROR(H65*F65,"") | J65: =IFERROR(I65*8%,"") | K65: =IFERROR(J65+I65,"")
A66: 1 | B66: CHÂN GÀ SẢ TẮC 250G | D66: 315116 | E66: TÚI | F66: 2 | H66: =IFERROR(VLOOKUP(B66,'TONG HOP'!$B$18:$J$28,9,0),"") -> 36750 | I66: =IFERROR(H66*F66,"") -> 73500 | J66: =IFERROR(I66*8%,"") -> 5880 | K66: =IFERROR(J66+I66,"") -> 79380
A67: 2 | B67: TAI HEO SỐT THÁI 250G | D67: 315117 | E67: TÚI | F67: 3 | H67: =IFERROR(VLOOKUP(B67,'TONG HOP'!$B$18:$J$28,9,0),"") -> 35389 | I67: =IFERROR(H67*F67,"") -> 106167 | J67: =IFERROR(I67*8%,"") -> 8493.36 | K67: =IFERROR(J67+I67,"") -> 114660.36
B68: CỬA HÀNG: NGUYỄN THỊ BÚP (1189) | G68: I-02425374 | H68: =IFERROR(VLOOKUP(B68,'TONG HOP'!$B$18:$J$28,9,0),"") | I68: =IFERROR(H68*F68,"") | J68: =IFERROR(I68*8%,"") | K68: =IFERROR(J68+I68,"")
A69: 1 | B69: CHÂN GÀ SẢ TẮC 250G | C69: 8938529045443 | D69: 315116 | E69: TÚI | F69: 3 | H69: =IFERROR(VLOOKUP(B69,'TONG HOP'!$B$18:$J$28,9,0),"") -> 36750 | I69: =IFERROR(H69*F69,"") -> 110250 | J69: =IFERROR(I69*8%,"") -> 8820 | K69: =IFERROR(J69+I69,"") -> 119070
A70: 2 | B70: TAI HEO SỐT THÁI 250G | C70: 8938529045467 | D70: 315117 | E70: TÚI | F70: 7 | H70: =IFERROR(VLOOKUP(B70,'TONG HOP'!$B$18:$J$28,9,0),"") -> 35389 | I70: =IFERROR(H70*F70,"") -> 247723 | J70: =IFERROR(I70*8%,"") -> 19817.84 | K70: =IFERROR(J70+I70,"") -> 267540.84
B71: CỬA HÀNG: QUANG TRUNG (1008) | G71: I-02426611 | H71: =IFERROR(VLOOKUP(B71,'TONG HOP'!$B$18:$J$28,9,0),"") | I71: =IFERROR(H71*F71,"") | J71: =IFERROR(I71*8%,"") | K71: =IFERROR(J71+I71,"")
A72: 1 | B72: TAI HEO MUỐI 200G | C72: 8938529045627 | D72: 236665 | E72: EA | F72: 1 | H72: =IFERROR(VLOOKUP(B72,'TONG HOP'!$B$18:$J$28,9,0),"") -> 55595 | I72: =IFERROR(H72*F72,"") -> 55595 | J72: =IFERROR(I72*8%,"") -> 4447.6 | K72: =IFERROR(J72+I72,"") -> 60042.6
A73: 2 | B73: TAI HEO SỐT THÁI 250G | C73: 8938529045467 | D73: 315117 | E73: TÚI | F73: 2 | H73: =IFERROR(VLOOKUP(B73,'TONG HOP'!$B$18:$J$28,9,0),"") -> 35389 | I73: =IFERROR(H73*F73,"") -> 70778 | J73: =IFERROR(I73*8%,"") -> 5662.24 | K73: =IFERROR(J73+I73,"") -> 76440.24
A74: 3 | B74: CHÂN GÀ SẢ TẮC 250G | C74: 8938529045443 | D74: 315116 | E74: TÚI | F74: 2 | H74: =IFERROR(VLOOKUP(B74,'TONG HOP'!$B$18:$J$28,9,0),"") -> 36750 | I74: =IFERROR(H74*F74,"") -> 73500 | J74: =IFERROR(I74*8%,"") -> 5880 | K74: =IFERROR(J74+I74,"") -> 79380
A75: 1 | B75: GÀ MUỐI 500G | C75: 8938529045924 | D75: 203632 | E75: EA | F75: 1 | G75: I-02434505 | H75: =IFERROR(VLOOKUP(B75,'TONG HOP'!$B$18:$J$28,9,0),"") -> 114279 | I75: =IFERROR(H75*F75,"") -> 114279 | J75: =IFERROR(I75*8%,"") -> 9142.32 | K75: =IFERROR(J75+I75,"") -> 123421.32
A76: 2 | B76: TAI HEO SỐT THÁI 250G | C76: 8938529045467 | D76: 315117 | E76: TÚI | F76: 1 | H76: =IFERROR(VLOOKUP(B76,'TONG HOP'!$B$18:$J$28,9,0),"") -> 35389 | I76: =IFERROR(H76*F76,"") -> 35389 | J76: =IFERROR(I76*8%,"") -> 2831.12 | K76: =IFERROR(J76+I76,"") -> 38220.12
B77: CỬA HÀNG: NGUYỄN THƯỢNG HIỀN (1109) | G77: I-02431456 | H77: =IFERROR(VLOOKUP(B77,'TONG HOP'!$B$18:$J$28,9,0),"") | I77: =IFERROR(H77*F77,"") | J77: =IFERROR(I77*8%,"") | K77: =IFERROR(J77+I77,"")
A78: 1 | B78: CHÂN GÀ SẢ TẮC 250G | D78: 315116 | E78: TÚI | F78: 1 | H78: =IFERROR(VLOOKUP(B78,'TONG HOP'!$B$18:$J$28,9,0),"") -> 36750 | I78: =IFERROR(H78*F78,"") -> 36750 | J78: =IFERROR(I78*8%,"") -> 2940 | K78: =IFERROR(J78+I78,"") -> 39690
B79: CỬA HÀNG: LÊ VĂN LƯƠNG 1 (1040) | G79: I-02431209 | H79: =IFERROR(VLOOKUP(B79,'TONG HOP'!$B$18:$J$28,9,0),"") | I79: =IFERROR(H79*F79,"") | J79: =IFERROR(I79*8%,"") | K79: =IFERROR(J79+I79,"")
A80: 1 | B80: MỌC NẤM HƯƠNG 250G | C80: 8938529045047 | D80: 261127 | E80: EA | F80: 4 | H80: =IFERROR(VLOOKUP(B80,'TONG HOP'!$B$18:$J$28,9,0),"") -> 46000 | I80: =IFERROR(H80*F80,"") -> 184000 | J80: =IFERROR(I80*8%,"") -> 14720 | K80: =IFERROR(J80+I80,"") -> 198720
A81: 2 | B81: CHÂN GÀ SẢ TẮC 250G | C81: 8938529045443 | D81: 315116 | E81: TÚI | F81: 2 | H81: =IFERROR(VLOOKUP(B81,'TONG HOP'!$B$18:$J$28,9,0),"") -> 36750 | I81: =IFERROR(H81*F81,"") -> 73500 | J81: =IFERROR(I81*8%,"") -> 5880 | K81: =IFERROR(J81+I81,"") -> 79380
A82: 3 | B82: GÀ MUỐI 500G | C82: 8938529045924 | D82: 203632 | E82: EA | F82: 3 | H82: =IFERROR(VLOOKUP(B82,'TONG HOP'!$B$18:$J$28,9,0),"") -> 114279 | I82: =IFERROR(H82*F82,"") -> 342837 | J82: =IFERROR(I82*8%,"") -> 27426.96 | K82: =IFERROR(J82+I82,"") -> 370263.96
A83: 4 | B83: GIÒ TAI LƯỠI XÀO 250G | C83: 8938529045030 | D83: 261126 | E83: EA | F83: 1 | H83: =IFERROR(VLOOKUP(B83,'TONG HOP'!$B$18:$J$28,9,0),"") -> 50182 | I83: =IFERROR(H83*F83,"") -> 50182 | J83: =IFERROR(I83*8%,"") -> 4014.56 | K83: =IFERROR(J83+I83,"") -> 54196.56
A84: 5 | B84: TAI HEO MUỐI 200G | C84: 8938529045627 | D84: 236665 | E84: EA | F84: 2 | H84: =IFERROR(VLOOKUP(B84,'TONG HOP'!$B$18:$J$28,9,0),"") -> 55595 | I84: =IFERROR(H84*F84,"") -> 111190 | J84: =IFERROR(I84*8%,"") -> 8895.2 | K84: =IFERROR(J84+I84,"") -> 120085.2
B85: CỬA HÀNG: LÒ LU (1184) | G85: I-02431591 | H85: =IFERROR(VLOOKUP(B85,'TONG HOP'!$B$18:$J$28,9,0),"") | I85: =IFERROR(H85*F85,"") | J85: =IFERROR(I85*8%,"") | K85: =IFERROR(J85+I85,"")
A86: 1 | B86: GÀ MUỐI 500G | C86: 8938529045924 | D86: 203632 | E86: EA | F86: 1 | H86: =IFERROR(VLOOKUP(B86,'TONG HOP'!$B$18:$J$28,9,0),"") -> 114279 | I86: =IFERROR(H86*F86,"") -> 114279 | J86: =IFERROR(I86*8%,"") -> 9142.32 | K86: =IFERROR(J86+I86,"") -> 123421.32
A87: 2 | B87: TAI HEO SỐT THÁI 250G | C87: 8938529045467 | D87: 315117 | E87: TÚI | F87: 1 | H87: =IFERROR(VLOOKUP(B87,'TONG HOP'!$B$18:$J$28,9,0),"") -> 35389 | I87: =IFERROR(H87*F87,"") -> 35389 | J87: =IFERROR(I87*8%,"") -> 2831.12 | K87: =IFERROR(J87+I87,"") -> 38220.12
A88: 3 | B88: CHÂN GÀ SẢ TẮC 250G | C88: 8938529045443 | D88: 315116 | E88: TÚI | F88: 7 | H88: =IFERROR(VLOOKUP(B88,'TONG HOP'!$B$18:$J$28,9,0),"") -> 36750 | I88: =IFERROR(H88*F88,"") -> 257250 | J88: =IFERROR(I88*8%,"") -> 20580 | K88: =IFERROR(J88+I88,"") -> 277830
B89: CỬA HÀNG: CỦ CHI 13 (1211) | G89: I-02432644 | H89: =IFERROR(VLOOKUP(B89,'TONG HOP'!$B$18:$J$28,9,0),"") | I89: =IFERROR(H89*F89,"") | J89: =IFERROR(I89*8%,"") | K89: =IFERROR(J89+I89,"")
A90: 1 | B90: TAI HEO SỐT THÁI 250G | D90: 315117 | E90: TÚI | F90: 2 | H90: =IFERROR(VLOOKUP(B90,'TONG HOP'!$B$18:$J$28,9,0),"") -> 35389 | I90: =IFERROR(H90*F90,"") -> 70778 | J90: =IFERROR(I90*8%,"") -> 5662.24 | K90: =IFERROR(J90+I90,"") -> 76440.24
A91: 2 | B91: TAI HEO MUỐI 200G | D91: 236665 | E91: EA | F91: 1 | H91: =IFERROR(VLOOKUP(B91,'TONG HOP'!$B$18:$J$28,9,0),"") -> 55595 | I91: =IFERROR(H91*F91,"") -> 55595 | J91: =IFERROR(I91*8%,"") -> 4447.6 | K91: =IFERROR(J91+I91,"") -> 60042.6
B92: CỬA HÀNG: CỦ CHI 1 (1052) | G92: I-02432655 | H92: =IFERROR(VLOOKUP(B92,'TONG HOP'!$B$18:$J$28,9,0),"") | I92: =IFERROR(H92*F92,"") | J92: =IFERROR(I92*8%,"") | K92: =IFERROR(J92+I92,"")
A93: 1 | B93: GÀ MUỐI 500G | D93: 203632 | E93: EA | F93: 6 | H93: =IFERROR(VLOOKUP(B93,'TONG HOP'!$B$18:$J$28,9,0),"") -> 114279 | I93: =IFERROR(H93*F93,"") -> 685674 | J93: =IFERROR(I93*8%,"") -> 54853.92 | K93: =IFERROR(J93+I93,"") -> 740527.92
A94: 2 | B94: TAI HEO MUỐI 200G | D94: 236665 | E94: EA | F94: 1 | H94: =IFERROR(VLOOKUP(B94,'TONG HOP'!$B$18:$J$28,9,0),"") -> 55595 | I94: =IFERROR(H94*F94,"") -> 55595 | J94: =IFERROR(I94*8%,"") -> 4447.6 | K94: =IFERROR(J94+I94,"") -> 60042.6
B95: CỬA HÀNG: ĐÌNH PHONG PHÚ 1 (1129) | G95: I-02382289 | H95: =IFERROR(VLOOKUP(B95,'TONG HOP'!$B$18:$J$28,9,0),"") | I95: =IFERROR(H95*F95,"") | J95: =IFERROR(I95*8%,"") | K95: =IFERROR(J95+I95,"")
A96: 1 | B96: CHÂN GIÒ HEO MUỐI 500G | D96: 203634 | E96: EA | F96: 2 | H96: =IFERROR(VLOOKUP(B96,'TONG HOP'!$B$18:$J$28,9,0),"") -> 119066 | I96: =IFERROR(H96*F96,"") -> 238132 | J96: =IFERROR(I96*8%,"") -> 19050.56 | K96: =IFERROR(J96+I96,"") -> 257182.56
B97: CỬA HÀNG: NGUYỄN THỊ KIỂU 2 (1213) | G97: I-02387107 | H97: =IFERROR(VLOOKUP(B97,'TONG HOP'!$B$18:$J$28,9,0),"") | I97: =IFERROR(H97*F97,"") | J97: =IFERROR(I97*8%,"") | K97: =IFERROR(J97+I97,"")
A98: 1 | B98: GÀ MUỐI 500G | C98: 8938529045924 | D98: 203632 | E98: EA | F98: 1 | H98: =IFERROR(VLOOKUP(B98,'TONG HOP'!$B$18:$J$28,9,0),"") -> 114279 | I98: =IFERROR(H98*F98,"") -> 114279 | J98: =IFERROR(I98*8%,"") -> 9142.32 | K98: =IFERROR(J98+I98,"") -> 123421.32
B99: CỬA HÀNG: THỐNG NHẤT 1 (1032) | G99: I-02387261 | H99: =IFERROR(VLOOKUP(B99,'TONG HOP'!$B$18:$J$28,9,0),"") | I99: =IFERROR(H99*F99,"") | J99: =IFERROR(I99*8%,"") | K99: =IFERROR(J99+I99,"")
A100: 1 | B100: CHÂN GIÒ HEO MUỐI 300G | D100: 203630 | E100: EA | F100: 1 | H100: =IFERROR(VLOOKUP(B100,'TONG HOP'!$B$18:$J$28,9,0),"") -> 73431 | I100: =IFERROR(H100*F100,"") -> 73431 | J100: =IFERROR(I100*8%,"") -> 5874.48 | K100: =IFERROR(J100+I100,"") -> 79305.48
A101: 2 | B101: CHÂN GÀ SẢ TẮC 250G | D101: 315116 | E101: TÚI | F101: 4 | H101: =IFERROR(VLOOKUP(B101,'TONG HOP'!$B$18:$J$28,9,0),"") -> 36750 | I101: =IFERROR(H101*F101,"") -> 147000 | J101: =IFERROR(I101*8%,"") -> 11760 | K101: =IFERROR(J101+I101,"") -> 158760
A102: 3 | B102: TAI HEO SỐT THÁI 250G | D102: 315117 | E102: TÚI | F102: 3 | H102: =IFERROR(VLOOKUP(B102,'TONG HOP'!$B$18:$J$28,9,0),"") -> 35389 | I102: =IFERROR(H102*F102,"") -> 106167 | J102: =IFERROR(I102*8%,"") -> 8493.36 | K102: =IFERROR(J102+I102,"") -> 114660.36
A103: 1 | B103: TAI HEO SỐT THÁI 250G | C103: 8938529045467 | D103: 315117 | E103: TÚI | F103: 4 | G103: I-02389054 | H103: =IFERROR(VLOOKUP(B103,'TONG HOP'!$B$18:$J$28,9,0),"") -> 35389 | I103: =IFERROR(H103*F103,"") -> 141556 | J103: =IFERROR(I103*8%,"") -> 11324.48 | K103: =IFERROR(J103+I103,"") -> 152880.48
A104: 2 | B104: CHÂN GÀ SẢ TẮC 250G | C104: 8938529045443 | D104: 315116 | E104: TÚI | F104: 1 | H104: =IFERROR(VLOOKUP(B104,'TONG HOP'!$B$18:$J$28,9,0),"") -> 36750 | I104: =IFERROR(H104*F104,"") -> 36750 | J104: =IFERROR(I104*8%,"") -> 2940 | K104: =IFERROR(J104+I104,"") -> 39690
...

Sheet CHI TIẾT (2)
G1: I-02300800
A2: TRUNG TÂM ĐIỀU HÀNH SATRAFOODS | D2: CỘNG HÒA XÃ HỘI CHỦ NGHĨA VIỆT NAM
D3: Độc lập – Tự do – Hạnh phúc
D4: ----------oOo-------------
A6: BẢNG KÊ XUẤT TRẢ HÀNG HÓA
A8: Căn cứ vào:
A9: + | B9: thời hạn cận date của hàng trả;
A10: + | B10: tình trạng bán chậm của hàng trả;
A11: + | B11: yêu cầu khác … theo thỏa thuận giữa Satrafoods với TTĐH
A13: Hôm nay ngày : 02.03.2026 | C13: ,Cửa hàng chúng tôi đề nghị được trả hàng cho Nhà Cung cấp của TTĐH:
A14: Hai bên đồng ý giao và nhận các loại hàng hóa sau:
A15: NHÀ CUNG CẤP: NGỌC THƠM (VD-00000426) | C15: với các nội dung sau:
B17: Tên, nhãn hiệu, quy cách, phẩm | F17: Số lượng yêu cầu | G17: Số tham chiếu - Phiếu Xuất kho số
A18: STT | B18: chất vật tư, dụng cụ sản phẩm, hàng hóa | C18: Barcode | D18: Mã số | E18: Đơn vị tính
A19: A | B19: B | C19: C | D19: D | E19: E
B20: CỬA HÀNG: THỐNG NHẤT 1 (1032) | G20: I-02409003 | H20: =+G20 -> I-02409003 | J20: THÁNG 2.26
A21: 1 | B21: GÀ MUỐI 500G | C21: 8938529045924 | D21: 203632 | E21: EA | F21: 1
A22: 2 | B22: CHÂN GIÒ HEO MUỐI 300G | C22: 8938529045856 | D22: 203630 | E22: EA | F22: 1
B23: CỬA HÀNG: BÙI CÔNG TRỪNG (1142) | G23: I-02419290 | H23: =+G23 -> I-02419290
A24: 1 | B24: CHÂN GIÒ HEO MUỐI 300G | C24: 8938529045856 | D24: 203630 | E24: EA | F24: 1
A25: 2 | B25: CHÂN GIÒ HEO MUỐI 500G | D25: 203634 | E25: EA | F25: 7
A26: 3 | B26: CHÂN GÀ SẢ TẮC 250G | D26: 315116 | E26: TÚI | F26: 1
A27: 4 | B27: TAI HEO SỐT THÁI 250G | D27: 315117 | E27: TÚI | F27: 1
A28: 5 | B28: CHÂN GIÒ HEO MUỐI VỊ TAYAKI TÚI 450G | C28: 8938529045832 | D28: 317010 | E28: TÚI | F28: 1
A29: 1 | B29: TAI HEO MUỐI 400G | D29: 203631 | E29: EA | F29: 5 | G29: I-02432816 | H29: =+G29 -> I-02432816
A30: 2 | B30: GÀ MUỐI 500G | D30: 203632 | E30: EA | F30: 1
A31: 3 | B31: CHÂN GIÒ HEO MUỐI 500G | D31: 203634 | E31: EA | F31: 2
A32: 4 | B32: TAI HEO MUỐI 200G | D32: 236665 | E32: EA | F32: 3
A33: 5 | B33: GIÒ TAI LƯỠI XÀO 250G | D33: 261126 | E33: EA | F33: 2
A34: 6 | B34: TAI HEO SỐT THÁI 250G | D34: 315117 | E34: TÚI | F34: 1
A35: 7 | B35: CHÂN GIÒ HEO MUỐI VỊ TAYAKI TÚI 450G | C35: 8938529045832 | D35: 317010 | E35: TÚI | F35: 2
A36: 8 | B36: GÀ MUỐI HUN CỎ XẠ HƯƠNG TÚI 500G | C36: 8938529045795 | D36: 317011 | E36: TÚI | F36: 1
B37: CỬA HÀNG: THẠCH LAM (1027) | G37: I-02422915 | H37: =+G37 -> I-02422915
A38: 1 | B38: GIÒ TAI LƯỠI XÀO 250G | C38: 8938529045030 | D38: 261126 | E38: EA | F38: 1
A39: 2 | B39: MỌC NẤM HƯƠNG 250G | C39: 8938529045047 | D39: 261127 | E39: EA | F39: 2
A40: 3 | B40: GÀ MUỐI 500G | C40: 8938529045924 | D40: 203632 | E40: EA | F40: 2
B41: CỬA HÀNG: NGUYỄN THỊ BÚP (1189) | G41: I-02425374 | H41: =+G41 -> I-02425374
A42: 1 | B42: CHÂN GÀ SẢ TẮC 250G | C42: 8938529045443 | D42: 315116 | E42: TÚI | F42: 3
A43: 2 | B43: TAI HEO SỐT THÁI 250G | C43: 8938529045467 | D43: 315117 | E43: TÚI | F43: 7
B44: CỬA HÀNG: ĐÌNH PHONG PHÚ 1 (1129) | G44: I-02382289 | H44: =+G44 -> I-02382289 | J44: THÁNG 1.26
A45: 1 | B45: CHÂN GIÒ HEO MUỐI 500G | D45: 203634 | E45: EA | F45: 2
B46: CỬA HÀNG: THỐNG NHẤT 1 (1032) | G46: I-02387261 | H46: =+G46 -> I-02387261
A47: 1 | B47: CHÂN GIÒ HEO MUỐI 300G | D47: 203630 | E47: EA | F47: 1
A48: 2 | B48: CHÂN GÀ SẢ TẮC 250G | D48: 315116 | E48: TÚI | F48: 4
A49: 3 | B49: TAI HEO SỐT THÁI 250G | D49: 315117 | E49: TÚI | F49: 3
A50: 1 | B50: TAI HEO SỐT THÁI 250G | C50: 8938529045467 | D50: 315117 | E50: TÚI | F50: 4 | G50: I-02389054 | H50: =+G50 -> I-02389054
A51: 2 | B51: CHÂN GÀ SẢ TẮC 250G | C51: 8938529045443 | D51: 315116 | E51: TÚI | F51: 1
B52: CỬA HÀNG: TÂN CẢNG (1217) | G52: I-02387185 | H52: =+G52 -> I-02387185
A53: 1 | B53: TAI HEO SỐT THÁI 250G | D53: 315117 | E53: TÚI | F53: 1
B54: CỬA HÀNG: ĐƯỜNG 5C (1132) | G54: I-02387522 | H54: =+G54 -> I-02387522
A55: 1 | B55: TAI HEO SỐT THÁI 250G | C55: 8938529045467 | D55: 315117 | E55: TÚI | F55: 1
A56: 2 | B56: CHÂN GÀ SẢ TẮC 250G | C56: 8938529045443 | D56: 315116 | E56: TÚI | F56: 3
B57: CỬA HÀNG: DƯƠNG CÔNG KHI (1147) | G57: I-02385786 | H57: =+G57 -> I-02385786
A58: 1 | B58: CHÂN GÀ SẢ TẮC 250G | D58: 315116 | E58: TÚI | F58: 2
A59: 2 | B59: TAI HEO SỐT THÁI 250G | D59: 315117 | E59: TÚI | F59: 1
B60: CỬA HÀNG: LÊ VĂN LINH (1059) | G60: I-02386252 | H60: =+G60 -> I-02386252
A61: 1 | B61: CHÂN GÀ SẢ TẮC 250G | D61: 315116 | E61: TÚI | F61: 1
A62: 2 | B62: TAI HEO SỐT THÁI 250G | D62: 315117 | E62: TÚI | F62: 1
B63: CỬA HÀNG: CỦ CHI 9 (1137) | G63: I-02390030 | H63: =+G63 -> I-02390030
A64: 1 | B64: GÀ MUỐI 500G | D64: 203632 | E64: EA | F64: 3
B65: CỬA HÀNG: ĐƯỜNG SỐ 41 (1019) | G65: I-02389842 | H65: =+G65 -> I-02389842
A66: 1 | B66: CHÂN GÀ SẢ TẮC 250G | D66: 315116 | E66: TÚI | F66: 4
A67: 2 | B67: TAI HEO SỐT THÁI 250G | D67: 315117 | E67: TÚI | F67: 5
A68: 3 | B68: GÀ MUỐI 500G | D68: 203632 | E68: EA | F68: 1
B69: TỔNG CỘNG | F69: =SUM(F20:F68) -> 83
H73: I-02409003
H74: I-02419290
H75: I-02432816
H76: I-02422915
H77: I-02425374
H78: I-02382289
H79: I-02387261
H80: I-02389054
H81: I-02387185
H82: I-02387522
H83: I-02385786
H84: I-02386252
... H86: I-02389842

Sheet TONG HOP
A1: TRUNG TÂM ĐIỀU HÀNH SATRAFOODS | G1: CỘNG HÒA XÃ HỘI CHỦ NGHĨA VIỆT NAM
G2: Độc lập – Tự do – Hạnh phúc | H2: Độc lập – Tự do – Hạnh phúc
H3: ----------oOo-------------
A4: BIÊN BẢN XUẤT TRẢ HÀNG HÓA
A5: Hôm nay, ngày 02 tháng 03 năm 2026, với sự chứng kiến của:
A6: Đại diện bên giao: KHO TTĐH SATRAFOODS
A7: Ông (bà): NGUYỄN THỊ THU
A8: Địa chỉ: 7A/1 THÀNH THÁI, PHƯỜNG DIÊN HỒNG, TPHCM
A9: Đại diện bên nhận: CÔNG TY TNHH MỘT THÀNH VIÊN THƯƠNG MẠI VÀ DỊCH VỤ NGỌC THƠM (VD-00000426)
A10: Ông (bà):
A11: Địa chỉ: 12/14/18 Đường 49, khu phố 7, Phường Hiệp Bình, Thành phố Hồ Chí Minh,VNM
A12: Mã số thuế: 0309391503
A13: Lý do xuất trả hàng: CẬN DATE-NCC LẤY HÀNG TẠI CH THÁNG 02/2026
A14: Hai bên đồng ý giao và nhận các loại hàng hóa sau: | I14: =SUM(I18:I28) -> 246
A16: STT | B16: TÊN HÀNG | C16: MÃ HÀNG | E16: XUẤT TRẢ THEO HĐ | G16: SỐ PO | H16: ĐVT | I16: SỐ LƯỢNG | J16: ĐƠN GIÁ | K16: THÀNH TIỀN
E17: SỐ | F17: NGÀY
A18: =ROW()-17 -> 1 | B18: CHÂN GIÒ HEO MUỐI 300G | C18: 8938508668014 ITEM: 203630 | D18: 203630 | H18: TÚI | I18: =SUMIF('CHI TIẾT'!$D$20:$F$167,'TONG HOP'!D18,'CHI TIẾT'!$F$20:$F$167) -> 11 | J18: 73431 | K18: =J18*I18 -> 807741
A19: =ROW()-17 -> 2 | B19: TAI HEO MUỐI 400G | C19: 8938508668304 ITEM: 203631 | D19: 203631 | H19: TÚI | I19: =SUMIF('CHI TIẾT'!$D$20:$F$167,'TONG HOP'!D19,'CHI TIẾT'!$F$20:$F$167) -> 8 | J19: 107205 | K19: =J19*I19 -> 857640
A20: =ROW()-17 -> 3 | B20: GÀ MUỐI 500G | C20: 8938508668212 ITEM: 203632 | D20: 203632 | H20: TÚI | I20: =SUMIF('CHI TIẾT'!$D$20:$F$167,'TONG HOP'!D20,'CHI TIẾT'!$F$20:$F$167) -> 37 | J20: 114279 | K20: =J20*I20 -> 4228323
A21: =ROW()-17 -> 4 | B21: CHÂN GIÒ HEO MUỐI 500G | C21: 8938529045238 ITEM: 203634 | D21: 203634 | H21: TÚI | I21: =SUMIF('CHI TIẾT'!$D$20:$F$167,'TONG HOP'!D21,'CHI TIẾT'!$F$20:$F$167) -> 16 | J21: 119066 | K21: =J21*I21 -> 1905056
A22: =ROW()-17 -> 5 | B22: TAI HEO MUỐI 200G | C22: 8938508668328 ITEM: 236665 | D22: 236665 | H22: TÚI | I22: =SUMIF('CHI TIẾT'!$D$20:$F$167,'TONG HOP'!D22,'CHI TIẾT'!$F$20:$F$167) -> 24 | J22: 55595 | K22: =J22*I22 -> 1334280
A23: =ROW()-17 -> 6 | B23: GIÒ TAI LƯỠI XÀO 250G | C23: 8938529045030 ITEM: 261126 | D23: 261126 | H23: TÚI | I23: =SUMIF('CHI TIẾT'!$D$20:$F$167,'TONG HOP'!D23,'CHI TIẾT'!$F$20:$F$167) -> 15 | J23: 50182 | K23: =J23*I23 -> 752730
A24: =ROW()-17 -> 7 | B24: MỌC NẤM HƯƠNG 250G | C24: 8938529045047 ITEM: 261127 | D24: 261127 | H24: TÚI | I24: =SUMIF('CHI TIẾT'!$D$20:$F$167,'TONG HOP'!D24,'CHI TIẾT'!$F$20:$F$167) -> 16 | J24: 46000 | K24: =J24*I24 -> 736000
A25: =ROW()-17 -> 8 | B25: CHÂN GÀ SẢ TẮC 250G | C25: 8938529045443 ITEM: 315116 | D25: 315116 | H25: HỘP | I25: =SUMIF('CHI TIẾT'!$D$20:$F$167,'TONG HOP'!D25,'CHI TIẾT'!$F$20:$F$167) -> 56 | J25: 36750 | K25: =J25*I25 -> 2058000
A26: =ROW()-17 -> 9 | B26: TAI HEO SỐT THÁI 250G | C26: 8938529045467 ITEM: 315117 | D26: 315117 | H26: HỘP | I26: =SUMIF('CHI TIẾT'!$D$20:$F$167,'TONG HOP'!D26,'CHI TIẾT'!$F$20:$F$167) -> 59 | J26: 35389 | K26: =J26*I26 -> 2087951
A27: =ROW()-17 -> 10 | B27: CHÂN GIÒ HEO MUỐI VỊ TAYAKI TÚI 450G | C27: 8938529045832 ITEM: 317010 | D27: 317010 | H27: TÚI | I27: =SUMIF('CHI TIẾT'!$D$20:$F$167,'TONG HOP'!D27,'CHI TIẾT'!$F$20:$F$167) -> 3 | J27: 104615 | K27: =J27*I27 -> 313845
A28: =ROW()-17 -> 11 | B28: GÀ MUỐI HUN CỎ XẠ HƯƠNG TÚI 500G | C28: 8938529045795 ITEM: 317011 | D28: 317011 | H28: TÚI | I28: =SUMIF('CHI TIẾT'!$D$20:$F$167,'TONG HOP'!D28,'CHI TIẾT'!$F$20:$F$167) -> 1 | J28: 114279 | K28: =J28*I28 -> 114279
E29: CỘNG TIỀN HÀNG | K29: =SUM(K18:K28) -> 15195845
E30: TIỀN THUẾ GTGT
B31: THUẾ SUẤT 8% | K31: =K29*0.08 -> 1215667.6
E32: TỔNG CỘNG | K32: =K29+K31 -> 16411513
B34: BẰNG CHỮ:
B35: Biên bản này được lập thành 02(hai) bản,mỗi bên giữ 01(một) bản.
A37: Phòng Kinh Doanh Tiếp Thị | C37: Phòng Tài Chính Kế Toán | G37: Đại Diện Bên Nhận(NCC) | J37: Đại Diện Bên Giao
