Workbook

Sheet CHI TIẾT (2)
G1: I-02300800
A2: TRUNG TÂM ĐIỀU HÀNH SATRAFOODS | D2: CỘNG HÒA XÃ HỘI CHỦ NGHĨA VIỆT NAM
D3: Độc lập – Tự do – Hạnh phúc
D4: ----------oOo-------------
A6: BẢNG KÊ XUẤT TRẢ HÀNG HÓA
A8: Căn cứ vào:
A9: + | B9: thời hạn cận date của hàng trả;
A10: + | B10: tình trạng bán chậm của hàng trả;
A11: + | B11: 1210
A13: Hôm nay ngày : 22.07.2026 | C13: ,Cửa hàng chúng tôi đề nghị được trả hàng cho Nhà Cung cấp của TTĐH:
A14: Hai bên đồng ý giao và nhận các loại hàng hóa sau:
A15: NHÀ CUNG CẤP: NGỌC THƠM (VD-00000426) | C15: với các nội dung sau: | E15: GỘP T6+7/2026
B17: Tên, nhãn hiệu, quy cách, phẩm | F17: Số lượng yêu cầu | G17: Số tham chiếu - Phiếu Xuất kho số
A18: STT | B18: chất vật tư, dụng cụ sản phẩm, hàng hóa | C18: Barcode | D18: Mã số | E18: Đơn vị tính
A19: A | B19: B | C19: C | D19: D | E19: E
B20: CỬA HÀNG: TRẦN NÃO (1223) | G20: I-02519895
A21: 1 | B21: GÀ MUỐI HUN CỎ XẠ HƯƠNG TÚI 500G | C21: 8938529045795 | D21: 317011 | E21: TÚI | F21: 3 | H21: =IFERROR(VLOOKUP(B21,'TONG HOP'!$B$18:$J$28,9,0),"") -> 114279 | I21: =IFERROR(H21*F21,"") -> 342837 | J21: =IFERROR(I21*8%,"") -> 27426.96 | K21: =IFERROR(J21+I21,"") -> 370263.96
A22: 2 | B22: CHÂN GIÒ HEO MUỐI VỊ TAYAKI TÚI 450G | C22: 8938529045832 | D22: 317010 | E22: TÚI | F22: 4 | H22: =IFERROR(VLOOKUP(B22,'TONG HOP'!$B$18:$J$28,9,0),"") -> 104615 | I22: =IFERROR(H22*F22,"") -> 418460 | J22: =IFERROR(I22*8%,"") -> 33476.8 | K22: =IFERROR(J22+I22,"") -> 451936.8
B23: CỬA HÀNG: NGUYỄN DUY TRINH 2 (1082) | G23: I-02518394 | H23: =IFERROR(VLOOKUP(B23,'TONG HOP'!$B$18:$J$28,9,0),"") | I23: =IFERROR(H23*F23,"") | J23: =IFERROR(I23*8%,"") | K23: =IFERROR(J23+I23,"")
A24: 1 | B24: GÀ MUỐI 500G | D24: 203632 | E24: EA | F24: 2 | H24: =IFERROR(VLOOKUP(B24,'TONG HOP'!$B$18:$J$28,9,0),"") -> 114279 | I24: =IFERROR(H24*F24,"") -> 228558 | J24: =IFERROR(I24*8%,"") -> 18284.64 | K24: =IFERROR(J24+I24,"") -> 246842.64
B25: CỬA HÀNG: LÊ THỊ HOA (1170) | G25: I-02518384 | H25: =IFERROR(VLOOKUP(B25,'TONG HOP'!$B$18:$J$28,9,0),"") | I25: =IFERROR(H25*F25,"") | J25: =IFERROR(I25*8%,"") | K25: =IFERROR(J25+I25,"")
A26: 1 | B26: GÀ MUỐI 500G | D26: 203632 | E26: EA | F26: 2 | H26: =IFERROR(VLOOKUP(B26,'TONG HOP'!$B$18:$J$28,9,0),"") -> 114279 | I26: =IFERROR(H26*F26,"") -> 228558 | J26: =IFERROR(I26*8%,"") -> 18284.64 | K26: =IFERROR(J26+I26,"") -> 246842.64
A27: 2 | B27: GÀ MUỐI HUN CỎ XẠ HƯƠNG TÚI 500G | C27: 8938529045795 | D27: 317011 | E27: TÚI | F27: 2 | H27: =IFERROR(VLOOKUP(B27,'TONG HOP'!$B$18:$J$28,9,0),"") -> 114279 | I27: =IFERROR(H27*F27,"") -> 228558 | J27: =IFERROR(I27*8%,"") -> 18284.64 | K27: =IFERROR(J27+I27,"") -> 246842.64
A28: 3 | B28: CHÂN GÀ SẢ TẮC 250G | C28: 8938529045443 | D28: 315116 | E28: TÚI | F28: 2 | H28: =IFERROR(VLOOKUP(B28,'TONG HOP'!$B$18:$J$28,9,0),"") -> 36750 | I28: =IFERROR(H28*F28,"") -> 73500 | J28: =IFERROR(I28*8%,"") -> 5880 | K28: =IFERROR(J28+I28,"") -> 79380
A29: 1 | B29: GÀ MUỐI 500G | D29: 203632 | E29: EA | F29: 2 | G29: I-02535399 | H29: =IFERROR(VLOOKUP(B29,'TONG HOP'!$B$18:$J$28,9,0),"") -> 114279 | I29: =IFERROR(H29*F29,"") -> 228558 | J29: =IFERROR(I29*8%,"") -> 18284.64 | K29: =IFERROR(J29+I29,"") -> 246842.64
A30: 2 | B30: CHÂN GÀ SẢ TẮC 250G | D30: 315116 | E30: TÚI | F30: 1 | H30: =IFERROR(VLOOKUP(B30,'TONG HOP'!$B$18:$J$28,9,0),"") -> 36750 | I30: =IFERROR(H30*F30,"") -> 36750 | J30: =IFERROR(I30*8%,"") -> 2940 | K30: =IFERROR(J30+I30,"") -> 39690
A31: 3 | B31: TAI HEO SỐT THÁI 250G | D31: 315117 | E31: TÚI | F31: 2 | H31: =IFERROR(VLOOKUP(B31,'TONG HOP'!$B$18:$J$28,9,0),"") -> 35389 | I31: =IFERROR(H31*F31,"") -> 70778 | J31: =IFERROR(I31*8%,"") -> 5662.24 | K31: =IFERROR(J31+I31,"") -> 76440.24
B32: CỬA HÀNG: TỈNH LỘ 43 (1203) | G32: I-02518497 | H32: =IFERROR(VLOOKUP(B32,'TONG HOP'!$B$18:$J$28,9,0),"") | I32: =IFERROR(H32*F32,"") | J32: =IFERROR(I32*8%,"") | K32: =IFERROR(J32+I32,"")
A33: 1 | B33: GIÒ TAI LƯỠI XÀO 250G | C33: 8938529045030 | D33: 261126 | E33: EA | F33: 2 | H33: =IFERROR(VLOOKUP(B33,'TONG HOP'!$B$18:$J$28,9,0),"") -> 54097 | I33: =IFERROR(H33*F33,"") -> 108194 | J33: =IFERROR(I33*8%,"") -> 8655.52 | K33: =IFERROR(J33+I33,"") -> 116849.52
B34: CỬA HÀNG: LÒ LU (1184) | G34: I-02520206 | H34: =IFERROR(VLOOKUP(B34,'TONG HOP'!$B$18:$J$28,9,0),"") | I34: =IFERROR(H34*F34,"") | J34: =IFERROR(I34*8%,"") | K34: =IFERROR(J34+I34,"")
A35: 1 | B35: GÀ MUỐI 500G | C35: 8938529045924 | D35: 203632 | E35: EA | F35: 1 | H35: =IFERROR(VLOOKUP(B35,'TONG HOP'!$B$18:$J$28,9,0),"") -> 114279 | I35: =IFERROR(H35*F35,"") -> 114279 | J35: =IFERROR(I35*8%,"") -> 9142.32 | K35: =IFERROR(J35+I35,"") -> 123421.32
A36: 2 | B36: CHÂN GÀ SẢ TẮC 250G | C36: 8938529045443 | D36: 315116 | E36: TÚI | F36: 2 | H36: =IFERROR(VLOOKUP(B36,'TONG HOP'!$B$18:$J$28,9,0),"") -> 36750 | I36: =IFERROR(H36*F36,"") -> 73500 | J36: =IFERROR(I36*8%,"") -> 5880 | K36: =IFERROR(J36+I36,"") -> 79380
B37: CỬA HÀNG: HOÀNG HOA THÁM (1092) | G37: I-02521285 | H37: =IFERROR(VLOOKUP(B37,'TONG HOP'!$B$18:$J$28,9,0),"") | I37: =IFERROR(H37*F37,"") | J37: =IFERROR(I37*8%,"") | K37: =IFERROR(J37+I37,"")
A38: 1 | B38: GÀ MUỐI 500G | C38: 8938529045924 | D38: 203632 | E38: EA | F38: 4 | H38: =IFERROR(VLOOKUP(B38,'TONG HOP'!$B$18:$J$28,9,0),"") -> 114279 | I38: =IFERROR(H38*F38,"") -> 457116 | J38: =IFERROR(I38*8%,"") -> 36569.28 | K38: =IFERROR(J38+I38,"") -> 493685.28
A39: 2 | B39: TAI HEO MUỐI 200G | C39: 8938529045627 | D39: 236665 | E39: EA | F39: 2 | H39: =IFERROR(VLOOKUP(B39,'TONG HOP'!$B$18:$J$28,9,0),"") -> 59932 | I39: =IFERROR(H39*F39,"") -> 119864 | J39: =IFERROR(I39*8%,"") -> 9589.12 | K39: =IFERROR(J39+I39,"") -> 129453.12
B40: CỬA HÀNG: BÙI CÔNG TRỪNG (1142) | G40: I-02523761 | H40: =IFERROR(VLOOKUP(B40,'TONG HOP'!$B$18:$J$28,9,0),"") | I40: =IFERROR(H40*F40,"") | J40: =IFERROR(I40*8%,"") | K40: =IFERROR(J40+I40,"")
A41: 1 | B41: TAI HEO MUỐI 400G | C41: 8938529045634 | D41: 203631 | E41: EA | F41: 2 | H41: =IFERROR(VLOOKUP(B41,'TONG HOP'!$B$18:$J$28,9,0),"") -> 115567 | I41: =IFERROR(H41*F41,"") -> 231134 | J41: =IFERROR(I41*8%,"") -> 18490.72 | K41: =IFERROR(J41+I41,"") -> 249624.72
A42: 2 | B42: CHÂN GIÒ HEO MUỐI 500G | C42: 8938529045238 | D42: 203634 | E42: EA | F42: 1 | H42: =IFERROR(VLOOKUP(B42,'TONG HOP'!$B$18:$J$28,9,0),"") -> 123686 | I42: =IFERROR(H42*F42,"") -> 123686 | J42: =IFERROR(I42*8%,"") -> 9894.88 | K42: =IFERROR(J42+I42,"") -> 133580.88
A43: 3 | B43: GIÒ TAI LƯỠI XÀO 250G | C43: 8938529045030 | D43: 261126 | E43: EA | F43: 1 | H43: =IFERROR(VLOOKUP(B43,'TONG HOP'!$B$18:$J$28,9,0),"") -> 54097 | I43: =IFERROR(H43*F43,"") -> 54097 | J43: =IFERROR(I43*8%,"") -> 4327.76 | K43: =IFERROR(J43+I43,"") -> 58424.76
A44: 4 | B44: CHÂN GÀ SẢ TẮC 250G | C44: 8938529045443 | D44: 315116 | E44: TÚI | F44: 4 | H44: =IFERROR(VLOOKUP(B44,'TONG HOP'!$B$18:$J$28,9,0),"") -> 36750 | I44: =IFERROR(H44*F44,"") -> 147000 | J44: =IFERROR(I44*8%,"") -> 11760 | K44: =IFERROR(J44+I44,"") -> 158760
B45: CỬA HÀNG: DƯƠNG CÔNG KHI (1147) | G45: I-02527695 | H45: =IFERROR(VLOOKUP(B45,'TONG HOP'!$B$18:$J$28,9,0),"") | I45: =IFERROR(H45*F45,"") | J45: =IFERROR(I45*8%,"") | K45: =IFERROR(J45+I45,"")
A46: 1 | B46: GIÒ TAI LƯỠI XÀO 250G | C46: 8938529045030 | D46: 261126 | E46: EA | F46: 2 | H46: =IFERROR(VLOOKUP(B46,'TONG HOP'!$B$18:$J$28,9,0),"") -> 54097 | I46: =IFERROR(H46*F46,"") -> 108194 | J46: =IFERROR(I46*8%,"") -> 8655.52 | K46: =IFERROR(J46+I46,"") -> 116849.52
B47: CỬA HÀNG: PHẠM THẾ HIỂN 3 (1101) | G47: I-02527817 | H47: =IFERROR(VLOOKUP(B47,'TONG HOP'!$B$18:$J$28,9,0),"") | I47: =IFERROR(H47*F47,"") | J47: =IFERROR(I47*8%,"") | K47: =IFERROR(J47+I47,"")
A48: 1 | B48: GÀ MUỐI 500G | C48: 8938529045924 | D48: 203632 | E48: EA | F48: 3 | H48: =IFERROR(VLOOKUP(B48,'TONG HOP'!$B$18:$J$28,9,0),"") -> 114279 | I48: =IFERROR(H48*F48,"") -> 342837 | J48: =IFERROR(I48*8%,"") -> 27426.96 | K48: =IFERROR(J48+I48,"") -> 370263.96
B49: CỬA HÀNG: ĐƯỜNG SỐ 41 (1019) | G49: I-02528985 | H49: =IFERROR(VLOOKUP(B49,'TONG HOP'!$B$18:$J$28,9,0),"") | I49: =IFERROR(H49*F49,"") | J49: =IFERROR(I49*8%,"") | K49: =IFERROR(J49+I49,"")
A50: 1 | B50: GÀ MUỐI 500G | D50: 203632 | E50: EA | F50: 7 | H50: =IFERROR(VLOOKUP(B50,'TONG HOP'!$B$18:$J$28,9,0),"") -> 114279 | I50: =IFERROR(H50*F50,"") -> 799953 | J50: =IFERROR(I50*8%,"") -> 63996.24 | K50: =IFERROR(J50+I50,"") -> 863949.24
B51: CỬA HÀNG: CỦ CHI 1 (1052) | G51: I-02534811 | H51: =IFERROR(VLOOKUP(B51,'TONG HOP'!$B$18:$J$28,9,0),"") | I51: =IFERROR(H51*F51,"") | J51: =IFERROR(I51*8%,"") | K51: =IFERROR(J51+I51,"")
A52: 1 | B52: GÀ MUỐI 500G | D52: 203632 | E52: EA | F52: 5 | H52: =IFERROR(VLOOKUP(B52,'TONG HOP'!$B$18:$J$28,9,0),"") -> 114279 | I52: =IFERROR(H52*F52,"") -> 571395 | J52: =IFERROR(I52*8%,"") -> 45711.6 | K52: =IFERROR(J52+I52,"") -> 617106.6
A53: 2 | B53: CHÂN GIÒ HEO MUỐI 300G | D53: 203630 | E53: EA | F53: 2 | H53: =IFERROR(VLOOKUP(B53,'TONG HOP'!$B$18:$J$28,9,0),"") -> 79159 | I53: =IFERROR(H53*F53,"") -> 158318 | J53: =IFERROR(I53*8%,"") -> 12665.44 | K53: =IFERROR(J53+I53,"") -> 170983.44
B54: CỬA HÀNG: CỦ CHI 9 (1137) | G54: I-02534862 | H54: =IFERROR(VLOOKUP(B54,'TONG HOP'!$B$18:$J$28,9,0),"") | I54: =IFERROR(H54*F54,"") | J54: =IFERROR(I54*8%,"") | K54: =IFERROR(J54+I54,"")
A55: 1 | B55: GÀ MUỐI 500G | D55: 203632 | E55: EA | F55: 3 | H55: =IFERROR(VLOOKUP(B55,'TONG HOP'!$B$18:$J$28,9,0),"") -> 114279 | I55: =IFERROR(H55*F55,"") -> 342837 | J55: =IFERROR(I55*8%,"") -> 27426.96 | K55: =IFERROR(J55+I55,"") -> 370263.96
A56: 2 | B56: CHÂN GIÒ HEO MUỐI 300G | D56: 203630 | E56: EA | F56: 1 | H56: =IFERROR(VLOOKUP(B56,'TONG HOP'!$B$18:$J$28,9,0),"") -> 79159 | I56: =IFERROR(H56*F56,"") -> 79159 | J56: =IFERROR(I56*8%,"") -> 6332.72 | K56: =IFERROR(J56+I56,"") -> 85491.72
B57: CỬA HÀNG: CỦ CHI 12 (1211) | G57: I-02534794 | H57: =IFERROR(VLOOKUP(B57,'TONG HOP'!$B$18:$J$28,9,0),"") | I57: =IFERROR(H57*F57,"") | J57: =IFERROR(I57*8%,"") | K57: =IFERROR(J57+I57,"")
A58: 1 | B58: MỌC NẤM HƯƠNG 250G | C58: 8938529045047 | D58: 261127 | E58: EA | F58: 5 | H58: =IFERROR(VLOOKUP(B58,'TONG HOP'!$B$18:$J$28,9,0),"") -> 46000 | I58: =IFERROR(H58*F58,"") -> 230000 | J58: =IFERROR(I58*8%,"") -> 18400 | K58: =IFERROR(J58+I58,"") -> 248400
B59: CỬA HÀNG: ĐINH ĐỨC THIỆN 1 (1095) | G59: I-02536436 | H59: =IFERROR(VLOOKUP(B59,'TONG HOP'!$B$18:$J$28,9,0),"") | I59: =IFERROR(H59*F59,"") | J59: =IFERROR(I59*8%,"") | K59: =IFERROR(J59+I59,"")
A60: 1 | B60: GÀ MUỐI 500G | D60: 203632 | E60: EA | F60: 2 | H60: =IFERROR(VLOOKUP(B60,'TONG HOP'!$B$18:$J$28,9,0),"") -> 114279 | I60: =IFERROR(H60*F60,"") -> 228558 | J60: =IFERROR(I60*8%,"") -> 18284.64 | K60: =IFERROR(J60+I60,"") -> 246842.64
A61: 2 | B61: TAI HEO SỐT THÁI 250G | D61: 315117 | E61: TÚI | F61: 2 | H61: =IFERROR(VLOOKUP(B61,'TONG HOP'!$B$18:$J$28,9,0),"") -> 35389 | I61: =IFERROR(H61*F61,"") -> 70778 | J61: =IFERROR(I61*8%,"") -> 5662.24 | K61: =IFERROR(J61+I61,"") -> 76440.24
B62: CỬA HÀNG: ĐƯỜNG SỐ 41 (1019) | G62: I-02535401 | H62: =IFERROR(VLOOKUP(B62,'TONG HOP'!$B$18:$J$28,9,0),"") | I62: =IFERROR(H62*F62,"") | J62: =IFERROR(I62*8%,"") | K62: =IFERROR(J62+I62,"")
A63: 1 | B63: CHÂN GIÒ HEO MUỐI 300G | D63: 203630 | E63: EA | F63: 2 | H63: =IFERROR(VLOOKUP(B63,'TONG HOP'!$B$18:$J$28,9,0),"") -> 79159 | I63: =IFERROR(H63*F63,"") -> 158318 | J63: =IFERROR(I63*8%,"") -> 12665.44 | K63: =IFERROR(J63+I63,"") -> 170983.44
A64: 2 | B64: TAI HEO MUỐI 200G | D64: 236665 | E64: EA | F64: 1 | H64: =IFERROR(VLOOKUP(B64,'TONG HOP'!$B$18:$J$28,9,0),"") -> 59932 | I64: =IFERROR(H64*F64,"") -> 59932 | J64: =IFERROR(I64*8%,"") -> 4794.56 | K64: =IFERROR(J64+I64,"") -> 64726.56
B65: CỬA HÀNG: KHA VẠN CÂN (1011) | G65: I-02538171 | H65: =IFERROR(VLOOKUP(B65,'TONG HOP'!$B$18:$J$28,9,0),"") | I65: =IFERROR(H65*F65,"") | J65: =IFERROR(I65*8%,"") | K65: =IFERROR(J65+I65,"")
A66: 1 | B66: TAI HEO MUỐI 400G | D66: 203631 | E66: EA | F66: 2 | H66: =IFERROR(VLOOKUP(B66,'TONG HOP'!$B$18:$J$28,9,0),"") -> 115567 | I66: =IFERROR(H66*F66,"") -> 231134 | J66: =IFERROR(I66*8%,"") -> 18490.72 | K66: =IFERROR(J66+I66,"") -> 249624.72
A67: 2 | B67: GÀ MUỐI 500G | D67: 203632 | E67: EA | F67: 2 | H67: =IFERROR(VLOOKUP(B67,'TONG HOP'!$B$18:$J$28,9,0),"") -> 114279 | I67: =IFERROR(H67*F67,"") -> 228558 | J67: =IFERROR(I67*8%,"") -> 18284.64 | K67: =IFERROR(J67+I67,"") -> 246842.64
A68: 3 | B68: GIÒ TAI LƯỠI XÀO 250G | D68: 261126 | E68: EA | F68: 1 | H68: =IFERROR(VLOOKUP(B68,'TONG HOP'!$B$18:$J$28,9,0),"") -> 54097 | I68: =IFERROR(H68*F68,"") -> 54097 | J68: =IFERROR(I68*8%,"") -> 4327.76 | K68: =IFERROR(J68+I68,"") -> 58424.76
B69: CỬA HÀNG: NGUYỄN DUY TRINH 3 (1149) | G69: I-02524642 | H69: =IFERROR(VLOOKUP(B69,'TONG HOP'!$B$18:$J$28,9,0),"") | I69: =IFERROR(H69*F69,"") | J69: =IFERROR(I69*8%,"") | K69: =IFERROR(J69+I69,"")
A70: 1 | B70: GÀ MUỐI HUN CỎ XẠ HƯƠNG TÚI 500G | C70: 8938529045795 | D70: 317011 | E70: TÚI | F70: 2 | H70: =IFERROR(VLOOKUP(B70,'TONG HOP'!$B$18:$J$28,9,0),"") -> 114279 | I70: =IFERROR(H70*F70,"") -> 228558 | J70: =IFERROR(I70*8%,"") -> 18284.64 | K70: =IFERROR(J70+I70,"") -> 246842.64
A71: 2 | B71: GÀ MUỐI 500G | C71: 8938529045924 | D71: 203632 | E71: EA | F71: 1 | H71: =IFERROR(VLOOKUP(B71,'TONG HOP'!$B$18:$J$28,9,0),"") -> 114279 | I71: =IFERROR(H71*F71,"") -> 114279 | J71: =IFERROR(I71*8%,"") -> 9142.32 | K71: =IFERROR(J71+I71,"") -> 123421.32
A72: 3 | B72: TAI HEO MUỐI 200G | C72: 8938529045627 | D72: 236665 | E72: EA | F72: 2 | H72: =IFERROR(VLOOKUP(B72,'TONG HOP'!$B$18:$J$28,9,0),"") -> 59932 | I72: =IFERROR(H72*F72,"") -> 119864 | J72: =IFERROR(I72*8%,"") -> 9589.12 | K72: =IFERROR(J72+I72,"") -> 129453.12
A73: 4 | B73: GIÒ TAI LƯỠI XÀO 250G | C73: 8938529045030 | D73: 261126 | E73: EA | F73: 3 | H73: =IFERROR(VLOOKUP(B73,'TONG HOP'!$B$18:$J$28,9,0),"") -> 54097 | I73: =IFERROR(H73*F73,"") -> 162291 | J73: =IFERROR(I73*8%,"") -> 12983.28 | K73: =IFERROR(J73+I73,"") -> 175274.28
B74: CỬA HÀNG: QUỐC LỘ 50-2 (1164) | G74: I-02529993 | H74: =IFERROR(VLOOKUP(B74,'TONG HOP'!$B$18:$J$28,9,0),"") | I74: =IFERROR(H74*F74,"") | J74: =IFERROR(I74*8%,"") | K74: =IFERROR(J74+I74,"")
A75: 1 | B75: GÀ MUỐI 500G | C75: 8938529045924 | D75: 203632 | E75: EA | F75: 4 | H75: =IFERROR(VLOOKUP(B75,'TONG HOP'!$B$18:$J$28,9,0),"") -> 114279 | I75: =IFERROR(H75*F75,"") -> 457116 | J75: =IFERROR(I75*8%,"") -> 36569.28 | K75: =IFERROR(J75+I75,"") -> 493685.28
B76: CỬA HÀNG: LÊ VĂN LƯƠNG 1 (1040) | G76: I-02497746 | H76: =IFERROR(VLOOKUP(B76,'TONG HOP'!$B$18:$J$28,9,0),"") | I76: =IFERROR(H76*F76,"") | J76: =IFERROR(I76*8%,"") | K76: =IFERROR(J76+I76,"")
A77: 1 | B77: MỌC NẤM HƯƠNG 250G | C77: 8938529045047 | D77: 261127 | E77: EA | F77: 3 | H77: =IFERROR(VLOOKUP(B77,'TONG HOP'!$B$18:$J$28,9,0),"") -> 46000 | I77: =IFERROR(H77*F77,"") -> 138000 | J77: =IFERROR(I77*8%,"") -> 11040 | K77: =IFERROR(J77+I77,"") -> 149040
A78: 2 | B78: GÀ MUỐI 500G | C78: 8938529045924 | D78: 203632 | E78: EA | F78: 1 | H78: =IFERROR(VLOOKUP(B78,'TONG HOP'!$B$18:$J$28,9,0),"") -> 114279 | I78: =IFERROR(H78*F78,"") -> 114279 | J78: =IFERROR(I78*8%,"") -> 9142.32 | K78: =IFERROR(J78+I78,"") -> 123421.32
B79: CỬA HÀNG: KHA VẠN CÂN (1011) | G79: I-02497665 | H79: =IFERROR(VLOOKUP(B79,'TONG HOP'!$B$18:$J$28,9,0),"") | I79: =IFERROR(H79*F79,"") | J79: =IFERROR(I79*8%,"") | K79: =IFERROR(J79+I79,"")
A80: 1 | B80: CHÂN GIÒ HEO MUỐI 300G | D80: 203630 | E80: EA | F80: 2 | H80: =IFERROR(VLOOKUP(B80,'TONG HOP'!$B$18:$J$28,9,0),"") -> 79159 | I80: =IFERROR(H80*F80,"") -> 158318 | J80: =IFERROR(I80*8%,"") -> 12665.44 | K80: =IFERROR(J80+I80,"") -> 170983.44
A81: 2 | B81: GÀ MUỐI 500G | D81: 203632 | E81: EA | F81: 2 | H81: =IFERROR(VLOOKUP(B81,'TONG HOP'!$B$18:$J$28,9,0),"") -> 114279 | I81: =IFERROR(H81*F81,"") -> 228558 | J81: =IFERROR(I81*8%,"") -> 18284.64 | K81: =IFERROR(J81+I81,"") -> 246842.64
A82: 1 | B82: GIÒ TAI LƯỠI XÀO 250G | D82: 261126 | E82: EA | F82: 1 | G82: I-02517699 | H82: =IFERROR(VLOOKUP(B82,'TONG HOP'!$B$18:$J$28,9,0),"") -> 54097 | I82: =IFERROR(H82*F82,"") -> 54097 | J82: =IFERROR(I82*8%,"") -> 4327.76 | K82: =IFERROR(J82+I82,"") -> 58424.76
A83: 2 | B83: CHÂN GIÒ HEO MUỐI 300G | D83: 203630 | E83: EA | F83: 1 | H83: =IFERROR(VLOOKUP(B83,'TONG HOP'!$B$18:$J$28,9,0),"") -> 79159 | I83: =IFERROR(H83*F83,"") -> 79159 | J83: =IFERROR(I83*8%,"") -> 6332.72 | K83: =IFERROR(J83+I83,"") -> 85491.72
A84: 3 | B84: TAI HEO MUỐI 200G | D84: 236665 | E84: EA | F84: 2 | H84: =IFERROR(VLOOKUP(B84,'TONG HOP'!$B$18:$J$28,9,0),"") -> 59932 | I84: =IFERROR(H84*F84,"") -> 119864 | J84: =IFERROR(I84*8%,"") -> 9589.12 | K84: =IFERROR(J84+I84,"") -> 129453.12
B85: CỬA HÀNG: TRẦN VĂN MƯỜI (1120) | G85: I-02498094 | H85: =IFERROR(VLOOKUP(B85,'TONG HOP'!$B$18:$J$28,9,0),"") | I85: =IFERROR(H85*F85,"") | J85: =IFERROR(I85*8%,"") | K85: =IFERROR(J85+I85,"")
A86: 1 | B86: CHÂN GÀ SẢ TẮC 250G | D86: 315116 | E86: TÚI | F86: 1 | H86: =IFERROR(VLOOKUP(B86,'TONG HOP'!$B$18:$J$28,9,0),"") -> 36750 | I86: =IFERROR(H86*F86,"") -> 36750 | J86: =IFERROR(I86*8%,"") -> 2940 | K86: =IFERROR(J86+I86,"") -> 39690
A87: 2 | B87: GÀ MUỐI HUN CỎ XẠ HƯƠNG TÚI 500G | C87: 8938529045795 | D87: 317011 | E87: TÚI | F87: 1 | H87: =IFERROR(VLOOKUP(B87,'TONG HOP'!$B$18:$J$28,9,0),"") -> 114279 | I87: =IFERROR(H87*F87,"") -> 114279 | J87: =IFERROR(I87*8%,"") -> 9142.32 | K87: =IFERROR(J87+I87,"") -> 123421.32
A88: 3 | B88: GIÒ TAI LƯỠI XÀO 250G | D88: 261126 | E88: EA | F88: 2 | H88: =IFERROR(VLOOKUP(B88,'TONG HOP'!$B$18:$J$28,9,0),"") -> 54097 | I88: =IFERROR(H88*F88,"") -> 108194 | J88: =IFERROR(I88*8%,"") -> 8655.52 | K88: =IFERROR(J88+I88,"") -> 116849.52
A89: 4 | B89: TAI HEO SỐT THÁI 250G | D89: 315117 | E89: TÚI | F89: 2 | H89: =IFERROR(VLOOKUP(B89,'TONG HOP'!$B$18:$J$28,9,0),"") -> 35389 | I89: =IFERROR(H89*F89,"") -> 70778 | J89: =IFERROR(I89*8%,"") -> 5662.24 | K89: =IFERROR(J89+I89,"") -> 76440.24
A90: 5 | B90: MỌC NẤM HƯƠNG 250G | D90: 261127 | E90: EA | F90: 3 | H90: =IFERROR(VLOOKUP(B90,'TONG HOP'!$B$18:$J$28,9,0),"") -> 46000 | I90: =IFERROR(H90*F90,"") -> 138000 | J90: =IFERROR(I90*8%,"") -> 11040 | K90: =IFERROR(J90+I90,"") -> 149040
B91: CỬA HÀNG: QUANG TRUNG (1008) | G91: I-02498520 | H91: =IFERROR(VLOOKUP(B91,'TONG HOP'!$B$18:$J$28,9,0),"") | I91: =IFERROR(H91*F91,"") | J91: =IFERROR(I91*8%,"") | K91: =IFERROR(J91+I91,"")
A92: 1 | B92: CHÂN GÀ SẢ TẮC 250G | D92: 315116 | E92: TÚI | F92: 5 | H92: =IFERROR(VLOOKUP(B92,'TONG HOP'!$B$18:$J$28,9,0),"") -> 36750 | I92: =IFERROR(H92*F92,"") -> 183750 | J92: =IFERROR(I92*8%,"") -> 14700 | K92: =IFERROR(J92+I92,"") -> 198450
A93: 2 | B93: TAI HEO SỐT THÁI 250G | D93: 315117 | E93: TÚI | F93: 6 | H93: =IFERROR(VLOOKUP(B93,'TONG HOP'!$B$18:$J$28,9,0),"") -> 35389 | I93: =IFERROR(H93*F93,"") -> 212334 | J93: =IFERROR(I93*8%,"") -> 16986.72 | K93: =IFERROR(J93+I93,"") -> 229320.72
A94: 3 | B94: GIÒ TAI LƯỠI XÀO 250G | D94: 261126 | E94: EA | F94: 1 | H94: =IFERROR(VLOOKUP(B94,'TONG HOP'!$B$18:$J$28,9,0),"") -> 54097 | I94: =IFERROR(H94*F94,"") -> 54097 | J94: =IFERROR(I94*8%,"") -> 4327.76 | K94: =IFERROR(J94+I94,"") -> 58424.76
A95: 4 | B95: GÀ MUỐI 500G | D95: 203632 | E95: EA | F95: 1 | H95: =IFERROR(VLOOKUP(B95,'TONG HOP'!$B$18:$J$28,9,0),"") -> 114279 | I95: =IFERROR(H95*F95,"") -> 114279 | J95: =IFERROR(I95*8%,"") -> 9142.32 | K95: =IFERROR(J95+I95,"") -> 123421.32
B96: CỬA HÀNG: NGUYỄN DUY TRINH 2 (1082) | G96: I-02499067 | H96: =IFERROR(VLOOKUP(B96,'TONG HOP'!$B$18:$J$28,9,0),"") | I96: =IFERROR(H96*F96,"") | J96: =IFERROR(I96*8%,"") | K96: =IFERROR(J96+I96,"")
A97: 1 | B97: GIÒ TAI LƯỠI XÀO 250G | C97: 8938529045030 | D97: 261126 | E97: EA | F97: 3 | H97: =IFERROR(VLOOKUP(B97,'TONG HOP'!$B$18:$J$28,9,0),"") -> 54097 | I97: =IFERROR(H97*F97,"") -> 162291 | J97: =IFERROR(I97*8%,"") -> 12983.28 | K97: =IFERROR(J97+I97,"") -> 175274.28
B98: CỬA HÀNG: DƯƠNG CÔNG KHI (1147) | G98: I-02489186 | H98: =IFERROR(VLOOKUP(B98,'TONG HOP'!$B$18:$J$28,9,0),"") | I98: =IFERROR(H98*F98,"") | J98: =IFERROR(I98*8%,"") | K98: =IFERROR(J98+I98,"")
A99: 1 | B99: CHÂN GIÒ HEO MUỐI 300G | D99: 203630 | E99: EA | F99: 1 | H99: =IFERROR(VLOOKUP(B99,'TONG HOP'!$B$18:$J$28,9,0),"") -> 79159 | I99: =IFERROR(H99*F99,"") -> 79159 | J99: =IFERROR(I99*8%,"") -> 6332.72 | K99: =IFERROR(J99+I99,"") -> 85491.72
A100: 2 | B100: GÀ MUỐI 500G | D100: 203632 | E100: EA | F100: 2 | H100: =IFERROR(VLOOKUP(B100,'TONG HOP'!$B$18:$J$28,9,0),"") -> 114279 | I100: =IFERROR(H100*F100,"") -> 228558 | J100: =IFERROR(I100*8%,"") -> 18284.64 | K100: =IFERROR(J100+I100,"") -> 246842.64
B101: CỬA HÀNG: CỦ CHI 9 (1137) | G101: I-02499507 | H101: =IFERROR(VLOOKUP(B101,'TONG HOP'!$B$18:$J$28,9,0),"") | I101: =IFERROR(H101*F101,"") | J101: =IFERROR(I101*8%,"") | K101: =IFERROR(J101+I101,"")
A102: 1 | B102: GIÒ TAI LƯỠI XÀO 250G | C102: 8938529045030 | D102: 261126 | E102: EA | F102: 1 | H102: =IFERROR(VLOOKUP(B102,'TONG HOP'!$B$18:$J$28,9,0),"") -> 54097 | I102: =IFERROR(H102*F102,"") -> 54097 | J102: =IFERROR(I102*8%,"") -> 4327.76 | K102: =IFERROR(J102+I102,"") -> 58424.76
B103: CỬA HÀNG: ĐƯỜNG SỐ 41 (1019) | G103: I-02496038 | H103: =IFERROR(VLOOKUP(B103,'TONG HOP'!$B$18:$J$28,9,0),"") | I103: =IFERROR(H103*F103,"") | J103: =IFERROR(I103*8%,"") | K103: =IFERROR(J103+I103,"")
A104: 1 | B104: GÀ MUỐI 500G | D104: 203632 | E104: EA | F104: 5 | H104: =IFERROR(VLOOKUP(B104,'TONG HOP'!$B$18:$J$28,9,0),"") -> 114279 | I104: =IFERROR(H104*F104,"") -> 571395 | J104: =IFERROR(I104*8%,"") -> 45711.6 | K104: =IFERROR(J104+I104,"") -> 617106.6
...

Sheet CHI TIẾT
G1: I-02300800
A2: TRUNG TÂM ĐIỀU HÀNH SATRAFOODS | D2: CỘNG HÒA XÃ HỘI CHỦ NGHĨA VIỆT NAM
D3: Độc lập – Tự do – Hạnh phúc
D4: ----------oOo-------------
A6: BẢNG KÊ XUẤT TRẢ HÀNG HÓA
A8: Căn cứ vào:
A9: + | B9: thời hạn cận date của hàng trả;
A10: + | B10: tình trạng bán chậm của hàng trả;
A11: + | B11: 1210
A13: Hôm nay ngày : 22.07.2026 | C13: ,Cửa hàng chúng tôi đề nghị được trả hàng cho Nhà Cung cấp của TTĐH:
A14: Hai bên đồng ý giao và nhận các loại hàng hóa sau:
A15: NHÀ CUNG CẤP: NGỌC THƠM (VD-00000426) | C15: với các nội dung sau: | E15: GỘP T6+7/2026
B17: Tên, nhãn hiệu, quy cách, phẩm | F17: Số lượng yêu cầu | G17: Số tham chiếu - Phiếu Xuất kho số
A18: STT | B18: chất vật tư, dụng cụ sản phẩm, hàng hóa | C18: Barcode | D18: Mã số | E18: Đơn vị tính
A19: A | B19: B | C19: C | D19: D | E19: E
B20: CỬA HÀNG: TRẦN NÃO (1223) | G20: I-02519895 | H20: THÁNG 7.26
A21: 1 | B21: GÀ MUỐI HUN CỎ XẠ HƯƠNG TÚI 500G | C21: 8938529045795 | D21: 317011 | E21: TÚI | F21: 3
A22: 2 | B22: CHÂN GIÒ HEO MUỐI VỊ TAYAKI TÚI 450G | C22: 8938529045832 | D22: 317010 | E22: TÚI | F22: 4
B23: CỬA HÀNG: NGUYỄN DUY TRINH 2 (1082) | G23: I-02518394
A24: 1 | B24: GÀ MUỐI 500G | D24: 203632 | E24: EA | F24: 2
B25: CỬA HÀNG: LÊ THỊ HOA (1170) | G25: I-02518384
A26: 1 | B26: GÀ MUỐI 500G | D26: 203632 | E26: EA | F26: 2
A27: 2 | B27: GÀ MUỐI HUN CỎ XẠ HƯƠNG TÚI 500G | C27: 8938529045795 | D27: 317011 | E27: TÚI | F27: 2
A28: 3 | B28: CHÂN GÀ SẢ TẮC 250G | C28: 8938529045443 | D28: 315116 | E28: TÚI | F28: 2
A29: 1 | B29: GÀ MUỐI 500G | D29: 203632 | E29: EA | F29: 2 | G29: I-02535399
A30: 2 | B30: CHÂN GÀ SẢ TẮC 250G | D30: 315116 | E30: TÚI | F30: 1
A31: 3 | B31: TAI HEO SỐT THÁI 250G | D31: 315117 | E31: TÚI | F31: 2
B32: CỬA HÀNG: TỈNH LỘ 43 (1203) | G32: I-02518497
A33: 1 | B33: GIÒ TAI LƯỠI XÀO 250G | C33: 8938529045030 | D33: 261126 | E33: EA | F33: 2
B34: CỬA HÀNG: LÒ LU (1184) | G34: I-02520206
A35: 1 | B35: GÀ MUỐI 500G | C35: 8938529045924 | D35: 203632 | E35: EA | F35: 1
A36: 2 | B36: CHÂN GÀ SẢ TẮC 250G | C36: 8938529045443 | D36: 315116 | E36: TÚI | F36: 2
B37: CỬA HÀNG: HOÀNG HOA THÁM (1092) | G37: I-02521285
A38: 1 | B38: GÀ MUỐI 500G | C38: 8938529045924 | D38: 203632 | E38: EA | F38: 4
A39: 2 | B39: TAI HEO MUỐI 200G | C39: 8938529045627 | D39: 236665 | E39: EA | F39: 2
B40: CỬA HÀNG: BÙI CÔNG TRỪNG (1142) | G40: I-02523761
A41: 1 | B41: TAI HEO MUỐI 400G | C41: 8938529045634 | D41: 203631 | E41: EA | F41: 2
A42: 2 | B42: CHÂN GIÒ HEO MUỐI 500G | C42: 8938529045238 | D42: 203634 | E42: EA | F42: 1
A43: 3 | B43: GIÒ TAI LƯỠI XÀO 250G | C43: 8938529045030 | D43: 261126 | E43: EA | F43: 1
A44: 4 | B44: CHÂN GÀ SẢ TẮC 250G | C44: 8938529045443 | D44: 315116 | E44: TÚI | F44: 4
B45: CỬA HÀNG: DƯƠNG CÔNG KHI (1147) | G45: I-02527695
A46: 1 | B46: GIÒ TAI LƯỠI XÀO 250G | C46: 8938529045030 | D46: 261126 | E46: EA | F46: 2
B47: CỬA HÀNG: PHẠM THẾ HIỂN 3 (1101) | G47: I-02527817
A48: 1 | B48: GÀ MUỐI 500G | C48: 8938529045924 | D48: 203632 | E48: EA | F48: 3
B49: CỬA HÀNG: ĐƯỜNG SỐ 41 (1019) | G49: I-02528985
A50: 1 | B50: GÀ MUỐI 500G | D50: 203632 | E50: EA | F50: 7
B51: CỬA HÀNG: CỦ CHI 1 (1052) | G51: I-02534811
A52: 1 | B52: GÀ MUỐI 500G | D52: 203632 | E52: EA | F52: 5
A53: 2 | B53: CHÂN GIÒ HEO MUỐI 300G | D53: 203630 | E53: EA | F53: 2
B54: CỬA HÀNG: CỦ CHI 9 (1137) | G54: I-02534862
A55: 1 | B55: GÀ MUỐI 500G | D55: 203632 | E55: EA | F55: 3
A56: 2 | B56: CHÂN GIÒ HEO MUỐI 300G | D56: 203630 | E56: EA | F56: 1
B57: CỬA HÀNG: CỦ CHI 12 (1211) | G57: I-02534794
A58: 1 | B58: MỌC NẤM HƯƠNG 250G | C58: 8938529045047 | D58: 261127 | E58: EA | F58: 5
B59: CỬA HÀNG: ĐINH ĐỨC THIỆN 1 (1095) | G59: I-02536436
A60: 1 | B60: GÀ MUỐI 500G | D60: 203632 | E60: EA | F60: 2
A61: 2 | B61: TAI HEO SỐT THÁI 250G | D61: 315117 | E61: TÚI | F61: 2
B62: CỬA HÀNG: ĐƯỜNG SỐ 41 (1019) | G62: I-02535401
A63: 1 | B63: CHÂN GIÒ HEO MUỐI 300G | D63: 203630 | E63: EA | F63: 2
A64: 2 | B64: TAI HEO MUỐI 200G | D64: 236665 | E64: EA | F64: 1
B65: CỬA HÀNG: KHA VẠN CÂN (1011) | G65: I-02538171
A66: 1 | B66: TAI HEO MUỐI 400G | D66: 203631 | E66: EA | F66: 2
A67: 2 | B67: GÀ MUỐI 500G | D67: 203632 | E67: EA | F67: 2
A68: 3 | B68: GIÒ TAI LƯỠI XÀO 250G | D68: 261126 | E68: EA | F68: 1
B69: CỬA HÀNG: NGUYỄN DUY TRINH 3 (1149) | G69: I-02524642
A70: 1 | B70: GÀ MUỐI HUN CỎ XẠ HƯƠNG TÚI 500G | C70: 8938529045795 | D70: 317011 | E70: TÚI | F70: 2
A71: 2 | B71: GÀ MUỐI 500G | C71: 8938529045924 | D71: 203632 | E71: EA | F71: 1
A72: 3 | B72: TAI HEO MUỐI 200G | C72: 8938529045627 | D72: 236665 | E72: EA | F72: 2
A73: 4 | B73: GIÒ TAI LƯỠI XÀO 250G | C73: 8938529045030 | D73: 261126 | E73: EA | F73: 3
B74: CỬA HÀNG: QUỐC LỘ 50-2 (1164) | G74: I-02529993
A75: 1 | B75: GÀ MUỐI 500G | C75: 8938529045924 | D75: 203632 | E75: EA | F75: 4
B76: CỬA HÀNG: LÊ VĂN LƯƠNG 1 (1040) | G76: I-02497746 | H76: THÁNG 6.26
A77: 1 | B77: MỌC NẤM HƯƠNG 250G | C77: 8938529045047 | D77: 261127 | E77: EA | F77: 3
A78: 2 | B78: GÀ MUỐI 500G | C78: 8938529045924 | D78: 203632 | E78: EA | F78: 1
B79: CỬA HÀNG: KHA VẠN CÂN (1011) | G79: I-02497665
A80: 1 | B80: CHÂN GIÒ HEO MUỐI 300G | D80: 203630 | E80: EA | F80: 2
A81: 2 | B81: GÀ MUỐI 500G | D81: 203632 | E81: EA | F81: 2
A82: 1 | B82: GIÒ TAI LƯỠI XÀO 250G | D82: 261126 | E82: EA | F82: 1 | G82: I-02517699
A83: 2 | B83: CHÂN GIÒ HEO MUỐI 300G | D83: 203630 | E83: EA | F83: 1
A84: 3 | B84: TAI HEO MUỐI 200G | D84: 236665 | E84: EA | F84: 2
B85: CỬA HÀNG: TRẦN VĂN MƯỜI (1120) | G85: I-02498094
A86: 1 | B86: CHÂN GÀ SẢ TẮC 250G | D86: 315116 | E86: TÚI | F86: 1
A87: 2 | B87: GÀ MUỐI HUN CỎ XẠ HƯƠNG TÚI 500G | C87: 8938529045795 | D87: 317011 | E87: TÚI | F87: 1
A88: 3 | B88: GIÒ TAI LƯỠI XÀO 250G | D88: 261126 | E88: EA | F88: 2
A89: 4 | B89: TAI HEO SỐT THÁI 250G | D89: 315117 | E89: TÚI | F89: 2
A90: 5 | B90: MỌC NẤM HƯƠNG 250G | D90: 261127 | E90: EA | F90: 3
B91: CỬA HÀNG: QUANG TRUNG (1008) | G91: I-02498520
A92: 1 | B92: CHÂN GÀ SẢ TẮC 250G | D92: 315116 | E92: TÚI | F92: 5
A93: 2 | B93: TAI HEO SỐT THÁI 250G | D93: 315117 | E93: TÚI | F93: 6
A94: 3 | B94: GIÒ TAI LƯỠI XÀO 250G | D94: 261126 | E94: EA | F94: 1
A95: 4 | B95: GÀ MUỐI 500G | D95: 203632 | E95: EA | F95: 1
B96: CỬA HÀNG: NGUYỄN DUY TRINH 2 (1082) | G96: I-02499067
A97: 1 | B97: GIÒ TAI LƯỠI XÀO 250G | C97: 8938529045030 | D97: 261126 | E97: EA | F97: 3
B98: CỬA HÀNG: DƯƠNG CÔNG KHI (1147) | G98: I-02489186
A99: 1 | B99: CHÂN GIÒ HEO MUỐI 300G | D99: 203630 | E99: EA | F99: 1
A100: 2 | B100: GÀ MUỐI 500G | D100: 203632 | E100: EA | F100: 2
B101: CỬA HÀNG: CỦ CHI 9 (1137) | G101: I-02499507
A102: 1 | B102: GIÒ TAI LƯỠI XÀO 250G | C102: 8938529045030 | D102: 261126 | E102: EA | F102: 1
B103: CỬA HÀNG: ĐƯỜNG SỐ 41 (1019) | G103: I-02496038
A104: 1 | B104: GÀ MUỐI 500G | D104: 203632 | E104: EA | F104: 5
...

Sheet TONG HOP
A1: TRUNG TÂM ĐIỀU HÀNH SATRAFOODS | G1: CỘNG HÒA XÃ HỘI CHỦ NGHĨA VIỆT NAM
G2: Độc lập – Tự do – Hạnh phúc | H2: Độc lập – Tự do – Hạnh phúc
H3: ----------oOo-------------
A4: BIÊN BẢN XUẤT TRẢ HÀNG HÓA
A5: Hôm nay, ngày 22 tháng 07 năm 2026, với sự chứng kiến của:
A6: Đại diện bên giao: KHO TTĐH SATRAFOODS
A7: Ông (bà): NGUYỄN THỊ THU
A8: Địa chỉ: 7A/1 THÀNH THÁI, PHƯỜNG DIÊN HỒNG, TPHCM
A9: Đại diện bên nhận: CÔNG TY TNHH MỘT THÀNH VIÊN THƯƠNG MẠI VÀ DỊCH VỤ NGỌC THƠM (VD-00000426)
A10: Ông (bà):
A11: Địa chỉ: 12/14/18 Đường 49, khu phố 7, Phường Hiệp Bình, Thành phố Hồ Chí Minh,VNM
A12: Mã số thuế: 0309391503
A13: Lý do xuất trả hàng: CẬN DATE-NCC LẤY HÀNG TẠI CH THÁNG 06+07/2026
A14: Hai bên đồng ý giao và nhận các loại hàng hóa sau: | I14: =SUM(I18:I28) -> 207
A16: STT | B16: TÊN HÀNG | C16: MÃ HÀNG | E16: XUẤT TRẢ THEO HĐ | G16: SỐ PO | H16: ĐVT | I16: SỐ LƯỢNG | J16: ĐƠN GIÁ | K16: THÀNH TIỀN
E17: SỐ | F17: NGÀY
A18: =ROW()-17 -> 1 | B18: CHÂN GIÒ HEO MUỐI 300G | C18: 8938508668014 ITEM: 203630 | D18: 203630 | H18: TÚI | I18: =SUMIF('CHI TIẾT'!$D$20:$F$143,'TONG HOP'!D18,'CHI TIẾT'!$F$20:$F$143) -> 14 | J18: 79159 | K18: =J18*I18 -> 1108226
A19: =ROW()-17 -> 2 | B19: TAI HEO MUỐI 400G | C19: 8938508668304 ITEM: 203631 | D19: 203631 | H19: TÚI | I19: =SUMIF('CHI TIẾT'!$D$20:$F$143,'TONG HOP'!D19,'CHI TIẾT'!$F$20:$F$143) -> 11 | J19: 115567 | K19: =J19*I19 -> 1271237
A20: =ROW()-17 -> 3 | B20: GÀ MUỐI 500G | C20: 8938508668212 ITEM: 203632 | D20: 203632 | H20: TÚI | I20: =SUMIF('CHI TIẾT'!$D$20:$F$143,'TONG HOP'!D20,'CHI TIẾT'!$F$20:$F$143) -> 71 | J20: 114279 | K20: =J20*I20 -> 8113809
A21: =ROW()-17 -> 4 | B21: CHÂN GIÒ HEO MUỐI 500G | C21: 8938529045238 ITEM: 203634 | D21: 203634 | H21: TÚI | I21: =SUMIF('CHI TIẾT'!$D$20:$F$143,'TONG HOP'!D21,'CHI TIẾT'!$F$20:$F$143) -> 2 | J21: 123686 | K21: =J21*I21 -> 247372
A22: =ROW()-17 -> 5 | B22: TAI HEO MUỐI 200G | C22: 8938508668328 ITEM: 236665 | D22: 236665 | H22: TÚI | I22: =SUMIF('CHI TIẾT'!$D$20:$F$143,'TONG HOP'!D22,'CHI TIẾT'!$F$20:$F$143) -> 24 | J22: 59932 | K22: =J22*I22 -> 1438368
A23: =ROW()-17 -> 6 | B23: GIÒ TAI LƯỠI XÀO 250G | C23: 8938529045030 ITEM: 261126 | D23: 261126 | H23: TÚI | I23: =SUMIF('CHI TIẾT'!$D$20:$F$143,'TONG HOP'!D23,'CHI TIẾT'!$F$20:$F$143) -> 26 | J23: 54097 | K23: =J23*I23 -> 1406522
A24: =ROW()-17 -> 7 | B24: MỌC NẤM HƯƠNG 250G | C24: 8938529045047 ITEM: 261127 | D24: 261127 | H24: TÚI | I24: =SUMIF('CHI TIẾT'!$D$20:$F$143,'TONG HOP'!D24,'CHI TIẾT'!$F$20:$F$143) -> 14 | J24: 46000 | K24: =J24*I24 -> 644000
A25: =ROW()-17 -> 8 | B25: CHÂN GÀ SẢ TẮC 250G | C25: 8938529045443 ITEM: 315116 | D25: 315116 | H25: HỘP | I25: =SUMIF('CHI TIẾT'!$D$20:$F$143,'TONG HOP'!D25,'CHI TIẾT'!$F$20:$F$143) -> 15 | J25: 36750 | K25: =J25*I25 -> 551250
A26: =ROW()-17 -> 9 | B26: TAI HEO SỐT THÁI 250G | C26: 8938529045467 ITEM: 315117 | D26: 315117 | H26: HỘP | I26: =SUMIF('CHI TIẾT'!$D$20:$F$143,'TONG HOP'!D26,'CHI TIẾT'!$F$20:$F$143) -> 18 | J26: 35389 | K26: =J26*I26 -> 637002
A27: =ROW()-17 -> 10 | B27: CHÂN GIÒ HEO MUỐI VỊ TAYAKI TÚI 450G | C27: 8938529045832 ITEM: 317010 | D27: 317010 | H27: TÚI | I27: =SUMIF('CHI TIẾT'!$D$20:$F$143,'TONG HOP'!D27,'CHI TIẾT'!$F$20:$F$143) -> 4 | J27: 104615 | K27: =J27*I27 -> 418460
A28: =ROW()-17 -> 11 | B28: GÀ MUỐI HUN CỎ XẠ HƯƠNG TÚI 500G | C28: 8938529045795 ITEM: 317011 | D28: 317011 | H28: TÚI | I28: =SUMIF('CHI TIẾT'!$D$20:$F$143,'TONG HOP'!D28,'CHI TIẾT'!$F$20:$F$143) -> 8 | J28: 114279 | K28: =J28*I28 -> 914232
E29: CỘNG TIỀN HÀNG | K29: =SUM(K18:K28) -> 16750478
E30: TIỀN THUẾ GTGT
B31: THUẾ SUẤT 8% | K31: =K29*0.08 -> 1340038.2
E32: TỔNG CỘNG | K32: =K29+K31 -> 18090516
B34: BẰNG CHỮ:
B35: Biên bản này được lập thành 02(hai) bản,mỗi bên giữ 01(một) bản.
A37: Phòng Kinh Doanh Tiếp Thị | C37: Phòng Tài Chính Kế Toán | G37: Đại Diện Bên Nhận(NCC) | J37: Đại Diện Bên Giao
