Workbook

Sheet CHI TIẾT (2)
G1: I-02300800
A2: TRUNG TÂM ĐIỀU HÀNH SATRAFOODS | D2: CỘNG HÒA XÃ HỘI CHỦ NGHĨA VIỆT NAM
D3: Độc lập – Tự do – Hạnh phúc
D4: ----------oOo-------------
A6: BẢNG KÊ XUẤT TRẢ HÀNG HÓA
A8: Căn cứ vào:
A9: + | B9: thời hạn cận date của hàng trả;
A10: + | B10: tình trạng bán chậm của hàng trả;
A11: + | B11: 1210
A13: Hôm nay ngày : 22.07.2026 | C13: ,Cửa hàng chúng tôi đề nghị được trả hàng cho Nhà Cung cấp của TTĐH:
A14: Hai bên đồng ý giao và nhận các loại hàng hóa sau:
A15: NHÀ CUNG CẤP: NGỌC THƠM (VD-00000426) | C15: với các nội dung sau: | E15: GỘP T6+7/2026
B17: Tên, nhãn hiệu, quy cách, phẩm | F17: Số lượng yêu cầu | G17: Số tham chiếu - Phiếu Xuất kho số
A18: STT | B18: chất vật tư, dụng cụ sản phẩm, hàng hóa | C18: Barcode | D18: Mã số | E18: Đơn vị tính
A19: A | B19: B | C19: C | D19: D | E19: E
B20: CỬA HÀNG: TRẦN NÃO (1223) | G20: I-02519895
A21: 1 | B21: GÀ MUỐI HUN CỎ XẠ HƯƠNG TÚI 500G | C21: 8938529045795 | D21: 317011 | E21: TÚI | F21: 3 | H21: =IFERROR(VLOOKUP(B21,'TONG HOP'!$B$18:$J$28,9,0),"") -> 114279 | I21: =IFERROR(H21*F21,"") -> 342837 | J21: =IFERROR(I21*8%,"") -> 27426.96 | K21: =IFERROR(J21+I21,"") -> 370263.96
A22: 2 | B22: CHÂN GIÒ HEO MUỐI VỊ TAYAKI TÚI 450G | C22: 8938529045832 | D22: 317010 | E22: TÚI | F22: 4 | H22: =IFERROR(VLOOKUP(B22,'TONG HOP'!$B$18:$J$28,9,0),"") -> 104615 | I22: =IFERROR(H22*F22,"") -> 418460 | J22: =IFERROR(I22*8%,"") -> 33476.8 | K22: =IFERROR(J22+I22,"") -> 451936.8
B23: CỬA HÀNG: NGUYỄN DUY TRINH 2 (1082) | G23: I-02518394 | H23: =IFERROR(VLOOKUP(B23,'TONG HOP'!$B$18:$J$28,9,0),"") | I23: =IFERROR(H23*F23,"") | J23: =IFERROR(I23*8%,"") | K23: =IFERROR(J23+I23,"")
A24: 1 | B24: GÀ MUỐI 500G | D24: 203632 | E24: EA | F24: 2 | H24: =IFERROR(VLOOKUP(B24,'TONG HOP'!$B$18:$J$28,9,0),"") -> 114279 | I24: =IFERROR(H24*F24,"") -> 228558 | J24: =IFERROR(I24*8%,"") -> 18284.64 | K24: =IFERROR(J24+I24,"") -> 246842.64
B25: CỬA HÀNG: LÊ THỊ HOA (1170) | G25: I-02518384 | H25: =IFERROR(VLOOKUP(B25,'TONG HOP'!$B$18:$J$28,9,0),"") | I25: =IFERROR(H25*F25,"") | J25: =IFERROR(I25*8%,"") | K25: =IFERROR(J25+I25,"")
A26: 1 | B26: GÀ MUỐI 500G | D26: 203632 | E26: EA | F26: 2 | H26: =IFERROR(VLOOKUP(B26,'TONG HOP'!$B$18:$J$28,9,0),"") -> 114279 | I26: =IFERROR(H26*F26,"") -> 228558 | J26: =IFERROR(I26*8%,"") -> 18284.64 | K26: =IFERROR(J26+I26,"") -> 246842.64
A27: 2 | B27: GÀ MUỐI HUN CỎ XẠ HƯƠNG TÚI 500G | C27: 8938529045795 | D27: 317011 | E27: TÚI | F27: 2 | H27: =IFERROR(VLOOKUP(B27,'TONG HOP'!$B$18:$J$28,9,0),"") -> 114279 | I27: =IFERROR(H27*F27,"") -> 228558 | J27: =IFERROR(I27*8%,"") -> 18284.64 | K27: =IFERROR(J27+I27,"") -> 246842.64
A28: 3 | B28: CHÂN GÀ SẢ TẮC 250G | C28: 8938529045443 | D28: 315116 | E28: TÚI | F28: 2 | H28: =IFERROR(VLOOKUP(B28,'TONG HOP'!$B$18:$J$28,9,0),"") -> 36750 | I28: =IFERROR(H28*F28,"") -> 73500 | J28: =IFERROR(I28*8%,"") -> 5880 | K28: =IFERROR(J28+I28,"") -> 79380
A29: 1 | B29: GÀ MUỐI 500G | D29: 203632 | E29: EA | F29: 2 | G29: I-02535399 | H29: =IFERROR(VLOOKUP(B29,'TONG HOP'!$B$18:$J$28,9,0),"") -> 114279 | I29: =IFERROR(H29*F29,"") -> 228558 | J29: =IFERROR(I29*8%,"") -> 18284.64 | K29: =IFERROR(J29+I29,"") -> 246842.64
A30: 2 | B30: CHÂN GÀ SẢ TẮC 250G | D30: 315116 | E30: TÚI | F30: 1 | H30: =IFERROR(VLOOKUP(B30,'TONG HOP'!$B$18:$J$28,9,0),"") -> 36750 | I30: =IFERROR(H30*F30,"") -> 36750 | J30: =IFERROR(I30*8%,"") -> 2940 | K30: =IFERROR(J30+I30,"") -> 39690
A31: 3 | B31: TAI HEO SỐT THÁI 250G | D31: 315117 | E31: TÚI | F31: 2 | H31: =IFERROR(VLOOKUP(B31,'TONG HOP'!$B$18:$J$28,9,0),"") -> 35389 | I31: =IFERROR(H31*F31,"") -> 70778 | J31: =IFERROR(I31*8%,"") -> 5662.24 | K31: =IFERROR(J31+I31,"") -> 76440.24
B32: CỬA HÀNG: TỈNH LỘ 43 (1203) | G32: I-02518497 | H32: =IFERROR(VLOOKUP(B32,'TONG HOP'!$B$18:$J$28,9,0),"") | I32: =IFERROR(H32*F32,"") | J32: =IFERROR(I32*8%,"") | K32: =IFERROR(J32+I32,"")
A33: 1 | B33: GIÒ TAI LƯỠI XÀO 250G | C33: 8938529045030 | D33: 261126 | E33: EA | F33: 2 | H33: =IFERROR(VLOOKUP(B33,'TONG HOP'!$B$18:$J$28,9,0),"") -> 54097 | I33: =IFERROR(H33*F33,"") -> 108194 | J33: =IFERROR(I33*8%,"") -> 8655.52 | K33: =IFERROR(J33+I33,"") -> 116849.52
B34: CỬA HÀNG: LÒ LU (1184) | G34: I-02520206 | H34: =IFERROR(VLOOKUP(B34,'TONG HOP'!$B$18:$J$28,9,0),"") | I34: =IFERROR(H34*F34,"") | J34: =IFERROR(I34*8%,"") | K34: =IFERROR(J34+I34,"")
A35: 1 | B35: GÀ MUỐI 500G | C35: 8938529045924 | D35: 203632 | E35: EA | F35: 1 | H35: =IFERROR(VLOOKUP(B35,'TONG HOP'!$B$18:$J$28,9,0),"") -> 114279 | I35: =IFERROR(H35*F35,"") -> 114279 | J35: =IFERROR(I35*8%,"") -> 9142.32 | K35: =IFERROR(J35+I35,"") -> 123421.32
A36: 2 | B36: CHÂN GÀ SẢ TẮC 250G | C36: 8938529045443 | D36: 315116 | E36: TÚI | F36: 2 | H36: =IFERROR(VLOOKUP(B36,'TONG HOP'!$B$18:$J$28,9,0),"") -> 36750 | I36: =IFERROR(H36*F36,"") -> 73500 | J36: =IFERROR(I36*8%,"") -> 5880 | K36: =IFERROR(J36+I36,"") -> 79380
B37: CỬA HÀNG: HOÀNG HOA THÁM (1092) | G37: I-02521285 | H37: =IFERROR(VLOOKUP(B37,'TONG HOP'!$B$18:$J$28,9,0),"") | I37: =IFERROR(H37*F37,"") | J37: =IFERROR(I37*8%,"") | K37: =IFERROR(J37+I37,"")
A38: 1 | B38: GÀ MUỐI 500G | C38: 8938529045924 | D38: 203632 | E38: EA | F38: 4 | H38: =IFERROR(VLOOKUP(B38,'TONG HOP'!$B$18:$J$28,9,0),"") -> 114279 | I38: =IFERROR(H38*F38,"") -> 457116 | J38: =IFERROR(I38*8%,"") -> 36569.28 | K38: =IFERROR(J38+I38,"") -> 493685.28
A39: 2 | B39: TAI HEO MUỐI 200G | C39: 8938529045627 | D39: 236665 | E39: EA | F39: 2 | H39: =IFERROR(VLOOKUP(B39,'TONG HOP'!$B$18:$J$28,9,0),"") -> 59932 | I39: =IFERROR(H39*F39,"") -> 119864 | J39: =IFERROR(I39*8%,"") -> 9589.12 | K39: =IFERROR(J39+I39,"") -> 129453.12
B40: CỬA HÀNG: BÙI CÔNG TRỪNG (1142) | G40: I-02523761 | H40: =IFERROR(VLOOKUP(B40,'TONG HOP'!$B$18:$J$28,9,0),"") | I40: =IFERROR(H40*F40,"") | J40: =IFERROR(I40*8%,"") | K40: =IFERROR(J40+I40,"")
A41: 1 | B41: TAI HEO MUỐI 400G | C41: 8938529045634 | D41: 203631 | E41: EA | F41: 2 | H41: =IFERROR(VLOOKUP(B41,'TONG HOP'!$B$18:$J$28,9,0),"") -> 115567 | I41: =IFERROR(H41*F41,"") -> 231134 | J41: =IFERROR(I41*8%,"") -> 18490.72 | K41: =IFERROR(J41+I41,"") -> 249624.72
A42: 2 | B42: CHÂN GIÒ HEO MUỐI 500G | C42: 8938529045238 | D42: 203634 | E42: EA | F42: 1 | H42: =IFERROR(VLOOKUP(B42,'TONG HOP'!$B$18:$J$28,9,0),"") -> 123686 | I42: =IFERROR(H42*F42,"") -> 123686 | J42: =IFERROR(I42*8%,"") -> 9894.88 | K42: =IFERROR(J42+I42,"") -> 133580.88
A43: 3 | B43: GIÒ TAI LƯỠI XÀO 250G | C43: 8938529045030 | D43: 261126 | E43: EA | F43: 1 | H43: =IFERROR(VLOOKUP(B43,'TONG HOP'!$B$18:$J$28,9,0),"") -> 54097 | I43: =IFERROR(H43*F43,"") -> 54097 | J43: =IFERROR(I43*8%,"") -> 4327.76 | K43: =IFERROR(J43+I43,"") -> 58424.76
A44: 4 | B44: CHÂN GÀ SẢ TẮC 250G | C44: 8938529045443 | D44: 315116 | E44: TÚI | F44: 4 | H44: =IFERROR(VLOOKUP(B44,'TONG HOP'!$B$18:$J$28,9,0),"") -> 36750 | I44: =IFERROR(H44*F44,"") -> 147000 | J44: =IFERROR(I44*8%,"") -> 11760 | K44: =IFERROR(J44+I44,"") -> 158760
...

Sheet CHI TIẾT
G1: I-02300800
A2: TRUNG TÂM ĐIỀU HÀNH SATRAFOODS | D2: CỘNG HÒA XÃ HỘI CHỦ NGHĨA VIỆT NAM
D3: Độc lập – Tự do – Hạnh phúc
D4: ----------oOo-------------
A6: BẢNG KÊ XUẤT TRẢ HÀNG HÓA
A8: Căn cứ vào:
A9: + | B9: thời hạn cận date của hàng trả;
A10: + | B10: tình trạng bán chậm của hàng trả;
A11: + | B11: 1210
A13: Hôm nay ngày : 22.07.2026 | C13: ,Cửa hàng chúng tôi đề nghị được trả hàng cho Nhà Cung cấp của TTĐH:
A14: Hai bên đồng ý giao và nhận các loại hàng hóa sau:
A15: NHÀ CUNG CẤP: NGỌC THƠM (VD-00000426) | C15: với các nội dung sau: | E15: GỘP T6+7/2026
B17: Tên, nhãn hiệu, quy cách, phẩm | F17: Số lượng yêu cầu | G17: Số tham chiếu - Phiếu Xuất kho số
A18: STT | B18: chất vật tư, dụng cụ sản phẩm, hàng hóa | C18: Barcode | D18: Mã số | E18: Đơn vị tính
A19: A | B19: B | C19: C | D19: D | E19: E
B20: CỬA HÀNG: TRẦN NÃO (1223) | G20: I-02519895 | H20: THÁNG 7.26
A21: 1 | B21: GÀ MUỐI HUN CỎ XẠ HƯƠNG TÚI 500G | C21: 8938529045795 | D21: 317011 | E21: TÚI | F21: 3
A22: 2 | B22: CHÂN GIÒ HEO MUỐI VỊ TAYAKI TÚI 450G | C22: 8938529045832 | D22: 317010 | E22: TÚI | F22: 4
B23: CỬA HÀNG: NGUYỄN DUY TRINH 2 (1082) | G23: I-02518394
A24: 1 | B24: GÀ MUỐI 500G | D24: 203632 | E24: EA | F24: 2
B25: CỬA HÀNG: LÊ THỊ HOA (1170) | G25: I-02518384
A26: 1 | B26: GÀ MUỐI 500G | D26: 203632 | E26: EA | F26: 2
A27: 2 | B27: GÀ MUỐI HUN CỎ XẠ HƯƠNG TÚI 500G | C27: 8938529045795 | D27: 317011 | E27: TÚI | F27: 2
A28: 3 | B28: CHÂN GÀ SẢ TẮC 250G | C28: 8938529045443 | D28: 315116 | E28: TÚI | F28: 2
A29: 1 | B29: GÀ MUỐI 500G | D29: 203632 | E29: EA | F29: 2 | G29: I-02535399
A30: 2 | B30: CHÂN GÀ SẢ TẮC 250G | D30: 315116 | E30: TÚI | F30: 1
A31: 3 | B31: TAI HEO SỐT THÁI 250G | D31: 315117 | E31: TÚI | F31: 2
B32: CỬA HÀNG: TỈNH LỘ 43 (1203) | G32: I-02518497
A33: 1 | B33: GIÒ TAI LƯỠI XÀO 250G | C33: 8938529045030 | D33: 261126 | E33: EA | F33: 2
B34: CỬA HÀNG: LÒ LU (1184) | G34: I-02520206
A35: 1 | B35: GÀ MUỐI 500G | C35: 8938529045924 | D35: 203632 | E35: EA | F35: 1
A36: 2 | B36: CHÂN GÀ SẢ TẮC 250G | C36: 8938529045443 | D36: 315116 | E36: TÚI | F36: 2
B37: CỬA HÀNG: HOÀNG HOA THÁM (1092) | G37: I-02521285
A38: 1 | B38: GÀ MUỐI 500G | C38: 8938529045924 | D38: 203632 | E38: EA | F38: 4
A39: 2 | B39: TAI HEO MUỐI 200G | C39: 8938529045627 | D39: 236665 | E39: EA | F39: 2
B40: CỬA HÀNG: BÙI CÔNG TRỪNG (1142) | G40: I-02523761
A41: 1 | B41: TAI HEO MUỐI 400G | C41: 8938529045634 | D41: 203631 | E41: EA | F41: 2
A42: 2 | B42: CHÂN GIÒ HEO MUỐI 500G | C42: 8938529045238 | D42: 203634 | E42: EA | F42: 1
A43: 3 | B43: GIÒ TAI LƯỠI XÀO 250G | C43: 8938529045030 | D43: 261126 | E43: EA | F43: 1
A44: 4 | B44: CHÂN GÀ SẢ TẮC 250G | C44: 8938529045443 | D44: 315116 | E44: TÚI | F44: 4
...

Sheet TONG HOP
A1: TRUNG TÂM ĐIỀU HÀNH SATRAFOODS | G1: CỘNG HÒA XÃ HỘI CHỦ NGHĨA VIỆT NAM
G2: Độc lập – Tự do – Hạnh phúc | H2: Độc lập – Tự do – Hạnh phúc
H3: ----------oOo-------------
A4: BIÊN BẢN XUẤT TRẢ HÀNG HÓA
A5: Hôm nay, ngày 22 tháng 07 năm 2026, với sự chứng kiến của:
A6: Đại diện bên giao: KHO TTĐH SATRAFOODS
A7: Ông (bà): NGUYỄN THỊ THU
A8: Địa chỉ: 7A/1 THÀNH THÁI, PHƯỜNG DIÊN HỒNG, TPHCM
A9: Đại diện bên nhận: CÔNG TY TNHH MỘT THÀNH VIÊN THƯƠNG MẠI VÀ DỊCH VỤ NGỌC THƠM (VD-00000426)
A10: Ông (bà):
A11: Địa chỉ: 12/14/18 Đường 49, khu phố 7, Phường Hiệp Bình, Thành phố Hồ Chí Minh,VNM
A12: Mã số thuế: 0309391503
A13: Lý do xuất trả hàng: CẬN DATE-NCC LẤY HÀNG TẠI CH THÁNG 06+07/2026
A14: Hai bên đồng ý giao và nhận các loại hàng hóa sau: | I14: =SUM(I18:I28) -> 207
A16: STT | B16: TÊN HÀNG | C16: MÃ HÀNG | E16: XUẤT TRẢ THEO HĐ | G16: SỐ PO | H16: ĐVT | I16: SỐ LƯỢNG | J16: ĐƠN GIÁ | K16: THÀNH TIỀN
E17: SỐ | F17: NGÀY
A18: =ROW()-17 -> 1 | B18: CHÂN GIÒ HEO MUỐI 300G | C18: 8938508668014 ITEM: 203630 | D18: 203630 | H18: TÚI | I18: =SUMIF('CHI TIẾT'!$D$20:$F$143,'TONG HOP'!D18,'CHI TIẾT'!$F$20:$F$143) -> 14 | J18: 79159 | K18: =J18*I18 -> 1108226
A19: =ROW()-17 -> 2 | B19: TAI HEO MUỐI 400G | C19: 8938508668304 ITEM: 203631 | D19: 203631 | H19: TÚI | I19: =SUMIF('CHI TIẾT'!$D$20:$F$143,'TONG HOP'!D19,'CHI TIẾT'!$F$20:$F$143) -> 11 | J19: 115567 | K19: =J19*I19 -> 1271237
A20: =ROW()-17 -> 3 | B20: GÀ MUỐI 500G | C20: 8938508668212 ITEM: 203632 | D20: 203632 | H20: TÚI | I20: =SUMIF('CHI TIẾT'!$D$20:$F$143,'TONG HOP'!D20,'CHI TIẾT'!$F$20:$F$143) -> 71 | J20: 114279 | K20: =J20*I20 -> 8113809
A21: =ROW()-17 -> 4 | B21: CHÂN GIÒ HEO MUỐI 500G | C21: 8938529045238 ITEM: 203634 | D21: 203634 | H21: TÚI | I21: =SUMIF('CHI TIẾT'!$D$20:$F$143,'TONG HOP'!D21,'CHI TIẾT'!$F$20:$F$143) -> 2 | J21: 123686 | K21: =J21*I21 -> 247372
A22: =ROW()-17 -> 5 | B22: TAI HEO MUỐI 200G | C22: 8938508668328 ITEM: 236665 | D22: 236665 | H22: TÚI | I22: =SUMIF('CHI TIẾT'!$D$20:$F$143,'TONG HOP'!D22,'CHI TIẾT'!$F$20:$F$143) -> 24 | J22: 59932 | K22: =J22*I22 -> 1438368
A23: =ROW()-17 -> 6 | B23: GIÒ TAI LƯỠI XÀO 250G | C23: 8938529045030 ITEM: 261126 | D23: 261126 | H23: TÚI | I23: =SUMIF('CHI TIẾT'!$D$20:$F$143,'TONG HOP'!D23,'CHI TIẾT'!$F$20:$F$143) -> 26 | J23: 54097 | K23: =J23*I23 -> 1406522
A24: =ROW()-17 -> 7 | B24: MỌC NẤM HƯƠNG 250G | C24: 8938529045047 ITEM: 261127 | D24: 261127 | H24: TÚI | I24: =SUMIF('CHI TIẾT'!$D$20:$F$143,'TONG HOP'!D24,'CHI TIẾT'!$F$20:$F$143) -> 14 | J24: 46000 | K24: =J24*I24 -> 644000
A25: =ROW()-17 -> 8 | B25: CHÂN GÀ SẢ TẮC 250G | C25: 8938529045443 ITEM: 315116 | D25: 315116 | H25: HỘP | I25: =SUMIF('CHI TIẾT'!$D$20:$F$143,'TONG HOP'!D25,'CHI TIẾT'!$F$20:$F$143) -> 15 | J25: 36750 | K25: =J25*I25 -> 551250
A26: =ROW()-17 -> 9 | B26: TAI HEO SỐT THÁI 250G | C26: 8938529045467 ITEM: 315117 | D26: 315117 | H26: HỘP | I26: =SUMIF('CHI TIẾT'!$D$20:$F$143,'TONG HOP'!D26,'CHI TIẾT'!$F$20:$F$143) -> 18 | J26: 35389 | K26: =J26*I26 -> 637002
A27: =ROW()-17 -> 10 | B27: CHÂN GIÒ HEO MUỐI VỊ TAYAKI TÚI 450G | C27: 8938529045832 ITEM: 317010 | D27: 317010 | H27: TÚI | I27: =SUMIF('CHI TIẾT'!$D$20:$F$143,'TONG HOP'!D27,'CHI TIẾT'!$F$20:$F$143) -> 4 | J27: 104615 | K27: =J27*I27 -> 418460
A28: =ROW()-17 -> 11 | B28: GÀ MUỐI HUN CỎ XẠ HƯƠNG TÚI 500G | C28: 8938529045795 ITEM: 317011 | D28: 317011 | H28: TÚI | I28: =SUMIF('CHI TIẾT'!$D$20:$F$143,'TONG HOP'!D28,'CHI TIẾT'!$F$20:$F$143) -> 8 | J28: 114279 | K28: =J28*I28 -> 914232
E29: CỘNG TIỀN HÀNG | K29: =SUM(K18:K28) -> 16750478
E30: TIỀN THUẾ GTGT
B31: THUẾ SUẤT 8% | K31: =K29*0.08 -> 1340038.2
E32: TỔNG CỘNG | K32: =K29+K31 -> 18090516
B34: BẰNG CHỮ:
B35: Biên bản này được lập thành 02(hai) bản,mỗi bên giữ 01(một) bản.
A37: Phòng Kinh Doanh Tiếp Thị | C37: Phòng Tài Chính Kế Toán | G37: Đại Diện Bên Nhận(NCC) | J37: Đại Diện Bên Giao
