Workbook

Sheet CHI TIẾT-nháp
G1: I-02300800 | L1: I-02300800 | P1: I-02539399 | Q1: =SUMIF(L:L,P1,K:K) -> 1068948
A2: TRUNG TÂM ĐIỀU HÀNH SATRAFOODS | D2: CỘNG HÒA XÃ HỘI CHỦ NGHĨA VIỆT NAM | P2: I-02538943 | Q2: =SUMIF(L:L,P2,K:K) -> 526084
D3: Độc lập – Tự do – Hạnh phúc | P3: I-02542947 | Q3: =SUMIF(L:L,P3,K:K) -> 308586
D4: ----------oOo------------- | P4: I-02543344 | Q4: =SUMIF(L:L,P4,K:K) -> 505749
P5: I-02544216 | Q5: =SUMIF(L:L,P5,K:K) -> 175274
A6: BẢNG KÊ XUẤT TRẢ HÀNG HÓA | P6: I-02547030 | Q6: =SUMIF(L:L,P6,K:K) -> 518793
P7: I-02548552 | Q7: =SUMIF(L:L,P7,K:K) -> 382058
A8: Căn cứ vào: | P8: I-02548648 | Q8: =SUMIF(L:L,P8,K:K) -> 181846
A9: + | B9: thời hạn cận date của hàng trả; | P9: I-02549206 | Q9: =SUMIF(L:L,P9,K:K) -> 64727
A10: + | B10: tình trạng bán chậm của hàng trả; | P10: I-02539074 | Q10: =SUMIF(L:L,P10,K:K) -> 767215
A11: + | B11: 1210 | P11: I-02549531 | Q11: =SUMIF(L:L,P11,K:K) -> 499717
P12: I-02550960 | Q12: =SUMIF(L:L,P12,K:K) -> 233699
A13: Hôm nay ngày : 21.08.2026 | C13: ,Cửa hàng chúng tôi đề nghị được trả hàng cho Nhà Cung cấp của TTĐH: | P13: I-02550060 | Q13: =SUMIF(L:L,P13,K:K) -> 371821
A14: Hai bên đồng ý giao và nhận các loại hàng hóa sau: | P14: I-02550822 | Q14: =SUMIF(L:L,P14,K:K) -> 640920
A15: NHÀ CUNG CẤP: NGỌC THƠM (VD-00000426) | C15: với các nội dung sau: | E15: THÁNG 8/2026 | P15: I-02551291 | Q15: =SUMIF(L:L,P15,K:K) -> 380424
P16: I-02546984 | Q16: =SUMIF(L:L,P16,K:K) -> 433731
B17: Tên, nhãn hiệu, quy cách, phẩm | F17: Số lượng yêu cầu | G17: Số tham chiếu - Phiếu Xuất kho số | L17: Số tham chiếu - Phiếu Xuất kho số | P17: I-02553459 | Q17: =SUMIF(L:L,P17,K:K) -> 208913
A18: STT | B18: chất vật tư, dụng cụ sản phẩm, hàng hóa | C18: Barcode | D18: Mã số | E18: Đơn vị tính | P18: I-02553702 | Q18: =SUMIF(L:L,P18,K:K) -> 123421
A19: A | B19: B | C19: C | D19: D | E19: E | P19: I-02554083 | Q19: =SUMIF(L:L,P19,K:K) -> 123152
B20: CỬA HÀNG: LÊ VĂN LƯƠNG (1040) | G20: I-02539399 | H20: =IFERROR(VLOOKUP(B20,'TONG HOP'!$B$18:$J$28,9,0),"") | L20: I-02539399 | P20: I-02556115 | Q20: =SUMIF(L:L,P20,K:K) -> 188148
A21: 1 | B21: GIÒ TAI LƯỠI XÀO 250G | C21: 8938529045030 | D21: 261126 | E21: EA | F21: 2 | H21: =IFERROR(VLOOKUP(B21,'TONG HOP'!$B$18:$J$28,9,0),"") -> 54097 | I21: =IFERROR(H21*F21,"") -> 108194 | J21: =IFERROR(ROUND(I21*8%,0),"") -> 8656 | K21: =IFERROR(J21+I21,"") -> 116850 | L21: I-02539399 | P21: I-02554930 | Q21: =SUMIF(L:L,P21,K:K) -> 39690
A22: 2 | B22: TAI HEO MUỐI 200G | C22: 8938529045627 | D22: 236665 | E22: EA | F22: 3 | H22: =IFERROR(VLOOKUP(B22,'TONG HOP'!$B$18:$J$28,9,0),"") -> 59932 | I22: =IFERROR(H22*F22,"") -> 179796 | J22: =IFERROR(ROUND(I22*8%,0),"") -> 14384 | K22: =IFERROR(J22+I22,"") -> 194180 | L22: I-02539399 | P22: I-02554699 | Q22: =SUMIF(L:L,P22,K:K) -> 58425
A23: 3 | B23: CHÂN GIÒ HEO MUỐI 300G | C23: 8938529045856 | D23: 203630 | E23: EA | F23: 1 | H23: =IFERROR(VLOOKUP(B23,'TONG HOP'!$B$18:$J$28,9,0),"") -> 79159 | I23: =IFERROR(H23*F23,"") -> 79159 | J23: =IFERROR(ROUND(I23*8%,0),"") -> 6333 | K23: =IFERROR(J23+I23,"") -> 85492 | L23: I-02539399 | P23: I-02555042 | Q23: =SUMIF(L:L,P23,K:K) -> 246843
A24: 4 | B24: GÀ MUỐI HUN CỎ XẠ HƯƠNG TÚI 500G | C24: 8938529045795 | D24: 317011 | E24: TÚI | F24: 2 | H24: =IFERROR(VLOOKUP(B24,'TONG HOP'!$B$18:$J$28,9,0),"") -> 114279 | I24: =IFERROR(H24*F24,"") -> 228558 | J24: =IFERROR(ROUND(I24*8%,0),"") -> 18285 | K24: =IFERROR(J24+I24,"") -> 246843 | L24: I-02539399 | P24: I-02554082 | Q24: =SUMIF(L:L,P24,K:K) -> 323493
A25: 5 | B25: GÀ MUỐI 500G | C25: 8938529045924 | D25: 203632 | E25: EA | F25: 2 | H25: =IFERROR(VLOOKUP(B25,'TONG HOP'!$B$18:$J$28,9,0),"") -> 114279 | I25: =IFERROR(H25*F25,"") -> 228558 | J25: =IFERROR(ROUND(I25*8%,0),"") -> 18285 | K25: =IFERROR(J25+I25,"") -> 246843 | L25: I-02539399 | P25: I-02554992 | Q25: =SUMIF(L:L,P25,K:K) -> 382327
A26: 6 | B26: CHÂN GÀ SẢ TẮC 250G | C26: 8938529045443 | D26: 315116 | E26: TÚI | F26: 2 | H26: =IFERROR(VLOOKUP(B26,'TONG HOP'!$B$18:$J$28,9,0),"") -> 36750 | I26: =IFERROR(H26*F26,"") -> 73500 | J26: =IFERROR(ROUND(I26*8%,0),"") -> 5880 | K26: =IFERROR(J26+I26,"") -> 79380 | L26: I-02539399 | P26: I-02557410 | Q26: =SUMIF(L:L,P26,K:K) -> 676922
A27: 7 | B27: MỌC NẤM HƯƠNG 250G | C27: 8938529045047 | D27: 261127 | E27: EA | F27: 2 | H27: =IFERROR(VLOOKUP(B27,'TONG HOP'!$B$18:$J$28,9,0),"") -> 46000 | I27: =IFERROR(H27*F27,"") -> 92000 | J27: =IFERROR(ROUND(I27*8%,0),"") -> 7360 | K27: =IFERROR(J27+I27,"") -> 99360 | L27: I-02539399
B28: CỬA HÀNG: CỦ CHI 6 (1225) | G28: I-02538943 | H28: =IFERROR(VLOOKUP(B28,'TONG HOP'!$B$18:$J$28,9,0),"") | I28: =IFERROR(H28*F28,"") | J28: =IFERROR(ROUND(I28*8%,0),"") | K28: =IFERROR(J28+I28,"") | L28: I-02538943
A29: 1 | B29: CHÂN GÀ SẢ TẮC 250G | C29: 8938529045443 | D29: 315116 | E29: TÚI | F29: 2 | H29: =IFERROR(VLOOKUP(B29,'TONG HOP'!$B$18:$J$28,9,0),"") -> 36750 | I29: =IFERROR(H29*F29,"") -> 73500 | J29: =IFERROR(ROUND(I29*8%,0),"") -> 5880 | K29: =IFERROR(J29+I29,"") -> 79380 | L29: I-02538943
A30: 2 | B30: TAI HEO SỐT THÁI 250G | C30: 8938529045467 | D30: 315117 | E30: TÚI | F30: 2 | H30: =IFERROR(VLOOKUP(B30,'TONG HOP'!$B$18:$J$28,9,0),"") -> 35389 | I30: =IFERROR(H30*F30,"") -> 70778 | J30: =IFERROR(ROUND(I30*8%,0),"") -> 5662 | K30: =IFERROR(J30+I30,"") -> 76440 | L30: I-02538943
A31: 3 | B31: GÀ MUỐI 500G | C31: 8938529045924 | D31: 203632 | E31: EA | F31: 3 | H31: =IFERROR(VLOOKUP(B31,'TONG HOP'!$B$18:$J$28,9,0),"") -> 114279 | I31: =IFERROR(H31*F31,"") -> 342837 | J31: =IFERROR(ROUND(I31*8%,0),"") -> 27427 | K31: =IFERROR(J31+I31,"") -> 370264 | L31: I-02538943
B32: CỬA HÀNG: TRẦN VĂN MƯỜI (1120) | G32: I-02542947 | H32: =IFERROR(VLOOKUP(B32,'TONG HOP'!$B$18:$J$28,9,0),"") | I32: =IFERROR(H32*F32,"") | J32: =IFERROR(ROUND(I32*8%,0),"") | K32: =IFERROR(J32+I32,"") | L32: I-02542947
A33: 1 | B33: TAI HEO MUỐI 200G | C33: 8938529045627 | D33: 236665 | E33: EA | F33: 4 | H33: =IFERROR(VLOOKUP(B33,'TONG HOP'!$B$18:$J$28,9,0),"") -> 59932 | I33: =IFERROR(H33*F33,"") -> 239728 | J33: =IFERROR(ROUND(I33*8%,0),"") -> 19178 | K33: =IFERROR(J33+I33,"") -> 258906 | L33: I-02542947
A34: 2 | B34: MỌC NẤM HƯƠNG 250G | C34: 8938529045047 | D34: 261127 | E34: EA | F34: 1 | H34: =IFERROR(VLOOKUP(B34,'TONG HOP'!$B$18:$J$28,9,0),"") -> 46000 | I34: =IFERROR(H34*F34,"") -> 46000 | J34: =IFERROR(ROUND(I34*8%,0),"") -> 3680 | K34: =IFERROR(J34+I34,"") -> 49680 | L34: I-02542947
B35: CỬA HÀNG: THẠNH LỘC 27 (1210) | G35: I-02543344 | H35: =IFERROR(VLOOKUP(B35,'TONG HOP'!$B$18:$J$28,9,0),"") | I35: =IFERROR(H35*F35,"") | J35: =IFERROR(ROUND(I35*8%,0),"") | K35: =IFERROR(J35+I35,"") | L35: I-02543344
A36: 1 | B36: TAI HEO MUỐI 200G | C36: 8938529045627 | D36: 236665 | E36: EA | F36: 4 | H36: =IFERROR(VLOOKUP(B36,'TONG HOP'!$B$18:$J$28,9,0),"") -> 59932 | I36: =IFERROR(H36*F36,"") -> 239728 | J36: =IFERROR(ROUND(I36*8%,0),"") -> 19178 | K36: =IFERROR(J36+I36,"") -> 258906 | L36: I-02543344
A37: 2 | B37: GÀ MUỐI 500G | C37: 8938529045924 | D37: 203632 | E37: EA | F37: 2 | H37: =IFERROR(VLOOKUP(B37,'TONG HOP'!$B$18:$J$28,9,0),"") -> 114279 | I37: =IFERROR(H37*F37,"") -> 228558 | J37: =IFERROR(ROUND(I37*8%,0),"") -> 18285 | K37: =IFERROR(J37+I37,"") -> 246843 | L37: I-02543344
B38: CỬA HÀNG: ĐƯỜNG SỐ 41 (1019) | G38: I-02544216 | H38: =IFERROR(VLOOKUP(B38,'TONG HOP'!$B$18:$J$28,9,0),"") | I38: =IFERROR(H38*F38,"") | J38: =IFERROR(ROUND(I38*8%,0),"") | K38: =IFERROR(J38+I38,"") | L38: I-02544216
A39: 1 | B39: GIÒ TAI LƯỠI XÀO 250G | D39: 261126 | E39: EA | F39: 3 | H39: =IFERROR(VLOOKUP(B39,'TONG HOP'!$B$18:$J$28,9,0),"") -> 54097 | I39: =IFERROR(H39*F39,"") -> 162291 | J39: =IFERROR(ROUND(I39*8%,0),"") -> 12983 | K39: =IFERROR(J39+I39,"") -> 175274 | L39: I-02544216
B40: CỬA HÀNG: TÔ KÝ 1 (1068) | G40: I-02547030 | H40: =IFERROR(VLOOKUP(B40,'TONG HOP'!$B$18:$J$28,9,0),"") | I40: =IFERROR(H40*F40,"") | J40: =IFERROR(ROUND(I40*8%,0),"") | K40: =IFERROR(J40+I40,"") | L40: I-02547030
A41: 1 | B41: CHÂN GÀ SẢ TẮC 250G | D41: 315116 | E41: TÚI | F41: 3 | H41: =IFERROR(VLOOKUP(B41,'TONG HOP'!$B$18:$J$28,9,0),"") -> 36750 | I41: =IFERROR(H41*F41,"") -> 110250 | J41: =IFERROR(ROUND(I41*8%,0),"") -> 8820 | K41: =IFERROR(J41+I41,"") -> 119070 | L41: I-02547030
A42: 2 | B42: TAI HEO SỐT THÁI 250G | D42: 315117 | E42: TÚI | F42: 4 | H42: =IFERROR(VLOOKUP(B42,'TONG HOP'!$B$18:$J$28,9,0),"") -> 35389 | I42: =IFERROR(H42*F42,"") -> 141556 | J42: =IFERROR(ROUND(I42*8%,0),"") -> 11324 | K42: =IFERROR(J42+I42,"") -> 152880 | L42: I-02547030
A43: 3 | B43: GÀ MUỐI HUN CỎ XẠ HƯƠNG TÚI 500G | C43: 8938529045795 | D43: 317011 | E43: TÚI | F43: 2 | H43: =IFERROR(VLOOKUP(B43,'TONG HOP'!$B$18:$J$28,9,0),"") -> 114279 | I43: =IFERROR(H43*F43,"") -> 228558 | J43: =IFERROR(ROUND(I43*8%,0),"") -> 18285 | K43: =IFERROR(J43+I43,"") -> 246843 | L43: I-02547030
B44: CỬA HÀNG: LÊ THÁNH TÔN (1048) | G44: I-02548552 | H44: =IFERROR(VLOOKUP(B44,'TONG HOP'!$B$18:$J$28,9,0),"") | I44: =IFERROR(H44*F44,"") | J44: =IFERROR(ROUND(I44*8%,0),"") | K44: =IFERROR(J44+I44,"") | L44: I-02548552
A45: 1 | B45: TAI HEO MUỐI 200G | D45: 236665 | E45: EA | F45: 5 | H45: =IFERROR(VLOOKUP(B45,'TONG HOP'!$B$18:$J$28,9,0),"") -> 59932 | I45: =IFERROR(H45*F45,"") -> 299660 | J45: =IFERROR(ROUND(I45*8%,0),"") -> 23973 | K45: =IFERROR(J45+I45,"") -> 323633 | L45: I-02548552
A46: 2 | B46: GIÒ TAI LƯỠI XÀO 250G | C46: 8938529045030 | D46: 261126 | E46: EA | F46: 1 | H46: =IFERROR(VLOOKUP(B46,'TONG HOP'!$B$18:$J$28,9,0),"") -> 54097 | I46: =IFERROR(H46*F46,"") -> 54097 | J46: =IFERROR(ROUND(I46*8%,0),"") -> 4328 | K46: =IFERROR(J46+I46,"") -> 58425 | L46: I-02548552
B47: CỬA HÀNG: LÊ THỊ RIÊNG (1022) | G47: I-02548648 | H47: =IFERROR(VLOOKUP(B47,'TONG HOP'!$B$18:$J$28,9,0),"") | I47: =IFERROR(H47*F47,"") | J47: =IFERROR(ROUND(I47*8%,0),"") | K47: =IFERROR(J47+I47,"") | L47: I-02548648
A48: 1 | B48: GIÒ TAI LƯỠI XÀO 250G | D48: 261126 | E48: EA | F48: 1 | H48: =IFERROR(VLOOKUP(B48,'TONG HOP'!$B$18:$J$28,9,0),"") -> 54097 | I48: =IFERROR(H48*F48,"") -> 54097 | J48: =IFERROR(ROUND(I48*8%,0),"") -> 4328 | K48: =IFERROR(J48+I48,"") -> 58425 | L48: I-02548648
A49: 2 | B49: GÀ MUỐI 500G | D49: 203632 | E49: EA | F49: 1 | H49: =IFERROR(VLOOKUP(B49,'TONG HOP'!$B$18:$J$28,9,0),"") -> 114279 | I49: =IFERROR(H49*F49,"") -> 114279 | J49: =IFERROR(ROUND(I49*8%,0),"") -> 9142 | K49: =IFERROR(J49+I49,"") -> 123421 | L49: I-02548648
B50: CỬA HÀNG: DƯƠNG CÔNG KHI (1147) | G50: I-02549206 | H50: =IFERROR(VLOOKUP(B50,'TONG HOP'!$B$18:$J$28,9,0),"") | I50: =IFERROR(H50*F50,"") | J50: =IFERROR(ROUND(I50*8%,0),"") | K50: =IFERROR(J50+I50,"") | L50: I-02549206
A51: 1 | B51: TAI HEO MUỐI 200G | C51: 8938529045627 | D51: 236665 | E51: EA | F51: 1 | H51: =IFERROR(VLOOKUP(B51,'TONG HOP'!$B$18:$J$28,9,0),"") -> 59932 | I51: =IFERROR(H51*F51,"") -> 59932 | J51: =IFERROR(ROUND(I51*8%,0),"") -> 4795 | K51: =IFERROR(J51+I51,"") -> 64727 | L51: I-02549206
B52: CỬA HÀNG: HƯƠNG LỘ 2-2 (1173) | G52: I-02539074 | H52: =IFERROR(VLOOKUP(B52,'TONG HOP'!$B$18:$J$28,9,0),"") | I52: =IFERROR(H52*F52,"") | J52: =IFERROR(ROUND(I52*8%,0),"") | K52: =IFERROR(J52+I52,"") | L52: I-02539074
A53: 1 | B53: GÀ MUỐI 500G | C53: 8938529045924 | D53: 203632 | E53: EA | F53: 2 | H53: =IFERROR(VLOOKUP(B53,'TONG HOP'!$B$18:$J$28,9,0),"") -> 114279 | I53: =IFERROR(H53*F53,"") -> 228558 | J53: =IFERROR(ROUND(I53*8%,0),"") -> 18285 | K53: =IFERROR(J53+I53,"") -> 246843 | L53: I-02539074
A54: 2 | B54: CHÂN GIÒ HEO MUỐI VỊ TAYAKI TÚI 450G | C54: 8938529045832 | D54: 317010 | E54: TÚI | F54: 2 | H54: =IFERROR(VLOOKUP(B54,'TONG HOP'!$B$18:$J$28,9,0),"") -> 104615 | I54: =IFERROR(H54*F54,"") -> 209230 | J54: =IFERROR(ROUND(I54*8%,0),"") -> 16738 | K54: =IFERROR(J54+I54,"") -> 225968 | L54: I-02539074
A55: 3 | B55: GÀ MUỐI HUN CỎ XẠ HƯƠNG TÚI 500G | C55: 8938529045795 | D55: 317011 | E55: TÚI | F55: 1 | H55: =IFERROR(VLOOKUP(B55,'TONG HOP'!$B$18:$J$28,9,0),"") -> 114279 | I55: =IFERROR(H55*F55,"") -> 114279 | J55: =IFERROR(ROUND(I55*8%,0),"") -> 9142 | K55: =IFERROR(J55+I55,"") -> 123421 | L55: I-02539074
A56: 4 | B56: CHÂN GIÒ HEO MUỐI 300G | C56: 8938529045856 | D56: 203630 | E56: EA | F56: 2 | H56: =IFERROR(VLOOKUP(B56,'TONG HOP'!$B$18:$J$28,9,0),"") -> 79159 | I56: =IFERROR(H56*F56,"") -> 158318 | J56: =IFERROR(ROUND(I56*8%,0),"") -> 12665 | K56: =IFERROR(J56+I56,"") -> 170983 | L56: I-02539074
B57: CỬA HÀNG: PHẠM THẾ HIỂN 3 (1101) | G57: I-02549531 | H57: =IFERROR(VLOOKUP(B57,'TONG HOP'!$B$18:$J$28,9,0),"") | I57: =IFERROR(H57*F57,"") | J57: =IFERROR(ROUND(I57*8%,0),"") | K57: =IFERROR(J57+I57,"") | L57: I-02549531
A58: 1 | B58: TAI HEO MUỐI 200G | D58: 236665 | E58: EA | F58: 2 | H58: =IFERROR(VLOOKUP(B58,'TONG HOP'!$B$18:$J$28,9,0),"") -> 59932 | I58: =IFERROR(H58*F58,"") -> 119864 | J58: =IFERROR(ROUND(I58*8%,0),"") -> 9589 | K58: =IFERROR(J58+I58,"") -> 129453 | L58: I-02549531
A59: 2 | B59: GÀ MUỐI 500G | D59: 203632 | E59: EA | F59: 3 | H59: =IFERROR(VLOOKUP(B59,'TONG HOP'!$B$18:$J$28,9,0),"") -> 114279 | I59: =IFERROR(H59*F59,"") -> 342837 | J59: =IFERROR(ROUND(I59*8%,0),"") -> 27427 | K59: =IFERROR(J59+I59,"") -> 370264 | L59: I-02549531
B60: CỬA HÀNG: CỦ CHI 9 (1137) | G60: I-02550960 | H60: =IFERROR(VLOOKUP(B60,'TONG HOP'!$B$18:$J$28,9,0),"") | I60: =IFERROR(H60*F60,"") | J60: =IFERROR(ROUND(I60*8%,0),"") | K60: =IFERROR(J60+I60,"") | L60: I-02550960
A61: 1 | B61: GIÒ TAI LƯỠI XÀO 250G | D61: 261126 | E61: EA | F61: 4 | H61: =IFERROR(VLOOKUP(B61,'TONG HOP'!$B$18:$J$28,9,0),"") -> 54097 | I61: =IFERROR(H61*F61,"") -> 216388 | J61: =IFERROR(ROUND(I61*8%,0),"") -> 17311 | K61: =IFERROR(J61+I61,"") -> 233699 | L61: I-02550960
B62: CỬA HÀNG: HOÀNG HOA THÁM (1092) | G62: I-02550060 | H62: =IFERROR(VLOOKUP(B62,'TONG HOP'!$B$18:$J$28,9,0),"") | I62: =IFERROR(H62*F62,"") | J62: =IFERROR(ROUND(I62*8%,0),"") | K62: =IFERROR(J62+I62,"") | L62: I-02550060
A63: 1 | B63: MỌC NẤM HƯƠNG 250G | D63: 261127 | E63: EA | F63: 5 | H63: =IFERROR(VLOOKUP(B63,'TONG HOP'!$B$18:$J$28,9,0),"") -> 46000 | I63: =IFERROR(H63*F63,"") -> 230000 | J63: =IFERROR(ROUND(I63*8%,0),"") -> 18400 | K63: =IFERROR(J63+I63,"") -> 248400 | L63: I-02550060
A64: 2 | B64: GÀ MUỐI HUN CỎ XẠ HƯƠNG TÚI 500G | C64: 8938529045795 | D64: 317011 | E64: TÚI | F64: 1 | H64: =IFERROR(VLOOKUP(B64,'TONG HOP'!$B$18:$J$28,9,0),"") -> 114279 | I64: =IFERROR(H64*F64,"") -> 114279 | J64: =IFERROR(ROUND(I64*8%,0),"") -> 9142 | K64: =IFERROR(J64+I64,"") -> 123421 | L64: I-02550060
B65: CỬA HÀNG: BÙI CÔNG TRỪNG (1142) | G65: I-02550822 | H65: =IFERROR(VLOOKUP(B65,'TONG HOP'!$B$18:$J$28,9,0),"") | I65: =IFERROR(H65*F65,"") | J65: =IFERROR(ROUND(I65*8%,0),"") | K65: =IFERROR(J65+I65,"") | L65: I-02550822
A66: 1 | B66: GIÒ TAI LƯỠI XÀO 250G | C66: 8938529045030 | D66: 261126 | E66: EA | F66: 4 | H66: =IFERROR(VLOOKUP(B66,'TONG HOP'!$B$18:$J$28,9,0),"") -> 54097 | I66: =IFERROR(H66*F66,"") -> 216388 | J66: =IFERROR(ROUND(I66*8%,0),"") -> 17311 | K66: =IFERROR(J66+I66,"") -> 233699 | L66: I-02550822
A67: 2 | B67: TAI HEO MUỐI 200G | C67: 8938529045627 | D67: 236665 | E67: EA | F67: 1 | H67: =IFERROR(VLOOKUP(B67,'TONG HOP'!$B$18:$J$28,9,0),"") -> 59932 | I67: =IFERROR(H67*F67,"") -> 59932 | J67: =IFERROR(ROUND(I67*8%,0),"") -> 4795 | K67: =IFERROR(J67+I67,"") -> 64727 | L67: I-02550822
A68: 3 | B68: CHÂN GIÒ HEO MUỐI 300G | C68: 8938529045856 | D68: 203630 | E68: EA | F68: 1 | H68: =IFERROR(VLOOKUP(B68,'TONG HOP'!$B$18:$J$28,9,0),"") -> 79159 | I68: =IFERROR(H68*F68,"") -> 79159 | J68: =IFERROR(ROUND(I68*8%,0),"") -> 6333 | K68: =IFERROR(J68+I68,"") -> 85492 | L68: I-02550822
A69: 4 | B69: GÀ MUỐI 500G | C69: 8938529045924 | D69: 203632 | E69: EA | F69: 1 | H69: =IFERROR(VLOOKUP(B69,'TONG HOP'!$B$18:$J$28,9,0),"") -> 114279 | I69: =IFERROR(H69*F69,"") -> 114279 | J69: =IFERROR(ROUND(I69*8%,0),"") -> 9142 | K69: =IFERROR(J69+I69,"") -> 123421 | L69: I-02550822
A70: 5 | B70: CHÂN GIÒ HEO MUỐI 500G | C70: 8938529045238 | D70: 203634 | E70: EA | F70: 1 | H70: =IFERROR(VLOOKUP(B70,'TONG HOP'!$B$18:$J$28,9,0),"") -> 123686 | I70: =IFERROR(H70*F70,"") -> 123686 | J70: =IFERROR(ROUND(I70*8%,0),"") -> 9895 | K70: =IFERROR(J70+I70,"") -> 133581 | L70: I-02550822
B71: CỬA HÀNG: KHA VẠN CÂN (1011) | G71: I-02551291 | H71: =IFERROR(VLOOKUP(B71,'TONG HOP'!$B$18:$J$28,9,0),"") | I71: =IFERROR(H71*F71,"") | J71: =IFERROR(ROUND(I71*8%,0),"") | K71: =IFERROR(J71+I71,"") | L71: I-02551291
A72: 1 | B72: GÀ MUỐI 500G | D72: 203632 | E72: EA | F72: 2 | H72: =IFERROR(VLOOKUP(B72,'TONG HOP'!$B$18:$J$28,9,0),"") -> 114279 | I72: =IFERROR(H72*F72,"") -> 228558 | J72: =IFERROR(ROUND(I72*8%,0),"") -> 18285 | K72: =IFERROR(J72+I72,"") -> 246843 | L72: I-02551291
A73: 2 | B73: CHÂN GIÒ HEO MUỐI 500G | D73: 203634 | E73: EA | F73: 1 | H73: =IFERROR(VLOOKUP(B73,'TONG HOP'!$B$18:$J$28,9,0),"") -> 123686 | I73: =IFERROR(H73*F73,"") -> 123686 | J73: =IFERROR(ROUND(I73*8%,0),"") -> 9895 | K73: =IFERROR(J73+I73,"") -> 133581 | L73: I-02551291
B74: CỬA HÀNG: HOÀNG NGỌC PHÁCH (1224) | G74: I-02546984 | H74: =IFERROR(VLOOKUP(B74,'TONG HOP'!$B$18:$J$28,9,0),"") | I74: =IFERROR(H74*F74,"") | J74: =IFERROR(ROUND(I74*8%,0),"") | K74: =IFERROR(J74+I74,"") | L74: I-02546984
A75: 1 | B75: TAI HEO SỐT THÁI 250G | C75: 8938529045467 | D75: 315117 | E75: TÚI | F75: 2 | H75: =IFERROR(VLOOKUP(B75,'TONG HOP'!$B$18:$J$28,9,0),"") -> 35389 | I75: =IFERROR(H75*F75,"") -> 70778 | J75: =IFERROR(ROUND(I75*8%,0),"") -> 5662 | K75: =IFERROR(J75+I75,"") -> 76440 | L75: I-02546984
A76: 2 | B76: CHÂN GÀ SẢ TẮC 250G | C76: 8938529045443 | D76: 315116 | E76: TÚI | F76: 1 | H76: =IFERROR(VLOOKUP(B76,'TONG HOP'!$B$18:$J$28,9,0),"") -> 36750 | I76: =IFERROR(H76*F76,"") -> 36750 | J76: =IFERROR(ROUND(I76*8%,0),"") -> 2940 | K76: =IFERROR(J76+I76,"") -> 39690 | L76: I-02546984
A77: 3 | B77: GÀ MUỐI 500G | C77: 8938529045924 | D77: 203632 | E77: EA | F77: 1 | H77: =IFERROR(VLOOKUP(B77,'TONG HOP'!$B$18:$J$28,9,0),"") -> 114279 | I77: =IFERROR(H77*F77,"") -> 114279 | J77: =IFERROR(ROUND(I77*8%,0),"") -> 9142 | K77: =IFERROR(J77+I77,"") -> 123421 | L77: I-02546984
A78: 4 | B78: TAI HEO MUỐI 200G | C78: 8938529045627 | D78: 236665 | E78: EA | F78: 3 | H78: =IFERROR(VLOOKUP(B78,'TONG HOP'!$B$18:$J$28,9,0),"") -> 59932 | I78: =IFERROR(H78*F78,"") -> 179796 | J78: =IFERROR(ROUND(I78*8%,0),"") -> 14384 | K78: =IFERROR(J78+I78,"") -> 194180 | L78: I-02546984
B79: CỬA HÀNG: NGUYỄN THƯỢNG HIỀN (1109) | G79: I-02553459 | H79: =IFERROR(VLOOKUP(B79,'TONG HOP'!$B$18:$J$28,9,0),"") | I79: =IFERROR(H79*F79,"") | J79: =IFERROR(ROUND(I79*8%,0),"") | K79: =IFERROR(J79+I79,"") | L79: I-02553459
A80: 1 | B80: GÀ MUỐI 500G | D80: 203632 | E80: EA | F80: 1 | H80: =IFERROR(VLOOKUP(B80,'TONG HOP'!$B$18:$J$28,9,0),"") -> 114279 | I80: =IFERROR(H80*F80,"") -> 114279 | J80: =IFERROR(ROUND(I80*8%,0),"") -> 9142 | K80: =IFERROR(J80+I80,"") -> 123421 | L80: I-02553459
A81: 2 | B81: CHÂN GIÒ HEO MUỐI 300G | D81: 203630 | E81: EA | F81: 1 | H81: =IFERROR(VLOOKUP(B81,'TONG HOP'!$B$18:$J$28,9,0),"") -> 79159 | I81: =IFERROR(H81*F81,"") -> 79159 | J81: =IFERROR(ROUND(I81*8%,0),"") -> 6333 | K81: =IFERROR(J81+I81,"") -> 85492 | L81: I-02553459
B82: CỬA HÀNG: PHAN ĐĂNG LƯU (1020) | G82: I-02553702 | H82: =IFERROR(VLOOKUP(B82,'TONG HOP'!$B$18:$J$28,9,0),"") | I82: =IFERROR(H82*F82,"") | J82: =IFERROR(ROUND(I82*8%,0),"") | K82: =IFERROR(J82+I82,"") | L82: I-02553702
A83: 1 | B83: GÀ MUỐI HUN CỎ XẠ HƯƠNG TÚI 500G | C83: 8938529045795 | D83: 317011 | E83: TÚI | F83: 1 | H83: =IFERROR(VLOOKUP(B83,'TONG HOP'!$B$18:$J$28,9,0),"") -> 114279 | I83: =IFERROR(H83*F83,"") -> 114279 | J83: =IFERROR(ROUND(I83*8%,0),"") -> 9142 | K83: =IFERROR(J83+I83,"") -> 123421 | L83: I-02553702
B84: CỬA HÀNG: ĐƯỜNG 5C (1132) | G84: I-02554083 | H84: =IFERROR(VLOOKUP(B84,'TONG HOP'!$B$18:$J$28,9,0),"") | I84: =IFERROR(H84*F84,"") | J84: =IFERROR(ROUND(I84*8%,0),"") | K84: =IFERROR(J84+I84,"") | L84: I-02554083
A85: 1 | B85: TAI HEO MUỐI 200G | C85: 8938529045627 | D85: 236665 | E85: EA | F85: 1 | H85: =IFERROR(VLOOKUP(B85,'TONG HOP'!$B$18:$J$28,9,0),"") -> 59932 | I85: =IFERROR(H85*F85,"") -> 59932 | J85: =IFERROR(ROUND(I85*8%,0),"") -> 4795 | K85: =IFERROR(J85+I85,"") -> 64727 | L85: I-02554083
A86: 2 | B86: GIÒ TAI LƯỠI XÀO 250G | C86: 8938529045030 | D86: 261126 | E86: EA | F86: 1 | H86: =IFERROR(VLOOKUP(B86,'TONG HOP'!$B$18:$J$28,9,0),"") -> 54097 | I86: =IFERROR(H86*F86,"") -> 54097 | J86: =IFERROR(ROUND(I86*8%,0),"") -> 4328 | K86: =IFERROR(J86+I86,"") -> 58425 | L86: I-02554083
B87: CỬA HÀNG: PHẠM VĂN HAI (1005) | G87: I-02556115 | H87: =IFERROR(VLOOKUP(B87,'TONG HOP'!$B$18:$J$28,9,0),"") | I87: =IFERROR(H87*F87,"") | J87: =IFERROR(ROUND(I87*8%,0),"") | K87: =IFERROR(J87+I87,"") | L87: I-02556115
A88: 1 | B88: TAI HEO MUỐI 200G | C88: 8938529045627 | D88: 236665 | E88: EA | F88: 1 | H88: =IFERROR(VLOOKUP(B88,'TONG HOP'!$B$18:$J$28,9,0),"") -> 59932 | I88: =IFERROR(H88*F88,"") -> 59932 | J88: =IFERROR(ROUND(I88*8%,0),"") -> 4795 | K88: =IFERROR(J88+I88,"") -> 64727 | L88: I-02556115
A89: 2 | B89: GÀ MUỐI 500G | C89: 8938529045924 | D89: 203632 | E89: EA | F89: 1 | H89: =IFERROR(VLOOKUP(B89,'TONG HOP'!$B$18:$J$28,9,0),"") -> 114279 | I89: =IFERROR(H89*F89,"") -> 114279 | J89: =IFERROR(ROUND(I89*8%,0),"") -> 9142 | K89: =IFERROR(J89+I89,"") -> 123421 | L89: I-02556115
B90: CỬA HÀNG: LÒ LU (1184) | G90: I-02554930 | H90: =IFERROR(VLOOKUP(B90,'TONG HOP'!$B$18:$J$28,9,0),"") | I90: =IFERROR(H90*F90,"") | J90: =IFERROR(ROUND(I90*8%,0),"") | K90: =IFERROR(J90+I90,"") | L90: I-02554930
A91: 1 | B91: CHÂN GÀ SẢ TẮC 250G | C91: 8938529045443 | D91: 315116 | E91: TÚI | F91: 1 | H91: =IFERROR(VLOOKUP(B91,'TONG HOP'!$B$18:$J$28,9,0),"") -> 36750 | I91: =IFERROR(H91*F91,"") -> 36750 | J91: =IFERROR(ROUND(I91*8%,0),"") -> 2940 | K91: =IFERROR(J91+I91,"") -> 39690 | L91: I-02554930
B92: CỬA HÀNG: QUANG TRUNG (1008) | G92: I-02554699 | H92: =IFERROR(VLOOKUP(B92,'TONG HOP'!$B$18:$J$28,9,0),"") | I92: =IFERROR(H92*F92,"") | J92: =IFERROR(ROUND(I92*8%,0),"") | K92: =IFERROR(J92+I92,"") | L92: I-02554699
A93: 1 | B93: GIÒ TAI LƯỠI XÀO 250G | C93: 8938529045030 | D93: 261126 | E93: EA | F93: 1 | H93: =IFERROR(VLOOKUP(B93,'TONG HOP'!$B$18:$J$28,9,0),"") -> 54097 | I93: =IFERROR(H93*F93,"") -> 54097 | J93: =IFERROR(ROUND(I93*8%,0),"") -> 4328 | K93: =IFERROR(J93+I93,"") -> 58425 | L93: I-02554699
B94: CỬA HÀNG: ĐƯỜNG SỐ 2 (1139) | G94: I-02555042 | H94: =IFERROR(VLOOKUP(B94,'TONG HOP'!$B$18:$J$28,9,0),"") | I94: =IFERROR(H94*F94,"") | J94: =IFERROR(ROUND(I94*8%,0),"") | K94: =IFERROR(J94+I94,"") | L94: I-02555042
A95: 1 | B95: GÀ MUỐI 500G | D95: 203632 | E95: EA | F95: 2 | H95: =IFERROR(VLOOKUP(B95,'TONG HOP'!$B$18:$J$28,9,0),"") -> 114279 | I95: =IFERROR(H95*F95,"") -> 228558 | J95: =IFERROR(ROUND(I95*8%,0),"") -> 18285 | K95: =IFERROR(J95+I95,"") -> 246843 | L95: I-02555042
B96: CỬA HÀNG: TRẦN NÃO (1223) | G96: I-02554082 | H96: =IFERROR(VLOOKUP(B96,'TONG HOP'!$B$18:$J$28,9,0),"") | I96: =IFERROR(H96*F96,"") | J96: =IFERROR(ROUND(I96*8%,0),"") | K96: =IFERROR(J96+I96,"") | L96: I-02554082
A97: 1 | B97: TAI HEO SỐT THÁI 250G | C97: 8938529045467 | D97: 315117 | E97: TÚI | F97: 3 | H97: =IFERROR(VLOOKUP(B97,'TONG HOP'!$B$18:$J$28,9,0),"") -> 35389 | I97: =IFERROR(H97*F97,"") -> 106167 | J97: =IFERROR(ROUND(I97*8%,0),"") -> 8493 | K97: =IFERROR(J97+I97,"") -> 114660 | L97: I-02554082
A98: 2 | B98: TAI HEO MUỐI 200G | C98: 8938529045627 | D98: 236665 | E98: EA | F98: 2 | H98: =IFERROR(VLOOKUP(B98,'TONG HOP'!$B$18:$J$28,9,0),"") -> 59932 | I98: =IFERROR(H98*F98,"") -> 119864 | J98: =IFERROR(ROUND(I98*8%,0),"") -> 9589 | K98: =IFERROR(J98+I98,"") -> 129453 | L98: I-02554082
A99: 3 | B99: CHÂN GÀ SẢ TẮC 250G | C99: 8938529045443 | D99: 315116 | E99: TÚI | F99: 2 | H99: =IFERROR(VLOOKUP(B99,'TONG HOP'!$B$18:$J$28,9,0),"") -> 36750 | I99: =IFERROR(H99*F99,"") -> 73500 | J99: =IFERROR(ROUND(I99*8%,0),"") -> 5880 | K99: =IFERROR(J99+I99,"") -> 79380 | L99: I-02554082
B100: CỬA HÀNG: NGUYỄN VĂN ĐẬU 1 (1083) | G100: I-02554992 | H100: =IFERROR(VLOOKUP(B100,'TONG HOP'!$B$18:$J$28,9,0),"") | I100: =IFERROR(H100*F100,"") | J100: =IFERROR(ROUND(I100*8%,0),"") | K100: =IFERROR(J100+I100,"") | L100: I-02554992
...

Sheet CHI TIẾT
G1: I-02300800
A2: TRUNG TÂM ĐIỀU HÀNH SATRAFOODS | D2: CỘNG HÒA XÃ HỘI CHỦ NGHĨA VIỆT NAM
D3: Độc lập – Tự do – Hạnh phúc
D4: ----------oOo-------------
A6: BẢNG KÊ XUẤT TRẢ HÀNG HÓA
A8: Căn cứ vào:
A9: + | B9: thời hạn cận date của hàng trả;
A10: + | B10: tình trạng bán chậm của hàng trả;
A11: + | B11: 1210
A13: Hôm nay ngày : 21.08.2026 | C13: ,Cửa hàng chúng tôi đề nghị được trả hàng cho Nhà Cung cấp của TTĐH:
A14: Hai bên đồng ý giao và nhận các loại hàng hóa sau:
A15: NHÀ CUNG CẤP: NGỌC THƠM (VD-00000426) | C15: với các nội dung sau: | E15: THÁNG 8/2026
B17: Tên, nhãn hiệu, quy cách, phẩm | F17: Số lượng yêu cầu | G17: Số tham chiếu - Phiếu Xuất kho số
A18: STT | B18: chất vật tư, dụng cụ sản phẩm, hàng hóa | C18: Barcode | D18: Mã số | E18: Đơn vị tính
A19: A | B19: B | C19: C | D19: D | E19: E
B20: CỬA HÀNG: LÊ VĂN LƯƠNG (1040) | G20: I-02539399
A21: 1 | B21: GIÒ TAI LƯỠI XÀO 250G | C21: 8938529045030 | D21: 261126 | E21: EA | F21: 2
A22: 2 | B22: TAI HEO MUỐI 200G | C22: 8938529045627 | D22: 236665 | E22: EA | F22: 3
A23: 3 | B23: CHÂN GIÒ HEO MUỐI 300G | C23: 8938529045856 | D23: 203630 | E23: EA | F23: 1
A24: 4 | B24: GÀ MUỐI HUN CỎ XẠ HƯƠNG TÚI 500G | C24: 8938529045795 | D24: 317011 | E24: TÚI | F24: 2
A25: 5 | B25: GÀ MUỐI 500G | C25: 8938529045924 | D25: 203632 | E25: EA | F25: 2
A26: 6 | B26: CHÂN GÀ SẢ TẮC 250G | C26: 8938529045443 | D26: 315116 | E26: TÚI | F26: 2
A27: 7 | B27: MỌC NẤM HƯƠNG 250G | C27: 8938529045047 | D27: 261127 | E27: EA | F27: 2
B28: CỬA HÀNG: CỦ CHI 6 (1225) | G28: I-02538943
A29: 1 | B29: CHÂN GÀ SẢ TẮC 250G | C29: 8938529045443 | D29: 315116 | E29: TÚI | F29: 2
A30: 2 | B30: TAI HEO SỐT THÁI 250G | C30: 8938529045467 | D30: 315117 | E30: TÚI | F30: 2
A31: 3 | B31: GÀ MUỐI 500G | C31: 8938529045924 | D31: 203632 | E31: EA | F31: 3
B32: CỬA HÀNG: TRẦN VĂN MƯỜI (1120) | G32: I-02542947
A33: 1 | B33: TAI HEO MUỐI 200G | C33: 8938529045627 | D33: 236665 | E33: EA | F33: 4
A34: 2 | B34: MỌC NẤM HƯƠNG 250G | C34: 8938529045047 | D34: 261127 | E34: EA | F34: 1
B35: CỬA HÀNG: THẠNH LỘC 27 (1210) | G35: I-02543344
A36: 1 | B36: TAI HEO MUỐI 200G | C36: 8938529045627 | D36: 236665 | E36: EA | F36: 4
A37: 2 | B37: GÀ MUỐI 500G | C37: 8938529045924 | D37: 203632 | E37: EA | F37: 2
B38: CỬA HÀNG: ĐƯỜNG SỐ 41 (1019) | G38: I-02544216
A39: 1 | B39: GIÒ TAI LƯỠI XÀO 250G | D39: 261126 | E39: EA | F39: 3
B40: CỬA HÀNG: TÔ KÝ 1 (1068) | G40: I-02547030
A41: 1 | B41: CHÂN GÀ SẢ TẮC 250G | D41: 315116 | E41: TÚI | F41: 3
A42: 2 | B42: TAI HEO SỐT THÁI 250G | D42: 315117 | E42: TÚI | F42: 4
A43: 3 | B43: GÀ MUỐI HUN CỎ XẠ HƯƠNG TÚI 500G | C43: 8938529045795 | D43: 317011 | E43: TÚI | F43: 2
B44: CỬA HÀNG: LÊ THÁNH TÔN (1048) | G44: I-02548552
A45: 1 | B45: TAI HEO MUỐI 200G | D45: 236665 | E45: EA | F45: 5
A46: 2 | B46: GIÒ TAI LƯỠI XÀO 250G | C46: 8938529045030 | D46: 261126 | E46: EA | F46: 1
B47: CỬA HÀNG: LÊ THỊ RIÊNG (1022) | G47: I-02548648
A48: 1 | B48: GIÒ TAI LƯỠI XÀO 250G | D48: 261126 | E48: EA | F48: 1
A49: 2 | B49: GÀ MUỐI 500G | D49: 203632 | E49: EA | F49: 1
B50: CỬA HÀNG: DƯƠNG CÔNG KHI (1147) | G50: I-02549206
A51: 1 | B51: TAI HEO MUỐI 200G | C51: 8938529045627 | D51: 236665 | E51: EA | F51: 1
B52: CỬA HÀNG: HƯƠNG LỘ 2-2 (1173) | G52: I-02539074
A53: 1 | B53: GÀ MUỐI 500G | C53: 8938529045924 | D53: 203632 | E53: EA | F53: 2
A54: 2 | B54: CHÂN GIÒ HEO MUỐI VỊ TAYAKI TÚI 450G | C54: 8938529045832 | D54: 317010 | E54: TÚI | F54: 2
A55: 3 | B55: GÀ MUỐI HUN CỎ XẠ HƯƠNG TÚI 500G | C55: 8938529045795 | D55: 317011 | E55: TÚI | F55: 1
A56: 4 | B56: CHÂN GIÒ HEO MUỐI 300G | C56: 8938529045856 | D56: 203630 | E56: EA | F56: 2
B57: CỬA HÀNG: PHẠM THẾ HIỂN 3 (1101) | G57: I-02549531
A58: 1 | B58: TAI HEO MUỐI 200G | D58: 236665 | E58: EA | F58: 2
A59: 2 | B59: GÀ MUỐI 500G | D59: 203632 | E59: EA | F59: 3
B60: CỬA HÀNG: CỦ CHI 9 (1137) | G60: I-02550960
A61: 1 | B61: GIÒ TAI LƯỠI XÀO 250G | D61: 261126 | E61: EA | F61: 4
B62: CỬA HÀNG: HOÀNG HOA THÁM (1092) | G62: I-02550060
A63: 1 | B63: MỌC NẤM HƯƠNG 250G | D63: 261127 | E63: EA | F63: 5
A64: 2 | B64: GÀ MUỐI HUN CỎ XẠ HƯƠNG TÚI 500G | C64: 8938529045795 | D64: 317011 | E64: TÚI | F64: 1
B65: CỬA HÀNG: BÙI CÔNG TRỪNG (1142) | G65: I-02550822
A66: 1 | B66: GIÒ TAI LƯỠI XÀO 250G | C66: 8938529045030 | D66: 261126 | E66: EA | F66: 4
A67: 2 | B67: TAI HEO MUỐI 200G | C67: 8938529045627 | D67: 236665 | E67: EA | F67: 1
A68: 3 | B68: CHÂN GIÒ HEO MUỐI 300G | C68: 8938529045856 | D68: 203630 | E68: EA | F68: 1
A69: 4 | B69: GÀ MUỐI 500G | C69: 8938529045924 | D69: 203632 | E69: EA | F69: 1
A70: 5 | B70: CHÂN GIÒ HEO MUỐI 500G | C70: 8938529045238 | D70: 203634 | E70: EA | F70: 1
B71: CỬA HÀNG: KHA VẠN CÂN (1011) | G71: I-02551291
A72: 1 | B72: GÀ MUỐI 500G | D72: 203632 | E72: EA | F72: 2
A73: 2 | B73: CHÂN GIÒ HEO MUỐI 500G | D73: 203634 | E73: EA | F73: 1
B74: CỬA HÀNG: HOÀNG NGỌC PHÁCH (1224) | G74: I-02546984
A75: 1 | B75: TAI HEO SỐT THÁI 250G | C75: 8938529045467 | D75: 315117 | E75: TÚI | F75: 2
A76: 2 | B76: CHÂN GÀ SẢ TẮC 250G | C76: 8938529045443 | D76: 315116 | E76: TÚI | F76: 1
A77: 3 | B77: GÀ MUỐI 500G | C77: 8938529045924 | D77: 203632 | E77: EA | F77: 1
A78: 4 | B78: TAI HEO MUỐI 200G | C78: 8938529045627 | D78: 236665 | E78: EA | F78: 3
B79: CỬA HÀNG: NGUYỄN THƯỢNG HIỀN (1109) | G79: I-02553459
A80: 1 | B80: GÀ MUỐI 500G | D80: 203632 | E80: EA | F80: 1
A81: 2 | B81: CHÂN GIÒ HEO MUỐI 300G | D81: 203630 | E81: EA | F81: 1
B82: CỬA HÀNG: PHAN ĐĂNG LƯU (1020) | G82: I-02553702
A83: 1 | B83: GÀ MUỐI HUN CỎ XẠ HƯƠNG TÚI 500G | C83: 8938529045795 | D83: 317011 | E83: TÚI | F83: 1
B84: CỬA HÀNG: ĐƯỜNG 5C (1132) | G84: I-02554083
A85: 1 | B85: TAI HEO MUỐI 200G | C85: 8938529045627 | D85: 236665 | E85: EA | F85: 1
A86: 2 | B86: GIÒ TAI LƯỠI XÀO 250G | C86: 8938529045030 | D86: 261126 | E86: EA | F86: 1
B87: CỬA HÀNG: PHẠM VĂN HAI (1005) | G87: I-02556115
A88: 1 | B88: TAI HEO MUỐI 200G | C88: 8938529045627 | D88: 236665 | E88: EA | F88: 1
A89: 2 | B89: GÀ MUỐI 500G | C89: 8938529045924 | D89: 203632 | E89: EA | F89: 1
B90: CỬA HÀNG: LÒ LU (1184) | G90: I-02554930
A91: 1 | B91: CHÂN GÀ SẢ TẮC 250G | C91: 8938529045443 | D91: 315116 | E91: TÚI | F91: 1
B92: CỬA HÀNG: QUANG TRUNG (1008) | G92: I-02554699
A93: 1 | B93: GIÒ TAI LƯỠI XÀO 250G | C93: 8938529045030 | D93: 261126 | E93: EA | F93: 1
B94: CỬA HÀNG: ĐƯỜNG SỐ 2 (1139) | G94: I-02555042
A95: 1 | B95: GÀ MUỐI 500G | D95: 203632 | E95: EA | F95: 2
B96: CỬA HÀNG: TRẦN NÃO (1223) | G96: I-02554082
A97: 1 | B97: TAI HEO SỐT THÁI 250G | C97: 8938529045467 | D97: 315117 | E97: TÚI | F97: 3
A98: 2 | B98: TAI HEO MUỐI 200G | C98: 8938529045627 | D98: 236665 | E98: EA | F98: 2
A99: 3 | B99: CHÂN GÀ SẢ TẮC 250G | C99: 8938529045443 | D99: 315116 | E99: TÚI | F99: 2
B100: CỬA HÀNG: NGUYỄN VĂN ĐẬU 1 (1083) | G100: I-02554992
A101: 1 | B101: TAI HEO MUỐI 200G | C101: 8938529045627 | D101: 236665 | E101: EA | F101: 4
A102: 2 | B102: GÀ MUỐI 500G | C102: 8938529045924 | D102: 203632 | E102: EA | F102: 1
B103: CỬA HÀNG: BECAMEX (1227) | G103: I-02557410
A104: 1 | B104: GÀ MUỐI 500G | D104: 203632 | E104: EA | F104: 4
...

Sheet TONG HOP
A1: TRUNG TÂM ĐIỀU HÀNH SATRAFOODS | G1: CỘNG HÒA XÃ HỘI CHỦ NGHĨA VIỆT NAM
G2: Độc lập – Tự do – Hạnh phúc | H2: Độc lập – Tự do – Hạnh phúc
H3: ----------oOo-------------
A4: BIÊN BẢN XUẤT TRẢ HÀNG HÓA
A5: Hôm nay, ngày 21 tháng 08 năm 2026, với sự chứng kiến của:
A6: Đại diện bên giao: KHO TTĐH SATRAFOODS
A7: Ông (bà): NGUYỄN THỊ THU
A8: Địa chỉ: 7A/1 THÀNH THÁI, PHƯỜNG DIÊN HỒNG, TPHCM
A9: Đại diện bên nhận: CÔNG TY TNHH MỘT THÀNH VIÊN THƯƠNG MẠI VÀ DỊCH VỤ NGỌC THƠM (VD-00000426)
A10: Ông (bà):
A11: Địa chỉ: 12/14/18 Đường 49, khu phố 7, Phường Hiệp Bình, Thành phố Hồ Chí Minh,VNM
A12: Mã số thuế: 0309391503
A13: Lý do xuất trả hàng: CẬN DATE-NCC LẤY HÀNG TẠI CH THÁNG 08.26
A14: Hai bên đồng ý giao và nhận các loại hàng hóa sau: | I14: =SUM(I18:I28) -> 122
A16: STT | B16: TÊN HÀNG | C16: MÃ HÀNG | E16: XUẤT TRẢ THEO HĐ | G16: SỐ PO | H16: ĐVT | I16: SỐ LƯỢNG | J16: ĐƠN GIÁ | K16: THÀNH TIỀN
E17: SỐ | F17: NGÀY
A18: =ROW()-17 -> 1 | B18: CHÂN GIÒ HEO MUỐI 300G | C18: 8938508668014 ITEM: 203630 | D18: 203630 | H18: TÚI | I18: =SUMIF('CHI TIẾT'!$D$20:$F$106,'TONG HOP'!D18,'CHI TIẾT'!$F$20:$F$106) -> 5 | J18: 79159 | K18: =J18*I18 -> 395795
A19: =ROW()-17 -> 2 | B19: TAI HEO MUỐI 400G | C19: 8938508668304 ITEM: 203631 | D19: 203631 | H19: TÚI | I19: =SUMIF('CHI TIẾT'!$D$20:$F$106,'TONG HOP'!D19,'CHI TIẾT'!$F$20:$F$106) -> 1 | J19: 115567 | K19: =J19*I19 -> 115567
A20: =ROW()-17 -> 3 | B20: GÀ MUỐI 500G | C20: 8938508668212 ITEM: 203632 | D20: 203632 | H20: TÚI | I20: =SUMIF('CHI TIẾT'!$D$20:$F$106,'TONG HOP'!D20,'CHI TIẾT'!$F$20:$F$106) -> 26 | J20: 114279 | K20: =J20*I20 -> 2971254
A21: =ROW()-17 -> 4 | B21: CHÂN GIÒ HEO MUỐI 500G | C21: 8938529045238 ITEM: 203634 | D21: 203634 | H21: TÚI | I21: =SUMIF('CHI TIẾT'!$D$20:$F$106,'TONG HOP'!D21,'CHI TIẾT'!$F$20:$F$106) -> 2 | J21: 123686 | K21: =J21*I21 -> 247372
A22: =ROW()-17 -> 5 | B22: TAI HEO MUỐI 200G | C22: 8938508668328 ITEM: 236665 | D22: 236665 | H22: TÚI | I22: =SUMIF('CHI TIẾT'!$D$20:$F$106,'TONG HOP'!D22,'CHI TIẾT'!$F$20:$F$106) -> 31 | J22: 59932 | K22: =J22*I22 -> 1857892
A23: =ROW()-17 -> 6 | B23: GIÒ TAI LƯỠI XÀO 250G | C23: 8938529045030 ITEM: 261126 | D23: 261126 | H23: TÚI | I23: =SUMIF('CHI TIẾT'!$D$20:$F$106,'TONG HOP'!D23,'CHI TIẾT'!$F$20:$F$106) -> 18 | J23: 54097 | K23: =J23*I23 -> 973746
A24: =ROW()-17 -> 7 | B24: MỌC NẤM HƯƠNG 250G | C24: 8938529045047 ITEM: 261127 | D24: 261127 | H24: TÚI | I24: =SUMIF('CHI TIẾT'!$D$20:$F$106,'TONG HOP'!D24,'CHI TIẾT'!$F$20:$F$106) -> 8 | J24: 46000 | K24: =J24*I24 -> 368000
A25: =ROW()-17 -> 8 | B25: CHÂN GÀ SẢ TẮC 250G | C25: 8938529045443 ITEM: 315116 | D25: 315116 | H25: HỘP | I25: =SUMIF('CHI TIẾT'!$D$20:$F$106,'TONG HOP'!D25,'CHI TIẾT'!$F$20:$F$106) -> 11 | J25: 36750 | K25: =J25*I25 -> 404250
A26: =ROW()-17 -> 9 | B26: TAI HEO SỐT THÁI 250G | C26: 8938529045467 ITEM: 315117 | D26: 315117 | H26: HỘP | I26: =SUMIF('CHI TIẾT'!$D$20:$F$106,'TONG HOP'!D26,'CHI TIẾT'!$F$20:$F$106) -> 11 | J26: 35389 | K26: =J26*I26 -> 389279
A27: =ROW()-17 -> 10 | B27: CHÂN GIÒ HEO MUỐI VỊ TAYAKI TÚI 450G | C27: 8938529045832 ITEM: 317010 | D27: 317010 | H27: TÚI | I27: =SUMIF('CHI TIẾT'!$D$20:$F$106,'TONG HOP'!D27,'CHI TIẾT'!$F$20:$F$106) -> 2 | J27: 104615 | K27: =J27*I27 -> 209230
A28: =ROW()-17 -> 11 | B28: GÀ MUỐI HUN CỎ XẠ HƯƠNG TÚI 500G | C28: 8938529045795 ITEM: 317011 | D28: 317011 | H28: TÚI | I28: =SUMIF('CHI TIẾT'!$D$20:$F$106,'TONG HOP'!D28,'CHI TIẾT'!$F$20:$F$106) -> 7 | J28: 114279 | K28: =J28*I28 -> 799953
E29: CỘNG TIỀN HÀNG | K29: =SUM(K18:K28) -> 8732338
E30: TIỀN THUẾ GTGT
B31: THUẾ SUẤT 8% | K31: =K29*8% -> 698587.04
E32: TỔNG CỘNG | K32: =K29+K31 -> 9430925
B34: BẰNG CHỮ:
B35: Biên bản này được lập thành 02(hai) bản,mỗi bên giữ 01(một) bản.
A37: Phòng Kinh Doanh Tiếp Thị | C37: Phòng Tài Chính Kế Toán | G37: Đại Diện Bên Nhận(NCC) | J37: Đại Diện Bên Giao
B43: NGUYỄN MINH THÔNG
