Workbook

Sheet CHI TIẾT-nháp
G1: I-02300800 | L1: I-02300800 | P1: I-02539399 | Q1: =SUMIF(L:L,P1,K:K) -> 1068948
A2: TRUNG TÂM ĐIỀU HÀNH SATRAFOODS | D2: CỘNG HÒA XÃ HỘI CHỦ NGHĨA VIỆT NAM | P2: I-02538943 | Q2: =SUMIF(L:L,P2,K:K) -> 526084
D3: Độc lập – Tự do – Hạnh phúc | P3: I-02542947 | Q3: =SUMIF(L:L,P3,K:K) -> 308586
D4: ----------oOo------------- | P4: I-02543344 | Q4: =SUMIF(L:L,P4,K:K) -> 505749
P5: I-02544216 | Q5: =SUMIF(L:L,P5,K:K) -> 175274
A6: BẢNG KÊ XUẤT TRẢ HÀNG HÓA | P6: I-02547030 | Q6: =SUMIF(L:L,P6,K:K) -> 518793
P7: I-02548552 | Q7: =SUMIF(L:L,P7,K:K) -> 382058
A8: Căn cứ vào: | P8: I-02548648 | Q8: =SUMIF(L:L,P8,K:K) -> 181846
A9: + | B9: thời hạn cận date của hàng trả; | P9: I-02549206 | Q9: =SUMIF(L:L,P9,K:K) -> 64727
A10: + | B10: tình trạng bán chậm của hàng trả; | P10: I-02539074 | Q10: =SUMIF(L:L,P10,K:K) -> 767215
A11: + | B11: 1210 | P11: I-02549531 | Q11: =SUMIF(L:L,P11,K:K) -> 499717
P12: I-02550960 | Q12: =SUMIF(L:L,P12,K:K) -> 233699
A13: Hôm nay ngày : 21.08.2026 | C13: ,Cửa hàng chúng tôi đề nghị được trả hàng cho Nhà Cung cấp của TTĐH: | P13: I-02550060 | Q13: =SUMIF(L:L,P13,K:K) -> 371821
A14: Hai bên đồng ý giao và nhận các loại hàng hóa sau: | P14: I-02550822 | Q14: =SUMIF(L:L,P14,K:K) -> 640920
A15: NHÀ CUNG CẤP: NGỌC THƠM (VD-00000426) | C15: với các nội dung sau: | E15: THÁNG 8/2026 | P15: I-02551291 | Q15: =SUMIF(L:L,P15,K:K) -> 380424
P16: I-02546984 | Q16: =SUMIF(L:L,P16,K:K) -> 433731
B17: Tên, nhãn hiệu, quy cách, phẩm | F17: Số lượng yêu cầu | G17: Số tham chiếu - Phiếu Xuất kho số | L17: Số tham chiếu - Phiếu Xuất kho số | P17: I-02553459 | Q17: =SUMIF(L:L,P17,K:K) -> 208913
A18: STT | B18: chất vật tư, dụng cụ sản phẩm, hàng hóa | C18: Barcode | D18: Mã số | E18: Đơn vị tính | P18: I-02553702 | Q18: =SUMIF(L:L,P18,K:K) -> 123421
A19: A | B19: B | C19: C | D19: D | E19: E | P19: I-02554083 | Q19: =SUMIF(L:L,P19,K:K) -> 123152
B20: CỬA HÀNG: LÊ VĂN LƯƠNG (1040) | G20: I-02539399 | H20: =IFERROR(VLOOKUP(B20,'TONG HOP'!$B$18:$J$28,9,0),"") | L20: I-02539399 | P20: I-02556115 | Q20: =SUMIF(L:L,P20,K:K) -> 188148
A21: 1 | B21: GIÒ TAI LƯỠI XÀO 250G | C21: 8938529045030 | D21: 261126 | E21: EA | F21: 2 | H21: =IFERROR(VLOOKUP(B21,'TONG HOP'!$B$18:$J$28,9,0),"") -> 54097 | I21: =IFERROR(H21*F21,"") -> 108194 | J21: =IFERROR(ROUND(I21*8%,0),"") -> 8656 | K21: =IFERROR(J21+I21,"") -> 116850 | L21: I-02539399 | P21: I-02554930 | Q21: =SUMIF(L:L,P21,K:K) -> 39690
A22: 2 | B22: TAI HEO MUỐI 200G | C22: 8938529045627 | D22: 236665 | E22: EA | F22: 3 | H22: =IFERROR(VLOOKUP(B22,'TONG HOP'!$B$18:$J$28,9,0),"") -> 59932 | I22: =IFERROR(H22*F22,"") -> 179796 | J22: =IFERROR(ROUND(I22*8%,0),"") -> 14384 | K22: =IFERROR(J22+I22,"") -> 194180 | L22: I-02539399 | P22: I-02554699 | Q22: =SUMIF(L:L,P22,K:K) -> 58425
A23: 3 | B23: CHÂN GIÒ HEO MUỐI 300G | C23: 8938529045856 | D23: 203630 | E23: EA | F23: 1 | H23: =IFERROR(VLOOKUP(B23,'TONG HOP'!$B$18:$J$28,9,0),"") -> 79159 | I23: =IFERROR(H23*F23,"") -> 79159 | J23: =IFERROR(ROUND(I23*8%,0),"") -> 6333 | K23: =IFERROR(J23+I23,"") -> 85492 | L23: I-02539399 | P23: I-02555042 | Q23: =SUMIF(L:L,P23,K:K) -> 246843
A24: 4 | B24: GÀ MUỐI HUN CỎ XẠ HƯƠNG TÚI 500G | C24: 8938529045795 | D24: 317011 | E24: TÚI | F24: 2 | H24: =IFERROR(VLOOKUP(B24,'TONG HOP'!$B$18:$J$28,9,0),"") -> 114279 | I24: =IFERROR(H24*F24,"") -> 228558 | J24: =IFERROR(ROUND(I24*8%,0),"") -> 18285 | K24: =IFERROR(J24+I24,"") -> 246843 | L24: I-02539399 | P24: I-02554082 | Q24: =SUMIF(L:L,P24,K:K) -> 323493
A25: 5 | B25: GÀ MUỐI 500G | C25: 8938529045924 | D25: 203632 | E25: EA | F25: 2 | H25: =IFERROR(VLOOKUP(B25,'TONG HOP'!$B$18:$J$28,9,0),"") -> 114279 | I25: =IFERROR(H25*F25,"") -> 228558 | J25: =IFERROR(ROUND(I25*8%,0),"") -> 18285 | K25: =IFERROR(J25+I25,"") -> 246843 | L25: I-02539399 | P25: I-02554992 | Q25: =SUMIF(L:L,P25,K:K) -> 382327
A26: 6 | B26: CHÂN GÀ SẢ TẮC 250G | C26: 8938529045443 | D26: 315116 | E26: TÚI | F26: 2 | H26: =IFERROR(VLOOKUP(B26,'TONG HOP'!$B$18:$J$28,9,0),"") -> 36750 | I26: =IFERROR(H26*F26,"") -> 73500 | J26: =IFERROR(ROUND(I26*8%,0),"") -> 5880 | K26: =IFERROR(J26+I26,"") -> 79380 | L26: I-02539399 | P26: I-02557410 | Q26: =SUMIF(L:L,P26,K:K) -> 676922
A27: 7 | B27: MỌC NẤM HƯƠNG 250G | C27: 8938529045047 | D27: 261127 | E27: EA | F27: 2 | H27: =IFERROR(VLOOKUP(B27,'TONG HOP'!$B$18:$J$28,9,0),"") -> 46000 | I27: =IFERROR(H27*F27,"") -> 92000 | J27: =IFERROR(ROUND(I27*8%,0),"") -> 7360 | K27: =IFERROR(J27+I27,"") -> 99360 | L27: I-02539399
B28: CỬA HÀNG: CỦ CHI 6 (1225) | G28: I-02538943 | H28: =IFERROR(VLOOKUP(B28,'TONG HOP'!$B$18:$J$28,9,0),"") | I28: =IFERROR(H28*F28,"") | J28: =IFERROR(ROUND(I28*8%,0),"") | K28: =IFERROR(J28+I28,"") | L28: I-02538943
A29: 1 | B29: CHÂN GÀ SẢ TẮC 250G | C29: 8938529045443 | D29: 315116 | E29: TÚI | F29: 2 | H29: =IFERROR(VLOOKUP(B29,'TONG HOP'!$B$18:$J$28,9,0),"") -> 36750 | I29: =IFERROR(H29*F29,"") -> 73500 | J29: =IFERROR(ROUND(I29*8%,0),"") -> 5880 | K29: =IFERROR(J29+I29,"") -> 79380 | L29: I-02538943
A30: 2 | B30: TAI HEO SỐT THÁI 250G | C30: 8938529045467 | D30: 315117 | E30: TÚI | F30: 2 | H30: =IFERROR(VLOOKUP(B30,'TONG HOP'!$B$18:$J$28,9,0),"") -> 35389 | I30: =IFERROR(H30*F30,"") -> 70778 | J30: =IFERROR(ROUND(I30*8%,0),"") -> 5662 | K30: =IFERROR(J30+I30,"") -> 76440 | L30: I-02538943
A31: 3 | B31: GÀ MUỐI 500G | C31: 8938529045924 | D31: 203632 | E31: EA | F31: 3 | H31: =IFERROR(VLOOKUP(B31,'TONG HOP'!$B$18:$J$28,9,0),"") -> 114279 | I31: =IFERROR(H31*F31,"") -> 342837 | J31: =IFERROR(ROUND(I31*8%,0),"") -> 27427 | K31: =IFERROR(J31+I31,"") -> 370264 | L31: I-02538943
B32: CỬA HÀNG: TRẦN VĂN MƯỜI (1120) | G32: I-02542947 | H32: =IFERROR(VLOOKUP(B32,'TONG HOP'!$B$18:$J$28,9,0),"") | I32: =IFERROR(H32*F32,"") | J32: =IFERROR(ROUND(I32*8%,0),"") | K32: =IFERROR(J32+I32,"") | L32: I-02542947
A33: 1 | B33: TAI HEO MUỐI 200G | C33: 8938529045627 | D33: 236665 | E33: EA | F33: 4 | H33: =IFERROR(VLOOKUP(B33,'TONG HOP'!$B$18:$J$28,9,0),"") -> 59932 | I33: =IFERROR(H33*F33,"") -> 239728 | J33: =IFERROR(ROUND(I33*8%,0),"") -> 19178 | K33: =IFERROR(J33+I33,"") -> 258906 | L33: I-02542947
A34: 2 | B34: MỌC NẤM HƯƠNG 250G | C34: 8938529045047 | D34: 261127 | E34: EA | F34: 1 | H34: =IFERROR(VLOOKUP(B34,'TONG HOP'!$B$18:$J$28,9,0),"") -> 46000 | I34: =IFERROR(H34*F34,"") -> 46000 | J34: =IFERROR(ROUND(I34*8%,0),"") -> 3680 | K34: =IFERROR(J34+I34,"") -> 49680 | L34: I-02542947
B35: CỬA HÀNG: THẠNH LỘC 27 (1210) | G35: I-02543344 | H35: =IFERROR(VLOOKUP(B35,'TONG HOP'!$B$18:$J$28,9,0),"") | I35: =IFERROR(H35*F35,"") | J35: =IFERROR(ROUND(I35*8%,0),"") | K35: =IFERROR(J35+I35,"") | L35: I-02543344
A36: 1 | B36: TAI HEO MUỐI 200G | C36: 8938529045627 | D36: 236665 | E36: EA | F36: 4 | H36: =IFERROR(VLOOKUP(B36,'TONG HOP'!$B$18:$J$28,9,0),"") -> 59932 | I36: =IFERROR(H36*F36,"") -> 239728 | J36: =IFERROR(ROUND(I36*8%,0),"") -> 19178 | K36: =IFERROR(J36+I36,"") -> 258906 | L36: I-02543344
A37: 2 | B37: GÀ MUỐI 500G | C37: 8938529045924 | D37: 203632 | E37: EA | F37: 2 | H37: =IFERROR(VLOOKUP(B37,'TONG HOP'!$B$18:$J$28,9,0),"") -> 114279 | I37: =IFERROR(H37*F37,"") -> 228558 | J37: =IFERROR(ROUND(I37*8%,0),"") -> 18285 | K37: =IFERROR(J37+I37,"") -> 246843 | L37: I-02543344
B38: CỬA HÀNG: ĐƯỜNG SỐ 41 (1019) | G38: I-02544216 | H38: =IFERROR(VLOOKUP(B38,'TONG HOP'!$B$18:$J$28,9,0),"") | I38: =IFERROR(H38*F38,"") | J38: =IFERROR(ROUND(I38*8%,0),"") | K38: =IFERROR(J38+I38,"") | L38: I-02544216
A39: 1 | B39: GIÒ TAI LƯỠI XÀO 250G | D39: 261126 | E39: EA | F39: 3 | H39: =IFERROR(VLOOKUP(B39,'TONG HOP'!$B$18:$J$28,9,0),"") -> 54097 | I39: =IFERROR(H39*F39,"") -> 162291 | J39: =IFERROR(ROUND(I39*8%,0),"") -> 12983 | K39: =IFERROR(J39+I39,"") -> 175274 | L39: I-02544216
B40: CỬA HÀNG: TÔ KÝ 1 (1068) | G40: I-02547030 | H40: =IFERROR(VLOOKUP(B40,'TONG HOP'!$B$18:$J$28,9,0),"") | I40: =IFERROR(H40*F40,"") | J40: =IFERROR(ROUND(I40*8%,0),"") | K40: =IFERROR(J40+I40,"") | L40: I-02547030
...

Sheet CHI TIẾT
G1: I-02300800
A2: TRUNG TÂM ĐIỀU HÀNH SATRAFOODS | D2: CỘNG HÒA XÃ HỘI CHỦ NGHĨA VIỆT NAM
D3: Độc lập – Tự do – Hạnh phúc
D4: ----------oOo-------------
A6: BẢNG KÊ XUẤT TRẢ HÀNG HÓA
A8: Căn cứ vào:
A9: + | B9: thời hạn cận date của hàng trả;
A10: + | B10: tình trạng bán chậm của hàng trả;
A11: + | B11: 1210
A13: Hôm nay ngày : 21.08.2026 | C13: ,Cửa hàng chúng tôi đề nghị được trả hàng cho Nhà Cung cấp của TTĐH:
A14: Hai bên đồng ý giao và nhận các loại hàng hóa sau:
A15: NHÀ CUNG CẤP: NGỌC THƠM (VD-00000426) | C15: với các nội dung sau: | E15: THÁNG 8/2026
B17: Tên, nhãn hiệu, quy cách, phẩm | F17: Số lượng yêu cầu | G17: Số tham chiếu - Phiếu Xuất kho số
A18: STT | B18: chất vật tư, dụng cụ sản phẩm, hàng hóa | C18: Barcode | D18: Mã số | E18: Đơn vị tính
A19: A | B19: B | C19: C | D19: D | E19: E
B20: CỬA HÀNG: LÊ VĂN LƯƠNG (1040) | G20: I-02539399
A21: 1 | B21: GIÒ TAI LƯỠI XÀO 250G | C21: 8938529045030 | D21: 261126 | E21: EA | F21: 2
A22: 2 | B22: TAI HEO MUỐI 200G | C22: 8938529045627 | D22: 236665 | E22: EA | F22: 3
A23: 3 | B23: CHÂN GIÒ HEO MUỐI 300G | C23: 8938529045856 | D23: 203630 | E23: EA | F23: 1
A24: 4 | B24: GÀ MUỐI HUN CỎ XẠ HƯƠNG TÚI 500G | C24: 8938529045795 | D24: 317011 | E24: TÚI | F24: 2
A25: 5 | B25: GÀ MUỐI 500G | C25: 8938529045924 | D25: 203632 | E25: EA | F25: 2
A26: 6 | B26: CHÂN GÀ SẢ TẮC 250G | C26: 8938529045443 | D26: 315116 | E26: TÚI | F26: 2
A27: 7 | B27: MỌC NẤM HƯƠNG 250G | C27: 8938529045047 | D27: 261127 | E27: EA | F27: 2
B28: CỬA HÀNG: CỦ CHI 6 (1225) | G28: I-02538943
A29: 1 | B29: CHÂN GÀ SẢ TẮC 250G | C29: 8938529045443 | D29: 315116 | E29: TÚI | F29: 2
A30: 2 | B30: TAI HEO SỐT THÁI 250G | C30: 8938529045467 | D30: 315117 | E30: TÚI | F30: 2
A31: 3 | B31: GÀ MUỐI 500G | C31: 8938529045924 | D31: 203632 | E31: EA | F31: 3
B32: CỬA HÀNG: TRẦN VĂN MƯỜI (1120) | G32: I-02542947
A33: 1 | B33: TAI HEO MUỐI 200G | C33: 8938529045627 | D33: 236665 | E33: EA | F33: 4
A34: 2 | B34: MỌC NẤM HƯƠNG 250G | C34: 8938529045047 | D34: 261127 | E34: EA | F34: 1
B35: CỬA HÀNG: THẠNH LỘC 27 (1210) | G35: I-02543344
A36: 1 | B36: TAI HEO MUỐI 200G | C36: 8938529045627 | D36: 236665 | E36: EA | F36: 4
A37: 2 | B37: GÀ MUỐI 500G | C37: 8938529045924 | D37: 203632 | E37: EA | F37: 2
B38: CỬA HÀNG: ĐƯỜNG SỐ 41 (1019) | G38: I-02544216
A39: 1 | B39: GIÒ TAI LƯỠI XÀO 250G | D39: 261126 | E39: EA | F39: 3
B40: CỬA HÀNG: TÔ KÝ 1 (1068) | G40: I-02547030
A41: 1 | B41: CHÂN GÀ SẢ TẮC 250G | D41: 315116 | E41: TÚI | F41: 3
A42: 2 | B42: TAI HEO SỐT THÁI 250G | D42: 315117 | E42: TÚI | F42: 4
A43: 3 | B43: GÀ MUỐI HUN CỎ XẠ HƯƠNG TÚI 500G | C43: 8938529045795 | D43: 317011 | E43: TÚI | F43: 2
B44: CỬA HÀNG: LÊ THÁNH TÔN (1048) | G44: I-02548552
...

Sheet TONG HOP
A1: TRUNG TÂM ĐIỀU HÀNH SATRAFOODS | G1: CỘNG HÒA XÃ HỘI CHỦ NGHĨA VIỆT NAM
G2: Độc lập – Tự do – Hạnh phúc | H2: Độc lập – Tự do – Hạnh phúc
H3: ----------oOo-------------
A4: BIÊN BẢN XUẤT TRẢ HÀNG HÓA
A5: Hôm nay, ngày 21 tháng 08 năm 2026, với sự chứng kiến của:
A6: Đại diện bên giao: KHO TTĐH SATRAFOODS
A7: Ông (bà): NGUYỄN THỊ THU
A8: Địa chỉ: 7A/1 THÀNH THÁI, PHƯỜNG DIÊN HỒNG, TPHCM
A9: Đại diện bên nhận: CÔNG TY TNHH MỘT THÀNH VIÊN THƯƠNG MẠI VÀ DỊCH VỤ NGỌC THƠM (VD-00000426)
A10: Ông (bà):
A11: Địa chỉ: 12/14/18 Đường 49, khu phố 7, Phường Hiệp Bình, Thành phố Hồ Chí Minh,VNM
A12: Mã số thuế: 0309391503
A13: Lý do xuất trả hàng: CẬN DATE-NCC LẤY HÀNG TẠI CH THÁNG 08.26
A14: Hai bên đồng ý giao và nhận các loại hàng hóa sau: | I14: =SUM(I18:I28) -> 122
A16: STT | B16: TÊN HÀNG | C16: MÃ HÀNG | E16: XUẤT TRẢ THEO HĐ | G16: SỐ PO | H16: ĐVT | I16: SỐ LƯỢNG | J16: ĐƠN GIÁ | K16: THÀNH TIỀN
E17: SỐ | F17: NGÀY
A18: =ROW()-17 -> 1 | B18: CHÂN GIÒ HEO MUỐI 300G | C18: 8938508668014 ITEM: 203630 | D18: 203630 | H18: TÚI | I18: =SUMIF('CHI TIẾT'!$D$20:$F$106,'TONG HOP'!D18,'CHI TIẾT'!$F$20:$F$106) -> 5 | J18: 79159 | K18: =J18*I18 -> 395795
A19: =ROW()-17 -> 2 | B19: TAI HEO MUỐI 400G | C19: 8938508668304 ITEM: 203631 | D19: 203631 | H19: TÚI | I19: =SUMIF('CHI TIẾT'!$D$20:$F$106,'TONG HOP'!D19,'CHI TIẾT'!$F$20:$F$106) -> 1 | J19: 115567 | K19: =J19*I19 -> 115567
A20: =ROW()-17 -> 3 | B20: GÀ MUỐI 500G | C20: 8938508668212 ITEM: 203632 | D20: 203632 | H20: TÚI | I20: =SUMIF('CHI TIẾT'!$D$20:$F$106,'TONG HOP'!D20,'CHI TIẾT'!$F$20:$F$106) -> 26 | J20: 114279 | K20: =J20*I20 -> 2971254
A21: =ROW()-17 -> 4 | B21: CHÂN GIÒ HEO MUỐI 500G | C21: 8938529045238 ITEM: 203634 | D21: 203634 | H21: TÚI | I21: =SUMIF('CHI TIẾT'!$D$20:$F$106,'TONG HOP'!D21,'CHI TIẾT'!$F$20:$F$106) -> 2 | J21: 123686 | K21: =J21*I21 -> 247372
A22: =ROW()-17 -> 5 | B22: TAI HEO MUỐI 200G | C22: 8938508668328 ITEM: 236665 | D22: 236665 | H22: TÚI | I22: =SUMIF('CHI TIẾT'!$D$20:$F$106,'TONG HOP'!D22,'CHI TIẾT'!$F$20:$F$106) -> 31 | J22: 59932 | K22: =J22*I22 -> 1857892
A23: =ROW()-17 -> 6 | B23: GIÒ TAI LƯỠI XÀO 250G | C23: 8938529045030 ITEM: 261126 | D23: 261126 | H23: TÚI | I23: =SUMIF('CHI TIẾT'!$D$20:$F$106,'TONG HOP'!D23,'CHI TIẾT'!$F$20:$F$106) -> 18 | J23: 54097 | K23: =J23*I23 -> 973746
A24: =ROW()-17 -> 7 | B24: MỌC NẤM HƯƠNG 250G | C24: 8938529045047 ITEM: 261127 | D24: 261127 | H24: TÚI | I24: =SUMIF('CHI TIẾT'!$D$20:$F$106,'TONG HOP'!D24,'CHI TIẾT'!$F$20:$F$106) -> 8 | J24: 46000 | K24: =J24*I24 -> 368000
A25: =ROW()-17 -> 8 | B25: CHÂN GÀ SẢ TẮC 250G | C25: 8938529045443 ITEM: 315116 | D25: 315116 | H25: HỘP | I25: =SUMIF('CHI TIẾT'!$D$20:$F$106,'TONG HOP'!D25,'CHI TIẾT'!$F$20:$F$106) -> 11 | J25: 36750 | K25: =J25*I25 -> 404250
A26: =ROW()-17 -> 9 | B26: TAI HEO SỐT THÁI 250G | C26: 8938529045467 ITEM: 315117 | D26: 315117 | H26: HỘP | I26: =SUMIF('CHI TIẾT'!$D$20:$F$106,'TONG HOP'!D26,'CHI TIẾT'!$F$20:$F$106) -> 11 | J26: 35389 | K26: =J26*I26 -> 389279
A27: =ROW()-17 -> 10 | B27: CHÂN GIÒ HEO MUỐI VỊ TAYAKI TÚI 450G | C27: 8938529045832 ITEM: 317010 | D27: 317010 | H27: TÚI | I27: =SUMIF('CHI TIẾT'!$D$20:$F$106,'TONG HOP'!D27,'CHI TIẾT'!$F$20:$F$106) -> 2 | J27: 104615 | K27: =J27*I27 -> 209230
A28: =ROW()-17 -> 11 | B28: GÀ MUỐI HUN CỎ XẠ HƯƠNG TÚI 500G | C28: 8938529045795 ITEM: 317011 | D28: 317011 | H28: TÚI | I28: =SUMIF('CHI TIẾT'!$D$20:$F$106,'TONG HOP'!D28,'CHI TIẾT'!$F$20:$F$106) -> 7 | J28: 114279 | K28: =J28*I28 -> 799953
E29: CỘNG TIỀN HÀNG | K29: =SUM(K18:K28) -> 8732338
E30: TIỀN THUẾ GTGT
B31: THUẾ SUẤT 8% | K31: =K29*8% -> 698587.04
E32: TỔNG CỘNG | K32: =K29+K31 -> 9430925
B34: BẰNG CHỮ:
B35: Biên bản này được lập thành 02(hai) bản,mỗi bên giữ 01(một) bản.
A37: Phòng Kinh Doanh Tiếp Thị | C37: Phòng Tài Chính Kế Toán | G37: Đại Diện Bên Nhận(NCC) | J37: Đại Diện Bên Giao
B43: NGUYỄN MINH THÔNG
