Workbook

Sheet Tổng Hợp
A1: THEO DÕI CÔNG NỢ / CTY Satra PHẠM HÙNG
A2: \ | B2: Nội dung | C2: Số tiền bán hàng (+VAT) | D2: Số tiền hàng trả | E2: Giảm trừ | F2: Số tiền khách đã thanh toán
B3: Số dư đầu kỳ | C3: 10651594
A4: T01.2026 | B4: Bán hàng | C4: 8969385
A5: T02.2026 | B5: Bán hàng | C5: 5152194
A6: T03.2026 | B6: Bán hàng | C6: 793055
A7: T04.2026 | B7: Bán hàng | C7: 2396611
A8: T05.2026 | B8: Bán hàng | C8: 3197497
A9: T06.2026 | B9: Bán hàng | C9: 2518581
A10: T07.2026 | B10: Bán hàng | C10: 2003713
A11: T08.2026 | B11: Bán hàng
A12: T09.2026 | B12: Bán hàng
A13: T10.2026 | B13: Bán hàng
A14: T11.2026 | B14: Bán hàng
A15: T12.2026 | B15: Bán hàng
A17: Tổng bán hàng | C17: =SUM(C4:C16) -> 25031036
A18: T01.2026 | B18: Hỗ trợ | E18: 0
A19: T02.2026 | B19: Hỗ trợ | E19: 167995
A20: T03.2026 | B20: Hỗ trợ | E20: 0
A21: T04.2026 | B21: Hỗ trợ | E21: 0
A22: T05.2026 | B22: Hỗ trợ | E22: 1155883
A23: T06.2026 | B23: Hỗ trợ
A24: T07.2026 | B24: Hỗ trợ | E24: =-'CÔNG NỢ'!E12 -> 528934
A25: T08.2026 | B25: Hỗ trợ
A26: T09.2026 | B26: Hỗ trợ
A27: T10.2026 | B27: Hỗ trợ
A28: T11.2026 | B28: Hỗ trợ
A29: T12.2026 | B29: Hỗ trợ
A31: Tổng hỗ trợ | E31: =SUM(E18:E30) -> 1852812
A32: T01.2026 | B32: Xuất trả | D32: 0
A33: T02.2026 | B33: Xuất trả | D33: 0
A34: T03.2026 | B34: Xuất trả | D34: 0
A35: T04.2026 | B35: Xuất trả | D35: 816459
A36: T05.2026 | B36: Xuất trả | D36: 471266
A37: T06.2026 | B37: Xuất trả | D37: =-'CÔNG NỢ'!D11 -> 0
A38: T07.2026 | B38: Xuất trả | D38: =-'CÔNG NỢ'!D12 -> 2237572
A39: T08.2026 | B39: Xuất trả
A40: T09.2026 | B40: Xuất trả
A41: T10.2026 | B41: Xuất trả
A42: T11.2026 | B42: Xuất trả
A44: Tổng xuất trả | D44: =SUM(D32:D43) -> 3525297
A45: T01.2026 | B45: Thanh toán (có phí CK 11,000) | F45: =3847221+11000 -> 3858221
A46: T02.2026 | B46: Thanh toán | F46: 0
A47: T03.2026 | B47: Thanh toán | F47: 0
A48: T04.2026 | B48: Thanh toán | F48: 0
A49: T05.2026 | B49: Thanh toán (có phí CK 11,000) | F49: =14976305+11000 -> 14987305
A50: T06.2026 | B50: Thanh toán (có phí CK 22,000) | F50: =735058+3186497+22000 -> 3943555
A51: T07.2026 | B51: Thanh toán
A52: T08.2026 | B52: Thanh toán
A53: T09.2026 | B53: Thanh toán
A54: T10.2026 | B54: Thanh toán
A55: T11.2026 | B55: Thanh toán
A56: T12.2026 | B56: Thanh toán
A58: Tổng đã thanh toán | F58: =SUM(F45:F57) -> 22789081
A59: Dư nợ phải thu | F59: =+C3+C17-E31-D44-F58 -> 7515440

Sheet CÔNG NỢ
B2: CÔNG NỢ 2026
C3: BH | D3: TRA | E3: P | G3: TT
B4: Tháng | C4: Bán hàng | D4: Hàng trả | E4: Giảm trừ | F4: Tổng phát sinh | G4: Thanh toán | H4: 'Dư nợ phải thu
B5: Số dư đầu kỳ 31/12/2025 | H5: 10651594
B6: 1 | C6: =SUMIFS('CHI TIẾT'!$L:$L,'CHI TIẾT'!$B:$B,'CÔNG NỢ'!$B6,'CHI TIẾT'!$A:$A,"BH") -> 8969385 | D6: =SUMIFS('CHI TIẾT'!$L:$L,'CHI TIẾT'!$B:$B,'CÔNG NỢ'!$B6,'CHI TIẾT'!$A:$A,"TRA") -> 0 | E6: =SUMIFS('CHI TIẾT'!$L:$L,'CHI TIẾT'!$B:$B,'CÔNG NỢ'!$B6,'CHI TIẾT'!$A:$A,"GT") -> 0 | F6: =SUM(C6:E6) -> 8969385 | G6: =SUMIFS('CHI TIẾT'!$L:$L,'CHI TIẾT'!$B:$B,'CÔNG NỢ'!$B6,'CHI TIẾT'!$A:$A,"TT") -> -3858221 | H6: =H5+SUM(F6:G6) -> 15762758
B7: 2 | C7: =SUMIFS('CHI TIẾT'!$L:$L,'CHI TIẾT'!$B:$B,'CÔNG NỢ'!$B7,'CHI TIẾT'!$A:$A,"BH") -> 5152194 | D7: =SUMIFS('CHI TIẾT'!$L:$L,'CHI TIẾT'!$B:$B,'CÔNG NỢ'!$B7,'CHI TIẾT'!$A:$A,"TRA") -> 0 | E7: =SUMIFS('CHI TIẾT'!$L:$L,'CHI TIẾT'!$B:$B,'CÔNG NỢ'!$B7,'CHI TIẾT'!$A:$A,"GT") -> -167995 | F7: =SUM(C7:E7) -> 4984199 | G7: =SUMIFS('CHI TIẾT'!$L:$L,'CHI TIẾT'!$B:$B,'CÔNG NỢ'!$B7,'CHI TIẾT'!$A:$A,"TT") -> 0 | H7: =H6+SUM(F7:G7) -> 20746957
B8: 3 | C8: =SUMIFS('CHI TIẾT'!$L:$L,'CHI TIẾT'!$B:$B,'CÔNG NỢ'!$B8,'CHI TIẾT'!$A:$A,"BH") -> 793055 | D8: =SUMIFS('CHI TIẾT'!$L:$L,'CHI TIẾT'!$B:$B,'CÔNG NỢ'!$B8,'CHI TIẾT'!$A:$A,"TRA") -> 0 | E8: =SUMIFS('CHI TIẾT'!$L:$L,'CHI TIẾT'!$B:$B,'CÔNG NỢ'!$B8,'CHI TIẾT'!$A:$A,"GT") -> 0 | F8: =SUM(C8:E8) -> 793055 | G8: =SUMIFS('CHI TIẾT'!$L:$L,'CHI TIẾT'!$B:$B,'CÔNG NỢ'!$B8,'CHI TIẾT'!$A:$A,"TT") -> 0 | H8: =H7+SUM(F8:G8) -> 21540012
B9: 4 | C9: =SUMIFS('CHI TIẾT'!$L:$L,'CHI TIẾT'!$B:$B,'CÔNG NỢ'!$B9,'CHI TIẾT'!$A:$A,"BH") -> 2396611 | D9: =SUMIFS('CHI TIẾT'!$L:$L,'CHI TIẾT'!$B:$B,'CÔNG NỢ'!$B9,'CHI TIẾT'!$A:$A,"TRA") -> -816459.48 | E9: =SUMIFS('CHI TIẾT'!$L:$L,'CHI TIẾT'!$B:$B,'CÔNG NỢ'!$B9,'CHI TIẾT'!$A:$A,"GT") -> 0 | F9: =SUM(C9:E9) -> 1580151.5 | G9: =SUMIFS('CHI TIẾT'!$L:$L,'CHI TIẾT'!$B:$B,'CÔNG NỢ'!$B9,'CHI TIẾT'!$A:$A,"TT") -> 0 | H9: =H8+SUM(F9:G9) -> 23120164
B10: 5 | C10: =SUMIFS('CHI TIẾT'!$L:$L,'CHI TIẾT'!$B:$B,'CÔNG NỢ'!$B10,'CHI TIẾT'!$A:$A,"BH") -> 3197497 | D10: =SUMIFS('CHI TIẾT'!$L:$L,'CHI TIẾT'!$B:$B,'CÔNG NỢ'!$B10,'CHI TIẾT'!$A:$A,"TRA") -> -471266 | E10: =SUMIFS('CHI TIẾT'!$L:$L,'CHI TIẾT'!$B:$B,'CÔNG NỢ'!$B10,'CHI TIẾT'!$A:$A,"GT") -> -1155883 | F10: =SUM(C10:E10) -> 1570348 | G10: =SUMIFS('CHI TIẾT'!$L:$L,'CHI TIẾT'!$B:$B,'CÔNG NỢ'!$B10,'CHI TIẾT'!$A:$A,"TT") -> -14987305 | H10: =H9+SUM(F10:G10) -> 9703206.5
B11: 6 | C11: =SUMIFS('CHI TIẾT'!$L:$L,'CHI TIẾT'!$B:$B,'CÔNG NỢ'!$B11,'CHI TIẾT'!$A:$A,"BH") -> 2518581 | D11: =SUMIFS('CHI TIẾT'!$L:$L,'CHI TIẾT'!$B:$B,'CÔNG NỢ'!$B11,'CHI TIẾT'!$A:$A,"TRA") -> 0 | E11: =SUMIFS('CHI TIẾT'!$L:$L,'CHI TIẾT'!$B:$B,'CÔNG NỢ'!$B11,'CHI TIẾT'!$A:$A,"GT") -> 0 | F11: =SUM(C11:E11) -> 2518581 | G11: =SUMIFS('CHI TIẾT'!$L:$L,'CHI TIẾT'!$B:$B,'CÔNG NỢ'!$B11,'CHI TIẾT'!$A:$A,"TT") -> -3943555 | H11: =H10+SUM(F11:G11) -> 8278232.5
B12: 7 | C12: =SUMIFS('CHI TIẾT'!$L:$L,'CHI TIẾT'!$B:$B,'CÔNG NỢ'!$B12,'CHI TIẾT'!$A:$A,"BH") -> 2003713 | D12: =SUMIFS('CHI TIẾT'!$L:$L,'CHI TIẾT'!$B:$B,'CÔNG NỢ'!$B12,'CHI TIẾT'!$A:$A,"TRA") -> -2237572 | E12: =SUMIFS('CHI TIẾT'!$L:$L,'CHI TIẾT'!$B:$B,'CÔNG NỢ'!$B12,'CHI TIẾT'!$A:$A,"GT") -> -528934 | F12: =SUM(C12:E12) -> -762793 | G12: =SUMIFS('CHI TIẾT'!$L:$L,'CHI TIẾT'!$B:$B,'CÔNG NỢ'!$B12,'CHI TIẾT'!$A:$A,"TT") -> 0 | H12: =H11+SUM(F12:G12) -> 7515439.5
B13: 8 | C13: =SUMIFS('CHI TIẾT'!$L:$L,'CHI TIẾT'!$B:$B,'CÔNG NỢ'!$B13,'CHI TIẾT'!$A:$A,"BH") -> 0 | D13: =SUMIFS('CHI TIẾT'!$L:$L,'CHI TIẾT'!$B:$B,'CÔNG NỢ'!$B13,'CHI TIẾT'!$A:$A,"TRA") -> 0 | E13: =SUMIFS('CHI TIẾT'!$L:$L,'CHI TIẾT'!$B:$B,'CÔNG NỢ'!$B13,'CHI TIẾT'!$A:$A,"GT") -> 0 | F13: =SUM(C13:E13) -> 0 | G13: =SUMIFS('CHI TIẾT'!$L:$L,'CHI TIẾT'!$B:$B,'CÔNG NỢ'!$B13,'CHI TIẾT'!$A:$A,"TT") -> 0 | H13: =H12+SUM(F13:G13) -> 7515439.5
B14: 9 | C14: =SUMIFS('CHI TIẾT'!$L:$L,'CHI TIẾT'!$B:$B,'CÔNG NỢ'!$B14,'CHI TIẾT'!$A:$A,"BH") -> 0 | D14: =SUMIFS('CHI TIẾT'!$L:$L,'CHI TIẾT'!$B:$B,'CÔNG NỢ'!$B14,'CHI TIẾT'!$A:$A,"TRA") -> 0 | E14: =SUMIFS('CHI TIẾT'!$L:$L,'CHI TIẾT'!$B:$B,'CÔNG NỢ'!$B14,'CHI TIẾT'!$A:$A,"GT") -> 0 | F14: =SUM(C14:E14) -> 0 | G14: =SUMIFS('CHI TIẾT'!$L:$L,'CHI TIẾT'!$B:$B,'CÔNG NỢ'!$B14,'CHI TIẾT'!$A:$A,"TT") -> 0 | H14: =H13+SUM(F14:G14) -> 7515439.5
B15: 10 | C15: =SUMIFS('CHI TIẾT'!$L:$L,'CHI TIẾT'!$B:$B,'CÔNG NỢ'!$B15,'CHI TIẾT'!$A:$A,"BH") -> 0 | D15: =SUMIFS('CHI TIẾT'!$L:$L,'CHI TIẾT'!$B:$B,'CÔNG NỢ'!$B15,'CHI TIẾT'!$A:$A,"TRA") -> 0 | E15: =SUMIFS('CHI TIẾT'!$L:$L,'CHI TIẾT'!$B:$B,'CÔNG NỢ'!$B15,'CHI TIẾT'!$A:$A,"GT") -> 0 | F15: =SUM(C15:E15) -> 0 | G15: =SUMIFS('CHI TIẾT'!$L:$L,'CHI TIẾT'!$B:$B,'CÔNG NỢ'!$B15,'CHI TIẾT'!$A:$A,"TT") -> 0 | H15: =H14+SUM(F15:G15) -> 7515439.5
B16: 11 | C16: =SUMIFS('CHI TIẾT'!$L:$L,'CHI TIẾT'!$B:$B,'CÔNG NỢ'!$B16,'CHI TIẾT'!$A:$A,"BH") -> 0 | D16: =SUMIFS('CHI TIẾT'!$L:$L,'CHI TIẾT'!$B:$B,'CÔNG NỢ'!$B16,'CHI TIẾT'!$A:$A,"TRA") -> 0 | E16: =SUMIFS('CHI TIẾT'!$L:$L,'CHI TIẾT'!$B:$B,'CÔNG NỢ'!$B16,'CHI TIẾT'!$A:$A,"GT") -> 0 | F16: =SUM(C16:E16) -> 0 | G16: =SUMIFS('CHI TIẾT'!$L:$L,'CHI TIẾT'!$B:$B,'CÔNG NỢ'!$B16,'CHI TIẾT'!$A:$A,"TT") -> 0 | H16: =H15+SUM(F16:G16) -> 7515439.5
B17: 12 | C17: =SUMIFS('CHI TIẾT'!$L:$L,'CHI TIẾT'!$B:$B,'CÔNG NỢ'!$B17,'CHI TIẾT'!$A:$A,"BH") -> 0 | D17: =SUMIFS('CHI TIẾT'!$L:$L,'CHI TIẾT'!$B:$B,'CÔNG NỢ'!$B17,'CHI TIẾT'!$A:$A,"TRA") -> 0 | E17: =SUMIFS('CHI TIẾT'!$L:$L,'CHI TIẾT'!$B:$B,'CÔNG NỢ'!$B17,'CHI TIẾT'!$A:$A,"GT") -> 0 | F17: =SUM(C17:E17) -> 0 | G17: =SUMIFS('CHI TIẾT'!$L:$L,'CHI TIẾT'!$B:$B,'CÔNG NỢ'!$B17,'CHI TIẾT'!$A:$A,"TT") -> 0 | H17: =H16+SUM(F17:G17) -> 7515439.5
B18: Phát sinh | C18: =SUM(C6:C17) -> 25031036 | D18: =SUM(D6:D17) -> -3525297.5 | E18: =SUM(E6:E17) -> -1852812 | F18: =SUM(F6:F17) -> 19652927 | G18: =SUM(G6:G17) -> -22789081 | H18: =H5+SUM(F18:G18) -> 7515439.5

Sheet CHI TIẾT
L1: =SUBTOTAL(109,L3:L497) -> 7515439.5
A2: STT | C2: Số hóa đơn | D2: số ctu | E2: Ngày hóa đơn | F2: Mã khách hàng | G2: Tên khách hàng | H2: Diễn giải | I2: Doanh số bán chưa thuế | K2: Tiền thuế GTGT | L2: Tổng tiền | M2: NGÀY TT
H3: Số dư đầu kỳ | L3: 10651594
A4: BH | B4: =MONTH(E4) -> 1 | C4: 00000123 | D4: BH00090 | E4: 46027 | F4: SATRA-HCM-HBC-020 | G4: TTTM Satra đường Phạm Hùng | H4: P-000222303 | I4: 1026720 | J4: 0 | K4: 82138 | L4: 1108858
A5: BH | B5: =MONTH(E5) -> 1 | C5: 00000122 | D5: BH00089 | E5: 46027 | F5: SATRA-HCM-HBC-020 | G5: TTTM Satra đường Phạm Hùng | H5: P-000222214 | I5: 1182030 | J5: 0 | K5: 94562 | L5: 1276592 | M5: 46161
A6: BH | B6: =MONTH(E6) -> 1 | C6: 00006028 | D6: BH02623 | E6: 46048 | F6: SATRA-HCM-HBC-020 | G6: TTTM Satra đường Phạm Hùng | H6: P-000223420 | I6: 1924970 | J6: 0 | K6: 153998 | L6: 2078968
A7: BH | B7: =MONTH(E7) -> 1 | C7: 00007341 | D7: BH03781 | E7: 46053 | F7: SATRA-HCM-HBC-020 | G7: TTTM Satra đường Phạm Hùng | H7: P-000223746 - TTTM Satra đường Phạm Hùng | I7: 1789945 | J7: 0 | K7: 143196 | L7: 1933141 | M7: 46161
A8: BH | B8: =MONTH(E8) -> 1 | C8: 00007342 | D8: BH03782 | E8: 46053 | F8: SATRA-HCM-HBC-020 | G8: TTTM Satra đường Phạm Hùng | H8: P-000223800 | I8: 2381320 | J8: 0 | K8: 190506 | L8: 2571826
A9: BH | B9: =MONTH(E9) -> 2 | C9: 00010754 | D9: BH04802 | E9: 46064 | F9: SATRA-HCM-HBC-020 | G9: TTTM Satra đường Phạm Hùng | H9: P-000224477 | I9: 4770550 | J9: 0 | K9: 381644 | L9: 5152194 | M9: 46161
A10: BH | B10: =MONTH(E10) -> 3 | C10: 00019259 | D10: BH08484 | E10: 46098 | F10: SATRA-HCM-HBC-020 | G10: TTTM Satra đường Phạm Hùng | H10: P-000225517 | I10: 734310 | J10: 0 | K10: 58745 | L10: 793055 | M10: 46181
A11: BH | B11: =MONTH(E11) -> 4 | C11: 00026516 | D11: BH10969 | E11: 46126 | F11: SATRA-HCM-HBC-020 | G11: TTTM Satra đường Phạm Hùng | H11: P-000226671 | I11: 1758780 | J11: 0 | K11: 140702 | L11: 1899482 | M11: 46181
A12: BH | B12: =MONTH(E12) -> 4 | C12: 00028352 | D12: BH11851 | E12: 46133 | F12: SATRA-HCM-HBC-020 | G12: TTTM Satra đường Phạm Hùng | H12: P-000227081 | I12: 460305 | J12: 0 | K12: 36824 | L12: 497129 | M12: 46181
A13: BH | B13: =MONTH(E13) -> 5 | C13: 00031676 | D13: BH13122 | E13: 46148 | F13: SATRA-HCM-HBC-020 | G13: TTTM Satra đường Phạm Hùng | H13: P-000227673 | I13: 502825 | J13: 0 | K13: 40226 | L13: 543051 | M13: 46197
A14: BH | B14: =MONTH(E14) -> 5 | C14: 00034792 | D14: BH14091 | E14: 46160 | F14: SATRA-HCM-HBC-020 | G14: TTTM Satra đường Phạm Hùng | H14: P-000228380 | I14: 1761220 | J14: 0 | K14: 140898 | L14: 1902118 | M14: 46197
A15: BH | B15: =MONTH(E15) -> 5 | C15: 00036015 | D15: BH14388 | E15: 46163 | F15: SATRA-HCM-HBC-020 | G15: TTTM Satra đường Phạm Hùng | H15: P-000228610 | I15: 696600 | J15: 0 | K15: 55728 | L15: 752328 | M15: 46197
A16: BH | B16: =MONTH(E16) -> 6 | C16: 00039618 | D16: BH15935 | E16: 46181 | F16: SATRA-HCM-HBC-020 | G16: TTTM Satra đường Phạm Hùng | H16: P-000229430 | I16: 1315030 | J16: 0 | K16: 105202 | L16: 1420232
A17: BH | B17: =MONTH(E17) -> 6 | C17: 00039663 | D17: BH15965 | E17: 46182 | F17: SATRA-HCM-HBC-020 | G17: TTTM Satra đường Phạm Hùng | H17: P-000229549 | I17: 1016990 | J17: 0 | K17: 81359 | L17: 1098349
A18: GT | B18: =MONTH(E18) -> 2 | C18: 1668 | D18: MDV00121 | E18: 46063 | F18: SATRA-HCM-HBC-020 | G18: TTTM Satra đường Phạm Hùng | H18: Hỗ trợ T12.2025 | I18: -155551 | J18: 0 | K18: -12444 | L18: =+I18+K18 -> -167995 | M18: 46161
A19: TRA | B19: =MONTH(E19) -> 4 | C19: 00002729 | D19: SG/HT300432 | E19: 46122 | F19: SATRA-HCM-HBC-020 | G19: TTTM Satra đường Phạm Hùng | H19: Hàng trả - Satra Phạm Hùng - SATRA-HCM-HBC-020 | I19: -755981 | J19: 0.08 | K19: -60478.48 | L19: -816459.48 | M19: 46181
A20: GT | B20: =MONTH(E20) -> 5 | C20: 3706 | D20: MDV00338 | E20: 46157 | F20: SATRA-HCM-HBC-020 | G20: TTTM Satra đường Phạm Hùng | H20: Hỗ trợ bán hàng- Quý 1.2026 | I20: -138098 | J20: 0.08 | K20: -11048 | L20: -149146 | M20: 46181
A21: GT | B21: =MONTH(E21) -> 5 | C21: 3706 | D21: MDV00338 | E21: 46157 | F21: SATRA-HCM-HBC-020 | G21: TTTM Satra đường Phạm Hùng | H21: Hỗ trợ Catalog- Quý 1.2026 | I21: -138098 | J21: 0.08 | K21: -11048 | L21: -149146 | M21: 46181
A22: GT | B22: =MONTH(E22) -> 5 | C22: 3706 | D22: MDV00338 | E22: 46157 | F22: SATRA-HCM-HBC-020 | G22: TTTM Satra đường Phạm Hùng | H22: Hỗ trợ CPHĐ đơn vị -Quý 1.2026 | I22: -138098 | J22: 0.08 | K22: -11048 | L22: -149146 | M22: 46181
A23: GT | B23: =MONTH(E23) -> 5 | C23: 3706 | D23: MDV00338 | E23: 46157 | F23: SATRA-HCM-HBC-020 | G23: TTTM Satra đường Phạm Hùng | H23: Hỗ trợ hoạt động Quảng cáo- Quý 1.2026 | I23: -207148 | J23: 0.08 | K23: -16572 | L23: -223720 | M23: 46181
A24: GT | B24: =MONTH(E24) -> 5 | C24: 3706 | D24: MDV00338 | E24: 46157 | F24: SATRA-HCM-HBC-020 | G24: TTTM Satra đường Phạm Hùng | H24: Hỗ trợ thẻ KHTT-Quý 1.2026 | I24: -276197 | J24: 0.08 | K24: -22095 | L24: -298292 | M24: 46181
A25: GT | B25: =MONTH(E25) -> 5 | C25: 3706 | D25: MDV00338 | E25: 46157 | F25: SATRA-HCM-HBC-020 | G25: TTTM Satra đường Phạm Hùng | H25: Hỗ trợ trưng bày- Quý 1.2026 | I25: -172623 | J25: 0.08 | K25: -13810 | L25: -186433 | M25: 46181
A26: TRA | B26: =MONTH(E26) -> 5 | C26: 3900 | D26: SG/HT130551 | E26: 46164 | F26: SATRA-HCM-HBC-020 | G26: TTTM Satra đường Phạm Hùng | H26: Hàng trả - STRA PHẠM HÙNG - SATRA-HCM-HBC-020 | I26: -436357 | J26: 0.08 | K26: -34909 | L26: -471266 | M26: 46181
A27: TT | B27: =MONTH(E27) -> 1 | D27: BC01/00015 | E27: 46037 | F27: SATRA-HCM-HBC-020 | G27: TTTM Satra đường Phạm Hùng | H27: SATRA PHAM HUNG TT-NCC(VD426)3HD71296DEN84144,HTQ3,T10/25,XTH,TR.THHTQ1,HTHT | L27: -3847221
A28: TT | B28: =MONTH(E28) -> 1 | D28: BC01/00015 | E28: 46037 | F28: SATRA-HCM-HBC-020 | G28: TTTM Satra đường Phạm Hùng | H28: Phí CK | L28: -11000
A29: TT | B29: =MONTH(E29) -> 5 | D29: BC05/0052 | E29: 46161 | F29: SATRA-HCM-HBC-020 | G29: TTTM Satra đường Phạm Hùng | H29: SATRA PHAM HUNG TT HD6647,8859,122,7341,10754,HTT12/25 | L29: -14976305
A30: TT | B30: =MONTH(E30) -> 5 | D30: BC05/0052 | E30: 46161 | F30: SATRA-HCM-HBC-020 | G30: TTTM Satra đường Phạm Hùng | H30: Phí CK | L30: -11000
A31: TT | B31: =MONTH(E31) -> 6 | D31: BC06/0021 | E31: 46181 | F31: SATRA-HCM-HBC-020 | G31: TTTM Satra đường Phạm Hùng | H31: SATRA PHAM HUNG TT-NCC(VD426)HD19259,26516,28352,(17/03,14,21/4),XT, HTQ1/26 | L31: -735058
A32: TT | B32: =MONTH(E32) -> 6 | D32: BC06/0021 | E32: 46181 | F32: SATRA-HCM-HBC-020 | G32: TTTM Satra đường Phạm Hùng | H32: Phí CK | L32: -11000
A33: TT | B33: =MONTH(E33) -> 6 | D33: BC06/0058 | E33: 46197 | F33: SATRA-HCM-HBC-020 | G33: TTTM Satra đường Phạm Hùng | H33: SATRA PHAM HUNG TT-NCC(VD426) HD 31676,34792,36015 T5/2026 | L33: -3186497
A34: TT | B34: =MONTH(E34) -> 6 | D34: BC06/0058 | E34: 46197 | F34: SATRA-HCM-HBC-020 | G34: TTTM Satra đường Phạm Hùng | H34: Phí CK | L34: -11000
A35: BH | B35: =MONTH(E35) -> 7 | C35: 00052287 | D35: BH21073 | E35: 46230 | F35: SATRA-HCM-HBC-020 | G35: TTTM Satra đường Phạm Hùng | H35: P-000231761 | I35: 1855290 | J35: 0 | K35: 148423 | L35: 2003713
A36: TRA | B36: =MONTH(E36) -> 7 | C36: 00004876 | E36: 46220 | F36: SATRA-HCM-HBC-020 | G36: TTTM Satra đường Phạm Hùng | H36: Hàng trả | I36: -799953 | K36: -63996 | L36: -863949
A37: TRA | B37: =MONTH(E37) -> 7 | C37: 00005426 | E37: 46234 | F37: SATRA-HCM-HBC-020 | G37: TTTM Satra đường Phạm Hùng | H37: Hàng trả | I37: -1271873 | K37: -101750 | L37: -1373623
A38: GT | B38: =MONTH(E38) -> 7 | C38: 00005224 | E38: 46231 | F38: SATRA-HCM-HBC-020 | G38: TTTM Satra đường Phạm Hùng | H38: Hỗ trợ bán hàng-quý 2/2026 | I38: -63194 | K38: -5055 | L38: -68249
A39: GT | B39: =MONTH(E39) -> 7 | C39: 00005224 | E39: 46231 | F39: SATRA-HCM-HBC-020 | G39: TTTM Satra đường Phạm Hùng | H39: Hỗ trợ catalog-quý 2/2026 | I39: -63194 | K39: -5055 | L39: -68249
A40: GT | B40: =MONTH(E40) -> 7 | C40: 00005224 | E40: 46231 | F40: SATRA-HCM-HBC-020 | G40: TTTM Satra đường Phạm Hùng | H40: Hỗ trợ hoạt động quảng cáo-quý 2/2026 | I40: -94791 | K40: -7583 | L40: -102374
A41: GT | B41: =MONTH(E41) -> 7 | C41: 00005224 | E41: 46231 | F41: SATRA-HCM-HBC-020 | G41: TTTM Satra đường Phạm Hùng | H41: Hỗ trợ thẻ KHTT-quý 2/2026 | I41: -126388 | K41: -10113 | L41: -136501
A42: GT | B42: =MONTH(E42) -> 7 | C42: 00005224 | E42: 46231 | F42: SATRA-HCM-HBC-020 | G42: TTTM Satra đường Phạm Hùng | H42: Hỗ trợ trưng bày-quý 2/2026 | I42: -78993 | K42: -6319 | L42: -85312
A43: GT | B43: =MONTH(E43) -> 7 | C43: 00005224 | E43: 46231 | F43: SATRA-HCM-HBC-020 | G43: TTTM Satra đường Phạm Hùng | H43: VD-426-Hỗ trợ CPHĐ đơn vị-quý 2/2026 | I43: -63194 | K43: -5055 | L43: -68249

Sheet T07
A1: Ngày hóa đơn | B1: Số hóa đơn | C1: Ký hiệu HĐ | D1: Diễn giải | E1: Doanh số bán chưa có thuế GTGT | F1: Thuế suất | G1: Thuế GTGT | H1: Thành tiền | I1: Tên người mua | J1: Mã số thuế người mua
A2: 46230 | B2: 00052287 | C2: C26TTN | D2: P-000231761 | E2: 1855290 | F2: 0.08 | G2: 148423 | H2: 2003713 | I2: TTTM Satra đường Phạm Hùng | J2: 0300100037-020
A3: 46220 | B3: 00004876 | C3: K26TPH | D3: Hàng trả | E3: -799953 | F3: 0.08 | G3: -63996 | H3: -863949 | I3: TTTM Satra đường Phạm Hùng | J3: 0300100037-020
A4: 46234 | B4: 00005426 | C4: K26TPH | D4: Hàng trả | E4: -1271873 | F4: 0.08 | G4: -101750 | H4: -1373623 | I4: TTTM Satra đường Phạm Hùng | J4: 0300100037-020
A5: 46231 | B5: 00005224 | C5: 1K26TPH | D5: Hỗ trợ bán hàng-quý 2/2026 | E5: -63194 | F5: 0.08 | G5: -5055 | H5: -68249 | I5: TTTM Satra đường Phạm Hùng | J5: 0300100037-020
A6: 46231 | B6: 00005224 | C6: 1K26TPH | D6: Hỗ trợ catalog-quý 2/2026 | E6: -63194 | F6: 0.08 | G6: -5055 | H6: -68249 | I6: TTTM Satra đường Phạm Hùng | J6: 0300100037-020
A7: 46231 | B7: 00005224 | C7: 1K26TPH | D7: Hỗ trợ hoạt động quảng cáo-quý 2/2026 | E7: -94791 | F7: 0.08 | G7: -7583 | H7: -102374 | I7: TTTM Satra đường Phạm Hùng | J7: 0300100037-020
A8: 46231 | B8: 00005224 | C8: 1K26TPH | D8: Hỗ trợ thẻ KHTT-quý 2/2026 | E8: -126388 | F8: 0.08 | G8: -10113 | H8: -136501 | I8: TTTM Satra đường Phạm Hùng | J8: 0300100037-020
A9: 46231 | B9: 00005224 | C9: 1K26TPH | D9: Hỗ trợ trưng bày-quý 2/2026 | E9: -78993 | F9: 0.08 | G9: -6319 | H9: -85312 | I9: TTTM Satra đường Phạm Hùng | J9: 0300100037-020
A10: 46231 | B10: 00005224 | C10: 1K26TPH | D10: VD-426-Hỗ trợ CPHĐ đơn vị-quý 2/2026 | E10: -63194 | F10: 0.08 | G10: -5055 | H10: -68249 | I10: TTTM Satra đường Phạm Hùng | J10: 0300100037-020
H13: =SUM(H2:H12) -> -762793

Sheet T06
A1: Ngày hóa đơn | B1: Số hóa đơn | C1: Ký hiệu HĐ | D1: Diễn giải | E1: Doanh số bán chưa có thuế GTGT | F1: Thuế suất | G1: Thuế GTGT | H1: Thành tiền | I1: Tên người mua | J1: Mã số thuế người mua
A2: 46182 | B2: 39663 | C2: C26TTN | D2: P-000229549 | E2: 1016990 | F2: 0.08 | G2: 81359 | H2: 1098349 | I2: TTTM Satra đường Phạm Hùng | J2: 0300100037-020
A3: 46181 | B3: 39618 | C3: C26TTN | D3: P-000229430 | E3: 1315030 | F3: 0.08 | G3: 105202 | H3: 1420232 | I3: TTTM Satra đường Phạm Hùng | J3: 0300100037-020

Sheet T05
A1: Ngày hóa đơn | B1: Số hóa đơn | C1: Ký hiệu HĐ | D1: Diễn giải | E1: Doanh số bán chưa có thuế GTGT | F1: Thuế suất | G1: Thuế GTGT | H1: Thành tiền | I1: Tên người mua | J1: Mã số thuế người mua
A2: 46163 | B2: 36015 | C2: 1C26TTN | D2: P-000228610 | E2: 696600 | F2: 0.08 | G2: 55728 | H2: 752328 | I2: TTTM Satra đường Phạm Hùng | J2: 0300100037-020
A3: 46160 | B3: 34792 | C3: 1C26TTN | D3: P-000228380 | E3: 1761220 | F3: 0.08 | G3: 140898 | H3: 1902118 | I3: TTTM Satra đường Phạm Hùng | J3: 0300100037-020
A4: 46148 | B4: 31676 | C4: 1C26TTN | D4: P-000227673 | E4: 502825 | F4: 0.08 | G4: 40226 | H4: 543051 | I4: TTTM Satra đường Phạm Hùng | J4: 0300100037-020
A5: 46164 | B5: 3900 | C5: K26TPH | D5: Hàng trả - STRA PHẠM HÙNG - SATRA-HCM-HBC-020 | E5: -436357 | F5: 0.08 | G5: -34909 | H5: -471266 | I5: TTTM Satra đường Phạm Hùng | J5: 0300100037-020
A6: 46157 | B6: 3706 | C6: K26TPH | D6: Hỗ trợ bán hàng- Quý 1.2026 | E6: -138098 | F6: 0.08 | G6: -11048 | H6: =E6+G6 -> -149146 | I6: TTTM Satra đường Phạm Hùng | J6: 0300100037-020
A7: 46157 | B7: 3706 | C7: K26TPH | D7: Hỗ trợ Catalog- Quý 1.2026 | E7: -138098 | F7: 0.08 | G7: -11048 | H7: =E7+G7 -> -149146 | I7: TTTM Satra đường Phạm Hùng | J7: 0300100037-020
A8: 46157 | B8: 3706 | C8: K26TPH | D8: Hỗ trợ CPHĐ đơn vị -Quý 1.2026 | E8: -138098 | F8: 0.08 | G8: -11048 | H8: =E8+G8 -> -149146 | I8: TTTM Satra đường Phạm Hùng | J8: 0300100037-020
A9: 46157 | B9: 3706 | C9: K26TPH | D9: Hỗ trợ hoạt động Quảng cáo- Quý 1.2026 | E9: -207148 | F9: 0.08 | G9: -16572 | H9: =E9+G9 -> -223720 | I9: TTTM Satra đường Phạm Hùng | J9: 0300100037-020
A10: 46157 | B10: 3706 | C10: K26TPH | D10: Hỗ trợ thẻ KHTT-Quý 1.2026 | E10: -276197 | F10: 0.08 | G10: -22095 | H10: =E10+G10 -> -298292 | I10: TTTM Satra đường Phạm Hùng | J10: 0300100037-020
A11: 46157 | B11: 3706 | C11: K26TPH | D11: Hỗ trợ trưng bày- Quý 1.2026 | E11: -172623 | F11: 0.08 | G11: -13810 | H11: =E11+G11 -> -186433 | I11: TTTM Satra đường Phạm Hùng | J11: 0300100037-020
H13: =SUM(H2:H11) -> 1570348

Sheet T04
A1: Ngày hóa đơn | B1: Số hóa đơn | C1: Ký hiệu HĐ | D1: Diễn giải | E1: Doanh số bán chưa có thuế GTGT | F1: Thuế suất | G1: Thuế GTGT | H1: Thành tiền | I1: Tên người mua | J1: Mã số thuế người mua
A2: 46126 | B2: 00026516 | C2: 1C26TTN | D2: P-000226671 | E2: 1758780 | F2: 0.08 | G2: =E2*F2 -> 140702.4 | H2: =E2+G2 -> 1899482.4 | I2: TTTM Satra đường Phạm Hùng | J2: 0300100037-020
A3: 46133 | B3: 00028352 | C3: 1C26TTN | D3: P-000227081 | E3: 460305 | F3: 0.08 | G3: =E3*F3 -> 36824.4 | H3: =E3+G3 -> 497129.4 | I3: TTTM Satra đường Phạm Hùng | J3: 0300100037-020
A4: 46122 | B4: 00002729 | C4: K26TPH | D4: Hàng trả - Satra Phạm Hùng - SATRA-HCM-HBC-020 | E4: -755981 | F4: 0.08 | G4: =E4*F4 -> -60478.48 | H4: =E4+G4 -> -816459.48 | I4: TTTM Satra đường Phạm Hùng | J4: 0300100037-020

Sheet T03
A1: Ngày hóa đơn | B1: Số hóa đơn | C1: Ký hiệu HĐ | D1: Diễn giải | E1: Doanh số bán chưa có thuế GTGT | F1: Thuế suất | G1: Thuế GTGT | H1: Thành tiền | I1: Tên người mua | J1: Mã số thuế người mua
A2: 46098 | B2: 00019259 | C2: 1C26TTN | D2: P-000225517 | E2: 734310 | F2: 8% | G2: 58745 | H2: =+E2+G2 -> 793055 | I2: TTTM Satra đường Phạm Hùng | J2: 0300100037-020
H3: =SUM(H2:H2) -> 793055

Sheet T02
A1: Ngày hóa đơn | B1: Số hóa đơn | C1: Ký hiệu HĐ | D1: Diễn giải | E1: Doanh số bán chưa có thuế GTGT | F1: Thuế suất | G1: Thuế GTGT | H1: Thành tiền | I1: Tên người mua | J1: Mã số thuế người mua
A2: 46063 | B2: 1668 | D2: Hỗ trợ T12.2025 | E2: -155551 | F2: 8% | G2: -12444 | H2: =+E2+G2 -> -167995 | I2: TTTM Satra đường Phạm Hùng | J2: 0300100037-020
A3: 46064 | B3: 00010754 | C3: 1C26TTN | D3: P-000224477 | E3: 4770550 | F3: 8% | G3: 381644 | H3: =+E3+G3 -> 5152194 | I3: TTTM Satra đường Phạm Hùng | J3: 0300100037-020
H4: =SUM(H2:H3) -> 4984199

Sheet T01
A1: Ngày hóa đơn | B1: Số hóa đơn | C1: Ký hiệu HĐ | D1: Diễn giải | E1: Doanh số bán chưa có thuế GTGT | F1: Thuế suất | G1: Thuế GTGT | H1: Thành tiền | I1: Tên người mua | J1: Mã số thuế người mua
A2: 46027 | B2: 00000122 | C2: 1C26TTN | D2: P-000222214 | E2: 1182030 | F2: 8% | G2: 94562 | H2: =+E2+G2 -> 1276592 | I2: TTTM Satra đường Phạm Hùng | J2: 0300100037-020
A3: 46027 | B3: 00000123 | C3: 1C26TTN | D3: P-000222303 | E3: 1026720 | F3: 8% | G3: 82138 | H3: =+E3+G3 -> 1108858 | I3: TTTM Satra đường Phạm Hùng | J3: 0300100037-020
A4: 46048 | B4: 00006028 | C4: 1C26TTN | D4: P-000223420 | E4: 1924970 | F4: 8% | G4: 153998 | H4: =+E4+G4 -> 2078968 | I4: TTTM Satra đường Phạm Hùng | J4: 0300100037-020
A5: 46053 | B5: 00007341 | C5: 1C26TTN | D5: P-000223746 - TTTM Satra đường Phạm Hùng | E5: 1789945 | F5: 8% | G5: 143196 | H5: =+E5+G5 -> 1933141 | I5: TTTM Satra đường Phạm Hùng | J5: 0300100037-020
A6: 46053 | B6: 00007342 | C6: 1C26TTN | D6: P-000223800 | E6: 2381320 | F6: 8% | G6: 190506 | H6: =+E6+G6 -> 2571826 | I6: TTTM Satra đường Phạm Hùng | J6: 0300100037-020
H7: =SUM(H2:H6) -> 8969385

Sheet Hỗ trợ
A1: STT | B1: Số hóa đơn | C1: Ngày hóa đơn | D1: Tên khách hàng | E1: Diễn giải | F1: Số tiền chưa thuế | G1: Thuế GTGT | H1: Thành tiền | I1: Ghi chú
A2: 1 | B2: 00002487 | C2: 45711 | D2: TTTM Satra đường Phạm Hùng | E2: Hỗ trợ thẻ KHTT | F2: 419799 | G2: 41980 | H2: =+F2+G2 -> 461779
D3: Số dư cuối kỳ | H3: =SUM(H2:H2) -> 461779
