Workbook

Sheet Công nợ 
B1: THEO DÕI CÔNG NỢ / CTY PTMART 2026
B2: Ngày hóa đơn | C2: Nội dung | D2: Số tiền bán hàng | E2: Số tiền hàng trả | F2: Giảm trừ | G2: Số tiền khách đã thanh toán
C3: Số dư đầu kỳ | D3: 3157853
B4: T01.2026 | C4: Hàng bán | D4: 2879347
B5: T02.2026 | C5: Hàng bán | D5: 1702167
B6: T03.2026 | C6: Hàng bán | D6: 4078123
B7: T04.2026 | C7: Hàng bán | D7: 4711177
B8: T05.2026 | C8: Hàng bán | D8: 1111369
B9: T06.2026 | C9: Hàng bán | D9: 2973754
B10: T07.2026 | C10: Hàng bán | D10: =SUM('T07'!H2:H3) -> 1327066
B11: T08.2026 | C11: Hàng bán
B12: T09.2026 | C12: Hàng bán
B13: T10.2026 | C13: Hàng bán
B14: T11.2026 | C14: Hàng bán
B15: T12.2026 | C15: Hàng bán
B17: Tổng hàng bán | D17: =+SUM(D3:D16) -> 21940856 | F17: =+SUM(F3:F16) -> 0
B18: T01.2026 | C18: Hàng trả | E18: 0
B19: T02.2026 | C19: Hàng trả | E19: 0
B20: T03.2026 | C20: Hàng trả | E20: 1385794
B21: T04.2026 | C21: Hàng trả | E21: 246470
B22: T05.2026 | C22: Hàng trả | E22: =-SUM('T05'!H4:H5) -> 352962
B23: T06.2026 | C23: Hàng trả | E23: 1025470
B24: T07.2026 | C24: Hàng trả | E24: 333415
B25: T08.2026 | C25: Hàng trả
B26: T09.2026 | C26: Hàng trả
B27: T10.2026 | C27: Hàng trả
B28: T11.2026 | C28: Hàng trả
B29: T12.2026 | C29: Hàng trả
B31: Tổng hàng trả | E31: =+SUM(E18:E30) -> 3344111
B32: T01.2026 | C32: Thanh toán công nợ đầu kỳ | G32: 3157854
B33: T02.2026 | C33: Thanh toán công nợ T1.2026 | G33: 2879348
B34: T03.2026 | C34: Thanh toán công nợ T2.2026 | G34: 1702169
B35: T04.2026 | C35: Thanh toán công nợ T3.2026 | G35: 2692329
B36: T05.2026 | C36: Thanh toán công nợ
B37: T06.2026 | C37: Thanh toán công nợ
B38: T07.2026 | C38: Thanh toán công nợ
B39: T08.2026 | C39: Thanh toán công nợ T4 + T5 + T6 | G39: 7171398
B40: T09.2026 | C40: Thanh toán công nợ | G40: 993649
B41: T10.2026 | C41: Thanh toán công nợ
B42: T11.2026 | C42: Thanh toán công nợ
...

Sheet CÔNG NỢ
B2: CÔNG NỢ 2026
C3: BH | D3: TRA | E3: P | G3: TT
B4: Tháng | C4: Bán hàng | D4: Hàng trả | E4: Giảm trừ | F4: Tổng phát sinh | G4: Thanh toán | H4: 'Dư nợ phải thu
B5: Số dư đầu kỳ 31/12/2025 | H5: 3157853
B6: 1 | C6: =SUMIFS('Chi tiết theo sp'!$W:$W,'Chi tiết theo sp'!$X:$X,'CÔNG NỢ'!$B6,'Chi tiết theo sp'!$B:$B,"BH") -> 2879347 | D6: =SUMIFS('Chi tiết theo sp'!$W:$W,'Chi tiết theo sp'!$X:$X,'CÔNG NỢ'!$B6,'Chi tiết theo sp'!$B:$B,"TRA") -> 0 | E6: =SUMIFS('Chi tiết theo sp'!$W:$W,'Chi tiết theo sp'!$X:$X,'CÔNG NỢ'!$B6,'Chi tiết theo sp'!$B:$B,"GT") -> 0 | F6: =SUM(C6:E6) -> 2879347 | G6: =SUMIFS('Chi tiết theo sp'!$W:$W,'Chi tiết theo sp'!$X:$X,'CÔNG NỢ'!$B6,'Chi tiết theo sp'!$B:$B,"TT") -> -3157854 | H6: =H5+SUM(F6:G6) -> 2879346
B7: 2 | C7: =SUMIFS('Chi tiết theo sp'!$W:$W,'Chi tiết theo sp'!$X:$X,'CÔNG NỢ'!$B7,'Chi tiết theo sp'!$B:$B,"BH") -> 1702167 | D7: =SUMIFS('Chi tiết theo sp'!$W:$W,'Chi tiết theo sp'!$X:$X,'CÔNG NỢ'!$B7,'Chi tiết theo sp'!$B:$B,"TRA") -> 0 | E7: =SUMIFS('Chi tiết theo sp'!$W:$W,'Chi tiết theo sp'!$X:$X,'CÔNG NỢ'!$B7,'Chi tiết theo sp'!$B:$B,"GT") -> 0 | F7: =SUM(C7:E7) -> 1702167 | G7: =SUMIFS('Chi tiết theo sp'!$W:$W,'Chi tiết theo sp'!$X:$X,'CÔNG NỢ'!$B7,'Chi tiết theo sp'!$B:$B,"TT") -> -2879348 | H7: =H6+SUM(F7:G7) -> 1702165
B8: 3 | C8: =SUMIFS('Chi tiết theo sp'!$W:$W,'Chi tiết theo sp'!$X:$X,'CÔNG NỢ'!$B8,'Chi tiết theo sp'!$B:$B,"BH") -> 4078123 | D8: =SUMIFS('Chi tiết theo sp'!$W:$W,'Chi tiết theo sp'!$X:$X,'CÔNG NỢ'!$B8,'Chi tiết theo sp'!$B:$B,"TRA") -> -1385794 | E8: =SUMIFS('Chi tiết theo sp'!$W:$W,'Chi tiết theo sp'!$X:$X,'CÔNG NỢ'!$B8,'Chi tiết theo sp'!$B:$B,"GT") -> 0 | F8: =SUM(C8:E8) -> 2692329 | G8: =SUMIFS('Chi tiết theo sp'!$W:$W,'Chi tiết theo sp'!$X:$X,'CÔNG NỢ'!$B8,'Chi tiết theo sp'!$B:$B,"TT") -> -1702169 | H8: =H7+SUM(F8:G8) -> 2692325
B9: 4 | C9: =SUMIFS('Chi tiết theo sp'!$W:$W,'Chi tiết theo sp'!$X:$X,'CÔNG NỢ'!$B9,'Chi tiết theo sp'!$B:$B,"BH") -> 4711177 | D9: =SUMIFS('Chi tiết theo sp'!$W:$W,'Chi tiết theo sp'!$X:$X,'CÔNG NỢ'!$B9,'Chi tiết theo sp'!$B:$B,"TRA") -> -246470 | E9: =SUMIFS('Chi tiết theo sp'!$W:$W,'Chi tiết theo sp'!$X:$X,'CÔNG NỢ'!$B9,'Chi tiết theo sp'!$B:$B,"GT") -> 0 | F9: =SUM(C9:E9) -> 4464707 | G9: =SUMIFS('Chi tiết theo sp'!$W:$W,'Chi tiết theo sp'!$X:$X,'CÔNG NỢ'!$B9,'Chi tiết theo sp'!$B:$B,"TT") -> -2692329 | H9: =H8+SUM(F9:G9) -> 4464703
B10: 5 | C10: =SUMIFS('Chi tiết theo sp'!$W:$W,'Chi tiết theo sp'!$X:$X,'CÔNG NỢ'!$B10,'Chi tiết theo sp'!$B:$B,"BH") -> 1111369 | D10: =SUMIFS('Chi tiết theo sp'!$W:$W,'Chi tiết theo sp'!$X:$X,'CÔNG NỢ'!$B10,'Chi tiết theo sp'!$B:$B,"TRA") -> -352962 | E10: =SUMIFS('Chi tiết theo sp'!$W:$W,'Chi tiết theo sp'!$X:$X,'CÔNG NỢ'!$B10,'Chi tiết theo sp'!$B:$B,"GT") -> 0 | F10: =SUM(C10:E10) -> 758407 | G10: =SUMIFS('Chi tiết theo sp'!$W:$W,'Chi tiết theo sp'!$X:$X,'CÔNG NỢ'!$B10,'Chi tiết theo sp'!$B:$B,"TT") -> 0 | H10: =H9+SUM(F10:G10) -> 5223110
B11: 6 | C11: =SUMIFS('Chi tiết theo sp'!$W:$W,'Chi tiết theo sp'!$X:$X,'CÔNG NỢ'!$B11,'Chi tiết theo sp'!$B:$B,"BH") -> 2973754 | D11: =SUMIFS('Chi tiết theo sp'!$W:$W,'Chi tiết theo sp'!$X:$X,'CÔNG NỢ'!$B11,'Chi tiết theo sp'!$B:$B,"TRA") -> -1025470 | E11: =SUMIFS('Chi tiết theo sp'!$W:$W,'Chi tiết theo sp'!$X:$X,'CÔNG NỢ'!$B11,'Chi tiết theo sp'!$B:$B,"GT") -> 0 | F11: =SUM(C11:E11) -> 1948284 | G11: =SUMIFS('Chi tiết theo sp'!$W:$W,'Chi tiết theo sp'!$X:$X,'CÔNG NỢ'!$B11,'Chi tiết theo sp'!$B:$B,"TT") -> 0 | H11: =H10+SUM(F11:G11) -> 7171394
B12: 7 | C12: =SUMIFS('Chi tiết theo sp'!$W:$W,'Chi tiết theo sp'!$X:$X,'CÔNG NỢ'!$B12,'Chi tiết theo sp'!$B:$B,"BH") -> 1327066 | D12: =SUMIFS('Chi tiết theo sp'!$W:$W,'Chi tiết theo sp'!$X:$X,'CÔNG NỢ'!$B12,'Chi tiết theo sp'!$B:$B,"TRA") -> -333415 | E12: =SUMIFS('Chi tiết theo sp'!$W:$W,'Chi tiết theo sp'!$X:$X,'CÔNG NỢ'!$B12,'Chi tiết theo sp'!$B:$B,"GT") -> 0 | F12: =SUM(C12:E12) -> 993651 | G12: =SUMIFS('Chi tiết theo sp'!$W:$W,'Chi tiết theo sp'!$X:$X,'CÔNG NỢ'!$B12,'Chi tiết theo sp'!$B:$B,"TT") -> 0 | H12: =H11+SUM(F12:G12) -> 8165045
B13: 8 | C13: =SUMIFS('Chi tiết theo sp'!$W:$W,'Chi tiết theo sp'!$X:$X,'CÔNG NỢ'!$B13,'Chi tiết theo sp'!$B:$B,"BH") -> 0 | D13: =SUMIFS('Chi tiết theo sp'!$W:$W,'Chi tiết theo sp'!$X:$X,'CÔNG NỢ'!$B13,'Chi tiết theo sp'!$B:$B,"TRA") -> 0 | E13: =SUMIFS('Chi tiết theo sp'!$W:$W,'Chi tiết theo sp'!$X:$X,'CÔNG NỢ'!$B13,'Chi tiết theo sp'!$B:$B,"GT") -> 0 | F13: =SUM(C13:E13) -> 0 | G13: =SUMIFS('Chi tiết theo sp'!$W:$W,'Chi tiết theo sp'!$X:$X,'CÔNG NỢ'!$B13,'Chi tiết theo sp'!$B:$B,"TT") -> -7171398 | H13: =H12+SUM(F13:G13) -> 993647
B14: 9 | C14: =SUMIFS('Chi tiết theo sp'!$W:$W,'Chi tiết theo sp'!$X:$X,'CÔNG NỢ'!$B14,'Chi tiết theo sp'!$B:$B,"BH") -> 0 | D14: =SUMIFS('Chi tiết theo sp'!$W:$W,'Chi tiết theo sp'!$X:$X,'CÔNG NỢ'!$B14,'Chi tiết theo sp'!$B:$B,"TRA") -> 0 | E14: =SUMIFS('Chi tiết theo sp'!$W:$W,'Chi tiết theo sp'!$X:$X,'CÔNG NỢ'!$B14,'Chi tiết theo sp'!$B:$B,"GT") -> 0 | F14: =SUM(C14:E14) -> 0 | G14: =SUMIFS('Chi tiết theo sp'!$W:$W,'Chi tiết theo sp'!$X:$X,'CÔNG NỢ'!$B14,'Chi tiết theo sp'!$B:$B,"TT") -> -993649 | H14: =H13+SUM(F14:G14) -> -2
B15: 10 | C15: =SUMIFS('Chi tiết theo sp'!$W:$W,'Chi tiết theo sp'!$X:$X,'CÔNG NỢ'!$B15,'Chi tiết theo sp'!$B:$B,"BH") -> 0 | D15: =SUMIFS('Chi tiết theo sp'!$W:$W,'Chi tiết theo sp'!$X:$X,'CÔNG NỢ'!$B15,'Chi tiết theo sp'!$B:$B,"TRA") -> 0 | E15: =SUMIFS('Chi tiết theo sp'!$W:$W,'Chi tiết theo sp'!$X:$X,'CÔNG NỢ'!$B15,'Chi tiết theo sp'!$B:$B,"GT") -> 0 | F15: =SUM(C15:E15) -> 0 | G15: =SUMIFS('Chi tiết theo sp'!$W:$W,'Chi tiết theo sp'!$X:$X,'CÔNG NỢ'!$B15,'Chi tiết theo sp'!$B:$B,"TT") -> 0 | H15: =H14+SUM(F15:G15) -> -2
B16: 11 | C16: =SUMIFS('Chi tiết theo sp'!$W:$W,'Chi tiết theo sp'!$X:$X,'CÔNG NỢ'!$B16,'Chi tiết theo sp'!$B:$B,"BH") -> 0 | D16: =SUMIFS('Chi tiết theo sp'!$W:$W,'Chi tiết theo sp'!$X:$X,'CÔNG NỢ'!$B16,'Chi tiết theo sp'!$B:$B,"TRA") -> 0 | E16: =SUMIFS('Chi tiết theo sp'!$W:$W,'Chi tiết theo sp'!$X:$X,'CÔNG NỢ'!$B16,'Chi tiết theo sp'!$B:$B,"GT") -> 0 | F16: =SUM(C16:E16) -> 0 | G16: =SUMIFS('Chi tiết theo sp'!$W:$W,'Chi tiết theo sp'!$X:$X,'CÔNG NỢ'!$B16,'Chi tiết theo sp'!$B:$B,"TT") -> 0 | H16: =H15+SUM(F16:G16) -> -2
B17: 12 | C17: =SUMIFS('Chi tiết theo sp'!$W:$W,'Chi tiết theo sp'!$X:$X,'CÔNG NỢ'!$B17,'Chi tiết theo sp'!$B:$B,"BH") -> 0 | D17: =SUMIFS('Chi tiết theo sp'!$W:$W,'Chi tiết theo sp'!$X:$X,'CÔNG NỢ'!$B17,'Chi tiết theo sp'!$B:$B,"TRA") -> 0 | E17: =SUMIFS('Chi tiết theo sp'!$W:$W,'Chi tiết theo sp'!$X:$X,'CÔNG NỢ'!$B17,'Chi tiết theo sp'!$B:$B,"GT") -> 0 | F17: =SUM(C17:E17) -> 0 | G17: =SUMIFS('Chi tiết theo sp'!$W:$W,'Chi tiết theo sp'!$X:$X,'CÔNG NỢ'!$B17,'Chi tiết theo sp'!$B:$B,"TT") -> 0 | H17: =H16+SUM(F17:G17) -> -2
B18: Phát sinh | C18: =SUM(C6:C17) -> 18783003 | D18: =SUM(D6:D17) -> -3344111 | E18: =SUM(E6:E17) -> 0 | G18: =SUM(G6:G17) -> -18596747 | H18: =H5+SUM(C18:G18) -> -2

Sheet Chi tiết theo sp
W1: =SUBTOTAL(109,W3:W967) -> -3157855
A2: STT | B2: Loại chứng từ | C2: Số chứng từ | D2: Ngày chứng từ | E2: Ngày hạch toán | F2: Số hóa đơn | G2: Ngày hóa đơn | H2: TK Nợ | I2: TK Có | J2: Loại tiền | K2: Số tiền | L2: Quy đổi | M2: Mã VTHH | N2: Tên VTHH | O2: Kho nhập | P2: Kho xuất | Q2: ĐVT | R2: Số lượng | S2: Đơn giá | T2: Tỷ lệ CK | U2: Tiền CK | V2: Thuế | W2: Tổng tiền | X2: THÁNG CN
A3: =ROW()-2 -> 1 | B3: BH | C3: BH00252 | D3: 46027 | E3: 46027 | F3: 00000151 | G3: 46027 | H3: 131 | I3: 5111 | J3: VND | K3: 367155 | L3: 367155 | M3: CGM300 | N3: Chân giò heo muối 300g | Q3: Túi | R3: 5 | S3: 73431 | T3: 0.05 | U3: 18358 | V3: 27903 | W3: =K3+V3-U3 -> 376700 | X3: =MONTH(D3) -> 1
A4: =ROW()-2 -> 2 | B4: BH | C4: BH00252 | D4: 46027 | E4: 46027 | F4: 00000151 | G4: 46027 | H4: 131 | I4: 5111 | J4: VND | K4: 233222 | L4: 233222 | M4: GM500 | N4: Gà muối 500g | Q4: Túi | R4: 2 | S4: 116611 | T4: 0.05 | U4: 11661 | V4: 17725 | W4: =K4+V4-U4 -> 239286 | X4: =MONTH(D4) -> 1
A5: =ROW()-2 -> 3 | B5: BH | C5: BH00252 | D5: 46027 | E5: 46027 | F5: 00000151 | G5: 46027 | H5: 131 | I5: 5111 | J5: VND | K5: 200732 | L5: 200732 | M5: GTLX250G | N5: Giò Tai Lưỡi Xào 250g | Q5: Túi | R5: 4 | S5: 50183 | T5: 0.05 | U5: 10037 | V5: 15256 | W5: =K5+V5-U5 -> 205951 | X5: =MONTH(D5) -> 1
A6: =ROW()-2 -> 4 | B6: BH | C6: BH00389 | D6: 46028 | E6: 46028 | F6: 00000630 | G6: 46028 | H6: 131 | I6: 5111 | J6: VND | K6: 367155 | L6: 367155 | M6: CGM300 | N6: Chân giò heo muối 300g | Q6: Túi | R6: 5 | S6: 73431 | T6: 0.05 | U6: 18358 | V6: 27904 | W6: =K6+V6-U6 -> 376701 | X6: =MONTH(D6) -> 1
A7: =ROW()-2 -> 5 | B7: BH | C7: BH00389 | D7: 46028 | E7: 46028 | F7: 00000630 | G7: 46028 | H7: 131 | I7: 5111 | J7: VND | K7: 233222 | L7: 233222 | M7: GM500 | N7: Gà muối 500g | Q7: Túi | R7: 2 | S7: 116611 | T7: 0.05 | U7: 11661 | V7: 17725 | W7: =K7+V7-U7 -> 239286 | X7: =MONTH(D7) -> 1
A8: =ROW()-2 -> 6 | B8: BH | C8: BH00389 | D8: 46028 | E8: 46028 | F8: 00000630 | G8: 46028 | H8: 131 | I8: 5111 | J8: VND | K8: 301098 | L8: 301098 | M8: GTLX250G | N8: Giò Tai Lưỡi Xào 250g | Q8: Túi | R8: 6 | S8: 50183 | T8: 0.05 | U8: 15055 | V8: 22883 | W8: =K8+V8-U8 -> 308926 | X8: =MONTH(D8) -> 1
A9: =ROW()-2 -> 7 | B9: BH | C9: BH01598 | D9: 46035 | E9: 46035 | F9: 00002063 | G9: 46035 | H9: 131 | I9: 5111 | J9: VND | K9: 146862 | L9: 146862 | M9: CGM300 | N9: Chân giò heo muối 300g | Q9: Túi | R9: 2 | S9: 73431 | T9: 0.05 | U9: 7343 | V9: 11162 | W9: =K9+V9-U9 -> 150681 | X9: =MONTH(D9) -> 1
A10: =ROW()-2 -> 8 | B10: BH | C10: BH01598 | D10: 46035 | E10: 46035 | F10: 00002063 | G10: 46035 | H10: 131 | I10: 5111 | J10: VND | K10: 111190 | L10: 111190 | M10: TH200 | N10: Tai heo muối 200g | Q10: Túi | R10: 2 | S10: 55595 | T10: 0.05 | U10: 5560 | V10: 8450 | W10: =K10+V10-U10 -> 114080 | X10: =MONTH(D10) -> 1
A11: =ROW()-2 -> 9 | B11: BH | C11: BH01598 | D11: 46035 | E11: 46035 | F11: 00002063 | G11: 46035 | H11: 131 | I11: 5111 | J11: VND | K11: 150549 | L11: 150549 | M11: GTLX250G | N11: Giò Tai Lưỡi Xào 250g | Q11: Túi | R11: 3 | S11: 50183 | T11: 0.05 | U11: 7527 | V11: 11442 | W11: =K11+V11-U11 -> 154464 | X11: =MONTH(D11) -> 1
A12: =ROW()-2 -> 10 | B12: BH | C12: BH01598 | D12: 46035 | E12: 46035 | F12: 00002063 | G12: 46035 | H12: 131 | I12: 5111 | J12: VND | K12: 138000 | L12: 138000 | M12: MNH250 | N12: Mọc Nấm Hương 250g | Q12: Túi | R12: 3 | S12: 46000 | T12: 0.05 | U12: 6900 | V12: 10488 | W12: =K12+V12-U12 -> 141588 | X12: =MONTH(D12) -> 1
A13: =ROW()-2 -> 11 | B13: BH | C13: BH02733 | D13: 46041 | E13: 46041 | F13: 00003958 | G13: 46041 | H13: 131 | I13: 5111 | J13: VND | K13: 440586 | L13: 440586 | M13: CGM300 | N13: Chân giò heo muối 300g | Q13: Túi | R13: 6 | S13: 73431 | T13: 0.05 | U13: 22029 | V13: 33485 | W13: =K13+V13-U13 -> 452042 | X13: =MONTH(D13) -> 1
A14: =ROW()-2 -> 12 | B14: BH | C14: BH02733 | D14: 46041 | E14: 46041 | F14: 00003958 | G14: 46041 | H14: 131 | I14: 5111 | J14: VND | K14: 116611 | L14: 116611 | M14: GM500 | N14: Gà muối 500g | Q14: Túi | R14: 1 | S14: 116611 | T14: 0.05 | U14: 5831 | V14: 8862 | W14: =K14+V14-U14 -> 119642 | X14: =MONTH(D14) -> 1
... A81: =ROW()-2 -> 79 | B81: BH | C81: BH40503 | D81: 46218 | E81: 46218 | F81: 00049293 | G81: 46218 | H81: 131 | I81: 5111 | J81: VND | K81: 110402 | L81: 110402 | M81: GTLX250G | N81: Giò Tai Lưỡi Xào 250g | Q81: Túi | R81: 2 | S81: 55201 | T81: 0.05 | U81: 5520 | V81: 8391 | W81: =K81+V81-U81 -> 113273 | X81: =MONTH(D81) -> 7
A82: =ROW()-2 -> 80 | B82: TRA | C82: HN/HTXT03021347 | D82: 46082 | E82: 46082 | G82: 46082 | H82: 5111 | I82: 131 | J82: VND | K82: -87400 | L82: -87400 | M82: MNH250 | N82: Mọc Nấm Hương 250g | Q82: Túi | R82: -2 | S82: -43700 | T82: 0 | U82: 0 | V82: -6992 | W82: =K82+V82-U82 -> -94392 | X82: =MONTH(D82) -> 3
A83: =ROW()-2 -> 81 | B83: TRA | C83: HN/HTXT03021347 | D83: 46082 | E83: 46082 | G83: 46082 | H83: 5111 | I83: 131 | J83: VND | K83: -47674 | L83: -47674 | M83: GTLX250G | N83: Giò Tai Lưỡi Xào 250g | Q83: Túi | R83: -1 | S83: -47674 | T83: 0 | U83: 0 | V83: -3814 | W83: =K83+V83-U83 -> -51488 | X83: =MONTH(D83) -> 3
A84: =ROW()-2 -> 82 | B84: TRA | C84: HN/HTXT03021347 | D84: 46082 | E84: 46082 | G84: 46082 | H84: 5111 | I84: 131 | J84: VND | K84: -105630 | L84: -105630 | M84: TH200 | N84: Tai heo muối 200g | Q84: Túi | R84: -2 | S84: -52815 | T84: 0 | U84: 0 | V84: -8450 | W84: =K84+V84-U84 -> -114080 | X84: =MONTH(D84) -> 3
A85: =ROW()-2 -> 83 | B85: TRA | C85: 0703ptmart0009 | D85: 46088 | E85: 46088 | G85: 46088 | H85: 5111 | I85: 131 | J85: VND | K85: -110780 | L85: -110780 | M85: GM500 | N85: Gà muối 500g | Q85: Túi | R85: -1 | S85: -110780 | T85: 0 | U85: 0 | V85: -8862 | W85: =K85+V85-U85 -> -119642 | X85: =MONTH(D85) -> 3
A86: =ROW()-2 -> 84 | B86: TRA | C86: 0703ptmart0009 | D86: 46088 | E86: 46088 | G86: 46088 | H86: 5111 | I86: 131 | J86: VND | K86: -110780 | L86: -110780 | M86: GM500 | N86: Gà muối 500g | Q86: Túi | R86: -1 | S86: -110780 | T86: 0 | U86: 0 | V86: -8862 | W86: =K86+V86-U86 -> -119642 | X86: =MONTH(D86) -> 3
A87: =ROW()-2 -> 85 | B87: TRA | C87: 0703ptmart0009 | D87: 46088 | E87: 46088 | G87: 46088 | H87: 5111 | I87: 131 | J87: VND | K87: -43700 | L87: -43700 | M87: MNH250 | N87: Mọc Nấm Hương 250g | Q87: Túi | R87: -1 | S87: -43700 | T87: 0 | U87: 0 | V87: -3496 | W87: =K87+V87-U87 -> -47196 | X87: =MONTH(D87) -> 3
A88: =ROW()-2 -> 86 | B88: TRA | C88: HN/HT03021773 | D88: 46088 | E88: 46088 | G88: 46088 | H88: 5111 | I88: 131 | J88: VND | K88: -110780 | L88: -110780 | M88: GM500 | N88: Gà muối 500g | Q88: Túi | R88: -1 | S88: -110780 | T88: 0 | U88: 0 | V88: -8862 | W88: =K88+V88-U88 -> -119642 | X88: =MONTH(D88) -> 3
A89: =ROW()-2 -> 87 | B89: TRA | C89: HN/HT03021773 | D89: 46088 | E89: 46088 | G89: 46088 | H89: 5111 | I89: 131 | J89: VND | K89: -43700 | L89: -43700 | M89: MNH250 | N89: Mọc Nấm Hương 250g | Q89: Túi | R89: -1 | S89: -43700 | T89: 0 | U89: 0 | V89: -3496 | W89: =K89+V89-U89 -> -47196 | X89: =MONTH(D89) -> 3
A90: =ROW()-2 -> 88 | B90: TRA | C90: HN/HTXT03021919 | D90: 46098 | E90: 46098 | G90: 46098 | H90: 5111 | I90: 131 | J90: VND | K90: -95348 | L90: -95348 | M90: GTLX250G | N90: Giò Tai Lưỡi Xào 250g | Q90: Túi | R90: -2 | S90: -47674 | T90: 0 | U90: 0 | V90: -7628 | W90: =K90+V90-U90 -> -102976 | X90: =MONTH(D90) -> 3
A91: =ROW()-2 -> 89 | B91: TRA | C91: HN/HTXT03021933 | D91: 46099 | E91: 46099 | G91: 46099 | H91: 5111 | I91: 131 | J91: VND | K91: -52815 | L91: -52815 | M91: TH200 | N91: Tai heo muối 200g | Q91: Túi | R91: -1 | S91: -52815 | T91: 0 | U91: 0 | V91: -4225 | W91: =K91+V91-U91 -> -57040 | X91: =MONTH(D91) -> 3
A92: =ROW()-2 -> 90 | B92: TRA | C92: HN/HTXT03021933 | D92: 46099 | E92: 46099 | G92: 46099 | H92: 5111 | I92: 131 | J92: VND | K92: -209277 | L92: -209277 | M92: CGM300 | N92: Chân giò heo muối 300g | Q92: Túi | R92: -3 | S92: -69759 | T92: 0 | U92: 0 | V92: -16742 | W92: =K92+V92-U92 -> -226019 | X92: =MONTH(D92) -> 3
A93: =ROW()-2 -> 91 | B93: TRA | C93: HN/HTXT03021933 | D93: 46099 | E93: 46099 | G93: 46099 | H93: 5111 | I93: 131 | J93: VND | K93: -43700 | L93: -43700 | M93: MNH250 | N93: Mọc Nấm Hương 250g | Q93: Túi | R93: -1 | S93: -43700 | T93: 0 | U93: 0 | V93: -3496 | W93: =K93+V93-U93 -> -47196 | X93: =MONTH(D93) -> 3
A94: =ROW()-2 -> 92 | B94: TRA | C94: HN/HTXT03021933 | D94: 46099 | E94: 46099 | G94: 46099 | H94: 5111 | I94: 131 | J94: VND | K94: -221560 | L94: -221560 | M94: GM500 | N94: Gà muối 500g | Q94: Túi | R94: -2 | S94: -110780 | T94: 0 | U94: 0 | V94: -17725 | W94: =K94+V94-U94 -> -239285 | X94: =MONTH(D94) -> 3
A95: =ROW()-2 -> 93 | B95: TRA | C95: HN/HTXT03022238 | D95: 46121 | E95: 46121 | F95: 43 | G95: 46260 | H95: 5111 | I95: 131 | J95: VND | K95: -50183 | L95: -50183 | M95: GTLX250G | N95: Giò Tai Lưỡi Xào 250g | Q95: Túi | R95: -1 | S95: -50183 | T95: 0.05 | U95: -2509 | V95: -3814 | W95: =V95+L95-U95 -> -51488 | X95: =MONTH(D95) -> 4
A96: =ROW()-2 -> 94 | B96: TRA | C96: HN/HT180428 | D96: 46130 | E96: 46130 | F96: 43 | G96: 46260 | H96: 5111 | I96: 131 | J96: VND | K96: -73431 | L96: -73431 | M96: CGM300 | N96: Chân giò heo muối 300g | Q96: Túi | R96: -1 | S96: -73431 | T96: 0.05 | U96: -3672 | V96: -5581 | W96: =K96+V96-U96 -> -75340 | X96: =MONTH(D96) -> 4
A97: =ROW()-2 -> 95 | B97: TRA | C97: HN/HTXT03022690 | D97: 46155 | E97: 46155 | F97: 43 | G97: 46260 | H97: 5111 | I97: 131 | J97: VND | K97: -55595 | L97: -55595 | M97: TH200 | N97: Tai heo muối 200g | Q97: Túi | R97: -1 | S97: -55595 | T97: 5 | U97: -2780 | V97: -4225 | W97: =K97+V97-U97 -> -57040 | X97: =MONTH(D97) -> 5
A98: =ROW()-2 -> 96 | B98: TRA | C98: HN/HTXT03022690 | D98: 46155 | E98: 46155 | F98: 43 | G98: 46260 | H98: 5111 | I98: 131 | J98: VND | K98: -55201 | L98: -55201 | M98: GTLX250G | N98: Giò Tai Lưỡi Xào 250g | Q98: Túi | R98: -1 | S98: -55201 | T98: 5 | U98: -2760 | V98: -4195 | W98: =K98+V98-U98 -> -56636 | X98: =MONTH(D98) -> 5
A99: =ROW()-2 -> 97 | B99: TRA | C99: HN/HTXT03022370 | D99: 46156 | E99: 46156 | F99: 43 | G99: 46260 | H99: 5111 | I99: 131 | J99: VND | K99: -233222 | L99: -233222 | M99: GM500 | N99: Gà muối 500g | Q99: Túi | R99: -2 | S99: -116611 | T99: 5 | U99: -11661 | V99: -17725 | W99: =K99+V99-U99 -> -239286 | X99: =MONTH(D99) -> 5
A100: =ROW()-2 -> 98 | B100: TRA | C100: 0204ptmart0009 | D100: 46114 | E100: 46114 | F100: 43 | G100: 46260 | H100: 5111 | I100: 131 | J100: VND | K100: -116611 | L100: -116611 | M100: GM500 | N100: Gà muối 500g | Q100: Túi | R100: -1 | S100: -116611 | T100: 0.05 | U100: -5831 | V100: -8862 | W100: =K100+V100-U100 -> -119642 | X100: =MONTH(D100) -> 4
A101: =ROW()-2 -> 99 | B101: TRA | C101: 060626ptmart0007 | D101: 46179 | E101: 46179 | F101: 43 | G101: 46260 | H101: 5111 | I101: 131 | J101: VND | K101: -61155 | L101: -61155 | M101: TH200 | N101: Tai heo muối 200g | Q101: Túi | R101: -1 | S101: -61155 | T101: 5 | U101: -3058 | V101: -4648 | W101: =K101+V101-U101 -> -62745 | X101: =MONTH(D101) -> 6
A102: =ROW()-2 -> 100 | B102: TRA | C102: 060626ptmart0007 | D102: 46179 | E102: 46179 | F102: 43 | G102: 46260 | H102: 5111 | I102: 131 | J102: VND | K102: -233222 | L102: -233222 | M102: GM500 | N102: Gà muối 500g | Q102: Túi | R102: -2 | S102: -116611 | T102: 5 | U102: -11661 | V102: -17725 | W102: =K102+V102-U102 -> -239286 | X102: =MONTH(D102) -> 6
A103: =ROW()-2 -> 101 | B103: TRA | C103: 060626ptmart0009 | D103: 46179 | E103: 46179 | F103: 43 | G103: 46260 | H103: 5111 | I103: 131 | J103: VND | K103: -116611 | L103: -116611 | M103: GM500 | N103: Gà muối 500g | Q103: Túi | R103: -1 | S103: -116611 | T103: 5 | U103: -5831 | V103: -8862 | W103: =K103+V103-U103 -> -119642 | X103: =MONTH(D103) -> 6
A104: =ROW()-2 -> 102 | B104: TRA | C104: 080626ptmart0004 | D104: 46181 | E104: 46183 | F104: 43 | G104: 46260 | H104: 5111 | I104: 131 | J104: VND | K104: -116611 | L104: -116611 | M104: GM500 | N104: Gà muối 500g | Q104: Túi | R104: -1 | S104: -116611 | T104: 5 | U104: -5831 | V104: -8862 | W104: =K104+V104-U104 -> -119642 | X104: =MONTH(D104) -> 6
A105: =ROW()-2 -> 103 | B105: TRA | C105: 130626PTMART0009 | D105: 46186 | E105: 46188 | F105: 43 | G105: 46260 | H105: 5111 | I105: 131 | J105: VND | K105: -116611 | L105: -116611 | M105: GM500 | N105: Gà muối 500g | Q105: Túi | R105: -1 | S105: -116611 | T105: 5 | U105: -5831 | V105: -8862 | W105: =K105+V105-U105 -> -119642 | X105: =MONTH(D105) -> 6
A106: =ROW()-2 -> 104 | B106: TRA | C106: 290626ptmart0007 | D106: 46202 | E106: 46203 | F106: 43 | G106: 46260 | H106: 5111 | I106: 131 | J106: VND | K106: -55201 | L106: -55201 | M106: GTLX250G | N106: Giò Tai Lưỡi Xào 250g | Q106: Túi | R106: -1 | S106: -55201 | T106: 5 | U106: -2760 | V106: -4195 | W106: =K106+V106-U106 -> -56636 | X106: =MONTH(D106) -> 6
...

Sheet T07
A1: Tên khách hàng | B1: Ngày hóa đơn | C1: Số hóa đơn | D1: Diễn giải | E1: Tiền hàng | F1: Tiền chiết khấu | G1: Tiền thuế VAT | H1: Tổng giá trị | I1: Tên người mua | J1: Mã số thuế người mua
A2: PTMart 201 Minh Khai | B2: 46218 | C2: 00049293 | D2: Bán hàng PTMart 201 Minh Khai theo hóa đơn 00049293 | E2: 775110 | F2: 38756 | G2: 58908 | H2: 795262 | I2: CÔNG TY CỔ PHẦN PT | J2: 0109023661
A3: PTMart 505 Minh Khai | B3: 46206 | C3: 00046049 | D3: Bán hàng PTMart 505 Minh Khai theo hóa đơn 00046049 | E3: 518327 | F3: 25916 | G3: 39393 | H3: 531804 | I3: CÔNG TY CỔ PHẦN PT | J3: 0109023661
A4: PTMart 201 Minh Khai | B4: 46223 | C4: 43 | D4: ĐÃ KIỂM TRA - Hàng trả - - PTMart 201 Minh Khai - 200726ptmart0001 - Phiếu ngày (20/07/2026)-PTMART-HNI-HBT-0001 | E4: -324967 | F4: -16249 | G4: -24697 | H4: -333415 | I4: CÔNG TY CỔ PHẦN PT | J4: 0109023661
H5: =SUM(H2:H4) -> 993651

Sheet T06
A1: Tên khách hàng | B1: Ngày hóa đơn | C1: Số hóa đơn | D1: Diễn giải | E1: Tiền hàng | F1: Tiền chiết khấu | G1: Tiền thuế VAT | H1: Tổng giá trị | I1: Tên người mua | J1: Mã số thuế người mua
A2: PTMart 505 Minh Khai | B2: 46174 | C2: 00037996 | D2: Bán hàng PTMart 505 Minh Khai theo hóa đơn 00037996 | E2: 465934 | F2: 23297 | G2: 35411 | H2: 478048 | I2: CÔNG TY CỔ PHẦN PT | J2: 0109023661
A3: PT Mart Hà Đông | B3: 46174 | C3: 00037997 | D3: Bán hàng PT Mart Hà Đông theo hóa đơn 00037997 | E3: 650247 | F3: 32512 | G3: 49419 | H3: 667154 | I3: CÔNG TY CỔ PHẦN PT | J3: 0109023661
A4: PTMart 143 Nguyễn Tuân | B4: 46182 | C4: 00039696 | D4: Bán hàng PTMart 143 Nguyễn Tuân theo hóa đơn 00039696 | E4: 966268 | F4: 48313 | G4: 73436 | H4: 991391 | I4: CÔNG TY CỔ PHẦN PT | J4: 0109023661
A5: PTMart 505 Minh Khai | B5: 46185 | C5: 00040972 | D5: Bán hàng PTMart 505 Minh Khai theo hóa đơn 00040972 | E5: 815946 | F5: 40797 | G5: 62012 | H5: 837161 | I5: CÔNG TY CỔ PHẦN PT | J5: 0109023661
A6: PTMart Tầng 1 Tòa nhà Phú Thịnh Green Park | B6: 46202 | C6: 43 | D6: ĐÃ KIỂM TRA - Hàng trả - - PTMart Tầng 1 Tòa nhà Phú Thịnh Green Park - 290626ptmart0011 - Phiếu ngày (29/06/2026)-PTMART-HNI-HDG-0011 | E6: -238921 | F6: -11947 | G6: -18158 | H6: -245132 | I6: CÔNG TY CỔ PHẦN PT | J6: 0109023661
A7: PT Mart Hà Đông - 105 Chu Văn An | B7: 46202 | C7: 43 | D7: ĐÃ KIỂM TRA - Hàng trả - - PT Mart Hà Đông - 290626ptmart0007 - Phiếu ngày (29/06/2026)-PTMART-HNI-HDG-0007 | E7: -116356 | F7: -5818 | G7: -8843 | H7: -119381 | I7: CÔNG TY CỔ PHẦN PT | J7: 0109023661
A8: PTMart 505 Minh Khai | B8: 46186 | C8: 43 | D8: ĐÃ KIỂM TRA - Hàng trả - PTMart 505 Minh Khai - 130626PTMART0009 - Phiếu ngày (13/06/2026)-PTMART-HNI-HBT-0009 | E8: -116611 | F8: -5831 | G8: -8862 | H8: -119642 | I8: CÔNG TY CỔ PHẦN PT | J8: 0109023661
A9: PTMart 143 Nguyễn Tuân | B9: 46181 | C9: 43 | D9: ĐÃ KIỂM TRA - Hàng trả -PTMart 143 Nguyễn Tuân - 080626ptmart0004 - Phiếu ngày (08/06/2026)-PTMART-HNI-TXN-0004 | E9: -116611 | F9: -5831 | G9: -8862 | H9: -119642 | I9: CÔNG TY CỔ PHẦN PT | J9: 0109023661
A10: PTMart 505 Minh Khai | B10: 46179 | C10: 43 | D10: ĐÃ KIỂM TRA - Hàng trả - PTMart 505 Minh Khai - 060626ptmart0009 - Phiếu ngày (06/06/2026)-PTMART-HNI-HBT-0009 | E10: -116611 | F10: -5831 | G10: -8862 | H10: -119642 | I10: CÔNG TY CỔ PHẦN PT | J10: 0109023661
A11: PT Mart Hà Đông - 105 Chu Văn An | B11: 46179 | C11: 43 | D11: ĐÃ KIỂM TRA - Hàng trả - PT Mart Hà Đông - 060626ptmart0007 - Phiếu ngày (06/06/2026)-PTMART-HNI-HDG-0007 | E11: -294377 | F11: -14719 | G11: -22373 | H11: -302031 | I11: CÔNG TY CỔ PHẦN PT | J11: 0109023661
H12: =SUM(H2:H11) -> 1948284

Sheet T05
A1: Tên khách hàng | B1: Ngày hóa đơn | C1: Số hóa đơn | D1: Diễn giải | E1: Tiền hàng | F1: Tiền chiết khấu | G1: Tiền thuế VAT | H1: Tổng giá trị | I1: Tên người mua | J1: Mã số thuế người mua
A2: PT Mart Hà Đông - 105 Chu Văn An | B2: 46154 | C2: 33152 | D2: Bán hàng PT Mart Hà Đông theo hóa đơn 00033152 | E2: 565418 | F2: 28271 | G2: 42972 | H2: 580119 | I2: CÔNG TY CỔ PHẦN PT | J2: 0109023661
A3: PTMart 201 Minh Khai | B3: 46148 | C3: 32713 | D3: Bán hàng PTMart 201 Minh Khai theo hóa đơn 00032713 | E3: 517787 | F3: 25889 | G3: 39352 | H3: 531250 | I3: CÔNG TY CỔ PHẦN PT | J3: 0109023661
A4: PT Mart Hà Đông - 105 Chu Văn An | B4: 46156 | C4: 43 | D4: ĐÃ KIỂM TRA - Hàng trả - PTMART-HNI-HDG-0007 - PT Mart Hà Đông - Phiếu ngày (14/05/2026) | E4: -233222 | F4: -11661 | G4: -17725 | H4: -239286 | I4: CÔNG TY CỔ PHẦN PT | J4: 0109023661
A5: PT Mart Hà Đông - 105 Chu Văn An | B5: 46155 | C5: 43 | D5: ĐÃ KIỂM TRA - Hàng trả - PTMART-HNI-HDG-0007 - PT Mart Hà Đông - Phiếu ngày (13/05/2026) | E5: -110796 | F5: -5540 | G5: -8420 | H5: -113676 | I5: CÔNG TY CỔ PHẦN PT | J5: 0109023661
H6: =SUM(H2:H5) -> 758407
I13: .

Sheet T04
A1: Tên khách hàng | B1: Ngày hóa đơn | C1: Số hóa đơn | D1: Diễn giải | E1: Tiền hàng | F1: Tiền chiết khấu | G1: Tiền thuế VAT | H1: Tổng giá trị | I1: Tên người mua | J1: Mã số thuế người mua
A2: CÔNG TY CỔ PHẦN PT | B2: 46113 | C2: 00024197 | D2: PT Mart Hà Đông | E2: 747239 | F2: 37362 | G2: 56790 | H2: 766667 | I2: CÔNG TY CỔ PHẦN PT | J2: 0109023661
A3: PTMart 505 Minh Khai | B3: 46121 | C3: 00026310 | D3: Bán hàng PTMart 505 Minh Khai theo hóa đơn 00026310 | E3: 708256 | F3: 35413 | G3: 53827 | H3: 726670 | I3: CÔNG TY CỔ PHẦN PT | J3: 0109023661
A4: PTMart 505 Minh Khai | B4: 46127 | C4: 00027825 | D4: Bán hàng PTMart 505 Minh Khai theo hóa đơn 00027825 | E4: 998449 | F4: 49922 | G4: 75882 | H4: 1024409 | I4: CÔNG TY CỔ PHẦN PT | J4: 0109023661
A5: PTMart 201 Minh Khai | B5: 46129 | C5: 00028195 | D5: Bán hàng PTMart 201 Minh Khai theo hóa đơn 00028195 | E5: 713018 | F5: 35650 | G5: 54189 | H5: 731557 | I5: CÔNG TY CỔ PHẦN PT | J5: 0109023661
A6: PTMart 143 Nguyễn Tuân | B6: 46129 | C6: 00028199 | D6: Bán hàng PTMart 143 Nguyễn Tuân theo hóa đơn 00028199 | E6: 774582 | F6: 38730 | G6: 58868 | H6: 794720 | I6: CÔNG TY CỔ PHẦN PT | J6: 0109023661
A7: CÔNG TY CỔ PHẦN PT | B7: 46133 | C7: 00028334 | D7: PT Mart Hà Đông | E7: 650247 | F7: 32512 | G7: 49419 | H7: 667154 | I7: CÔNG TY CỔ PHẦN PT | J7: 0109023661
A8: PTMart 505 Minh Khai | B8: 46130 | C8: 43 | D8: ĐÃ KIỂM TRA - Hàng trả - PTMART-HNI-HBT-0009 - PTMart 505 Minh Khai - 1804ptmart0009 - Phiếu ngày (18/04/2026) | E8: -73431 | F8: -3672 | G8: -5581 | H8: -75340 | I8: CÔNG TY CỔ PHẦN PT | J8: 0109023661
A9: PT Mart Hà Đông - 105 Chu Văn An | B9: 46121 | C9: 43 | D9: ĐÃ KIỂM TRA -Hàng trả - PTMART-HNI-HDG-0007 - PT Mart Hà Đông - Phiếu ngày (09/04/2026) - phiếu: XT03022238 | E9: -50183 | F9: -2509 | G9: -3814 | H9: -51488 | I9: CÔNG TY CỔ PHẦN PT | J9: 0109023661
A10: PTMart 505 Minh Khai | B10: 46114 | C10: 43 | D10: ĐÃ KIỂM TRA - Hàng trả - PTMART-HNI-HBT-0009 - PTMart 505 Minh Khai - 0204ptmart0009 - Phiếu ngày (02/04/2026) | E10: -116611 | F10: -5831 | G10: -8862 | H10: -119642 | I10: CÔNG TY CỔ PHẦN PT | J10: 0109023661
H11: =SUM(H2:H10) -> 4464707

Sheet T03
A1: Ngày hóa đơn | B1: Số hóa đơn | C1: Ký hiệu HĐ | D1: Diễn giải | E1: Doanh số bán chưa có thuế GTGT | F1: Thuế suất | G1: Thuế GTGT | H1: Thành tiền | I1: Tên người mua | J1: Mã số thuế người mua
A2: 46083 | B2: 00014705 | C2: 1C26TTN | D2: PT Mart Hà Đông | E2: 736968 | F2: 8% | G2: 58957 | H2: =+E2+G2 -> 795925 | I2: CÔNG TY CỔ PHẦN PT | J2: 0109023661
A3: 46109 | B3: 00023160 | C3: 1C26TTN | D3: PTMart 505 Minh Khai | E3: 982606 | F3: 8% | G3: 78608 | H3: =+E3+G3 -> 1061214 | I3: CÔNG TY CỔ PHẦN PT | J3: 0109023661
A4: 46087 | B4: 00016237 | C4: 1C26TTN | D4: PTMart 201 Minh Khai | E4: 766891 | F4: 8% | G4: 61351 | H4: =+E4+G4 -> 828242 | I4: CÔNG TY CỔ PHẦN PT | J4: 0109023661
A5: 46099 | B5: 00020686 | C5: 1C26TTN | D5: PTMart Tầng 1 Tòa nhà Phú Thịnh Green Park | E5: 649458 | F5: 8% | G5: 51957 | H5: =+E5+G5 -> 701415 | I5: CÔNG TY CỔ PHẦN PT | J5: 0109023661
A6: 46099 | B6: 00020687 | C6: 1C26TTN | D6: PTMart 143 Nguyễn Tuân | E6: 640118 | F6: 8% | G6: 51209 | H6: =+E6+G6 -> 691327 | I6: CÔNG TY CỔ PHẦN PT | J6: 0109023661
A7: 46082 | D7: ĐÃ KIỂM TRA - Hàng trả - PTMART-HNI-TXN-0004 - PTMart 143 Nguyễn Tuân | E7: -240704 | F7: 8% | G7: -19256 | H7: =+E7+G7 -> -259960 | I7: CÔNG TY CỔ PHẦN PT | J7: 0109023661
A8: 46088 | D8: Hàng trả - PTMART-HNI-HBT-0009 - PTMart 505 Minh Khai - 0703ptmart0009 - Phiếu ngày (07/03/2026) | E8: -265260 | F8: 8% | G8: -21220 | H8: =+E8+G8 -> -286480 | I8: CÔNG TY CỔ PHẦN PT | J8: 0109023661
A9: 46088 | D9: ĐÃ KIỂM TRA - HÀNG TRẢ - PHIẾU: XT03021773 - PTMart 201 Minh Khai - PTMART-HNI-HBT-0001 | E9: -154480 | F9: 8% | G9: -12358 | H9: =+E9+G9 -> -166838 | I9: CÔNG TY CỔ PHẦN PT | J9: 0109023661
A10: 46098 | D10: ĐÃ KIỂM TRA - Hàng trả - PTMART-HNI-TXN-0004 - PTMart 143 Nguyễn Tuân - Phiếu ngày (17/03/2026) | E10: -95348 | F10: 8% | G10: -7628 | H10: =+E10+G10 -> -102976 | I10: CÔNG TY CỔ PHẦN PT | J10: 0109023661
A11: 46099 | D11: ĐÃ KIỂM TRA - Hàng trả - PTMART-HNI-HDG-0011 - PTMart Tầng 1 Tòa nhà Phú Thịnh Green Park - Phiếu ngày (18/03/2026) | E11: -527352 | F11: 8% | G11: -42188 | H11: =+E11+G11 -> -569540 | I11: CÔNG TY CỔ PHẦN PT | J11: 0109023661
H12: =SUM(H2:H11) -> 2692329
D17: 2 | F17: Chân giò muối 300g | G17: =+SUM(H17:O17)-SUM(A17:E17) -> 18 | H17: 5 | I17: 5 | J17: 5 | K17: 5
E18: 2 | F18: Tai heo muối 200g | G18: =+SUM(H18:O18)-SUM(A18:E18) -> 6 | H18: 2 | I18: 3 | K18: 3
F19: Gà muối 500g | G19: =+SUM(H19:O19)-SUM(A19:E19) -> 7 | H19: 1 | J19: 3 | K19: 3
F20: Giò tai lưỡi xào 250g | G20: =+SUM(H20:O20)-SUM(A20:E20) -> 13 | H20: 5 | I20: 5 | K20: 3
E21: 3 | F21: Mọc nấm hương 250g | G21: =+SUM(H21:O21)-SUM(A21:E21) -> 0 | K21: 3
F22: Chân giò muối 500g | G22: =+SUM(H22:O22)-SUM(A22:E22) -> 0
F23: Chả cốm 300g | G23: =+SUM(H23:O23)-SUM(A23:E23) -> 0
F24: Chả nướng 300g | G24: =+SUM(H24:O24)-SUM(A24:E24) -> 0
F30: Tên sản phẩm | G30: Số lượng
F31: =+F17 -> Chân giò muối 300g | G31: =+G17 -> 18 | H31: 73431 | I31: =+G31*H31*0.95*1.08 -> 1356123.7
F32: =+F18 -> Tai heo muối 200g | G32: =+G18 -> 6 | H32: 55595 | I32: =+G32*H32*0.95*1.08 -> 342242.82
F33: =+F19 -> Gà muối 500g | G33: =+G19 -> 7 | H33: 116611 | I33: =+G33*H33*0.95*1.08 -> 837500.2
F34: =+F20 -> Giò tai lưỡi xào 250g | G34: =+G20 -> 13 | H34: 50182 | I34: =+G34*H34*0.95*1.08 -> 669327.52
F35: =+F21 -> Mọc nấm hương 250g | G35: =+G21 -> 0 | H35: 46000 | I35: =+G35*H35*0.95*1.08 -> 0
F36: =+F22 -> Chân giò muối 500g | G36: =+G22 -> 0 | H36: 119066 | I36: =+G36*H36*0.95*1.08 -> 0
F37: =+F23 -> Chả cốm 300g | G37: =+G23 -> 0 | H37: 74250 | I37: =+G37*H37*0.95*1.08 -> 0
F38: =+F24 -> Chả nướng 300g | G38: =+G24 -> 0 | H38: 70950 | I38: =+G38*H38*0.95*1.08 -> 0
I40: =SUM(I31:I38) -> 3205194.2

Sheet T01
A1: Ngày hóa đơn | B1: Số hóa đơn | C1: Ký hiệu HĐ | D1: Diễn giải | E1: Doanh số bán chưa có thuế GTGT | F1: Thuế suất | G1: Thuế GTGT | H1: Thành tiền | I1: Tên người mua | J1: Mã số thuế người mua
A2: 46027 | B2: 00000151 | C2: 1C26TTN | D2: PT Mart Hà Đông | E2: 761053 | F2: 8% | G2: 60884 | H2: =+E2+G2 -> 821937 | I2: CÔNG TY CỔ PHẦN PT | J2: 0109023661
A3: 46028 | B3: 00000630 | C3: 1C26TTN | D3: PTMart 143 Nguyễn Tuân | E3: 856401 | F3: 8% | G3: 68512 | H3: =+E3+G3 -> 924913 | I3: CÔNG TY CỔ PHẦN PT | J3: 0109023661
A4: 46035 | B4: 00002063 | C4: 1C26TTN | D4: PTMart 201 Minh Khai | E4: 519271 | F4: 8% | G4: 41542 | H4: =+E4+G4 -> 560813 | I4: CÔNG TY CỔ PHẦN PT | J4: 0109023661
A5: 46041 | B5: 00003958 | C5: 1C26TTN | D5: PT Mart Hà Đông | E5: 529337 | F5: 8% | G5: 42347 | H5: =+E5+G5 -> 571684 | I5: CÔNG TY CỔ PHẦN PT | J5: 0109023661
H6: =SUM(H2:H5) -> 2879347
D11: 2 | F11: Chân giò muối 300g | G11: =+SUM(H11:O11)-SUM(A11:E11) -> 18 | H11: 5 | I11: 5 | J11: 5 | K11: 5
E12: 2 | F12: Tai heo muối 200g | G12: =+SUM(H12:O12)-SUM(A12:E12) -> 6 | H12: 2 | I12: 3 | K12: 3
F13: Gà muối 500g | G13: =+SUM(H13:O13)-SUM(A13:E13) -> 7 | H13: 1 | J13: 3 | K13: 3
F14: Giò tai lưỡi xào 250g | G14: =+SUM(H14:O14)-SUM(A14:E14) -> 13 | H14: 5 | I14: 5 | K14: 3
E15: 3 | F15: Mọc nấm hương 250g | G15: =+SUM(H15:O15)-SUM(A15:E15) -> 0 | K15: 3
F16: Chân giò muối 500g | G16: =+SUM(H16:O16)-SUM(A16:E16) -> 0
F17: Chả cốm 300g | G17: =+SUM(H17:O17)-SUM(A17:E17) -> 0
F18: Chả nướng 300g | G18: =+SUM(H18:O18)-SUM(A18:E18) -> 0
F24: Tên sản phẩm | G24: Số lượng
F25: =+F11 -> Chân giò muối 300g | G25: =+G11 -> 18 | H25: 73431 | I25: =+G25*H25*0.95*1.08 -> 1356123.7
F26: =+F12 -> Tai heo muối 200g | G26: =+G12 -> 6 | H26: 55595 | I26: =+G26*H26*0.95*1.08 -> 342242.82
F27: =+F13 -> Gà muối 500g | G27: =+G13 -> 7 | H27: 116611 | I27: =+G27*H27*0.95*1.08 -> 837500.2
F28: =+F14 -> Giò tai lưỡi xào 250g | G28: =+G14 -> 13 | H28: 50182 | I28: =+G28*H28*0.95*1.08 -> 669327.52
F29: =+F15 -> Mọc nấm hương 250g | G29: =+G15 -> 0 | H29: 46000 | I29: =+G29*H29*0.95*1.08 -> 0
F30: =+F16 -> Chân giò muối 500g | G30: =+G16 -> 0 | H30: 119066 | I30: =+G30*H30*0.95*1.08 -> 0
F31: =+F17 -> Chả cốm 300g | G31: =+G17 -> 0 | H31: 74250 | I31: =+G31*H31*0.95*1.08 -> 0
F32: =+F18 -> Chả nướng 300g | G32: =+G18 -> 0 | H32: 70950 | I32: =+G32*H32*0.95*1.08 -> 0
I34: =SUM(I25:I32) -> 3205194.2

Sheet T02
A1: Ngày hóa đơn | B1: Số hóa đơn | C1: Ký hiệu HĐ | D1: Diễn giải | E1: Doanh số bán chưa có thuế GTGT | F1: Thuế suất | G1: Thuế GTGT | H1: Thành tiền | I1: Tên người mua | J1: Mã số thuế người mua
A2: 46055 | B2: 00008399 | C2: 1C26TTN | D2: PTMart 143 Nguyễn Tuân | E2: 640118 | F2: 8% | G2: 51209 | H2: =+E2+G2 -> 691327 | I2: CÔNG TY CỔ PHẦN PT | J2: 0109023661
A3: 46065 | B3: 00010917 | C3: 1C26TTN | D3: PT Mart Hà Đông | E3: 935963 | F3: 8% | G3: 74877 | H3: =+E3+G3 -> 1010840 | I3: CÔNG TY CỔ PHẦN PT | J3: 0109023661
H4: =SUM(H2:H3) -> 1702167
D9: 2 | F9: Chân giò muối 300g | G9: =+SUM(H9:O9)-SUM(A9:E9) -> 18 | H9: 5 | I9: 5 | J9: 5 | K9: 5
E10: 2 | F10: Tai heo muối 200g | G10: =+SUM(H10:O10)-SUM(A10:E10) -> 6 | H10: 2 | I10: 3 | K10: 3
F11: Gà muối 500g | G11: =+SUM(H11:O11)-SUM(A11:E11) -> 7 | H11: 1 | J11: 3 | K11: 3
F12: Giò tai lưỡi xào 250g | G12: =+SUM(H12:O12)-SUM(A12:E12) -> 13 | H12: 5 | I12: 5 | K12: 3
E13: 3 | F13: Mọc nấm hương 250g | G13: =+SUM(H13:O13)-SUM(A13:E13) -> 0 | K13: 3
F14: Chân giò muối 500g | G14: =+SUM(H14:O14)-SUM(A14:E14) -> 0
F15: Chả cốm 300g | G15: =+SUM(H15:O15)-SUM(A15:E15) -> 0
F16: Chả nướng 300g | G16: =+SUM(H16:O16)-SUM(A16:E16) -> 0
F22: Tên sản phẩm | G22: Số lượng
F23: =+F9 -> Chân giò muối 300g | G23: =+G9 -> 18 | H23: 73431 | I23: =+G23*H23*0.95*1.08 -> 1356123.7
F24: =+F10 -> Tai heo muối 200g | G24: =+G10 -> 6 | H24: 55595 | I24: =+G24*H24*0.95*1.08 -> 342242.82
F25: =+F11 -> Gà muối 500g | G25: =+G11 -> 7 | H25: 116611 | I25: =+G25*H25*0.95*1.08 -> 837500.2
F26: =+F12 -> Giò tai lưỡi xào 250g | G26: =+G12 -> 13 | H26: 50182 | I26: =+G26*H26*0.95*1.08 -> 669327.52
F27: =+F13 -> Mọc nấm hương 250g | G27: =+G13 -> 0 | H27: 46000 | I27: =+G27*H27*0.95*1.08 -> 0
F28: =+F14 -> Chân giò muối 500g | G28: =+G14 -> 0 | H28: 119066 | I28: =+G28*H28*0.95*1.08 -> 0
F29: =+F15 -> Chả cốm 300g | G29: =+G15 -> 0 | H29: 74250 | I29: =+G29*H29*0.95*1.08 -> 0
F30: =+F16 -> Chả nướng 300g | G30: =+G16 -> 0 | H30: 70950 | I30: =+G30*H30*0.95*1.08 -> 0
I32: =SUM(I23:I30) -> 3205194.2
