Workbook

Sheet TÂY HỒ
B1: CÔNG TY TNHH MTV TM & DV | E1: CỘNG HÒA XÃ HỘI CHỦ NGHĨA VIỆT NAM
B2: NGỌC THƠM | E2: Độc lập - Tự do - Hạnh phúc
E4: TP Hồ Chí Minh, ngày 26 tháng 08 năm 2025
A6: BẢNG KÊ HÓA ĐƠN THÁNG 06/2025
A7: Số: 22062025/BKHD/NT-LOTTE
A9: Bên bán hàng: | C9: CÔNG TY TNHH MỘT THÀNH VIÊN THƯƠNG MẠI VÀ DỊCH VỤ NGỌC THƠM
A10: Mã số thuế: | C10: 0309391503
A11: Địa chỉ: | C11: 12/14/18 Đường 49, Khu phố 7, Phường Hiệp Bình, TP. Hồ Chí Minh, Việt Nam
A12: Đại diện: | C12: Nguyễn Bảo Thạch | E12: Chức vụ: Phó Giám đốc
A14: Bên mua hàng: | C14: =+VLOOKUP(J14,'Danh sách CN'!A:D,2,0) -> CÔNG TY CỔ PHẦN TRUNG TÂM THƯƠNG MẠI LOTTE VIỆT NAM - CHI NHÁNH TÂY HỒ | J14: LOTTE-015
A15: Mã số thuế: | C15: =+VLOOKUP(J14,'Danh sách CN'!A:D,3,0) -> 0304741634-015
A16: Địa chỉ: | C16: =+VLOOKUP(J14,'Danh sách CN'!A:D,4,0) -> Tầng hầm B1, Lotte Mall Hà Nội, Số 272 Võ Chí Công, Phường Tây Hồ, Thành phố Hà Nội, Việt Nam
A17: Đại diện: | E17: Chức vụ:
A19: STT | B19: Số hóa đơn | C19: Ký hiệu | D19: Ngày hóa đơn | E19: Tên khách hàng | F19: Thành tiền trước thuế | G19: Tiền thuế GTGT | H19: Tổng thanh toán
A20: 1 | B20: 00026901 | C20: 1C25TNN | D20: 45779 | E20: CÔNG TY CỔ PHẦN TRUNG TÂM THƯƠNG MẠI LOTTE VIỆT NAM - CHI NHÁNH TÂY HỒ | F20: 1745950 | G20: 139676 | H20: =+F20+G20 -> 1885626
A21: 2 | B21: 00026902 | C21: 1C25TNN | D21: 45779 | E21: CÔNG TY CỔ PHẦN TRUNG TÂM THƯƠNG MẠI LOTTE VIỆT NAM - CHI NHÁNH TÂY HỒ | F21: 2221160 | G21: 177693 | H21: =+F21+G21 -> 2398853
A22: 3 | B22: 00028157 | C22: 1C25TNN | D22: 45783 | E22: CÔNG TY CỔ PHẦN TRUNG TÂM THƯƠNG MẠI LOTTE VIỆT NAM - CHI NHÁNH TÂY HỒ | F22: 2381320 | G22: 190506 | H22: =+F22+G22 -> 2571826
A23: 4 | B23: 00029682 | C23: 1C25TNN | D23: 45786 | E23: CÔNG TY CỔ PHẦN TRUNG TÂM THƯƠNG MẠI LOTTE VIỆT NAM - CHI NHÁNH TÂY HỒ | F23: 2144100 | G23: 171528 | H23: =+F23+G23 -> 2315628
A24: 5 | B24: 00029785 | C24: 1C25TNN | D24: 45789 | E24: CÔNG TY CỔ PHẦN TRUNG TÂM THƯƠNG MẠI LOTTE VIỆT NAM - CHI NHÁNH TÂY HỒ | F24: 2221160 | G24: 177693 | H24: =+F24+G24 -> 2398853
A25: 6 | B25: 00031144 | C25: 1C25TNN | D25: 45796 | E25: CÔNG TY CỔ PHẦN TRUNG TÂM THƯƠNG MẠI LOTTE VIỆT NAM - CHI NHÁNH TÂY HỒ | F25: 2221160 | G25: 177693 | H25: =+F25+G25 -> 2398853
A26: 7 | B26: 00032280 | C26: 1C25TNN | D26: 45799 | E26: CÔNG TY CỔ PHẦN TRUNG TÂM THƯƠNG MẠI LOTTE VIỆT NAM - CHI NHÁNH TÂY HỒ | F26: 2381320 | G26: 190506 | H26: =+F26+G26 -> 2571826
A27: 8 | B27: 00033904 | C27: 1C25TNN | D27: 45806 | E27: CÔNG TY CỔ PHẦN TRUNG TÂM THƯƠNG MẠI LOTTE VIỆT NAM - CHI NHÁNH TÂY HỒ | F27: 1608075 | G27: 128646 | H27: =+F27+G27 -> 1736721
A28: Tổng cộng | F28: =SUM(F20:F27) -> 16924245 | G28: =SUM(G20:G27) -> 1353941 | H28: =SUM(H20:H27) -> 18278186
A29: Tổng chiết khấu (tỷ lệ 0.5%) | F29: =ROUND(F28*0.005,0) -> 84621 | G29: =ROUND(F29*0.08,0) -> 6770 | H29: =F29+G29 -> 91391
A31: Bảng kê được lập thành 02 bản, có giá trị như nhau, mỗi bên giữ 01 bản
B33: ĐẠI DIỆN MUA HÀNG | F33: ĐẠI DIỆN BÁN HÀNG
B34: (Ký điện tử/ký, đóng dấu và ghi rõ họ tên) | F34: (Ký điện tử/ký, đóng dấu và ghi rõ họ tên)

Sheet VINH
B1: CÔNG TY TNHH MTV TM & DV | E1: CỘNG HÒA XÃ HỘI CHỦ NGHĨA VIỆT NAM
B2: NGỌC THƠM | E2: Độc lập - Tự do - Hạnh phúc
E4: TP Hồ Chí Minh, ngày 26 tháng 08 năm 2025
A6: BẢNG KÊ HÓA ĐƠN THÁNG 06/2025
A7: Số: 21062025/BKHD/NT-LOTTE
A9: Bên bán hàng: | C9: CÔNG TY TNHH MỘT THÀNH VIÊN THƯƠNG MẠI VÀ DỊCH VỤ NGỌC THƠM
A10: Mã số thuế: | C10: 0309391503
A11: Địa chỉ: | C11: 12/14/18 Đường 49, Khu phố 7, Phường Hiệp Bình, TP. Hồ Chí Minh, Việt Nam
A12: Đại diện: | C12: Nguyễn Bảo Thạch | E12: Chức vụ: Phó Giám đốc
A14: Bên mua hàng: | C14: =+VLOOKUP(J14,'Danh sách CN'!A:D,2,0) -> CÔNG TY CỔ PHẦN TRUNG TÂM THƯƠNG MẠI LOTTE VIỆT NAM - CHI NHÁNH VINH | J14: LOTTE-013
A15: Mã số thuế: | C15: =+VLOOKUP(J14,'Danh sách CN'!A:D,3,0) -> 0304741634-013
A16: Địa chỉ: | C16: =+VLOOKUP(J14,'Danh sách CN'!A:D,4,0) -> Đại lộ V.I.Lenin, Khối Yên Sơn, Phường Vinh Phú, Tỉnh Nghệ An, Việt Nam
A17: Đại diện: | E17: Chức vụ:
A19: STT | B19: Số hóa đơn | C19: Ký hiệu | D19: Ngày hóa đơn | E19: Tên khách hàng | F19: Thành tiền trước thuế | G19: Tiền thuế GTGT | H19: Tổng thanh toán
A20: 1 | B20: 00029819 | C20: 1C25TNN | D20: 45789 | E20: CÔNG TY CỔ PHẦN TRUNG TÂM THƯƠNG MẠI LOTTE VIỆT NAM - CHI NHÁNH VINH | F20: 4048700 | G20: 323896 | H20: =+F20+G20 -> 4372596
A21: 2 | B21: 00001081 | C21: 1C25TNF | D21: 45806 | E21: CÔNG TY CỔ PHẦN TRUNG TÂM THƯƠNG MẠI LOTTE VIỆT NAM - CHI NHÁNH VINH | F21: -333174 | G21: -26654 | H21: =+F21+G21 -> -359828
A22: 3 | B22: 00001083 | C22: 1C25TNF | D22: 45806 | E22: CÔNG TY CỔ PHẦN TRUNG TÂM THƯƠNG MẠI LOTTE VIỆT NAM - CHI NHÁNH VINH | F22: -325468 | G22: -26038 | H22: =+F22+G22 -> -351506
A23: Tổng cộng | F23: =SUM(F20:F22) -> 3390058 | G23: =SUM(G20:G22) -> 271204 | H23: =SUM(H20:H22) -> 3661262
A24: Tổng chiết khấu (tỷ lệ 0.5%) | F24: =ROUND(F23*0.005,0) -> 16950 | G24: =ROUND(F24*0.08,0) -> 1356 | H24: =F24+G24 -> 18306
A26: Bảng kê được lập thành 02 bản, có giá trị như nhau, mỗi bên giữ 01 bản
B28: ĐẠI DIỆN MUA HÀNG | F28: ĐẠI DIỆN BÁN HÀNG
B29: (Ký điện tử/ký, đóng dấu và ghi rõ họ tên) | F29: (Ký điện tử/ký, đóng dấu và ghi rõ họ tên)

Sheet NHA TRANG
B1: CÔNG TY TNHH MTV TM & DV | E1: CỘNG HÒA XÃ HỘI CHỦ NGHĨA VIỆT NAM
B2: NGỌC THƠM | E2: Độc lập - Tự do - Hạnh phúc
E4: TP Hồ Chí Minh, ngày 26 tháng 08 năm 2025
A6: BẢNG KÊ HÓA ĐƠN THÁNG 06/2025
A7: Số: 20062025/BKHD/NT-LOTTE
A9: Bên bán hàng: | C9: CÔNG TY TNHH MỘT THÀNH VIÊN THƯƠNG MẠI VÀ DỊCH VỤ NGỌC THƠM
A10: Mã số thuế: | C10: 0309391503
A11: Địa chỉ: | C11: 12/14/18 Đường 49, Khu phố 7, Phường Hiệp Bình, TP. Hồ Chí Minh, Việt Nam
A12: Đại diện: | C12: Nguyễn Bảo Thạch | E12: Chức vụ: Phó Giám đốc
A14: Bên mua hàng: | C14: =+VLOOKUP(J14,'Danh sách CN'!A:D,2,0) -> CÔNG TY CỔ PHẦN TRUNG TÂM THƯƠNG MẠI LOTTE VIỆT NAM - CHI NHÁNH NHA TRANG | J14: LOTTE-011
A15: Mã số thuế: | C15: =+VLOOKUP(J14,'Danh sách CN'!A:D,3,0) -> 0304741634-011
A16: Địa chỉ: | C16: =+VLOOKUP(J14,'Danh sách CN'!A:D,4,0) -> Số 58 đường 23/10, Phường Tây Nha Trang, Tỉnh Khánh Hòa, Việt Nam
A17: Đại diện: | E17: Chức vụ:
A19: STT | B19: Số hóa đơn | C19: Ký hiệu | D19: Ngày hóa đơn | E19: Tên khách hàng | F19: Thành tiền trước thuế | G19: Tiền thuế GTGT | H19: Tổng thanh toán
A20: 1 | B20: 00028361 | C20: 1C25TNN | D20: 45784 | E20: CÔNG TY CỔ PHẦN TRUNG TÂM THƯƠNG MẠI LOTTE VIỆT NAM - CHI NHÁNH NHA TRANG | F20: 2203405 | G20: 176272 | H20: =+F20+G20 -> 2379677
A21: 2 | B21: 00030010 | C21: 1C25TNN | D21: 45791 | E21: CÔNG TY CỔ PHẦN TRUNG TÂM THƯƠNG MẠI LOTTE VIỆT NAM - CHI NHÁNH NHA TRANG | F21: 2322015 | G21: 185761 | H21: =+F21+G21 -> 2507776
A22: Tổng cộng | F22: =SUM(F20:F21) -> 4525420 | G22: =SUM(G20:G21) -> 362033 | H22: =SUM(H20:H21) -> 4887453
A23: Tổng chiết khấu (tỷ lệ 0.5%) | F23: =ROUND(F22*0.005,0) -> 22627 | G23: =ROUND(F23*0.08,0) -> 1810 | H23: =F23+G23 -> 24437
A25: Bảng kê được lập thành 02 bản, có giá trị như nhau, mỗi bên giữ 01 bản
B27: ĐẠI DIỆN MUA HÀNG | F27: ĐẠI DIỆN BÁN HÀNG
B28: (Ký điện tử/ký, đóng dấu và ghi rõ họ tên) | F28: (Ký điện tử/ký, đóng dấu và ghi rõ họ tên)

Sheet GÒ VẤP
B1: CÔNG TY TNHH MTV TM & DV | E1: CỘNG HÒA XÃ HỘI CHỦ NGHĨA VIỆT NAM
B2: NGỌC THƠM | E2: Độc lập - Tự do - Hạnh phúc
E4: TP Hồ Chí Minh, ngày 26 tháng 08 năm 2025
A6: BẢNG KÊ HÓA ĐƠN THÁNG 06/2025
A7: Số: 19062025/BKHD/NT-LOTTE
A9: Bên bán hàng: | C9: CÔNG TY TNHH MỘT THÀNH VIÊN THƯƠNG MẠI VÀ DỊCH VỤ NGỌC THƠM
A10: Mã số thuế: | C10: 0309391503
A11: Địa chỉ: | C11: 12/14/18 Đường 49, Khu phố 7, Phường Hiệp Bình, TP. Hồ Chí Minh, Việt Nam
A12: Đại diện: | C12: Nguyễn Bảo Thạch | E12: Chức vụ: Phó Giám đốc
A14: Bên mua hàng: | C14: =+VLOOKUP(J14,'Danh sách CN'!A:D,2,0) -> CÔNG TY CỔ PHẦN TRUNG TÂM THƯƠNG MẠI LOTTE VIỆT NAM - CHI NHÁNH GÒ VẤP | J14: LOTTE-010
A15: Mã số thuế: | C15: =+VLOOKUP(J14,'Danh sách CN'!A:D,3,0) -> 0304741634-010
A16: Địa chỉ: | C16: =+VLOOKUP(J14,'Danh sách CN'!A:D,4,0) -> Số 18, Đường Phan Văn Trị, Phường Gò Vấp, Thành phố Hồ Chí Minh, Việt Nam
A17: Đại diện: | E17: Chức vụ:
A19: STT | B19: Số hóa đơn | C19: Ký hiệu | D19: Ngày hóa đơn | E19: Tên khách hàng | F19: Thành tiền trước thuế | G19: Tiền thuế GTGT | H19: Tổng thanh toán
A20: 1 | B20: 00028766 | C20: 1C25TNN | D20: 45785 | E20: CÔNG TY CỔ PHẦN TRUNG TÂM THƯƠNG MẠI LOTTE VIỆT NAM - CHI NHÁNH GÒ VẤP | F20: 3949355 | G20: 315948 | H20: =+F20+G20 -> 4265303
A21: 2 | B21: 00029751 | C21: 1C25TNN | D21: 45789 | E21: CÔNG TY CỔ PHẦN TRUNG TÂM THƯƠNG MẠI LOTTE VIỆT NAM - CHI NHÁNH GÒ VẤP | F21: 2858040 | G21: 228643 | H21: =+F21+G21 -> 3086683
A22: Tổng cộng | F22: =SUM(F20:F21) -> 6807395 | G22: =SUM(G20:G21) -> 544591 | H22: =SUM(H20:H21) -> 7351986
A23: Tổng chiết khấu (tỷ lệ 0.5%) | F23: =ROUND(F22*0.005,0) -> 34037 | G23: =ROUND(F23*0.08,0) -> 2723 | H23: =F23+G23 -> 36760
A25: Bảng kê được lập thành 02 bản, có giá trị như nhau, mỗi bên giữ 01 bản
B27: ĐẠI DIỆN MUA HÀNG | F27: ĐẠI DIỆN BÁN HÀNG
B28: (Ký điện tử/ký, đóng dấu và ghi rõ họ tên) | F28: (Ký điện tử/ký, đóng dấu và ghi rõ họ tên)

Sheet CẦN THƠ
B1: CÔNG TY TNHH MTV TM & DV | E1: CỘNG HÒA XÃ HỘI CHỦ NGHĨA VIỆT NAM
B2: NGỌC THƠM | E2: Độc lập - Tự do - Hạnh phúc
E4: TP Hồ Chí Minh, ngày 26 tháng 08 năm 2025
A6: BẢNG KÊ HÓA ĐƠN THÁNG 06/2025
A7: Số: 18062025/BKHD/NT-LOTTE
A9: Bên bán hàng: | C9: CÔNG TY TNHH MỘT THÀNH VIÊN THƯƠNG MẠI VÀ DỊCH VỤ NGỌC THƠM
A10: Mã số thuế: | C10: 0309391503
A11: Địa chỉ: | C11: 12/14/18 Đường 49, Khu phố 7, Phường Hiệp Bình, TP. Hồ Chí Minh, Việt Nam
A12: Đại diện: | C12: Nguyễn Bảo Thạch | E12: Chức vụ: Phó Giám đốc
A14: Bên mua hàng: | C14: =+VLOOKUP(J14,'Danh sách CN'!A:D,2,0) -> CÔNG TY CỔ PHẦN TRUNG TÂM THƯƠNG MẠI LOTTE VIỆT NAM - CHI NHÁNH CẦN THƠ | J14: LOTTE-007
A15: Mã số thuế: | C15: =+VLOOKUP(J14,'Danh sách CN'!A:D,3,0) -> 0304741634-007
A16: Địa chỉ: | C16: =+VLOOKUP(J14,'Danh sách CN'!A:D,4,0) -> 84, Mậu Thân, Phường Cái Khế, Thành phố Cần Thơ, Việt Nam
A17: Đại diện: | E17: Chức vụ:
A19: STT | B19: Số hóa đơn | C19: Ký hiệu | D19: Ngày hóa đơn | E19: Tên khách hàng | F19: Thành tiền trước thuế | G19: Tiền thuế GTGT | H19: Tổng thanh toán
A20: 1 | B20: 00030009 | C20: 1C25TNN | D20: 45791 | E20: CÔNG TY CỔ PHẦN TRUNG TÂM THƯƠNG MẠI LOTTE VIỆT NAM - CHI NHÁNH CẦN THƠ | F20: 555290 | G20: 44423 | H20: =+F20+G20 -> 599713
A21: Tổng cộng | F21: =SUM(F20:F20) -> 555290 | G21: =SUM(G20:G20) -> 44423 | H21: =SUM(H20:H20) -> 599713
A22: Tổng chiết khấu (tỷ lệ 0.5%) | F22: =ROUND(F21*0.005,0) -> 2776 | G22: =ROUND(F22*0.08,0) -> 222 | H22: =F22+G22 -> 2998
A24: Bảng kê được lập thành 02 bản, có giá trị như nhau, mỗi bên giữ 01 bản
B26: ĐẠI DIỆN MUA HÀNG | F26: ĐẠI DIỆN BÁN HÀNG
B27: (Ký điện tử/ký, đóng dấu và ghi rõ họ tên) | F27: (Ký điện tử/ký, đóng dấu và ghi rõ họ tên)

Sheet TÂN BÌNH
B1: CÔNG TY TNHH MTV TM & DV | E1: CỘNG HÒA XÃ HỘI CHỦ NGHĨA VIỆT NAM
B2: NGỌC THƠM | E2: Độc lập - Tự do - Hạnh phúc
E4: TP Hồ Chí Minh, ngày 26 tháng 08 năm 2025
A6: BẢNG KÊ HÓA ĐƠN THÁNG 06/2025
A7: Số: 07062025/BKHD/NT-LOTTE
A9: Bên bán hàng: | C9: CÔNG TY TNHH MỘT THÀNH VIÊN THƯƠNG MẠI VÀ DỊCH VỤ NGỌC THƠM
A10: Mã số thuế: | C10: 0309391503
A11: Địa chỉ: | C11: 12/14/18 Đường 49, Khu phố 7, Phường Hiệp Bình, TP. Hồ Chí Minh, Việt Nam
A12: Đại diện: | C12: Nguyễn Bảo Thạch | E12: Chức vụ: Phó Giám đốc
A14: Bên mua hàng: | C14: =+VLOOKUP(J14,'Danh sách CN'!A:D,2,0) -> CÔNG TY CỔ PHẦN TRUNG TÂM THƯƠNG MẠI LOTTE VIỆT NAM - CHI NHÁNH TÂN BÌNH | J14: LOTTE-006
A15: Mã số thuế: | C15: =+VLOOKUP(J14,'Danh sách CN'!A:D,3,0) -> 0304741634-006
A16: Địa chỉ: | C16: =+VLOOKUP(J14,'Danh sách CN'!A:D,4,0) -> Số 20, đường Cộng Hòa, Phường Bảy Hiền, Thành phố Hồ Chí Minh, Việt Nam
A17: Đại diện: | E17: Chức vụ:
A19: STT | B19: Số hóa đơn | C19: Ký hiệu | D19: Ngày hóa đơn | E19: Tên khách hàng | F19: Thành tiền trước thuế | G19: Tiền thuế GTGT | H19: Tổng thanh toán
A20: 1 | B20: 00034297 | C20: 1C25TNN | D20: 45810 | E20: CÔNG TY CỔ PHẦN TRUNG TÂM THƯƠNG MẠI LOTTE VIỆT NAM - CHI NHÁNH TÂN BÌNH | F20: 1686645 | G20: 134932 | H20: =+F20+G20 -> 1821577
A21: 2 | H21: =+F21+G21 -> 0
A22: 3 | H22: =+F22+G22 -> 0
A23: 4 | H23: =+F23+G23 -> 0
A24: 5 | H24: =+F24+G24 -> 0
A25: 6 | H25: =+F25+G25 -> 0
A26: 7 | H26: =+F26+G26 -> 0
A27: 8 | H27: =+F27+G27 -> 0
A28: 9 | H28: =+F28+G28 -> 0
A29: 10 | H29: =+F29+G29 -> 0
A30: 11 | H30: =+F30+G30 -> 0
A31: 12 | H31: =+F31+G31 -> 0
A32: 13 | H32: =+F32+G32 -> 0
... A59: 40 | H59: =+F59+G59 -> 0
A60: Tổng cộng | F60: =SUM(F20:F59) -> 1686645 | G60: =SUM(G20:G59) -> 134932 | H60: =SUM(H20:H59) -> 1821577
A61: Tổng chiết khấu (tỷ lệ 7%) | F61: =ROUND(F60*0.07,0) -> 118065 | G61: =ROUND(F61*0.08,0) -> 9445 | H61: =F61+G61 -> 127510
A63: Bảng kê được lập thành 02 bản, có giá trị như nhau, mỗi bên giữ 01 bản
B65: ĐẠI DIỆN MUA HÀNG | F65: ĐẠI DIỆN BÁN HÀNG
B66: (Ký điện tử/ký, đóng dấu và ghi rõ họ tên) | F66: (Ký điện tử/ký, đóng dấu và ghi rõ họ tên)

Sheet VŨNG TÀU
B1: CÔNG TY TNHH MTV TM & DV | E1: CỘNG HÒA XÃ HỘI CHỦ NGHĨA VIỆT NAM
B2: NGỌC THƠM | E2: Độc lập - Tự do - Hạnh phúc
E4: TP Hồ Chí Minh, ngày 26 tháng 08 năm 2025
A6: BẢNG KÊ HÓA ĐƠN THÁNG 06/2025
A7: Số: 17062025/BKHD/NT-LOTTE
A9: Bên bán hàng: | C9: CÔNG TY TNHH MỘT THÀNH VIÊN THƯƠNG MẠI VÀ DỊCH VỤ NGỌC THƠM
A10: Mã số thuế: | C10: 0309391503
A11: Địa chỉ: | C11: 12/14/18 Đường 49, Khu phố 7, Phường Hiệp Bình, TP. Hồ Chí Minh, Việt Nam
A12: Đại diện: | C12: Nguyễn Bảo Thạch | E12: Chức vụ: Phó Giám đốc
A14: Bên mua hàng: | C14: =+VLOOKUP(J14,'Danh sách CN'!A:D,2,0) -> CÔNG TY CỔ PHẦN TRUNG TÂM THƯƠNG MẠI LOTTE VIỆT NAM - CHI NHÁNH BÀ RỊA VŨNG TÀU | J14: LOTTE-005
A15: Mã số thuế: | C15: =+VLOOKUP(J14,'Danh sách CN'!A:D,3,0) -> 0304741634-005
A16: Địa chỉ: | C16: =+VLOOKUP(J14,'Danh sách CN'!A:D,4,0) -> Góc đường 3 tháng 2 và đường Thi Sách, Phường Tam Thắng, TP. Hồ Chí Minh, Việt Nam
A17: Đại diện: | E17: Chức vụ:
A19: STT | B19: Số hóa đơn | C19: Ký hiệu | D19: Ngày hóa đơn | E19: Tên khách hàng | F19: Thành tiền trước thuế | G19: Tiền thuế GTGT | H19: Tổng thanh toán
A20: 1 | B20: 00028151 | C20: 1C25TNN | D20: 45782 | E20: CÔNG TY CỔ PHẦN TRUNG TÂM THƯƠNG MẠI LOTTE VIỆT NAM - CHI NHÁNH BÀ RỊA VŨNG TÀU | F20: 3491900 | G20: 279352 | H20: =+F20+G20 -> 3771252
A21: 2 | B21: 00032835 | C21: 1C25TNN | D21: 45803 | E21: CÔNG TY CỔ PHẦN TRUNG TÂM THƯƠNG MẠI LOTTE VIỆT NAM - CHI NHÁNH BÀ RỊA VŨNG TÀU | F21: 2381320 | G21: 190506 | H21: =+F21+G21 -> 2571826
A22: Tổng cộng | F22: =SUM(F20:F21) -> 5873220 | G22: =SUM(G20:G21) -> 469858 | H22: =SUM(H20:H21) -> 6343078
A23: Tổng chiết khấu (tỷ lệ 0.5%) | F23: =ROUND(F22*0.005,0) -> 29366 | G23: =ROUND(F23*0.08,0) -> 2349 | H23: =F23+G23 -> 31715
A25: Bảng kê được lập thành 02 bản, có giá trị như nhau, mỗi bên giữ 01 bản
B27: ĐẠI DIỆN MUA HÀNG | F27: ĐẠI DIỆN BÁN HÀNG
B28: (Ký điện tử/ký, đóng dấu và ghi rõ họ tên) | F28: (Ký điện tử/ký, đóng dấu và ghi rõ họ tên)

Sheet BA ĐÌNH
B1: CÔNG TY TNHH MTV TM & DV | E1: CỘNG HÒA XÃ HỘI CHỦ NGHĨA VIỆT NAM
B2: NGỌC THƠM | E2: Độc lập - Tự do - Hạnh phúc
E4: TP Hồ Chí Minh, ngày 26 tháng 08 năm 2025
A6: BẢNG KÊ HÓA ĐƠN THÁNG 06/2025
A7: Số: 16062025/BKHD/NT-LOTTE
A9: Bên bán hàng: | C9: CÔNG TY TNHH MỘT THÀNH VIÊN THƯƠNG MẠI VÀ DỊCH VỤ NGỌC THƠM
A10: Mã số thuế: | C10: 0309391503
A11: Địa chỉ: | C11: 12/14/18 Đường 49, Khu phố 7, Phường Hiệp Bình, TP. Hồ Chí Minh, Việt Nam
A12: Đại diện: | C12: Nguyễn Bảo Thạch | E12: Chức vụ: Phó Giám đốc
A14: Bên mua hàng: | C14: =+VLOOKUP(J14,'Danh sách CN'!A:D,2,0) -> CÔNG TY CỔ PHẦN TRUNG TÂM THƯƠNG MẠI LOTTE VIỆT NAM - CHI NHÁNH BA ĐÌNH | J14: LOTTE-008
A15: Mã số thuế: | C15: =+VLOOKUP(J14,'Danh sách CN'!A:D,3,0) -> 0304741634-008
A16: Địa chỉ: | C16: =+VLOOKUP(J14,'Danh sách CN'!A:D,4,0) -> Tầng hầm 1 (B1), Trung tâm Lotte Hà Nội, số 54, đường Liễu Giai, Phường Giảng Võ, Thành phố Hà Nội, Việt Nam
A17: Đại diện: | E17: Chức vụ:
A19: STT | B19: Số hóa đơn | C19: Ký hiệu | D19: Ngày hóa đơn | E19: Tên khách hàng | F19: Thành tiền trước thuế | G19: Tiền thuế GTGT | H19: Tổng thanh toán
A20: 1 | B20: 00026900 | C20: 1C25TNN | D20: 45779 | E20: CÔNG TY CỔ PHẦN TRUNG TÂM THƯƠNG MẠI LOTTE VIỆT NAM - CHI NHÁNH BA ĐÌNH | F20: 1072050 | G20: 85764 | H20: =+F20+G20 -> 1157814
A21: 2 | B21: 00029747 | C21: 1C25TNN | D21: 45789 | E21: CÔNG TY CỔ PHẦN TRUNG TÂM THƯƠNG MẠI LOTTE VIỆT NAM - CHI NHÁNH BA ĐÌNH | F21: 1110580 | G21: 88846 | H21: =+F21+G21 -> 1199426
A22: 3 | B22: 00031103 | C22: 1C25TNN | D22: 45796 | E22: CÔNG TY CỔ PHẦN TRUNG TÂM THƯƠNG MẠI LOTTE VIỆT NAM - CHI NHÁNH BA ĐÌNH | F22: 1190660 | G22: 95253 | H22: =+F22+G22 -> 1285913
A23: Tổng cộng | F23: =SUM(F20:F22) -> 3373290 | G23: =SUM(G20:G22) -> 269863 | H23: =SUM(H20:H22) -> 3643153
A24: Tổng chiết khấu (tỷ lệ 0.5%) | F24: =ROUND(F23*0.005,0) -> 16866 | G24: =ROUND(F24*0.08,0) -> 1349 | H24: =F24+G24 -> 18215
A26: Bảng kê được lập thành 02 bản, có giá trị như nhau, mỗi bên giữ 01 bản
B28: ĐẠI DIỆN MUA HÀNG | F28: ĐẠI DIỆN BÁN HÀNG
B29: (Ký điện tử/ký, đóng dấu và ghi rõ họ tên) | F29: (Ký điện tử/ký, đóng dấu và ghi rõ họ tên)

Sheet BÌNH THUẬN
B1: CÔNG TY TNHH MTV TM & DV | E1: CỘNG HÒA XÃ HỘI CHỦ NGHĨA VIỆT NAM
B2: NGỌC THƠM | E2: Độc lập - Tự do - Hạnh phúc
E4: TP Hồ Chí Minh, ngày 26 tháng 08 năm 2025
A6: BẢNG KÊ HÓA ĐƠN THÁNG 06/2025
A7: Số: 15062025/BKHD/NT-LOTTE
A9: Bên bán hàng: | C9: CÔNG TY TNHH MỘT THÀNH VIÊN THƯƠNG MẠI VÀ DỊCH VỤ NGỌC THƠM
A10: Mã số thuế: | C10: 0309391503
A11: Địa chỉ: | C11: 12/14/18 Đường 49, Khu phố 7, Phường Hiệp Bình, TP. Hồ Chí Minh, Việt Nam
A12: Đại diện: | C12: Nguyễn Bảo Thạch | E12: Chức vụ: Phó Giám đốc
A14: Bên mua hàng: | C14: =+VLOOKUP(J14,'Danh sách CN'!A:D,2,0) -> CÔNG TY CỔ PHẦN TRUNG TÂM THƯƠNG MẠI LOTTE VIỆT NAM - CHI NHÁNH BÌNH THUẬN | J14: LOTTE-002
A15: Mã số thuế: | C15: =+VLOOKUP(J14,'Danh sách CN'!A:D,3,0) -> 0304741634-002
A16: Địa chỉ: | C16: =+VLOOKUP(J14,'Danh sách CN'!A:D,4,0) -> Khu dân cư Hùng Vương I, Phường Phú Thủy, Tỉnh Lâm Đồng, Việt Nam
A17: Đại diện: | E17: Chức vụ:
A19: STT | B19: Số hóa đơn | C19: Ký hiệu | D19: Ngày hóa đơn | E19: Tên khách hàng | F19: Thành tiền trước thuế | G19: Tiền thuế GTGT | H19: Tổng thanh toán
A20: 1 | B20: 00029818 | C20: 1C25TNN | D20: 45789 | E20: CÔNG TY CỔ PHẦN TRUNG TÂM THƯƠNG MẠI LOTTE VIỆT NAM - CHI NHÁNH BÌNH THUẬN | F20: 2718655 | G20: 217492 | H20: =+F20+G20 -> 2936147
A21: 2 | B21: 00001082 | C21: 1C25TNF | D21: 45806 | E21: CÔNG TY CỔ PHẦN TRUNG TÂM THƯƠNG MẠI LOTTE VIỆT NAM - CHI NHÁNH BÌNH THUẬN | F21: -303256 | G21: -24261 | H21: =+F21+G21 -> -327517
A22: Tổng cộng | F22: =SUM(F20:F21) -> 2415399 | G22: =SUM(G20:G21) -> 193231 | H22: =SUM(H20:H21) -> 2608630
A23: Tổng chiết khấu (tỷ lệ 0.5%) | F23: =ROUND(F22*0.005,0) -> 12077 | G23: =ROUND(F23*0.08,0) -> 966 | H23: =F23+G23 -> 13043
A25: Bảng kê được lập thành 02 bản, có giá trị như nhau, mỗi bên giữ 01 bản
B27: ĐẠI DIỆN MUA HÀNG | F27: ĐẠI DIỆN BÁN HÀNG
B28: (Ký điện tử/ký, đóng dấu và ghi rõ họ tên) | F28: (Ký điện tử/ký, đóng dấu và ghi rõ họ tên)

Sheet BÌNH DƯƠNG
B1: CÔNG TY TNHH MTV TM & DV | E1: CỘNG HÒA XÃ HỘI CHỦ NGHĨA VIỆT NAM
B2: NGỌC THƠM | E2: Độc lập - Tự do - Hạnh phúc
E4: TP Hồ Chí Minh, ngày 26 tháng 08 năm 2025
A6: BẢNG KÊ HÓA ĐƠN THÁNG 06/2025
A7: Số: 14062025/BKHD/NT-LOTTE
A9: Bên bán hàng: | C9: CÔNG TY TNHH MỘT THÀNH VIÊN THƯƠNG MẠI VÀ DỊCH VỤ NGỌC THƠM
A10: Mã số thuế: | C10: 0309391503
A11: Địa chỉ: | C11: 12/14/18 Đường 49, Khu phố 7, Phường Hiệp Bình, TP. Hồ Chí Minh, Việt Nam
A12: Đại diện: | C12: Nguyễn Bảo Thạch | E12: Chức vụ: Phó Giám đốc
A14: Bên mua hàng: | C14: =+VLOOKUP(J14,'Danh sách CN'!A:D,2,0) -> CÔNG TY CỔ PHẦN TRUNG TÂM THƯƠNG MẠI LOTTE VIỆT NAM - CHI NHÁNH BÌNH DƯƠNG | J14: LOTTE-003
A15: Mã số thuế: | C15: =+VLOOKUP(J14,'Danh sách CN'!A:D,3,0) -> 0304741634-003
A16: Địa chỉ: | C16: =+VLOOKUP(J14,'Danh sách CN'!A:D,4,0) -> Khu đô thị The Seasons Bình Dương, Phường Lái Thiêu, TP. Hồ Chí Minh, Việt Nam
A17: Đại diện: | E17: Chức vụ:
A19: STT | B19: Số hóa đơn | C19: Ký hiệu | D19: Ngày hóa đơn | E19: Tên khách hàng | F19: Thành tiền trước thuế | G19: Tiền thuế GTGT | H19: Tổng thanh toán
A20: 1 | B20: 00028511 | C20: 1C25TNN | D20: 45785 | E20: CÔNG TY CỔ PHẦN TRUNG TÂM THƯƠNG MẠI LOTTE VIỆT NAM - CHI NHÁNH BÌNH DƯƠNG | F20: 1072050 | G20: 85764 | H20: =+F20+G20 -> 1157814
A21: Tổng cộng | F21: =SUM(F20:F20) -> 1072050 | G21: =SUM(G20:G20) -> 85764 | H21: =SUM(H20:H20) -> 1157814
A22: Tổng chiết khấu (tỷ lệ 0.5%) | F22: =ROUND(F21*0.005,0) -> 5360 | G22: =ROUND(F22*0.08,0) -> 429 | H22: =F22+G22 -> 5789
A24: Bảng kê được lập thành 02 bản, có giá trị như nhau, mỗi bên giữ 01 bản
B26: ĐẠI DIỆN MUA HÀNG | F26: ĐẠI DIỆN BÁN HÀNG
B27: (Ký điện tử/ký, đóng dấu và ghi rõ họ tên) | F27: (Ký điện tử/ký, đóng dấu và ghi rõ họ tên)

Sheet PHÚ THỌ
B1: CÔNG TY TNHH MTV TM & DV | E1: CỘNG HÒA XÃ HỘI CHỦ NGHĨA VIỆT NAM
B2: NGỌC THƠM | E2: Độc lập - Tự do - Hạnh phúc
E4: TP Hồ Chí Minh, ngày 26 tháng 08 năm 2025
A6: BẢNG KÊ HÓA ĐƠN THÁNG 06/2025
A7: Số: 02062025/BKHD/NT-LOTTE
A9: Bên bán hàng: | C9: CÔNG TY TNHH MỘT THÀNH VIÊN THƯƠNG MẠI VÀ DỊCH VỤ NGỌC THƠM
A10: Mã số thuế: | C10: 0309391503
A11: Địa chỉ: | C11: 12/14/18 Đường 49, Khu phố 7, Phường Hiệp Bình, TP. Hồ Chí Minh, Việt Nam
A12: Đại diện: | C12: Nguyễn Bảo Thạch | E12: Chức vụ: Phó Giám đốc
A14: Bên mua hàng: | C14: =+VLOOKUP(J14,'Danh sách CN'!A:D,2,0) -> CÔNG TY CỔ PHẦN TRUNG TÂM THƯƠNG MẠI LOTTE VIỆT NAM | J14: LOTTE
A15: Mã số thuế: | C15: =+VLOOKUP(J14,'Danh sách CN'!A:D,3,0) -> 0304741634
A16: Địa chỉ: | C16: =+VLOOKUP(J14,'Danh sách CN'!A:D,4,0) -> Số 469, Đường Nguyễn Hữu Thọ, Phường Tân Hưng, Thành phố Hồ Chí Minh, Việt Nam
A17: Đại diện: | E17: Chức vụ:
A19: STT | B19: Số hóa đơn | C19: Ký hiệu | D19: Ngày hóa đơn | E19: Tên khách hàng | F19: Thành tiền trước thuế | G19: Tiền thuế GTGT | H19: Tổng thanh toán
A20: 1 | B20: 00036686 | C20: 1C25TNN | D20: 45821 | E20: CÔNG TY CỔ PHẦN TRUNG TÂM THƯƠNG MẠI LOTTE VIỆT NAM | F20: 555290 | G20: 44423 | H20: =+F20+G20 -> 599713
A21: 2 | B21: 00039236 | C21: 1C25TNN | D21: 45834 | E21: CÔNG TY CỔ PHẦN TRUNG TÂM THƯƠNG MẠI LOTTE VIỆT NAM | F21: 555290 | G21: 44423 | H21: =+F21+G21 -> 599713
A22: 3 | H22: =+F22+G22 -> 0
A23: 4 | H23: =+F23+G23 -> 0
A24: 5 | H24: =+F24+G24 -> 0
A25: 6 | H25: =+F25+G25 -> 0
A26: 7 | H26: =+F26+G26 -> 0
A27: 8 | H27: =+F27+G27 -> 0
A28: 9 | H28: =+F28+G28 -> 0
A29: 10 | H29: =+F29+G29 -> 0
A30: 11 | H30: =+F30+G30 -> 0
A31: 12 | H31: =+F31+G31 -> 0
A32: 13 | H32: =+F32+G32 -> 0
A33: 14 | H33: =+F33+G33 -> 0
... A59: 40 | H59: =+F59+G59 -> 0
A60: Tổng cộng | F60: =SUM(F20:F59) -> 1110580 | G60: =SUM(G20:G59) -> 88846 | H60: =SUM(H20:H59) -> 1199426
A61: Tổng chiết khấu (tỷ lệ 7%) | F61: =ROUND(F60*0.07,0) -> 77741 | G61: =ROUND(F61*0.08,0) -> 6219 | H61: =F61+G61 -> 83960
A63: Bảng kê được lập thành 02 bản, có giá trị như nhau, mỗi bên giữ 01 bản
B65: ĐẠI DIỆN MUA HÀNG | F65: ĐẠI DIỆN BÁN HÀNG
B66: (Ký điện tử/ký, đóng dấu và ghi rõ họ tên) | F66: (Ký điện tử/ký, đóng dấu và ghi rõ họ tên)

Sheet NAM SÀI GÒN
B1: CÔNG TY TNHH MTV TM & DV | E1: CỘNG HÒA XÃ HỘI CHỦ NGHĨA VIỆT NAM
B2: NGỌC THƠM | E2: Độc lập - Tự do - Hạnh phúc
E4: TP Hồ Chí Minh, ngày 26 tháng 08 năm 2025
A6: BẢNG KÊ HÓA ĐƠN THÁNG 06/2025
A7: Số: 13062025/BKHD/NT-LOTTE
A9: Bên bán hàng: | C9: CÔNG TY TNHH MỘT THÀNH VIÊN THƯƠNG MẠI VÀ DỊCH VỤ NGỌC THƠM
A10: Mã số thuế: | C10: 0309391503
A11: Địa chỉ: | C11: 12/14/18 Đường 49, Khu phố 7, Phường Hiệp Bình, TP. Hồ Chí Minh, Việt Nam
A12: Đại diện: | C12: Nguyễn Bảo Thạch | E12: Chức vụ: Phó Giám đốc
A14: Bên mua hàng: | C14: =+VLOOKUP(J14,'Danh sách CN'!A:D,2,0) -> CÔNG TY CỔ PHẦN TRUNG TÂM THƯƠNG MẠI LOTTE VIỆT NAM | J14: LOTTE
A15: Mã số thuế: | C15: =+VLOOKUP(J14,'Danh sách CN'!A:D,3,0) -> 0304741634
A16: Địa chỉ: | C16: =+VLOOKUP(J14,'Danh sách CN'!A:D,4,0) -> Số 469, Đường Nguyễn Hữu Thọ, Phường Tân Hưng, Thành phố Hồ Chí Minh, Việt Nam
A17: Đại diện: | E17: Chức vụ:
A19: STT | B19: Số hóa đơn | C19: Ký hiệu | D19: Ngày hóa đơn | E19: Tên khách hàng | F19: Thành tiền trước thuế | G19: Tiền thuế GTGT | H19: Tổng thanh toán
A20: 1 | B20: 00031284 | C20: 1C25TNN | D20: 45798 | E20: CÔNG TY CỔ PHẦN TRUNG TÂM THƯƠNG MẠI LOTTE VIỆT NAM | F20: 1110580 | G20: 88846 | H20: =+F20+G20 -> 1199426
A21: 2 | B21: 00031285 | C21: 1C25TNN | D21: 45798 | E21: CÔNG TY CỔ PHẦN TRUNG TÂM THƯƠNG MẠI LOTTE VIỆT NAM | F21: 1190660 | G21: 95253 | H21: =+F21+G21 -> 1285913
A22: 3 | B22: 00032841 | C22: 1C25TNN | D22: 45804 | E22: CÔNG TY CỔ PHẦN TRUNG TÂM THƯƠNG MẠI LOTTE VIỆT NAM | F22: 1072050 | G22: 85764 | H22: =+F22+G22 -> 1157814
A23: 4 | B23: 00032842 | C23: 1C25TNN | D23: 45804 | E23: CÔNG TY CỔ PHẦN TRUNG TÂM THƯƠNG MẠI LOTTE VIỆT NAM | F23: 1150620 | G23: 92050 | H23: =+F23+G23 -> 1242670
A24: Tổng cộng | F24: =SUM(F20:F23) -> 4523910 | G24: =SUM(G20:G23) -> 361913 | H24: =SUM(H20:H23) -> 4885823
A25: Tổng chiết khấu (tỷ lệ 0.5%) | F25: =ROUND(F24*0.005,0) -> 22620 | G25: =ROUND(F25*0.08,0) -> 1810 | H25: =F25+G25 -> 24430
A27: Bảng kê được lập thành 02 bản, có giá trị như nhau, mỗi bên giữ 01 bản
B29: ĐẠI DIỆN MUA HÀNG | F29: ĐẠI DIỆN BÁN HÀNG
B30: (Ký điện tử/ký, đóng dấu và ghi rõ họ tên) | F30: (Ký điện tử/ký, đóng dấu và ghi rõ họ tên)

Sheet Danh sách CN
A1: Mã khách hàng | B1: Tên khách hàng | C1: Mã số thuế | D1: Địa chỉ
A2: LOTTE-007 | B2: CÔNG TY CỔ PHẦN TRUNG TÂM THƯƠNG MẠI LOTTE VIỆT NAM - CHI NHÁNH CẦN THƠ | C2: 0304741634-007 | D2: 84, Mậu Thân, Phường Cái Khế, Thành phố Cần Thơ, Việt Nam
A3: LOTTE-013 | B3: CÔNG TY CỔ PHẦN TRUNG TÂM THƯƠNG MẠI LOTTE VIỆT NAM - CHI NHÁNH VINH | C3: 0304741634-013 | D3: Đại lộ V.I.Lenin, Khối Yên Sơn, Phường Vinh Phú, Tỉnh Nghệ An, Việt Nam
A4: LOTTE-005 | B4: CÔNG TY CỔ PHẦN TRUNG TÂM THƯƠNG MẠI LOTTE VIỆT NAM - CHI NHÁNH BÀ RỊA VŨNG TÀU | C4: 0304741634-005 | D4: Góc đường 3 tháng 2 và đường Thi Sách, Phường Tam Thắng, TP. Hồ Chí Minh, Việt Nam
A5: LOTTE-002 | B5: CÔNG TY CỔ PHẦN TRUNG TÂM THƯƠNG MẠI LOTTE VIỆT NAM - CHI NHÁNH BÌNH THUẬN | C5: 0304741634-002 | D5: Khu dân cư Hùng Vương I, Phường Phú Thủy, Tỉnh Lâm Đồng, Việt Nam
A6: LOTTE-003 | B6: CÔNG TY CỔ PHẦN TRUNG TÂM THƯƠNG MẠI LOTTE VIỆT NAM - CHI NHÁNH BÌNH DƯƠNG | C6: 0304741634-003 | D6: Khu đô thị The Seasons Bình Dương, Phường Lái Thiêu, TP. Hồ Chí Minh, Việt Nam
A7: LOTTE-001 | B7: CÔNG TY CỔ PHẦN TRUNG TÂM THƯƠNG MẠI LOTTE VIỆT NAM - CHI NHÁNH ĐỒNG NAI | C7: 0304741634-001 | D7: Lô B-03 Khu thương mại Amata, Quốc lộ 1A, Phường Long Bình, Tỉnh Đồng Nai, Việt Nam
A8: LOTTE-009 | B8: CÔNG TY CỔ PHẦN TRUNG TÂM THƯƠNG MẠI LOTTE VIỆT NAM - CHI NHÁNH ĐÀ NẴNG | C8: 0304741634-009 | D8: số 06 đường Nại Nam, Phường Hòa Cường, Thành phố Đà Nẵng, Việt Nam
A9: LOTTE-010 | B9: CÔNG TY CỔ PHẦN TRUNG TÂM THƯƠNG MẠI LOTTE VIỆT NAM - CHI NHÁNH GÒ VẤP | C9: 0304741634-010 | D9: Số 18, Đường Phan Văn Trị, Phường Gò Vấp, Thành phố Hồ Chí Minh, Việt Nam
A10: LOTTE-006 | B10: CÔNG TY CỔ PHẦN TRUNG TÂM THƯƠNG MẠI LOTTE VIỆT NAM - CHI NHÁNH TÂN BÌNH | C10: 0304741634-006 | D10: Số 20, đường Cộng Hòa, Phường Bảy Hiền, Thành phố Hồ Chí Minh, Việt Nam
A11: LOTTE | B11: CÔNG TY CỔ PHẦN TRUNG TÂM THƯƠNG MẠI LOTTE VIỆT NAM | C11: 0304741634 | D11: Số 469, Đường Nguyễn Hữu Thọ, Phường Tân Hưng, Thành phố Hồ Chí Minh, Việt Nam
A12: LOTTE-011 | B12: CÔNG TY CỔ PHẦN TRUNG TÂM THƯƠNG MẠI LOTTE VIỆT NAM - CHI NHÁNH NHA TRANG | C12: 0304741634-011 | D12: Số 58 đường 23/10, Phường Tây Nha Trang, Tỉnh Khánh Hòa, Việt Nam
... A15: LOTTE-004 | B15: CÔNG TY CỔ PHẦN TRUNG TÂM THƯƠNG MẠI LOTTE VIỆT NAM - CHI NHÁNH ĐỐNG ĐA | C15: 0304741634-004 | D15: Tòa nhà Mipec, 229 Tây Sơn, Phường Ngã Tư Sở, Quận Đống đa, Thành phố Hà Nội, Việt Nam
