Workbook

Sheet Công nợ 
B2: THEO DÕI CÔNG NỢ LONG BEACH 2026
B3: Ngày tháng | C3: Nội dung | D3: Số tiền bán hàng (+V) | E3: Giảm trừ | F3: Hàng trả | G3: Số tiền khách đã thanh toán
C4: Số đầu kỳ | D4: 10909986
C5: Hàng bán T01 | D5: 8419377
C6: Hàng bán T02 | D6: 0
C7: Hàng bán T03 | D7: 2772376
C8: Hàng bán T04 | D8: 1870171
C9: Hàng bán T05
C10: Hàng bán T06
C11: Hàng bán T07
C12: Hàng bán T08
C13: Hàng bán T09
C14: Hàng bán T10
C15: Hàng bán T11
C16: Hàng bán T12
B18: Tổng bán hàng | D18: =SUM(D5:D17) -> 13061924
C19: Giảm trừ T01 | E19: 0
C20: Giảm trừ T02 | E20: 0
C21: Giảm trừ T03 | E21: 0
C22: Giảm trừ T04
C23: Giảm trừ T05
C24: Giảm trừ T06
C25: Giảm trừ T07
C26: Giảm trừ T08
C27: Giảm trừ T09
C28: Giảm trừ T10
C29: Giảm trừ T11
C30: Giảm trừ T12
B32: Tổng giảm trừ | E32: =SUM(E19:E31) -> 0
C33: Hàng trả T01 | F33: 0
C34: Hàng trả T02 | F34: 0
C35: Hàng trả T03 | F35: 0
C36: Hàng trả T04 | F36: 0
C37: Hàng trả T05 | F37: 0
C38: Hàng trả T06 | F38: 0
C39: Hàng trả T07 | F39: 0
C40: Hàng trả T08 | F40: 0
C41: Hàng trả T09 | F41: 0
C42: Hàng trả T10 | F42: 0
C43: Hàng trả T11 | F43: 0
...

Sheet CÔNG NỢ 2026
B2: CÔNG NỢ 2026
C3: BH | D3: TRA | E3: P | G3: TT
B4: Tháng | C4: Bán hàng | D4: Hàng trả | E4: Giảm trừ | F4: Tổng phát sinh | G4: Thanh toán | H4: Công nợ cuối kỳ
B5: Số dư đầu kỳ 31/12/2025 | H5: 10909986
B6: 1 | C6: =SUMIFS('CHI TIẾT'!$L:$L,'CHI TIẾT'!$B:$B,'CÔNG NỢ 2026'!$B6,'CHI TIẾT'!$A:$A,"BH") -> 8419377 | D6: =SUMIFS('CHI TIẾT'!$L:$L,'CHI TIẾT'!$B:$B,'CÔNG NỢ 2026'!$B6,'CHI TIẾT'!$A:$A,"TRA") -> 0 | E6: =SUMIFS('CHI TIẾT'!$L:$L,'CHI TIẾT'!$B:$B,'CÔNG NỢ 2026'!$B6,'CHI TIẾT'!$A:$A,"GT") -> 0 | F6: =SUM(C6:E6) -> 8419377 | G6: =SUMIFS('CHI TIẾT'!$L:$L,'CHI TIẾT'!$B:$B,'CÔNG NỢ 2026'!$B6,'CHI TIẾT'!$A:$A,"TT") -> -10909986 | H6: =H5+SUM(F6:G6) -> 8419377
B7: 2 | C7: =SUMIFS('CHI TIẾT'!$L:$L,'CHI TIẾT'!$B:$B,'CÔNG NỢ 2026'!$B7,'CHI TIẾT'!$A:$A,"BH") -> 0 | D7: =SUMIFS('CHI TIẾT'!$L:$L,'CHI TIẾT'!$B:$B,'CÔNG NỢ 2026'!$B7,'CHI TIẾT'!$A:$A,"TRA") -> 0 | E7: =SUMIFS('CHI TIẾT'!$L:$L,'CHI TIẾT'!$B:$B,'CÔNG NỢ 2026'!$B7,'CHI TIẾT'!$A:$A,"GT") -> 0 | F7: =SUM(C7:E7) -> 0 | G7: =SUMIFS('CHI TIẾT'!$L:$L,'CHI TIẾT'!$B:$B,'CÔNG NỢ 2026'!$B7,'CHI TIẾT'!$A:$A,"TT") -> -3228001 | H7: =H6+SUM(F7:G7) -> 5191376
B8: 3 | C8: =SUMIFS('CHI TIẾT'!$L:$L,'CHI TIẾT'!$B:$B,'CÔNG NỢ 2026'!$B8,'CHI TIẾT'!$A:$A,"BH") -> 2772376 | D8: =SUMIFS('CHI TIẾT'!$L:$L,'CHI TIẾT'!$B:$B,'CÔNG NỢ 2026'!$B8,'CHI TIẾT'!$A:$A,"TRA") -> 0 | E8: =SUMIFS('CHI TIẾT'!$L:$L,'CHI TIẾT'!$B:$B,'CÔNG NỢ 2026'!$B8,'CHI TIẾT'!$A:$A,"GT") -> 0 | F8: =SUM(C8:E8) -> 2772376 | G8: =SUMIFS('CHI TIẾT'!$L:$L,'CHI TIẾT'!$B:$B,'CÔNG NỢ 2026'!$B8,'CHI TIẾT'!$A:$A,"TT") -> -5191376 | H8: =H7+SUM(F8:G8) -> 2772376
B9: 4 | C9: =SUMIFS('CHI TIẾT'!$L:$L,'CHI TIẾT'!$B:$B,'CÔNG NỢ 2026'!$B9,'CHI TIẾT'!$A:$A,"BH") -> 1870171 | D9: =SUMIFS('CHI TIẾT'!$L:$L,'CHI TIẾT'!$B:$B,'CÔNG NỢ 2026'!$B9,'CHI TIẾT'!$A:$A,"TRA") -> 0 | E9: =SUMIFS('CHI TIẾT'!$L:$L,'CHI TIẾT'!$B:$B,'CÔNG NỢ 2026'!$B9,'CHI TIẾT'!$A:$A,"GT") -> 0 | F9: =SUM(C9:E9) -> 1870171 | G9: =SUMIFS('CHI TIẾT'!$L:$L,'CHI TIẾT'!$B:$B,'CÔNG NỢ 2026'!$B9,'CHI TIẾT'!$A:$A,"TT") -> 0 | H9: =H8+SUM(F9:G9) -> 4642547
B10: 5 | C10: =SUMIFS('CHI TIẾT'!$L:$L,'CHI TIẾT'!$B:$B,'CÔNG NỢ 2026'!$B10,'CHI TIẾT'!$A:$A,"BH") -> 0 | D10: =SUMIFS('CHI TIẾT'!$L:$L,'CHI TIẾT'!$B:$B,'CÔNG NỢ 2026'!$B10,'CHI TIẾT'!$A:$A,"TRA") -> 0 | E10: =SUMIFS('CHI TIẾT'!$L:$L,'CHI TIẾT'!$B:$B,'CÔNG NỢ 2026'!$B10,'CHI TIẾT'!$A:$A,"GT") -> 0 | F10: =SUM(C10:E10) -> 0 | G10: =SUMIFS('CHI TIẾT'!$L:$L,'CHI TIẾT'!$B:$B,'CÔNG NỢ 2026'!$B10,'CHI TIẾT'!$A:$A,"TT") -> 0 | H10: =H9+SUM(F10:G10) -> 4642547
B11: 6 | C11: =SUMIFS('CHI TIẾT'!$L:$L,'CHI TIẾT'!$B:$B,'CÔNG NỢ 2026'!$B11,'CHI TIẾT'!$A:$A,"BH") -> 0 | D11: =SUMIFS('CHI TIẾT'!$L:$L,'CHI TIẾT'!$B:$B,'CÔNG NỢ 2026'!$B11,'CHI TIẾT'!$A:$A,"TRA") -> 0 | E11: =SUMIFS('CHI TIẾT'!$L:$L,'CHI TIẾT'!$B:$B,'CÔNG NỢ 2026'!$B11,'CHI TIẾT'!$A:$A,"GT") -> 0 | F11: =SUM(C11:E11) -> 0 | G11: =SUMIFS('CHI TIẾT'!$L:$L,'CHI TIẾT'!$B:$B,'CÔNG NỢ 2026'!$B11,'CHI TIẾT'!$A:$A,"TT") -> -2772376 | H11: =H10+SUM(F11:G11) -> 1870171
B12: 7 | C12: =SUMIFS('CHI TIẾT'!$L:$L,'CHI TIẾT'!$B:$B,'CÔNG NỢ 2026'!$B12,'CHI TIẾT'!$A:$A,"BH") -> 0 | D12: =SUMIFS('CHI TIẾT'!$L:$L,'CHI TIẾT'!$B:$B,'CÔNG NỢ 2026'!$B12,'CHI TIẾT'!$A:$A,"TRA") -> 0 | E12: =SUMIFS('CHI TIẾT'!$L:$L,'CHI TIẾT'!$B:$B,'CÔNG NỢ 2026'!$B12,'CHI TIẾT'!$A:$A,"GT") -> 0 | F12: =SUM(C12:E12) -> 0 | G12: =SUMIFS('CHI TIẾT'!$L:$L,'CHI TIẾT'!$B:$B,'CÔNG NỢ 2026'!$B12,'CHI TIẾT'!$A:$A,"TT") -> 0 | H12: =H11+SUM(F12:G12) -> 1870171
B13: 8 | C13: =SUMIFS('CHI TIẾT'!$L:$L,'CHI TIẾT'!$B:$B,'CÔNG NỢ 2026'!$B13,'CHI TIẾT'!$A:$A,"BH") -> 0 | D13: =SUMIFS('CHI TIẾT'!$L:$L,'CHI TIẾT'!$B:$B,'CÔNG NỢ 2026'!$B13,'CHI TIẾT'!$A:$A,"TRA") -> 0 | E13: =SUMIFS('CHI TIẾT'!$L:$L,'CHI TIẾT'!$B:$B,'CÔNG NỢ 2026'!$B13,'CHI TIẾT'!$A:$A,"GT") -> 0 | F13: =SUM(C13:E13) -> 0 | G13: =SUMIFS('CHI TIẾT'!$L:$L,'CHI TIẾT'!$B:$B,'CÔNG NỢ 2026'!$B13,'CHI TIẾT'!$A:$A,"TT") -> 0 | H13: =H12+SUM(F13:G13) -> 1870171
B14: 9 | C14: =SUMIFS('CHI TIẾT'!$L:$L,'CHI TIẾT'!$B:$B,'CÔNG NỢ 2026'!$B14,'CHI TIẾT'!$A:$A,"BH") -> 0 | D14: =SUMIFS('CHI TIẾT'!$L:$L,'CHI TIẾT'!$B:$B,'CÔNG NỢ 2026'!$B14,'CHI TIẾT'!$A:$A,"TRA") -> 0 | E14: =SUMIFS('CHI TIẾT'!$L:$L,'CHI TIẾT'!$B:$B,'CÔNG NỢ 2026'!$B14,'CHI TIẾT'!$A:$A,"GT") -> 0 | F14: =SUM(C14:E14) -> 0 | G14: =SUMIFS('CHI TIẾT'!$L:$L,'CHI TIẾT'!$B:$B,'CÔNG NỢ 2026'!$B14,'CHI TIẾT'!$A:$A,"TT") -> 0 | H14: =H13+SUM(F14:G14) -> 1870171
B15: 10 | C15: =SUMIFS('CHI TIẾT'!$L:$L,'CHI TIẾT'!$B:$B,'CÔNG NỢ 2026'!$B15,'CHI TIẾT'!$A:$A,"BH") -> 0 | D15: =SUMIFS('CHI TIẾT'!$L:$L,'CHI TIẾT'!$B:$B,'CÔNG NỢ 2026'!$B15,'CHI TIẾT'!$A:$A,"TRA") -> 0 | E15: =SUMIFS('CHI TIẾT'!$L:$L,'CHI TIẾT'!$B:$B,'CÔNG NỢ 2026'!$B15,'CHI TIẾT'!$A:$A,"GT") -> 0 | F15: =SUM(C15:E15) -> 0 | G15: =SUMIFS('CHI TIẾT'!$L:$L,'CHI TIẾT'!$B:$B,'CÔNG NỢ 2026'!$B15,'CHI TIẾT'!$A:$A,"TT") -> 0 | H15: =H14+SUM(F15:G15) -> 1870171
B16: 11 | C16: =SUMIFS('CHI TIẾT'!$L:$L,'CHI TIẾT'!$B:$B,'CÔNG NỢ 2026'!$B16,'CHI TIẾT'!$A:$A,"BH") -> 0 | D16: =SUMIFS('CHI TIẾT'!$L:$L,'CHI TIẾT'!$B:$B,'CÔNG NỢ 2026'!$B16,'CHI TIẾT'!$A:$A,"TRA") -> 0 | E16: =SUMIFS('CHI TIẾT'!$L:$L,'CHI TIẾT'!$B:$B,'CÔNG NỢ 2026'!$B16,'CHI TIẾT'!$A:$A,"GT") -> 0 | F16: =SUM(C16:E16) -> 0 | G16: =SUMIFS('CHI TIẾT'!$L:$L,'CHI TIẾT'!$B:$B,'CÔNG NỢ 2026'!$B16,'CHI TIẾT'!$A:$A,"TT") -> 0 | H16: =H15+SUM(F16:G16) -> 1870171
B17: 12 | C17: =SUMIFS('CHI TIẾT'!$L:$L,'CHI TIẾT'!$B:$B,'CÔNG NỢ 2026'!$B17,'CHI TIẾT'!$A:$A,"BH") -> 0 | D17: =SUMIFS('CHI TIẾT'!$L:$L,'CHI TIẾT'!$B:$B,'CÔNG NỢ 2026'!$B17,'CHI TIẾT'!$A:$A,"TRA") -> 0 | E17: =SUMIFS('CHI TIẾT'!$L:$L,'CHI TIẾT'!$B:$B,'CÔNG NỢ 2026'!$B17,'CHI TIẾT'!$A:$A,"GT") -> 0 | F17: =SUM(C17:E17) -> 0 | G17: =SUMIFS('CHI TIẾT'!$L:$L,'CHI TIẾT'!$B:$B,'CÔNG NỢ 2026'!$B17,'CHI TIẾT'!$A:$A,"TT") -> 0 | H17: =H16+SUM(F17:G17) -> 1870171
B18: Phát sinh | C18: =SUM(C6:C17) -> 13061924 | D18: =SUM(D6:D17) -> 0 | E18: =SUM(E6:E17) -> 0 | G18: =SUM(G6:G17) -> -22101739 | H18: =H5+SUM(C18:G18) -> 1870171

Sheet CHI TIẾT
L1: =SUBTOTAL(9,L3:L31200) -> 1870171
A2: STT | C2: Số hóa đơn | D2: số ctu | E2: Ngày hóa đơn | F2: Mã khách hàng | G2: Tên khách hàng | H2: Diễn giải | I2: Doanh số bán chưa thuế | J2: CK | K2: Tiền thuế GTGT | L2: Tổng tiền | M2: NGÀY TT
H3: Số dư đầu kỳ | L3: 10909986 | M3: 20/01/2026 + 14/01/2026
A4: BH | B4: =MONTH(E4) -> 1 | C4: 00000104 | D4: BH00085 | E4: 46027 | F4: KL-AGG-01-LONGBEACH | G4: CÔNG TY CỔ PHẦN THƯƠNG MẠI LONG BEACH | H4: MHD26010069 | I4: 2988890 | J4: 0 | K4: 239111 | L4: 3228001 | M4: 46058
A5: BH | B5: =MONTH(E5) -> 1 | C5: 00003142 | D5: BH01219 | E5: 46038 | F5: KL-AGG-01-LONGBEACH | G5: CÔNG TY CỔ PHẦN THƯƠNG MẠI LONG BEACH | H5: MHD2601111599 | I5: 4806830 | J5: 0 | K5: 384546 | L5: 5191376 | M5: 46084
A6: BH | B6: =MONTH(E6) -> 3 | C6: 00017332 | D6: BH07753 | E6: 46092 | F6: KL-AGG-01-LONGBEACH | G6: CÔNG TY CỔ PHẦN THƯƠNG MẠI LONG BEACH | H6: LONG BEACH 10/3 | I6: 2567015 | J6: 0 | K6: 205361 | L6: 2772376 | M6: 46199
A7: BH | B7: =MONTH(E7) -> 4 | C7: 00028176 | D7: BH11394 | E7: 46129 | F7: KL-AGG-01-LONGBEACH | G7: CÔNG TY CỔ PHẦN THƯƠNG MẠI LONG BEACH | H7: MHD26040198 | I7: 1731640 | J7: 0 | K7: 138531 | L7: 1870171
A8: TT | B8: =MONTH(E8) -> 3 | D8: BC03/0003 | E8: 46084 | F8: KL-AGG-01-LONGBEACH | G8: CÔNG TY CỔ PHẦN THƯƠNG MẠI LONG BEACH | H8: CTCP TM Long Beach TT HD 3142 | L8: -5191376
A9: TT | B9: =MONTH(E9) -> 2 | D9: BC02/00003 | E9: 46058 | F9: KL-AGG-01-LONGBEACH | G9: CÔNG TY CỔ PHẦN THƯƠNG MẠI LONG BEACH | H9: CONG TY CO PHAN THUONG MAI LONG BEACH.970454 BH00085 | L9: -3228001
A10: TT | B10: =MONTH(E10) -> 1 | D10: BC01/00023 | E10: 46042 | F10: KL-AGG-01-LONGBEACH | G10: CÔNG TY CỔ PHẦN THƯƠNG MẠI LONG BEACH | H10: CTCP TM Long Beach TT Tien theo HD so 84330.20260120.170048 | L10: -2374191
A11: TT | B11: =MONTH(E11) -> 1 | D11: BC01/00036 | E11: 46036 | F11: KL-AGG-01-LONGBEACH | G11: CÔNG TY CỔ PHẦN THƯƠNG MẠI LONG BEACH | H11: CTY TM LONG BEACH TT 100PT HOA DON SO 00082485 00082084 00078527 | L11: -8535795
A12: TT | B12: =MONTH(E12) -> 6 | D12: BC06/0085 | E12: 46199 | F12: KL-AGG-01-LONGBEACH | G12: CÔNG TY CỔ PHẦN THƯƠNG MẠI LONG BEACH | H12: CTCP TM Long Beach TT HD 17332 | L12: -2772376

Sheet T04
A1: Ngày hóa đơn | B1: Số hóa đơn | C1: Ký hiệu HĐ | D1: Diễn giải | E1: Doanh số bán chưa có thuế GTGT | F1: Thuế suất | G1: Thuế GTGT | H1: Thành tiền | I1: Tên người mua | J1: Mã số thuế người mua
A2: 46129 | B2: 00028176 | C2: 1C26TTN | D2: MHD26040198 | E2: 1731640 | F2: 0.08 | G2: =E2*F2 -> 138531.2 | H2: =E2+G2 -> 1870171.2 | I2: CÔNG TY CỔ PHẦN THƯƠNG MẠI LONG BEACH | J2: 1702297755

Sheet T03
A1: Ngày hóa đơn | B1: Số hóa đơn | C1: Ký hiệu HĐ | D1: Diễn giải | E1: Doanh số bán chưa có thuế GTGT | F1: Thuế suất | G1: Thuế GTGT | H1: Thành tiền | I1: Tên người mua | J1: Mã số thuế người mua
A2: 46092 | B2: 00017332 | C2: 1C26TTN | D2: LONG BEACH 10/3 | E2: 2567015 | F2: 8% | G2: 205361 | H2: =+E2+G2 -> 2772376 | I2: CÔNG TY CỔ PHẦN THƯƠNG MẠI LONG BEACH | J2: 1702297755
H3: =SUM(H2:H2) -> 2772376

Sheet T01
A1: Ngày hóa đơn | B1: Số hóa đơn | C1: Ký hiệu HĐ | D1: Diễn giải | E1: Doanh số bán chưa có thuế GTGT | F1: Thuế suất | G1: Thuế GTGT | H1: Thành tiền | I1: Tên người mua | J1: Mã số thuế người mua
A2: 46027 | B2: 00000104 | C2: 1C26TTN | D2: MHD26010069 | E2: 2988890 | F2: 8% | G2: 239111 | H2: =+E2+G2 -> 3228001 | I2: CÔNG TY CỔ PHẦN THƯƠNG MẠI LONG BEACH | J2: 1702297755
A3: 46038 | B3: 00003142 | C3: 1C26TTN | D3: MHD2601111599 | E3: 4806830 | F3: 8% | G3: 384546 | H3: =+E3+G3 -> 5191376 | I3: CÔNG TY CỔ PHẦN THƯƠNG MẠI LONG BEACH | J3: 1702297755
H4: =SUM(H2:H3) -> 8419377
