Workbook

Sheet Công nợ
B1: THEO DÕI CÔNG NỢ / CTY LARIA FARMER
B2: Ngày tháng | C2: Nội dung | D2: Số tiền bán hàng (+VAT) | E2: Số tiền hàng trả | F2: Giảm trừ (Trưng bày + Quảng cáo) | G2: Số tiền khách đã thanh toán
C3: Số dư đầu kỳ | D3: 12704226
B4: T01.2026 | C4: Bán hàng | D4: 16703470
B5: T02.2026 | C5: Bán hàng | D5: 11440643
B6: T03.2026 | C6: Bán hàng | D6: 2890025
B7: T04.2026 | C7: Bán hàng | D7: 1175698
B8: T05.2026 | C8: Bán hàng | D8: 4659685
B9: T06.2026 | C9: Bán hàng | D9: 5865063
B10: T07.2026 | C10: Bán hàng | D10: 4983514
B11: T08.2026 | C11: Bán hàng | D11: ='CN2026'!C13 -> 4828179
B12: T09.2026 | C12: Bán hàng
B13: T10.2026 | C13: Bán hàng
B14: T11.2026 | C14: Bán hàng
B15: T12.2026 | C15: Bán hàng
B17: Tổng bán hàng | D17: =SUM(D4:D16) -> 52546277
C18: Hàng trả tháng 01
C19: Hàng trả tháng 02
C20: Hàng trả tháng 03
C21: Hàng trả tháng 04
C22: Hàng trả tháng 05
C23: Hàng trả tháng 06
C24: Hàng trả tháng 07 | E24: =-'CN2026'!D12 -> 2396475
C25: Hàng trả tháng 08
C26: Hàng trả tháng 09 | E26: 0
C27: Hàng trả tháng 10
C28: Hàng trả tháng 11
C29: Hàng trả tháng 12
B31: Tổng hàng trả | E31: =SUM(E18:E30) -> 2396475
B32: T01.2026 | C32: Hỗ trợ | F32: 167035
B33: T02.2026 | C33: Hỗ trợ | F33: 114406
B34: T03.2026 | C34: Hỗ trợ | F34: 28900
B35: T04.2026 | C35: Hỗ trợ | F35: 11757
B36: T05.2026 | C36: Hỗ trợ | F36: 46597
B37: T06.2026 | C37: Hỗ trợ | F37: 58651
B38: T07.2026 | C38: Hỗ trợ | F38: =-'CN2026'!E12 -> 25870.374
B39: T08.2026 | C39: Hỗ trợ | F39: =-'CN2026'!E13 -> 48281.8
B40: T09.2026 | C40: Hỗ trợ
B41: T10.2026 | C41: Hỗ trợ
B42: T11.2026 | C42: Hỗ trợ
B43: T12.2026 | C43: Hỗ trợ
B45: Tổng hỗ trợ | F45: =SUM(F32:F44) -> 501498.17
B46: T01.2026 | C46: Thanh toán công nợ T10+11 (2025) | G46: 9793415
B47: T02.2026 | C47: Thanh toán công nợ T12.2025 | G47: 2964627
B48: T03.2026 | C48: Thanh toán công nợ | G48: 0
B49: T04.2026 | C49: Thanh toán công nợ T01 + 02 + 03 (2026) | G49: 30669981
B50: T05.2026 | C50: Thanh toán công nợ | G50: ='CN2026'!G10 -> 0
B51: T06.2026 | C51: Thanh toán công nợ | G51: ='CN2026'!G11 -> 0
B52: T07.2026 | C52: Thanh toán công nợ | G52: ='CN2026'!G12 -> 0
B53: T08.2026 | C53: Thanh toán công nợ | G53: ='CN2026'!G13 -> 0
B54: T09.2026 | C54: Thanh toán công nợ
B55: T10.2026 | C55: Thanh toán công nợ
B56: T11.2026 | C56: Thanh toán công nợ
B57: T12.2026 | C57: Thanh toán công nợ
B59: Tổng đã thanh toán | G59: =SUM(G46:G58) -> 43428023
B60: Dư nợ phải thu LARIA FARMER | G60: =+D3+D17-F45-G59-E31 -> 18924507

Sheet CN2026
B2: CÔNG NỢ 2026
C3: BH | D3: TRA | E3: P | G3: TT
B4: Tháng | C4: Bán hàng | D4: Hàng trả | E4: Giảm trừ | F4: Tổng phát sinh | G4: Thanh toán | H4: Công nợ cuối kỳ
B5: Số dư đầu kỳ 31/12/2025 | H5: 12704226
B6: 1 | C6: =SUMIFS('CHI TIẾT'!$L:$L,'CHI TIẾT'!$B:$B,'CN2026'!$B6,'CHI TIẾT'!$A:$A,"BH") -> 16703470 | D6: =SUMIFS('CHI TIẾT'!$L:$L,'CHI TIẾT'!$B:$B,'CN2026'!$B6,'CHI TIẾT'!$A:$A,"TRA") -> 0 | E6: =SUMIFS('CHI TIẾT'!$L:$L,'CHI TIẾT'!$B:$B,'CN2026'!$B6,'CHI TIẾT'!$A:$A,"GT") -> -167034.69 | F6: =SUM(C6:E6) -> 16536435 | G6: =SUMIFS('CHI TIẾT'!$L:$L,'CHI TIẾT'!$B:$B,'CN2026'!$B6,'CHI TIẾT'!$A:$A,"TT") -> -9793415 | H6: =H5+SUM(F6:G6) -> 19447247
B7: 2 | C7: =SUMIFS('CHI TIẾT'!$L:$L,'CHI TIẾT'!$B:$B,'CN2026'!$B7,'CHI TIẾT'!$A:$A,"BH") -> 11440643 | D7: =SUMIFS('CHI TIẾT'!$L:$L,'CHI TIẾT'!$B:$B,'CN2026'!$B7,'CHI TIẾT'!$A:$A,"TRA") -> 0 | E7: =SUMIFS('CHI TIẾT'!$L:$L,'CHI TIẾT'!$B:$B,'CN2026'!$B7,'CHI TIẾT'!$A:$A,"GT") -> -114406.43 | F7: =SUM(C7:E7) -> 11326237 | G7: =SUMIFS('CHI TIẾT'!$L:$L,'CHI TIẾT'!$B:$B,'CN2026'!$B7,'CHI TIẾT'!$A:$A,"TT") -> -2964627 | H7: =H6+SUM(F7:G7) -> 27808856
B8: 3 | C8: =SUMIFS('CHI TIẾT'!$L:$L,'CHI TIẾT'!$B:$B,'CN2026'!$B8,'CHI TIẾT'!$A:$A,"BH") -> 2890025 | D8: =SUMIFS('CHI TIẾT'!$L:$L,'CHI TIẾT'!$B:$B,'CN2026'!$B8,'CHI TIẾT'!$A:$A,"TRA") -> 0 | E8: =SUMIFS('CHI TIẾT'!$L:$L,'CHI TIẾT'!$B:$B,'CN2026'!$B8,'CHI TIẾT'!$A:$A,"GT") -> -28900.238 | F8: =SUM(C8:E8) -> 2861124.8 | G8: =SUMIFS('CHI TIẾT'!$L:$L,'CHI TIẾT'!$B:$B,'CN2026'!$B8,'CHI TIẾT'!$A:$A,"TT") -> 0 | H8: =H7+SUM(F8:G8) -> 30669981
B9: 4 | C9: =SUMIFS('CHI TIẾT'!$L:$L,'CHI TIẾT'!$B:$B,'CN2026'!$B9,'CHI TIẾT'!$A:$A,"BH") -> 1175698 | D9: =SUMIFS('CHI TIẾT'!$L:$L,'CHI TIẾT'!$B:$B,'CN2026'!$B9,'CHI TIẾT'!$A:$A,"TRA") -> 0 | E9: =SUMIFS('CHI TIẾT'!$L:$L,'CHI TIẾT'!$B:$B,'CN2026'!$B9,'CHI TIẾT'!$A:$A,"GT") -> -11756.977 | F9: =SUM(C9:E9) -> 1163941 | G9: =SUMIFS('CHI TIẾT'!$L:$L,'CHI TIẾT'!$B:$B,'CN2026'!$B9,'CHI TIẾT'!$A:$A,"TT") -> -30669981 | H9: =H8+SUM(F9:G9) -> 1163941
B10: 5 | C10: =SUMIFS('CHI TIẾT'!$L:$L,'CHI TIẾT'!$B:$B,'CN2026'!$B10,'CHI TIẾT'!$A:$A,"BH") -> 4659685 | D10: =SUMIFS('CHI TIẾT'!$L:$L,'CHI TIẾT'!$B:$B,'CN2026'!$B10,'CHI TIẾT'!$A:$A,"TRA") -> 0 | E10: =SUMIFS('CHI TIẾT'!$L:$L,'CHI TIẾT'!$B:$B,'CN2026'!$B10,'CHI TIẾT'!$A:$A,"GT") -> -46596.848 | F10: =SUM(C10:E10) -> 4613088.2 | G10: =SUMIFS('CHI TIẾT'!$L:$L,'CHI TIẾT'!$B:$B,'CN2026'!$B10,'CHI TIẾT'!$A:$A,"TT") -> 0 | H10: =H9+SUM(F10:G10) -> 5777029.1
B11: 6 | C11: =SUMIFS('CHI TIẾT'!$L:$L,'CHI TIẾT'!$B:$B,'CN2026'!$B11,'CHI TIẾT'!$A:$A,"BH") -> 5865063 | D11: =SUMIFS('CHI TIẾT'!$L:$L,'CHI TIẾT'!$B:$B,'CN2026'!$B11,'CHI TIẾT'!$A:$A,"TRA") -> 0 | E11: =SUMIFS('CHI TIẾT'!$L:$L,'CHI TIẾT'!$B:$B,'CN2026'!$B11,'CHI TIẾT'!$A:$A,"GT") -> -58650.631 | F11: =SUM(C11:E11) -> 5806412.4 | G11: =SUMIFS('CHI TIẾT'!$L:$L,'CHI TIẾT'!$B:$B,'CN2026'!$B11,'CHI TIẾT'!$A:$A,"TT") -> 0 | H11: =H10+SUM(F11:G11) -> 11583441
B12: 7 | C12: =SUMIFS('CHI TIẾT'!$L:$L,'CHI TIẾT'!$B:$B,'CN2026'!$B12,'CHI TIẾT'!$A:$A,"BH") -> 4983514 | D12: =SUMIFS('CHI TIẾT'!$L:$L,'CHI TIẾT'!$B:$B,'CN2026'!$B12,'CHI TIẾT'!$A:$A,"TRA") -> -2396475 | E12: =SUMIFS('CHI TIẾT'!$L:$L,'CHI TIẾT'!$B:$B,'CN2026'!$B12,'CHI TIẾT'!$A:$A,"GT") -> -25870.374 | F12: =SUM(C12:E12) -> 2561168.6 | G12: =SUMIFS('CHI TIẾT'!$L:$L,'CHI TIẾT'!$B:$B,'CN2026'!$B12,'CHI TIẾT'!$A:$A,"TT") -> 0 | H12: =H11+SUM(F12:G12) -> 14144610
B13: 8 | C13: =SUMIFS('CHI TIẾT'!$L:$L,'CHI TIẾT'!$B:$B,'CN2026'!$B13,'CHI TIẾT'!$A:$A,"BH") -> 4828179 | D13: =SUMIFS('CHI TIẾT'!$L:$L,'CHI TIẾT'!$B:$B,'CN2026'!$B13,'CHI TIẾT'!$A:$A,"TRA") -> 0 | E13: =SUMIFS('CHI TIẾT'!$L:$L,'CHI TIẾT'!$B:$B,'CN2026'!$B13,'CHI TIẾT'!$A:$A,"GT") -> -48281.8 | F13: =SUM(C13:E13) -> 4779897.2 | G13: =SUMIFS('CHI TIẾT'!$L:$L,'CHI TIẾT'!$B:$B,'CN2026'!$B13,'CHI TIẾT'!$A:$A,"TT") -> 0 | H13: =H12+SUM(F13:G13) -> 18924507
B14: 9 | C14: =SUMIFS('CHI TIẾT'!$L:$L,'CHI TIẾT'!$B:$B,'CN2026'!$B14,'CHI TIẾT'!$A:$A,"BH") -> 0 | D14: =SUMIFS('CHI TIẾT'!$L:$L,'CHI TIẾT'!$B:$B,'CN2026'!$B14,'CHI TIẾT'!$A:$A,"TRA") -> 0 | E14: =SUMIFS('CHI TIẾT'!$L:$L,'CHI TIẾT'!$B:$B,'CN2026'!$B14,'CHI TIẾT'!$A:$A,"GT") -> 0 | F14: =SUM(C14:E14) -> 0 | G14: =SUMIFS('CHI TIẾT'!$L:$L,'CHI TIẾT'!$B:$B,'CN2026'!$B14,'CHI TIẾT'!$A:$A,"TT") -> 0 | H14: =H13+SUM(F14:G14) -> 18924507
B15: 10 | C15: =SUMIFS('CHI TIẾT'!$L:$L,'CHI TIẾT'!$B:$B,'CN2026'!$B15,'CHI TIẾT'!$A:$A,"BH") -> 0 | D15: =SUMIFS('CHI TIẾT'!$L:$L,'CHI TIẾT'!$B:$B,'CN2026'!$B15,'CHI TIẾT'!$A:$A,"TRA") -> 0 | E15: =SUMIFS('CHI TIẾT'!$L:$L,'CHI TIẾT'!$B:$B,'CN2026'!$B15,'CHI TIẾT'!$A:$A,"GT") -> 0 | F15: =SUM(C15:E15) -> 0 | G15: =SUMIFS('CHI TIẾT'!$L:$L,'CHI TIẾT'!$B:$B,'CN2026'!$B15,'CHI TIẾT'!$A:$A,"TT") -> 0 | H15: =H14+SUM(F15:G15) -> 18924507
B16: 11 | C16: =SUMIFS('CHI TIẾT'!$L:$L,'CHI TIẾT'!$B:$B,'CN2026'!$B16,'CHI TIẾT'!$A:$A,"BH") -> 0 | D16: =SUMIFS('CHI TIẾT'!$L:$L,'CHI TIẾT'!$B:$B,'CN2026'!$B16,'CHI TIẾT'!$A:$A,"TRA") -> 0 | E16: =SUMIFS('CHI TIẾT'!$L:$L,'CHI TIẾT'!$B:$B,'CN2026'!$B16,'CHI TIẾT'!$A:$A,"GT") -> 0 | F16: =SUM(C16:E16) -> 0 | G16: =SUMIFS('CHI TIẾT'!$L:$L,'CHI TIẾT'!$B:$B,'CN2026'!$B16,'CHI TIẾT'!$A:$A,"TT") -> 0 | H16: =H15+SUM(F16:G16) -> 18924507
B17: 12 | C17: =SUMIFS('CHI TIẾT'!$L:$L,'CHI TIẾT'!$B:$B,'CN2026'!$B17,'CHI TIẾT'!$A:$A,"BH") -> 0 | D17: =SUMIFS('CHI TIẾT'!$L:$L,'CHI TIẾT'!$B:$B,'CN2026'!$B17,'CHI TIẾT'!$A:$A,"TRA") -> 0 | E17: =SUMIFS('CHI TIẾT'!$L:$L,'CHI TIẾT'!$B:$B,'CN2026'!$B17,'CHI TIẾT'!$A:$A,"GT") -> 0 | F17: =SUM(C17:E17) -> 0 | G17: =SUMIFS('CHI TIẾT'!$L:$L,'CHI TIẾT'!$B:$B,'CN2026'!$B17,'CHI TIẾT'!$A:$A,"TT") -> 0 | H17: =H16+SUM(F17:G17) -> 18924507
B18: Phát sinh | C18: =SUM(C6:C17) -> 52546277 | D18: =SUM(D6:D17) -> -2396475 | E18: =SUM(E6:E17) -> -501497.99 | G18: =SUM(G6:G17) -> -43428023 | H18: =H5+SUM(C18:G18) -> 18924507

Sheet CHI TIẾT
L1: =SUBTOTAL(9,L3:L31200) -> 18924507
C2: Số hóa đơn | D2: số ctu | E2: Ngày hóa đơn | F2: Mã khách hàng | G2: Tên khách hàng | H2: Diễn giải | I2: Doanh số bán chưa thuế | J2: CK | K2: Tiền thuế GTGT | L2: Tổng tiền | M2: NGÀY TT
H3: Số dư đầu kỳ | L3: 12704226
A4: BH | B4: =MONTH(E4) -> 1 | C4: 00000126 | D4: BH00094 | E4: 46027 | F4: FM-HCM-Q3-0000 | G4: CÔNG TY TNHH THƯƠNG MẠI LARIA | H4: PO-67297 - Farmers market DC01 - Nơ Trang Long | I4: 1193094 | J4: 0 | K4: 95448 | L4: 1288542
A5: BH | B5: =MONTH(E5) -> 1 | C5: 00004742 | D5: BH01891 | E5: 46043 | F5: FM-HCM-Q3-0000 | G5: CÔNG TY TNHH THƯƠNG MẠI LARIA | H5: PO-70594 - Farmers market DC01 - Nơ Trang Long | I5: 1435669 | J5: 0 | K5: 114854 | L5: 1550523
A6: BH | B6: =MONTH(E6) -> 1 | C6: 00006021 | D6: BH02615 | E6: 46048 | F6: FM-HCM-Q3-0000 | G6: CÔNG TY TNHH THƯƠNG MẠI LARIA | H6: PO-71581 - Farmers market DC01 - Nơ Trang Long | I6: 2067345 | J6: 0 | K6: 165388 | L6: 2232733
A7: BH | B7: =MONTH(E7) -> 1 | C7: 00007189 | D7: BH02966 | E7: 46051 | F7: FM-HCM-Q3-0000 | G7: CÔNG TY TNHH THƯƠNG MẠI LARIA | H7: PO-72098 - Farmers market DC01 - Nơ Trang Long | I7: 660879 | J7: 0 | K7: 52870 | L7: 713749
A8: BH | B8: =MONTH(E8) -> 1 | C8: 00007281 | D8: BH03307 | E8: 46052 | F8: FM-HCM-Q3-0000 | G8: CÔNG TY TNHH THƯƠNG MẠI LARIA | H8: PO-72066 - FM5 104 Hai Bà Trưng | I8: 2496654 | J8: 0 | K8: 199732 | L8: 2696386
A9: BH | B9: =MONTH(E9) -> 1 | C9: 00007301 | D9: BH03331 | E9: 46053 | F9: FM-HCM-Q3-0000 | G9: CÔNG TY TNHH THƯƠNG MẠI LARIA | H9: PO-71860 - FM1 496 Nguyễn Thị Minh Khai | I9: 7612534 | J9: 0 | K9: 609003 | L9: 8221537
A10: BH | B10: =MONTH(E10) -> 2 | C10: 00008484 | D10: BH03885 | E10: 46056 | F10: FM-HCM-Q3-0000 | G10: CÔNG TY TNHH THƯƠNG MẠI LARIA | H10: PO-72732 - FM1 496 Nguyễn Thị Minh Khai | I10: 870955 | J10: 0 | K10: 69676 | L10: 940631
A11: BH | B11: =MONTH(E11) -> 2 | C11: 00008492 | D11: BH03893 | E11: 46056 | F11: FM-HCM-Q3-0000 | G11: CÔNG TY TNHH THƯƠNG MẠI LARIA | H11: PO-72733 - FM4 99 Hoàng Hoa Thám | I11: 905690 | J11: 0 | K11: 72455 | L11: 978145
A12: BH | B12: =MONTH(E12) -> 2 | C12: 00008493 | D12: BH03894 | E12: 46056 | F12: FM-HCM-Q3-0000 | G12: CÔNG TY TNHH THƯƠNG MẠI LARIA | H12: PO-72741 - Farmers market DC01 - Nơ Trang Long | I12: 392610 | J12: 0 | K12: 31409 | L12: 424019
A13: BH | B13: =MONTH(E13) -> 2 | C13: 00008494 | D13: BH03895 | E13: 46056 | F13: FM-HCM-Q3-0000 | G13: CÔNG TY TNHH THƯƠNG MẠI LARIA | H13: PO-72734 - Farmers market FM07 - An Phú, Shophouse W37-W38-W39 Lumiere Riverside | I13: 553347 | J13: 0 | K13: 44268 | L13: 597615
A14: BH | B14: =MONTH(E14) -> 2 | C14: 00009099 | D14: BH04031 | E14: 46057 | F14: FM-HCM-Q3-0000 | G14: CÔNG TY TNHH THƯƠNG MẠI LARIA | H14: PO-73580 - FM1 496 Nguyễn Thị Minh Khai | I14: 7870586 | J14: 0 | K14: 629647 | L14: 8500233
A15: BH | B15: =MONTH(E15) -> 3 | C15: 00015595 | D15: BH06908 | E15: 46086 | F15: FM-HCM-Q3-0000 | G15: CÔNG TY TNHH THƯƠNG MẠI LARIA | H15: PO-76118 - Farmers market DC01 - Nơ Trang Long | I15: 571574 | J15: 0 | K15: 45726 | L15: 617300
... A30: BH | B30: =MONTH(E30) -> 7 | C30: 00053412 | D30: BH21240 | E30: 46233 | F30: FM-HCM-BTH-0006 | G30: Farmers market DC01 - Nơ Trang Long | H30: PO-102722 | I30: 938160 | J30: 0 | K30: 75053 | L30: 1013213
A31: GT | B31: 1 | C31: 1040 | E31: 46085 | G31: Hỗ trợ chi phí trưng bày + quảng cáo tháng 01.2026 | I31: -154661.75 | J31: 0 | K31: -12372.94 | L31: -167034.69
A32: GT | B32: 2 | C32: 1476 | E32: 46133 | G32: Hỗ trợ chi phí trưng bày + quảng cáo tháng 02.2026 | I32: -105931.88 | J32: 0 | K32: -8474.5504 | L32: -114406.43
A33: GT | B33: 3 | C33: 1477 | E33: 46133 | G33: Hỗ trợ chi phí trưng bày + quảng cáo tháng 03.2026 | I33: -26759.48 | J33: 0 | K33: -2140.7584 | L33: -28900.238
A34: GT | B34: 4 | C34: 1809 | E34: 46171 | G34: Chi phí trưng bày, Chi phí quảng cáo tháng 04/2026 | I34: -10886.09 | J34: 0 | K34: -870.8872 | L34: -11756.977
A35: GT | B35: 5 | G35: Chi phí trưng bày, Chi phí quảng cáo tháng 05/2026 | I35: -43145.23 | J35: 0 | K35: -3451.6184 | L35: -46596.848
A36: GT | B36: 6 | G36: Chi phí trưng bày, Chi phí quảng cáo tháng 06/2026 | I36: -54306.14 | J36: 0 | K36: -4344.4912 | L36: -58650.631
A37: GT | B37: 7 | G37: Chi phí trưng bày, Chi phí quảng cáo tháng 07/2026 | I37: -23954.05 | J37: 0.08 | K37: -1916.324 | L37: -25870.374
A38: TT | B38: =MONTH(E38) -> 1 | D38: BC01/00010 | E38: 46028 | G38: CTY TM LARIA THANH TOAN CONG NO THANG 10 11 | L38: -9793415
A39: TT | B39: =MONTH(E39) -> 2 | D39: BC02/00050 | E39: 46066 | G39: CTY TM LARIA THANH TOAN CONG NO THANG 12 MA V0001075 | L39: -2964627
A40: TT | B40: =MONTH(E40) -> 4 | D40: BC04/0082 | E40: 46141 | G40: CTY TM LARIA THANH TOAN CONG NO THANG 1 2 3 | L40: -30669981
A41: TRA | B41: 7 | E41: 46023 | G41: Farmers market 06QT - Quang Trung | H41: ĐÃ KIỂM TRA - HÀNG TRẢ - Farmers market 06QT - Quang Trung - PHIẾU: 04-12-2025 | I41: -184621 | J41: 0 | K41: -14769 | L41: -199390
A42: TRA | B42: 7 | E42: 46097 | G42: Farmers market 06QT - Quang Trung | H42: ĐÃ KIỂM TRA - HÀNG TRẢ - Farmers market 06QT - Quang Trung - FM-HCM-GVP-0007 | I42: -227801 | J42: 0 | K42: -18224 | L42: -246025
A43: TRA | B43: 7 | E43: 46114 | G43: FM4 99 Hoàng Hoa Thám | H43: ĐÃ KIỂM TRA - HÀNG TRẢ - FM4 99 Hoàng Hoa Thám - FM-HCM-BTH-0004 | I43: -412422 | J43: 0 | K43: -32993 | L43: -445415
A44: TRA | B44: 7 | E44: 46149 | G44: FM4 99 Hoàng Hoa Thám | H44: ĐÃ KIỂM TRA - HÀNG TRẢ - FM4 99 Hoàng Hoa Thám - FM-HCM-BTH-0004 | I44: -680416 | J44: 0 | K44: -54433 | L44: -734849
A45: TRA | B45: 7 | E45: 46151 | G45: FM1 496 Nguyễn Thị Minh Khai | H45: ĐÃ KIỂM TRA - HÀNG TRẢ - FM1 496 Nguyễn Thị Minh Khai - FM-HCM-Q3-0001 | I45: -713700 | J45: 0 | K45: -57096 | L45: -770796
A46: BH | B46: 8 | C46: 00055762 | D46: BH22219 | E46: 46246 | G46: Farmers market DC01 - Nơ Trang Long | H46: PO-105113 | I46: 1634140 | J46: 0 | K46: 130731 | L46: 1764871
A47: BH | B47: 8 | C47: 00057753 | D47: BH23021 | E47: 46253 | G47: FM5 104 Hai Bà Trưng | H47: PO-106246 | I47: 837767 | J47: 0 | K47: 67021 | L47: 904788
A48: BH | B48: 8 | C48: 00057820 | D48: BH23067 | E48: 46254 | G48: Farmers market DC01 - Nơ Trang Long | H48: PO-106271 | I48: 1998630 | J48: 0 | K48: 159890 | L48: 2158520
A49: GT | B49: 8 | G49: Chi phí trưng bày, Chi phí quảng cáo tháng 08/2026 | I49: -44705.37 | J49: 0.08 | K49: -3576.4296 | L49: -48281.8

Sheet T08.2026
A1: Ngày hóa đơn | B1: Số hóa đơn | C1: Ký hiệu HĐ | D1: Diễn giải | E1: Doanh số bán chưa có thuế GTGT | F1: Thuế suất | G1: Thuế GTGT | H1: Thành tiền | I1: Tên người mua | J1: Mã số thuế người mua
A2: 46246 | B2: 00055762 | C2: 1C26TTN | D2: PO-105113 | E2: 1634140 | F2: 0 | G2: 130731 | H2: 1764871 | I2: Farmers market DC01 - Nơ Trang Long | J2: 0312461711
A3: 46253 | B3: 00057753 | C3: 1C26TTN | D3: PO-106246 | E3: 837767 | F3: 0 | G3: 67021 | H3: 904788 | I3: FM5 104 Hai Bà Trưng | J3: 0312461711
A4: 46254 | B4: 00057820 | C4: 1C26TTN | D4: PO-106271 | E4: 1998630 | F4: 0 | G4: 159890 | H4: 2158520 | I4: Farmers market DC01 - Nơ Trang Long | J4: 0312461711
D5: Chi phí trưng bày, Chi phí quảng cáo tháng 08/2026 | E5: =-SUM(E2:E4)*1% -> -44705.37 | F5: 0.08 | G5: =E5*F5 -> -3576.4296 | H5: =E5+G5 -> -48281.8
H8: =SUM(H2:H5) -> 4779897.2

Sheet T07.2026
A1: Ngày hóa đơn | B1: Số hóa đơn | C1: Ký hiệu HĐ | D1: Diễn giải | E1: Doanh số bán chưa có thuế GTGT | F1: Thuế suất | G1: Thuế GTGT | H1: Thành tiền | I1: Tên người mua | J1: Mã số thuế người mua
A2: 46204 | B2: 00045532 | C2: 1C26TTN | D2: PO-97578 | E2: 802185 | F2: 0.08 | G2: 64175 | H2: 866360 | I2: FM5 104 Hai Bà Trưng | J2: 0312461711
A3: 46218 | B3: 00049267 | C3: 1C26TTN | D3: PO-100133 | E3: 894867 | F3: 0.08 | G3: 71589 | H3: 966456 | I3: FM5 104 Hai Bà Trưng | J3: 0312461711
A4: 46226 | B4: 00051262 | C4: 1C26TTN | D4: PO-101488 | E4: 1979153 | F4: 0.08 | G4: 158332 | H4: 2137485 | I4: Farmers market DC01 - Nơ Trang Long | J4: 0312461711
A5: 46233 | B5: 00053412 | C5: 1C26TTN | D5: PO-102722 | E5: 938160 | F5: 0.08 | G5: 75053 | H5: 1013213 | I5: Farmers market DC01 - Nơ Trang Long | J5: 0312461711
A6: 46023 | D6: ĐÃ KIỂM TRA - HÀNG TRẢ - Farmers market 06QT - Quang Trung - PHIẾU: 04-12-2025 | E6: -184621 | F6: 0 | G6: -14769 | H6: -199390 | I6: Farmers market 06QT - Quang Trung | J6: 0312461711
A7: 46097 | D7: ĐÃ KIỂM TRA - HÀNG TRẢ - Farmers market 06QT - Quang Trung - FM-HCM-GVP-0007 | E7: -227801 | F7: 0 | G7: -18224 | H7: -246025 | I7: Farmers market 06QT - Quang Trung | J7: 0312461711
A8: 46114 | D8: ĐÃ KIỂM TRA - HÀNG TRẢ - FM4 99 Hoàng Hoa Thám - FM-HCM-BTH-0004 | E8: -412422 | F8: 0 | G8: -32993 | H8: -445415 | I8: FM4 99 Hoàng Hoa Thám | J8: 0312461711
A9: 46149 | D9: ĐÃ KIỂM TRA - HÀNG TRẢ - FM4 99 Hoàng Hoa Thám - FM-HCM-BTH-0004 | E9: -680416 | F9: 0 | G9: -54433 | H9: -734849 | I9: FM4 99 Hoàng Hoa Thám | J9: 0312461711
A10: 46151 | D10: ĐÃ KIỂM TRA - HÀNG TRẢ - FM1 496 Nguyễn Thị Minh Khai - FM-HCM-Q3-0001 | E10: -713700 | F10: 0 | G10: -57096 | H10: -770796 | I10: FM1 496 Nguyễn Thị Minh Khai | J10: 0312461711
D11: Chi phí trưng bày, Chi phí quảng cáo tháng 07/2026 | E11: =-SUM(E2:E10)*1% -> -23954.05 | F11: 0.08 | G11: =E11*F11 -> -1916.324 | H11: =E11+G11 -> -25870.374
H13: =SUM(H2:H12) -> 2561168.6

Sheet T06.2026
A1: Ngày hóa đơn | B1: Số hóa đơn | C1: Ký hiệu HĐ | D1: Diễn giải | E1: Doanh số bán chưa có thuế GTGT | F1: Thuế suất | G1: Thuế GTGT | H1: Thành tiền | I1: Tên người mua | J1: Mã số thuế người mua
A2: 46177 | B2: 00039095 | C2: 1C26TTN | D2: PO-91947 | E2: 2761577 | F2: 0.08 | G2: 220926 | H2: 2982503 | I2: Farmers market DC01 - Nơ Trang Long | J2: 0312461711
A3: 46191 | B3: 00042013 | C3: 1C26TTN | D3: PO-94962 | E3: 985650 | F3: 0.08 | G3: 78852 | H3: 1064502 | I3: Farmers market 09 - Vinhomes Grand Park S10.01 | J3: 0312461711
A4: 46191 | B4: 00042014 | C4: 1C26TTN | D4: PO-94963 | E4: 985650 | F4: 0.08 | G4: 78852 | H4: 1064502 | I4: Farmers market 10 - Vinhomes Grand Park S8.03 | J4: 0312461711
A5: 46198 | B5: 00043708 | C5: 1C26TTN | D5: PO-96341 | E5: 697737 | F5: 0.08 | G5: 55819 | H5: 753556 | I5: FM4 99 Hoàng Hoa Thám | J5: 0312461711
D6: Chi phí trưng bày, Chi phí quảng cáo tháng 06/2026 | E6: =-SUM(E2:E5)*1% -> -54306.14 | F6: 0.08 | G6: =E6*F6 -> -4344.4912 | H6: =E6+G6 -> -58650.631
H8: =SUM(H2:H7) -> 5806412.4

Sheet T05.26
A1: Ngày hóa đơn | B1: Số hóa đơn | C1: Ký hiệu HĐ | D1: Diễn giải | E1: Doanh số bán chưa có thuế GTGT | F1: Thuế suất | G1: Thuế GTGT | H1: Thành tiền | I1: Tên người mua | J1: Mã số thuế người mua
A2: 46155 | B2: 33199 | C2: 1C26TTN | D2: PO-88020 | E2: 1971300 | F2: 0.08 | G2: 157704 | H2: 2129004 | I2: Farmers market 08 - Sư Vạn Hạnh | J2: 0312461711
A3: 46154 | B3: 33144 | C3: 1C26TTN | D3: PO-88022 | E3: 1421266 | F3: 0.08 | G3: 113701 | H3: 1534967 | I3: Farmers market DC01 - Nơ Trang Long | J3: 0312461711
A4: 46147 | B4: 31613 | C4: 1C26TTN | D4: PO-86553 | E4: 921957 | F4: 0.08 | G4: 73757 | H4: 995714 | I4: Farmers market DC01 - Nơ Trang Long | J4: 0312461711
D5: Chi phí trưng bày, Chi phí quảng cáo tháng 05/2026 | E5: =-SUM(E2:E4)*1% -> -43145.23 | F5: 0.08 | G5: =E5*F5 -> -3451.6184 | H5: =E5+G5 -> -46596.848 | I5: FM1 496 Nguyễn Thị Minh Khai | J5: 0312461711
H7: =SUM(H2:H6) -> 4613088.2

Sheet T04.26
A1: Ngày hóa đơn | B1: Số hóa đơn | C1: Ký hiệu HĐ | D1: Diễn giải | E1: Doanh số bán chưa có thuế GTGT | F1: Thuế suất | G1: Thuế GTGT | H1: Thành tiền | I1: Tên người mua | J1: Mã số thuế người mua
A2: 46118 | B2: 00024883 | C2: 1C26TTN | D2: PO-81768 - Farmers market DC01 - Nơ Trang Long | E2: 1088609 | F2: 0.08 | G2: 87089 | H2: 1175698 | I2: CÔNG TY TNHH THƯƠNG MẠI LARIA | J2: 0312461711
A3: 46171 | B3: 1809 | C3: C26TFA | D3: Chi phí trưng bày, Chi phí quảng cáo tháng 04/2026 | E3: =-E2*1% -> -10886.09 | F3: 0.08 | G3: =E3*F3 -> -870.8872 | H3: =E3+G3 -> -11756.977 | I3: CÔNG TY TNHH THƯƠNG MẠI LARIA | J3: 0312461711
H5: =SUM(H2:H3) -> 1163941

Sheet Chi tiết công nợ
A1: Ngày hóa đơn | B1: Số hóa đơn | C1: Ký hiệu HĐ | D1: Diễn giải | E1: Doanh số bán chưa có thuế GTGT | F1: Thuế suất | G1: Thuế GTGT | H1: Thành tiền | I1: Tên người mua | J1: Mã số thuế người mua
A2: 45499 | B2: 00038105 | C2: 1C24TNN | D2: FM5 104 Hai Bà Trưng | E2: 666348 | F2: 8% | G2: 53308 | H2: 719656 | I2: CÔNG TY TNHH THƯƠNG MẠI LARIA | J2: 0312461711
A3: 45694 | B3: 00007866 | C3: 1C25TNN | D3: FM4 99 Hoàng Hoa Thám | E3: 1551166 | F3: 8% | G3: 124093 | H3: 1675259 | I3: CÔNG TY TNHH THƯƠNG MẠI LARIA | J3: 0312461711
A4: 45694 | B4: 00007870 | C4: 1C25TNN | D4: FM5 104 Hai Bà Trưng | E4: 1451335 | F4: 8% | G4: 116107 | H4: 1567442 | I4: CÔNG TY TNHH THƯƠNG MẠI LARIA | J4: 0312461711
A5: 45707 | B5: 00010782 | C5: 1C25TNN | D5: FM3 486 Nguyễn Thị Thập | E5: 870801 | F5: 8% | G5: 69664 | H5: 940465 | I5: CÔNG TY TNHH THƯƠNG MẠI LARIA | J5: 0312461711
A6: 45710 | B6: 00012495 | C6: 1C25TNN | D6: FM1 496 Nguyễn Thị Minh Khai | E6: 537627 | F6: 8% | G6: 43010 | H6: 580637 | I6: CÔNG TY TNHH THƯƠNG MẠI LARIA | J6: 0312461711
A7: 45715 | B7: 00013032 | C7: 1C25TNN | D7: FM3 486 Nguyễn Thị Thập | E7: 870801 | F7: 8% | G7: 69664 | H7: 940465 | I7: CÔNG TY TNHH THƯƠNG MẠI LARIA | J7: 0312461711
A8: 45715 | B8: 00013056 | C8: 1C25TNN | D8: FM5 104 Hai Bà Trưng | E8: 528890 | F8: 8% | G8: 42311 | H8: 571201 | I8: CÔNG TY TNHH THƯƠNG MẠI LARIA | J8: 0312461711
A9: 45715 | B9: 00013057 | C9: 1C25TNN | D9: FM5 104 Hai Bà Trưng | E9: 553467 | F9: 8% | G9: 44277 | H9: 597744 | I9: CÔNG TY TNHH THƯƠNG MẠI LARIA | J9: 0312461711
A10: 45715 | B10: 00013059 | C10: 1C25TNN | D10: FM1 496 Nguyễn Thị Minh Khai | E10: 870801 | F10: 8% | G10: 69664 | H10: 940465 | I10: CÔNG TY TNHH THƯƠNG MẠI LARIA | J10: 0312461711
A11: 45716 | B11: 00013904 | C11: 1C25TNN | D11: FM4 99 Hoàng Hoa Thám | E11: 870801 | F11: 8% | G11: 69664 | H11: 940465 | I11: CÔNG TY TNHH THƯƠNG MẠI LARIA | J11: 0312461711
A12: 45716 | B12: 00013905 | C12: 1C25TNN | D12: FM2 123 Phan Xích Long | E12: 870801 | F12: 8% | G12: 69664 | H12: 940465 | I12: CÔNG TY TNHH THƯƠNG MẠI LARIA | J12: 0312461711
D13: Hỗ trợ chi phí trưng bày + quảng cáo tháng 02.2025 | E13: -89764.9 | F13: 8% | G13: -7181.192 | H13: -96946.092 | I13: CÔNG TY TNHH THƯƠNG MẠI LARIA | J13: 0312461711
A14: 45717 | B14: 00014193 | C14: 1C25TNN | D14: Farmers market 06QT - Quang Trung | E14: 537627 | F14: 8% | G14: 43010 | H14: 580637 | I14: CÔNG TY TNHH THƯƠNG MẠI LARIA | J14: 0312461711
A15: 45717 | B15: 00014206 | C15: 1C25TNN | D15: Farmers market FM07 - An Phú, Shophouse W37-W38-W39 Lumiere Riverside | E15: 870801 | F15: 8% | G15: 69664 | H15: 940465 | I15: CÔNG TY TNHH THƯƠNG MẠI LARIA | J15: 0312461711
A16: 45733 | B16: 00017218 | C16: 1C25TNN | D16: Farmers market 06QT - Quang Trung | E16: 553467 | F16: 8% | G16: 44277 | H16: 597744 | I16: CÔNG TY TNHH THƯƠNG MẠI LARIA | J16: 0312461711
A17: 45736 | B17: 00017534 | C17: 1C25TNN | D17: Farmers market FM07 - An Phú, Shophouse W37-W38-W39 Lumiere Riverside | E17: 775979 | F17: 8% | G17: 62078 | H17: 838057 | I17: CÔNG TY TNHH THƯƠNG MẠI LARIA | J17: 0312461711
A18: 45737 | B18: 00018492 | C18: 1C25TNN | D18: FM1 496 Nguyễn Thị Minh Khai | E18: 1075254 | F18: 8% | G18: 86020 | H18: 1161274 | I18: CÔNG TY TNHH THƯƠNG MẠI LARIA | J18: 0312461711
A19: 45737 | B19: 00018493 | C19: 1C25TNN | D19: FM5 104 Hai Bà Trưng | E19: 741684 | F19: 8% | G19: 59335 | H19: 801019 | I19: CÔNG TY TNHH THƯƠNG MẠI LARIA | J19: 0312461711
A20: 45738 | B20: 00018809 | C20: 1C25TNN | D20: FM1 496 Nguyễn Thị Minh Khai | E20: 666348 | F20: 8% | G20: 53308 | H20: 719656 | I20: CÔNG TY TNHH THƯƠNG MẠI LARIA | J20: 0312461711
A21: 45744 | B21: 00020099 | C21: 1C25TNN | D21: Dark Store 03 - Võ Thành Trang Tân Binh | E21: 648685 | F21: 8% | G21: 51895 | H21: 700580 | I21: CÔNG TY TNHH THƯƠNG MẠI LARIA | J21: 0312461711
D22: Hỗ trợ chi phí trưng bày + quảng cáo tháng 03.2025 | E22: -58698.45 | F22: 8% | G22: -4695.876 | H22: -63394.326 | I22: CÔNG TY TNHH THƯƠNG MẠI LARIA | J22: 0312461711
A23: 45751 | B23: 00021722 | C23: 1C25TNN | D23: Farmers market FM07 - An Phú, Shophouse W37-W38-W39 Lumiere Riverside | E23: 609194 | F23: 8% | G23: 48736 | H23: 657930 | I23: CÔNG TY TNHH THƯƠNG MẠI LARIA | J23: 0312461711
A24: 45751 | B24: 00021730 | C24: 1C25TNN | D24: FM5 104 Hai Bà Trưng | E24: 480432 | F24: 8% | G24: 38435 | H24: 518867 | I24: CÔNG TY TNHH THƯƠNG MẠI LARIA | J24: 0312461711
A25: 45755 | B25: 00022008 | C25: 1C25TNN | D25: Farmers market 06QT - Quang Trung | E25: 759743 | F25: 8% | G25: 60779 | H25: 820522 | I25: CÔNG TY TNHH THƯƠNG MẠI LARIA | J25: 0312461711
A26: 45755 | B26: 00022109 | C26: 1C25TNN | D26: Farmers market 06QT - Quang Trung | E26: 537627 | F26: 8% | G26: 43010 | H26: 580637 | I26: CÔNG TY TNHH THƯƠNG MẠI LARIA | J26: 0312461711
A27: 45756 | B27: 00022149 | C27: 1C25TNN | D27: FM4 99 Hoàng Hoa Thám | E27: 664525 | F27: 8% | G27: 53162 | H27: 717687 | I27: CÔNG TY TNHH THƯƠNG MẠI LARIA | J27: 0312461711
A28: 45758 | B28: 00023089 | C28: 1C25TNN | D28: FM5 104 Hai Bà Trưng | E28: 1106934 | F28: 8% | G28: 88555 | H28: 1195489 | I28: CÔNG TY TNHH THƯƠNG MẠI LARIA | J28: 0312461711
A29: 45761 | B29: 00023542 | C29: 1C25TNN | D29: FM4 99 Hoàng Hoa Thám | E29: 704148 | F29: 8% | G29: 56332 | H29: 760480 | I29: CÔNG TY TNHH THƯƠNG MẠI LARIA | J29: 0312461711
A30: 45766 | B30: 00024979 | C30: 1C25TNN | D30: FM4 99 Hoàng Hoa Thám | E30: 741684 | F30: 8% | G30: 59335 | H30: 801019 | I30: CÔNG TY TNHH THƯƠNG MẠI LARIA | J30: 0312461711
A31: 45775 | B31: 00026759 | C31: 1C25TNN | D31: FM5 104 Hai Bà Trưng | E31: 908469 | F31: 8% | G31: 72678 | H31: 981147 | I31: CÔNG TY TNHH THƯƠNG MẠI LARIA | J31: 0312461711
D32: Hỗ trợ chi phí trưng bày + quảng cáo tháng 04.2025 | E32: -65127.56 | F32: 8% | G32: -5210.2048 | H32: -70337.765 | I32: CÔNG TY TNHH THƯƠNG MẠI LARIA | J32: 0312461711
A33: 45784 | B33: 00028231 | C33: 1C25TNN | D33: Farmers market FM07 - An Phú, Shophouse W37-W38-W39 Lumiere Riverside | E33: 571699 | F33: 8% | G33: 45736 | H33: 617435 | I33: CÔNG TY TNHH THƯƠNG MẠI LARIA | J33: 0312461711
A34: 45786 | B34: 00029289 | C34: 1C25TNN | D34: FM5 104 Hai Bà Trưng | E34: 716836 | F34: 8% | G34: 57347 | H34: 774183 | I34: CÔNG TY TNHH THƯƠNG MẠI LARIA | J34: 0312461711
A35: 45787 | B35: 00029704 | C35: 1C25TNN | D35: Farmers market 06QT - Quang Trung | E35: 684489 | F35: 8% | G35: 54759 | H35: 739248 | I35: CÔNG TY TNHH THƯƠNG MẠI LARIA | J35: 0312461711
A36: 45791 | B36: 00029941 | C36: 1C25TNN | D36: Farmers market 06QT - Quang Trung | E36: 896045 | F36: 8% | G36: 71684 | H36: 967729 | I36: CÔNG TY TNHH THƯƠNG MẠI LARIA | J36: 0312461711
A37: 45791 | B37: 00029963 | C37: 1C25TNN | D37: FM3 486 Nguyễn Thị Thập | E37: 494456 | F37: 8% | G37: 39556 | H37: 534012 | I37: CÔNG TY TNHH THƯƠNG MẠI LARIA | J37: 0312461711
A38: 45791 | B38: 00029964 | C38: 1C25TNN | D38: FM5 104 Hai Bà Trưng | E38: 641318 | F38: 8% | G38: 51305 | H38: 692623 | I38: CÔNG TY TNHH THƯƠNG MẠI LARIA | J38: 0312461711
A39: 45798 | B39: 00031263 | C39: 1C25TNN | D39: FM4 99 Hoàng Hoa Thám | E39: 440586 | F39: 8% | G39: 35247 | H39: 475833 | I39: CÔNG TY TNHH THƯƠNG MẠI LARIA | J39: 0312461711
A40: 45799 | B40: 00032058 | C40: 1C25TNN | D40: Farmers market 06QT - Quang Trung | E40: 537627 | F40: 8% | G40: 43010 | H40: 580637 | I40: CÔNG TY TNHH THƯƠNG MẠI LARIA | J40: 0312461711
D41: Hỗ trợ chi phí trưng bày + quảng cáo tháng 05.2025 | E41: -49179.284 | F41: 8% | G41: -3934.3428 | H41: -53113.627 | I41: CÔNG TY TNHH THƯƠNG MẠI LARIA | J41: 0312461711
A42: 45826 | B42: 00037157 | C42: 1C25TNN | D42: PO-30368 - FM1 496 Nguyễn Thị Minh Khai | E42: 896045 | F42: 8% | G42: 71684 | H42: =+E42+G42 -> 967729 | I42: CÔNG TY TNHH THƯƠNG MẠI LARIA | J42: 0312461711
A43: 45828 | B43: 00038319 | C43: 1C25TNN | D43: PO-30605 - FM4 99 Hoàng Hoa Thám | E43: 537627 | F43: 8% | G43: 43010 | H43: =+E43+G43 -> 580637 | I43: CÔNG TY TNHH THƯƠNG MẠI LARIA | J43: 0312461711
D44: Hỗ trợ chi phí trưng bày + quảng cáo tháng 06.2025 | E44: =-1%*SUM(E42:E43) -> -14336.72 | F44: 8% | G44: =+E44*F44 -> -1146.9376 | H44: =+E44+G44 -> -15483.658 | I44: CÔNG TY TNHH THƯƠNG MẠI LARIA | J44: 0312461711
H45: =SUM(H2:H44) -> 30418265

Sheet T03.26
A1: Ngày hóa đơn | B1: Số hóa đơn | C1: Ký hiệu HĐ | D1: Diễn giải | E1: Doanh số bán chưa có thuế GTGT | F1: Thuế suất | G1: Thuế GTGT | H1: Thành tiền | I1: Tên người mua | J1: Mã số thuế người mua
A2: 46086 | B2: 00015593 | C2: 1C26TTN | D2: PO-76117 - FM5 104 Hai Bà Trưng | E2: 756682 | F2: 8% | G2: 60535 | H2: =+E2+G2 -> 817217 | I2: CÔNG TY TNHH THƯƠNG MẠI LARIA | J2: 0312461711
A3: 46086 | B3: 00015595 | C3: 1C26TTN | D3: PO-76118 - Farmers market DC01 - Nơ Trang Long | E3: 571574 | F3: 8% | G3: 45726 | H3: =+E3+G3 -> 617300 | I3: CÔNG TY TNHH THƯƠNG MẠI LARIA | J3: 0312461711
A4: 46086 | B4: 00015596 | C4: 1C26TTN | D4: PO-76116 - FM4 99 Hoàng Hoa Thám | E4: 768619 | F4: 8% | G4: 61490 | H4: =+E4+G4 -> 830109 | I4: CÔNG TY TNHH THƯƠNG MẠI LARIA | J4: 0312461711
A5: 46098 | B5: 00019194 | C5: 1C26TTN | D5: PO-78307 - Farmers market DC01 - Nơ Trang Long | E5: 579073 | F5: 8% | G5: 46326 | H5: =+E5+G5 -> 625399 | I5: CÔNG TY TNHH THƯƠNG MẠI LARIA | J5: 0312461711
A6: 46133 | B6: 1477 | C6: C26TFA | D6: Hỗ trợ chi phí trưng bày + quảng cáo tháng 03.2026 | E6: =-1%*SUM(E2:E5) -> -26759.48 | F6: 8% | G6: =+E6*F6 -> -2140.7584 | H6: =+E6+G6 -> -28900.238 | I6: CÔNG TY TNHH THƯƠNG MẠI LARIA | J6: 0312461711

Sheet T02.26
A1: Ngày hóa đơn | B1: Số hóa đơn | C1: Ký hiệu HĐ | D1: Diễn giải | E1: Doanh số bán chưa có thuế GTGT | F1: Thuế suất | G1: Thuế GTGT | H1: Thành tiền | I1: Tên người mua | J1: Mã số thuế người mua
A2: 46056 | B2: 00008484 | C2: 1C26TTN | D2: PO-72732 - FM1 496 Nguyễn Thị Minh Khai | E2: 870955 | F2: 8% | G2: 69676 | H2: =+E2+G2 -> 940631 | I2: CÔNG TY TNHH THƯƠNG MẠI LARIA | J2: 0312461711
A3: 46056 | B3: 00008492 | C3: 1C26TTN | D3: PO-72733 - FM4 99 Hoàng Hoa Thám | E3: 905690 | F3: 8% | G3: 72455 | H3: =+E3+G3 -> 978145 | I3: CÔNG TY TNHH THƯƠNG MẠI LARIA | J3: 0312461711
A4: 46056 | B4: 00008493 | C4: 1C26TTN | D4: PO-72741 - Farmers market DC01 - Nơ Trang Long | E4: 392610 | F4: 8% | G4: 31409 | H4: =+E4+G4 -> 424019 | I4: CÔNG TY TNHH THƯƠNG MẠI LARIA | J4: 0312461711
A5: 46056 | B5: 00008494 | C5: 1C26TTN | D5: PO-72734 - Farmers market FM07 - An Phú, Shophouse W37-W38-W39 Lumiere Riverside | E5: 553347 | F5: 8% | G5: 44268 | H5: =+E5+G5 -> 597615 | I5: CÔNG TY TNHH THƯƠNG MẠI LARIA | J5: 0312461711
A6: 46057 | B6: 00009099 | C6: 1C26TTN | D6: PO-73580 - FM1 496 Nguyễn Thị Minh Khai | E6: 7870586 | F6: 8% | G6: 629647 | H6: =+E6+G6 -> 8500233 | I6: CÔNG TY TNHH THƯƠNG MẠI LARIA | J6: 0312461711
A7: 46133 | B7: 1476 | C7: C26TFA | D7: Hỗ trợ chi phí trưng bày + quảng cáo tháng 02.2026 | E7: =-1%*SUM(E2:E6) -> -105931.88 | F7: 8% | G7: =+E7*F7 -> -8474.5504 | H7: =+E7+G7 -> -114406.43 | I7: CÔNG TY TNHH THƯƠNG MẠI LARIA | J7: 0312461711
H11: =SUM(H2:H7) -> 11326237

Sheet T01.26
A1: Ngày hóa đơn | B1: Số hóa đơn | C1: Ký hiệu HĐ | D1: Diễn giải | E1: Doanh số bán chưa có thuế GTGT | F1: Thuế suất | G1: Thuế GTGT | H1: Thành tiền | I1: Tên người mua | J1: Mã số thuế người mua
A2: 05/01/2026 | B2: 126 | C2: 1C26TTN | D2: PO-67297 - Farmers market DC01 - Nơ Trang Long | E2: 1193094 | F2: 8% | G2: 95448 | H2: =+E2+G2 -> 1288542 | I2: CÔNG TY TNHH THƯƠNG MẠI LARIA | J2: 0312461711
A3: 21/01/2026 | B3: 4742 | C3: 1C26TTN | D3: PO-70594 - Farmers market DC01 - Nơ Trang Long | E3: 1435669 | F3: 8% | G3: 114854 | H3: =+E3+G3 -> 1550523 | I3: CÔNG TY TNHH THƯƠNG MẠI LARIA | J3: 0312461711
A4: 26/01/2026 | B4: 6021 | C4: 1C26TTN | D4: PO-71581 - Farmers market DC01 - Nơ Trang Long | E4: 2067345 | F4: 8% | G4: 165388 | H4: =+E4+G4 -> 2232733 | I4: CÔNG TY TNHH THƯƠNG MẠI LARIA | J4: 0312461711
A5: 29/01/2026 | B5: 7189 | C5: 1C26TTN | D5: PO-72098 - Farmers market DC01 - Nơ Trang Long | E5: 660879 | F5: 8% | G5: 52870 | H5: =+E5+G5 -> 713749 | I5: CÔNG TY TNHH THƯƠNG MẠI LARIA | J5: 0312461711
A6: 30/01/2026 | B6: 7281 | C6: 1C26TTN | D6: PO-72066 - FM5 104 Hai Bà Trưng | E6: 2496654 | F6: 8% | G6: 199732 | H6: =+E6+G6 -> 2696386 | I6: CÔNG TY TNHH THƯƠNG MẠI LARIA | J6: 0312461711
A7: 31/01/2026 | B7: 7301 | C7: 1C26TTN | D7: PO-71860 - FM1 496 Nguyễn Thị Minh Khai | E7: 7612534 | F7: 8% | G7: 609003 | H7: =+E7+G7 -> 8221537 | I7: CÔNG TY TNHH THƯƠNG MẠI LARIA | J7: 0312461711
A8: 46085 | B8: 1040 | C8: C26TFA | D8: Hỗ trợ chi phí trưng bày + quảng cáo tháng 01.2026 | E8: =-1%*SUM(E2:E7) -> -154661.75 | F8: 8% | G8: =+E8*F8 -> -12372.94 | H8: =+E8+G8 -> -167034.69 | I8: CÔNG TY TNHH THƯƠNG MẠI LARIA | J8: 0312461711
H9: =SUM(H2:H8) -> 16536435

Sheet T12
A1: Ngày hóa đơn | B1: Số hóa đơn | C1: Ký hiệu HĐ | D1: Diễn giải | E1: Doanh số bán chưa có thuế GTGT | F1: Thuế suất | G1: Thuế GTGT | H1: Thành tiền | I1: Tên người mua | J1: Mã số thuế người mua
A2: 45638 | B2: 00071033 | C2: 1C24TNN | D2: Farmers market FM07 - An Phú, Shophouse W37-W38-W39 Lumiere Riverside | E2: 317334 | F2: 8% | G2: 25387 | H2: =+E2+G2 -> 342721 | I2: CÔNG TY TNHH THƯƠNG MẠI LARIA | J2: 0312461711
A3: 45640 | B3: 00071630 | C3: 1C24TNN | D3: FM1 496 Nguyễn Thị Minh Khai | E3: 1012119 | F3: 8% | G3: 80970 | H3: =+E3+G3 -> 1093089 | I3: CÔNG TY TNHH THƯƠNG MẠI LARIA | J3: 0312461711
A4: 45651 | B4: 00073427 | C4: 1C24TNN | D4: FM1 496 Nguyễn Thị Minh Khai | E4: 370842 | F4: 8% | G4: 29667 | H4: =+E4+G4 -> 400509 | I4: CÔNG TY TNHH THƯƠNG MẠI LARIA | J4: 0312461711
A5: 45653 | B5: 00074559 | C5: 1C24TNN | D5: FM1 496 Nguyễn Thị Minh Khai | E5: 1062302 | F5: 8% | G5: 84984 | H5: =+E5+G5 -> 1147286 | I5: CÔNG TY TNHH THƯƠNG MẠI LARIA | J5: 0312461711
D6: Hỗ trợ chi phí trưng bày + quảng cáo tháng 12.2024 | E6: =-1%*SUM(E2:E5) -> -27625.97 | F6: 8% | G6: =+E6*F6 -> -2210.0776 | H6: =+E6+G6 -> -29836.048 | I6: CÔNG TY TNHH THƯƠNG MẠI LARIA | J6: 0312461711
E7: =SUM(E2:E6) -> 2734971 | G7: =SUM(G2:G6) -> 218797.92 | H7: =SUM(H2:H6) -> 2953769

Sheet T11
A1: Ngày hóa đơn | B1: Số hóa đơn | C1: Ký hiệu HĐ | D1: Diễn giải | E1: Doanh số bán chưa có thuế GTGT | F1: Thuế suất | G1: Thuế GTGT | H1: Thành tiền | I1: Tên người mua | J1: Mã số thuế người mua
A2: 45597 | B2: 00061934 | C2: 1C24TNN | D2: FM3 486 Nguyễn Thị Thập | E2: 553467 | F2: 8% | G2: 44277 | H2: =+E2+G2 -> 597744 | I2: CÔNG TY TNHH THƯƠNG MẠI LARIA | J2: 0312461711
A3: 45602 | B3: 00062335 | C3: 1C24TNN | D3: Farmers market 06QT - Quang Trung | E3: 220293 | F3: 8% | G3: 17623 | H3: =+E3+G3 -> 237916 | I3: CÔNG TY TNHH THƯƠNG MẠI LARIA | J3: 0312461711
A4: 45602 | B4: 00062351 | C4: 1C24TNN | D4: FM5 104 Hai Bà Trưng | E4: 1792090 | F4: 8% | G4: 143367 | H4: =+E4+G4 -> 1935457 | I4: CÔNG TY TNHH THƯƠNG MẠI LARIA | J4: 0312461711
A5: 45604 | B5: 00063169 | C5: 1C24TNN | D5: FM5 104 Hai Bà Trưng | E5: 1792090 | F5: 8% | G5: 143367 | H5: =+E5+G5 -> 1935457 | I5: CÔNG TY TNHH THƯƠNG MẠI LARIA | J5: 0312461711
A6: 45604 | B6: 00063183 | C6: 1C24TNN | D6: Dark Store 03 - Võ Thành Trang Tân Binh | E6: 555290 | F6: 8% | G6: 44423 | H6: =+E6+G6 -> 599713 | I6: CÔNG TY TNHH THƯƠNG MẠI LARIA | J6: 0312461711
A7: 45612 | B7: 00065153 | C7: 1C24TNN | D7: FM5 104 Hai Bà Trưng | E7: 1792090 | F7: 8% | G7: 143367 | H7: =+E7+G7 -> 1935457 | I7: CÔNG TY TNHH THƯƠNG MẠI LARIA | J7: 0312461711
D8: Hỗ trợ chi phí trưng bày + quảng cáo tháng 11.2024 | E8: =-1%*SUM(E2:E7) -> -67053.2 | F8: 8% | G8: =+E8*F8 -> -5364.256 | H8: =+E8+G8 -> -72417.456 | I8: CÔNG TY TNHH THƯƠNG MẠI LARIA | J8: 0312461711
E9: =SUM(E2:E8) -> 6638266.8 | G9: =SUM(G2:G8) -> 531059.74 | H9: =SUM(H2:H8) -> 7169326.5

Sheet T10
A1: Ngày hóa đơn | B1: Số hóa đơn | C1: Ký hiệu HĐ | D1: Diễn giải | E1: Doanh số bán chưa có thuế GTGT | F1: Thuế suất | G1: Thuế GTGT | H1: Thành tiền | I1: Tên người mua | J1: Mã số thuế người mua
A2: 45572 | B2: 00055182 | C2: 1C24TNN | D2: Farmers market FM07 - An Phú, Shophouse W37-W38-W39 Lumiere Riverside, ĐƠN KHAI TRUONG CK 10% | E2: 2089923 | F2: 8% | G2: 167194 | H2: =+E2+G2 -> 2257117 | I2: CÔNG TY TNHH THƯƠNG MẠI LARIA | J2: 0312461711
A3: 45573 | B3: 00055579 | C3: 1C24TNN | D3: Farmers market DC01 - Nơ Trang Long | E3: 1288139 | F3: 8% | G3: 103051 | H3: =+E3+G3 -> 1391190 | I3: CÔNG TY TNHH THƯƠNG MẠI LARIA | J3: 0312461711
A4: 45576 | B4: 00056955 | C4: 1C24TNN | D4: Farmers market FM07 - An Phú, Shophouse W37-W38-W39 Lumiere Riverside | E4: 761566 | F4: 8% | G4: 60925 | H4: =+E4+G4 -> 822491 | I4: CÔNG TY TNHH THƯƠNG MẠI LARIA | J4: 0312461711
A5: 45577 | B5: 00057200 | C5: 1C24TNN | D5: FM4 99 Hoàng Hoa Thám | E5: 734310 | F5: 8% | G5: 58745 | H5: =+E5+G5 -> 793055 | I5: CÔNG TY TNHH THƯƠNG MẠI LARIA | J5: 0312461711
A6: 45581 | B6: 00057513 | C6: 1C24TNN | D6: FM5 104 Hai Bà Trưng | E6: 587448 | F6: 8% | G6: 46996 | H6: =+E6+G6 -> 634444 | I6: CÔNG TY TNHH THƯƠNG MẠI LARIA | J6: 0312461711
A7: 45582 | B7: 00057563 | C7: 1C24TNN | D7: Farmers market DC01 - Nơ Trang Long | E7: 1792215 | F7: 8% | G7: 143377 | H7: =+E7+G7 -> 1935592 | I7: CÔNG TY TNHH THƯƠNG MẠI LARIA | J7: 0312461711
A8: 45594 | B8: 00060824 | C8: 1C24TNN | D8: FM3 486 Nguyễn Thị Thập | E8: 737956 | F8: 8% | G8: 59036 | H8: =+E8+G8 -> 796992 | I8: CÔNG TY TNHH THƯƠNG MẠI LARIA | J8: 0312461711
A9: 45594 | B9: 00060825 | C9: 1C24TNN | D9: FM5 104 Hai Bà Trưng | E9: 835004 | F9: 8% | G9: 66800 | H9: =+E9+G9 -> 901804 | I9: CÔNG TY TNHH THƯƠNG MẠI LARIA | J9: 0312461711
D10: Hỗ trợ chi phí trưng bày + quảng cáo tháng 10.2024 | E10: -88265.61 | F10: 8% | G10: -7061.2488 | H10: -95327 | I10: CÔNG TY TNHH THƯƠNG MẠI LARIA | J10: 0312461711
E11: =+SUM(E2:E10) -> 8738295.4 | G11: =+SUM(G2:G10) -> 699062.75 | H11: =+SUM(H2:H10) -> 9437358

Sheet T09
A1: Ngày hóa đơn | B1: Số hóa đơn | C1: Ký hiệu HĐ | D1: Diễn giải | E1: Doanh số bán chưa có thuế GTGT | F1: Thuế suất | G1: Thuế GTGT | H1: Thành tiền | I1: Tên người mua | J1: Mã số thuế người mua
A2: 45547 | B2: 00048694 | C2: 1C24TNN | D2: FM5 104 Hai Bà Trưng | E2: 774156 | F2: 8% | G2: 61932 | H2: =+E2+G2 -> 836088 | I2: CÔNG TY TNHH THƯƠNG MẠI LARIA | J2: 0312461711
A3: 45549 | B3: 00049884 | C3: 1C24TNN | D3: Farmers market DC01 - Nơ Trang Long | E3: 2327694 | F3: 8% | G3: 186216 | H3: =+E3+G3 -> 2513910 | I3: CÔNG TY TNHH THƯƠNG MẠI LARIA | J3: 0312461711
D4: Hỗ trợ chi phí trưng bày + quảng cáo tháng 09.2024 | E4: =-SUM(E2:E3)*1% -> -31018.5 | F4: 8% | G4: =-SUM(G2:G3)*1% -> -2481.48 | H4: =+E4+G4 -> -33499.98 | I4: CÔNG TY TNHH THƯƠNG MẠI LARIA | J4: 0312461711
E5: =SUM(E2:E4) -> 3070831.5 | G5: =SUM(G2:G4) -> 245666.52 | H5: =+E5+G5 -> 3316498

Sheet T08
A1: Ngày hóa đơn | B1: Số hóa đơn | C1: Ký hiệu HĐ | D1: Diễn giải | E1: Doanh số bán chưa có thuế GTGT | F1: Thuế suất | G1: Thuế GTGT | H1: Tổng tiền | I1: Tên người mua | J1: Mã số thuế người mua
A2: 45512 | B2: 00040703 | C2: 1C24TNN | D2: FM4 99 Hoàng Hoa Thám | E2: 555290 | F2: 8% | G2: 44423 | H2: =+E2+G2 -> 599713 | I2: CÔNG TY TNHH THƯƠNG MẠI LARIA | J2: 0312461711
A3: 45528 | B3: 00045038 | C3: 1C24TNN | D3: Farmers market DC01 - Nơ Trang Long | E3: 1531687 | F3: 8% | G3: 122535 | H3: =+E3+G3 -> 1654222 | I3: CÔNG TY TNHH THƯƠNG MẠI LARIA | J3: 0312461711
A4: 45534 | B4: 00046772 | C4: 1C24TNN | D4: Farmers market DC01 - Nơ Trang Long | E4: 8247824 | F4: 8% | G4: 659826 | H4: =+E4+G4 -> 8907650 | I4: CÔNG TY TNHH THƯƠNG MẠI LARIA | J4: 0312461711
A5: 45535 | D5: Hỗ trợ chi phí trưng bày + quảng cáo tháng 08.2024 | E5: -103348.01 | F5: 8% | G5: -8267.84 | H5: =+E5+G5 -> -111615.85 | I5: CÔNG TY TNHH THƯƠNG MẠI LARIA | J5: 0312461711
A6: Số dòng = 4 | E6: =SUM(E2:E5) -> 10231453 | G6: =SUM(G2:G5) -> 818516.16 | H6: =+E6+G6 -> 11049969

Sheet T06
A1: Ngày hóa đơn | B1: Số hóa đơn | C1: Ký hiệu HĐ | D1: Diễn giải | E1: Doanh số bán chưa có thuế GTGT | F1: Thuế suất | G1: Thuế GTGT | H1: Tổng tiền | I1: Tên người mua | J1: Mã số thuế người mua
A2: 45460 | B2: 00029283 | C2: 1C24TNN | D2: Farmers market DC01 - Nơ Trang Long | E2: 5057402 | F2: 8% | G2: 404592 | H2: =+E2+G2 -> 5461994 | I2: CÔNG TY TNHH THƯƠNG MẠI LARIA | J2: 0312461711
A3: 45473 | D3: Hỗ trợ chi phí trưng bày + quảng cáo tháng 06.2024 | E3: -50574.074 | F3: 8% | G3: =+E3*F3 -> -4045.9259 | H3: -54620 | I3: CÔNG TY TNHH THƯƠNG MẠI LARIA | J3: 0312461711
A4: Số dòng = 2 | E4: =SUM(E2:E3) -> 5006827.9 | G4: =SUM(G2:G3) -> 400546.07 | H4: =SUM(H2:H3) -> 5407374

Sheet T05
A1: Ngày hóa đơn | B1: Số hóa đơn | C1: Ký hiệu HĐ | D1: Diễn giải | E1: Doanh số bán chưa có thuế GTGT | F1: Thuế suất | G1: Thuế GTGT | H1: Tổng tiền | I1: Tên người mua | J1: Mã số thuế người mua
A2: 45421 | B2: 00020755 | C2: 1C24TNN | D2: Farmers market 06QT - Quang Trung | E2: 2322136 | F2: 8% | G2: 185771 | H2: =+E2+G2 -> 2507907 | I2: CÔNG TY TNHH THƯƠNG MẠI LARIA | J2: 0312461711
A3: 45427 | B3: 00022357 | C3: 1C24TNN | D3: FM4 99 Hoàng Hoa Thám | E3: 1106934 | F3: 8% | G3: 88555 | H3: =+E3+G3 -> 1195489 | I3: CÔNG TY TNHH THƯƠNG MẠI LARIA | J3: 0312461711
A4: 45443 | D4: Hỗ trợ chi phí trưng bày + quảng cáo tháng 05.2024 | E4: -34290.704 | F4: 8% | G4: -2743.2563 | H4: -37033.96 | I4: CÔNG TY TNHH THƯƠNG MẠI LARIA | J4: 0312461711
A5: Số dòng = 3 | E5: =SUM(E2:E4) -> 3394779.3 | G5: =SUM(G2:G4) -> 271582.74 | H5: =SUM(H2:H4) -> 3666362

Sheet T04
A1: Ngày hóa đơn | B1: Số hóa đơn | C1: Ký hiệu HĐ | D1: Diễn giải | E1: Doanh số bán chưa có thuế GTGT | F1: Thuế suất | G1: Thuế GTGT | H1: Thành tiền | I1: Tên người mua | J1: Mã số thuế người mua
A2: 45385 | B2: 00015049 | C2: 1C24TNN | D2: Farmers market DC01 - Nơ Trang Long | E2: 2535374 | F2: 8% | G2: 202830 | H2: =+E2+G2 -> 2738204 | I2: CÔNG TY TNHH THƯƠNG MẠI LARIA | J2: 0312461711
A3: 45395 | B3: 00017234 | C3: 1C24TNN | D3: Farmers market DC01 - Nơ Trang Long, CK 10% đơn đầu đặt gà muối 500g | E3: 4197992 | F3: 8% | G3: 335839 | H3: =+E3+G3 -> 4533831 | I3: CÔNG TY TNHH THƯƠNG MẠI LARIA | J3: 0312461711
A4: 45404 | B4: 00018628 | C4: 1C24TNN | D4: Farmers market DC01 - Nơ Trang Long | E4: 2375726 | F4: 8% | G4: 190058 | H4: =+E4+G4 -> 2565784 | I4: CÔNG TY TNHH THƯƠNG MẠI LARIA | J4: 0312461711
A5: 45412 | D5: Hỗ trợ chi phí trưng bày + quảng cáo tháng 04.2024 | H5: -98378.19 | I5: CÔNG TY TNHH THƯƠNG MẠI LARIA | J5: 0312461711
A6: Số dòng = 4 | E6: 9109092 | G6: 728727 | H6: =SUM(H2:H5) -> 9739440.8

Sheet T03
A1: Ngày hóa đơn | B1: Số hóa đơn | C1: Ký hiệu HĐ | D1: Diễn giải | E1: Số tiền chưa có thuế GTGT | F1: Thuế suất | G1: Thuế GTGT | H1: Thành tiền | I1: Tên người mua | J1: Mã số thuế người mua
A2: 45364 | D2: Hàng Trả - Purchase Return : 5633 - 43 Võ Thành Trang, phường 11, Quận Tân Bình | E2: -353006 | F2: 8% | G2: -28241 | H2: =+E2+G2 -> -381247 | I2: CÔNG TY TNHH THƯƠNG MẠI LARIA | J2: 0312461711
A3: 45379 | D3: Hàng Trả - Purchase Return : 5750 - 486 Nguyễn Thị Thập, phường Tân Quy, Quận 7 | E3: -1015972 | F3: 8% | G3: -81278 | H3: =+E3+G3 -> -1097250 | I3: CÔNG TY TNHH THƯƠNG MẠI LARIA | J3: 0312461711
A4: Số dòng = 2 | E4: =+SUM(E2:E3) -> -1368978 | G4: =+SUM(G2:G3) -> -109519 | H4: =+SUM(H2:H3) -> -1478497

Sheet T02
A1: Ngày hóa đơn | B1: Số hóa đơn | C1: Ký hiệu HĐ | D1: Diễn giải | E1: Doanh số bán chưa có thuế GTGT | F1: Thuế suất | G1: Thuế GTGT | H1: Thành tiền | I1: Tên người mua | J1: Mã số thuế người mua
A2: 45324 | B2: 00007213 | C2: 1C24TNN | D2: Farmers market DC01 - Nơ Trang Long | E2: 2299332 | F2: 8% | G2: 183947 | H2: =+E2+G2 -> 2483279 | I2: CÔNG TY TNHH THƯƠNG MẠI LARIA | J2: 0312461711
A3: 45351 | D3: Hỗ trợ chi phí trưng bày + quảng cáo tháng 02.2024 | H3: -24833 | I3: CÔNG TY TNHH THƯƠNG MẠI LARIA | J3: 0312461711
A4: Số dòng = 2 | E4: =+SUM(E2:E3) -> 2299332 | G4: =+SUM(G2:G3) -> 183947 | H4: =+SUM(H2:H3) -> 2458446

Sheet T01
A1: Ngày hóa đơn | B1: Số hóa đơn | C1: Ký hiệu HĐ | D1: Diễn giải | E1: Doanh số bán chưa có thuế GTGT | F1: Thuế suất | G1: Thuế GTGT | H1: Thành tiền | I1: Tên người mua | J1: Mã số thuế người mua
A2: 45309 | B2: 00003416 | C2: 1C24TNN | D2: Farmers market DC01 - Nơ Trang Long | E2: 2288633 | F2: 8% | G2: 183091 | H2: =+E2+G2 -> 2471724 | I2: CÔNG TY TNHH THƯƠNG MẠI LARIA | J2: 0312461711
A3: 45322 | D3: Hỗ trợ chi phí trưng bày + quảng cáo tháng 01.2024 | H3: -24717 | I3: CÔNG TY TNHH THƯƠNG MẠI LARIA | J3: 0312461711
A4: Số dòng = 2 | E4: =+SUM(E2:E3) -> 2288633 | G4: =+SUM(G2:G3) -> 183091 | H4: =+SUM(H2:H3) -> 2447007

Sheet CK
A1: Tháng 1.24
A2: Doanh số | B2: 2471724
A3: CPTB | B3: 0.005 | C3: =+B2*B3 -> 12358.62
A4: CPQC | B4: 0.005 | C4: =+B2*B4 -> 12358.62 | D4: =+C3+C4 -> 24717.24
A5: Phải Thu | B5: =+B2-C3-C4 -> 2447006.8
A7: Tháng 2.24
A8: Doanh số | B8: 2483279
A9: CPTB | B9: 0.005 | C9: =+B8*B9 -> 12416.395
A10: CPQC | B10: 0.005 | C10: =+B8*B10 -> 12416.395 | D10: =+C9+C10 -> 24832.79
A11: Phải Thu | B11: =+B8-C9-C10 -> 2458446.2
A13: Tháng 4.24
A14: Doanh số | B14: 9837819
A15: CPTB | B15: 0.005 | C15: =+B14*B15 -> 49189.095
A16: CPQC | B16: 0.005 | C16: =+B14*B16 -> 49189.095 | D16: =+C15+C16 -> 98378.19
A17: Phải Thu | B17: =+B14-C15-C16 -> 9739440.8
A19: Tháng 5.24
A20: Doanh số | B20: 3703396
A21: CPTB | B21: 0.005 | C21: =+B20*B21 -> 18516.98
A22: CPQC | B22: 0.005 | C22: =+B20*B22 -> 18516.98 | D22: =+C21+C22 -> 37033.96
A23: Phải Thu | B23: =+B20-C21-C22 -> 3666362
A25: Tháng 6.24
A26: Doanh số | B26: 5461994
A27: CPTB | B27: 0.005 | C27: =+B26*B27 -> 27309.97
A28: CPQC | B28: 0.005 | C28: =+B26*B28 -> 27309.97 | D28: =+C27+C28 -> 54619.94
A29: Phải Thu | B29: =+B26-C27-C28 -> 5407374.1
A31: Tháng 7.24
A32: Doanh số | B32: 2834093
A33: CPTB | B33: 0.005 | C33: =+B32*B33 -> 14170.465
A34: CPQC | B34: 0.005 | C34: =+B32*B34 -> 14170.465 | D34: =+C33+C34 -> 28340.93
A35: Phải Thu | B35: =+B32-C33-C34 -> 2805752.1
A37: Tháng 8.24
A38: Doanh số | B38: 11161585
A39: CPTB | B39: 0.005 | C39: =+B38*B39 -> 55807.925
A40: CPQC | B40: 0.005 | C40: =+B38*B40 -> 55807.925 | D40: =+C39+C40 -> 111615.85
A41: Phải Thu | B41: =+B38-C39-C40 -> 11049969
A43: Tháng 9.24
A44: Doanh số | B44: 3349998
A45: CPTB | B45: 0.005 | C45: =+B44*B45 -> 16749.99
A46: CPQC | B46: 0.005 | C46: =+B44*B46 -> 16749.99 | D46: =+C45+C46 -> 33499.98
A47: Phải Thu | B47: =+B44-C45-C46 -> 3316498
A49: Tháng 10.24
A50: Doanh số | B50: 9532685
A51: CPTB | B51: 0.005 | C51: =+B50*B51 -> 47663.425
A52: CPQC | B52: 0.005 | C52: =+B50*B52 -> 47663.425 | D52: =+C51+C52 -> 95326.85
A53: Phải Thu | B53: =+B50-C51-C52 -> 9437358.1
A55: Tháng 11.24
A56: Doanh số | B56: 7241744
A57: CPTB | B57: 0.005 | C57: =+B56*B57 -> 36208.72
A58: CPQC | B58: 0.005 | C58: =+B56*B58 -> 36208.72 | D58: =+C57+C58 -> 72417.44
A59: Phải Thu | B59: =+B56-C57-C58 -> 7169326.6
A61: Tháng 12.24
A62: Doanh số | B62: 2983605
A63: CPTB | B63: 0.005 | C63: =+B62*B63 -> 14918.025
A64: CPQC | B64: 0.005 | C64: =+B62*B64 -> 14918.025 | D64: =+C63+C64 -> 29836.05
A65: Phải Thu | B65: =+B62-C63-C64 -> 2953769
A67: Tháng 01.25
A68: Doanh số | B68: 7261340
A69: CPTB | B69: 0.005 | C69: =+B68*B69 -> 36306.7
A70: CPQC | B70: 0.005 | C70: =+B68*B70 -> 36306.7 | D70: =+C69+C70 -> 72613.4
A71: Phải Thu | B71: =+B68-C69-C70 -> 7188726.6
A73: Tháng 02.25
A74: Doanh số | B74: 9694608
A75: CPTB | B75: 0.005 | C75: =+B74*B75 -> 48473.04
A76: CPQC | B76: 0.005 | C76: =+B74*B76 -> 48473.04 | D76: =+C75+C76 -> 96946.08
A77: Phải Thu | B77: =+B74-C75-C76 -> 9597661.9
A79: Tháng 03.25
A80: Doanh số | B80: 6339432
A81: CPTB | B81: 0.005 | C81: =+B80*B81 -> 31697.16
A82: CPQC | B82: 0.005 | C82: =+B80*B82 -> 31697.16 | D82: =+C81+C82 -> 63394.32
A83: Phải Thu | B83: =+B80-C81-C82 -> 6276037.7
A85: Tháng 04.25
A86: Doanh số | B86: 7033778
A87: CPTB | B87: 0.005 | C87: =+B86*B87 -> 35168.89
A88: CPQC | B88: 0.005 | C88: =+B86*B88 -> 35168.89 | D88: =+C87+C88 -> 70337.78
A89: Phải Thu | B89: =+B86-C87-C88 -> 6963440.2
A91: Tháng 05.25
A92: Doanh số | B92: 4983056
A93: CPTB | B93: 0.005 | C93: =+B92*B93 -> 24915.28
A94: CPQC | B94: 0.005 | C94: =+B92*B94 -> 24915.28 | D94: =+C93+C94 -> 49830.56
A95: Phải Thu | B95: =+B92-C93-C94 -> 4933225.4
