Workbook

Sheet Sheet1
A1: Account | B1: Assignment | C1: G/L Account | D1: Document Number | E1: Reference | F1: Document type | G1: Document Date | H1: Posting Date | I1: Special G/L ind. | J1: Payment date | K1: Amount in local currency | L1: Text | M1: Clearing date | N1: Clearing Document
A2: 3002179 | B2: 107 | C2: 33100000 | D2: 1102462944 | E2: C23TNN|54835 | F2: K1 | G2: 45180 | H2: 45183 | J2: 45225 | K2: -1199426 | L2: Hàng hóa quầy 0480.3002179
A3: 3002179 | B3: 106 | C3: 33100000 | D3: 1102468634 | E3: C23TNN|54838 | F3: K1 | G3: 45180 | H3: 45184 | J3: 45225 | K3: -1249106 | L3: Hàng hóa quầy 0480.3002179
A4: 3002179 | B4: 110 | C4: 33100000 | D4: 1102468882 | E4: C23TNN|54903 | F4: K1 | G4: 45181 | H4: 45184 | J4: 45226 | K4: -1199426 | L4: Hàng hóa quầy 0480.3002179
A5: 3002179 | B5: 1504 | C5: 33100000 | D5: 1102469931 | E5: C23TNN|54851 | F5: K1 | G5: 45180 | H5: 45183 | J5: 45225 | K5: -1199426 | L5: Hàng hóa quầy 0480.3002179
A6: 3002179 | B6: 133 | C6: 33100000 | D6: 1102471301 | E6: C23TNN|55040 | F6: K1 | G6: 45183 | H6: 45183 | J6: 45228 | K6: -1586131 | L6: Hàng hóa quầy 0480.3002179
A7: 3002179 | B7: 139 | C7: 33100000 | D7: 1102471306 | E7: C23TNN|54841 | F7: K1 | G7: 45180 | H7: 45183 | J7: 45225 | K7: -5597662 | L7: Hàng hóa quầy 0480.3002179
A8: 3002179 | B8: 116 | C8: 33100000 | D8: 1102479625 | E8: C23TNN|54902 | F8: K1 | G8: 45181 | H8: 45185 | J8: 45226 | K8: -1586131 | L8: Hàng hóa quầy 0480.3002179
A9: 3002179 | B9: 135 | C9: 33100000 | D9: 1102480688 | E9: C23TNN|54905 | F9: K1 | G9: 45181 | H9: 45184 | J9: 45226 | K9: -6599794 | L9: Hàng hóa quầy 0480.3002179
A10: 3002179 | B10: 104 | C10: 33100000 | D10: 1102481038 | E10: C23TNN|56054 | F10: K1 | G10: 45184 | H10: 45185 | J10: 45229 | K10: -1416217 | L10: Hàng hóa quầy 0480.3002179
A11: 3002179 | B11: 110 | C11: 33100000 | D11: 1102482909 | E11: C23TNN|56052 | F11: K1 | G11: 45184 | H11: 45185 | J11: 45229 | K11: -1199426 | L11: Hàng hóa quầy 0480.3002179
A12: 3002179 | B12: 104 | C12: 33100000 | D12: 1102483033 | E12: C23TNN|56055 | F12: K1 | G12: 45184 | H12: 45185 | J12: 45229 | K12: -1633008 | L12: Hàng hóa quầy 0480.3002179
A13: 3002179 | B13: 145 | C13: 33100000 | D13: 1102483111 | E13: C23TNN|54847 | F13: K1 | G13: 45180 | H13: 45184 | J13: 45225 | K13: -4199515 | L13: Hàng hóa quầy 0480.3002179
... A213: 3002179 | B213: 103 | C213: 33100000 | D213: 1102378689 | E213: C23TNN|53357 | F213: K1 | G213: 45175 | H213: 45175 | J213: 45220 | K213: -2367716 | L213: Hàng hóa quầy 0480.3002179
A214: 3002179 | B214: 132 | C214: 33100000 | D214: 1102212859 | E214: C23TNN|49587 | F214: K1 | G214: 45155 | H214: 45156 | J214: 45200 | K214: -1413958 | L214: Hàng hóa quầy 0480.3002179 | M214: 45204 | N214: 1000040211
A215: 3002179 | B215: 134 | C215: 33100000 | D215: 1102214071 | E215: C23TNN|49096 | F215: K1 | G215: 45155 | H215: 45155 | J215: 45200 | K215: -2367716 | L215: Hàng hóa quầy 0480.3002179 | M215: 45204 | N215: 1000040211
A216: 3002179 | B216: 136 | C216: 33100000 | D216: 1102212026 | E216: C23TNN|49645 | F216: K1 | G216: 45156 | H216: 45156 | J216: 45201 | K216: -1236300 | L216: Hàng hóa quầy 0480.3002179 | M216: 45204 | N216: 1000040211
A217: 3002179 | B217: 120 | C217: 33100000 | D217: 1102211719 | E217: C23TNN|49599 | F217: K1 | G217: 45155 | H217: 45157 | J217: 45200 | K217: -1564998 | L217: Hàng hóa quầy 0480.3002179 | M217: 45204 | N217: 1000040211
A218: 3002179 | B218: 126 | C218: 33100000 | D218: 1102210317 | E218: C23TNN|49601 | F218: K1 | G218: 45155 | H218: 45157 | J218: 45200 | K218: -4069207 | L218: Hàng hóa quầy 0480.3002179 | M218: 45204 | N218: 1000040211
A219: 3002179 | B219: 104 | C219: 33100000 | D219: 1102209644 | E219: C23TNN|48565 | F219: K1 | G219: 45154 | H219: 45157 | J219: 45199 | K219: -3227355 | L219: Hàng hóa quầy 0480.3002179 | M219: 45204 | N219: 1000040211
A220: 3002179 | B220: 136 | C220: 33100000 | D220: 1102209518 | E220: C23TNN|49821 | F220: K1 | G220: 45157 | H220: 45157 | J220: 45202 | K220: -1019509 | L220: Hàng hóa quầy 0480.3002179 | M220: 45204 | N220: 1000040211
A221: 3002179 | B221: 129 | C221: 33100000 | D221: 1102209396 | E221: C23TNN|49592 | F221: K1 | G221: 45155 | H221: 45157 | J221: 45200 | K221: -1348207 | L221: Hàng hóa quầy 0480.3002179 | M221: 45204 | N221: 1000040211
A222: 3002179 | B222: 113 | C222: 33100000 | D222: 1102207706 | E222: C23TNN|48413 | F222: K1 | G222: 45152 | H222: 45156 | J222: 45197 | K222: -1348207 | L222: Hàng hóa quầy 0480.3002179 | M222: 45204 | N222: 1000040211
A223: 3002179 | B223: 128 | C223: 33100000 | D223: 1102206772 | E223: C23TNN|48421 | F223: K1 | G223: 45152 | H223: 45156 | J223: 45197 | K223: -1019509 | L223: Hàng hóa quầy 0480.3002179 | M223: 45204 | N223: 1000040211
A224: 3002179 | B224: 128 | C224: 33100000 | D224: 1102206417 | E224: C23TNN|48422 | F224: K1 | G224: 45152 | H224: 45156 | J224: 45197 | K224: -1348207 | L224: Hàng hóa quầy 0480.3002179 | M224: 45204 | N224: 1000040211
A225: 3002179 | B225: 114 | C225: 33100000 | D225: 1102206212 | E225: C23TNN|48408 | F225: K1 | G225: 45152 | H225: 45156 | J225: 45197 | K225: -1348207 | L225: Hàng hóa quầy 0480.3002179 | M225: 45204 | N225: 1000040211
... A254: 3002179 | B254: 143 | C254: 33100000 | D254: 1102182229 | E254: C23TNN|48399 | F254: K1 | G254: 45152 | H254: 45154 | J254: 45197 | K254: -4044622 | L254: Hàng hóa quầy 0480.3002179 | M254: 45204 | N254: 1000040211
A255: 3002179 | B255: 3002179 | C255: 33100010 | D255: 2401236009 | E255: CK T08/2023 | F255: KS | G255: 45198 | H255: 45198 | I255: K | J255: 45198 | K255: 25635876 | L255: R480 CK T08/2023 | M255: 45204 | N255: 1000040211
A256: 3002179 | B256: 142 | C256: 33100000 | D256: 1102591408 | E256: K23TRT|10751 | F256: K1 | G256: 45190 | H256: 45190 | J256: 45190 | K256: 360256 | L256: Hàng hóa các loại | M256: 45204 | N256: 1000040211
A257: 3002179 | B257: 142 | C257: 33100000 | D257: 1102591401 | E257: K23TRT|10744 | F257: K1 | G257: 45190 | H257: 45190 | J257: 45190 | K257: 1469825 | L257: Hàng hóa các loại | M257: 45204 | N257: 1000040211
A258: 3002179 | B258: 146 | C258: 33100000 | D258: 1102591231 | E258: K23TRT|11283 | F258: K1 | G258: 45196 | H258: 45196 | J258: 45196 | K258: 332036 | L258: Hàng hóa các loại | M258: 45204 | N258: 1000040211
A259: 3002179 | B259: 130 | C259: 33100000 | D259: 1102591033 | E259: K23TRT|10631 | F259: K1 | G259: 45190 | H259: 45190 | J259: 45190 | K259: 565583 | L259: Hàng hóa các loại | M259: 45204 | N259: 1000040211
A260: 3002179 | B260: 139 | C260: 33100000 | D260: 1102577960 | E260: K23TRT|10043 | F260: K1 | G260: 45181 | H260: 45181 | J260: 45181 | K260: 719141 | L260: Hàng hóa các loại | M260: 45204 | N260: 1000040211
A261: 3002179 | B261: 143 | C261: 33100000 | D261: 1102555928 | E261: K23TRT|11102 | F261: K1 | G261: 45195 | H261: 45195 | J261: 45195 | K261: 1324214 | L261: Hàng hóa các loại | M261: 45204 | N261: 1000040211
A262: 3002179 | B262: 143 | C262: 33100000 | D262: 1102555837 | E262: K23TRT|10152 | F262: K1 | G262: 45182 | H262: 45182 | J262: 45182 | K262: 2696725 | L262: Hàng hóa các loại | M262: 45204 | N262: 1000040211
A263: 3002179 | B263: 112 | C263: 33100000 | D263: 1102555725 | E263: K23TRT|10849 | F263: K1 | G263: 45191 | H263: 45191 | J263: 45191 | K263: 218415 | L263: Hàng hóa các loại | M263: 45204 | N263: 1000040211
A264: 3002179 | B264: 114 | C264: 33100000 | D264: 1102577931 | E264: K23TRT|11298 | F264: K1 | G264: 45196 | H264: 45196 | J264: 45196 | K264: 1604940 | L264: Hàng hóa các loại | M264: 45204 | N264: 1000040211
A265: 3002179 | B265: 138 | C265: 33100000 | D265: 1102555611 | E265: K23TRT|10305 | F265: K1 | G265: 45187 | H265: 45187 | J265: 45187 | K265: 3326468 | L265: Hàng hóa các loại | M265: 45204 | N265: 1000040211
A266: 3002179 | B266: 119 | C266: 33100000 | D266: 1102555574 | E266: K23TRT|9945 | F266: K1 | G266: 45181 | H266: 45181 | J266: 45181 | K266: 293972 | L266: Hàng hóa các loại | M266: 45204 | N266: 1000040211
A267: 3002179 | B267: 126 | C267: 33100000 | D267: 1102436831 | E267: K23TRT|10141 | F267: K1 | G267: 45182 | H267: 45182 | J267: 45182 | K267: 1407134 | L267: Hàng hóa các loại | M267: 45204 | N267: 1000040211
... A334: 3002179 | B334: 108 | C334: 33100000 | D334: 1102052968 | E334: C23TNN|45506 | F334: K1 | G334: 45140 | H334: 45140 | J334: 45185 | K334: -2615643 | L334: Hàng hóa quầy 0480.3002179 | M334: 45204 | N334: 1000040211
A335: 3002179 | B335: 3002179 | C335: 13120000 | D335: 500251207 | E335: 1K23TEB|58688 | F335: D1 | G335: 45196 | H335: 45196 | I335: M | J335: 45196 | K335: 15381526 | L335: Phí dịch vụ T08.2023 QUẦY 480 | M335: 45204 | N335: 1000040211
A336: 3002179 | B336: 3002179 | C336: 13120000 | D336: 500249467 | E336: 1K23TEB|56348 | F336: D1 | G336: 45196 | H336: 45196 | I336: M | J336: 45196 | K336: 70755018 | L336: Phí dịch vụ T08.2023 QUẦY 480 | M336: 45204 | N336: 1000040211
A337: 3002179 | B337: 3002179 | C337: 13120000 | D337: 500248218 | E337: 1K23TEB|54699 | F337: D1 | G337: 45196 | H337: 45196 | I337: M | J337: 45196 | K337: 18457831 | L337: Phí hỗ trợ T08.2023 QUẦY 480 | M337: 45204 | N337: 1000040211
A338: 3002179 | B338: 130 | C338: 33100000 | D338: 1102181574 | E338: C23TNN|48400 | F338: K1 | G338: 45152 | H338: 45154 | J338: 45197 | K338: -216791 | L338: Hàng hóa quầy 0480.3002179 | M338: 45204 | N338: 1000040211
A339: 3002179 | B339: 109 | C339: 33100000 | D339: 1102181549 | E339: C23TNN|48407 | F339: K1 | G339: 45152 | H339: 45155 | J339: 45197 | K339: -1348207 | L339: Hàng hóa quầy 0480.3002179 | M339: 45204 | N339: 1000040211
A340: 3002179 | B340: 135 | C340: 33100000 | D340: 1102174078 | E340: C23TNN|48073 | F340: K1 | G340: 45148 | H340: 45150 | J340: 45193 | K340: -3387226 | L340: Hàng hóa quầy 0480.3002179 | M340: 45204 | N340: 1000040211
A341: 3002179 | B341: 109 | C341: 33100000 | D341: 1102181992 | E341: C23TNN|48405 | F341: K1 | G341: 45152 | H341: 45155 | J341: 45197 | K341: -1385340 | L341: Hàng hóa quầy 0480.3002179 | M341: 45204 | N341: 1000040211
A342: 3002179 | B342: 108 | C342: 33100000 | D342: 1102173960 | E342: C23TNN|48551 | F342: K1 | G342: 45154 | H342: 45154 | J342: 45199 | K342: -2039018 | L342: Hàng hóa quầy 0480.3002179 | M342: 45204 | N342: 1000040211
A343: 3002179 | B343: 103 | C343: 33100000 | D343: 1102173040 | E343: C23TNN|48510 | F343: K1 | G343: 45154 | H343: 45154 | J343: 45199 | K343: -1019509 | L343: Hàng hóa quầy 0480.3002179 | M343: 45204 | N343: 1000040211
A344: 3002179 | B344: 111 | C344: 33100000 | D344: 1102172797 | E344: C23TNN|48467 | F344: K1 | G344: 45153 | H344: 45154 | J344: 45198 | K344: -2039018 | L344: Hàng hóa quầy 0480.3002179 | M344: 45204 | N344: 1000040211
A345: 3002179 | B345: 119 | C345: 33100000 | D345: 1102172485 | E345: C23TNN|48499 | F345: K1 | G345: 45153 | H345: 45154 | J345: 45198 | K345: -650372 | L345: Hàng hóa quầy 0480.3002179 | M345: 45204 | N345: 1000040211
A346: 3002179 | B346: 103 | C346: 33100000 | D346: 1102172469 | E346: C23TNN|48509 | F346: K1 | G346: 45154 | H346: 45154 | J346: 45199 | K346: -1928824 | L346: Hàng hóa quầy 0480.3002179 | M346: 45204 | N346: 1000040211
A347: 3002179 | B347: 122 | C347: 33100000 | D347: 1102171979 | E347: C23TNN|48548 | F347: K1 | G347: 45154 | H347: 45154 | J347: 45199 | K347: -2367716 | L347: Hàng hóa quầy 0480.3002179 | M347: 45204 | N347: 1000040211
A348: 3002179 | B348: 120 | C348: 33100000 | D348: 1102171478 | E348: C23TNN|48417 | F348: K1 | G348: 45152 | H348: 45154 | J348: 45197 | K348: -1348207 | L348: Hàng hóa quầy 0480.3002179 | M348: 45204 | N348: 1000040211
A349: 3002179 | B349: 111 | C349: 33100000 | D349: 1102171280 | E349: C23TNN|48468 | F349: K1 | G349: 45153 | H349: 45154 | J349: 45198 | K349: -1348207 | L349: Hàng hóa quầy 0480.3002179 | M349: 45204 | N349: 1000040211
... A378: 3002179 | B378: 131 | C378: 33100000 | D378: 1102150479 | E378: C23TNN|46920 | F378: K1 | G378: 45145 | H378: 45149 | J378: 45190 | K378: -3048391 | L378: Hàng hóa quầy 0480.3002179 | M378: 45204 | N378: 1000040211
A379: 3002179 | K379: -730248789
K380: -730248789

Sheet EB GỬI (NHÁP)
A1: Account | B1: Assignment | C1: G/L Account | D1: Document Number | E1: Reference | F1: Số hóa đơn | G1: Document type | H1: Document Date | I1: Posting Date | J1: Special G/L ind. | K1: Payment date | L1: Amount in local currency | M1: Text | N1: Clearing date | O1: Clearing Document | P1: Số NCC | Q1: Chênh lệch | R1: Note
A2: 3002179 | B2: 107 | C2: 33100000 | D2: 1102462944 | E2: C23TNN|54835 | F2: 54835 | G2: K1 | H2: 45180 | I2: 45183 | K2: 45225 | L2: -1199426 | M2: Hàng hóa quầy 0480.3002179 | P2: =+VLOOKUP(F2,'NCC NHÁP'!$B:$H,7,0) -> 1199426 | Q2: =+P2+L2 -> 0
A3: 3002179 | B3: 106 | C3: 33100000 | D3: 1102468634 | E3: C23TNN|54838 | F3: 54838 | G3: K1 | H3: 45180 | I3: 45184 | K3: 45225 | L3: -1249106 | M3: Hàng hóa quầy 0480.3002179 | P3: =+VLOOKUP(F3,'NCC NHÁP'!$B:$H,7,0) -> 1249106 | Q3: =+P3+L3 -> 0
A4: 3002179 | B4: 110 | C4: 33100000 | D4: 1102468882 | E4: C23TNN|54903 | F4: 54903 | G4: K1 | H4: 45181 | I4: 45184 | K4: 45226 | L4: -1199426 | M4: Hàng hóa quầy 0480.3002179 | P4: =+VLOOKUP(F4,'NCC NHÁP'!$B:$H,7,0) -> 1199426 | Q4: =+P4+L4 -> 0
A5: 3002179 | B5: 1504 | C5: 33100000 | D5: 1102469931 | E5: C23TNN|54851 | F5: 54851 | G5: K1 | H5: 45180 | I5: 45183 | K5: 45225 | L5: -1199426 | M5: Hàng hóa quầy 0480.3002179 | P5: =+VLOOKUP(F5,'NCC NHÁP'!$B:$H,7,0) -> 1199426 | Q5: =+P5+L5 -> 0
A6: 3002179 | B6: 133 | C6: 33100000 | D6: 1102471301 | E6: C23TNN|55040 | F6: 55040 | G6: K1 | H6: 45183 | I6: 45183 | K6: 45228 | L6: -1586131 | M6: Hàng hóa quầy 0480.3002179 | P6: =+VLOOKUP(F6,'NCC NHÁP'!$B:$H,7,0) -> 1586131 | Q6: =+P6+L6 -> 0
A7: 3002179 | B7: 139 | C7: 33100000 | D7: 1102471306 | E7: C23TNN|54841 | F7: 54841 | G7: K1 | H7: 45180 | I7: 45183 | K7: 45225 | L7: -5597662 | M7: Hàng hóa quầy 0480.3002179 | P7: =+VLOOKUP(F7,'NCC NHÁP'!$B:$H,7,0) -> 5597662 | Q7: =+P7+L7 -> 0
A8: 3002179 | B8: 116 | C8: 33100000 | D8: 1102479625 | E8: C23TNN|54902 | F8: 54902 | G8: K1 | H8: 45181 | I8: 45185 | K8: 45226 | L8: -1586131 | M8: Hàng hóa quầy 0480.3002179 | P8: =+VLOOKUP(F8,'NCC NHÁP'!$B:$H,7,0) -> 1586131 | Q8: =+P8+L8 -> 0
A9: 3002179 | B9: 135 | C9: 33100000 | D9: 1102480688 | E9: C23TNN|54905 | F9: 54905 | G9: K1 | H9: 45181 | I9: 45184 | K9: 45226 | L9: -6599794 | M9: Hàng hóa quầy 0480.3002179 | P9: =+VLOOKUP(F9,'NCC NHÁP'!$B:$H,7,0) -> 6599794 | Q9: =+P9+L9 -> 0
A10: 3002179 | B10: 104 | C10: 33100000 | D10: 1102481038 | E10: C23TNN|56054 | F10: 56054 | G10: K1 | H10: 45184 | I10: 45185 | K10: 45229 | L10: -1416217 | M10: Hàng hóa quầy 0480.3002179 | P10: =+VLOOKUP(F10,'NCC NHÁP'!$B:$H,7,0) -> 1416217 | Q10: =+P10+L10 -> 0
A11: 3002179 | B11: 110 | C11: 33100000 | D11: 1102482909 | E11: C23TNN|56052 | F11: 56052 | G11: K1 | H11: 45184 | I11: 45185 | K11: 45229 | L11: -1199426 | M11: Hàng hóa quầy 0480.3002179 | P11: =+VLOOKUP(F11,'NCC NHÁP'!$B:$H,7,0) -> 1199426 | Q11: =+P11+L11 -> 0
A12: 3002179 | B12: 104 | C12: 33100000 | D12: 1102483033 | E12: C23TNN|56055 | F12: 56055 | G12: K1 | H12: 45184 | I12: 45185 | K12: 45229 | L12: -1633008 | M12: Hàng hóa quầy 0480.3002179 | P12: =+VLOOKUP(F12,'NCC NHÁP'!$B:$H,7,0) -> 1633008 | Q12: =+P12+L12 -> 0
A13: 3002179 | B13: 145 | C13: 33100000 | D13: 1102483111 | E13: C23TNN|54847 | F13: 54847 | G13: K1 | H13: 45180 | I13: 45184 | K13: 45225 | L13: -4199515 | M13: Hàng hóa quầy 0480.3002179 | P13: =+VLOOKUP(F13,'NCC NHÁP'!$B:$H,7,0) -> 4199515 | Q13: =+P13+L13 -> 0
... A213: 3002179 | B213: 103 | C213: 33100000 | D213: 1102378689 | E213: C23TNN|53357 | F213: 53357 | G213: K1 | H213: 45175 | I213: 45175 | K213: 45220 | L213: -2367716 | M213: Hàng hóa quầy 0480.3002179 | P213: =+VLOOKUP(F213,'NCC NHÁP'!$B:$H,7,0) -> 2367716 | Q213: =+P213+L213 -> 0
A214: 3002179 | B214: 132 | C214: 33100000 | D214: 1102212859 | E214: C23TNN|49587 | F214: 49587 | G214: K1 | H214: 45155 | I214: 45156 | K214: 45200 | L214: -1413958 | M214: Hàng hóa quầy 0480.3002179 | N214: 45204 | O214: 1000040211 | P214: =+VLOOKUP(F214,'NCC NHÁP'!$B:$H,7,0) -> 1413958 | Q214: =+P214+L214 -> 0
A215: 3002179 | B215: 134 | C215: 33100000 | D215: 1102214071 | E215: C23TNN|49096 | F215: 49096 | G215: K1 | H215: 45155 | I215: 45155 | K215: 45200 | L215: -2367716 | M215: Hàng hóa quầy 0480.3002179 | N215: 45204 | O215: 1000040211 | P215: =+VLOOKUP(F215,'NCC NHÁP'!$B:$H,7,0) -> 2367716 | Q215: =+P215+L215 -> 0
A216: 3002179 | B216: 136 | C216: 33100000 | D216: 1102212026 | E216: C23TNN|49645 | F216: 49645 | G216: K1 | H216: 45156 | I216: 45156 | K216: 45201 | L216: -1236300 | M216: Hàng hóa quầy 0480.3002179 | N216: 45204 | O216: 1000040211 | P216: =+VLOOKUP(F216,'NCC NHÁP'!$B:$H,7,0) -> 1236300 | Q216: =+P216+L216 -> 0
A217: 3002179 | B217: 120 | C217: 33100000 | D217: 1102211719 | E217: C23TNN|49599 | F217: 49599 | G217: K1 | H217: 45155 | I217: 45157 | K217: 45200 | L217: -1564998 | M217: Hàng hóa quầy 0480.3002179 | N217: 45204 | O217: 1000040211 | P217: =+VLOOKUP(F217,'NCC NHÁP'!$B:$H,7,0) -> 1564998 | Q217: =+P217+L217 -> 0
A218: 3002179 | B218: 126 | C218: 33100000 | D218: 1102210317 | E218: C23TNN|49601 | F218: 49601 | G218: K1 | H218: 45155 | I218: 45157 | K218: 45200 | L218: -4069207 | M218: Hàng hóa quầy 0480.3002179 | N218: 45204 | O218: 1000040211 | P218: =+VLOOKUP(F218,'NCC NHÁP'!$B:$H,7,0) -> 4069207 | Q218: =+P218+L218 -> 0
A219: 3002179 | B219: 104 | C219: 33100000 | D219: 1102209644 | E219: C23TNN|48565 | F219: 48565 | G219: K1 | H219: 45154 | I219: 45157 | K219: 45199 | L219: -3227355 | M219: Hàng hóa quầy 0480.3002179 | N219: 45204 | O219: 1000040211 | P219: =+VLOOKUP(F219,'NCC NHÁP'!$B:$H,7,0) -> 3227355 | Q219: =+P219+L219 -> 0
A220: 3002179 | B220: 136 | C220: 33100000 | D220: 1102209518 | E220: C23TNN|49821 | F220: 49821 | G220: K1 | H220: 45157 | I220: 45157 | K220: 45202 | L220: -1019509 | M220: Hàng hóa quầy 0480.3002179 | N220: 45204 | O220: 1000040211 | P220: =+VLOOKUP(F220,'NCC NHÁP'!$B:$H,7,0) -> 1019509 | Q220: =+P220+L220 -> 0
A221: 3002179 | B221: 129 | C221: 33100000 | D221: 1102209396 | E221: C23TNN|49592 | F221: 49592 | G221: K1 | H221: 45155 | I221: 45157 | K221: 45200 | L221: -1348207 | M221: Hàng hóa quầy 0480.3002179 | N221: 45204 | O221: 1000040211 | P221: =+VLOOKUP(F221,'NCC NHÁP'!$B:$H,7,0) -> 1348207 | Q221: =+P221+L221 -> 0
A222: 3002179 | B222: 113 | C222: 33100000 | D222: 1102207706 | E222: C23TNN|48413 | F222: 48413 | G222: K1 | H222: 45152 | I222: 45156 | K222: 45197 | L222: -1348207 | M222: Hàng hóa quầy 0480.3002179 | N222: 45204 | O222: 1000040211 | P222: =+VLOOKUP(F222,'NCC NHÁP'!$B:$H,7,0) -> 1348207 | Q222: =+P222+L222 -> 0
A223: 3002179 | B223: 128 | C223: 33100000 | D223: 1102206772 | E223: C23TNN|48421 | F223: 48421 | G223: K1 | H223: 45152 | I223: 45156 | K223: 45197 | L223: -1019509 | M223: Hàng hóa quầy 0480.3002179 | N223: 45204 | O223: 1000040211 | P223: =+VLOOKUP(F223,'NCC NHÁP'!$B:$H,7,0) -> 1019509 | Q223: =+P223+L223 -> 0
A224: 3002179 | B224: 128 | C224: 33100000 | D224: 1102206417 | E224: C23TNN|48422 | F224: 48422 | G224: K1 | H224: 45152 | I224: 45156 | K224: 45197 | L224: -1348207 | M224: Hàng hóa quầy 0480.3002179 | N224: 45204 | O224: 1000040211 | P224: =+VLOOKUP(F224,'NCC NHÁP'!$B:$H,7,0) -> 1348207 | Q224: =+P224+L224 -> 0
A225: 3002179 | B225: 114 | C225: 33100000 | D225: 1102206212 | E225: C23TNN|48408 | F225: 48408 | G225: K1 | H225: 45152 | I225: 45156 | K225: 45197 | L225: -1348207 | M225: Hàng hóa quầy 0480.3002179 | N225: 45204 | O225: 1000040211 | P225: =+VLOOKUP(F225,'NCC NHÁP'!$B:$H,7,0) -> 1348207 | Q225: =+P225+L225 -> 0
... A254: 3002179 | B254: 143 | C254: 33100000 | D254: 1102182229 | E254: C23TNN|48399 | F254: 48399 | G254: K1 | H254: 45152 | I254: 45154 | K254: 45197 | L254: -4044622 | M254: Hàng hóa quầy 0480.3002179 | N254: 45204 | O254: 1000040211 | P254: =+VLOOKUP(F254,'NCC NHÁP'!$B:$H,7,0) -> 4044622 | Q254: =+P254+L254 -> 0
A255: 3002179 | B255: 3002179 | C255: 33100010 | D255: 2401236009 | E255: CK T08/2023 | F255: 58893 | G255: KS | H255: 45198 | I255: 45198 | J255: K | K255: 45198 | L255: 25635876 | M255: R480 CK T08/2023 | N255: 45204 | O255: 1000040211 | P255: =+VLOOKUP(F255,'NCC NHÁP'!$B:$H,7,0) -> -27686746 | Q255: =+P255+L255 -> -2050870
A256: 3002179 | B256: 142 | C256: 33100000 | D256: 1102591408 | E256: K23TRT|10751 | F256: 10751 | G256: K1 | H256: 45190 | I256: 45190 | K256: 45190 | L256: 360256 | M256: Hàng hóa các loại | N256: 45204 | O256: 1000040211 | P256: =+VLOOKUP(F256,'NCC NHÁP'!$B:$H,7,0) -> -360256 | Q256: =+P256+L256 -> 0
A257: 3002179 | B257: 142 | C257: 33100000 | D257: 1102591401 | E257: K23TRT|10744 | F257: 10744 | G257: K1 | H257: 45190 | I257: 45190 | K257: 45190 | L257: 1469825 | M257: Hàng hóa các loại | N257: 45204 | O257: 1000040211 | P257: =+VLOOKUP(F257,'NCC NHÁP'!$B:$H,7,0) -> -1469825 | Q257: =+P257+L257 -> 0
A258: 3002179 | B258: 146 | C258: 33100000 | D258: 1102591231 | E258: K23TRT|11283 | F258: 11283 | G258: K1 | H258: 45196 | I258: 45196 | K258: 45196 | L258: 332036 | M258: Hàng hóa các loại | N258: 45204 | O258: 1000040211 | P258: =+VLOOKUP(F258,'NCC NHÁP'!$B:$H,7,0) -> -332036 | Q258: =+P258+L258 -> 0
A259: 3002179 | B259: 130 | C259: 33100000 | D259: 1102591033 | E259: K23TRT|10631 | F259: 10631 | G259: K1 | H259: 45190 | I259: 45190 | K259: 45190 | L259: 565583 | M259: Hàng hóa các loại | N259: 45204 | O259: 1000040211 | P259: =+VLOOKUP(F259,'NCC NHÁP'!$B:$H,7,0) -> -565583 | Q259: =+P259+L259 -> 0
A260: 3002179 | B260: 139 | C260: 33100000 | D260: 1102577960 | E260: K23TRT|10043 | F260: 10043 | G260: K1 | H260: 45181 | I260: 45181 | K260: 45181 | L260: 719141 | M260: Hàng hóa các loại | N260: 45204 | O260: 1000040211 | P260: =+VLOOKUP(F260,'NCC NHÁP'!$B:$H,7,0) -> -719141 | Q260: =+P260+L260 -> 0
A261: 3002179 | B261: 143 | C261: 33100000 | D261: 1102555928 | E261: K23TRT|11102 | F261: 11102 | G261: K1 | H261: 45195 | I261: 45195 | K261: 45195 | L261: 1324214 | M261: Hàng hóa các loại | N261: 45204 | O261: 1000040211 | P261: =+VLOOKUP(F261,'NCC NHÁP'!$B:$H,7,0) -> -1324214 | Q261: =+P261+L261 -> 0
A262: 3002179 | B262: 143 | C262: 33100000 | D262: 1102555837 | E262: K23TRT|10152 | F262: 10152 | G262: K1 | H262: 45182 | I262: 45182 | K262: 45182 | L262: 2696725 | M262: Hàng hóa các loại | N262: 45204 | O262: 1000040211 | P262: =+VLOOKUP(F262,'NCC NHÁP'!$B:$H,7,0) -> -2696725 | Q262: =+P262+L262 -> 0
A263: 3002179 | B263: 112 | C263: 33100000 | D263: 1102555725 | E263: K23TRT|10849 | F263: 10849 | G263: K1 | H263: 45191 | I263: 45191 | K263: 45191 | L263: 218415 | M263: Hàng hóa các loại | N263: 45204 | O263: 1000040211 | P263: =+VLOOKUP(F263,'NCC NHÁP'!$B:$H,7,0) -> -218415 | Q263: =+P263+L263 -> 0
A264: 3002179 | B264: 114 | C264: 33100000 | D264: 1102577931 | E264: K23TRT|11298 | F264: 11298 | G264: K1 | H264: 45196 | I264: 45196 | K264: 45196 | L264: 1604940 | M264: Hàng hóa các loại | N264: 45204 | O264: 1000040211 | P264: =+VLOOKUP(F264,'NCC NHÁP'!$B:$H,7,0) -> -1604940 | Q264: =+P264+L264 -> 0
A265: 3002179 | B265: 138 | C265: 33100000 | D265: 1102555611 | E265: K23TRT|10305 | F265: 10305 | G265: K1 | H265: 45187 | I265: 45187 | K265: 45187 | L265: 3326468 | M265: Hàng hóa các loại | N265: 45204 | O265: 1000040211 | P265: =+VLOOKUP(F265,'NCC NHÁP'!$B:$H,7,0) -> -3326468 | Q265: =+P265+L265 -> 0
A266: 3002179 | B266: 119 | C266: 33100000 | D266: 1102555574 | E266: K23TRT|9945 | F266: 9945 | G266: K1 | H266: 45181 | I266: 45181 | K266: 45181 | L266: 293972 | M266: Hàng hóa các loại | N266: 45204 | O266: 1000040211 | P266: =+VLOOKUP(F266,'NCC NHÁP'!$B:$H,7,0) -> -293972 | Q266: =+P266+L266 -> 0
A267: 3002179 | B267: 126 | C267: 33100000 | D267: 1102436831 | E267: K23TRT|10141 | F267: 10141 | G267: K1 | H267: 45182 | I267: 45182 | K267: 45182 | L267: 1407134 | M267: Hàng hóa các loại | N267: 45204 | O267: 1000040211 | P267: =+VLOOKUP(F267,'NCC NHÁP'!$B:$H,7,0) -> -1407134 | Q267: =+P267+L267 -> 0
... A334: 3002179 | B334: 108 | C334: 33100000 | D334: 1102052968 | E334: C23TNN|45506 | F334: 45506 | G334: K1 | H334: 45140 | I334: 45140 | K334: 45185 | L334: -2615643 | M334: Hàng hóa quầy 0480.3002179 | N334: 45204 | O334: 1000040211 | P334: =+VLOOKUP(F334,'NCC NHÁP'!$B:$H,7,0) -> 2615643 | Q334: =+P334+L334 -> 0
A335: 3002179 | B335: 3002179 | C335: 13120000 | D335: 500251207 | E335: 1K23TEB|58688 | F335: 58688 | G335: D1 | H335: 45196 | I335: 45196 | J335: M | K335: 45196 | L335: 15381526 | M335: Phí dịch vụ T08.2023 QUẦY 480 | N335: 45204 | O335: 1000040211 | P335: =+VLOOKUP(F335,'NCC NHÁP'!$B:$H,7,0) -> -15381526 | Q335: =+P335+L335 -> 0
A336: 3002179 | B336: 3002179 | C336: 13120000 | D336: 500249467 | E336: 1K23TEB|56348 | F336: 56348 | G336: D1 | H336: 45196 | I336: 45196 | J336: M | K336: 45196 | L336: 70755018 | M336: Phí dịch vụ T08.2023 QUẦY 480 | N336: 45204 | O336: 1000040211 | P336: =+VLOOKUP(F336,'NCC NHÁP'!$B:$H,7,0) -> -70755018 | Q336: =+P336+L336 -> 0
A337: 3002179 | B337: 3002179 | C337: 13120000 | D337: 500248218 | E337: 1K23TEB|54699 | F337: 54699 | G337: D1 | H337: 45196 | I337: 45196 | J337: M | K337: 45196 | L337: 18457831 | M337: Phí hỗ trợ T08.2023 QUẦY 480 | N337: 45204 | O337: 1000040211 | P337: =+VLOOKUP(F337,'NCC NHÁP'!$B:$H,7,0) -> -18457831 | Q337: =+P337+L337 -> 0
A338: 3002179 | B338: 130 | C338: 33100000 | D338: 1102181574 | E338: C23TNN|48400 | F338: 48400 | G338: K1 | H338: 45152 | I338: 45154 | K338: 45197 | L338: -216791 | M338: Hàng hóa quầy 0480.3002179 | N338: 45204 | O338: 1000040211 | P338: =+VLOOKUP(F338,'NCC NHÁP'!$B:$H,7,0) -> 216791 | Q338: =+P338+L338 -> 0
A339: 3002179 | B339: 109 | C339: 33100000 | D339: 1102181549 | E339: C23TNN|48407 | F339: 48407 | G339: K1 | H339: 45152 | I339: 45155 | K339: 45197 | L339: -1348207 | M339: Hàng hóa quầy 0480.3002179 | N339: 45204 | O339: 1000040211 | P339: =+VLOOKUP(F339,'NCC NHÁP'!$B:$H,7,0) -> 1348207 | Q339: =+P339+L339 -> 0
A340: 3002179 | B340: 135 | C340: 33100000 | D340: 1102174078 | E340: C23TNN|48073 | F340: 48073 | G340: K1 | H340: 45148 | I340: 45150 | K340: 45193 | L340: -3387226 | M340: Hàng hóa quầy 0480.3002179 | N340: 45204 | O340: 1000040211 | P340: =+VLOOKUP(F340,'NCC NHÁP'!$B:$H,7,0) -> 3387226 | Q340: =+P340+L340 -> 0
A341: 3002179 | B341: 109 | C341: 33100000 | D341: 1102181992 | E341: C23TNN|48405 | F341: 48405 | G341: K1 | H341: 45152 | I341: 45155 | K341: 45197 | L341: -1385340 | M341: Hàng hóa quầy 0480.3002179 | N341: 45204 | O341: 1000040211 | P341: =+VLOOKUP(F341,'NCC NHÁP'!$B:$H,7,0) -> 1385340 | Q341: =+P341+L341 -> 0
A342: 3002179 | B342: 108 | C342: 33100000 | D342: 1102173960 | E342: C23TNN|48551 | F342: 48551 | G342: K1 | H342: 45154 | I342: 45154 | K342: 45199 | L342: -2039018 | M342: Hàng hóa quầy 0480.3002179 | N342: 45204 | O342: 1000040211 | P342: =+VLOOKUP(F342,'NCC NHÁP'!$B:$H,7,0) -> 2039018 | Q342: =+P342+L342 -> 0
A343: 3002179 | B343: 103 | C343: 33100000 | D343: 1102173040 | E343: C23TNN|48510 | F343: 48510 | G343: K1 | H343: 45154 | I343: 45154 | K343: 45199 | L343: -1019509 | M343: Hàng hóa quầy 0480.3002179 | N343: 45204 | O343: 1000040211 | P343: =+VLOOKUP(F343,'NCC NHÁP'!$B:$H,7,0) -> 1019509 | Q343: =+P343+L343 -> 0
A344: 3002179 | B344: 111 | C344: 33100000 | D344: 1102172797 | E344: C23TNN|48467 | F344: 48467 | G344: K1 | H344: 45153 | I344: 45154 | K344: 45198 | L344: -2039018 | M344: Hàng hóa quầy 0480.3002179 | N344: 45204 | O344: 1000040211 | P344: =+VLOOKUP(F344,'NCC NHÁP'!$B:$H,7,0) -> 2039018 | Q344: =+P344+L344 -> 0
A345: 3002179 | B345: 119 | C345: 33100000 | D345: 1102172485 | E345: C23TNN|48499 | F345: 48499 | G345: K1 | H345: 45153 | I345: 45154 | K345: 45198 | L345: -650372 | M345: Hàng hóa quầy 0480.3002179 | N345: 45204 | O345: 1000040211 | P345: =+VLOOKUP(F345,'NCC NHÁP'!$B:$H,7,0) -> 650372 | Q345: =+P345+L345 -> 0
A346: 3002179 | B346: 103 | C346: 33100000 | D346: 1102172469 | E346: C23TNN|48509 | F346: 48509 | G346: K1 | H346: 45154 | I346: 45154 | K346: 45199 | L346: -1928824 | M346: Hàng hóa quầy 0480.3002179 | N346: 45204 | O346: 1000040211 | P346: =+VLOOKUP(F346,'NCC NHÁP'!$B:$H,7,0) -> 1928824 | Q346: =+P346+L346 -> 0
A347: 3002179 | B347: 122 | C347: 33100000 | D347: 1102171979 | E347: C23TNN|48548 | F347: 48548 | G347: K1 | H347: 45154 | I347: 45154 | K347: 45199 | L347: -2367716 | M347: Hàng hóa quầy 0480.3002179 | N347: 45204 | O347: 1000040211 | P347: =+VLOOKUP(F347,'NCC NHÁP'!$B:$H,7,0) -> 2367716 | Q347: =+P347+L347 -> 0
A348: 3002179 | B348: 120 | C348: 33100000 | D348: 1102171478 | E348: C23TNN|48417 | F348: 48417 | G348: K1 | H348: 45152 | I348: 45154 | K348: 45197 | L348: -1348207 | M348: Hàng hóa quầy 0480.3002179 | N348: 45204 | O348: 1000040211 | P348: =+VLOOKUP(F348,'NCC NHÁP'!$B:$H,7,0) -> 1348207 | Q348: =+P348+L348 -> 0
A349: 3002179 | B349: 111 | C349: 33100000 | D349: 1102171280 | E349: C23TNN|48468 | F349: 48468 | G349: K1 | H349: 45153 | I349: 45154 | K349: 45198 | L349: -1348207 | M349: Hàng hóa quầy 0480.3002179 | N349: 45204 | O349: 1000040211 | P349: =+VLOOKUP(F349,'NCC NHÁP'!$B:$H,7,0) -> 1348207 | Q349: =+P349+L349 -> 0
... A378: 3002179 | B378: 131 | C378: 33100000 | D378: 1102150479 | E378: C23TNN|46920 | F378: 46920 | G378: K1 | H378: 45145 | I378: 45149 | K378: 45190 | L378: -3048391 | M378: Hàng hóa quầy 0480.3002179 | N378: 45204 | O378: 1000040211 | P378: =+VLOOKUP(F378,'NCC NHÁP'!$B:$H,7,0) -> 3048391 | Q378: =+P378+L378 -> 0
A379: 3002179 | L379: -730248789 | P379: =+VLOOKUP(F379,'NCC NHÁP'!$B:$H,7,0) -> #N/A | Q379: =+P379+L379 -> #N/A
L380: -730248789 | P380: =+VLOOKUP(F380,'NCC NHÁP'!$B:$H,7,0) -> #N/A | Q380: =+P380+L380 -> #N/A

Sheet NCC NHÁP
A1: Ngày hóa đơn | B1: Số hóa đơn | C1: Ký hiệu HĐ | D1: Diễn giải | E1: Doanh số bán chưa có thuế GTGT | F1: Thuế suất | G1: Thuế GTGT | H1: Thành tiền | I1: Tên người mua | J1: Mã số thuế người mua | K1: Ngày đến hạn thanh toán | L1: KH thanh toán | M1: Chênh lệch | N1: Ngày thanh toán | O1: NOTE XONG | P1: Lệch thuế do CK KH chưa ghi nhận hóa đơn | Q1: Note | R1: EB | S1: Chênh lệch | T1: Note
A2: 45140 | B2: 45506 | C2: 1C23TNN | D2: BigC Gò Vấp | E2: 2421892 | F2: 8% | G2: 193751 | H2: =+E2+G2 -> 2615643 | I2: Công ty TNHH dịch vụ EB | J2: 0105696842 | K2: =48+A2 -> 45188 | L2: =+VLOOKUP(B2,[1]nháp!E$1234:M$1398,9,0) -> -2615643 | M2: =+L2+H2 -> 0 | N2: =+VLOOKUP(B2,[1]nháp!E$1234:M$1398,8,0) -> 05.10.2023 | O2: đã TT 05.10.2023 | R2: =+VLOOKUP(B2,'EB GỬI (NHÁP)'!F:L,7,0) -> -2615643 | S2: =+R2+H2 -> 0
A3: 45141 | B3: 46622 | C3: 1C23TNN | D3: BigC Tops Market Garden | E3: 5293072 | F3: 8% | G3: 423446 | H3: =+E3+G3 -> 5716518 | I3: Công ty TNHH dịch vụ EB | J3: 0105696842 | K3: =48+A3 -> 45189 | L3: =+VLOOKUP(B3,[1]nháp!E$1234:M$1398,9,0) -> -5716518 | M3: =+L3+H3 -> 0 | N3: =+VLOOKUP(B3,[1]nháp!E$1234:M$1398,8,0) -> 05.10.2023 | O3: đã TT 05.10.2023 | R3: =+VLOOKUP(B3,'EB GỬI (NHÁP)'!F:L,7,0) -> -5716518 | S3: =+R3+H3 -> 0
A4: 45141 | B4: 46623 | C4: 1C23TNN | D4: BigC Thăng Long (104) | E4: 1715372 | F4: 8% | G4: 137230 | H4: =+E4+G4 -> 1852602 | I4: Công ty TNHH dịch vụ EB | J4: 0105696842 | K4: =48+A4 -> 45189 | L4: =+VLOOKUP(B4,[1]nháp!E$1234:M$1398,9,0) -> -1852602 | M4: =+L4+H4 -> 0 | N4: =+VLOOKUP(B4,[1]nháp!E$1234:M$1398,8,0) -> 05.10.2023 | O4: đã TT 05.10.2023 | R4: =+VLOOKUP(B4,'EB GỬI (NHÁP)'!F:L,7,0) -> -1852602 | S4: =+R4+H4 -> 0
A5: 45141 | B5: 46624 | C5: 1C23TNN | D5: BigC Long Biên | E5: 1468640 | F5: 8% | G5: 117491 | H5: =+E5+G5 -> 1586131 | I5: Công ty TNHH dịch vụ EB | J5: 0105696842 | K5: =48+A5 -> 45189 | L5: =+VLOOKUP(B5,[1]nháp!E$1234:M$1398,9,0) -> -1586131 | M5: =+L5+H5 -> 0 | N5: =+VLOOKUP(B5,[1]nháp!E$1234:M$1398,8,0) -> 05.10.2023 | O5: đã TT 05.10.2023 | R5: =+VLOOKUP(B5,'EB GỬI (NHÁP)'!F:L,7,0) -> -1586131 | S5: =+R5+H5 -> 0
A6: 45141 | B6: 46644 | C6: 1C23TNN | D6: BigC Nha Trang | E6: 1403312 | F6: 8% | G6: 112265 | H6: =+E6+G6 -> 1515577 | I6: Công ty TNHH dịch vụ EB | J6: 0105696842 | K6: =48+A6 -> 45189 | L6: =+VLOOKUP(B6,[1]nháp!E$1234:M$1398,9,0) -> -1515577 | M6: =+L6+H6 -> 0 | N6: =+VLOOKUP(B6,[1]nháp!E$1234:M$1398,8,0) -> 05.10.2023 | O6: đã TT 05.10.2023 | R6: =+VLOOKUP(B6,'EB GỬI (NHÁP)'!F:L,7,0) -> -1515577 | S6: =+R6+H6 -> 0
A7: 45141 | B7: 46645 | C7: 1C23TNN | D7: BigC Đà Nẵng | E7: 1110580 | F7: 8% | G7: 88846 | H7: =+E7+G7 -> 1199426 | I7: Công ty TNHH dịch vụ EB | J7: 0105696842 | K7: =48+A7 -> 45189 | L7: =+VLOOKUP(B7,[1]nháp!E$1234:M$1398,9,0) -> -1199426 | M7: =+L7+H7 -> 0 | N7: =+VLOOKUP(B7,[1]nháp!E$1234:M$1398,8,0) -> 05.10.2023 | O7: đã TT 05.10.2023 | R7: =+VLOOKUP(B7,'EB GỬI (NHÁP)'!F:L,7,0) -> -1199426 | S7: =+R7+H7 -> 0
A8: 45141 | B8: 46646 | C8: 1C23TNN | D8: BigC Vinh | E8: 1468640 | F8: 8% | G8: 117491 | H8: =+E8+G8 -> 1586131 | I8: Công ty TNHH dịch vụ EB | J8: 0105696842 | K8: =48+A8 -> 45189 | L8: =+VLOOKUP(B8,[1]nháp!E$1234:M$1398,9,0) -> -1586131 | M8: =+L8+H8 -> 0 | N8: =+VLOOKUP(B8,[1]nháp!E$1234:M$1398,8,0) -> 05.10.2023 | O8: đã TT 05.10.2023 | R8: =+VLOOKUP(B8,'EB GỬI (NHÁP)'!F:L,7,0) -> -1586131 | S8: =+R8+H8 -> 0
A9: 45141 | B9: 46647 | C9: 1C23TNN | D9: BigC Vĩnh Phúc | E9: 2208836 | F9: 8% | G9: 176707 | H9: =+E9+G9 -> 2385543 | I9: Công ty TNHH dịch vụ EB | J9: 0105696842 | K9: =48+A9 -> 45189 | L9: =+VLOOKUP(B9,[1]nháp!E$1234:M$1398,9,0) -> -2385543 | M9: =+L9+H9 -> 0 | N9: =+VLOOKUP(B9,[1]nháp!E$1234:M$1398,8,0) -> 05.10.2023 | O9: đã TT 05.10.2023 | R9: =+VLOOKUP(B9,'EB GỬI (NHÁP)'!F:L,7,0) -> -2385543 | S9: =+R9+H9 -> 0
A10: 45141 | B10: 46648 | C10: 1C23TNN | D10: BigC Đà Lạt | E10: 1111900 | F10: 8% | G10: 88952 | H10: =+E10+G10 -> 1200852 | I10: Công ty TNHH dịch vụ EB | J10: 0105696842 | K10: =48+A10 -> 45189 | L10: =+VLOOKUP(B10,[1]nháp!E$1234:M$1398,9,0) -> -1200852 | M10: =+L10+H10 -> 0 | N10: =+VLOOKUP(B10,[1]nháp!E$1234:M$1398,8,0) -> 05.10.2023 | O10: đã TT 05.10.2023 | R10: =+VLOOKUP(B10,'EB GỬI (NHÁP)'!F:L,7,0) -> -1200852 | S10: =+R10+H10 -> 0
A11: 45143 | B11: 46829 | C11: 1C23TNN | D11: BigC Tops Market Eco Green (Nguyễn Xiển) | E11: 4447232 | F11: 8% | G11: 355779 | H11: =+E11+G11 -> 4803011 | I11: Công ty TNHH dịch vụ EB | J11: 0105696842 | K11: =48+A11 -> 45191 | L11: =+VLOOKUP(B11,[1]nháp!E$1234:M$1398,9,0) -> -4803011 | M11: =+L11+H11 -> 0 | N11: =+VLOOKUP(B11,[1]nháp!E$1234:M$1398,8,0) -> 05.10.2023 | O11: đã TT 05.10.2023 | R11: =+VLOOKUP(B11,'EB GỬI (NHÁP)'!F:L,7,0) -> -4803011 | S11: =+R11+H11 -> 0
A12: 45145 | B12: 46911 | C12: 1C23TNN | D12: BigC Nha Trang | E12: 2779952 | F12: 8% | G12: 222396 | H12: =+E12+G12 -> 3002348 | I12: Công ty TNHH dịch vụ EB | J12: 0105696842 | K12: =48+A12 -> 45193 | L12: =+VLOOKUP(B12,[1]nháp!E$1234:M$1398,9,0) -> -3002348 | M12: =+L12+H12 -> 0 | N12: =+VLOOKUP(B12,[1]nháp!E$1234:M$1398,8,0) -> 05.10.2023 | O12: đã TT 05.10.2023 | R12: =+VLOOKUP(B12,'EB GỬI (NHÁP)'!F:L,7,0) -> -3002348 | S12: =+R12+H12 -> 0
A13: 45145 | B13: 46912 | C13: 1C23TNN | D13: BigC Vinh | E13: 1468640 | F13: 8% | G13: 117491 | H13: =+E13+G13 -> 1586131 | I13: Công ty TNHH dịch vụ EB | J13: 0105696842 | K13: =48+A13 -> 45193 | L13: =+VLOOKUP(B13,[1]nháp!E$1234:M$1398,9,0) -> -1586131 | M13: =+L13+H13 -> 0 | N13: =+VLOOKUP(B13,[1]nháp!E$1234:M$1398,8,0) -> 05.10.2023 | O13: đã TT 05.10.2023 | R13: =+VLOOKUP(B13,'EB GỬI (NHÁP)'!F:L,7,0) -> -1586131 | S13: =+R13+H13 -> 0
... A150: 45159 | B150: 49883 | C150: 1C23TNN | D150: Siêu thị GO! Nhơn Trạch | E150: 2831970 | F150: 8% | G150: 226558 | H150: =+E150+G150 -> 3058528 | I150: Công ty TNHH dịch vụ EB | J150: 0105696842 | K150: =48+A150 -> 45207 | L150: =+VLOOKUP(B150,[1]nháp!E$1234:M$1398,9,0) -> -3058528 | M150: =+L150+H150 -> 0 | N150: =+VLOOKUP(B150,[1]nháp!E$1234:M$1398,8,0) -> 05.10.2023 | O150: đã TT 05.10.2023 | R150: =+VLOOKUP(B150,'EB GỬI (NHÁP)'!F:L,7,0) -> -3058528 | S150: =+R150+H150 -> 0
A151: 45160 | B151: 49885 | C151: 1C23TNN | D151: BigC Siêu Thị GO! Nguyễn Thị Thập | E151: 1649804 | F151: 8% | G151: 131984 | H151: =+E151+G151 -> 1781788 | I151: Công ty TNHH dịch vụ EB | J151: 0105696842 | K151: =48+A151 -> 45208 | L151: =+VLOOKUP(B151,[1]nháp!E$1234:M$1398,9,0) -> #N/A | M151: =+L151+H151 -> #N/A | N151: =+VLOOKUP(B151,[1]nháp!E$1234:M$1398,8,0) -> #N/A | R151: =+VLOOKUP(B151,'EB GỬI (NHÁP)'!F:L,7,0) -> -1781788 | S151: =+R151+H151 -> 0
A152: 45160 | B152: 49895 | C152: 1C23TNN | D152: BigC Tops Market Moonlight Thủ Đức | E152: 943990 | F152: 8% | G152: 75519 | H152: =+E152+G152 -> 1019509 | I152: Công ty TNHH dịch vụ EB | J152: 0105696842 | K152: =48+A152 -> 45208 | L152: =+VLOOKUP(B152,[1]nháp!E$1234:M$1398,9,0) -> #N/A | M152: =+L152+H152 -> #N/A | N152: =+VLOOKUP(B152,[1]nháp!E$1234:M$1398,8,0) -> #N/A | R152: =+VLOOKUP(B152,'EB GỬI (NHÁP)'!F:L,7,0) -> -1019509 | S152: =+R152+H152 -> 0
A153: 45160 | B153: 49902 | C153: 1C23TNN | D153: BigC Bình Dương | E153: 2761704 | F153: 8% | G153: 220936 | H153: =+E153+G153 -> 2982640 | I153: Công ty TNHH dịch vụ EB | J153: 0105696842 | K153: =48+A153 -> 45208 | L153: =+VLOOKUP(B153,[1]nháp!E$1234:M$1398,9,0) -> #N/A | M153: =+L153+H153 -> #N/A | N153: =+VLOOKUP(B153,[1]nháp!E$1234:M$1398,8,0) -> #N/A | R153: =+VLOOKUP(B153,'EB GỬI (NHÁP)'!F:L,7,0) -> -2982640 | S153: =+R153+H153 -> 0
A154: 45160 | B154: 49914 | C154: 1C23TNN | D154: BigC Siêu thị GO! An Lạc | E154: 3136320 | F154: 8% | G154: 250906 | H154: =+E154+G154 -> 3387226 | I154: Công ty TNHH dịch vụ EB | J154: 0105696842 | K154: =48+A154 -> 45208 | L154: =+VLOOKUP(B154,[1]nháp!E$1234:M$1398,9,0) -> #N/A | M154: =+L154+H154 -> #N/A | N154: =+VLOOKUP(B154,[1]nháp!E$1234:M$1398,8,0) -> #N/A | R154: =+VLOOKUP(B154,'EB GỬI (NHÁP)'!F:L,7,0) -> -3387226 | S154: =+R154+H154 -> 0
A155: 45160 | B155: 49919 | C155: 1C23TNN | D155: BigC Tops Market Garden | E155: 2557560 | F155: 8% | G155: 204605 | H155: =+E155+G155 -> 2762165 | I155: Công ty TNHH dịch vụ EB | J155: 0105696842 | K155: =48+A155 -> 45208 | L155: =+VLOOKUP(B155,[1]nháp!E$1234:M$1398,9,0) -> #N/A | M155: =+L155+H155 -> #N/A | N155: =+VLOOKUP(B155,[1]nháp!E$1234:M$1398,8,0) -> #N/A | R155: =+VLOOKUP(B155,'EB GỬI (NHÁP)'!F:L,7,0) -> -2762165 | S155: =+R155+H155 -> 0
A156: 45161 | B156: 49975 | C156: 1C23TNN | D156: BigC Gò Vấp | E156: 3440670 | F156: 8% | G156: 275254 | H156: =+E156+G156 -> 3715924 | I156: Công ty TNHH dịch vụ EB | J156: 0105696842 | K156: =48+A156 -> 45209 | L156: =+VLOOKUP(B156,[1]nháp!E$1234:M$1398,9,0) -> #N/A | M156: =+L156+H156 -> #N/A | N156: =+VLOOKUP(B156,[1]nháp!E$1234:M$1398,8,0) -> #N/A | R156: =+VLOOKUP(B156,'EB GỬI (NHÁP)'!F:L,7,0) -> -3715924 | S156: =+R156+H156 -> 0
A157: 45161 | B157: 49976 | C157: 1C23TNN | D157: BigC Gò Vấp | E157: 943990 | F157: 8% | G157: 75519 | H157: =+E157+G157 -> 1019509 | I157: Công ty TNHH dịch vụ EB | J157: 0105696842 | K157: =48+A157 -> 45209 | L157: =+VLOOKUP(B157,[1]nháp!E$1234:M$1398,9,0) -> #N/A | M157: =+L157+H157 -> #N/A | N157: =+VLOOKUP(B157,[1]nháp!E$1234:M$1398,8,0) -> #N/A | R157: =+VLOOKUP(B157,'EB GỬI (NHÁP)'!F:L,7,0) -> -1019509 | S157: =+R157+H157 -> 0
A158: 45161 | B158: 49977 | C158: 1C23TNN | D158: BigC Gò Vấp | E158: 1248340 | F158: 8% | G158: 99867 | H158: =+E158+G158 -> 1348207 | I158: Công ty TNHH dịch vụ EB | J158: 0105696842 | K158: =48+A158 -> 45209 | L158: =+VLOOKUP(B158,[1]nháp!E$1234:M$1398,9,0) -> #N/A | M158: =+L158+H158 -> #N/A | N158: =+VLOOKUP(B158,[1]nháp!E$1234:M$1398,8,0) -> #N/A | R158: =+VLOOKUP(B158,'EB GỬI (NHÁP)'!F:L,7,0) -> -1348207 | S158: =+R158+H158 -> 0
A159: 45161 | B159: 50000 | C159: 1C23TNN | D159: BigC Siêu thị GO! An Lạc | E159: 11622844 | F159: 8% | G159: 929828 | H159: =+E159+G159 -> 12552672 | I159: Công ty TNHH dịch vụ EB | J159: 0105696842 | K159: =48+A159 -> 45209 | L159: =+VLOOKUP(B159,[1]nháp!E$1234:M$1398,9,0) -> #N/A | M159: =+L159+H159 -> #N/A | N159: =+VLOOKUP(B159,[1]nháp!E$1234:M$1398,8,0) -> #N/A | R159: =+VLOOKUP(B159,'EB GỬI (NHÁP)'!F:L,7,0) -> -12552672 | S159: =+R159+H159 -> 0
A160: 45161 | B160: 50004 | C160: 1C23TNN | D160: BigC Thăng Long (104) | E160: 4986856 | F160: 8% | G160: 398948 | H160: =+E160+G160 -> 5385804 | I160: Công ty TNHH dịch vụ EB | J160: 0105696842 | K160: =48+A160 -> 45209 | L160: =+VLOOKUP(B160,[1]nháp!E$1234:M$1398,9,0) -> #N/A | M160: =+L160+H160 -> #N/A | N160: =+VLOOKUP(B160,[1]nháp!E$1234:M$1398,8,0) -> #N/A | R160: =+VLOOKUP(B160,'EB GỬI (NHÁP)'!F:L,7,0) -> -5385804 | S160: =+R160+H160 -> 0
A161: 45161 | B161: 50006 | C161: 1C23TNN | D161: BigC TOPS MARKET HỒ GƯƠM (132) | E161: 1248340 | F161: 8% | G161: 99867 | H161: =+E161+G161 -> 1348207 | I161: Công ty TNHH dịch vụ EB | J161: 0105696842 | K161: =48+A161 -> 45209 | L161: =+VLOOKUP(B161,[1]nháp!E$1234:M$1398,9,0) -> #N/A | M161: =+L161+H161 -> #N/A | N161: =+VLOOKUP(B161,[1]nháp!E$1234:M$1398,8,0) -> #N/A | R161: =+VLOOKUP(B161,'EB GỬI (NHÁP)'!F:L,7,0) -> -1348207 | S161: =+R161+H161 -> 0
A162: 45162 | B162: 51156 | C162: 1C23TNN | D162: BigC Nha Trang | E162: 2593794 | F162: 8% | G162: 207504 | H162: =+E162+G162 -> 2801298 | I162: Công ty TNHH dịch vụ EB | J162: 0105696842 | K162: =48+A162 -> 45210 | L162: =+VLOOKUP(B162,[1]nháp!E$1234:M$1398,9,0) -> #N/A | M162: =+L162+H162 -> #N/A | N162: =+VLOOKUP(B162,[1]nháp!E$1234:M$1398,8,0) -> #N/A | R162: =+VLOOKUP(B162,'EB GỬI (NHÁP)'!F:L,7,0) -> -2801298 | S162: =+R162+H162 -> 0
... A282: 45180 | B282: 54853 | C282: 1C23TNN | D282: Siêu thị GO! Nhơn Trạch | E282: 5552900 | F282: 8% | G282: 444232 | H282: =+E282+G282 -> 5997132 | I282: Công ty TNHH dịch vụ EB | J282: 0105696842 | K282: =48+A282 -> 45228 | L282: =+VLOOKUP(B282,[1]nháp!E$1234:M$1398,9,0) -> #N/A | M282: =+L282+H282 -> #N/A | N282: =+VLOOKUP(B282,[1]nháp!E$1234:M$1398,8,0) -> #N/A | R282: =+VLOOKUP(B282,'EB GỬI (NHÁP)'!F:L,7,0) -> -5997132 | S282: =+R282+H282 -> 0
A283: 45181 | B283: 9945 | C283: 1K23TRT | D283: Hàng trả - BigC Mê Linh - eb2907 | E283: -272196 | F283: 8% | G283: -21776 | H283: =+E283+G283 -> -293972 | I283: Công ty TNHH dịch vụ EB | J283: 0105696842 | K283: =48+A283 -> 45229 | L283: =+VLOOKUP(B283,[1]nháp!E$1234:M$1398,9,0) -> 293972 | M283: =+L283+H283 -> 0 | N283: =+VLOOKUP(B283,[1]nháp!E$1234:M$1398,8,0) -> 05.10.2023 | O283: đã TT 05.10.2023 | R283: =+VLOOKUP(B283,'EB GỬI (NHÁP)'!F:L,7,0) -> 293972 | S283: =+R283+H283 -> 0
A284: 45181 | B284: 10043 | C284: 1K23TRT | D284: Hàng trả - phiếu MH002749 - eb7600 | E284: -665871 | F284: 8% | G284: -53270 | H284: =+E284+G284 -> -719141 | I284: Công ty TNHH dịch vụ EB | J284: 0105696842 | K284: =48+A284 -> 45229 | L284: =+VLOOKUP(B284,[1]nháp!E$1234:M$1398,9,0) -> 719141 | M284: =+L284+H284 -> 0 | N284: =+VLOOKUP(B284,[1]nháp!E$1234:M$1398,8,0) -> 05.10.2023 | O284: đã TT 05.10.2023 | R284: =+VLOOKUP(B284,'EB GỬI (NHÁP)'!F:L,7,0) -> 719141 | S284: =+R284+H284 -> 0
A285: 45181 | B285: 54866 | C285: 1C23TNN | D285: BigC Tops Market An Phú | E285: 3689800 | F285: 8% | G285: 295184 | H285: =+E285+G285 -> 3984984 | I285: Công ty TNHH dịch vụ EB | J285: 0105696842 | K285: =48+A285 -> 45229 | L285: =+VLOOKUP(B285,[1]nháp!E$1234:M$1398,9,0) -> #N/A | M285: =+L285+H285 -> #N/A | N285: =+VLOOKUP(B285,[1]nháp!E$1234:M$1398,8,0) -> #N/A | R285: =+VLOOKUP(B285,'EB GỬI (NHÁP)'!F:L,7,0) -> -3984984 | S285: =+R285+H285 -> 0
A286: 45181 | B286: 54876 | C286: 1C23TNN | D286: BigC Tân Hiệp | E286: 1110580 | F286: 8% | G286: 88846 | H286: =+E286+G286 -> 1199426 | I286: Công ty TNHH dịch vụ EB | J286: 0105696842 | K286: =48+A286 -> 45229 | L286: =+VLOOKUP(B286,[1]nháp!E$1234:M$1398,9,0) -> #N/A | M286: =+L286+H286 -> #N/A | N286: =+VLOOKUP(B286,[1]nháp!E$1234:M$1398,8,0) -> #N/A | R286: =+VLOOKUP(B286,'EB GỬI (NHÁP)'!F:L,7,0) -> -1199426 | S286: =+R286+H286 -> 0
A287: 45181 | B287: 54877 | C287: 1C23TNN | D287: BigC Đồng Nai | E287: 4892100 | F287: 8% | G287: 391368 | H287: =+E287+G287 -> 5283468 | I287: Công ty TNHH dịch vụ EB | J287: 0105696842 | K287: =48+A287 -> 45229 | L287: =+VLOOKUP(B287,[1]nháp!E$1234:M$1398,9,0) -> #N/A | M287: =+L287+H287 -> #N/A | N287: =+VLOOKUP(B287,[1]nháp!E$1234:M$1398,8,0) -> #N/A | R287: =+VLOOKUP(B287,'EB GỬI (NHÁP)'!F:L,7,0) -> -5283468 | S287: =+R287+H287 -> 0
A288: 45181 | B288: 54880 | C288: 1C23TNN | D288: BigC Dĩ An | E288: 2579220 | F288: 8% | G288: 206338 | H288: =+E288+G288 -> 2785558 | I288: Công ty TNHH dịch vụ EB | J288: 0105696842 | K288: =48+A288 -> 45229 | L288: =+VLOOKUP(B288,[1]nháp!E$1234:M$1398,9,0) -> #N/A | M288: =+L288+H288 -> #N/A | N288: =+VLOOKUP(B288,[1]nháp!E$1234:M$1398,8,0) -> #N/A | R288: =+VLOOKUP(B288,'EB GỬI (NHÁP)'!F:L,7,0) -> -2785558 | S288: =+R288+H288 -> 0
A289: 45181 | B289: 54902 | C289: 1C23TNN | D289: BigC Long Biên | E289: 1468640 | F289: 8% | G289: 117491 | H289: =+E289+G289 -> 1586131 | I289: Công ty TNHH dịch vụ EB | J289: 0105696842 | K289: =48+A289 -> 45229 | L289: =+VLOOKUP(B289,[1]nháp!E$1234:M$1398,9,0) -> #N/A | M289: =+L289+H289 -> #N/A | N289: =+VLOOKUP(B289,[1]nháp!E$1234:M$1398,8,0) -> #N/A | R289: =+VLOOKUP(B289,'EB GỬI (NHÁP)'!F:L,7,0) -> -1586131 | S289: =+R289+H289 -> 0
A290: 45181 | B290: 54903 | C290: 1C23TNN | D290: BigC Tops Market Garden | E290: 1110580 | F290: 8% | G290: 88846 | H290: =+E290+G290 -> 1199426 | I290: Công ty TNHH dịch vụ EB | J290: 0105696842 | K290: =48+A290 -> 45229 | L290: =+VLOOKUP(B290,[1]nháp!E$1234:M$1398,9,0) -> #N/A | M290: =+L290+H290 -> #N/A | N290: =+VLOOKUP(B290,[1]nháp!E$1234:M$1398,8,0) -> #N/A | R290: =+VLOOKUP(B290,'EB GỬI (NHÁP)'!F:L,7,0) -> -1199426 | S290: =+R290+H290 -> 0
A291: 45181 | B291: 54904 | C291: 1C23TNN | D291: BigC Thăng Long (104) | E291: 1512044 | F291: 8% | G291: 120964 | H291: =+E291+G291 -> 1633008 | I291: Công ty TNHH dịch vụ EB | J291: 0105696842 | K291: =48+A291 -> 45229 | L291: =+VLOOKUP(B291,[1]nháp!E$1234:M$1398,9,0) -> #N/A | M291: =+L291+H291 -> #N/A | N291: =+VLOOKUP(B291,[1]nháp!E$1234:M$1398,8,0) -> #N/A | R291: =+VLOOKUP(B291,'EB GỬI (NHÁP)'!F:L,7,0) -> -1633008 | S291: =+R291+H291 -> 0
A292: 45181 | B292: 54905 | C292: 1C23TNN | D292: BigC Tops Market Lê Trọng Tấn | E292: 6110920 | F292: 8% | G292: 488874 | H292: =+E292+G292 -> 6599794 | I292: Công ty TNHH dịch vụ EB | J292: 0105696842 | K292: =48+A292 -> 45229 | L292: =+VLOOKUP(B292,[1]nháp!E$1234:M$1398,9,0) -> #N/A | M292: =+L292+H292 -> #N/A | N292: =+VLOOKUP(B292,[1]nháp!E$1234:M$1398,8,0) -> #N/A | R292: =+VLOOKUP(B292,'EB GỬI (NHÁP)'!F:L,7,0) -> -6599794 | S292: =+R292+H292 -> 0
A293: 45182 | B293: 10141 | C293: 1K23TRT | D293: Hàng trả - phiếu MH002855 - eb4900 | E293: -1279212 | F293: 10% | G293: -127922 | H293: =+E293+G293 -> -1407134 | I293: Công ty TNHH dịch vụ EB | J293: 0105696842 | K293: =48+A293 -> 45230 | L293: =+VLOOKUP(B293,[1]nháp!E$1234:M$1398,9,0) -> 1407134 | M293: =+L293+H293 -> 0 | N293: =+VLOOKUP(B293,[1]nháp!E$1234:M$1398,8,0) -> 05.10.2023 | O293: đã TT 05.10.2023 | R293: =+VLOOKUP(B293,'EB GỬI (NHÁP)'!F:L,7,0) -> 1407134 | S293: =+R293+H293 -> 0
A294: 45182 | B294: 10152 | C294: 1K23TRT | D294: Hàng trả - phiếu MH002856 - eb7200 | E294: -2496967 | F294: 8% | G294: -199758 | H294: =+E294+G294 -> -2696725 | I294: Công ty TNHH dịch vụ EB | J294: 0105696842 | K294: =48+A294 -> 45230 | L294: =+VLOOKUP(B294,[1]nháp!E$1234:M$1398,9,0) -> 2696725 | M294: =+L294+H294 -> 0 | N294: =+VLOOKUP(B294,[1]nháp!E$1234:M$1398,8,0) -> 05.10.2023 | O294: đã TT 05.10.2023 | R294: =+VLOOKUP(B294,'EB GỬI (NHÁP)'!F:L,7,0) -> 2696725 | S294: =+R294+H294 -> 0
A295: 45182 | B295: 54927 | C295: 1C23TNN | D295: BigC Miền Đông | E295: 1156580 | F295: 8% | G295: 92526 | H295: =+E295+G295 -> 1249106 | I295: Công ty TNHH dịch vụ EB | J295: 0105696842 | K295: =48+A295 -> 45230 | L295: =+VLOOKUP(B295,[1]nháp!E$1234:M$1398,9,0) -> #N/A | M295: =+L295+H295 -> #N/A | N295: =+VLOOKUP(B295,[1]nháp!E$1234:M$1398,8,0) -> #N/A | R295: =+VLOOKUP(B295,'EB GỬI (NHÁP)'!F:L,7,0) -> -1249106 | S295: =+R295+H295 -> 0
A296: 45182 | B296: 54956 | C296: 1C23TNN | D296: BigC Siêu thị GO! Phú Thạnh | E296: 1110580 | F296: 8% | G296: 88846 | H296: =+E296+G296 -> 1199426 | I296: Công ty TNHH dịch vụ EB | J296: 0105696842 | K296: =48+A296 -> 45230 | L296: =+VLOOKUP(B296,[1]nháp!E$1234:M$1398,9,0) -> #N/A | M296: =+L296+H296 -> #N/A | N296: =+VLOOKUP(B296,[1]nháp!E$1234:M$1398,8,0) -> #N/A | R296: =+VLOOKUP(B296,'EB GỬI (NHÁP)'!F:L,7,0) -> -1199426 | S296: =+R296+H296 -> 0
A297: 45182 | B297: 54961 | C297: 1C23TNN | D297: BigC Siêu thị GO! An Lạc | E297: 1468640 | F297: 8% | G297: 117491 | H297: =+E297+G297 -> 1586131 | I297: Công ty TNHH dịch vụ EB | J297: 0105696842 | K297: =48+A297 -> 45230 | L297: =+VLOOKUP(B297,[1]nháp!E$1234:M$1398,9,0) -> #N/A | M297: =+L297+H297 -> #N/A | N297: =+VLOOKUP(B297,[1]nháp!E$1234:M$1398,8,0) -> #N/A | R297: =+VLOOKUP(B297,'EB GỬI (NHÁP)'!F:L,7,0) -> -1586131 | S297: =+R297+H297 -> 0
A298: 45183 | B298: 55040 | C298: 1C23TNN | D298: BigC Siêu Thị GO! Nguyễn Thị Thập | E298: 1468640 | F298: 8% | G298: 117491 | H298: =+E298+G298 -> 1586131 | I298: Công ty TNHH dịch vụ EB | J298: 0105696842 | K298: =48+A298 -> 45231 | L298: =+VLOOKUP(B298,[1]nháp!E$1234:M$1398,9,0) -> #N/A | M298: =+L298+H298 -> #N/A | N298: =+VLOOKUP(B298,[1]nháp!E$1234:M$1398,8,0) -> #N/A | R298: =+VLOOKUP(B298,'EB GỬI (NHÁP)'!F:L,7,0) -> -1586131 | S298: =+R298+H298 -> 0
A299: 45183 | B299: 56021 | C299: 1C23TNN | D299: BigC Tops Market Eco Green (Nguyễn Xiển) | E299: 3530380 | F299: 8% | G299: 282430 | H299: =+E299+G299 -> 3812810 | I299: Công ty TNHH dịch vụ EB | J299: 0105696842 | K299: =48+A299 -> 45231 | L299: =+VLOOKUP(B299,[1]nháp!E$1234:M$1398,9,0) -> #N/A | M299: =+L299+H299 -> #N/A | N299: =+VLOOKUP(B299,[1]nháp!E$1234:M$1398,8,0) -> #N/A | R299: =+VLOOKUP(B299,'EB GỬI (NHÁP)'!F:L,7,0) -> -3812810 | S299: =+R299+H299 -> 0
A300: 45183 | B300: 56023 | C300: 1C23TNN | D300: BigC Quy Nhơn | E300: 1468640 | F300: 8% | G300: 117491 | H300: =+E300+G300 -> 1586131 | I300: Công ty TNHH dịch vụ EB | J300: 0105696842 | K300: =48+A300 -> 45231 | L300: =+VLOOKUP(B300,[1]nháp!E$1234:M$1398,9,0) -> #N/A | M300: =+L300+H300 -> #N/A | N300: =+VLOOKUP(B300,[1]nháp!E$1234:M$1398,8,0) -> #N/A | R300: =+VLOOKUP(B300,'EB GỬI (NHÁP)'!F:L,7,0) -> -1586131 | S300: =+R300+H300 -> 0
A301: 45183 | B301: 56024 | C301: 1C23TNN | D301: BigC Hải Phòng | E301: 1110580 | F301: 8% | G301: 88846 | H301: =+E301+G301 -> 1199426 | I301: Công ty TNHH dịch vụ EB | J301: 0105696842 | K301: =48+A301 -> 45231 | L301: =+VLOOKUP(B301,[1]nháp!E$1234:M$1398,9,0) -> #N/A | M301: =+L301+H301 -> #N/A | N301: =+VLOOKUP(B301,[1]nháp!E$1234:M$1398,8,0) -> #N/A | R301: =+VLOOKUP(B301,'EB GỬI (NHÁP)'!F:L,7,0) -> -1199426 | S301: =+R301+H301 -> 0
A302: 45183 | B302: 56025 | C302: 1C23TNN | D302: BigC Vĩnh Phúc | E302: 1513364 | F302: 8% | G302: 121069 | H302: =+E302+G302 -> 1634433 | I302: Công ty TNHH dịch vụ EB | J302: 0105696842 | K302: =48+A302 -> 45231 | L302: =+VLOOKUP(B302,[1]nháp!E$1234:M$1398,9,0) -> #N/A | M302: =+L302+H302 -> #N/A | N302: =+VLOOKUP(B302,[1]nháp!E$1234:M$1398,8,0) -> #N/A | R302: =+VLOOKUP(B302,'EB GỬI (NHÁP)'!F:L,7,0) -> -1634433 | S302: =+R302+H302 -> 0
A303: 45183 | B303: 56026 | C303: 1C23TNN | D303: BigC Đà Lạt | E303: 3689800 | F303: 8% | G303: 295184 | H303: =+E303+G303 -> 3984984 | I303: Công ty TNHH dịch vụ EB | J303: 0105696842 | K303: =48+A303 -> 45231 | L303: =+VLOOKUP(B303,[1]nháp!E$1234:M$1398,9,0) -> #N/A | M303: =+L303+H303 -> #N/A | N303: =+VLOOKUP(B303,[1]nháp!E$1234:M$1398,8,0) -> #N/A | R303: =+VLOOKUP(B303,'EB GỬI (NHÁP)'!F:L,7,0) -> -3984984 | S303: =+R303+H303 -> 0
A304: 45183 | B304: 56027 | C304: 1C23TNN | D304: BigC Hạ Long | E304: 2221160 | F304: 8% | G304: 177693 | H304: =+E304+G304 -> 2398853 | I304: Công ty TNHH dịch vụ EB | J304: 0105696842 | K304: =48+A304 -> 45231 | L304: =+VLOOKUP(B304,[1]nháp!E$1234:M$1398,9,0) -> #N/A | M304: =+L304+H304 -> #N/A | N304: =+VLOOKUP(B304,[1]nháp!E$1234:M$1398,8,0) -> #N/A | R304: =+VLOOKUP(B304,'EB GỬI (NHÁP)'!F:L,7,0) -> -2398853 | S304: =+R304+H304 -> 0
A305: 45183 | B305: 56028 | C305: 1C23TNN | D305: BigC Mỹ Tho | E305: 1972044 | F305: 8% | G305: 157764 | H305: =+E305+G305 -> 2129808 | I305: Công ty TNHH dịch vụ EB | J305: 0105696842 | K305: =48+A305 -> 45231 | L305: =+VLOOKUP(B305,[1]nháp!E$1234:M$1398,9,0) -> #N/A | M305: =+L305+H305 -> #N/A | N305: =+VLOOKUP(B305,[1]nháp!E$1234:M$1398,8,0) -> #N/A | R305: =+VLOOKUP(B305,'EB GỬI (NHÁP)'!F:L,7,0) -> -2129808 | S305: =+R305+H305 -> 0
A306: 45184 | B306: 56052 | C306: 1C23TNN | D306: BigC Tops Market Garden | E306: 1110580 | F306: 8% | G306: 88846 | H306: =+E306+G306 -> 1199426 | I306: Công ty TNHH dịch vụ EB | J306: 0105696842 | K306: =48+A306 -> 45232 | L306: =+VLOOKUP(B306,[1]nháp!E$1234:M$1398,9,0) -> #N/A | M306: =+L306+H306 -> #N/A | N306: =+VLOOKUP(B306,[1]nháp!E$1234:M$1398,8,0) -> #N/A | R306: =+VLOOKUP(B306,'EB GỬI (NHÁP)'!F:L,7,0) -> -1199426 | S306: =+R306+H306 -> 0
... A308: 45184 | B308: 56055 | C308: 1C23TNN | D308: BigC Thăng Long (104) | E308: 1512044 | F308: 8% | G308: 120964 | H308: =+E308+G308 -> 1633008 | I308: Công ty TNHH dịch vụ EB | J308: 0105696842 | K308: =48+A308 -> 45232 | L308: =+VLOOKUP(B308,[1]nháp!E$1234:M$1398,9,0) -> #N/A | M308: =+L308+H308 -> #N/A | N308: =+VLOOKUP(B308,[1]nháp!E$1234:M$1398,8,0) -> #N/A | R308: =+VLOOKUP(B308,'EB GỬI (NHÁP)'!F:L,7,0) -> -1633008 | S308: =+R308+H308 -> 0
A309: 45187 | B309: 10305 | C309: 1K23TRT | D309: Hàng trả - phiếu MH002653 - eb2903 | E309: -3024061 | F309: 10% | G309: -302407 | H309: =+E309+G309 -> -3326468 | I309: Công ty TNHH dịch vụ EB | J309: 0105696842 | K309: =48+A309 -> 45235 | L309: =+VLOOKUP(B309,[1]nháp!E$1234:M$1398,9,0) -> 3326468 | M309: =+L309+H309 -> 0 | N309: =+VLOOKUP(B309,[1]nháp!E$1234:M$1398,8,0) -> 05.10.2023 | O309: đã TT 05.10.2023 | R309: =+VLOOKUP(B309,'EB GỬI (NHÁP)'!F:L,7,0) -> 3326468 | S309: =+R309+H309 -> 0
A310: 45187 | B310: 56323 | C310: 1C23TNN | D310: BigC Nha Trang | E310: 1110580 | F310: 8% | G310: 88846 | H310: =+E310+G310 -> 1199426 | I310: Công ty TNHH dịch vụ EB | J310: 0105696842 | K310: =48+A310 -> 45235 | L310: =+VLOOKUP(B310,[1]nháp!E$1234:M$1398,9,0) -> #N/A | M310: =+L310+H310 -> #N/A | N310: =+VLOOKUP(B310,[1]nháp!E$1234:M$1398,8,0) -> #N/A | R310: =+VLOOKUP(B310,'EB GỬI (NHÁP)'!F:L,7,0) -> -1199426 | S310: =+R310+H310 -> 0
A311: 45187 | B311: 56324 | C311: 1C23TNN | D311: BigC Huế | E311: 1403312 | F311: 8% | G311: 112265 | H311: =+E311+G311 -> 1515577 | I311: Công ty TNHH dịch vụ EB | J311: 0105696842 | K311: =48+A311 -> 45235 | L311: =+VLOOKUP(B311,[1]nháp!E$1234:M$1398,9,0) -> #N/A | M311: =+L311+H311 -> #N/A | N311: =+VLOOKUP(B311,[1]nháp!E$1234:M$1398,8,0) -> #N/A | R311: =+VLOOKUP(B311,'EB GỬI (NHÁP)'!F:L,7,0) -> -1515577 | S311: =+R311+H311 -> 0
A312: 45187 | B312: 56325 | C312: 1C23TNN | D312: BigC Ninh Bình | E312: 1807372 | F312: 8% | G312: 144590 | H312: =+E312+G312 -> 1951962 | I312: Công ty TNHH dịch vụ EB | J312: 0105696842 | K312: =48+A312 -> 45235 | L312: =+VLOOKUP(B312,[1]nháp!E$1234:M$1398,9,0) -> #N/A | M312: =+L312+H312 -> #N/A | N312: =+VLOOKUP(B312,[1]nháp!E$1234:M$1398,8,0) -> #N/A | R312: =+VLOOKUP(B312,'EB GỬI (NHÁP)'!F:L,7,0) -> -1951962 | S312: =+R312+H312 -> 0
A313: 45187 | B313: 56326 | C313: 1C23TNN | D313: BigC Nam Định | E313: 1468640 | F313: 8% | G313: 117491 | H313: =+E313+G313 -> 1586131 | I313: Công ty TNHH dịch vụ EB | J313: 0105696842 | K313: =48+A313 -> 45235 | L313: =+VLOOKUP(B313,[1]nháp!E$1234:M$1398,9,0) -> #N/A | M313: =+L313+H313 -> #N/A | N313: =+VLOOKUP(B313,[1]nháp!E$1234:M$1398,8,0) -> #N/A | R313: =+VLOOKUP(B313,'EB GỬI (NHÁP)'!F:L,7,0) -> -1586131 | S313: =+R313+H313 -> 0
A314: 45187 | B314: 56327 | C314: 1C23TNN | D314: BigC Hải Phòng | E314: 2579220 | F314: 8% | G314: 206338 | H314: =+E314+G314 -> 2785558 | I314: Công ty TNHH dịch vụ EB | J314: 0105696842 | K314: =48+A314 -> 45235 | L314: =+VLOOKUP(B314,[1]nháp!E$1234:M$1398,9,0) -> #N/A | M314: =+L314+H314 -> #N/A | N314: =+VLOOKUP(B314,[1]nháp!E$1234:M$1398,8,0) -> #N/A | R314: =+VLOOKUP(B314,'EB GỬI (NHÁP)'!F:L,7,0) -> -2785558 | S314: =+R314+H314 -> 0
A315: 45187 | B315: 56328 | C315: 1C23TNN | D315: BigC Việt Trì | E315: 1468640 | F315: 8% | G315: 117491 | H315: =+E315+G315 -> 1586131 | I315: Công ty TNHH dịch vụ EB | J315: 0105696842 | K315: =48+A315 -> 45235 | L315: =+VLOOKUP(B315,[1]nháp!E$1234:M$1398,9,0) -> #N/A | M315: =+L315+H315 -> #N/A | N315: =+VLOOKUP(B315,[1]nháp!E$1234:M$1398,8,0) -> #N/A | R315: =+VLOOKUP(B315,'EB GỬI (NHÁP)'!F:L,7,0) -> -1586131 | S315: =+R315+H315 -> 0
A316: 45187 | B316: 56329 | C316: 1C23TNN | D316: BigC Đà Lạt | E316: 1312632 | F316: 8% | G316: 105011 | H316: =+E316+G316 -> 1417643 | I316: Công ty TNHH dịch vụ EB | J316: 0105696842 | K316: =48+A316 -> 45235 | L316: =+VLOOKUP(B316,[1]nháp!E$1234:M$1398,9,0) -> #N/A | M316: =+L316+H316 -> #N/A | N316: =+VLOOKUP(B316,[1]nháp!E$1234:M$1398,8,0) -> #N/A | R316: =+VLOOKUP(B316,'EB GỬI (NHÁP)'!F:L,7,0) -> -1417643 | S316: =+R316+H316 -> 0
A317: 45187 | B317: 56330 | C317: 1C23TNN | D317: BigC Hạ Long | E317: 2100104 | F317: 8% | G317: 168008 | H317: =+E317+G317 -> 2268112 | I317: Công ty TNHH dịch vụ EB | J317: 0105696842 | K317: =48+A317 -> 45235 | L317: =+VLOOKUP(B317,[1]nháp!E$1234:M$1398,9,0) -> #N/A | M317: =+L317+H317 -> #N/A | N317: =+VLOOKUP(B317,[1]nháp!E$1234:M$1398,8,0) -> #N/A | R317: =+VLOOKUP(B317,'EB GỬI (NHÁP)'!F:L,7,0) -> -2268112 | S317: =+R317+H317 -> 0
A318: 45187 | B318: 56331 | C318: 1C23TNN | D318: BigC Bắc Giang | E318: 2937280 | F318: 8% | G318: 234982 | H318: =+E318+G318 -> 3172262 | I318: Công ty TNHH dịch vụ EB | J318: 0105696842 | K318: =48+A318 -> 45235 | L318: =+VLOOKUP(B318,[1]nháp!E$1234:M$1398,9,0) -> #N/A | M318: =+L318+H318 -> #N/A | N318: =+VLOOKUP(B318,[1]nháp!E$1234:M$1398,8,0) -> #N/A | R318: =+VLOOKUP(B318,'EB GỬI (NHÁP)'!F:L,7,0) -> -3172262 | S318: =+R318+H318 -> 0
A319: 45187 | B319: 56332 | C319: 1C23TNN | D319: BigC Buôn Ma Thuột | E319: 1110580 | F319: 8% | G319: 88846 | H319: =+E319+G319 -> 1199426 | I319: Công ty TNHH dịch vụ EB | J319: 0105696842 | K319: =48+A319 -> 45235 | L319: =+VLOOKUP(B319,[1]nháp!E$1234:M$1398,9,0) -> #N/A | M319: =+L319+H319 -> #N/A | N319: =+VLOOKUP(B319,[1]nháp!E$1234:M$1398,8,0) -> #N/A | R319: =+VLOOKUP(B319,'EB GỬI (NHÁP)'!F:L,7,0) -> -1199426 | S319: =+R319+H319 -> 0
A320: 45187 | B320: 56333 | C320: 1C23TNN | D320: BigC Thái Bình | E320: 2779952 | F320: 8% | G320: 222396 | H320: =+E320+G320 -> 3002348 | I320: Công ty TNHH dịch vụ EB | J320: 0105696842 | K320: =48+A320 -> 45235 | L320: =+VLOOKUP(B320,[1]nháp!E$1234:M$1398,9,0) -> #N/A | M320: =+L320+H320 -> #N/A | N320: =+VLOOKUP(B320,[1]nháp!E$1234:M$1398,8,0) -> #N/A | R320: =+VLOOKUP(B320,'EB GỬI (NHÁP)'!F:L,7,0) -> -3002348 | S320: =+R320+H320 -> 0
A321: 45187 | B321: 56334 | C321: 1C23TNN | D321: BigC Lào Cai | E321: 2937280 | F321: 8% | G321: 234982 | H321: =+E321+G321 -> 3172262 | I321: Công ty TNHH dịch vụ EB | J321: 0105696842 | K321: =48+A321 -> 45235 | L321: =+VLOOKUP(B321,[1]nháp!E$1234:M$1398,9,0) -> #N/A | M321: =+L321+H321 -> #N/A | N321: =+VLOOKUP(B321,[1]nháp!E$1234:M$1398,8,0) -> #N/A | R321: =+VLOOKUP(B321,'EB GỬI (NHÁP)'!F:L,7,0) -> -3172262 | S321: =+R321+H321 -> 0
... A333: 45189 | B333: 56489 | C333: 1C23TNN | D333: BigC Gò Vấp | E333: 861464 | F333: 8% | G333: 68917 | H333: =+E333+G333 -> 930381 | I333: Công ty TNHH dịch vụ EB | J333: 0105696842 | K333: =48+A333 -> 45237 | L333: =+VLOOKUP(B333,[1]nháp!E$1234:M$1398,9,0) -> #N/A | M333: =+L333+H333 -> #N/A | N333: =+VLOOKUP(B333,[1]nháp!E$1234:M$1398,8,0) -> #N/A | R333: =+VLOOKUP(B333,'EB GỬI (NHÁP)'!F:L,7,0) -> -930381 | S333: =+R333+H333 -> 0
A334: 45190 | B334: 10631 | C334: 1K23TRT | D334: Hàng trả - phiếu MH003137 - eb7900 | E334: -523688 | F334: 8% | G334: -41895 | H334: =+E334+G334 -> -565583 | I334: Công ty TNHH dịch vụ EB | J334: 0105696842 | K334: =48+A334 -> 45238 | L334: =+VLOOKUP(B334,[1]nháp!E$1234:M$1398,9,0) -> 565583 | M334: =+L334+H334 -> 0 | N334: =+VLOOKUP(B334,[1]nháp!E$1234:M$1398,8,0) -> 05.10.2023 | O334: đã TT 05.10.2023 | R334: =+VLOOKUP(B334,'EB GỬI (NHÁP)'!F:L,7,0) -> 565583 | S334: =+R334+H334 -> 0
A335: 45190 | B335: 10744 | C335: 1K23TRT | D335: Hàng trả - phiếu MH002898 - eb7100 | E335: -1360950 | F335: 8% | G335: -108875 | H335: =+E335+G335 -> -1469825 | I335: Công ty TNHH dịch vụ EB | J335: 0105696842 | K335: =48+A335 -> 45238 | L335: =+VLOOKUP(B335,[1]nháp!E$1234:M$1398,9,0) -> 1469825 | M335: =+L335+H335 -> 0 | N335: =+VLOOKUP(B335,[1]nháp!E$1234:M$1398,8,0) -> 05.10.2023 | O335: đã TT 05.10.2023 | R335: =+VLOOKUP(B335,'EB GỬI (NHÁP)'!F:L,7,0) -> 1469825 | S335: =+R335+H335 -> 0
A336: 45190 | B336: 10751 | C336: 1K23TRT | D336: Hàng trả - phiếu MH002654 - eb7100 | E336: -333570 | F336: 8% | G336: -26686 | H336: =+E336+G336 -> -360256 | I336: Công ty TNHH dịch vụ EB | J336: 0105696842 | K336: =48+A336 -> 45238 | L336: =+VLOOKUP(B336,[1]nháp!E$1234:M$1398,9,0) -> 360256 | M336: =+L336+H336 -> 0 | N336: =+VLOOKUP(B336,[1]nháp!E$1234:M$1398,8,0) -> 05.10.2023 | O336: đã TT 05.10.2023 | R336: =+VLOOKUP(B336,'EB GỬI (NHÁP)'!F:L,7,0) -> 360256 | S336: =+R336+H336 -> 0
A337: 45190 | B337: 57541 | C337: 1C23TNN | D337: BigC Tops Market Garden | E337: 2421120 | F337: 8% | G337: 193690 | H337: =+E337+G337 -> 2614810 | I337: Công ty TNHH dịch vụ EB | J337: 0105696842 | K337: =48+A337 -> 45238 | L337: =+VLOOKUP(B337,[1]nháp!E$1234:M$1398,9,0) -> #N/A | M337: =+L337+H337 -> #N/A | N337: =+VLOOKUP(B337,[1]nháp!E$1234:M$1398,8,0) -> #N/A | R337: =+VLOOKUP(B337,'EB GỬI (NHÁP)'!F:L,7,0) -> -2614810 | S337: =+R337+H337 -> 0
A338: 45190 | B338: 57545 | C338: 1C23TNN | D338: BigC Nha Trang | E338: 3225324 | F338: 8% | G338: 258026 | H338: =+E338+G338 -> 3483350 | I338: Công ty TNHH dịch vụ EB | J338: 0105696842 | K338: =48+A338 -> 45238 | L338: =+VLOOKUP(B338,[1]nháp!E$1234:M$1398,9,0) -> #N/A | M338: =+L338+H338 -> #N/A | N338: =+VLOOKUP(B338,[1]nháp!E$1234:M$1398,8,0) -> #N/A | R338: =+VLOOKUP(B338,'EB GỬI (NHÁP)'!F:L,7,0) -> -3483350 | S338: =+R338+H338 -> 0
A339: 45190 | B339: 57546 | C339: 1C23TNN | D339: BigC Quy Nhơn | E339: 1111900 | F339: 8% | G339: 88952 | H339: =+E339+G339 -> 1200852 | I339: Công ty TNHH dịch vụ EB | J339: 0105696842 | K339: =48+A339 -> 45238 | L339: =+VLOOKUP(B339,[1]nháp!E$1234:M$1398,9,0) -> #N/A | M339: =+L339+H339 -> #N/A | N339: =+VLOOKUP(B339,[1]nháp!E$1234:M$1398,8,0) -> #N/A | R339: =+VLOOKUP(B339,'EB GỬI (NHÁP)'!F:L,7,0) -> -1200852 | S339: =+R339+H339 -> 0
A340: 45190 | B340: 57547 | C340: 1C23TNN | D340: BigC Đà Nẵng | E340: 1110580 | F340: 8% | G340: 88846 | H340: =+E340+G340 -> 1199426 | I340: Công ty TNHH dịch vụ EB | J340: 0105696842 | K340: =48+A340 -> 45238 | L340: =+VLOOKUP(B340,[1]nháp!E$1234:M$1398,9,0) -> #N/A | M340: =+L340+H340 -> #N/A | N340: =+VLOOKUP(B340,[1]nháp!E$1234:M$1398,8,0) -> #N/A | R340: =+VLOOKUP(B340,'EB GỬI (NHÁP)'!F:L,7,0) -> -1199426 | S340: =+R340+H340 -> 0
A341: 45190 | B341: 57548 | C341: 1C23TNN | D341: BigC Vĩnh Phúc | E341: 1669372 | F341: 8% | G341: 133550 | H341: =+E341+G341 -> 1802922 | I341: Công ty TNHH dịch vụ EB | J341: 0105696842 | K341: =48+A341 -> 45238 | L341: =+VLOOKUP(B341,[1]nháp!E$1234:M$1398,9,0) -> #N/A | M341: =+L341+H341 -> #N/A | N341: =+VLOOKUP(B341,[1]nháp!E$1234:M$1398,8,0) -> #N/A | R341: =+VLOOKUP(B341,'EB GỬI (NHÁP)'!F:L,7,0) -> -1802922 | S341: =+R341+H341 -> 0
A342: 45190 | B342: 57549 | C342: 1C23TNN | D342: BigC Cần Thơ | E342: 1111900 | F342: 8% | G342: 88952 | H342: =+E342+G342 -> 1200852 | I342: Công ty TNHH dịch vụ EB | J342: 0105696842 | K342: =48+A342 -> 45238 | L342: =+VLOOKUP(B342,[1]nháp!E$1234:M$1398,9,0) -> #N/A | M342: =+L342+H342 -> #N/A | N342: =+VLOOKUP(B342,[1]nháp!E$1234:M$1398,8,0) -> #N/A | R342: =+VLOOKUP(B342,'EB GỬI (NHÁP)'!F:L,7,0) -> -1200852 | S342: =+R342+H342 -> 0
A343: 45190 | B343: 57550 | C343: 1C23TNN | D343: BigC Đà Lạt | E343: 1110580 | F343: 8% | G343: 88846 | H343: =+E343+G343 -> 1199426 | I343: Công ty TNHH dịch vụ EB | J343: 0105696842 | K343: =48+A343 -> 45238 | L343: =+VLOOKUP(B343,[1]nháp!E$1234:M$1398,9,0) -> #N/A | M343: =+L343+H343 -> #N/A | N343: =+VLOOKUP(B343,[1]nháp!E$1234:M$1398,8,0) -> #N/A | R343: =+VLOOKUP(B343,'EB GỬI (NHÁP)'!F:L,7,0) -> -1199426 | S343: =+R343+H343 -> 0
A344: 45190 | B344: 57551 | C344: 1C23TNN | D344: BigC Đà Lạt | E344: 4800380 | F344: 8% | G344: 384030 | H344: =+E344+G344 -> 5184410 | I344: Công ty TNHH dịch vụ EB | J344: 0105696842 | K344: =48+A344 -> 45238 | L344: =+VLOOKUP(B344,[1]nháp!E$1234:M$1398,9,0) -> #N/A | M344: =+L344+H344 -> #N/A | N344: =+VLOOKUP(B344,[1]nháp!E$1234:M$1398,8,0) -> #N/A | R344: =+VLOOKUP(B344,'EB GỬI (NHÁP)'!F:L,7,0) -> -5184410 | S344: =+R344+H344 -> 0
A345: 45191 | B345: 10849 | C345: 1K23TRT | D345: Hàng trả - Vinh - phiếu MH003089 - eb3700 | E345: -202236 | F345: 8% | G345: -16179 | H345: =+E345+G345 -> -218415 | I345: Công ty TNHH dịch vụ EB | J345: 0105696842 | K345: =48+A345 -> 45239 | L345: =+VLOOKUP(B345,[1]nháp!E$1234:M$1398,9,0) -> 218415 | M345: =+L345+H345 -> 0 | N345: =+VLOOKUP(B345,[1]nháp!E$1234:M$1398,8,0) -> 05.10.2023 | O345: đã TT 05.10.2023 | R345: =+VLOOKUP(B345,'EB GỬI (NHÁP)'!F:L,7,0) -> 218415 | S345: =+R345+H345 -> 0
A346: 45191 | B346: 57645 | C346: 1C23TNN | D346: BigC Thăng Long (104) | E346: 1512044 | F346: 8% | G346: 120964 | H346: =+E346+G346 -> 1633008 | I346: Công ty TNHH dịch vụ EB | J346: 0105696842 | K346: =48+A346 -> 45239 | L346: =+VLOOKUP(B346,[1]nháp!E$1234:M$1398,9,0) -> #N/A | M346: =+L346+H346 -> #N/A | N346: =+VLOOKUP(B346,[1]nháp!E$1234:M$1398,8,0) -> #N/A | R346: =+VLOOKUP(B346,'EB GỬI (NHÁP)'!F:L,7,0) -> -1633008 | S346: =+R346+H346 -> 0
A347: 45194 | B347: 57782 | C347: 1C23TNN | D347: BigC Nha Trang | E347: 2579220 | F347: 8% | G347: 206338 | H347: =+E347+G347 -> 2785558 | I347: Công ty TNHH dịch vụ EB | J347: 0105696842 | K347: =48+A347 -> 45242 | L347: =+VLOOKUP(B347,[1]nháp!E$1234:M$1398,9,0) -> #N/A | M347: =+L347+H347 -> #N/A | N347: =+VLOOKUP(B347,[1]nháp!E$1234:M$1398,8,0) -> #N/A | R347: =+VLOOKUP(B347,'EB GỬI (NHÁP)'!F:L,7,0) -> -2785558 | S347: =+R347+H347 -> 0
A348: 45194 | B348: 57783 | C348: 1C23TNN | D348: BigC Quy Nhơn | E348: 1468640 | F348: 8% | G348: 117491 | H348: =+E348+G348 -> 1586131 | I348: Công ty TNHH dịch vụ EB | J348: 0105696842 | K348: =48+A348 -> 45242 | L348: =+VLOOKUP(B348,[1]nháp!E$1234:M$1398,9,0) -> #N/A | M348: =+L348+H348 -> #N/A | N348: =+VLOOKUP(B348,[1]nháp!E$1234:M$1398,8,0) -> #N/A | R348: =+VLOOKUP(B348,'EB GỬI (NHÁP)'!F:L,7,0) -> -1586131 | S348: =+R348+H348 -> 0
A349: 45194 | B349: 57784 | C349: 1C23TNN | D349: BigC Hải Phòng | E349: 2671220 | F349: 8% | G349: 213698 | H349: =+E349+G349 -> 2884918 | I349: Công ty TNHH dịch vụ EB | J349: 0105696842 | K349: =48+A349 -> 45242 | L349: =+VLOOKUP(B349,[1]nháp!E$1234:M$1398,9,0) -> #N/A | M349: =+L349+H349 -> #N/A | N349: =+VLOOKUP(B349,[1]nháp!E$1234:M$1398,8,0) -> #N/A | R349: =+VLOOKUP(B349,'EB GỬI (NHÁP)'!F:L,7,0) -> -2884918 | S349: =+R349+H349 -> 0
A350: 45194 | B350: 57785 | C350: 1C23TNN | D350: BigC Cần Thơ | E350: 1468640 | F350: 8% | G350: 117491 | H350: =+E350+G350 -> 1586131 | I350: Công ty TNHH dịch vụ EB | J350: 0105696842 | K350: =48+A350 -> 45242 | L350: =+VLOOKUP(B350,[1]nháp!E$1234:M$1398,9,0) -> #N/A | M350: =+L350+H350 -> #N/A | N350: =+VLOOKUP(B350,[1]nháp!E$1234:M$1398,8,0) -> #N/A | R350: =+VLOOKUP(B350,'EB GỬI (NHÁP)'!F:L,7,0) -> -1586131 | S350: =+R350+H350 -> 0
A351: 45194 | B351: 57786 | C351: 1C23TNN | D351: BigC Bắc Giang | E351: 1111900 | F351: 8% | G351: 88952 | H351: =+E351+G351 -> 1200852 | I351: Công ty TNHH dịch vụ EB | J351: 0105696842 | K351: =48+A351 -> 45242 | L351: =+VLOOKUP(B351,[1]nháp!E$1234:M$1398,9,0) -> #N/A | M351: =+L351+H351 -> #N/A | N351: =+VLOOKUP(B351,[1]nháp!E$1234:M$1398,8,0) -> #N/A | R351: =+VLOOKUP(B351,'EB GỬI (NHÁP)'!F:L,7,0) -> -1200852 | S351: =+R351+H351 -> 0
A352: 45194 | B352: 57787 | C352: 1C23TNN | D352: BigC Buôn Ma Thuột | E352: 2579220 | F352: 8% | G352: 206338 | H352: =+E352+G352 -> 2785558 | I352: Công ty TNHH dịch vụ EB | J352: 0105696842 | K352: =48+A352 -> 45242 | L352: =+VLOOKUP(B352,[1]nháp!E$1234:M$1398,9,0) -> #N/A | M352: =+L352+H352 -> #N/A | N352: =+VLOOKUP(B352,[1]nháp!E$1234:M$1398,8,0) -> #N/A | R352: =+VLOOKUP(B352,'EB GỬI (NHÁP)'!F:L,7,0) -> -2785558 | S352: =+R352+H352 -> 0
A353: 45194 | B353: 57788 | C353: 1C23TNN | D353: BigC Bến Tre | E353: 1111900 | F353: 8% | G353: 88952 | H353: =+E353+G353 -> 1200852 | I353: Công ty TNHH dịch vụ EB | J353: 0105696842 | K353: =48+A353 -> 45242 | L353: =+VLOOKUP(B353,[1]nháp!E$1234:M$1398,9,0) -> #N/A | M353: =+L353+H353 -> #N/A | N353: =+VLOOKUP(B353,[1]nháp!E$1234:M$1398,8,0) -> #N/A | R353: =+VLOOKUP(B353,'EB GỬI (NHÁP)'!F:L,7,0) -> -1200852 | S353: =+R353+H353 -> 0
A354: 45194 | B354: 57789 | C354: 1C23TNN | D354: BigC Bà Rịa | E354: 8490180 | F354: 8% | G354: 679214 | H354: =+E354+G354 -> 9169394 | I354: Công ty TNHH dịch vụ EB | J354: 0105696842 | K354: =48+A354 -> 45242 | L354: =+VLOOKUP(B354,[1]nháp!E$1234:M$1398,9,0) -> #N/A | M354: =+L354+H354 -> #N/A | N354: =+VLOOKUP(B354,[1]nháp!E$1234:M$1398,8,0) -> #N/A | R354: =+VLOOKUP(B354,'EB GỬI (NHÁP)'!F:L,7,0) -> -9169394 | S354: =+R354+H354 -> 0
A355: 45194 | B355: 57790 | C355: 1C23TNN | D355: BigC Bà Rịa | E355: 4387912 | F355: 8% | G355: 351033 | H355: =+E355+G355 -> 4738945 | I355: Công ty TNHH dịch vụ EB | J355: 0105696842 | K355: =48+A355 -> 45242 | L355: =+VLOOKUP(B355,[1]nháp!E$1234:M$1398,9,0) -> #N/A | M355: =+L355+H355 -> #N/A | N355: =+VLOOKUP(B355,[1]nháp!E$1234:M$1398,8,0) -> #N/A | R355: =+VLOOKUP(B355,'EB GỬI (NHÁP)'!F:L,7,0) -> -4738945 | S355: =+R355+H355 -> 0
A356: 45194 | B356: 57791 | C356: 1C23TNN | D356: BigC Lào Cai | E356: 1468640 | F356: 8% | G356: 117491 | H356: =+E356+G356 -> 1586131 | I356: Công ty TNHH dịch vụ EB | J356: 0105696842 | K356: =48+A356 -> 45242 | L356: =+VLOOKUP(B356,[1]nháp!E$1234:M$1398,9,0) -> #N/A | M356: =+L356+H356 -> #N/A | N356: =+VLOOKUP(B356,[1]nháp!E$1234:M$1398,8,0) -> #N/A | R356: =+VLOOKUP(B356,'EB GỬI (NHÁP)'!F:L,7,0) -> -1586131 | S356: =+R356+H356 -> 0
A357: 45194 | B357: 57792 | C357: 1C23TNN | D357: BigC Siêu Thị GO! Tân Uyên (1504) | E357: 3024088 | F357: 8% | G357: 241927 | H357: =+E357+G357 -> 3266015 | I357: Công ty TNHH dịch vụ EB | J357: 0105696842 | K357: =48+A357 -> 45242 | L357: =+VLOOKUP(B357,[1]nháp!E$1234:M$1398,9,0) -> #N/A | M357: =+L357+H357 -> #N/A | N357: =+VLOOKUP(B357,[1]nháp!E$1234:M$1398,8,0) -> #N/A | R357: =+VLOOKUP(B357,'EB GỬI (NHÁP)'!F:L,7,0) -> -3266015 | S357: =+R357+H357 -> 0
A358: 45195 | B358: 11102 | C358: 1K23TRT | D358: Hàng trả - Bà Rịa - phiếu MH003110 - eb7200 | E358: -1226124 | F358: 8% | G358: -98090 | H358: =+E358+G358 -> -1324214 | I358: Công ty TNHH dịch vụ EB | J358: 0105696842 | K358: =48+A358 -> 45243 | L358: =+VLOOKUP(B358,[1]nháp!E$1234:M$1398,9,0) -> 1324214 | M358: =+L358+H358 -> 0 | N358: =+VLOOKUP(B358,[1]nháp!E$1234:M$1398,8,0) -> 05.10.2023 | O358: đã TT 05.10.2023 | R358: =+VLOOKUP(B358,'EB GỬI (NHÁP)'!F:L,7,0) -> 1324214 | S358: =+R358+H358 -> 0
A359: 45195 | B359: 57812 | C359: 1C23TNN | D359: BigC Đồng Nai | E359: 2579220 | F359: 8% | G359: 206338 | H359: =+E359+G359 -> 2785558 | I359: Công ty TNHH dịch vụ EB | J359: 0105696842 | K359: =48+A359 -> 45243 | L359: =+VLOOKUP(B359,[1]nháp!E$1234:M$1398,9,0) -> #N/A | M359: =+L359+H359 -> #N/A | N359: =+VLOOKUP(B359,[1]nháp!E$1234:M$1398,8,0) -> #N/A | R359: =+VLOOKUP(B359,'EB GỬI (NHÁP)'!F:L,7,0) -> -2785558 | S359: =+R359+H359 -> 0
A360: 45195 | B360: 57813 | C360: 1C23TNN | D360: BigC Đồng Nai | E360: 2222480 | F360: 8% | G360: 177798 | H360: =+E360+G360 -> 2400278 | I360: Công ty TNHH dịch vụ EB | J360: 0105696842 | K360: =48+A360 -> 45243 | L360: =+VLOOKUP(B360,[1]nháp!E$1234:M$1398,9,0) -> #N/A | M360: =+L360+H360 -> #N/A | N360: =+VLOOKUP(B360,[1]nháp!E$1234:M$1398,8,0) -> #N/A | R360: =+VLOOKUP(B360,'EB GỬI (NHÁP)'!F:L,7,0) -> -2400278 | S360: =+R360+H360 -> 0
A361: 45195 | B361: 57820 | C361: 1C23TNN | D361: BigC Tân Hiệp | E361: 1468640 | F361: 8% | G361: 117491 | H361: =+E361+G361 -> 1586131 | I361: Công ty TNHH dịch vụ EB | J361: 0105696842 | K361: =48+A361 -> 45243 | L361: =+VLOOKUP(B361,[1]nháp!E$1234:M$1398,9,0) -> #N/A | M361: =+L361+H361 -> #N/A | N361: =+VLOOKUP(B361,[1]nháp!E$1234:M$1398,8,0) -> #N/A | R361: =+VLOOKUP(B361,'EB GỬI (NHÁP)'!F:L,7,0) -> -1586131 | S361: =+R361+H361 -> 0
A362: 45195 | B362: 57844 | C362: 1C23TNN | D362: BigC Dĩ An | E362: 1514640 | F362: 8% | G362: 121171 | H362: =+E362+G362 -> 1635811 | I362: Công ty TNHH dịch vụ EB | J362: 0105696842 | K362: =48+A362 -> 45243 | L362: =+VLOOKUP(B362,[1]nháp!E$1234:M$1398,9,0) -> #N/A | M362: =+L362+H362 -> #N/A | N362: =+VLOOKUP(B362,[1]nháp!E$1234:M$1398,8,0) -> #N/A | R362: =+VLOOKUP(B362,'EB GỬI (NHÁP)'!F:L,7,0) -> -1635811 | S362: =+R362+H362 -> 0
A363: 45195 | B363: 57845 | C363: 1C23TNN | D363: BigC Bình Dương | E363: 2851852 | F363: 8% | G363: 228148 | H363: =+E363+G363 -> 3080000 | I363: Công ty TNHH dịch vụ EB | J363: 0105696842 | K363: =48+A363 -> 45243 | L363: =+VLOOKUP(B363,[1]nháp!E$1234:M$1398,9,0) -> #N/A | M363: =+L363+H363 -> #N/A | N363: =+VLOOKUP(B363,[1]nháp!E$1234:M$1398,8,0) -> #N/A | R363: =+VLOOKUP(B363,'EB GỬI (NHÁP)'!F:L,7,0) -> -3080000 | S363: =+R363+H363 -> 0
A364: 45195 | B364: 57861 | C364: 1C23TNN | D364: BigC Tops Market Garden | E364: 1110580 | F364: 8% | G364: 88846 | H364: =+E364+G364 -> 1199426 | I364: Công ty TNHH dịch vụ EB | J364: 0105696842 | K364: =48+A364 -> 45243 | L364: =+VLOOKUP(B364,[1]nháp!E$1234:M$1398,9,0) -> #N/A | M364: =+L364+H364 -> #N/A | N364: =+VLOOKUP(B364,[1]nháp!E$1234:M$1398,8,0) -> #N/A | R364: =+VLOOKUP(B364,'EB GỬI (NHÁP)'!F:L,7,0) -> -1199426 | S364: =+R364+H364 -> 0
A365: 45196 | B365: 11283 | C365: 1K23TRT | D365: Hàng trả - Lào Cai - phiếu MH003031 - eb2400 | E365: -307441 | F365: 8% | G365: -24595 | H365: =+E365+G365 -> -332036 | I365: Công ty TNHH dịch vụ EB | J365: 0105696842 | K365: =48+A365 -> 45244 | L365: =+VLOOKUP(B365,[1]nháp!E$1234:M$1398,9,0) -> 332036 | M365: =+L365+H365 -> 0 | N365: =+VLOOKUP(B365,[1]nháp!E$1234:M$1398,8,0) -> 05.10.2023 | O365: đã TT 05.10.2023 | R365: =+VLOOKUP(B365,'EB GỬI (NHÁP)'!F:L,7,0) -> 332036 | S365: =+R365+H365 -> 0
A366: 45196 | B366: 11298 | C366: 1K23TRT | D366: Hàng trả - Big C Nam Định - phiếu MH003183 - eb1800 | E366: -1486056 | F366: 8% | G366: -118884 | H366: =+E366+G366 -> -1604940 | I366: Công ty TNHH dịch vụ EB | J366: 0105696842 | K366: =48+A366 -> 45244 | L366: =+VLOOKUP(B366,[1]nháp!E$1234:M$1398,9,0) -> 1604940 | M366: =+L366+H366 -> 0 | N366: =+VLOOKUP(B366,[1]nháp!E$1234:M$1398,8,0) -> 05.10.2023 | O366: đã TT 05.10.2023 | R366: =+VLOOKUP(B366,'EB GỬI (NHÁP)'!F:L,7,0) -> 1604940 | S366: =+R366+H366 -> 0
A367: 45196 | B367: 57893 | C367: 1C23TNN | D367: BigC Siêu thị GO! An Lạc | E367: 1468640 | F367: 8% | G367: 117491 | H367: =+E367+G367 -> 1586131 | I367: Công ty TNHH dịch vụ EB | J367: 0105696842 | K367: =48+A367 -> 45244 | L367: =+VLOOKUP(B367,[1]nháp!E$1234:M$1398,9,0) -> #N/A | M367: =+L367+H367 -> #N/A | N367: =+VLOOKUP(B367,[1]nháp!E$1234:M$1398,8,0) -> #N/A | R367: =+VLOOKUP(B367,'EB GỬI (NHÁP)'!F:L,7,0) -> -1586131 | S367: =+R367+H367 -> 0
...
