Workbook

Sheet Sheet1
A1: Account | B1: Assignment | C1: G/L Account | D1: Document Number | E1: Reference | F1: Document type | G1: Document Date | H1: Posting Date | I1: Special G/L ind. | J1: Payment date | K1: Amount in local currency | L1: Text | M1: Clearing date | N1: Clearing Document
A2: 3002179 | B2: 107 | C2: 33100000 | D2: 1102462944 | E2: C23TNN|54835 | F2: K1 | G2: 45180 | H2: 45183 | J2: 45225 | K2: -1199426 | L2: Hàng hóa quầy 0480.3002179
A3: 3002179 | B3: 106 | C3: 33100000 | D3: 1102468634 | E3: C23TNN|54838 | F3: K1 | G3: 45180 | H3: 45184 | J3: 45225 | K3: -1249106 | L3: Hàng hóa quầy 0480.3002179
A4: 3002179 | B4: 110 | C4: 33100000 | D4: 1102468882 | E4: C23TNN|54903 | F4: K1 | G4: 45181 | H4: 45184 | J4: 45226 | K4: -1199426 | L4: Hàng hóa quầy 0480.3002179
A5: 3002179 | B5: 1504 | C5: 33100000 | D5: 1102469931 | E5: C23TNN|54851 | F5: K1 | G5: 45180 | H5: 45183 | J5: 45225 | K5: -1199426 | L5: Hàng hóa quầy 0480.3002179
A6: 3002179 | B6: 133 | C6: 33100000 | D6: 1102471301 | E6: C23TNN|55040 | F6: K1 | G6: 45183 | H6: 45183 | J6: 45228 | K6: -1586131 | L6: Hàng hóa quầy 0480.3002179
A7: 3002179 | B7: 139 | C7: 33100000 | D7: 1102471306 | E7: C23TNN|54841 | F7: K1 | G7: 45180 | H7: 45183 | J7: 45225 | K7: -5597662 | L7: Hàng hóa quầy 0480.3002179
A8: 3002179 | B8: 116 | C8: 33100000 | D8: 1102479625 | E8: C23TNN|54902 | F8: K1 | G8: 45181 | H8: 45185 | J8: 45226 | K8: -1586131 | L8: Hàng hóa quầy 0480.3002179
A9: 3002179 | B9: 135 | C9: 33100000 | D9: 1102480688 | E9: C23TNN|54905 | F9: K1 | G9: 45181 | H9: 45184 | J9: 45226 | K9: -6599794 | L9: Hàng hóa quầy 0480.3002179
A10: 3002179 | B10: 104 | C10: 33100000 | D10: 1102481038 | E10: C23TNN|56054 | F10: K1 | G10: 45184 | H10: 45185 | J10: 45229 | K10: -1416217 | L10: Hàng hóa quầy 0480.3002179
A11: 3002179 | B11: 110 | C11: 33100000 | D11: 1102482909 | E11: C23TNN|56052 | F11: K1 | G11: 45184 | H11: 45185 | J11: 45229 | K11: -1199426 | L11: Hàng hóa quầy 0480.3002179
A12: 3002179 | B12: 104 | C12: 33100000 | D12: 1102483033 | E12: C23TNN|56055 | F12: K1 | G12: 45184 | H12: 45185 | J12: 45229 | K12: -1633008 | L12: Hàng hóa quầy 0480.3002179
A13: 3002179 | B13: 145 | C13: 33100000 | D13: 1102483111 | E13: C23TNN|54847 | F13: K1 | G13: 45180 | H13: 45184 | J13: 45225 | K13: -4199515 | L13: Hàng hóa quầy 0480.3002179
... A213: 3002179 | B213: 103 | C213: 33100000 | D213: 1102378689 | E213: C23TNN|53357 | F213: K1 | G213: 45175 | H213: 45175 | J213: 45220 | K213: -2367716 | L213: Hàng hóa quầy 0480.3002179
A214: 3002179 | B214: 132 | C214: 33100000 | D214: 1102212859 | E214: C23TNN|49587 | F214: K1 | G214: 45155 | H214: 45156 | J214: 45200 | K214: -1413958 | L214: Hàng hóa quầy 0480.3002179 | M214: 45204 | N214: 1000040211
A215: 3002179 | B215: 134 | C215: 33100000 | D215: 1102214071 | E215: C23TNN|49096 | F215: K1 | G215: 45155 | H215: 45155 | J215: 45200 | K215: -2367716 | L215: Hàng hóa quầy 0480.3002179 | M215: 45204 | N215: 1000040211
A216: 3002179 | B216: 136 | C216: 33100000 | D216: 1102212026 | E216: C23TNN|49645 | F216: K1 | G216: 45156 | H216: 45156 | J216: 45201 | K216: -1236300 | L216: Hàng hóa quầy 0480.3002179 | M216: 45204 | N216: 1000040211
A217: 3002179 | B217: 120 | C217: 33100000 | D217: 1102211719 | E217: C23TNN|49599 | F217: K1 | G217: 45155 | H217: 45157 | J217: 45200 | K217: -1564998 | L217: Hàng hóa quầy 0480.3002179 | M217: 45204 | N217: 1000040211
A218: 3002179 | B218: 126 | C218: 33100000 | D218: 1102210317 | E218: C23TNN|49601 | F218: K1 | G218: 45155 | H218: 45157 | J218: 45200 | K218: -4069207 | L218: Hàng hóa quầy 0480.3002179 | M218: 45204 | N218: 1000040211
A219: 3002179 | B219: 104 | C219: 33100000 | D219: 1102209644 | E219: C23TNN|48565 | F219: K1 | G219: 45154 | H219: 45157 | J219: 45199 | K219: -3227355 | L219: Hàng hóa quầy 0480.3002179 | M219: 45204 | N219: 1000040211
A220: 3002179 | B220: 136 | C220: 33100000 | D220: 1102209518 | E220: C23TNN|49821 | F220: K1 | G220: 45157 | H220: 45157 | J220: 45202 | K220: -1019509 | L220: Hàng hóa quầy 0480.3002179 | M220: 45204 | N220: 1000040211
A221: 3002179 | B221: 129 | C221: 33100000 | D221: 1102209396 | E221: C23TNN|49592 | F221: K1 | G221: 45155 | H221: 45157 | J221: 45200 | K221: -1348207 | L221: Hàng hóa quầy 0480.3002179 | M221: 45204 | N221: 1000040211
A222: 3002179 | B222: 113 | C222: 33100000 | D222: 1102207706 | E222: C23TNN|48413 | F222: K1 | G222: 45152 | H222: 45156 | J222: 45197 | K222: -1348207 | L222: Hàng hóa quầy 0480.3002179 | M222: 45204 | N222: 1000040211
A223: 3002179 | B223: 128 | C223: 33100000 | D223: 1102206772 | E223: C23TNN|48421 | F223: K1 | G223: 45152 | H223: 45156 | J223: 45197 | K223: -1019509 | L223: Hàng hóa quầy 0480.3002179 | M223: 45204 | N223: 1000040211
A224: 3002179 | B224: 128 | C224: 33100000 | D224: 1102206417 | E224: C23TNN|48422 | F224: K1 | G224: 45152 | H224: 45156 | J224: 45197 | K224: -1348207 | L224: Hàng hóa quầy 0480.3002179 | M224: 45204 | N224: 1000040211
A225: 3002179 | B225: 114 | C225: 33100000 | D225: 1102206212 | E225: C23TNN|48408 | F225: K1 | G225: 45152 | H225: 45156 | J225: 45197 | K225: -1348207 | L225: Hàng hóa quầy 0480.3002179 | M225: 45204 | N225: 1000040211
... A254: 3002179 | B254: 143 | C254: 33100000 | D254: 1102182229 | E254: C23TNN|48399 | F254: K1 | G254: 45152 | H254: 45154 | J254: 45197 | K254: -4044622 | L254: Hàng hóa quầy 0480.3002179 | M254: 45204 | N254: 1000040211
A255: 3002179 | B255: 3002179 | C255: 33100010 | D255: 2401236009 | E255: CK T08/2023 | F255: KS | G255: 45198 | H255: 45198 | I255: K | J255: 45198 | K255: 25635876 | L255: R480 CK T08/2023 | M255: 45204 | N255: 1000040211
A256: 3002179 | B256: 142 | C256: 33100000 | D256: 1102591408 | E256: K23TRT|10751 | F256: K1 | G256: 45190 | H256: 45190 | J256: 45190 | K256: 360256 | L256: Hàng hóa các loại | M256: 45204 | N256: 1000040211
A257: 3002179 | B257: 142 | C257: 33100000 | D257: 1102591401 | E257: K23TRT|10744 | F257: K1 | G257: 45190 | H257: 45190 | J257: 45190 | K257: 1469825 | L257: Hàng hóa các loại | M257: 45204 | N257: 1000040211
A258: 3002179 | B258: 146 | C258: 33100000 | D258: 1102591231 | E258: K23TRT|11283 | F258: K1 | G258: 45196 | H258: 45196 | J258: 45196 | K258: 332036 | L258: Hàng hóa các loại | M258: 45204 | N258: 1000040211
A259: 3002179 | B259: 130 | C259: 33100000 | D259: 1102591033 | E259: K23TRT|10631 | F259: K1 | G259: 45190 | H259: 45190 | J259: 45190 | K259: 565583 | L259: Hàng hóa các loại | M259: 45204 | N259: 1000040211
A260: 3002179 | B260: 139 | C260: 33100000 | D260: 1102577960 | E260: K23TRT|10043 | F260: K1 | G260: 45181 | H260: 45181 | J260: 45181 | K260: 719141 | L260: Hàng hóa các loại | M260: 45204 | N260: 1000040211
A261: 3002179 | B261: 143 | C261: 33100000 | D261: 1102555928 | E261: K23TRT|11102 | F261: K1 | G261: 45195 | H261: 45195 | J261: 45195 | K261: 1324214 | L261: Hàng hóa các loại | M261: 45204 | N261: 1000040211
A262: 3002179 | B262: 143 | C262: 33100000 | D262: 1102555837 | E262: K23TRT|10152 | F262: K1 | G262: 45182 | H262: 45182 | J262: 45182 | K262: 2696725 | L262: Hàng hóa các loại | M262: 45204 | N262: 1000040211
A263: 3002179 | B263: 112 | C263: 33100000 | D263: 1102555725 | E263: K23TRT|10849 | F263: K1 | G263: 45191 | H263: 45191 | J263: 45191 | K263: 218415 | L263: Hàng hóa các loại | M263: 45204 | N263: 1000040211
A264: 3002179 | B264: 114 | C264: 33100000 | D264: 1102577931 | E264: K23TRT|11298 | F264: K1 | G264: 45196 | H264: 45196 | J264: 45196 | K264: 1604940 | L264: Hàng hóa các loại | M264: 45204 | N264: 1000040211
A265: 3002179 | B265: 138 | C265: 33100000 | D265: 1102555611 | E265: K23TRT|10305 | F265: K1 | G265: 45187 | H265: 45187 | J265: 45187 | K265: 3326468 | L265: Hàng hóa các loại | M265: 45204 | N265: 1000040211
A266: 3002179 | B266: 119 | C266: 33100000 | D266: 1102555574 | E266: K23TRT|9945 | F266: K1 | G266: 45181 | H266: 45181 | J266: 45181 | K266: 293972 | L266: Hàng hóa các loại | M266: 45204 | N266: 1000040211
A267: 3002179 | B267: 126 | C267: 33100000 | D267: 1102436831 | E267: K23TRT|10141 | F267: K1 | G267: 45182 | H267: 45182 | J267: 45182 | K267: 1407134 | L267: Hàng hóa các loại | M267: 45204 | N267: 1000040211
...

Sheet EB GỬI (NHÁP)
A1: Account | B1: Assignment | C1: G/L Account | D1: Document Number | E1: Reference | F1: Số hóa đơn | G1: Document type | H1: Document Date | I1: Posting Date | J1: Special G/L ind. | K1: Payment date | L1: Amount in local currency | M1: Text | N1: Clearing date | O1: Clearing Document | P1: Số NCC | Q1: Chênh lệch | R1: Note
A2: 3002179 | B2: 107 | C2: 33100000 | D2: 1102462944 | E2: C23TNN|54835 | F2: 54835 | G2: K1 | H2: 45180 | I2: 45183 | K2: 45225 | L2: -1199426 | M2: Hàng hóa quầy 0480.3002179 | P2: =+VLOOKUP(F2,'NCC NHÁP'!$B:$H,7,0) -> 1199426 | Q2: =+P2+L2 -> 0
A3: 3002179 | B3: 106 | C3: 33100000 | D3: 1102468634 | E3: C23TNN|54838 | F3: 54838 | G3: K1 | H3: 45180 | I3: 45184 | K3: 45225 | L3: -1249106 | M3: Hàng hóa quầy 0480.3002179 | P3: =+VLOOKUP(F3,'NCC NHÁP'!$B:$H,7,0) -> 1249106 | Q3: =+P3+L3 -> 0
A4: 3002179 | B4: 110 | C4: 33100000 | D4: 1102468882 | E4: C23TNN|54903 | F4: 54903 | G4: K1 | H4: 45181 | I4: 45184 | K4: 45226 | L4: -1199426 | M4: Hàng hóa quầy 0480.3002179 | P4: =+VLOOKUP(F4,'NCC NHÁP'!$B:$H,7,0) -> 1199426 | Q4: =+P4+L4 -> 0
A5: 3002179 | B5: 1504 | C5: 33100000 | D5: 1102469931 | E5: C23TNN|54851 | F5: 54851 | G5: K1 | H5: 45180 | I5: 45183 | K5: 45225 | L5: -1199426 | M5: Hàng hóa quầy 0480.3002179 | P5: =+VLOOKUP(F5,'NCC NHÁP'!$B:$H,7,0) -> 1199426 | Q5: =+P5+L5 -> 0
A6: 3002179 | B6: 133 | C6: 33100000 | D6: 1102471301 | E6: C23TNN|55040 | F6: 55040 | G6: K1 | H6: 45183 | I6: 45183 | K6: 45228 | L6: -1586131 | M6: Hàng hóa quầy 0480.3002179 | P6: =+VLOOKUP(F6,'NCC NHÁP'!$B:$H,7,0) -> 1586131 | Q6: =+P6+L6 -> 0
A7: 3002179 | B7: 139 | C7: 33100000 | D7: 1102471306 | E7: C23TNN|54841 | F7: 54841 | G7: K1 | H7: 45180 | I7: 45183 | K7: 45225 | L7: -5597662 | M7: Hàng hóa quầy 0480.3002179 | P7: =+VLOOKUP(F7,'NCC NHÁP'!$B:$H,7,0) -> 5597662 | Q7: =+P7+L7 -> 0
A8: 3002179 | B8: 116 | C8: 33100000 | D8: 1102479625 | E8: C23TNN|54902 | F8: 54902 | G8: K1 | H8: 45181 | I8: 45185 | K8: 45226 | L8: -1586131 | M8: Hàng hóa quầy 0480.3002179 | P8: =+VLOOKUP(F8,'NCC NHÁP'!$B:$H,7,0) -> 1586131 | Q8: =+P8+L8 -> 0
A9: 3002179 | B9: 135 | C9: 33100000 | D9: 1102480688 | E9: C23TNN|54905 | F9: 54905 | G9: K1 | H9: 45181 | I9: 45184 | K9: 45226 | L9: -6599794 | M9: Hàng hóa quầy 0480.3002179 | P9: =+VLOOKUP(F9,'NCC NHÁP'!$B:$H,7,0) -> 6599794 | Q9: =+P9+L9 -> 0
A10: 3002179 | B10: 104 | C10: 33100000 | D10: 1102481038 | E10: C23TNN|56054 | F10: 56054 | G10: K1 | H10: 45184 | I10: 45185 | K10: 45229 | L10: -1416217 | M10: Hàng hóa quầy 0480.3002179 | P10: =+VLOOKUP(F10,'NCC NHÁP'!$B:$H,7,0) -> 1416217 | Q10: =+P10+L10 -> 0
A11: 3002179 | B11: 110 | C11: 33100000 | D11: 1102482909 | E11: C23TNN|56052 | F11: 56052 | G11: K1 | H11: 45184 | I11: 45185 | K11: 45229 | L11: -1199426 | M11: Hàng hóa quầy 0480.3002179 | P11: =+VLOOKUP(F11,'NCC NHÁP'!$B:$H,7,0) -> 1199426 | Q11: =+P11+L11 -> 0
A12: 3002179 | B12: 104 | C12: 33100000 | D12: 1102483033 | E12: C23TNN|56055 | F12: 56055 | G12: K1 | H12: 45184 | I12: 45185 | K12: 45229 | L12: -1633008 | M12: Hàng hóa quầy 0480.3002179 | P12: =+VLOOKUP(F12,'NCC NHÁP'!$B:$H,7,0) -> 1633008 | Q12: =+P12+L12 -> 0
A13: 3002179 | B13: 145 | C13: 33100000 | D13: 1102483111 | E13: C23TNN|54847 | F13: 54847 | G13: K1 | H13: 45180 | I13: 45184 | K13: 45225 | L13: -4199515 | M13: Hàng hóa quầy 0480.3002179 | P13: =+VLOOKUP(F13,'NCC NHÁP'!$B:$H,7,0) -> 4199515 | Q13: =+P13+L13 -> 0
... A213: 3002179 | B213: 103 | C213: 33100000 | D213: 1102378689 | E213: C23TNN|53357 | F213: 53357 | G213: K1 | H213: 45175 | I213: 45175 | K213: 45220 | L213: -2367716 | M213: Hàng hóa quầy 0480.3002179 | P213: =+VLOOKUP(F213,'NCC NHÁP'!$B:$H,7,0) -> 2367716 | Q213: =+P213+L213 -> 0
A214: 3002179 | B214: 132 | C214: 33100000 | D214: 1102212859 | E214: C23TNN|49587 | F214: 49587 | G214: K1 | H214: 45155 | I214: 45156 | K214: 45200 | L214: -1413958 | M214: Hàng hóa quầy 0480.3002179 | N214: 45204 | O214: 1000040211 | P214: =+VLOOKUP(F214,'NCC NHÁP'!$B:$H,7,0) -> 1413958 | Q214: =+P214+L214 -> 0
A215: 3002179 | B215: 134 | C215: 33100000 | D215: 1102214071 | E215: C23TNN|49096 | F215: 49096 | G215: K1 | H215: 45155 | I215: 45155 | K215: 45200 | L215: -2367716 | M215: Hàng hóa quầy 0480.3002179 | N215: 45204 | O215: 1000040211 | P215: =+VLOOKUP(F215,'NCC NHÁP'!$B:$H,7,0) -> 2367716 | Q215: =+P215+L215 -> 0
A216: 3002179 | B216: 136 | C216: 33100000 | D216: 1102212026 | E216: C23TNN|49645 | F216: 49645 | G216: K1 | H216: 45156 | I216: 45156 | K216: 45201 | L216: -1236300 | M216: Hàng hóa quầy 0480.3002179 | N216: 45204 | O216: 1000040211 | P216: =+VLOOKUP(F216,'NCC NHÁP'!$B:$H,7,0) -> 1236300 | Q216: =+P216+L216 -> 0
A217: 3002179 | B217: 120 | C217: 33100000 | D217: 1102211719 | E217: C23TNN|49599 | F217: 49599 | G217: K1 | H217: 45155 | I217: 45157 | K217: 45200 | L217: -1564998 | M217: Hàng hóa quầy 0480.3002179 | N217: 45204 | O217: 1000040211 | P217: =+VLOOKUP(F217,'NCC NHÁP'!$B:$H,7,0) -> 1564998 | Q217: =+P217+L217 -> 0
A218: 3002179 | B218: 126 | C218: 33100000 | D218: 1102210317 | E218: C23TNN|49601 | F218: 49601 | G218: K1 | H218: 45155 | I218: 45157 | K218: 45200 | L218: -4069207 | M218: Hàng hóa quầy 0480.3002179 | N218: 45204 | O218: 1000040211 | P218: =+VLOOKUP(F218,'NCC NHÁP'!$B:$H,7,0) -> 4069207 | Q218: =+P218+L218 -> 0
A219: 3002179 | B219: 104 | C219: 33100000 | D219: 1102209644 | E219: C23TNN|48565 | F219: 48565 | G219: K1 | H219: 45154 | I219: 45157 | K219: 45199 | L219: -3227355 | M219: Hàng hóa quầy 0480.3002179 | N219: 45204 | O219: 1000040211 | P219: =+VLOOKUP(F219,'NCC NHÁP'!$B:$H,7,0) -> 3227355 | Q219: =+P219+L219 -> 0
A220: 3002179 | B220: 136 | C220: 33100000 | D220: 1102209518 | E220: C23TNN|49821 | F220: 49821 | G220: K1 | H220: 45157 | I220: 45157 | K220: 45202 | L220: -1019509 | M220: Hàng hóa quầy 0480.3002179 | N220: 45204 | O220: 1000040211 | P220: =+VLOOKUP(F220,'NCC NHÁP'!$B:$H,7,0) -> 1019509 | Q220: =+P220+L220 -> 0
A221: 3002179 | B221: 129 | C221: 33100000 | D221: 1102209396 | E221: C23TNN|49592 | F221: 49592 | G221: K1 | H221: 45155 | I221: 45157 | K221: 45200 | L221: -1348207 | M221: Hàng hóa quầy 0480.3002179 | N221: 45204 | O221: 1000040211 | P221: =+VLOOKUP(F221,'NCC NHÁP'!$B:$H,7,0) -> 1348207 | Q221: =+P221+L221 -> 0
A222: 3002179 | B222: 113 | C222: 33100000 | D222: 1102207706 | E222: C23TNN|48413 | F222: 48413 | G222: K1 | H222: 45152 | I222: 45156 | K222: 45197 | L222: -1348207 | M222: Hàng hóa quầy 0480.3002179 | N222: 45204 | O222: 1000040211 | P222: =+VLOOKUP(F222,'NCC NHÁP'!$B:$H,7,0) -> 1348207 | Q222: =+P222+L222 -> 0
A223: 3002179 | B223: 128 | C223: 33100000 | D223: 1102206772 | E223: C23TNN|48421 | F223: 48421 | G223: K1 | H223: 45152 | I223: 45156 | K223: 45197 | L223: -1019509 | M223: Hàng hóa quầy 0480.3002179 | N223: 45204 | O223: 1000040211 | P223: =+VLOOKUP(F223,'NCC NHÁP'!$B:$H,7,0) -> 1019509 | Q223: =+P223+L223 -> 0
A224: 3002179 | B224: 128 | C224: 33100000 | D224: 1102206417 | E224: C23TNN|48422 | F224: 48422 | G224: K1 | H224: 45152 | I224: 45156 | K224: 45197 | L224: -1348207 | M224: Hàng hóa quầy 0480.3002179 | N224: 45204 | O224: 1000040211 | P224: =+VLOOKUP(F224,'NCC NHÁP'!$B:$H,7,0) -> 1348207 | Q224: =+P224+L224 -> 0
A225: 3002179 | B225: 114 | C225: 33100000 | D225: 1102206212 | E225: C23TNN|48408 | F225: 48408 | G225: K1 | H225: 45152 | I225: 45156 | K225: 45197 | L225: -1348207 | M225: Hàng hóa quầy 0480.3002179 | N225: 45204 | O225: 1000040211 | P225: =+VLOOKUP(F225,'NCC NHÁP'!$B:$H,7,0) -> 1348207 | Q225: =+P225+L225 -> 0
... A254: 3002179 | B254: 143 | C254: 33100000 | D254: 1102182229 | E254: C23TNN|48399 | F254: 48399 | G254: K1 | H254: 45152 | I254: 45154 | K254: 45197 | L254: -4044622 | M254: Hàng hóa quầy 0480.3002179 | N254: 45204 | O254: 1000040211 | P254: =+VLOOKUP(F254,'NCC NHÁP'!$B:$H,7,0) -> 4044622 | Q254: =+P254+L254 -> 0
A255: 3002179 | B255: 3002179 | C255: 33100010 | D255: 2401236009 | E255: CK T08/2023 | F255: 58893 | G255: KS | H255: 45198 | I255: 45198 | J255: K | K255: 45198 | L255: 25635876 | M255: R480 CK T08/2023 | N255: 45204 | O255: 1000040211 | P255: =+VLOOKUP(F255,'NCC NHÁP'!$B:$H,7,0) -> -27686746 | Q255: =+P255+L255 -> -2050870
A256: 3002179 | B256: 142 | C256: 33100000 | D256: 1102591408 | E256: K23TRT|10751 | F256: 10751 | G256: K1 | H256: 45190 | I256: 45190 | K256: 45190 | L256: 360256 | M256: Hàng hóa các loại | N256: 45204 | O256: 1000040211 | P256: =+VLOOKUP(F256,'NCC NHÁP'!$B:$H,7,0) -> -360256 | Q256: =+P256+L256 -> 0
A257: 3002179 | B257: 142 | C257: 33100000 | D257: 1102591401 | E257: K23TRT|10744 | F257: 10744 | G257: K1 | H257: 45190 | I257: 45190 | K257: 45190 | L257: 1469825 | M257: Hàng hóa các loại | N257: 45204 | O257: 1000040211 | P257: =+VLOOKUP(F257,'NCC NHÁP'!$B:$H,7,0) -> -1469825 | Q257: =+P257+L257 -> 0
A258: 3002179 | B258: 146 | C258: 33100000 | D258: 1102591231 | E258: K23TRT|11283 | F258: 11283 | G258: K1 | H258: 45196 | I258: 45196 | K258: 45196 | L258: 332036 | M258: Hàng hóa các loại | N258: 45204 | O258: 1000040211 | P258: =+VLOOKUP(F258,'NCC NHÁP'!$B:$H,7,0) -> -332036 | Q258: =+P258+L258 -> 0
A259: 3002179 | B259: 130 | C259: 33100000 | D259: 1102591033 | E259: K23TRT|10631 | F259: 10631 | G259: K1 | H259: 45190 | I259: 45190 | K259: 45190 | L259: 565583 | M259: Hàng hóa các loại | N259: 45204 | O259: 1000040211 | P259: =+VLOOKUP(F259,'NCC NHÁP'!$B:$H,7,0) -> -565583 | Q259: =+P259+L259 -> 0
A260: 3002179 | B260: 139 | C260: 33100000 | D260: 1102577960 | E260: K23TRT|10043 | F260: 10043 | G260: K1 | H260: 45181 | I260: 45181 | K260: 45181 | L260: 719141 | M260: Hàng hóa các loại | N260: 45204 | O260: 1000040211 | P260: =+VLOOKUP(F260,'NCC NHÁP'!$B:$H,7,0) -> -719141 | Q260: =+P260+L260 -> 0
A261: 3002179 | B261: 143 | C261: 33100000 | D261: 1102555928 | E261: K23TRT|11102 | F261: 11102 | G261: K1 | H261: 45195 | I261: 45195 | K261: 45195 | L261: 1324214 | M261: Hàng hóa các loại | N261: 45204 | O261: 1000040211 | P261: =+VLOOKUP(F261,'NCC NHÁP'!$B:$H,7,0) -> -1324214 | Q261: =+P261+L261 -> 0
A262: 3002179 | B262: 143 | C262: 33100000 | D262: 1102555837 | E262: K23TRT|10152 | F262: 10152 | G262: K1 | H262: 45182 | I262: 45182 | K262: 45182 | L262: 2696725 | M262: Hàng hóa các loại | N262: 45204 | O262: 1000040211 | P262: =+VLOOKUP(F262,'NCC NHÁP'!$B:$H,7,0) -> -2696725 | Q262: =+P262+L262 -> 0
A263: 3002179 | B263: 112 | C263: 33100000 | D263: 1102555725 | E263: K23TRT|10849 | F263: 10849 | G263: K1 | H263: 45191 | I263: 45191 | K263: 45191 | L263: 218415 | M263: Hàng hóa các loại | N263: 45204 | O263: 1000040211 | P263: =+VLOOKUP(F263,'NCC NHÁP'!$B:$H,7,0) -> -218415 | Q263: =+P263+L263 -> 0
A264: 3002179 | B264: 114 | C264: 33100000 | D264: 1102577931 | E264: K23TRT|11298 | F264: 11298 | G264: K1 | H264: 45196 | I264: 45196 | K264: 45196 | L264: 1604940 | M264: Hàng hóa các loại | N264: 45204 | O264: 1000040211 | P264: =+VLOOKUP(F264,'NCC NHÁP'!$B:$H,7,0) -> -1604940 | Q264: =+P264+L264 -> 0
A265: 3002179 | B265: 138 | C265: 33100000 | D265: 1102555611 | E265: K23TRT|10305 | F265: 10305 | G265: K1 | H265: 45187 | I265: 45187 | K265: 45187 | L265: 3326468 | M265: Hàng hóa các loại | N265: 45204 | O265: 1000040211 | P265: =+VLOOKUP(F265,'NCC NHÁP'!$B:$H,7,0) -> -3326468 | Q265: =+P265+L265 -> 0
A266: 3002179 | B266: 119 | C266: 33100000 | D266: 1102555574 | E266: K23TRT|9945 | F266: 9945 | G266: K1 | H266: 45181 | I266: 45181 | K266: 45181 | L266: 293972 | M266: Hàng hóa các loại | N266: 45204 | O266: 1000040211 | P266: =+VLOOKUP(F266,'NCC NHÁP'!$B:$H,7,0) -> -293972 | Q266: =+P266+L266 -> 0
A267: 3002179 | B267: 126 | C267: 33100000 | D267: 1102436831 | E267: K23TRT|10141 | F267: 10141 | G267: K1 | H267: 45182 | I267: 45182 | K267: 45182 | L267: 1407134 | M267: Hàng hóa các loại | N267: 45204 | O267: 1000040211 | P267: =+VLOOKUP(F267,'NCC NHÁP'!$B:$H,7,0) -> -1407134 | Q267: =+P267+L267 -> 0
...

Sheet NCC NHÁP
A1: Ngày hóa đơn | B1: Số hóa đơn | C1: Ký hiệu HĐ | D1: Diễn giải | E1: Doanh số bán chưa có thuế GTGT | F1: Thuế suất | G1: Thuế GTGT | H1: Thành tiền | I1: Tên người mua | J1: Mã số thuế người mua | K1: Ngày đến hạn thanh toán | L1: KH thanh toán | M1: Chênh lệch | N1: Ngày thanh toán | O1: NOTE XONG | P1: Lệch thuế do CK KH chưa ghi nhận hóa đơn | Q1: Note | R1: EB | S1: Chênh lệch | T1: Note
A2: 45140 | B2: 45506 | C2: 1C23TNN | D2: BigC Gò Vấp | E2: 2421892 | F2: 8% | G2: 193751 | H2: =+E2+G2 -> 2615643 | I2: Công ty TNHH dịch vụ EB | J2: 0105696842 | K2: =48+A2 -> 45188 | L2: =+VLOOKUP(B2,[1]nháp!E$1234:M$1398,9,0) -> -2615643 | M2: =+L2+H2 -> 0 | N2: =+VLOOKUP(B2,[1]nháp!E$1234:M$1398,8,0) -> 05.10.2023 | O2: đã TT 05.10.2023 | R2: =+VLOOKUP(B2,'EB GỬI (NHÁP)'!F:L,7,0) -> -2615643 | S2: =+R2+H2 -> 0
A3: 45141 | B3: 46622 | C3: 1C23TNN | D3: BigC Tops Market Garden | E3: 5293072 | F3: 8% | G3: 423446 | H3: =+E3+G3 -> 5716518 | I3: Công ty TNHH dịch vụ EB | J3: 0105696842 | K3: =48+A3 -> 45189 | L3: =+VLOOKUP(B3,[1]nháp!E$1234:M$1398,9,0) -> -5716518 | M3: =+L3+H3 -> 0 | N3: =+VLOOKUP(B3,[1]nháp!E$1234:M$1398,8,0) -> 05.10.2023 | O3: đã TT 05.10.2023 | R3: =+VLOOKUP(B3,'EB GỬI (NHÁP)'!F:L,7,0) -> -5716518 | S3: =+R3+H3 -> 0
A4: 45141 | B4: 46623 | C4: 1C23TNN | D4: BigC Thăng Long (104) | E4: 1715372 | F4: 8% | G4: 137230 | H4: =+E4+G4 -> 1852602 | I4: Công ty TNHH dịch vụ EB | J4: 0105696842 | K4: =48+A4 -> 45189 | L4: =+VLOOKUP(B4,[1]nháp!E$1234:M$1398,9,0) -> -1852602 | M4: =+L4+H4 -> 0 | N4: =+VLOOKUP(B4,[1]nháp!E$1234:M$1398,8,0) -> 05.10.2023 | O4: đã TT 05.10.2023 | R4: =+VLOOKUP(B4,'EB GỬI (NHÁP)'!F:L,7,0) -> -1852602 | S4: =+R4+H4 -> 0
A5: 45141 | B5: 46624 | C5: 1C23TNN | D5: BigC Long Biên | E5: 1468640 | F5: 8% | G5: 117491 | H5: =+E5+G5 -> 1586131 | I5: Công ty TNHH dịch vụ EB | J5: 0105696842 | K5: =48+A5 -> 45189 | L5: =+VLOOKUP(B5,[1]nháp!E$1234:M$1398,9,0) -> -1586131 | M5: =+L5+H5 -> 0 | N5: =+VLOOKUP(B5,[1]nháp!E$1234:M$1398,8,0) -> 05.10.2023 | O5: đã TT 05.10.2023 | R5: =+VLOOKUP(B5,'EB GỬI (NHÁP)'!F:L,7,0) -> -1586131 | S5: =+R5+H5 -> 0
A6: 45141 | B6: 46644 | C6: 1C23TNN | D6: BigC Nha Trang | E6: 1403312 | F6: 8% | G6: 112265 | H6: =+E6+G6 -> 1515577 | I6: Công ty TNHH dịch vụ EB | J6: 0105696842 | K6: =48+A6 -> 45189 | L6: =+VLOOKUP(B6,[1]nháp!E$1234:M$1398,9,0) -> -1515577 | M6: =+L6+H6 -> 0 | N6: =+VLOOKUP(B6,[1]nháp!E$1234:M$1398,8,0) -> 05.10.2023 | O6: đã TT 05.10.2023 | R6: =+VLOOKUP(B6,'EB GỬI (NHÁP)'!F:L,7,0) -> -1515577 | S6: =+R6+H6 -> 0
A7: 45141 | B7: 46645 | C7: 1C23TNN | D7: BigC Đà Nẵng | E7: 1110580 | F7: 8% | G7: 88846 | H7: =+E7+G7 -> 1199426 | I7: Công ty TNHH dịch vụ EB | J7: 0105696842 | K7: =48+A7 -> 45189 | L7: =+VLOOKUP(B7,[1]nháp!E$1234:M$1398,9,0) -> -1199426 | M7: =+L7+H7 -> 0 | N7: =+VLOOKUP(B7,[1]nháp!E$1234:M$1398,8,0) -> 05.10.2023 | O7: đã TT 05.10.2023 | R7: =+VLOOKUP(B7,'EB GỬI (NHÁP)'!F:L,7,0) -> -1199426 | S7: =+R7+H7 -> 0
A8: 45141 | B8: 46646 | C8: 1C23TNN | D8: BigC Vinh | E8: 1468640 | F8: 8% | G8: 117491 | H8: =+E8+G8 -> 1586131 | I8: Công ty TNHH dịch vụ EB | J8: 0105696842 | K8: =48+A8 -> 45189 | L8: =+VLOOKUP(B8,[1]nháp!E$1234:M$1398,9,0) -> -1586131 | M8: =+L8+H8 -> 0 | N8: =+VLOOKUP(B8,[1]nháp!E$1234:M$1398,8,0) -> 05.10.2023 | O8: đã TT 05.10.2023 | R8: =+VLOOKUP(B8,'EB GỬI (NHÁP)'!F:L,7,0) -> -1586131 | S8: =+R8+H8 -> 0
A9: 45141 | B9: 46647 | C9: 1C23TNN | D9: BigC Vĩnh Phúc | E9: 2208836 | F9: 8% | G9: 176707 | H9: =+E9+G9 -> 2385543 | I9: Công ty TNHH dịch vụ EB | J9: 0105696842 | K9: =48+A9 -> 45189 | L9: =+VLOOKUP(B9,[1]nháp!E$1234:M$1398,9,0) -> -2385543 | M9: =+L9+H9 -> 0 | N9: =+VLOOKUP(B9,[1]nháp!E$1234:M$1398,8,0) -> 05.10.2023 | O9: đã TT 05.10.2023 | R9: =+VLOOKUP(B9,'EB GỬI (NHÁP)'!F:L,7,0) -> -2385543 | S9: =+R9+H9 -> 0
A10: 45141 | B10: 46648 | C10: 1C23TNN | D10: BigC Đà Lạt | E10: 1111900 | F10: 8% | G10: 88952 | H10: =+E10+G10 -> 1200852 | I10: Công ty TNHH dịch vụ EB | J10: 0105696842 | K10: =48+A10 -> 45189 | L10: =+VLOOKUP(B10,[1]nháp!E$1234:M$1398,9,0) -> -1200852 | M10: =+L10+H10 -> 0 | N10: =+VLOOKUP(B10,[1]nháp!E$1234:M$1398,8,0) -> 05.10.2023 | O10: đã TT 05.10.2023 | R10: =+VLOOKUP(B10,'EB GỬI (NHÁP)'!F:L,7,0) -> -1200852 | S10: =+R10+H10 -> 0
A11: 45143 | B11: 46829 | C11: 1C23TNN | D11: BigC Tops Market Eco Green (Nguyễn Xiển) | E11: 4447232 | F11: 8% | G11: 355779 | H11: =+E11+G11 -> 4803011 | I11: Công ty TNHH dịch vụ EB | J11: 0105696842 | K11: =48+A11 -> 45191 | L11: =+VLOOKUP(B11,[1]nháp!E$1234:M$1398,9,0) -> -4803011 | M11: =+L11+H11 -> 0 | N11: =+VLOOKUP(B11,[1]nháp!E$1234:M$1398,8,0) -> 05.10.2023 | O11: đã TT 05.10.2023 | R11: =+VLOOKUP(B11,'EB GỬI (NHÁP)'!F:L,7,0) -> -4803011 | S11: =+R11+H11 -> 0
A12: 45145 | B12: 46911 | C12: 1C23TNN | D12: BigC Nha Trang | E12: 2779952 | F12: 8% | G12: 222396 | H12: =+E12+G12 -> 3002348 | I12: Công ty TNHH dịch vụ EB | J12: 0105696842 | K12: =48+A12 -> 45193 | L12: =+VLOOKUP(B12,[1]nháp!E$1234:M$1398,9,0) -> -3002348 | M12: =+L12+H12 -> 0 | N12: =+VLOOKUP(B12,[1]nháp!E$1234:M$1398,8,0) -> 05.10.2023 | O12: đã TT 05.10.2023 | R12: =+VLOOKUP(B12,'EB GỬI (NHÁP)'!F:L,7,0) -> -3002348 | S12: =+R12+H12 -> 0
A13: 45145 | B13: 46912 | C13: 1C23TNN | D13: BigC Vinh | E13: 1468640 | F13: 8% | G13: 117491 | H13: =+E13+G13 -> 1586131 | I13: Công ty TNHH dịch vụ EB | J13: 0105696842 | K13: =48+A13 -> 45193 | L13: =+VLOOKUP(B13,[1]nháp!E$1234:M$1398,9,0) -> -1586131 | M13: =+L13+H13 -> 0 | N13: =+VLOOKUP(B13,[1]nháp!E$1234:M$1398,8,0) -> 05.10.2023 | O13: đã TT 05.10.2023 | R13: =+VLOOKUP(B13,'EB GỬI (NHÁP)'!F:L,7,0) -> -1586131 | S13: =+R13+H13 -> 0
... A150: 45159 | B150: 49883 | C150: 1C23TNN | D150: Siêu thị GO! Nhơn Trạch | E150: 2831970 | F150: 8% | G150: 226558 | H150: =+E150+G150 -> 3058528 | I150: Công ty TNHH dịch vụ EB | J150: 0105696842 | K150: =48+A150 -> 45207 | L150: =+VLOOKUP(B150,[1]nháp!E$1234:M$1398,9,0) -> -3058528 | M150: =+L150+H150 -> 0 | N150: =+VLOOKUP(B150,[1]nháp!E$1234:M$1398,8,0) -> 05.10.2023 | O150: đã TT 05.10.2023 | R150: =+VLOOKUP(B150,'EB GỬI (NHÁP)'!F:L,7,0) -> -3058528 | S150: =+R150+H150 -> 0
A151: 45160 | B151: 49885 | C151: 1C23TNN | D151: BigC Siêu Thị GO! Nguyễn Thị Thập | E151: 1649804 | F151: 8% | G151: 131984 | H151: =+E151+G151 -> 1781788 | I151: Công ty TNHH dịch vụ EB | J151: 0105696842 | K151: =48+A151 -> 45208 | L151: =+VLOOKUP(B151,[1]nháp!E$1234:M$1398,9,0) -> #N/A | M151: =+L151+H151 -> #N/A | N151: =+VLOOKUP(B151,[1]nháp!E$1234:M$1398,8,0) -> #N/A | R151: =+VLOOKUP(B151,'EB GỬI (NHÁP)'!F:L,7,0) -> -1781788 | S151: =+R151+H151 -> 0
A152: 45160 | B152: 49895 | C152: 1C23TNN | D152: BigC Tops Market Moonlight Thủ Đức | E152: 943990 | F152: 8% | G152: 75519 | H152: =+E152+G152 -> 1019509 | I152: Công ty TNHH dịch vụ EB | J152: 0105696842 | K152: =48+A152 -> 45208 | L152: =+VLOOKUP(B152,[1]nháp!E$1234:M$1398,9,0) -> #N/A | M152: =+L152+H152 -> #N/A | N152: =+VLOOKUP(B152,[1]nháp!E$1234:M$1398,8,0) -> #N/A | R152: =+VLOOKUP(B152,'EB GỬI (NHÁP)'!F:L,7,0) -> -1019509 | S152: =+R152+H152 -> 0
A153: 45160 | B153: 49902 | C153: 1C23TNN | D153: BigC Bình Dương | E153: 2761704 | F153: 8% | G153: 220936 | H153: =+E153+G153 -> 2982640 | I153: Công ty TNHH dịch vụ EB | J153: 0105696842 | K153: =48+A153 -> 45208 | L153: =+VLOOKUP(B153,[1]nháp!E$1234:M$1398,9,0) -> #N/A | M153: =+L153+H153 -> #N/A | N153: =+VLOOKUP(B153,[1]nháp!E$1234:M$1398,8,0) -> #N/A | R153: =+VLOOKUP(B153,'EB GỬI (NHÁP)'!F:L,7,0) -> -2982640 | S153: =+R153+H153 -> 0
A154: 45160 | B154: 49914 | C154: 1C23TNN | D154: BigC Siêu thị GO! An Lạc | E154: 3136320 | F154: 8% | G154: 250906 | H154: =+E154+G154 -> 3387226 | I154: Công ty TNHH dịch vụ EB | J154: 0105696842 | K154: =48+A154 -> 45208 | L154: =+VLOOKUP(B154,[1]nháp!E$1234:M$1398,9,0) -> #N/A | M154: =+L154+H154 -> #N/A | N154: =+VLOOKUP(B154,[1]nháp!E$1234:M$1398,8,0) -> #N/A | R154: =+VLOOKUP(B154,'EB GỬI (NHÁP)'!F:L,7,0) -> -3387226 | S154: =+R154+H154 -> 0
A155: 45160 | B155: 49919 | C155: 1C23TNN | D155: BigC Tops Market Garden | E155: 2557560 | F155: 8% | G155: 204605 | H155: =+E155+G155 -> 2762165 | I155: Công ty TNHH dịch vụ EB | J155: 0105696842 | K155: =48+A155 -> 45208 | L155: =+VLOOKUP(B155,[1]nháp!E$1234:M$1398,9,0) -> #N/A | M155: =+L155+H155 -> #N/A | N155: =+VLOOKUP(B155,[1]nháp!E$1234:M$1398,8,0) -> #N/A | R155: =+VLOOKUP(B155,'EB GỬI (NHÁP)'!F:L,7,0) -> -2762165 | S155: =+R155+H155 -> 0
A156: 45161 | B156: 49975 | C156: 1C23TNN | D156: BigC Gò Vấp | E156: 3440670 | F156: 8% | G156: 275254 | H156: =+E156+G156 -> 3715924 | I156: Công ty TNHH dịch vụ EB | J156: 0105696842 | K156: =48+A156 -> 45209 | L156: =+VLOOKUP(B156,[1]nháp!E$1234:M$1398,9,0) -> #N/A | M156: =+L156+H156 -> #N/A | N156: =+VLOOKUP(B156,[1]nháp!E$1234:M$1398,8,0) -> #N/A | R156: =+VLOOKUP(B156,'EB GỬI (NHÁP)'!F:L,7,0) -> -3715924 | S156: =+R156+H156 -> 0
A157: 45161 | B157: 49976 | C157: 1C23TNN | D157: BigC Gò Vấp | E157: 943990 | F157: 8% | G157: 75519 | H157: =+E157+G157 -> 1019509 | I157: Công ty TNHH dịch vụ EB | J157: 0105696842 | K157: =48+A157 -> 45209 | L157: =+VLOOKUP(B157,[1]nháp!E$1234:M$1398,9,0) -> #N/A | M157: =+L157+H157 -> #N/A | N157: =+VLOOKUP(B157,[1]nháp!E$1234:M$1398,8,0) -> #N/A | R157: =+VLOOKUP(B157,'EB GỬI (NHÁP)'!F:L,7,0) -> -1019509 | S157: =+R157+H157 -> 0
A158: 45161 | B158: 49977 | C158: 1C23TNN | D158: BigC Gò Vấp | E158: 1248340 | F158: 8% | G158: 99867 | H158: =+E158+G158 -> 1348207 | I158: Công ty TNHH dịch vụ EB | J158: 0105696842 | K158: =48+A158 -> 45209 | L158: =+VLOOKUP(B158,[1]nháp!E$1234:M$1398,9,0) -> #N/A | M158: =+L158+H158 -> #N/A | N158: =+VLOOKUP(B158,[1]nháp!E$1234:M$1398,8,0) -> #N/A | R158: =+VLOOKUP(B158,'EB GỬI (NHÁP)'!F:L,7,0) -> -1348207 | S158: =+R158+H158 -> 0
A159: 45161 | B159: 50000 | C159: 1C23TNN | D159: BigC Siêu thị GO! An Lạc | E159: 11622844 | F159: 8% | G159: 929828 | H159: =+E159+G159 -> 12552672 | I159: Công ty TNHH dịch vụ EB | J159: 0105696842 | K159: =48+A159 -> 45209 | L159: =+VLOOKUP(B159,[1]nháp!E$1234:M$1398,9,0) -> #N/A | M159: =+L159+H159 -> #N/A | N159: =+VLOOKUP(B159,[1]nháp!E$1234:M$1398,8,0) -> #N/A | R159: =+VLOOKUP(B159,'EB GỬI (NHÁP)'!F:L,7,0) -> -12552672 | S159: =+R159+H159 -> 0
A160: 45161 | B160: 50004 | C160: 1C23TNN | D160: BigC Thăng Long (104) | E160: 4986856 | F160: 8% | G160: 398948 | H160: =+E160+G160 -> 5385804 | I160: Công ty TNHH dịch vụ EB | J160: 0105696842 | K160: =48+A160 -> 45209 | L160: =+VLOOKUP(B160,[1]nháp!E$1234:M$1398,9,0) -> #N/A | M160: =+L160+H160 -> #N/A | N160: =+VLOOKUP(B160,[1]nháp!E$1234:M$1398,8,0) -> #N/A | R160: =+VLOOKUP(B160,'EB GỬI (NHÁP)'!F:L,7,0) -> -5385804 | S160: =+R160+H160 -> 0
A161: 45161 | B161: 50006 | C161: 1C23TNN | D161: BigC TOPS MARKET HỒ GƯƠM (132) | E161: 1248340 | F161: 8% | G161: 99867 | H161: =+E161+G161 -> 1348207 | I161: Công ty TNHH dịch vụ EB | J161: 0105696842 | K161: =48+A161 -> 45209 | L161: =+VLOOKUP(B161,[1]nháp!E$1234:M$1398,9,0) -> #N/A | M161: =+L161+H161 -> #N/A | N161: =+VLOOKUP(B161,[1]nháp!E$1234:M$1398,8,0) -> #N/A | R161: =+VLOOKUP(B161,'EB GỬI (NHÁP)'!F:L,7,0) -> -1348207 | S161: =+R161+H161 -> 0
A162: 45162 | B162: 51156 | C162: 1C23TNN | D162: BigC Nha Trang | E162: 2593794 | F162: 8% | G162: 207504 | H162: =+E162+G162 -> 2801298 | I162: Công ty TNHH dịch vụ EB | J162: 0105696842 | K162: =48+A162 -> 45210 | L162: =+VLOOKUP(B162,[1]nháp!E$1234:M$1398,9,0) -> #N/A | M162: =+L162+H162 -> #N/A | N162: =+VLOOKUP(B162,[1]nháp!E$1234:M$1398,8,0) -> #N/A | R162: =+VLOOKUP(B162,'EB GỬI (NHÁP)'!F:L,7,0) -> -2801298 | S162: =+R162+H162 -> 0
... A282: 45180 | B282: 54853 | C282: 1C23TNN | D282: Siêu thị GO! Nhơn Trạch | E282: 5552900 | F282: 8% | G282: 444232 | H282: =+E282+G282 -> 5997132 | I282: Công ty TNHH dịch vụ EB | J282: 0105696842 | K282: =48+A282 -> 45228 | L282: =+VLOOKUP(B282,[1]nháp!E$1234:M$1398,9,0) -> #N/A | M282: =+L282+H282 -> #N/A | N282: =+VLOOKUP(B282,[1]nháp!E$1234:M$1398,8,0) -> #N/A | R282: =+VLOOKUP(B282,'EB GỬI (NHÁP)'!F:L,7,0) -> -5997132 | S282: =+R282+H282 -> 0
A283: 45181 | B283: 9945 | C283: 1K23TRT | D283: Hàng trả - BigC Mê Linh - eb2907 | E283: -272196 | F283: 8% | G283: -21776 | H283: =+E283+G283 -> -293972 | I283: Công ty TNHH dịch vụ EB | J283: 0105696842 | K283: =48+A283 -> 45229 | L283: =+VLOOKUP(B283,[1]nháp!E$1234:M$1398,9,0) -> 293972 | M283: =+L283+H283 -> 0 | N283: =+VLOOKUP(B283,[1]nháp!E$1234:M$1398,8,0) -> 05.10.2023 | O283: đã TT 05.10.2023 | R283: =+VLOOKUP(B283,'EB GỬI (NHÁP)'!F:L,7,0) -> 293972 | S283: =+R283+H283 -> 0
A284: 45181 | B284: 10043 | C284: 1K23TRT | D284: Hàng trả - phiếu MH002749 - eb7600 | E284: -665871 | F284: 8% | G284: -53270 | H284: =+E284+G284 -> -719141 | I284: Công ty TNHH dịch vụ EB | J284: 0105696842 | K284: =48+A284 -> 45229 | L284: =+VLOOKUP(B284,[1]nháp!E$1234:M$1398,9,0) -> 719141 | M284: =+L284+H284 -> 0 | N284: =+VLOOKUP(B284,[1]nháp!E$1234:M$1398,8,0) -> 05.10.2023 | O284: đã TT 05.10.2023 | R284: =+VLOOKUP(B284,'EB GỬI (NHÁP)'!F:L,7,0) -> 719141 | S284: =+R284+H284 -> 0
A285: 45181 | B285: 54866 | C285: 1C23TNN | D285: BigC Tops Market An Phú | E285: 3689800 | F285: 8% | G285: 295184 | H285: =+E285+G285 -> 3984984 | I285: Công ty TNHH dịch vụ EB | J285: 0105696842 | K285: =48+A285 -> 45229 | L285: =+VLOOKUP(B285,[1]nháp!E$1234:M$1398,9,0) -> #N/A | M285: =+L285+H285 -> #N/A | N285: =+VLOOKUP(B285,[1]nháp!E$1234:M$1398,8,0) -> #N/A | R285: =+VLOOKUP(B285,'EB GỬI (NHÁP)'!F:L,7,0) -> -3984984 | S285: =+R285+H285 -> 0
A286: 45181 | B286: 54876 | C286: 1C23TNN | D286: BigC Tân Hiệp | E286: 1110580 | F286: 8% | G286: 88846 | H286: =+E286+G286 -> 1199426 | I286: Công ty TNHH dịch vụ EB | J286: 0105696842 | K286: =48+A286 -> 45229 | L286: =+VLOOKUP(B286,[1]nháp!E$1234:M$1398,9,0) -> #N/A | M286: =+L286+H286 -> #N/A | N286: =+VLOOKUP(B286,[1]nháp!E$1234:M$1398,8,0) -> #N/A | R286: =+VLOOKUP(B286,'EB GỬI (NHÁP)'!F:L,7,0) -> -1199426 | S286: =+R286+H286 -> 0
A287: 45181 | B287: 54877 | C287: 1C23TNN | D287: BigC Đồng Nai | E287: 4892100 | F287: 8% | G287: 391368 | H287: =+E287+G287 -> 5283468 | I287: Công ty TNHH dịch vụ EB | J287: 0105696842 | K287: =48+A287 -> 45229 | L287: =+VLOOKUP(B287,[1]nháp!E$1234:M$1398,9,0) -> #N/A | M287: =+L287+H287 -> #N/A | N287: =+VLOOKUP(B287,[1]nháp!E$1234:M$1398,8,0) -> #N/A | R287: =+VLOOKUP(B287,'EB GỬI (NHÁP)'!F:L,7,0) -> -5283468 | S287: =+R287+H287 -> 0
A288: 45181 | B288: 54880 | C288: 1C23TNN | D288: BigC Dĩ An | E288: 2579220 | F288: 8% | G288: 206338 | H288: =+E288+G288 -> 2785558 | I288: Công ty TNHH dịch vụ EB | J288: 0105696842 | K288: =48+A288 -> 45229 | L288: =+VLOOKUP(B288,[1]nháp!E$1234:M$1398,9,0) -> #N/A | M288: =+L288+H288 -> #N/A | N288: =+VLOOKUP(B288,[1]nháp!E$1234:M$1398,8,0) -> #N/A | R288: =+VLOOKUP(B288,'EB GỬI (NHÁP)'!F:L,7,0) -> -2785558 | S288: =+R288+H288 -> 0
A289: 45181 | B289: 54902 | C289: 1C23TNN | D289: BigC Long Biên | E289: 1468640 | F289: 8% | G289: 117491 | H289: =+E289+G289 -> 1586131 | I289: Công ty TNHH dịch vụ EB | J289: 0105696842 | K289: =48+A289 -> 45229 | L289: =+VLOOKUP(B289,[1]nháp!E$1234:M$1398,9,0) -> #N/A | M289: =+L289+H289 -> #N/A | N289: =+VLOOKUP(B289,[1]nháp!E$1234:M$1398,8,0) -> #N/A | R289: =+VLOOKUP(B289,'EB GỬI (NHÁP)'!F:L,7,0) -> -1586131 | S289: =+R289+H289 -> 0
A290: 45181 | B290: 54903 | C290: 1C23TNN | D290: BigC Tops Market Garden | E290: 1110580 | F290: 8% | G290: 88846 | H290: =+E290+G290 -> 1199426 | I290: Công ty TNHH dịch vụ EB | J290: 0105696842 | K290: =48+A290 -> 45229 | L290: =+VLOOKUP(B290,[1]nháp!E$1234:M$1398,9,0) -> #N/A | M290: =+L290+H290 -> #N/A | N290: =+VLOOKUP(B290,[1]nháp!E$1234:M$1398,8,0) -> #N/A | R290: =+VLOOKUP(B290,'EB GỬI (NHÁP)'!F:L,7,0) -> -1199426 | S290: =+R290+H290 -> 0
A291: 45181 | B291: 54904 | C291: 1C23TNN | D291: BigC Thăng Long (104) | E291: 1512044 | F291: 8% | G291: 120964 | H291: =+E291+G291 -> 1633008 | I291: Công ty TNHH dịch vụ EB | J291: 0105696842 | K291: =48+A291 -> 45229 | L291: =+VLOOKUP(B291,[1]nháp!E$1234:M$1398,9,0) -> #N/A | M291: =+L291+H291 -> #N/A | N291: =+VLOOKUP(B291,[1]nháp!E$1234:M$1398,8,0) -> #N/A | R291: =+VLOOKUP(B291,'EB GỬI (NHÁP)'!F:L,7,0) -> -1633008 | S291: =+R291+H291 -> 0
A292: 45181 | B292: 54905 | C292: 1C23TNN | D292: BigC Tops Market Lê Trọng Tấn | E292: 6110920 | F292: 8% | G292: 488874 | H292: =+E292+G292 -> 6599794 | I292: Công ty TNHH dịch vụ EB | J292: 0105696842 | K292: =48+A292 -> 45229 | L292: =+VLOOKUP(B292,[1]nháp!E$1234:M$1398,9,0) -> #N/A | M292: =+L292+H292 -> #N/A | N292: =+VLOOKUP(B292,[1]nháp!E$1234:M$1398,8,0) -> #N/A | R292: =+VLOOKUP(B292,'EB GỬI (NHÁP)'!F:L,7,0) -> -6599794 | S292: =+R292+H292 -> 0
A293: 45182 | B293: 10141 | C293: 1K23TRT | D293: Hàng trả - phiếu MH002855 - eb4900 | E293: -1279212 | F293: 10% | G293: -127922 | H293: =+E293+G293 -> -1407134 | I293: Công ty TNHH dịch vụ EB | J293: 0105696842 | K293: =48+A293 -> 45230 | L293: =+VLOOKUP(B293,[1]nháp!E$1234:M$1398,9,0) -> 1407134 | M293: =+L293+H293 -> 0 | N293: =+VLOOKUP(B293,[1]nháp!E$1234:M$1398,8,0) -> 05.10.2023 | O293: đã TT 05.10.2023 | R293: =+VLOOKUP(B293,'EB GỬI (NHÁP)'!F:L,7,0) -> 1407134 | S293: =+R293+H293 -> 0
A294: 45182 | B294: 10152 | C294: 1K23TRT | D294: Hàng trả - phiếu MH002856 - eb7200 | E294: -2496967 | F294: 8% | G294: -199758 | H294: =+E294+G294 -> -2696725 | I294: Công ty TNHH dịch vụ EB | J294: 0105696842 | K294: =48+A294 -> 45230 | L294: =+VLOOKUP(B294,[1]nháp!E$1234:M$1398,9,0) -> 2696725 | M294: =+L294+H294 -> 0 | N294: =+VLOOKUP(B294,[1]nháp!E$1234:M$1398,8,0) -> 05.10.2023 | O294: đã TT 05.10.2023 | R294: =+VLOOKUP(B294,'EB GỬI (NHÁP)'!F:L,7,0) -> 2696725 | S294: =+R294+H294 -> 0
A295: 45182 | B295: 54927 | C295: 1C23TNN | D295: BigC Miền Đông | E295: 1156580 | F295: 8% | G295: 92526 | H295: =+E295+G295 -> 1249106 | I295: Công ty TNHH dịch vụ EB | J295: 0105696842 | K295: =48+A295 -> 45230 | L295: =+VLOOKUP(B295,[1]nháp!E$1234:M$1398,9,0) -> #N/A | M295: =+L295+H295 -> #N/A | N295: =+VLOOKUP(B295,[1]nháp!E$1234:M$1398,8,0) -> #N/A | R295: =+VLOOKUP(B295,'EB GỬI (NHÁP)'!F:L,7,0) -> -1249106 | S295: =+R295+H295 -> 0
...
