Workbook

Sheet TH_CN
A1: BẢNG TỔNG HỢP CÔNG NỢ NĂM 2025
B2: TỔNG CÔNG NỢ | C2: =SUM(C$5:C$31) -> 19241034 | D2: =SUM(D$5:D$31) -> 19241034 | E2: =SUM(E$5:E$31) -> 19241034 | F2: =SUM(F$5:F$31) -> 19241034 | G2: =SUM(G$5:G$31) -> 19241034 | H2: =SUM(H$5:H$31) -> 23065598 | I2: =SUM(I$5:I$31) -> 27310420 | J2: =SUM(J$5:J$31) -> 27310420 | ... N2: =SUM(N$5:N$31) -> 27310420
A4: NHÓM KHÁCH HÀNG | B4: TÊN NHÓM KHÁCH HÀNG | C4: 46053 | D4: =EOMONTH(C4,1) -> 46081 | E4: =EOMONTH(D4,1) -> 46112 | F4: =EOMONTH(E4,1) -> 46142 | G4: =EOMONTH(F4,1) -> 46173 | H4: =EOMONTH(G4,1) -> 46203 | I4: =EOMONTH(H4,1) -> 46234 | J4: =EOMONTH(I4,1) -> 46265 | K4: =EOMONTH(J4,1) -> 46295 | ... N4: =EOMONTH(M4,1) -> 46387
A5: SAIGONHD | B5: CÔNG TY CỔ PHẦN SÀI GÒN HD | C5: =SUMIFS('Báo cáo'!$O:$O,'Báo cáo'!$AD:$AD,$A5,'Báo cáo'!$Z:$Z,"<="&C$4)+SUMIFS('Báo cáo'!$P:$P,'Báo cáo'!$AD:$AD,$A5,'Báo cáo'!$Z:$Z,"<="&C$4)-SUMIFS('Báo cáo'!$Q:$Q,'Báo cáo'!$AD:$AD,$A5,'Báo cáo'!$AA:$AA,"<="&C$4) -> 19241034 | D5: =SUMIFS('Báo cáo'!$O:$O,'Báo cáo'!$AD:$AD,$A5,'Báo cáo'!$Z:$Z,"<="&D$4)+SUMIFS('Báo cáo'!$P:$P,'Báo cáo'!$AD:$AD,$A5,'Báo cáo'!$Z:$Z,"<="&D$4)-SUMIFS('Báo cáo'!$Q:$Q,'Báo cáo'!$AD:$AD,$A5,'Báo cáo'!$AA:$AA,"<="&D$4) -> 19241034 | E5: =SUMIFS('Báo cáo'!$O:$O,'Báo cáo'!$AD:$AD,$A5,'Báo cáo'!$Z:$Z,"<="&E$4)+SUMIFS('Báo cáo'!$P:$P,'Báo cáo'!$AD:$AD,$A5,'Báo cáo'!$Z:$Z,"<="&E$4)-SUMIFS('Báo cáo'!$Q:$Q,'Báo cáo'!$AD:$AD,$A5,'Báo cáo'!$AA:$AA,"<="&E$4) -> 19241034 | F5: =SUMIFS('Báo cáo'!$O:$O,'Báo cáo'!$AD:$AD,$A5,'Báo cáo'!$Z:$Z,"<="&F$4)+SUMIFS('Báo cáo'!$P:$P,'Báo cáo'!$AD:$AD,$A5,'Báo cáo'!$Z:$Z,"<="&F$4)-SUMIFS('Báo cáo'!$Q:$Q,'Báo cáo'!$AD:$AD,$A5,'Báo cáo'!$AA:$AA,"<="&F$4) -> 19241034 | G5: =SUMIFS('Báo cáo'!$O:$O,'Báo cáo'!$AD:$AD,$A5,'Báo cáo'!$Z:$Z,"<="&G$4)+SUMIFS('Báo cáo'!$P:$P,'Báo cáo'!$AD:$AD,$A5,'Báo cáo'!$Z:$Z,"<="&G$4)-SUMIFS('Báo cáo'!$Q:$Q,'Báo cáo'!$AD:$AD,$A5,'Báo cáo'!$AA:$AA,"<="&G$4) -> 19241034 | H5: =SUMIFS('Báo cáo'!$O:$O,'Báo cáo'!$AD:$AD,$A5,'Báo cáo'!$Z:$Z,"<="&H$4)+SUMIFS('Báo cáo'!$P:$P,'Báo cáo'!$AD:$AD,$A5,'Báo cáo'!$Z:$Z,"<="&H$4)-SUMIFS('Báo cáo'!$Q:$Q,'Báo cáo'!$AD:$AD,$A5,'Báo cáo'!$AA:$AA,"<="&H$4) -> 23065598 | I5: =SUMIFS('Báo cáo'!$O:$O,'Báo cáo'!$AD:$AD,$A5,'Báo cáo'!$Z:$Z,"<="&I$4)+SUMIFS('Báo cáo'!$P:$P,'Báo cáo'!$AD:$AD,$A5,'Báo cáo'!$Z:$Z,"<="&I$4)-SUMIFS('Báo cáo'!$Q:$Q,'Báo cáo'!$AD:$AD,$A5,'Báo cáo'!$AA:$AA,"<="&I$4) -> 27310420 | J5: =SUMIFS('Báo cáo'!$O:$O,'Báo cáo'!$AD:$AD,$A5,'Báo cáo'!$Z:$Z,"<="&J$4)+SUMIFS('Báo cáo'!$P:$P,'Báo cáo'!$AD:$AD,$A5,'Báo cáo'!$Z:$Z,"<="&J$4)-SUMIFS('Báo cáo'!$Q:$Q,'Báo cáo'!$AD:$AD,$A5,'Báo cáo'!$AA:$AA,"<="&J$4) -> 27310420 | ... N5: =SUMIFS('Báo cáo'!$O:$O,'Báo cáo'!$AD:$AD,$A5,'Báo cáo'!$Z:$Z,"<="&N$4)+SUMIFS('Báo cáo'!$P:$P,'Báo cáo'!$AD:$AD,$A5,'Báo cáo'!$Z:$Z,"<="&N$4)-SUMIFS('Báo cáo'!$Q:$Q,'Báo cáo'!$AD:$AD,$A5,'Báo cáo'!$AA:$AA,"<="&N$4) -> 27310420
C6: =SUMIFS('Báo cáo'!$O:$O,'Báo cáo'!$AD:$AD,$A6,'Báo cáo'!$Z:$Z,"<="&C$4)+SUMIFS('Báo cáo'!$P:$P,'Báo cáo'!$AD:$AD,$A6,'Báo cáo'!$Z:$Z,"<="&C$4)-SUMIFS('Báo cáo'!$Q:$Q,'Báo cáo'!$AD:$AD,$A6,'Báo cáo'!$AA:$AA,"<="&C$4) -> 0 | D6: =SUMIFS('Báo cáo'!$O:$O,'Báo cáo'!$AD:$AD,$A6,'Báo cáo'!$Z:$Z,"<="&D$4)+SUMIFS('Báo cáo'!$P:$P,'Báo cáo'!$AD:$AD,$A6,'Báo cáo'!$Z:$Z,"<="&D$4)-SUMIFS('Báo cáo'!$Q:$Q,'Báo cáo'!$AD:$AD,$A6,'Báo cáo'!$AA:$AA,"<="&D$4) -> 0 | E6: =SUMIFS('Báo cáo'!$O:$O,'Báo cáo'!$AD:$AD,$A6,'Báo cáo'!$Z:$Z,"<="&E$4)+SUMIFS('Báo cáo'!$P:$P,'Báo cáo'!$AD:$AD,$A6,'Báo cáo'!$Z:$Z,"<="&E$4)-SUMIFS('Báo cáo'!$Q:$Q,'Báo cáo'!$AD:$AD,$A6,'Báo cáo'!$AA:$AA,"<="&E$4) -> 0 | F6: =SUMIFS('Báo cáo'!$O:$O,'Báo cáo'!$AD:$AD,$A6,'Báo cáo'!$Z:$Z,"<="&F$4)+SUMIFS('Báo cáo'!$P:$P,'Báo cáo'!$AD:$AD,$A6,'Báo cáo'!$Z:$Z,"<="&F$4)-SUMIFS('Báo cáo'!$Q:$Q,'Báo cáo'!$AD:$AD,$A6,'Báo cáo'!$AA:$AA,"<="&F$4) -> 0 | G6: =SUMIFS('Báo cáo'!$O:$O,'Báo cáo'!$AD:$AD,$A6,'Báo cáo'!$Z:$Z,"<="&G$4)+SUMIFS('Báo cáo'!$P:$P,'Báo cáo'!$AD:$AD,$A6,'Báo cáo'!$Z:$Z,"<="&G$4)-SUMIFS('Báo cáo'!$Q:$Q,'Báo cáo'!$AD:$AD,$A6,'Báo cáo'!$AA:$AA,"<="&G$4) -> 0 | H6: =SUMIFS('Báo cáo'!$O:$O,'Báo cáo'!$AD:$AD,$A6,'Báo cáo'!$Z:$Z,"<="&H$4)+SUMIFS('Báo cáo'!$P:$P,'Báo cáo'!$AD:$AD,$A6,'Báo cáo'!$Z:$Z,"<="&H$4)-SUMIFS('Báo cáo'!$Q:$Q,'Báo cáo'!$AD:$AD,$A6,'Báo cáo'!$AA:$AA,"<="&H$4) -> 0 | I6: =SUMIFS('Báo cáo'!$O:$O,'Báo cáo'!$AD:$AD,$A6,'Báo cáo'!$Z:$Z,"<="&I$4)+SUMIFS('Báo cáo'!$P:$P,'Báo cáo'!$AD:$AD,$A6,'Báo cáo'!$Z:$Z,"<="&I$4)-SUMIFS('Báo cáo'!$Q:$Q,'Báo cáo'!$AD:$AD,$A6,'Báo cáo'!$AA:$AA,"<="&I$4) -> 0 | J6: =SUMIFS('Báo cáo'!$O:$O,'Báo cáo'!$AD:$AD,$A6,'Báo cáo'!$Z:$Z,"<="&J$4)+SUMIFS('Báo cáo'!$P:$P,'Báo cáo'!$AD:$AD,$A6,'Báo cáo'!$Z:$Z,"<="&J$4)-SUMIFS('Báo cáo'!$Q:$Q,'Báo cáo'!$AD:$AD,$A6,'Báo cáo'!$AA:$AA,"<="&J$4) -> 0 | ... N6: =SUMIFS('Báo cáo'!$O:$O,'Báo cáo'!$AD:$AD,$A6,'Báo cáo'!$Z:$Z,"<="&N$4)+SUMIFS('Báo cáo'!$P:$P,'Báo cáo'!$AD:$AD,$A6,'Báo cáo'!$Z:$Z,"<="&N$4)-SUMIFS('Báo cáo'!$Q:$Q,'Báo cáo'!$AD:$AD,$A6,'Báo cáo'!$AA:$AA,"<="&N$4) -> 0
C7: =SUMIFS('Báo cáo'!$O:$O,'Báo cáo'!$AD:$AD,$A7,'Báo cáo'!$Z:$Z,"<="&C$4)+SUMIFS('Báo cáo'!$P:$P,'Báo cáo'!$AD:$AD,$A7,'Báo cáo'!$Z:$Z,"<="&C$4)-SUMIFS('Báo cáo'!$Q:$Q,'Báo cáo'!$AD:$AD,$A7,'Báo cáo'!$AA:$AA,"<="&C$4) -> 0 | D7: =SUMIFS('Báo cáo'!$O:$O,'Báo cáo'!$AD:$AD,$A7,'Báo cáo'!$Z:$Z,"<="&D$4)+SUMIFS('Báo cáo'!$P:$P,'Báo cáo'!$AD:$AD,$A7,'Báo cáo'!$Z:$Z,"<="&D$4)-SUMIFS('Báo cáo'!$Q:$Q,'Báo cáo'!$AD:$AD,$A7,'Báo cáo'!$AA:$AA,"<="&D$4) -> 0 | E7: =SUMIFS('Báo cáo'!$O:$O,'Báo cáo'!$AD:$AD,$A7,'Báo cáo'!$Z:$Z,"<="&E$4)+SUMIFS('Báo cáo'!$P:$P,'Báo cáo'!$AD:$AD,$A7,'Báo cáo'!$Z:$Z,"<="&E$4)-SUMIFS('Báo cáo'!$Q:$Q,'Báo cáo'!$AD:$AD,$A7,'Báo cáo'!$AA:$AA,"<="&E$4) -> 0 | F7: =SUMIFS('Báo cáo'!$O:$O,'Báo cáo'!$AD:$AD,$A7,'Báo cáo'!$Z:$Z,"<="&F$4)+SUMIFS('Báo cáo'!$P:$P,'Báo cáo'!$AD:$AD,$A7,'Báo cáo'!$Z:$Z,"<="&F$4)-SUMIFS('Báo cáo'!$Q:$Q,'Báo cáo'!$AD:$AD,$A7,'Báo cáo'!$AA:$AA,"<="&F$4) -> 0 | G7: =SUMIFS('Báo cáo'!$O:$O,'Báo cáo'!$AD:$AD,$A7,'Báo cáo'!$Z:$Z,"<="&G$4)+SUMIFS('Báo cáo'!$P:$P,'Báo cáo'!$AD:$AD,$A7,'Báo cáo'!$Z:$Z,"<="&G$4)-SUMIFS('Báo cáo'!$Q:$Q,'Báo cáo'!$AD:$AD,$A7,'Báo cáo'!$AA:$AA,"<="&G$4) -> 0 | H7: =SUMIFS('Báo cáo'!$O:$O,'Báo cáo'!$AD:$AD,$A7,'Báo cáo'!$Z:$Z,"<="&H$4)+SUMIFS('Báo cáo'!$P:$P,'Báo cáo'!$AD:$AD,$A7,'Báo cáo'!$Z:$Z,"<="&H$4)-SUMIFS('Báo cáo'!$Q:$Q,'Báo cáo'!$AD:$AD,$A7,'Báo cáo'!$AA:$AA,"<="&H$4) -> 0 | I7: =SUMIFS('Báo cáo'!$O:$O,'Báo cáo'!$AD:$AD,$A7,'Báo cáo'!$Z:$Z,"<="&I$4)+SUMIFS('Báo cáo'!$P:$P,'Báo cáo'!$AD:$AD,$A7,'Báo cáo'!$Z:$Z,"<="&I$4)-SUMIFS('Báo cáo'!$Q:$Q,'Báo cáo'!$AD:$AD,$A7,'Báo cáo'!$AA:$AA,"<="&I$4) -> 0 | J7: =SUMIFS('Báo cáo'!$O:$O,'Báo cáo'!$AD:$AD,$A7,'Báo cáo'!$Z:$Z,"<="&J$4)+SUMIFS('Báo cáo'!$P:$P,'Báo cáo'!$AD:$AD,$A7,'Báo cáo'!$Z:$Z,"<="&J$4)-SUMIFS('Báo cáo'!$Q:$Q,'Báo cáo'!$AD:$AD,$A7,'Báo cáo'!$AA:$AA,"<="&J$4) -> 0 | ... N7: =SUMIFS('Báo cáo'!$O:$O,'Báo cáo'!$AD:$AD,$A7,'Báo cáo'!$Z:$Z,"<="&N$4)+SUMIFS('Báo cáo'!$P:$P,'Báo cáo'!$AD:$AD,$A7,'Báo cáo'!$Z:$Z,"<="&N$4)-SUMIFS('Báo cáo'!$Q:$Q,'Báo cáo'!$AD:$AD,$A7,'Báo cáo'!$AA:$AA,"<="&N$4) -> 0
C8: =SUMIFS('Báo cáo'!$O:$O,'Báo cáo'!$AD:$AD,$A8,'Báo cáo'!$Z:$Z,"<="&C$4)+SUMIFS('Báo cáo'!$P:$P,'Báo cáo'!$AD:$AD,$A8,'Báo cáo'!$Z:$Z,"<="&C$4)-SUMIFS('Báo cáo'!$Q:$Q,'Báo cáo'!$AD:$AD,$A8,'Báo cáo'!$AA:$AA,"<="&C$4) -> 0 | D8: =SUMIFS('Báo cáo'!$O:$O,'Báo cáo'!$AD:$AD,$A8,'Báo cáo'!$Z:$Z,"<="&D$4)+SUMIFS('Báo cáo'!$P:$P,'Báo cáo'!$AD:$AD,$A8,'Báo cáo'!$Z:$Z,"<="&D$4)-SUMIFS('Báo cáo'!$Q:$Q,'Báo cáo'!$AD:$AD,$A8,'Báo cáo'!$AA:$AA,"<="&D$4) -> 0 | E8: =SUMIFS('Báo cáo'!$O:$O,'Báo cáo'!$AD:$AD,$A8,'Báo cáo'!$Z:$Z,"<="&E$4)+SUMIFS('Báo cáo'!$P:$P,'Báo cáo'!$AD:$AD,$A8,'Báo cáo'!$Z:$Z,"<="&E$4)-SUMIFS('Báo cáo'!$Q:$Q,'Báo cáo'!$AD:$AD,$A8,'Báo cáo'!$AA:$AA,"<="&E$4) -> 0 | F8: =SUMIFS('Báo cáo'!$O:$O,'Báo cáo'!$AD:$AD,$A8,'Báo cáo'!$Z:$Z,"<="&F$4)+SUMIFS('Báo cáo'!$P:$P,'Báo cáo'!$AD:$AD,$A8,'Báo cáo'!$Z:$Z,"<="&F$4)-SUMIFS('Báo cáo'!$Q:$Q,'Báo cáo'!$AD:$AD,$A8,'Báo cáo'!$AA:$AA,"<="&F$4) -> 0 | G8: =SUMIFS('Báo cáo'!$O:$O,'Báo cáo'!$AD:$AD,$A8,'Báo cáo'!$Z:$Z,"<="&G$4)+SUMIFS('Báo cáo'!$P:$P,'Báo cáo'!$AD:$AD,$A8,'Báo cáo'!$Z:$Z,"<="&G$4)-SUMIFS('Báo cáo'!$Q:$Q,'Báo cáo'!$AD:$AD,$A8,'Báo cáo'!$AA:$AA,"<="&G$4) -> 0 | H8: =SUMIFS('Báo cáo'!$O:$O,'Báo cáo'!$AD:$AD,$A8,'Báo cáo'!$Z:$Z,"<="&H$4)+SUMIFS('Báo cáo'!$P:$P,'Báo cáo'!$AD:$AD,$A8,'Báo cáo'!$Z:$Z,"<="&H$4)-SUMIFS('Báo cáo'!$Q:$Q,'Báo cáo'!$AD:$AD,$A8,'Báo cáo'!$AA:$AA,"<="&H$4) -> 0 | I8: =SUMIFS('Báo cáo'!$O:$O,'Báo cáo'!$AD:$AD,$A8,'Báo cáo'!$Z:$Z,"<="&I$4)+SUMIFS('Báo cáo'!$P:$P,'Báo cáo'!$AD:$AD,$A8,'Báo cáo'!$Z:$Z,"<="&I$4)-SUMIFS('Báo cáo'!$Q:$Q,'Báo cáo'!$AD:$AD,$A8,'Báo cáo'!$AA:$AA,"<="&I$4) -> 0 | J8: =SUMIFS('Báo cáo'!$O:$O,'Báo cáo'!$AD:$AD,$A8,'Báo cáo'!$Z:$Z,"<="&J$4)+SUMIFS('Báo cáo'!$P:$P,'Báo cáo'!$AD:$AD,$A8,'Báo cáo'!$Z:$Z,"<="&J$4)-SUMIFS('Báo cáo'!$Q:$Q,'Báo cáo'!$AD:$AD,$A8,'Báo cáo'!$AA:$AA,"<="&J$4) -> 0 | ... N8: =SUMIFS('Báo cáo'!$O:$O,'Báo cáo'!$AD:$AD,$A8,'Báo cáo'!$Z:$Z,"<="&N$4)+SUMIFS('Báo cáo'!$P:$P,'Báo cáo'!$AD:$AD,$A8,'Báo cáo'!$Z:$Z,"<="&N$4)-SUMIFS('Báo cáo'!$Q:$Q,'Báo cáo'!$AD:$AD,$A8,'Báo cáo'!$AA:$AA,"<="&N$4) -> 0
C9: =SUMIFS('Báo cáo'!$O:$O,'Báo cáo'!$AD:$AD,$A9,'Báo cáo'!$Z:$Z,"<="&C$4)+SUMIFS('Báo cáo'!$P:$P,'Báo cáo'!$AD:$AD,$A9,'Báo cáo'!$Z:$Z,"<="&C$4)-SUMIFS('Báo cáo'!$Q:$Q,'Báo cáo'!$AD:$AD,$A9,'Báo cáo'!$AA:$AA,"<="&C$4) -> 0 | D9: =SUMIFS('Báo cáo'!$O:$O,'Báo cáo'!$AD:$AD,$A9,'Báo cáo'!$Z:$Z,"<="&D$4)+SUMIFS('Báo cáo'!$P:$P,'Báo cáo'!$AD:$AD,$A9,'Báo cáo'!$Z:$Z,"<="&D$4)-SUMIFS('Báo cáo'!$Q:$Q,'Báo cáo'!$AD:$AD,$A9,'Báo cáo'!$AA:$AA,"<="&D$4) -> 0 | E9: =SUMIFS('Báo cáo'!$O:$O,'Báo cáo'!$AD:$AD,$A9,'Báo cáo'!$Z:$Z,"<="&E$4)+SUMIFS('Báo cáo'!$P:$P,'Báo cáo'!$AD:$AD,$A9,'Báo cáo'!$Z:$Z,"<="&E$4)-SUMIFS('Báo cáo'!$Q:$Q,'Báo cáo'!$AD:$AD,$A9,'Báo cáo'!$AA:$AA,"<="&E$4) -> 0 | F9: =SUMIFS('Báo cáo'!$O:$O,'Báo cáo'!$AD:$AD,$A9,'Báo cáo'!$Z:$Z,"<="&F$4)+SUMIFS('Báo cáo'!$P:$P,'Báo cáo'!$AD:$AD,$A9,'Báo cáo'!$Z:$Z,"<="&F$4)-SUMIFS('Báo cáo'!$Q:$Q,'Báo cáo'!$AD:$AD,$A9,'Báo cáo'!$AA:$AA,"<="&F$4) -> 0 | G9: =SUMIFS('Báo cáo'!$O:$O,'Báo cáo'!$AD:$AD,$A9,'Báo cáo'!$Z:$Z,"<="&G$4)+SUMIFS('Báo cáo'!$P:$P,'Báo cáo'!$AD:$AD,$A9,'Báo cáo'!$Z:$Z,"<="&G$4)-SUMIFS('Báo cáo'!$Q:$Q,'Báo cáo'!$AD:$AD,$A9,'Báo cáo'!$AA:$AA,"<="&G$4) -> 0 | H9: =SUMIFS('Báo cáo'!$O:$O,'Báo cáo'!$AD:$AD,$A9,'Báo cáo'!$Z:$Z,"<="&H$4)+SUMIFS('Báo cáo'!$P:$P,'Báo cáo'!$AD:$AD,$A9,'Báo cáo'!$Z:$Z,"<="&H$4)-SUMIFS('Báo cáo'!$Q:$Q,'Báo cáo'!$AD:$AD,$A9,'Báo cáo'!$AA:$AA,"<="&H$4) -> 0 | I9: =SUMIFS('Báo cáo'!$O:$O,'Báo cáo'!$AD:$AD,$A9,'Báo cáo'!$Z:$Z,"<="&I$4)+SUMIFS('Báo cáo'!$P:$P,'Báo cáo'!$AD:$AD,$A9,'Báo cáo'!$Z:$Z,"<="&I$4)-SUMIFS('Báo cáo'!$Q:$Q,'Báo cáo'!$AD:$AD,$A9,'Báo cáo'!$AA:$AA,"<="&I$4) -> 0 | J9: =SUMIFS('Báo cáo'!$O:$O,'Báo cáo'!$AD:$AD,$A9,'Báo cáo'!$Z:$Z,"<="&J$4)+SUMIFS('Báo cáo'!$P:$P,'Báo cáo'!$AD:$AD,$A9,'Báo cáo'!$Z:$Z,"<="&J$4)-SUMIFS('Báo cáo'!$Q:$Q,'Báo cáo'!$AD:$AD,$A9,'Báo cáo'!$AA:$AA,"<="&J$4) -> 0 | ... N9: =SUMIFS('Báo cáo'!$O:$O,'Báo cáo'!$AD:$AD,$A9,'Báo cáo'!$Z:$Z,"<="&N$4)+SUMIFS('Báo cáo'!$P:$P,'Báo cáo'!$AD:$AD,$A9,'Báo cáo'!$Z:$Z,"<="&N$4)-SUMIFS('Báo cáo'!$Q:$Q,'Báo cáo'!$AD:$AD,$A9,'Báo cáo'!$AA:$AA,"<="&N$4) -> 0
C10: =SUMIFS('Báo cáo'!$O:$O,'Báo cáo'!$AD:$AD,$A10,'Báo cáo'!$Z:$Z,"<="&C$4)+SUMIFS('Báo cáo'!$P:$P,'Báo cáo'!$AD:$AD,$A10,'Báo cáo'!$Z:$Z,"<="&C$4)-SUMIFS('Báo cáo'!$Q:$Q,'Báo cáo'!$AD:$AD,$A10,'Báo cáo'!$AA:$AA,"<="&C$4) -> 0 | D10: =SUMIFS('Báo cáo'!$O:$O,'Báo cáo'!$AD:$AD,$A10,'Báo cáo'!$Z:$Z,"<="&D$4)+SUMIFS('Báo cáo'!$P:$P,'Báo cáo'!$AD:$AD,$A10,'Báo cáo'!$Z:$Z,"<="&D$4)-SUMIFS('Báo cáo'!$Q:$Q,'Báo cáo'!$AD:$AD,$A10,'Báo cáo'!$AA:$AA,"<="&D$4) -> 0 | E10: =SUMIFS('Báo cáo'!$O:$O,'Báo cáo'!$AD:$AD,$A10,'Báo cáo'!$Z:$Z,"<="&E$4)+SUMIFS('Báo cáo'!$P:$P,'Báo cáo'!$AD:$AD,$A10,'Báo cáo'!$Z:$Z,"<="&E$4)-SUMIFS('Báo cáo'!$Q:$Q,'Báo cáo'!$AD:$AD,$A10,'Báo cáo'!$AA:$AA,"<="&E$4) -> 0 | F10: =SUMIFS('Báo cáo'!$O:$O,'Báo cáo'!$AD:$AD,$A10,'Báo cáo'!$Z:$Z,"<="&F$4)+SUMIFS('Báo cáo'!$P:$P,'Báo cáo'!$AD:$AD,$A10,'Báo cáo'!$Z:$Z,"<="&F$4)-SUMIFS('Báo cáo'!$Q:$Q,'Báo cáo'!$AD:$AD,$A10,'Báo cáo'!$AA:$AA,"<="&F$4) -> 0 | G10: =SUMIFS('Báo cáo'!$O:$O,'Báo cáo'!$AD:$AD,$A10,'Báo cáo'!$Z:$Z,"<="&G$4)+SUMIFS('Báo cáo'!$P:$P,'Báo cáo'!$AD:$AD,$A10,'Báo cáo'!$Z:$Z,"<="&G$4)-SUMIFS('Báo cáo'!$Q:$Q,'Báo cáo'!$AD:$AD,$A10,'Báo cáo'!$AA:$AA,"<="&G$4) -> 0 | H10: =SUMIFS('Báo cáo'!$O:$O,'Báo cáo'!$AD:$AD,$A10,'Báo cáo'!$Z:$Z,"<="&H$4)+SUMIFS('Báo cáo'!$P:$P,'Báo cáo'!$AD:$AD,$A10,'Báo cáo'!$Z:$Z,"<="&H$4)-SUMIFS('Báo cáo'!$Q:$Q,'Báo cáo'!$AD:$AD,$A10,'Báo cáo'!$AA:$AA,"<="&H$4) -> 0 | I10: =SUMIFS('Báo cáo'!$O:$O,'Báo cáo'!$AD:$AD,$A10,'Báo cáo'!$Z:$Z,"<="&I$4)+SUMIFS('Báo cáo'!$P:$P,'Báo cáo'!$AD:$AD,$A10,'Báo cáo'!$Z:$Z,"<="&I$4)-SUMIFS('Báo cáo'!$Q:$Q,'Báo cáo'!$AD:$AD,$A10,'Báo cáo'!$AA:$AA,"<="&I$4) -> 0 | J10: =SUMIFS('Báo cáo'!$O:$O,'Báo cáo'!$AD:$AD,$A10,'Báo cáo'!$Z:$Z,"<="&J$4)+SUMIFS('Báo cáo'!$P:$P,'Báo cáo'!$AD:$AD,$A10,'Báo cáo'!$Z:$Z,"<="&J$4)-SUMIFS('Báo cáo'!$Q:$Q,'Báo cáo'!$AD:$AD,$A10,'Báo cáo'!$AA:$AA,"<="&J$4) -> 0 | ... N10: =SUMIFS('Báo cáo'!$O:$O,'Báo cáo'!$AD:$AD,$A10,'Báo cáo'!$Z:$Z,"<="&N$4)+SUMIFS('Báo cáo'!$P:$P,'Báo cáo'!$AD:$AD,$A10,'Báo cáo'!$Z:$Z,"<="&N$4)-SUMIFS('Báo cáo'!$Q:$Q,'Báo cáo'!$AD:$AD,$A10,'Báo cáo'!$AA:$AA,"<="&N$4) -> 0
C11: =SUMIFS('Báo cáo'!$O:$O,'Báo cáo'!$AD:$AD,$A11,'Báo cáo'!$Z:$Z,"<="&C$4)+SUMIFS('Báo cáo'!$P:$P,'Báo cáo'!$AD:$AD,$A11,'Báo cáo'!$Z:$Z,"<="&C$4)-SUMIFS('Báo cáo'!$Q:$Q,'Báo cáo'!$AD:$AD,$A11,'Báo cáo'!$AA:$AA,"<="&C$4) -> 0 | D11: =SUMIFS('Báo cáo'!$O:$O,'Báo cáo'!$AD:$AD,$A11,'Báo cáo'!$Z:$Z,"<="&D$4)+SUMIFS('Báo cáo'!$P:$P,'Báo cáo'!$AD:$AD,$A11,'Báo cáo'!$Z:$Z,"<="&D$4)-SUMIFS('Báo cáo'!$Q:$Q,'Báo cáo'!$AD:$AD,$A11,'Báo cáo'!$AA:$AA,"<="&D$4) -> 0 | E11: =SUMIFS('Báo cáo'!$O:$O,'Báo cáo'!$AD:$AD,$A11,'Báo cáo'!$Z:$Z,"<="&E$4)+SUMIFS('Báo cáo'!$P:$P,'Báo cáo'!$AD:$AD,$A11,'Báo cáo'!$Z:$Z,"<="&E$4)-SUMIFS('Báo cáo'!$Q:$Q,'Báo cáo'!$AD:$AD,$A11,'Báo cáo'!$AA:$AA,"<="&E$4) -> 0 | F11: =SUMIFS('Báo cáo'!$O:$O,'Báo cáo'!$AD:$AD,$A11,'Báo cáo'!$Z:$Z,"<="&F$4)+SUMIFS('Báo cáo'!$P:$P,'Báo cáo'!$AD:$AD,$A11,'Báo cáo'!$Z:$Z,"<="&F$4)-SUMIFS('Báo cáo'!$Q:$Q,'Báo cáo'!$AD:$AD,$A11,'Báo cáo'!$AA:$AA,"<="&F$4) -> 0 | G11: =SUMIFS('Báo cáo'!$O:$O,'Báo cáo'!$AD:$AD,$A11,'Báo cáo'!$Z:$Z,"<="&G$4)+SUMIFS('Báo cáo'!$P:$P,'Báo cáo'!$AD:$AD,$A11,'Báo cáo'!$Z:$Z,"<="&G$4)-SUMIFS('Báo cáo'!$Q:$Q,'Báo cáo'!$AD:$AD,$A11,'Báo cáo'!$AA:$AA,"<="&G$4) -> 0 | H11: =SUMIFS('Báo cáo'!$O:$O,'Báo cáo'!$AD:$AD,$A11,'Báo cáo'!$Z:$Z,"<="&H$4)+SUMIFS('Báo cáo'!$P:$P,'Báo cáo'!$AD:$AD,$A11,'Báo cáo'!$Z:$Z,"<="&H$4)-SUMIFS('Báo cáo'!$Q:$Q,'Báo cáo'!$AD:$AD,$A11,'Báo cáo'!$AA:$AA,"<="&H$4) -> 0 | I11: =SUMIFS('Báo cáo'!$O:$O,'Báo cáo'!$AD:$AD,$A11,'Báo cáo'!$Z:$Z,"<="&I$4)+SUMIFS('Báo cáo'!$P:$P,'Báo cáo'!$AD:$AD,$A11,'Báo cáo'!$Z:$Z,"<="&I$4)-SUMIFS('Báo cáo'!$Q:$Q,'Báo cáo'!$AD:$AD,$A11,'Báo cáo'!$AA:$AA,"<="&I$4) -> 0 | J11: =SUMIFS('Báo cáo'!$O:$O,'Báo cáo'!$AD:$AD,$A11,'Báo cáo'!$Z:$Z,"<="&J$4)+SUMIFS('Báo cáo'!$P:$P,'Báo cáo'!$AD:$AD,$A11,'Báo cáo'!$Z:$Z,"<="&J$4)-SUMIFS('Báo cáo'!$Q:$Q,'Báo cáo'!$AD:$AD,$A11,'Báo cáo'!$AA:$AA,"<="&J$4) -> 0 | ... N11: =SUMIFS('Báo cáo'!$O:$O,'Báo cáo'!$AD:$AD,$A11,'Báo cáo'!$Z:$Z,"<="&N$4)+SUMIFS('Báo cáo'!$P:$P,'Báo cáo'!$AD:$AD,$A11,'Báo cáo'!$Z:$Z,"<="&N$4)-SUMIFS('Báo cáo'!$Q:$Q,'Báo cáo'!$AD:$AD,$A11,'Báo cáo'!$AA:$AA,"<="&N$4) -> 0
C12: =SUMIFS('Báo cáo'!$O:$O,'Báo cáo'!$AD:$AD,$A12,'Báo cáo'!$Z:$Z,"<="&C$4)+SUMIFS('Báo cáo'!$P:$P,'Báo cáo'!$AD:$AD,$A12,'Báo cáo'!$Z:$Z,"<="&C$4)-SUMIFS('Báo cáo'!$Q:$Q,'Báo cáo'!$AD:$AD,$A12,'Báo cáo'!$AA:$AA,"<="&C$4) -> 0 | D12: =SUMIFS('Báo cáo'!$O:$O,'Báo cáo'!$AD:$AD,$A12,'Báo cáo'!$Z:$Z,"<="&D$4)+SUMIFS('Báo cáo'!$P:$P,'Báo cáo'!$AD:$AD,$A12,'Báo cáo'!$Z:$Z,"<="&D$4)-SUMIFS('Báo cáo'!$Q:$Q,'Báo cáo'!$AD:$AD,$A12,'Báo cáo'!$AA:$AA,"<="&D$4) -> 0 | E12: =SUMIFS('Báo cáo'!$O:$O,'Báo cáo'!$AD:$AD,$A12,'Báo cáo'!$Z:$Z,"<="&E$4)+SUMIFS('Báo cáo'!$P:$P,'Báo cáo'!$AD:$AD,$A12,'Báo cáo'!$Z:$Z,"<="&E$4)-SUMIFS('Báo cáo'!$Q:$Q,'Báo cáo'!$AD:$AD,$A12,'Báo cáo'!$AA:$AA,"<="&E$4) -> 0 | F12: =SUMIFS('Báo cáo'!$O:$O,'Báo cáo'!$AD:$AD,$A12,'Báo cáo'!$Z:$Z,"<="&F$4)+SUMIFS('Báo cáo'!$P:$P,'Báo cáo'!$AD:$AD,$A12,'Báo cáo'!$Z:$Z,"<="&F$4)-SUMIFS('Báo cáo'!$Q:$Q,'Báo cáo'!$AD:$AD,$A12,'Báo cáo'!$AA:$AA,"<="&F$4) -> 0 | G12: =SUMIFS('Báo cáo'!$O:$O,'Báo cáo'!$AD:$AD,$A12,'Báo cáo'!$Z:$Z,"<="&G$4)+SUMIFS('Báo cáo'!$P:$P,'Báo cáo'!$AD:$AD,$A12,'Báo cáo'!$Z:$Z,"<="&G$4)-SUMIFS('Báo cáo'!$Q:$Q,'Báo cáo'!$AD:$AD,$A12,'Báo cáo'!$AA:$AA,"<="&G$4) -> 0 | H12: =SUMIFS('Báo cáo'!$O:$O,'Báo cáo'!$AD:$AD,$A12,'Báo cáo'!$Z:$Z,"<="&H$4)+SUMIFS('Báo cáo'!$P:$P,'Báo cáo'!$AD:$AD,$A12,'Báo cáo'!$Z:$Z,"<="&H$4)-SUMIFS('Báo cáo'!$Q:$Q,'Báo cáo'!$AD:$AD,$A12,'Báo cáo'!$AA:$AA,"<="&H$4) -> 0 | I12: =SUMIFS('Báo cáo'!$O:$O,'Báo cáo'!$AD:$AD,$A12,'Báo cáo'!$Z:$Z,"<="&I$4)+SUMIFS('Báo cáo'!$P:$P,'Báo cáo'!$AD:$AD,$A12,'Báo cáo'!$Z:$Z,"<="&I$4)-SUMIFS('Báo cáo'!$Q:$Q,'Báo cáo'!$AD:$AD,$A12,'Báo cáo'!$AA:$AA,"<="&I$4) -> 0 | J12: =SUMIFS('Báo cáo'!$O:$O,'Báo cáo'!$AD:$AD,$A12,'Báo cáo'!$Z:$Z,"<="&J$4)+SUMIFS('Báo cáo'!$P:$P,'Báo cáo'!$AD:$AD,$A12,'Báo cáo'!$Z:$Z,"<="&J$4)-SUMIFS('Báo cáo'!$Q:$Q,'Báo cáo'!$AD:$AD,$A12,'Báo cáo'!$AA:$AA,"<="&J$4) -> 0 | ... N12: =SUMIFS('Báo cáo'!$O:$O,'Báo cáo'!$AD:$AD,$A12,'Báo cáo'!$Z:$Z,"<="&N$4)+SUMIFS('Báo cáo'!$P:$P,'Báo cáo'!$AD:$AD,$A12,'Báo cáo'!$Z:$Z,"<="&N$4)-SUMIFS('Báo cáo'!$Q:$Q,'Báo cáo'!$AD:$AD,$A12,'Báo cáo'!$AA:$AA,"<="&N$4) -> 0
C13: =SUMIFS('Báo cáo'!$O:$O,'Báo cáo'!$AD:$AD,$A13,'Báo cáo'!$Z:$Z,"<="&C$4)+SUMIFS('Báo cáo'!$P:$P,'Báo cáo'!$AD:$AD,$A13,'Báo cáo'!$Z:$Z,"<="&C$4)-SUMIFS('Báo cáo'!$Q:$Q,'Báo cáo'!$AD:$AD,$A13,'Báo cáo'!$AA:$AA,"<="&C$4) -> 0 | D13: =SUMIFS('Báo cáo'!$O:$O,'Báo cáo'!$AD:$AD,$A13,'Báo cáo'!$Z:$Z,"<="&D$4)+SUMIFS('Báo cáo'!$P:$P,'Báo cáo'!$AD:$AD,$A13,'Báo cáo'!$Z:$Z,"<="&D$4)-SUMIFS('Báo cáo'!$Q:$Q,'Báo cáo'!$AD:$AD,$A13,'Báo cáo'!$AA:$AA,"<="&D$4) -> 0 | E13: =SUMIFS('Báo cáo'!$O:$O,'Báo cáo'!$AD:$AD,$A13,'Báo cáo'!$Z:$Z,"<="&E$4)+SUMIFS('Báo cáo'!$P:$P,'Báo cáo'!$AD:$AD,$A13,'Báo cáo'!$Z:$Z,"<="&E$4)-SUMIFS('Báo cáo'!$Q:$Q,'Báo cáo'!$AD:$AD,$A13,'Báo cáo'!$AA:$AA,"<="&E$4) -> 0 | F13: =SUMIFS('Báo cáo'!$O:$O,'Báo cáo'!$AD:$AD,$A13,'Báo cáo'!$Z:$Z,"<="&F$4)+SUMIFS('Báo cáo'!$P:$P,'Báo cáo'!$AD:$AD,$A13,'Báo cáo'!$Z:$Z,"<="&F$4)-SUMIFS('Báo cáo'!$Q:$Q,'Báo cáo'!$AD:$AD,$A13,'Báo cáo'!$AA:$AA,"<="&F$4) -> 0 | G13: =SUMIFS('Báo cáo'!$O:$O,'Báo cáo'!$AD:$AD,$A13,'Báo cáo'!$Z:$Z,"<="&G$4)+SUMIFS('Báo cáo'!$P:$P,'Báo cáo'!$AD:$AD,$A13,'Báo cáo'!$Z:$Z,"<="&G$4)-SUMIFS('Báo cáo'!$Q:$Q,'Báo cáo'!$AD:$AD,$A13,'Báo cáo'!$AA:$AA,"<="&G$4) -> 0 | H13: =SUMIFS('Báo cáo'!$O:$O,'Báo cáo'!$AD:$AD,$A13,'Báo cáo'!$Z:$Z,"<="&H$4)+SUMIFS('Báo cáo'!$P:$P,'Báo cáo'!$AD:$AD,$A13,'Báo cáo'!$Z:$Z,"<="&H$4)-SUMIFS('Báo cáo'!$Q:$Q,'Báo cáo'!$AD:$AD,$A13,'Báo cáo'!$AA:$AA,"<="&H$4) -> 0 | I13: =SUMIFS('Báo cáo'!$O:$O,'Báo cáo'!$AD:$AD,$A13,'Báo cáo'!$Z:$Z,"<="&I$4)+SUMIFS('Báo cáo'!$P:$P,'Báo cáo'!$AD:$AD,$A13,'Báo cáo'!$Z:$Z,"<="&I$4)-SUMIFS('Báo cáo'!$Q:$Q,'Báo cáo'!$AD:$AD,$A13,'Báo cáo'!$AA:$AA,"<="&I$4) -> 0 | J13: =SUMIFS('Báo cáo'!$O:$O,'Báo cáo'!$AD:$AD,$A13,'Báo cáo'!$Z:$Z,"<="&J$4)+SUMIFS('Báo cáo'!$P:$P,'Báo cáo'!$AD:$AD,$A13,'Báo cáo'!$Z:$Z,"<="&J$4)-SUMIFS('Báo cáo'!$Q:$Q,'Báo cáo'!$AD:$AD,$A13,'Báo cáo'!$AA:$AA,"<="&J$4) -> 0 | ... N13: =SUMIFS('Báo cáo'!$O:$O,'Báo cáo'!$AD:$AD,$A13,'Báo cáo'!$Z:$Z,"<="&N$4)+SUMIFS('Báo cáo'!$P:$P,'Báo cáo'!$AD:$AD,$A13,'Báo cáo'!$Z:$Z,"<="&N$4)-SUMIFS('Báo cáo'!$Q:$Q,'Báo cáo'!$AD:$AD,$A13,'Báo cáo'!$AA:$AA,"<="&N$4) -> 0
C14: =SUMIFS('Báo cáo'!$O:$O,'Báo cáo'!$AD:$AD,$A14,'Báo cáo'!$Z:$Z,"<="&C$4)+SUMIFS('Báo cáo'!$P:$P,'Báo cáo'!$AD:$AD,$A14,'Báo cáo'!$Z:$Z,"<="&C$4)-SUMIFS('Báo cáo'!$Q:$Q,'Báo cáo'!$AD:$AD,$A14,'Báo cáo'!$AA:$AA,"<="&C$4) -> 0 | D14: =SUMIFS('Báo cáo'!$O:$O,'Báo cáo'!$AD:$AD,$A14,'Báo cáo'!$Z:$Z,"<="&D$4)+SUMIFS('Báo cáo'!$P:$P,'Báo cáo'!$AD:$AD,$A14,'Báo cáo'!$Z:$Z,"<="&D$4)-SUMIFS('Báo cáo'!$Q:$Q,'Báo cáo'!$AD:$AD,$A14,'Báo cáo'!$AA:$AA,"<="&D$4) -> 0 | E14: =SUMIFS('Báo cáo'!$O:$O,'Báo cáo'!$AD:$AD,$A14,'Báo cáo'!$Z:$Z,"<="&E$4)+SUMIFS('Báo cáo'!$P:$P,'Báo cáo'!$AD:$AD,$A14,'Báo cáo'!$Z:$Z,"<="&E$4)-SUMIFS('Báo cáo'!$Q:$Q,'Báo cáo'!$AD:$AD,$A14,'Báo cáo'!$AA:$AA,"<="&E$4) -> 0 | F14: =SUMIFS('Báo cáo'!$O:$O,'Báo cáo'!$AD:$AD,$A14,'Báo cáo'!$Z:$Z,"<="&F$4)+SUMIFS('Báo cáo'!$P:$P,'Báo cáo'!$AD:$AD,$A14,'Báo cáo'!$Z:$Z,"<="&F$4)-SUMIFS('Báo cáo'!$Q:$Q,'Báo cáo'!$AD:$AD,$A14,'Báo cáo'!$AA:$AA,"<="&F$4) -> 0 | G14: =SUMIFS('Báo cáo'!$O:$O,'Báo cáo'!$AD:$AD,$A14,'Báo cáo'!$Z:$Z,"<="&G$4)+SUMIFS('Báo cáo'!$P:$P,'Báo cáo'!$AD:$AD,$A14,'Báo cáo'!$Z:$Z,"<="&G$4)-SUMIFS('Báo cáo'!$Q:$Q,'Báo cáo'!$AD:$AD,$A14,'Báo cáo'!$AA:$AA,"<="&G$4) -> 0 | H14: =SUMIFS('Báo cáo'!$O:$O,'Báo cáo'!$AD:$AD,$A14,'Báo cáo'!$Z:$Z,"<="&H$4)+SUMIFS('Báo cáo'!$P:$P,'Báo cáo'!$AD:$AD,$A14,'Báo cáo'!$Z:$Z,"<="&H$4)-SUMIFS('Báo cáo'!$Q:$Q,'Báo cáo'!$AD:$AD,$A14,'Báo cáo'!$AA:$AA,"<="&H$4) -> 0 | I14: =SUMIFS('Báo cáo'!$O:$O,'Báo cáo'!$AD:$AD,$A14,'Báo cáo'!$Z:$Z,"<="&I$4)+SUMIFS('Báo cáo'!$P:$P,'Báo cáo'!$AD:$AD,$A14,'Báo cáo'!$Z:$Z,"<="&I$4)-SUMIFS('Báo cáo'!$Q:$Q,'Báo cáo'!$AD:$AD,$A14,'Báo cáo'!$AA:$AA,"<="&I$4) -> 0 | J14: =SUMIFS('Báo cáo'!$O:$O,'Báo cáo'!$AD:$AD,$A14,'Báo cáo'!$Z:$Z,"<="&J$4)+SUMIFS('Báo cáo'!$P:$P,'Báo cáo'!$AD:$AD,$A14,'Báo cáo'!$Z:$Z,"<="&J$4)-SUMIFS('Báo cáo'!$Q:$Q,'Báo cáo'!$AD:$AD,$A14,'Báo cáo'!$AA:$AA,"<="&J$4) -> 0 | ... N14: =SUMIFS('Báo cáo'!$O:$O,'Báo cáo'!$AD:$AD,$A14,'Báo cáo'!$Z:$Z,"<="&N$4)+SUMIFS('Báo cáo'!$P:$P,'Báo cáo'!$AD:$AD,$A14,'Báo cáo'!$Z:$Z,"<="&N$4)-SUMIFS('Báo cáo'!$Q:$Q,'Báo cáo'!$AD:$AD,$A14,'Báo cáo'!$AA:$AA,"<="&N$4) -> 0
C15: =SUMIFS('Báo cáo'!$O:$O,'Báo cáo'!$AD:$AD,$A15,'Báo cáo'!$Z:$Z,"<="&C$4)+SUMIFS('Báo cáo'!$P:$P,'Báo cáo'!$AD:$AD,$A15,'Báo cáo'!$Z:$Z,"<="&C$4)-SUMIFS('Báo cáo'!$Q:$Q,'Báo cáo'!$AD:$AD,$A15,'Báo cáo'!$AA:$AA,"<="&C$4) -> 0 | D15: =SUMIFS('Báo cáo'!$O:$O,'Báo cáo'!$AD:$AD,$A15,'Báo cáo'!$Z:$Z,"<="&D$4)+SUMIFS('Báo cáo'!$P:$P,'Báo cáo'!$AD:$AD,$A15,'Báo cáo'!$Z:$Z,"<="&D$4)-SUMIFS('Báo cáo'!$Q:$Q,'Báo cáo'!$AD:$AD,$A15,'Báo cáo'!$AA:$AA,"<="&D$4) -> 0 | E15: =SUMIFS('Báo cáo'!$O:$O,'Báo cáo'!$AD:$AD,$A15,'Báo cáo'!$Z:$Z,"<="&E$4)+SUMIFS('Báo cáo'!$P:$P,'Báo cáo'!$AD:$AD,$A15,'Báo cáo'!$Z:$Z,"<="&E$4)-SUMIFS('Báo cáo'!$Q:$Q,'Báo cáo'!$AD:$AD,$A15,'Báo cáo'!$AA:$AA,"<="&E$4) -> 0 | F15: =SUMIFS('Báo cáo'!$O:$O,'Báo cáo'!$AD:$AD,$A15,'Báo cáo'!$Z:$Z,"<="&F$4)+SUMIFS('Báo cáo'!$P:$P,'Báo cáo'!$AD:$AD,$A15,'Báo cáo'!$Z:$Z,"<="&F$4)-SUMIFS('Báo cáo'!$Q:$Q,'Báo cáo'!$AD:$AD,$A15,'Báo cáo'!$AA:$AA,"<="&F$4) -> 0 | G15: =SUMIFS('Báo cáo'!$O:$O,'Báo cáo'!$AD:$AD,$A15,'Báo cáo'!$Z:$Z,"<="&G$4)+SUMIFS('Báo cáo'!$P:$P,'Báo cáo'!$AD:$AD,$A15,'Báo cáo'!$Z:$Z,"<="&G$4)-SUMIFS('Báo cáo'!$Q:$Q,'Báo cáo'!$AD:$AD,$A15,'Báo cáo'!$AA:$AA,"<="&G$4) -> 0 | H15: =SUMIFS('Báo cáo'!$O:$O,'Báo cáo'!$AD:$AD,$A15,'Báo cáo'!$Z:$Z,"<="&H$4)+SUMIFS('Báo cáo'!$P:$P,'Báo cáo'!$AD:$AD,$A15,'Báo cáo'!$Z:$Z,"<="&H$4)-SUMIFS('Báo cáo'!$Q:$Q,'Báo cáo'!$AD:$AD,$A15,'Báo cáo'!$AA:$AA,"<="&H$4) -> 0 | I15: =SUMIFS('Báo cáo'!$O:$O,'Báo cáo'!$AD:$AD,$A15,'Báo cáo'!$Z:$Z,"<="&I$4)+SUMIFS('Báo cáo'!$P:$P,'Báo cáo'!$AD:$AD,$A15,'Báo cáo'!$Z:$Z,"<="&I$4)-SUMIFS('Báo cáo'!$Q:$Q,'Báo cáo'!$AD:$AD,$A15,'Báo cáo'!$AA:$AA,"<="&I$4) -> 0 | J15: =SUMIFS('Báo cáo'!$O:$O,'Báo cáo'!$AD:$AD,$A15,'Báo cáo'!$Z:$Z,"<="&J$4)+SUMIFS('Báo cáo'!$P:$P,'Báo cáo'!$AD:$AD,$A15,'Báo cáo'!$Z:$Z,"<="&J$4)-SUMIFS('Báo cáo'!$Q:$Q,'Báo cáo'!$AD:$AD,$A15,'Báo cáo'!$AA:$AA,"<="&J$4) -> 0 | ... N15: =SUMIFS('Báo cáo'!$O:$O,'Báo cáo'!$AD:$AD,$A15,'Báo cáo'!$Z:$Z,"<="&N$4)+SUMIFS('Báo cáo'!$P:$P,'Báo cáo'!$AD:$AD,$A15,'Báo cáo'!$Z:$Z,"<="&N$4)-SUMIFS('Báo cáo'!$Q:$Q,'Báo cáo'!$AD:$AD,$A15,'Báo cáo'!$AA:$AA,"<="&N$4) -> 0
C16: =SUMIFS('Báo cáo'!$O:$O,'Báo cáo'!$AD:$AD,$A16,'Báo cáo'!$Z:$Z,"<="&C$4)+SUMIFS('Báo cáo'!$P:$P,'Báo cáo'!$AD:$AD,$A16,'Báo cáo'!$Z:$Z,"<="&C$4)-SUMIFS('Báo cáo'!$Q:$Q,'Báo cáo'!$AD:$AD,$A16,'Báo cáo'!$AA:$AA,"<="&C$4) -> 0 | D16: =SUMIFS('Báo cáo'!$O:$O,'Báo cáo'!$AD:$AD,$A16,'Báo cáo'!$Z:$Z,"<="&D$4)+SUMIFS('Báo cáo'!$P:$P,'Báo cáo'!$AD:$AD,$A16,'Báo cáo'!$Z:$Z,"<="&D$4)-SUMIFS('Báo cáo'!$Q:$Q,'Báo cáo'!$AD:$AD,$A16,'Báo cáo'!$AA:$AA,"<="&D$4) -> 0 | E16: =SUMIFS('Báo cáo'!$O:$O,'Báo cáo'!$AD:$AD,$A16,'Báo cáo'!$Z:$Z,"<="&E$4)+SUMIFS('Báo cáo'!$P:$P,'Báo cáo'!$AD:$AD,$A16,'Báo cáo'!$Z:$Z,"<="&E$4)-SUMIFS('Báo cáo'!$Q:$Q,'Báo cáo'!$AD:$AD,$A16,'Báo cáo'!$AA:$AA,"<="&E$4) -> 0 | F16: =SUMIFS('Báo cáo'!$O:$O,'Báo cáo'!$AD:$AD,$A16,'Báo cáo'!$Z:$Z,"<="&F$4)+SUMIFS('Báo cáo'!$P:$P,'Báo cáo'!$AD:$AD,$A16,'Báo cáo'!$Z:$Z,"<="&F$4)-SUMIFS('Báo cáo'!$Q:$Q,'Báo cáo'!$AD:$AD,$A16,'Báo cáo'!$AA:$AA,"<="&F$4) -> 0 | G16: =SUMIFS('Báo cáo'!$O:$O,'Báo cáo'!$AD:$AD,$A16,'Báo cáo'!$Z:$Z,"<="&G$4)+SUMIFS('Báo cáo'!$P:$P,'Báo cáo'!$AD:$AD,$A16,'Báo cáo'!$Z:$Z,"<="&G$4)-SUMIFS('Báo cáo'!$Q:$Q,'Báo cáo'!$AD:$AD,$A16,'Báo cáo'!$AA:$AA,"<="&G$4) -> 0 | H16: =SUMIFS('Báo cáo'!$O:$O,'Báo cáo'!$AD:$AD,$A16,'Báo cáo'!$Z:$Z,"<="&H$4)+SUMIFS('Báo cáo'!$P:$P,'Báo cáo'!$AD:$AD,$A16,'Báo cáo'!$Z:$Z,"<="&H$4)-SUMIFS('Báo cáo'!$Q:$Q,'Báo cáo'!$AD:$AD,$A16,'Báo cáo'!$AA:$AA,"<="&H$4) -> 0 | I16: =SUMIFS('Báo cáo'!$O:$O,'Báo cáo'!$AD:$AD,$A16,'Báo cáo'!$Z:$Z,"<="&I$4)+SUMIFS('Báo cáo'!$P:$P,'Báo cáo'!$AD:$AD,$A16,'Báo cáo'!$Z:$Z,"<="&I$4)-SUMIFS('Báo cáo'!$Q:$Q,'Báo cáo'!$AD:$AD,$A16,'Báo cáo'!$AA:$AA,"<="&I$4) -> 0 | J16: =SUMIFS('Báo cáo'!$O:$O,'Báo cáo'!$AD:$AD,$A16,'Báo cáo'!$Z:$Z,"<="&J$4)+SUMIFS('Báo cáo'!$P:$P,'Báo cáo'!$AD:$AD,$A16,'Báo cáo'!$Z:$Z,"<="&J$4)-SUMIFS('Báo cáo'!$Q:$Q,'Báo cáo'!$AD:$AD,$A16,'Báo cáo'!$AA:$AA,"<="&J$4) -> 0 | ... N16: =SUMIFS('Báo cáo'!$O:$O,'Báo cáo'!$AD:$AD,$A16,'Báo cáo'!$Z:$Z,"<="&N$4)+SUMIFS('Báo cáo'!$P:$P,'Báo cáo'!$AD:$AD,$A16,'Báo cáo'!$Z:$Z,"<="&N$4)-SUMIFS('Báo cáo'!$Q:$Q,'Báo cáo'!$AD:$AD,$A16,'Báo cáo'!$AA:$AA,"<="&N$4) -> 0
C17: =SUMIFS('Báo cáo'!$O:$O,'Báo cáo'!$AD:$AD,$A17,'Báo cáo'!$Z:$Z,"<="&C$4)+SUMIFS('Báo cáo'!$P:$P,'Báo cáo'!$AD:$AD,$A17,'Báo cáo'!$Z:$Z,"<="&C$4)-SUMIFS('Báo cáo'!$Q:$Q,'Báo cáo'!$AD:$AD,$A17,'Báo cáo'!$AA:$AA,"<="&C$4) -> 0 | D17: =SUMIFS('Báo cáo'!$O:$O,'Báo cáo'!$AD:$AD,$A17,'Báo cáo'!$Z:$Z,"<="&D$4)+SUMIFS('Báo cáo'!$P:$P,'Báo cáo'!$AD:$AD,$A17,'Báo cáo'!$Z:$Z,"<="&D$4)-SUMIFS('Báo cáo'!$Q:$Q,'Báo cáo'!$AD:$AD,$A17,'Báo cáo'!$AA:$AA,"<="&D$4) -> 0 | E17: =SUMIFS('Báo cáo'!$O:$O,'Báo cáo'!$AD:$AD,$A17,'Báo cáo'!$Z:$Z,"<="&E$4)+SUMIFS('Báo cáo'!$P:$P,'Báo cáo'!$AD:$AD,$A17,'Báo cáo'!$Z:$Z,"<="&E$4)-SUMIFS('Báo cáo'!$Q:$Q,'Báo cáo'!$AD:$AD,$A17,'Báo cáo'!$AA:$AA,"<="&E$4) -> 0 | F17: =SUMIFS('Báo cáo'!$O:$O,'Báo cáo'!$AD:$AD,$A17,'Báo cáo'!$Z:$Z,"<="&F$4)+SUMIFS('Báo cáo'!$P:$P,'Báo cáo'!$AD:$AD,$A17,'Báo cáo'!$Z:$Z,"<="&F$4)-SUMIFS('Báo cáo'!$Q:$Q,'Báo cáo'!$AD:$AD,$A17,'Báo cáo'!$AA:$AA,"<="&F$4) -> 0 | G17: =SUMIFS('Báo cáo'!$O:$O,'Báo cáo'!$AD:$AD,$A17,'Báo cáo'!$Z:$Z,"<="&G$4)+SUMIFS('Báo cáo'!$P:$P,'Báo cáo'!$AD:$AD,$A17,'Báo cáo'!$Z:$Z,"<="&G$4)-SUMIFS('Báo cáo'!$Q:$Q,'Báo cáo'!$AD:$AD,$A17,'Báo cáo'!$AA:$AA,"<="&G$4) -> 0 | H17: =SUMIFS('Báo cáo'!$O:$O,'Báo cáo'!$AD:$AD,$A17,'Báo cáo'!$Z:$Z,"<="&H$4)+SUMIFS('Báo cáo'!$P:$P,'Báo cáo'!$AD:$AD,$A17,'Báo cáo'!$Z:$Z,"<="&H$4)-SUMIFS('Báo cáo'!$Q:$Q,'Báo cáo'!$AD:$AD,$A17,'Báo cáo'!$AA:$AA,"<="&H$4) -> 0 | I17: =SUMIFS('Báo cáo'!$O:$O,'Báo cáo'!$AD:$AD,$A17,'Báo cáo'!$Z:$Z,"<="&I$4)+SUMIFS('Báo cáo'!$P:$P,'Báo cáo'!$AD:$AD,$A17,'Báo cáo'!$Z:$Z,"<="&I$4)-SUMIFS('Báo cáo'!$Q:$Q,'Báo cáo'!$AD:$AD,$A17,'Báo cáo'!$AA:$AA,"<="&I$4) -> 0 | J17: =SUMIFS('Báo cáo'!$O:$O,'Báo cáo'!$AD:$AD,$A17,'Báo cáo'!$Z:$Z,"<="&J$4)+SUMIFS('Báo cáo'!$P:$P,'Báo cáo'!$AD:$AD,$A17,'Báo cáo'!$Z:$Z,"<="&J$4)-SUMIFS('Báo cáo'!$Q:$Q,'Báo cáo'!$AD:$AD,$A17,'Báo cáo'!$AA:$AA,"<="&J$4) -> 0 | ... N17: =SUMIFS('Báo cáo'!$O:$O,'Báo cáo'!$AD:$AD,$A17,'Báo cáo'!$Z:$Z,"<="&N$4)+SUMIFS('Báo cáo'!$P:$P,'Báo cáo'!$AD:$AD,$A17,'Báo cáo'!$Z:$Z,"<="&N$4)-SUMIFS('Báo cáo'!$Q:$Q,'Báo cáo'!$AD:$AD,$A17,'Báo cáo'!$AA:$AA,"<="&N$4) -> 0
... C32: =SUMIFS('Báo cáo'!$O:$O,'Báo cáo'!$AD:$AD,$A32,'Báo cáo'!$Z:$Z,"<="&C$4)+SUMIFS('Báo cáo'!$P:$P,'Báo cáo'!$AD:$AD,$A32,'Báo cáo'!$Z:$Z,"<="&C$4)-SUMIFS('Báo cáo'!$Q:$Q,'Báo cáo'!$AD:$AD,$A32,'Báo cáo'!$AA:$AA,"<="&C$4) -> 0 | D32: =SUMIFS('Báo cáo'!$O:$O,'Báo cáo'!$AD:$AD,$A32,'Báo cáo'!$Z:$Z,"<="&D$4)+SUMIFS('Báo cáo'!$P:$P,'Báo cáo'!$AD:$AD,$A32,'Báo cáo'!$Z:$Z,"<="&D$4)-SUMIFS('Báo cáo'!$Q:$Q,'Báo cáo'!$AD:$AD,$A32,'Báo cáo'!$AA:$AA,"<="&D$4) -> 0 | E32: =SUMIFS('Báo cáo'!$O:$O,'Báo cáo'!$AD:$AD,$A32,'Báo cáo'!$Z:$Z,"<="&E$4)+SUMIFS('Báo cáo'!$P:$P,'Báo cáo'!$AD:$AD,$A32,'Báo cáo'!$Z:$Z,"<="&E$4)-SUMIFS('Báo cáo'!$Q:$Q,'Báo cáo'!$AD:$AD,$A32,'Báo cáo'!$AA:$AA,"<="&E$4) -> 0 | F32: =SUMIFS('Báo cáo'!$O:$O,'Báo cáo'!$AD:$AD,$A32,'Báo cáo'!$Z:$Z,"<="&F$4)+SUMIFS('Báo cáo'!$P:$P,'Báo cáo'!$AD:$AD,$A32,'Báo cáo'!$Z:$Z,"<="&F$4)-SUMIFS('Báo cáo'!$Q:$Q,'Báo cáo'!$AD:$AD,$A32,'Báo cáo'!$AA:$AA,"<="&F$4) -> 0 | G32: =SUMIFS('Báo cáo'!$O:$O,'Báo cáo'!$AD:$AD,$A32,'Báo cáo'!$Z:$Z,"<="&G$4)+SUMIFS('Báo cáo'!$P:$P,'Báo cáo'!$AD:$AD,$A32,'Báo cáo'!$Z:$Z,"<="&G$4)-SUMIFS('Báo cáo'!$Q:$Q,'Báo cáo'!$AD:$AD,$A32,'Báo cáo'!$AA:$AA,"<="&G$4) -> 0 | H32: =SUMIFS('Báo cáo'!$O:$O,'Báo cáo'!$AD:$AD,$A32,'Báo cáo'!$Z:$Z,"<="&H$4)+SUMIFS('Báo cáo'!$P:$P,'Báo cáo'!$AD:$AD,$A32,'Báo cáo'!$Z:$Z,"<="&H$4)-SUMIFS('Báo cáo'!$Q:$Q,'Báo cáo'!$AD:$AD,$A32,'Báo cáo'!$AA:$AA,"<="&H$4) -> 0 | I32: =SUMIFS('Báo cáo'!$O:$O,'Báo cáo'!$AD:$AD,$A32,'Báo cáo'!$Z:$Z,"<="&I$4)+SUMIFS('Báo cáo'!$P:$P,'Báo cáo'!$AD:$AD,$A32,'Báo cáo'!$Z:$Z,"<="&I$4)-SUMIFS('Báo cáo'!$Q:$Q,'Báo cáo'!$AD:$AD,$A32,'Báo cáo'!$AA:$AA,"<="&I$4) -> 0 | J32: =SUMIFS('Báo cáo'!$O:$O,'Báo cáo'!$AD:$AD,$A32,'Báo cáo'!$Z:$Z,"<="&J$4)+SUMIFS('Báo cáo'!$P:$P,'Báo cáo'!$AD:$AD,$A32,'Báo cáo'!$Z:$Z,"<="&J$4)-SUMIFS('Báo cáo'!$Q:$Q,'Báo cáo'!$AD:$AD,$A32,'Báo cáo'!$AA:$AA,"<="&J$4) -> 0 | ... N32: =SUMIFS('Báo cáo'!$O:$O,'Báo cáo'!$AD:$AD,$A32,'Báo cáo'!$Z:$Z,"<="&N$4)+SUMIFS('Báo cáo'!$P:$P,'Báo cáo'!$AD:$AD,$A32,'Báo cáo'!$Z:$Z,"<="&N$4)-SUMIFS('Báo cáo'!$Q:$Q,'Báo cáo'!$AD:$AD,$A32,'Báo cáo'!$AA:$AA,"<="&N$4) -> 0

Sheet Báo cáo
A1: CHI TIẾT CÔNG NỢ PHẢI THU THEO HÓA ĐƠN | Q1: =+SUBTOTAL(9,$O$3:$P$1048576) -> 27310420
A2: Tài khoản: 131; Tháng 9 năm 2025
A3: Mã khách hàng | B3: Tên Khách hàng | C3: Ngày hạch toán | D3: Số chứng từ | E3: Ngày hóa đơn | F3: Số hóa đơn | G3: Diễn giải | H3: Tiền hàng | I3: Tiền chiết khấu | J3: Tiền VAT | K3: Tổng giá trị | L3: Phân loại | M3: Ngày Thanh toán | N3: Chứng từ Thanh toán | O3: Số còn phải thu ĐK | P3: Giá Trị HD sau CK | Q3: Số tiền đã thu | R3: Số còn phải thu | S3: Ngày tính CN | T3: Số ngày được nợ | U3: Hạn thanh toán | V3: Số ngày nợ còn lại | W3: Nhóm nợ trước hạn | X3: Số ngày quá hạn | Y3: Nhóm nợ quá hạn | Z3: Tháng HĐ | AA3: Tháng Thanh toán | AB3: Ghi chú | AC3: Trạng Thái ghi sổ | AD3: NHÓM KHÁCH HÀNG | AE3: TÊN NHÓM KHÁCH HÀNG | AF3: Nhân viên sale
A4: SAIGONHD-HCM-PNN-67013 | B4: CÔNG TY CỔ PHẦN SÀI GÒN HD | C4: 42107 | E4: 42107 | F4: 7 | H4: 2725368 | I4: 0.1 | J4: 272537 | K4: 2997905 | L4: Tồn đầu kỳ | O4: =IF(Table1[[#This Row],[Phân loại]]="Tồn đầu kỳ",Table1[[#This Row],[Tổng giá trị]],0) -> 2997905 | P4: =IF(Table1[[#This Row],[Số còn phải thu ĐK]]<>0,0,IF(Table1[[#This Row],[Phân loại]]="Bán hàng",Table1[[#This Row],[Tổng giá trị]],-Table1[[#This Row],[Tổng giá trị]])) -> 0 | Q4: =IF(M4<>"",IF(O4<>0,O4,P4),0) -> 0 | R4: =Table1[[#This Row],[Số còn phải thu ĐK]]+Table1[[#This Row],[Giá Trị HD sau CK]]-Table1[[#This Row],[Số tiền đã thu]] -> 2997905 | S4: =IF(Table1[[#This Row],[Ngày hóa đơn]]<>"",Table1[[#This Row],[Ngày hóa đơn]],IF(Table1[[#This Row],[Ngày hạch toán]]<>"",Table1[[#This Row],[Ngày hạch toán]],"")) -> 42107 | U4: =IF(Table1[[#This Row],[Ngày tính CN]]="","",S4+T4) -> 42107 | V4: =IF(Table1[[#This Row],[Hạn thanh toán]]="","",IF((U4-NOW())<0,0,(U4-NOW()))) -> 0 | X4: =IF(OR(U4="",R4=0),"",IF((U4-NOW())<0,-(U4-NOW()),0)) -> 4138.3445 | Y4: =IF(R4=0,"Đã thanh toán",IF(X4="","",IF(X4<=0,"Chưa đến hạn thanh toán",IF(X4<=30,"Nợ quá hạn 30 ngày",IF(X4<=60,"Nợ quá hạn từ 30 ngày đến 60 ngày",IF(X4<=90,"Nợ quá hạn từ 60 ngày đến 90 ngày",IF(X4<=120,"Nợ quá hạn từ 90 ngày đến 120 ngày","Nợ quá hạn hơn 120 ngày có khả năng mất thanh toán"))))))) -> Nợ quá hạn hơn 120 ngày có khả năng mất thanh toán | Z4: =IF(S4="","",S4) -> 42107 | AA4: =IF(M4="","",M4) | AB4: công nợ gối đầu | AD4: =VLOOKUP($A4,MA_KH!$A:$V,MA_KH!U$1,0) -> SAIGONHD | AE4: =VLOOKUP($A4,MA_KH!$A:$V,MA_KH!V$1,0) -> CÔNG TY CỔ PHẦN SÀI GÒN HD | AF4: =VLOOKUP($A4,MA_KH!$A:$V,MA_KH!H$1,0) -> SG039
A5: SAIGONHD-HCM-PNN-67013 | B5: CÔNG TY CỔ PHẦN SÀI GÒN HD | C5: 42107 | E5: 42107 | F5: 8 | H5: 2510379 | I5: 0.1 | J5: 251038 | K5: 2761417 | L5: Tồn đầu kỳ | O5: =IF(Table1[[#This Row],[Phân loại]]="Tồn đầu kỳ",Table1[[#This Row],[Tổng giá trị]],0) -> 2761417 | P5: =IF(Table1[[#This Row],[Số còn phải thu ĐK]]<>0,0,IF(Table1[[#This Row],[Phân loại]]="Bán hàng",Table1[[#This Row],[Tổng giá trị]],-Table1[[#This Row],[Tổng giá trị]])) -> 0 | Q5: =IF(M5<>"",IF(O5<>0,O5,P5),0) -> 0 | R5: =Table1[[#This Row],[Số còn phải thu ĐK]]+Table1[[#This Row],[Giá Trị HD sau CK]]-Table1[[#This Row],[Số tiền đã thu]] -> 2761417 | S5: =IF(Table1[[#This Row],[Ngày hóa đơn]]<>"",Table1[[#This Row],[Ngày hóa đơn]],IF(Table1[[#This Row],[Ngày hạch toán]]<>"",Table1[[#This Row],[Ngày hạch toán]],"")) -> 42107 | U5: =IF(Table1[[#This Row],[Ngày tính CN]]="","",S5+T5) -> 42107 | V5: =IF(Table1[[#This Row],[Hạn thanh toán]]="","",IF((U5-NOW())<0,0,(U5-NOW()))) -> 0 | X5: =IF(OR(U5="",R5=0),"",IF((U5-NOW())<0,-(U5-NOW()),0)) -> 4138.3445 | Y5: =IF(R5=0,"Đã thanh toán",IF(X5="","",IF(X5<=0,"Chưa đến hạn thanh toán",IF(X5<=30,"Nợ quá hạn 30 ngày",IF(X5<=60,"Nợ quá hạn từ 30 ngày đến 60 ngày",IF(X5<=90,"Nợ quá hạn từ 60 ngày đến 90 ngày",IF(X5<=120,"Nợ quá hạn từ 90 ngày đến 120 ngày","Nợ quá hạn hơn 120 ngày có khả năng mất thanh toán"))))))) -> Nợ quá hạn hơn 120 ngày có khả năng mất thanh toán | Z5: =IF(S5="","",S5) -> 42107 | AA5: =IF(M5="","",M5) | AB5: công nợ gối đầu | AD5: =VLOOKUP($A5,MA_KH!$A:$V,MA_KH!U$1,0) -> SAIGONHD | AE5: =VLOOKUP($A5,MA_KH!$A:$V,MA_KH!V$1,0) -> CÔNG TY CỔ PHẦN SÀI GÒN HD | AF5: =VLOOKUP($A5,MA_KH!$A:$V,MA_KH!H$1,0) -> SG039
A6: SAIGONHD-HCM-PNN-67013 | B6: CÔNG TY CỔ PHẦN SÀI GÒN HD | C6: 44005 | E6: 44005 | F6: 14996 | G6: CÔNG TY CỔ PHẦN SÀI GÒN HD / RIVERSIDE, KT | H6: 3824532 | I6: 0.1 | J6: 382453 | K6: 4206985 | L6: Tồn đầu kỳ | O6: =IF(Table1[[#This Row],[Phân loại]]="Tồn đầu kỳ",Table1[[#This Row],[Tổng giá trị]],0) -> 4206985 | P6: =IF(Table1[[#This Row],[Số còn phải thu ĐK]]<>0,0,IF(Table1[[#This Row],[Phân loại]]="Bán hàng",Table1[[#This Row],[Tổng giá trị]],-Table1[[#This Row],[Tổng giá trị]])) -> 0 | Q6: =IF(M6<>"",IF(O6<>0,O6,P6),0) -> 0 | R6: =Table1[[#This Row],[Số còn phải thu ĐK]]+Table1[[#This Row],[Giá Trị HD sau CK]]-Table1[[#This Row],[Số tiền đã thu]] -> 4206985 | S6: =IF(Table1[[#This Row],[Ngày hóa đơn]]<>"",Table1[[#This Row],[Ngày hóa đơn]],IF(Table1[[#This Row],[Ngày hạch toán]]<>"",Table1[[#This Row],[Ngày hạch toán]],"")) -> 44005 | U6: =IF(Table1[[#This Row],[Ngày tính CN]]="","",S6+T6) -> 44005 | V6: =IF(Table1[[#This Row],[Hạn thanh toán]]="","",IF((U6-NOW())<0,0,(U6-NOW()))) -> 0 | X6: =IF(OR(U6="",R6=0),"",IF((U6-NOW())<0,-(U6-NOW()),0)) -> 2240.3445 | Y6: =IF(R6=0,"Đã thanh toán",IF(X6="","",IF(X6<=0,"Chưa đến hạn thanh toán",IF(X6<=30,"Nợ quá hạn 30 ngày",IF(X6<=60,"Nợ quá hạn từ 30 ngày đến 60 ngày",IF(X6<=90,"Nợ quá hạn từ 60 ngày đến 90 ngày",IF(X6<=120,"Nợ quá hạn từ 90 ngày đến 120 ngày","Nợ quá hạn hơn 120 ngày có khả năng mất thanh toán"))))))) -> Nợ quá hạn hơn 120 ngày có khả năng mất thanh toán | Z6: =IF(S6="","",S6) -> 44005 | AA6: =IF(M6="","",M6) | AB6: công nợ gối đầu | AD6: =VLOOKUP($A6,MA_KH!$A:$V,MA_KH!U$1,0) -> SAIGONHD | AE6: =VLOOKUP($A6,MA_KH!$A:$V,MA_KH!V$1,0) -> CÔNG TY CỔ PHẦN SÀI GÒN HD | AF6: =VLOOKUP($A6,MA_KH!$A:$V,MA_KH!H$1,0) -> SG039
A7: SAIGONHD-HCM-PNN-67013 | B7: CÔNG TY CỔ PHẦN SÀI GÒN HD | C7: 44229 | E7: 44229 | F7: 42500 | G7: CÔNG TY CỔ PHẦN SÀI GÒN HD / Kho bán hàng - Richmond, KT | H7: 2885060 | I7: 0.1 | J7: 288506 | K7: 3173566 | L7: Tồn đầu kỳ | O7: =IF(Table1[[#This Row],[Phân loại]]="Tồn đầu kỳ",Table1[[#This Row],[Tổng giá trị]],0) -> 3173566 | P7: =IF(Table1[[#This Row],[Số còn phải thu ĐK]]<>0,0,IF(Table1[[#This Row],[Phân loại]]="Bán hàng",Table1[[#This Row],[Tổng giá trị]],-Table1[[#This Row],[Tổng giá trị]])) -> 0 | Q7: =IF(M7<>"",IF(O7<>0,O7,P7),0) -> 0 | R7: =Table1[[#This Row],[Số còn phải thu ĐK]]+Table1[[#This Row],[Giá Trị HD sau CK]]-Table1[[#This Row],[Số tiền đã thu]] -> 3173566 | S7: =IF(Table1[[#This Row],[Ngày hóa đơn]]<>"",Table1[[#This Row],[Ngày hóa đơn]],IF(Table1[[#This Row],[Ngày hạch toán]]<>"",Table1[[#This Row],[Ngày hạch toán]],"")) -> 44229 | U7: =IF(Table1[[#This Row],[Ngày tính CN]]="","",S7+T7) -> 44229 | V7: =IF(Table1[[#This Row],[Hạn thanh toán]]="","",IF((U7-NOW())<0,0,(U7-NOW()))) -> 0 | X7: =IF(OR(U7="",R7=0),"",IF((U7-NOW())<0,-(U7-NOW()),0)) -> 2016.3445 | Y7: =IF(R7=0,"Đã thanh toán",IF(X7="","",IF(X7<=0,"Chưa đến hạn thanh toán",IF(X7<=30,"Nợ quá hạn 30 ngày",IF(X7<=60,"Nợ quá hạn từ 30 ngày đến 60 ngày",IF(X7<=90,"Nợ quá hạn từ 60 ngày đến 90 ngày",IF(X7<=120,"Nợ quá hạn từ 90 ngày đến 120 ngày","Nợ quá hạn hơn 120 ngày có khả năng mất thanh toán"))))))) -> Nợ quá hạn hơn 120 ngày có khả năng mất thanh toán | Z7: =IF(S7="","",S7) -> 44229 | AA7: =IF(M7="","",M7) | AB7: công nợ gối đầu | AD7: =VLOOKUP($A7,MA_KH!$A:$V,MA_KH!U$1,0) -> SAIGONHD | AE7: =VLOOKUP($A7,MA_KH!$A:$V,MA_KH!V$1,0) -> CÔNG TY CỔ PHẦN SÀI GÒN HD | AF7: =VLOOKUP($A7,MA_KH!$A:$V,MA_KH!H$1,0) -> SG039
A8: SAIGONHD-HCM-PNN-67013 | B8: CÔNG TY CỔ PHẦN SÀI GÒN HD | C8: 44294 | E8: 44294 | F8: 49039 | G8: CÔNG TY CỔ PHẦN SÀI GÒN HD / EMPIRE CITY, KT | H8: 1266561 | I8: 0.1 | J8: 126656 | K8: 1393217 | L8: Tồn đầu kỳ | O8: =IF(Table1[[#This Row],[Phân loại]]="Tồn đầu kỳ",Table1[[#This Row],[Tổng giá trị]],0) -> 1393217 | P8: =IF(Table1[[#This Row],[Số còn phải thu ĐK]]<>0,0,IF(Table1[[#This Row],[Phân loại]]="Bán hàng",Table1[[#This Row],[Tổng giá trị]],-Table1[[#This Row],[Tổng giá trị]])) -> 0 | Q8: =IF(M8<>"",IF(O8<>0,O8,P8),0) -> 0 | R8: =Table1[[#This Row],[Số còn phải thu ĐK]]+Table1[[#This Row],[Giá Trị HD sau CK]]-Table1[[#This Row],[Số tiền đã thu]] -> 1393217 | S8: =IF(Table1[[#This Row],[Ngày hóa đơn]]<>"",Table1[[#This Row],[Ngày hóa đơn]],IF(Table1[[#This Row],[Ngày hạch toán]]<>"",Table1[[#This Row],[Ngày hạch toán]],"")) -> 44294 | U8: =IF(Table1[[#This Row],[Ngày tính CN]]="","",S8+T8) -> 44294 | V8: =IF(Table1[[#This Row],[Hạn thanh toán]]="","",IF((U8-NOW())<0,0,(U8-NOW()))) -> 0 | X8: =IF(OR(U8="",R8=0),"",IF((U8-NOW())<0,-(U8-NOW()),0)) -> 1951.3445 | Y8: =IF(R8=0,"Đã thanh toán",IF(X8="","",IF(X8<=0,"Chưa đến hạn thanh toán",IF(X8<=30,"Nợ quá hạn 30 ngày",IF(X8<=60,"Nợ quá hạn từ 30 ngày đến 60 ngày",IF(X8<=90,"Nợ quá hạn từ 60 ngày đến 90 ngày",IF(X8<=120,"Nợ quá hạn từ 90 ngày đến 120 ngày","Nợ quá hạn hơn 120 ngày có khả năng mất thanh toán"))))))) -> Nợ quá hạn hơn 120 ngày có khả năng mất thanh toán | Z8: =IF(S8="","",S8) -> 44294 | AA8: =IF(M8="","",M8) | AB8: công nợ gối đầu | AD8: =VLOOKUP($A8,MA_KH!$A:$V,MA_KH!U$1,0) -> SAIGONHD | AE8: =VLOOKUP($A8,MA_KH!$A:$V,MA_KH!V$1,0) -> CÔNG TY CỔ PHẦN SÀI GÒN HD | AF8: =VLOOKUP($A8,MA_KH!$A:$V,MA_KH!H$1,0) -> SG039
A9: SAIGONHD-HCM-PNN-67013 | B9: CÔNG TY CỔ PHẦN SÀI GÒN HD | C9: 44942 | E9: 44942 | F9: 1662 | G9: CÔNG TY CỔ PHẦN SÀI GÒN HD - Picity High, KT | H9: 1311386 | I9: 0.1 | J9: 131139 | K9: 1442525 | L9: Tồn đầu kỳ | O9: =IF(Table1[[#This Row],[Phân loại]]="Tồn đầu kỳ",Table1[[#This Row],[Tổng giá trị]],0) -> 1442525 | P9: =IF(Table1[[#This Row],[Số còn phải thu ĐK]]<>0,0,IF(Table1[[#This Row],[Phân loại]]="Bán hàng",Table1[[#This Row],[Tổng giá trị]],-Table1[[#This Row],[Tổng giá trị]])) -> 0 | Q9: =IF(M9<>"",IF(O9<>0,O9,P9),0) -> 0 | R9: =Table1[[#This Row],[Số còn phải thu ĐK]]+Table1[[#This Row],[Giá Trị HD sau CK]]-Table1[[#This Row],[Số tiền đã thu]] -> 1442525 | S9: =IF(Table1[[#This Row],[Ngày hóa đơn]]<>"",Table1[[#This Row],[Ngày hóa đơn]],IF(Table1[[#This Row],[Ngày hạch toán]]<>"",Table1[[#This Row],[Ngày hạch toán]],"")) -> 44942 | U9: =IF(Table1[[#This Row],[Ngày tính CN]]="","",S9+T9) -> 44942 | V9: =IF(Table1[[#This Row],[Hạn thanh toán]]="","",IF((U9-NOW())<0,0,(U9-NOW()))) -> 0 | X9: =IF(OR(U9="",R9=0),"",IF((U9-NOW())<0,-(U9-NOW()),0)) -> 1303.3445 | Y9: =IF(R9=0,"Đã thanh toán",IF(X9="","",IF(X9<=0,"Chưa đến hạn thanh toán",IF(X9<=30,"Nợ quá hạn 30 ngày",IF(X9<=60,"Nợ quá hạn từ 30 ngày đến 60 ngày",IF(X9<=90,"Nợ quá hạn từ 60 ngày đến 90 ngày",IF(X9<=120,"Nợ quá hạn từ 90 ngày đến 120 ngày","Nợ quá hạn hơn 120 ngày có khả năng mất thanh toán"))))))) -> Nợ quá hạn hơn 120 ngày có khả năng mất thanh toán | Z9: =IF(S9="","",S9) -> 44942 | AA9: =IF(M9="","",M9) | AB9: công nợ gối đầu | AD9: =VLOOKUP($A9,MA_KH!$A:$V,MA_KH!U$1,0) -> SAIGONHD | AE9: =VLOOKUP($A9,MA_KH!$A:$V,MA_KH!V$1,0) -> CÔNG TY CỔ PHẦN SÀI GÒN HD | AF9: =VLOOKUP($A9,MA_KH!$A:$V,MA_KH!H$1,0) -> SG039
A10: SAIGONHD-HCM-PNN-67013 | B10: CÔNG TY CỔ PHẦN SÀI GÒN HD | C10: 45250 | E10: 45250 | F10: 00069634 | G10: CÔNG TY CỔ PHẦN SÀI GÒN HD / Kho bán hàng - Q7 Saigon, KT | H10: 1793808 | I10: 0.1 | J10: 143505 | K10: 1937313 | L10: Tồn đầu kỳ | O10: =IF(Table1[[#This Row],[Phân loại]]="Tồn đầu kỳ",Table1[[#This Row],[Tổng giá trị]],0) -> 1937313 | P10: =IF(Table1[[#This Row],[Số còn phải thu ĐK]]<>0,0,IF(Table1[[#This Row],[Phân loại]]="Bán hàng",Table1[[#This Row],[Tổng giá trị]],-Table1[[#This Row],[Tổng giá trị]])) -> 0 | Q10: =IF(M10<>"",IF(O10<>0,O10,P10),0) -> 0 | R10: =Table1[[#This Row],[Số còn phải thu ĐK]]+Table1[[#This Row],[Giá Trị HD sau CK]]-Table1[[#This Row],[Số tiền đã thu]] -> 1937313 | S10: =IF(Table1[[#This Row],[Ngày hóa đơn]]<>"",Table1[[#This Row],[Ngày hóa đơn]],IF(Table1[[#This Row],[Ngày hạch toán]]<>"",Table1[[#This Row],[Ngày hạch toán]],"")) -> 45250 | U10: =IF(Table1[[#This Row],[Ngày tính CN]]="","",S10+T10) -> 45250 | V10: =IF(Table1[[#This Row],[Hạn thanh toán]]="","",IF((U10-NOW())<0,0,(U10-NOW()))) -> 0 | X10: =IF(OR(U10="",R10=0),"",IF((U10-NOW())<0,-(U10-NOW()),0)) -> 995.34453 | Y10: =IF(R10=0,"Đã thanh toán",IF(X10="","",IF(X10<=0,"Chưa đến hạn thanh toán",IF(X10<=30,"Nợ quá hạn 30 ngày",IF(X10<=60,"Nợ quá hạn từ 30 ngày đến 60 ngày",IF(X10<=90,"Nợ quá hạn từ 60 ngày đến 90 ngày",IF(X10<=120,"Nợ quá hạn từ 90 ngày đến 120 ngày","Nợ quá hạn hơn 120 ngày có khả năng mất thanh toán"))))))) -> Nợ quá hạn hơn 120 ngày có khả năng mất thanh toán | Z10: =IF(S10="","",S10) -> 45250 | AA10: =IF(M10="","",M10) | AB10: công nợ gối đầu | AD10: =VLOOKUP($A10,MA_KH!$A:$V,MA_KH!U$1,0) -> SAIGONHD | AE10: =VLOOKUP($A10,MA_KH!$A:$V,MA_KH!V$1,0) -> CÔNG TY CỔ PHẦN SÀI GÒN HD | AF10: =VLOOKUP($A10,MA_KH!$A:$V,MA_KH!H$1,0) -> SG039
A11: SAIGONHD-HCM-PNN-67013 | B11: CÔNG TY CỔ PHẦN SÀI GÒN HD | C11: 45463 | E11: 45463 | F11: 00029707 | G11: CÔNG TY CỔ PHẦN SÀI GÒN HD - Vincom 3T2, ĐƠN KT CK 10% | H11: 1229728 | I11: 0.1 | J11: 98378 | K11: 1328106 | L11: Tồn đầu kỳ | O11: =IF(Table1[[#This Row],[Phân loại]]="Tồn đầu kỳ",Table1[[#This Row],[Tổng giá trị]],0) -> 1328106 | P11: =IF(Table1[[#This Row],[Số còn phải thu ĐK]]<>0,0,IF(Table1[[#This Row],[Phân loại]]="Bán hàng",Table1[[#This Row],[Tổng giá trị]],-Table1[[#This Row],[Tổng giá trị]])) -> 0 | Q11: =IF(M11<>"",IF(O11<>0,O11,P11),0) -> 0 | R11: =Table1[[#This Row],[Số còn phải thu ĐK]]+Table1[[#This Row],[Giá Trị HD sau CK]]-Table1[[#This Row],[Số tiền đã thu]] -> 1328106 | S11: =IF(Table1[[#This Row],[Ngày hóa đơn]]<>"",Table1[[#This Row],[Ngày hóa đơn]],IF(Table1[[#This Row],[Ngày hạch toán]]<>"",Table1[[#This Row],[Ngày hạch toán]],"")) -> 45463 | U11: =IF(Table1[[#This Row],[Ngày tính CN]]="","",S11+T11) -> 45463 | V11: =IF(Table1[[#This Row],[Hạn thanh toán]]="","",IF((U11-NOW())<0,0,(U11-NOW()))) -> 0 | X11: =IF(OR(U11="",R11=0),"",IF((U11-NOW())<0,-(U11-NOW()),0)) -> 782.34453 | Y11: =IF(R11=0,"Đã thanh toán",IF(X11="","",IF(X11<=0,"Chưa đến hạn thanh toán",IF(X11<=30,"Nợ quá hạn 30 ngày",IF(X11<=60,"Nợ quá hạn từ 30 ngày đến 60 ngày",IF(X11<=90,"Nợ quá hạn từ 60 ngày đến 90 ngày",IF(X11<=120,"Nợ quá hạn từ 90 ngày đến 120 ngày","Nợ quá hạn hơn 120 ngày có khả năng mất thanh toán"))))))) -> Nợ quá hạn hơn 120 ngày có khả năng mất thanh toán | Z11: =IF(S11="","",S11) -> 45463 | AA11: =IF(M11="","",M11) | AB11: công nợ gối đầu | AD11: =VLOOKUP($A11,MA_KH!$A:$V,MA_KH!U$1,0) -> SAIGONHD | AE11: =VLOOKUP($A11,MA_KH!$A:$V,MA_KH!V$1,0) -> CÔNG TY CỔ PHẦN SÀI GÒN HD | AF11: =VLOOKUP($A11,MA_KH!$A:$V,MA_KH!H$1,0) -> SG039
A12: SAIGONHD-HCM-Q7-11 | B12: CÔNG TY CỔ PHẦN SÀI GÒN HD / Kho bán hàng - Q7 Saigon | C12: 46188 | D12: BH16595 | E12: 46188 | F12: 00041210 | G12: AM030000110775 | H12: 753703 | I12: 75370 | J12: 54267 | K12: 732600 | L12: Bán hàng | O12: =IF(Table1[[#This Row],[Phân loại]]="Tồn đầu kỳ",Table1[[#This Row],[Tổng giá trị]],0) -> 0 | P12: =IF(Table1[[#This Row],[Số còn phải thu ĐK]]<>0,0,IF(Table1[[#This Row],[Phân loại]]="Bán hàng",Table1[[#This Row],[Tổng giá trị]],-Table1[[#This Row],[Tổng giá trị]])) -> 732600 | Q12: =IF(M12<>"",IF(O12<>0,O12,P12),0) -> 0 | R12: =Table1[[#This Row],[Số còn phải thu ĐK]]+Table1[[#This Row],[Giá Trị HD sau CK]]-Table1[[#This Row],[Số tiền đã thu]] -> 732600 | S12: =IF(Table1[[#This Row],[Ngày hóa đơn]]<>"",Table1[[#This Row],[Ngày hóa đơn]],IF(Table1[[#This Row],[Ngày hạch toán]]<>"",Table1[[#This Row],[Ngày hạch toán]],"")) -> 46188 | U12: =IF(Table1[[#This Row],[Ngày tính CN]]="","",S12+T12) -> 46188 | V12: =IF(Table1[[#This Row],[Hạn thanh toán]]="","",IF((U12-NOW())<0,0,(U12-NOW()))) -> 0 | X12: =IF(OR(U12="",R12=0),"",IF((U12-NOW())<0,-(U12-NOW()),0)) -> 57.34453 | Y12: =IF(R12=0,"Đã thanh toán",IF(X12="","",IF(X12<=0,"Chưa đến hạn thanh toán",IF(X12<=30,"Nợ quá hạn 30 ngày",IF(X12<=60,"Nợ quá hạn từ 30 ngày đến 60 ngày",IF(X12<=90,"Nợ quá hạn từ 60 ngày đến 90 ngày",IF(X12<=120,"Nợ quá hạn từ 90 ngày đến 120 ngày","Nợ quá hạn hơn 120 ngày có khả năng mất thanh toán"))))))) -> Nợ quá hạn từ 30 ngày đến 60 ngày | Z12: =IF(S12="","",S12) -> 46188 | AA12: =IF(M12="","",M12) | AD12: =VLOOKUP($A12,MA_KH!$A:$V,MA_KH!U$1,0) -> SAIGONHD | AE12: =VLOOKUP($A12,MA_KH!$A:$V,MA_KH!V$1,0) -> CÔNG TY CỔ PHẦN SÀI GÒN HD | AF12: =VLOOKUP($A12,MA_KH!$A:$V,MA_KH!H$1,0) -> SG009
A13: SAIGONHD-HCM-HNB-07 | B13: CÔNG TY CỔ PHẦN SÀI GÒN HD / RIVERSIDE | C13: 46189 | D13: BH16638 | E13: 46189 | F13: 00041281 | G13: AF030000110771 | H13: 1296179 | I13: 129618 | J13: 93325 | K13: 1259886 | L13: Bán hàng | O13: =IF(Table1[[#This Row],[Phân loại]]="Tồn đầu kỳ",Table1[[#This Row],[Tổng giá trị]],0) -> 0 | P13: =IF(Table1[[#This Row],[Số còn phải thu ĐK]]<>0,0,IF(Table1[[#This Row],[Phân loại]]="Bán hàng",Table1[[#This Row],[Tổng giá trị]],-Table1[[#This Row],[Tổng giá trị]])) -> 1259886 | Q13: =IF(M13<>"",IF(O13<>0,O13,P13),0) -> 0 | R13: =Table1[[#This Row],[Số còn phải thu ĐK]]+Table1[[#This Row],[Giá Trị HD sau CK]]-Table1[[#This Row],[Số tiền đã thu]] -> 1259886 | S13: =IF(Table1[[#This Row],[Ngày hóa đơn]]<>"",Table1[[#This Row],[Ngày hóa đơn]],IF(Table1[[#This Row],[Ngày hạch toán]]<>"",Table1[[#This Row],[Ngày hạch toán]],"")) -> 46189 | U13: =IF(Table1[[#This Row],[Ngày tính CN]]="","",S13+T13) -> 46189 | V13: =IF(Table1[[#This Row],[Hạn thanh toán]]="","",IF((U13-NOW())<0,0,(U13-NOW()))) -> 0 | X13: =IF(OR(U13="",R13=0),"",IF((U13-NOW())<0,-(U13-NOW()),0)) -> 56.34453 | Y13: =IF(R13=0,"Đã thanh toán",IF(X13="","",IF(X13<=0,"Chưa đến hạn thanh toán",IF(X13<=30,"Nợ quá hạn 30 ngày",IF(X13<=60,"Nợ quá hạn từ 30 ngày đến 60 ngày",IF(X13<=90,"Nợ quá hạn từ 60 ngày đến 90 ngày",IF(X13<=120,"Nợ quá hạn từ 90 ngày đến 120 ngày","Nợ quá hạn hơn 120 ngày có khả năng mất thanh toán"))))))) -> Nợ quá hạn từ 30 ngày đến 60 ngày | Z13: =IF(S13="","",S13) -> 46189 | AA13: =IF(M13="","",M13) | AD13: =VLOOKUP($A13,MA_KH!$A:$V,MA_KH!U$1,0) -> SAIGONHD | AE13: =VLOOKUP($A13,MA_KH!$A:$V,MA_KH!V$1,0) -> CÔNG TY CỔ PHẦN SÀI GÒN HD | AF13: =VLOOKUP($A13,MA_KH!$A:$V,MA_KH!H$1,0) -> SG009
A14: SAIGONHD-HCM-Q2-04 | B14: CÔNG TY CỔ PHẦN SÀI GÒN HD - Vista Verde | C14: 46191 | D14: BH16717 | E14: 46191 | F14: 00041945 | G14: AD030000110772 | H14: 1059478 | I14: 105948 | J14: 76282 | K14: 1029812 | L14: Bán hàng | O14: =IF(Table1[[#This Row],[Phân loại]]="Tồn đầu kỳ",Table1[[#This Row],[Tổng giá trị]],0) -> 0 | P14: =IF(Table1[[#This Row],[Số còn phải thu ĐK]]<>0,0,IF(Table1[[#This Row],[Phân loại]]="Bán hàng",Table1[[#This Row],[Tổng giá trị]],-Table1[[#This Row],[Tổng giá trị]])) -> 1029812 | Q14: =IF(M14<>"",IF(O14<>0,O14,P14),0) -> 0 | R14: =Table1[[#This Row],[Số còn phải thu ĐK]]+Table1[[#This Row],[Giá Trị HD sau CK]]-Table1[[#This Row],[Số tiền đã thu]] -> 1029812 | S14: =IF(Table1[[#This Row],[Ngày hóa đơn]]<>"",Table1[[#This Row],[Ngày hóa đơn]],IF(Table1[[#This Row],[Ngày hạch toán]]<>"",Table1[[#This Row],[Ngày hạch toán]],"")) -> 46191 | U14: =IF(Table1[[#This Row],[Ngày tính CN]]="","",S14+T14) -> 46191 | V14: =IF(Table1[[#This Row],[Hạn thanh toán]]="","",IF((U14-NOW())<0,0,(U14-NOW()))) -> 0 | X14: =IF(OR(U14="",R14=0),"",IF((U14-NOW())<0,-(U14-NOW()),0)) -> 54.34453 | Y14: =IF(R14=0,"Đã thanh toán",IF(X14="","",IF(X14<=0,"Chưa đến hạn thanh toán",IF(X14<=30,"Nợ quá hạn 30 ngày",IF(X14<=60,"Nợ quá hạn từ 30 ngày đến 60 ngày",IF(X14<=90,"Nợ quá hạn từ 60 ngày đến 90 ngày",IF(X14<=120,"Nợ quá hạn từ 90 ngày đến 120 ngày","Nợ quá hạn hơn 120 ngày có khả năng mất thanh toán"))))))) -> Nợ quá hạn từ 30 ngày đến 60 ngày | Z14: =IF(S14="","",S14) -> 46191 | AA14: =IF(M14="","",M14) | AD14: =VLOOKUP($A14,MA_KH!$A:$V,MA_KH!U$1,0) -> SAIGONHD | AE14: =VLOOKUP($A14,MA_KH!$A:$V,MA_KH!V$1,0) -> CÔNG TY CỔ PHẦN SÀI GÒN HD | AF14: =VLOOKUP($A14,MA_KH!$A:$V,MA_KH!H$1,0) -> SG009
A15: SAIGONHD-HCM-Q2-04 | B15: CÔNG TY CỔ PHẦN SÀI GÒN HD - Vista Verde | C15: 46203 | D15: BH18155 | E15: 46203 | F15: 00044610 | G15: AD030000113578 | H15: 825377 | I15: 82538 | J15: 59427 | K15: 802266 | L15: Bán hàng | O15: =IF(Table1[[#This Row],[Phân loại]]="Tồn đầu kỳ",Table1[[#This Row],[Tổng giá trị]],0) -> 0 | P15: =IF(Table1[[#This Row],[Số còn phải thu ĐK]]<>0,0,IF(Table1[[#This Row],[Phân loại]]="Bán hàng",Table1[[#This Row],[Tổng giá trị]],-Table1[[#This Row],[Tổng giá trị]])) -> 802266 | Q15: =IF(M15<>"",IF(O15<>0,O15,P15),0) -> 0 | R15: =Table1[[#This Row],[Số còn phải thu ĐK]]+Table1[[#This Row],[Giá Trị HD sau CK]]-Table1[[#This Row],[Số tiền đã thu]] -> 802266 | S15: =IF(Table1[[#This Row],[Ngày hóa đơn]]<>"",Table1[[#This Row],[Ngày hóa đơn]],IF(Table1[[#This Row],[Ngày hạch toán]]<>"",Table1[[#This Row],[Ngày hạch toán]],"")) -> 46203 | U15: =IF(Table1[[#This Row],[Ngày tính CN]]="","",S15+T15) -> 46203 | V15: =IF(Table1[[#This Row],[Hạn thanh toán]]="","",IF((U15-NOW())<0,0,(U15-NOW()))) -> 0 | X15: =IF(OR(U15="",R15=0),"",IF((U15-NOW())<0,-(U15-NOW()),0)) -> 42.34453 | Y15: =IF(R15=0,"Đã thanh toán",IF(X15="","",IF(X15<=0,"Chưa đến hạn thanh toán",IF(X15<=30,"Nợ quá hạn 30 ngày",IF(X15<=60,"Nợ quá hạn từ 30 ngày đến 60 ngày",IF(X15<=90,"Nợ quá hạn từ 60 ngày đến 90 ngày",IF(X15<=120,"Nợ quá hạn từ 90 ngày đến 120 ngày","Nợ quá hạn hơn 120 ngày có khả năng mất thanh toán"))))))) -> Nợ quá hạn từ 30 ngày đến 60 ngày | Z15: =IF(S15="","",S15) -> 46203 | AA15: =IF(M15="","",M15) | AD15: =VLOOKUP($A15,MA_KH!$A:$V,MA_KH!U$1,0) -> SAIGONHD | AE15: =VLOOKUP($A15,MA_KH!$A:$V,MA_KH!V$1,0) -> CÔNG TY CỔ PHẦN SÀI GÒN HD | AF15: =VLOOKUP($A15,MA_KH!$A:$V,MA_KH!H$1,0) -> SG009
A16: SAIGONHD-HCM-HNB-07 | B16: CÔNG TY CỔ PHẦN SÀI GÒN HD / RIVERSIDE | C16: 46210 | D16: BH18816 | E16: 46210 | F16: 00046615 | G16: AF030000114873 | H16: 723643 | I16: 72365 | J16: 52102 | K16: 703380 | L16: Bán hàng | O16: =IF(Table1[[#This Row],[Phân loại]]="Tồn đầu kỳ",Table1[[#This Row],[Tổng giá trị]],0) -> 0 | P16: =IF(Table1[[#This Row],[Số còn phải thu ĐK]]<>0,0,IF(Table1[[#This Row],[Phân loại]]="Bán hàng",Table1[[#This Row],[Tổng giá trị]],-Table1[[#This Row],[Tổng giá trị]])) -> 703380 | Q16: =IF(M16<>"",IF(O16<>0,O16,P16),0) -> 0 | R16: =Table1[[#This Row],[Số còn phải thu ĐK]]+Table1[[#This Row],[Giá Trị HD sau CK]]-Table1[[#This Row],[Số tiền đã thu]] -> 703380 | S16: =IF(Table1[[#This Row],[Ngày hóa đơn]]<>"",Table1[[#This Row],[Ngày hóa đơn]],IF(Table1[[#This Row],[Ngày hạch toán]]<>"",Table1[[#This Row],[Ngày hạch toán]],"")) -> 46210 | U16: =IF(Table1[[#This Row],[Ngày tính CN]]="","",S16+T16) -> 46210 | V16: =IF(Table1[[#This Row],[Hạn thanh toán]]="","",IF((U16-NOW())<0,0,(U16-NOW()))) -> 0 | X16: =IF(OR(U16="",R16=0),"",IF((U16-NOW())<0,-(U16-NOW()),0)) -> 35.34453 | Y16: =IF(R16=0,"Đã thanh toán",IF(X16="","",IF(X16<=0,"Chưa đến hạn thanh toán",IF(X16<=30,"Nợ quá hạn 30 ngày",IF(X16<=60,"Nợ quá hạn từ 30 ngày đến 60 ngày",IF(X16<=90,"Nợ quá hạn từ 60 ngày đến 90 ngày",IF(X16<=120,"Nợ quá hạn từ 90 ngày đến 120 ngày","Nợ quá hạn hơn 120 ngày có khả năng mất thanh toán"))))))) -> Nợ quá hạn từ 30 ngày đến 60 ngày | Z16: =IF(S16="","",S16) -> 46210 | AA16: =IF(M16="","",M16) | AD16: =VLOOKUP($A16,MA_KH!$A:$V,MA_KH!U$1,0) -> SAIGONHD | AE16: =VLOOKUP($A16,MA_KH!$A:$V,MA_KH!V$1,0) -> CÔNG TY CỔ PHẦN SÀI GÒN HD | AF16: =VLOOKUP($A16,MA_KH!$A:$V,MA_KH!H$1,0) -> SG009
A17: SAIGONHD-HCM-Q2-04 | B17: CÔNG TY CỔ PHẦN SÀI GÒN HD - Vista Verde | C17: 46211 | D17: BH19096 | E17: 46211 | F17: 00047523 | G17: AD030000114830 | H17: 556318 | I17: 55632 | J17: 40055 | K17: 540741 | L17: Bán hàng | O17: =IF(Table1[[#This Row],[Phân loại]]="Tồn đầu kỳ",Table1[[#This Row],[Tổng giá trị]],0) -> 0 | P17: =IF(Table1[[#This Row],[Số còn phải thu ĐK]]<>0,0,IF(Table1[[#This Row],[Phân loại]]="Bán hàng",Table1[[#This Row],[Tổng giá trị]],-Table1[[#This Row],[Tổng giá trị]])) -> 540741 | Q17: =IF(M17<>"",IF(O17<>0,O17,P17),0) -> 0 | R17: =Table1[[#This Row],[Số còn phải thu ĐK]]+Table1[[#This Row],[Giá Trị HD sau CK]]-Table1[[#This Row],[Số tiền đã thu]] -> 540741 | S17: =IF(Table1[[#This Row],[Ngày hóa đơn]]<>"",Table1[[#This Row],[Ngày hóa đơn]],IF(Table1[[#This Row],[Ngày hạch toán]]<>"",Table1[[#This Row],[Ngày hạch toán]],"")) -> 46211 | U17: =IF(Table1[[#This Row],[Ngày tính CN]]="","",S17+T17) -> 46211 | V17: =IF(Table1[[#This Row],[Hạn thanh toán]]="","",IF((U17-NOW())<0,0,(U17-NOW()))) -> 0 | X17: =IF(OR(U17="",R17=0),"",IF((U17-NOW())<0,-(U17-NOW()),0)) -> 34.34453 | Y17: =IF(R17=0,"Đã thanh toán",IF(X17="","",IF(X17<=0,"Chưa đến hạn thanh toán",IF(X17<=30,"Nợ quá hạn 30 ngày",IF(X17<=60,"Nợ quá hạn từ 30 ngày đến 60 ngày",IF(X17<=90,"Nợ quá hạn từ 60 ngày đến 90 ngày",IF(X17<=120,"Nợ quá hạn từ 90 ngày đến 120 ngày","Nợ quá hạn hơn 120 ngày có khả năng mất thanh toán"))))))) -> Nợ quá hạn từ 30 ngày đến 60 ngày | Z17: =IF(S17="","",S17) -> 46211 | AA17: =IF(M17="","",M17) | AD17: =VLOOKUP($A17,MA_KH!$A:$V,MA_KH!U$1,0) -> SAIGONHD | AE17: =VLOOKUP($A17,MA_KH!$A:$V,MA_KH!V$1,0) -> CÔNG TY CỔ PHẦN SÀI GÒN HD | AF17: =VLOOKUP($A17,MA_KH!$A:$V,MA_KH!H$1,0) -> SG009
A18: SAIGONHD-HCM-Q7-11 | B18: CÔNG TY CỔ PHẦN SÀI GÒN HD / Kho bán hàng - Q7 Saigon | C18: 46213 | D18: BH19214 | E18: 46213 | F18: 00048190 | G18: AM030000115637 | H18: 403870 | I18: 40387 | J18: 29079 | K18: 392562 | L18: Bán hàng | O18: =IF(Table1[[#This Row],[Phân loại]]="Tồn đầu kỳ",Table1[[#This Row],[Tổng giá trị]],0) -> 0 | P18: =IF(Table1[[#This Row],[Số còn phải thu ĐK]]<>0,0,IF(Table1[[#This Row],[Phân loại]]="Bán hàng",Table1[[#This Row],[Tổng giá trị]],-Table1[[#This Row],[Tổng giá trị]])) -> 392562 | Q18: =IF(M18<>"",IF(O18<>0,O18,P18),0) -> 0 | R18: =Table1[[#This Row],[Số còn phải thu ĐK]]+Table1[[#This Row],[Giá Trị HD sau CK]]-Table1[[#This Row],[Số tiền đã thu]] -> 392562 | S18: =IF(Table1[[#This Row],[Ngày hóa đơn]]<>"",Table1[[#This Row],[Ngày hóa đơn]],IF(Table1[[#This Row],[Ngày hạch toán]]<>"",Table1[[#This Row],[Ngày hạch toán]],"")) -> 46213 | U18: =IF(Table1[[#This Row],[Ngày tính CN]]="","",S18+T18) -> 46213 | V18: =IF(Table1[[#This Row],[Hạn thanh toán]]="","",IF((U18-NOW())<0,0,(U18-NOW()))) -> 0 | X18: =IF(OR(U18="",R18=0),"",IF((U18-NOW())<0,-(U18-NOW()),0)) -> 32.34453 | Y18: =IF(R18=0,"Đã thanh toán",IF(X18="","",IF(X18<=0,"Chưa đến hạn thanh toán",IF(X18<=30,"Nợ quá hạn 30 ngày",IF(X18<=60,"Nợ quá hạn từ 30 ngày đến 60 ngày",IF(X18<=90,"Nợ quá hạn từ 60 ngày đến 90 ngày",IF(X18<=120,"Nợ quá hạn từ 90 ngày đến 120 ngày","Nợ quá hạn hơn 120 ngày có khả năng mất thanh toán"))))))) -> Nợ quá hạn từ 30 ngày đến 60 ngày | Z18: =IF(S18="","",S18) -> 46213 | AA18: =IF(M18="","",M18) | AD18: =VLOOKUP($A18,MA_KH!$A:$V,MA_KH!U$1,0) -> SAIGONHD | AE18: =VLOOKUP($A18,MA_KH!$A:$V,MA_KH!V$1,0) -> CÔNG TY CỔ PHẦN SÀI GÒN HD | AF18: =VLOOKUP($A18,MA_KH!$A:$V,MA_KH!H$1,0) -> SG009
A19: SAIGONHD-HCM-Q2-04 | B19: CÔNG TY CỔ PHẦN SÀI GÒN HD - Vista Verde | C19: 46218 | D19: BH19639 | E19: 46218 | F19: 00049269 | G19: AD030000116105 | H19: 425787 | I19: 42579 | J19: 30657 | K19: 413865 | L19: Bán hàng | O19: =IF(Table1[[#This Row],[Phân loại]]="Tồn đầu kỳ",Table1[[#This Row],[Tổng giá trị]],0) -> 0 | P19: =IF(Table1[[#This Row],[Số còn phải thu ĐK]]<>0,0,IF(Table1[[#This Row],[Phân loại]]="Bán hàng",Table1[[#This Row],[Tổng giá trị]],-Table1[[#This Row],[Tổng giá trị]])) -> 413865 | Q19: =IF(M19<>"",IF(O19<>0,O19,P19),0) -> 0 | R19: =Table1[[#This Row],[Số còn phải thu ĐK]]+Table1[[#This Row],[Giá Trị HD sau CK]]-Table1[[#This Row],[Số tiền đã thu]] -> 413865 | S19: =IF(Table1[[#This Row],[Ngày hóa đơn]]<>"",Table1[[#This Row],[Ngày hóa đơn]],IF(Table1[[#This Row],[Ngày hạch toán]]<>"",Table1[[#This Row],[Ngày hạch toán]],"")) -> 46218 | U19: =IF(Table1[[#This Row],[Ngày tính CN]]="","",S19+T19) -> 46218 | V19: =IF(Table1[[#This Row],[Hạn thanh toán]]="","",IF((U19-NOW())<0,0,(U19-NOW()))) -> 0 | X19: =IF(OR(U19="",R19=0),"",IF((U19-NOW())<0,-(U19-NOW()),0)) -> 27.34453 | Y19: =IF(R19=0,"Đã thanh toán",IF(X19="","",IF(X19<=0,"Chưa đến hạn thanh toán",IF(X19<=30,"Nợ quá hạn 30 ngày",IF(X19<=60,"Nợ quá hạn từ 30 ngày đến 60 ngày",IF(X19<=90,"Nợ quá hạn từ 60 ngày đến 90 ngày",IF(X19<=120,"Nợ quá hạn từ 90 ngày đến 120 ngày","Nợ quá hạn hơn 120 ngày có khả năng mất thanh toán"))))))) -> Nợ quá hạn 30 ngày | Z19: =IF(S19="","",S19) -> 46218 | AA19: =IF(M19="","",M19) | AD19: =VLOOKUP($A19,MA_KH!$A:$V,MA_KH!U$1,0) -> SAIGONHD | AE19: =VLOOKUP($A19,MA_KH!$A:$V,MA_KH!V$1,0) -> CÔNG TY CỔ PHẦN SÀI GÒN HD | AF19: =VLOOKUP($A19,MA_KH!$A:$V,MA_KH!H$1,0) -> SG009
A20: SAIGONHD-HCM-HNB-07 | B20: CÔNG TY CỔ PHẦN SÀI GÒN HD / RIVERSIDE | C20: 46219 | D20: BH19690 | E20: 46219 | F20: 00049337 | G20: AF030000116121 | H20: 517080 | I20: 51708 | J20: 37230 | K20: 502602 | L20: Bán hàng | O20: =IF(Table1[[#This Row],[Phân loại]]="Tồn đầu kỳ",Table1[[#This Row],[Tổng giá trị]],0) -> 0 | P20: =IF(Table1[[#This Row],[Số còn phải thu ĐK]]<>0,0,IF(Table1[[#This Row],[Phân loại]]="Bán hàng",Table1[[#This Row],[Tổng giá trị]],-Table1[[#This Row],[Tổng giá trị]])) -> 502602 | Q20: =IF(M20<>"",IF(O20<>0,O20,P20),0) -> 0 | R20: =Table1[[#This Row],[Số còn phải thu ĐK]]+Table1[[#This Row],[Giá Trị HD sau CK]]-Table1[[#This Row],[Số tiền đã thu]] -> 502602 | S20: =IF(Table1[[#This Row],[Ngày hóa đơn]]<>"",Table1[[#This Row],[Ngày hóa đơn]],IF(Table1[[#This Row],[Ngày hạch toán]]<>"",Table1[[#This Row],[Ngày hạch toán]],"")) -> 46219 | U20: =IF(Table1[[#This Row],[Ngày tính CN]]="","",S20+T20) -> 46219 | V20: =IF(Table1[[#This Row],[Hạn thanh toán]]="","",IF((U20-NOW())<0,0,(U20-NOW()))) -> 0 | X20: =IF(OR(U20="",R20=0),"",IF((U20-NOW())<0,-(U20-NOW()),0)) -> 26.34453 | Y20: =IF(R20=0,"Đã thanh toán",IF(X20="","",IF(X20<=0,"Chưa đến hạn thanh toán",IF(X20<=30,"Nợ quá hạn 30 ngày",IF(X20<=60,"Nợ quá hạn từ 30 ngày đến 60 ngày",IF(X20<=90,"Nợ quá hạn từ 60 ngày đến 90 ngày",IF(X20<=120,"Nợ quá hạn từ 90 ngày đến 120 ngày","Nợ quá hạn hơn 120 ngày có khả năng mất thanh toán"))))))) -> Nợ quá hạn 30 ngày | Z20: =IF(S20="","",S20) -> 46219 | AA20: =IF(M20="","",M20) | AD20: =VLOOKUP($A20,MA_KH!$A:$V,MA_KH!U$1,0) -> SAIGONHD | AE20: =VLOOKUP($A20,MA_KH!$A:$V,MA_KH!V$1,0) -> CÔNG TY CỔ PHẦN SÀI GÒN HD | AF20: =VLOOKUP($A20,MA_KH!$A:$V,MA_KH!H$1,0) -> SG009
